{"text_format":"1","workbook":"xlsx","n_sheets":10,"sheets":["CalPopUp","DataBase","dBCustomer","FORM","OutputTemplate","Parameter","RecordTemplate","MasterExp_Detail","MasterExp_TESCO","MasterExp_TWK"],"not_rendered":{"charts":0,"images":16,"macros":1,"external_links":0,"defined_names":80,"comments":1,"pivot_tables":0},"unopened":[],"bounds":{"document_bytes":16777216,"sheet_cells":100000,"rows_first":2000,"rows_last":500,"rows_between":2000,"halvings":0,"cell_chars":16384,"cell_head_chars":4096},"cells_cut":0,"cells_raw":0,"read":"whole","date_system":"1900"}

{"sheet":"CalPopUp","index":0,"n_rows":20,"n_cols":8,"rows_kept":20,"cut":false,"hidden":true,"merged":[]}
[{"$f":"TODAY()","v":"2018-09-15"},{"$f":"IF(WEEKDAY(DATE(CalYear,MATCH($A$4,CalMonths,0),1))=1,DATE(CalYear,MATCH($A$4,CalMonths,0),1),\"\")","v":"2018-07-01"},{"$f":"IF(B1<>\"\",B1+1,IF(WEEKDAY(DATE(CalYear,MATCH($A$4,CalMonths,0),1))=2,DATE(CalYear,MATCH($A$4,CalMonths,0),1),\"\"))","v":"2018-07-02"},{"$f":"IF(C1<>\"\",C1+1,IF(WEEKDAY(DATE(CalYear,MATCH($A$4,CalMonths,0),1))=3,DATE(CalYear,MATCH($A$4,CalMonths,0),1),\"\"))","v":"2018-07-03"},{"$f":"IF(D1<>\"\",D1+1,IF(WEEKDAY(DATE(CalYear,MATCH($A$4,CalMonths,0),1))=4,DATE(CalYear,MATCH($A$4,CalMonths,0),1),\"\"))","v":"2018-07-04"},{"$f":"IF(E1<>\"\",E1+1,IF(WEEKDAY(DATE(CalYear,MATCH($A$4,CalMonths,0),1))=5,DATE(CalYear,MATCH($A$4,CalMonths,0),1),\"\"))","v":"2018-07-05"},{"$f":"IF(F1<>\"\",F1+1,IF(WEEKDAY(DATE(CalYear,MATCH($A$4,CalMonths,0),1))=6,DATE(CalYear,MATCH($A$4,CalMonths,0),1),\"\"))","v":"2018-07-06"},{"$f":"IF(G1<>\"\",G1+1,IF(WEEKDAY(DATE(CalYear,MATCH($A$4,CalMonths,0),1))=7,DATE(CalYear,MATCH($A$4,CalMonths,0),1),\"\"))","v":"2018-07-07"}]
[2018,{"$f":"H1+1","v":"2018-07-08"},{"$f":"B2+1","v":"2018-07-09"},{"$f":"C2+1","v":"2018-07-10"},"2018-07-11","2018-07-12","2018-07-13","2018-07-14"]
[7,{"$f":"H2+1","v":"2018-07-15"},{"$f":"B3+1","v":"2018-07-16"},"2018-07-17","2018-07-18","2018-07-19","2018-07-20","2018-07-21"]
[{"$f":"INDEX(CalMonths,A3,)","v":"July"},"2018-07-22","2018-07-23","2018-07-24","2018-07-25","2018-07-26","2018-07-27","2018-07-28"]
[{"$f":"A4&\" \"&CalYear","v":"July 2018"},{"$f":"IF(OR(H4=\"\",MONTH(H4+1)<>$A$3),\"\",H4+1)","v":"2018-07-29"},{"$f":"IFERROR(IF(MONTH(B5+1)<>$A$3,\"\",B5+1),\"\")","v":"2018-07-30"},{"$f":"IFERROR(IF(MONTH(C5+1)<>$A$3,\"\",C5+1),\"\")","v":"2018-07-31"},"","","",""]
[{"$f":"SUM(B6:H6)","v":0},{"$f":"IFERROR(IF(OR(H5=\"\",MONTH(H5+1)<>$A$3),\"\",H5+1),\"\")","v":""},{"$f":"IFERROR(F(MONTH(I5+1)<>$A$3,\"\",I5+1),\"\")","v":""},{"$f":"IFERROR(F(MONTH(J5+1)<>$A$3,\"\",J5+1),\"\")","v":""},{"$f":"IFERROR(F(MONTH(K5+1)<>$A$3,\"\",K5+1),\"\")","v":""},{"$f":"IFERROR(F(MONTH(L5+1)<>$A$3,\"\",L5+1),\"\")","v":""},{"$f":"IFERROR(F(MONTH(M5+1)<>$A$3,\"\",M5+1),\"\")","v":""},{"$f":"IFERROR(F(MONTH(N5+1)<>$A$3,\"\",N5+1),\"\")","v":""}]
[null,1,2,3,4,5,6,7]
["January",8,9,10,11,12,13,14]
["February",15,16,17,18,19,20,21]
["March",22,23,24,25,26,27,28]
["April",29,30,31,32,33,34,35]
["May",36,37,38,39,40,41,42]
["June"]
["July"]
["August"]
["September"]
["October"]
["November"]
["December"]
[{"$f":"IFERROR(INDIRECT(ADDRESS(SUMPRODUCT((B1:H6=A1)*ROW(B1:H6))+6,SUMPRODUCT((B1:H6=A1)*COLUMN(B1:H6)),1,1)),\"\")","v":""}]

{"sheet":"DataBase","index":1,"n_rows":39,"n_cols":21,"rows_kept":39,"cut":false,"hidden":false,"merged":[[3,19,3,20],[3,1,3,5],[4,1,4,5],[3,10,3,11],[3,13,3,14],[3,16,3,17]]}
[]
[null,null,"C:\\Users\\Aj\\Desktop\\Combine Aj\\"]
[]
[null,"::: Product :::",null,null,null,null,null,null,null,null,"Branches",null,null,"Accounting Code",null,null,"Customer Type",null,null,"Customer Type Z"]
[]
[null,"Code","BarCode","NameTH","NameEng","PriceCase","TWK_Price","LT_Discount","LT_Price",null,"Code","Thai_Name",null,"Code","ACC",null,"Code","Customer",null,"Code","Zone"]
[null,"9903","8852269400198","01-ขนมปังไส้สังขยาเล็ก","Pandan Custard Filled Bun",10,{"$f":"dProduct[[#This Row],[PriceCase]]*(1-25%)","v":7.5},0.26,{"$f":"ROUND(dProduct[[#This Row],[PriceCase]]-dProduct[[#This Row],[PriceCase]]*dProduct[[#This Row],[LT_Discount]]-7*(dProduct[[#This Row],[PriceCase]]-dProduct[[#This Row],[PriceCase]]*dProduct[[#This Row],[LT_Discount]])/107,2)","v":6.92},null,"01-HO","สำนักงานใหญ่ ",null,1,"CR_HO - เครดิต สนญ.",null,"A","ปตท. jet",null,"1","โรงเรียน"]
[null,"9902","8852269400020","02-ขนมปังไส้เผือก","Taro Filled Bun",10,{"$f":"dProduct[[#This Row],[PriceCase]]*(1-25%)","v":7.5},0.26,{"$f":"ROUND(dProduct[[#This Row],[PriceCase]]-dProduct[[#This Row],[PriceCase]]*dProduct[[#This Row],[LT_Discount]]-7*(dProduct[[#This Row],[PriceCase]]-dProduct[[#This Row],[PriceCase]]*dProduct[[#This Row],[LT_Discount]])/107,2)","v":6.92},null,"03-KB","กบินทร์ ",null,2,"CA - เงินสด",null,"B","บางจาก",null,"2","โรงงาน"]
[null,"9906","8852269400037","03-ขนมปังไส้ถั่วแดง","Red Beans Filled Bun",10,{"$f":"dProduct[[#This Row],[PriceCase]]*(1-25%)","v":7.5},0.26,{"$f":"ROUND(dProduct[[#This Row],[PriceCase]]-dProduct[[#This Row],[PriceCase]]*dProduct[[#This Row],[LT_Discount]]-7*(dProduct[[#This Row],[PriceCase]]-dProduct[[#This Row],[PriceCase]]*dProduct[[#This Row],[LT_Discount]])/107,2)","v":6.92},null,"04-KR","โคราช ",null,3,"BB - เครดิตระยะสั้น",null,"C","ซีพีออล์ล ",null,"3","โรงพยาบาล"]
[null,"9957","8852269400709","04-โมจิไส้ถั่ว","Twin Moji Bean",10,{"$f":"dProduct[[#This Row],[PriceCase]]*(1-25%)","v":7.5},0.26,{"$f":"ROUND(dProduct[[#This Row],[PriceCase]]-dProduct[[#This Row],[PriceCase]]*dProduct[[#This Row],[LT_Discount]]-7*(dProduct[[#This Row],[PriceCase]]-dProduct[[#This Row],[PriceCase]]*dProduct[[#This Row],[LT_Discount]])/107,2)","v":6.92},null,"05-NP","นครปฐม ",null,4,"CR - เครดิตสาขา",null,"D","ซันดิว",null,"4","สถานีขนส่ง"]
[null,"9901","8852269400013","05-ขนมปังไส้สังขยาใหญ่","Thai Custard Filled Bun",12,{"$f":"dProduct[[#This Row],[PriceCase]]*(1-25%)","v":9},0.26,{"$f":"ROUND(dProduct[[#This Row],[PriceCase]]-dProduct[[#This Row],[PriceCase]]*dProduct[[#This Row],[LT_Discount]]-7*(dProduct[[#This Row],[PriceCase]]-dProduct[[#This Row],[PriceCase]]*dProduct[[#This Row],[LT_Discount]])/107,2)","v":8.3000000000000007},null,"06-KK","ขอนแก่น ",null,null,null,null,"E","ซูปเปอร์เซฟ",null,"5","ปั๊มเชื้อเพลิง"]
[null,"9905","8852269400044","06-ขนมปังไส้หมูหยองเล็ก","Shredded Pork Bun(สูตร 2)",12,{"$f":"dProduct[[#This Row],[PriceCase]]*(1-25%)","v":9},0.26,{"$f":"ROUND(dProduct[[#This Row],[PriceCase]]-dProduct[[#This Row],[PriceCase]]*dProduct[[#This Row],[LT_Discount]]-7*(dProduct[[#This Row],[PriceCase]]-dProduct[[#This Row],[PriceCase]]*dProduct[[#This Row],[LT_Discount]])/107,2)","v":8.3000000000000007},null,"07-AY","อยุธยา ",null,null,null,null,"F","เซ็นทรัลแฟมิลี่",null,"6","สหกรณ์"]
[null,"9908","8852269400136","07-เค้กกล้วยหอม","Banana Cake",12,{"$f":"dProduct[[#This Row],[PriceCase]]*(1-25%)","v":9},0.26,{"$f":"ROUND(dProduct[[#This Row],[PriceCase]]-dProduct[[#This Row],[PriceCase]]*dProduct[[#This Row],[LT_Discount]]-7*(dProduct[[#This Row],[PriceCase]]-dProduct[[#This Row],[PriceCase]]*dProduct[[#This Row],[LT_Discount]])/107,2)","v":8.3000000000000007},null,"08-BK","กรุงเทพฯ ",null,null,null,null,"G","ลูกค้าการตลาด",null,"7","ค่ายทหาร"]
[null,"9911","8852269400075","08-เค้กบัตเตอร์","Butter Cake",12,{"$f":"dProduct[[#This Row],[PriceCase]]*(1-25%)","v":9},0.26,{"$f":"ROUND(dProduct[[#This Row],[PriceCase]]-dProduct[[#This Row],[PriceCase]]*dProduct[[#This Row],[LT_Discount]]-7*(dProduct[[#This Row],[PriceCase]]-dProduct[[#This Row],[PriceCase]]*dProduct[[#This Row],[LT_Discount]])/107,2)","v":8.3000000000000007},null,"09-RY","ระยอง ",null,null,null,null,"H","ตั้งฮั่วเส็ง",null,"8","ร้านค้าส่ง"]
[null,"9921","8852269400242","09-ขนมปังโรลมันเทศ","(Sweet Potato Roll Bun)",12,{"$f":"dProduct[[#This Row],[PriceCase]]*(1-25%)","v":9},0.26,{"$f":"ROUND(dProduct[[#This Row],[PriceCase]]-dProduct[[#This Row],[PriceCase]]*dProduct[[#This Row],[LT_Discount]]-7*(dProduct[[#This Row],[PriceCase]]-dProduct[[#This Row],[PriceCase]]*dProduct[[#This Row],[LT_Discount]])/107,2)","v":8.3000000000000007},null,"10-SK","สมุทรปราการ ",null,null,null,null,"I","-",null,"9","โรงแรม"]
[null,"9922","8852269400259","10-ขนมปังโรลถั่วแดง","(Red Beans Roll Bread)",12,{"$f":"dProduct[[#This Row],[PriceCase]]*(1-25%)","v":9},0.26,{"$f":"ROUND(dProduct[[#This Row],[PriceCase]]-dProduct[[#This Row],[PriceCase]]*dProduct[[#This Row],[LT_Discount]]-7*(dProduct[[#This Row],[PriceCase]]-dProduct[[#This Row],[PriceCase]]*dProduct[[#This Row],[LT_Discount]])/107,2)","v":8.3000000000000007},null,"12-PY","พัทยา ",null,null,null,null,"J","ซีเจเอกเพรส",null,"A","ร้านค้าปลีก M&P"]
[null,"9940","8852269400716","11-ขนมปังหมูหยองมายองเนส","(Shredded Pork & mayonnaise Filled Bun)",12,{"$f":"dProduct[[#This Row],[PriceCase]]*(1-25%)","v":9},0.26,{"$f":"ROUND(dProduct[[#This Row],[PriceCase]]-dProduct[[#This Row],[PriceCase]]*dProduct[[#This Row],[LT_Discount]]-7*(dProduct[[#This Row],[PriceCase]]-dProduct[[#This Row],[PriceCase]]*dProduct[[#This Row],[LT_Discount]])/107,2)","v":8.3000000000000007},null,"13-SR","สุรินทร์ ",null,null,null,null,"K","บางกอกโพสต์",null,"B","ชุมชน หมู่บ้าน"]
[null,"9912","8852269400181","12-ขนมปังพิซซ่า","Sausage Pizza",15,{"$f":"dProduct[[#This Row],[PriceCase]]*(1-25%)","v":11.25},0.26,{"$f":"ROUND(dProduct[[#This Row],[PriceCase]]-dProduct[[#This Row],[PriceCase]]*dProduct[[#This Row],[LT_Discount]]-7*(dProduct[[#This Row],[PriceCase]]-dProduct[[#This Row],[PriceCase]]*dProduct[[#This Row],[LT_Discount]])/107,2)","v":10.37},null,"14-CB","จันทบุรี ",null,null,null,null,"L","เอก-ชัย",null,"C","สถานที่ท่องเที่ยว"]
[null,"9913","8852269400365","13-ขนมปังหมูหยองน้ำสลัด","Shredded Pork & Salad Cream Filled Bun",15,{"$f":"dProduct[[#This Row],[PriceCase]]*(1-25%)","v":11.25},0.26,{"$f":"ROUND(dProduct[[#This Row],[PriceCase]]-dProduct[[#This Row],[PriceCase]]*dProduct[[#This Row],[LT_Discount]]-7*(dProduct[[#This Row],[PriceCase]]-dProduct[[#This Row],[PriceCase]]*dProduct[[#This Row],[LT_Discount]])/107,2)","v":10.37},null,"15-UB","อุบลราชธานี ",null,null,null,null,"M","บิ๊กซีซูเปอร์เซ็นเตอร์",null,"D","หน่วยงานราชการ,เอกชน"]
[null,"9953","8852269400068","14-ขนมปังไส้กรอก","Sausage Filled Bun",15,{"$f":"dProduct[[#This Row],[PriceCase]]*(1-25%)","v":11.25},0.26,{"$f":"ROUND(dProduct[[#This Row],[PriceCase]]-dProduct[[#This Row],[PriceCase]]*dProduct[[#This Row],[LT_Discount]]-7*(dProduct[[#This Row],[PriceCase]]-dProduct[[#This Row],[PriceCase]]*dProduct[[#This Row],[LT_Discount]])/107,2)","v":10.37},null,"16-KL","คลองหลวง ",null,null,null,null,"N","toyota",null,"E","ตึกอาคาร - อพาร์ทเม้นท์"]
[null,"9909","8852269400105","15-ขนมก้านบัว","(Thai Sweet Fried Dough)",15,{"$f":"dProduct[[#This Row],[PriceCase]]*(1-25%)","v":11.25},0.26,{"$f":"ROUND(dProduct[[#This Row],[PriceCase]]-dProduct[[#This Row],[PriceCase]]*dProduct[[#This Row],[LT_Discount]]-7*(dProduct[[#This Row],[PriceCase]]-dProduct[[#This Row],[PriceCase]]*dProduct[[#This Row],[LT_Discount]])/107,2)","v":10.37},null,"17-LA","ร้อยเอ็ด ",null,null,null,null,"O","foodland",null,"F","ซุ้ม - คีออสต่างๆ"]
[null,"9907","8852269400051","16-ขนมปังไส้หมูหยองใหญ่","Shredded Pork Filling Bun",18,{"$f":"dProduct[[#This Row],[PriceCase]]*(1-25%)","v":13.5},0.26,{"$f":"ROUND(dProduct[[#This Row],[PriceCase]]-dProduct[[#This Row],[PriceCase]]*dProduct[[#This Row],[LT_Discount]]-7*(dProduct[[#This Row],[PriceCase]]-dProduct[[#This Row],[PriceCase]]*dProduct[[#This Row],[LT_Discount]])/107,2)","v":12.45},null,"18-SN","สกลนคร ",null,null,null,null,"P","ปิโตรเลียม",null,"G","พนักงาน บจก."]
[null,"99124","8852269401164","17-ขนมปังไส้ครีมสลัด","Salad Cream Filled Bun",12,{"$f":"dProduct[[#This Row],[PriceCase]]*(1-25%)","v":9},0.26,{"$f":"ROUND(dProduct[[#This Row],[PriceCase]]-dProduct[[#This Row],[PriceCase]]*dProduct[[#This Row],[LT_Discount]]-7*(dProduct[[#This Row],[PriceCase]]-dProduct[[#This Row],[PriceCase]]*dProduct[[#This Row],[LT_Discount]])/107,2)","v":8.3000000000000007},null,"19-UD","อุดรธานี ",null,null,null,null,"Q","ชาญทัวร์"]
[null,"99126","8852269570013","18-ขนมปังไก่หยองน้ำสลัด","Shredded Chicken & Salad Cream Filled Bun",15,{"$f":"dProduct[[#This Row],[PriceCase]]*(1-25%)","v":11.25},0.26,{"$f":"ROUND(dProduct[[#This Row],[PriceCase]]-dProduct[[#This Row],[PriceCase]]*dProduct[[#This Row],[LT_Discount]]-7*(dProduct[[#This Row],[PriceCase]]-dProduct[[#This Row],[PriceCase]]*dProduct[[#This Row],[LT_Discount]])/107,2)","v":10.37},null,"20-PC","ปากช่อง ",null,null,null,null,"R","เซ็นทรัลฟู้ดรีเทล"]
[null,"99127","8852269401157","19-ขนมก้านบัว 90 กรัม","(Thai Sweet Fried Dough)",18,{"$f":"dProduct[[#This Row],[PriceCase]]*(1-25%)","v":13.5},0.26,{"$f":"ROUND(dProduct[[#This Row],[PriceCase]]-dProduct[[#This Row],[PriceCase]]*dProduct[[#This Row],[LT_Discount]]-7*(dProduct[[#This Row],[PriceCase]]-dProduct[[#This Row],[PriceCase]]*dProduct[[#This Row],[LT_Discount]])/107,2)","v":12.45},null,"21-BR","บุรีรัมย์ ",null,null,null,null,"S","สหลอว์สัน"]
[null,"99134","8852269580067","20-ปังกรอบเนยสด","Crispy Butter Bread",18,{"$f":"dProduct[[#This Row],[PriceCase]]*(1-25%)","v":13.5},0.26,{"$f":"ROUND(dProduct[[#This Row],[PriceCase]]-dProduct[[#This Row],[PriceCase]]*dProduct[[#This Row],[LT_Discount]]-7*(dProduct[[#This Row],[PriceCase]]-dProduct[[#This Row],[PriceCase]]*dProduct[[#This Row],[LT_Discount]])/107,2)","v":12.45},null,"22-LB","ลพบุรี",null,null,null,null,"T","ไทยซี"]
[null,"99135","8852269580074","21-ปังกรอบกระเทียม","Crispy Garlic Bread",18,{"$f":"dProduct[[#This Row],[PriceCase]]*(1-25%)","v":13.5},0.26,{"$f":"ROUND(dProduct[[#This Row],[PriceCase]]-dProduct[[#This Row],[PriceCase]]*dProduct[[#This Row],[LT_Discount]]-7*(dProduct[[#This Row],[PriceCase]]-dProduct[[#This Row],[PriceCase]]*dProduct[[#This Row],[LT_Discount]])/107,2)","v":12.45},null,null,null,null,null,null,null,"U","Spar Mart"]
[null,"99141","8852269590103","23-ขนมปังหมูหยองน้ำพริกเผา","Shredded Pork Roasted Chili Paste Filled Bun",15,{"$f":"dProduct[[#This Row],[PriceCase]]*(1-25%)","v":11.25},0.26,{"$f":"ROUND(dProduct[[#This Row],[PriceCase]]-dProduct[[#This Row],[PriceCase]]*dProduct[[#This Row],[LT_Discount]]-7*(dProduct[[#This Row],[PriceCase]]-dProduct[[#This Row],[PriceCase]]*dProduct[[#This Row],[LT_Discount]])/107,2)","v":10.37},null,null,null,null,null,null,null,"V","Villa market"]
[null,"99142","8852269590110","24-ขนมปังเนยสด","Butter Cream Filled Bun",12,{"$f":"dProduct[[#This Row],[PriceCase]]*(1-25%)","v":9},0.26,{"$f":"ROUND(dProduct[[#This Row],[PriceCase]]-dProduct[[#This Row],[PriceCase]]*dProduct[[#This Row],[LT_Discount]]-7*(dProduct[[#This Row],[PriceCase]]-dProduct[[#This Row],[PriceCase]]*dProduct[[#This Row],[LT_Discount]])/107,2)","v":8.3000000000000007},null,null,null,null,null,null,null,"W","Max Value"]
[null,"99143","8852269400419","25-ขนมปังปอนด์ใหญ่ (L)","Sliced Bread (L)",33,{"$f":"dProduct[[#This Row],[PriceCase]]*(1-25%)","v":24.75},0.26,{"$f":"ROUND(dProduct[[#This Row],[PriceCase]]-dProduct[[#This Row],[PriceCase]]*dProduct[[#This Row],[LT_Discount]]-7*(dProduct[[#This Row],[PriceCase]]-dProduct[[#This Row],[PriceCase]]*dProduct[[#This Row],[LT_Discount]])/107,2)","v":22.82},null,null,null,null,null,null,null,"X","CP.FreshMart"]
[null,"99144","8852269590165","26-ขนมก้านบัวบาร์บีคิว","(Thai Sweet Fried Dough Barbecue Flavored)",15,{"$f":"dProduct[[#This Row],[PriceCase]]*(1-25%)","v":11.25},0.26,{"$f":"ROUND(dProduct[[#This Row],[PriceCase]]-dProduct[[#This Row],[PriceCase]]*dProduct[[#This Row],[LT_Discount]]-7*(dProduct[[#This Row],[PriceCase]]-dProduct[[#This Row],[PriceCase]]*dProduct[[#This Row],[LT_Discount]])/107,2)","v":10.37},null,null,null,null,null,null,null,"Y","ทวีกิจพลาซ่า"]
[null,"99148","8852269400419","28-ขนมปังชนิดแผ่น (460 กรัม)","Sliced Bread (L)",33,{"$f":"dProduct[[#This Row],[PriceCase]]*(1-25%)","v":24.75},0.26,{"$f":"ROUND(dProduct[[#This Row],[PriceCase]]-dProduct[[#This Row],[PriceCase]]*dProduct[[#This Row],[LT_Discount]]-7*(dProduct[[#This Row],[PriceCase]]-dProduct[[#This Row],[PriceCase]]*dProduct[[#This Row],[LT_Discount]])/107,2)","v":22.82},null,null,null,null,null,null,null,"Z","ลูกค้าทั่วไป"]
[null,"9924","8852269400594","31-ขนมปังแผ่นหน้าเนยสด","Sliced Bread Butter",7,{"$f":"dProduct[[#This Row],[PriceCase]]*(1-25%)","v":5.25},0.26,{"$f":"ROUND(dProduct[[#This Row],[PriceCase]]-dProduct[[#This Row],[PriceCase]]*dProduct[[#This Row],[LT_Discount]]-7*(dProduct[[#This Row],[PriceCase]]-dProduct[[#This Row],[PriceCase]]*dProduct[[#This Row],[LT_Discount]])/107,2)","v":4.84}]
[null,"99152","8852269600116","32-ขนมโมจิไส้เผือก แพ็ค 4 ชิ้น",null,20,{"$f":"dProduct[[#This Row],[PriceCase]]*(1-25%)","v":15},0.26,{"$f":"ROUND(dProduct[[#This Row],[PriceCase]]-dProduct[[#This Row],[PriceCase]]*dProduct[[#This Row],[LT_Discount]]-7*(dProduct[[#This Row],[PriceCase]]-dProduct[[#This Row],[PriceCase]]*dProduct[[#This Row],[LT_Discount]])/107,2)","v":13.83}]
[null,"99155","8852269600079","35-ขนมปังโรลมันม่วง","Purple Sweet Potato Filled Bun_75 g",15,{"$f":"dProduct[[#This Row],[PriceCase]]*(1-25%)","v":11.25},0.26,{"$f":"ROUND(dProduct[[#This Row],[PriceCase]]-dProduct[[#This Row],[PriceCase]]*dProduct[[#This Row],[LT_Discount]]-7*(dProduct[[#This Row],[PriceCase]]-dProduct[[#This Row],[PriceCase]]*dProduct[[#This Row],[LT_Discount]])/107,2)","v":10.37}]
[null,"99156","8852269600086","36-ขนมปังโรลมันส้มผสมแครอท","Sweet Potato with Carrot Filled Bun_75g",15,{"$f":"dProduct[[#This Row],[PriceCase]]*(1-25%)","v":11.25},0.26,{"$f":"ROUND(dProduct[[#This Row],[PriceCase]]-dProduct[[#This Row],[PriceCase]]*dProduct[[#This Row],[LT_Discount]]-7*(dProduct[[#This Row],[PriceCase]]-dProduct[[#This Row],[PriceCase]]*dProduct[[#This Row],[LT_Discount]])/107,2)","v":10.37}]
[null,"99157","8852269600109","37-ขนมก้านบัวน้ำขิง",null,15,{"$f":"dProduct[[#This Row],[PriceCase]]*(1-25%)","v":11.25},0.26,{"$f":"ROUND(dProduct[[#This Row],[PriceCase]]-dProduct[[#This Row],[PriceCase]]*dProduct[[#This Row],[LT_Discount]]-7*(dProduct[[#This Row],[PriceCase]]-dProduct[[#This Row],[PriceCase]]*dProduct[[#This Row],[LT_Discount]])/107,2)","v":10.37}]
[null,"99158","8852269600093","38-ขนมปังพิซซ่าปูอัดแฮม",null,15,{"$f":"dProduct[[#This Row],[PriceCase]]*(1-25%)","v":11.25},0.2,{"$f":"ROUND(dProduct[[#This Row],[PriceCase]]-dProduct[[#This Row],[PriceCase]]*dProduct[[#This Row],[LT_Discount]]-7*(dProduct[[#This Row],[PriceCase]]-dProduct[[#This Row],[PriceCase]]*dProduct[[#This Row],[LT_Discount]])/107,2)","v":11.21}]
[null,"99151","8852269600017","39-ขนมปังไส้กรอกคอกเทลหมู",null,25,{"$f":"dProduct[[#This Row],[PriceCase]]*(1-25%)","v":18.75},0.2,{"$f":"ROUND(dProduct[[#This Row],[PriceCase]]-dProduct[[#This Row],[PriceCase]]*dProduct[[#This Row],[LT_Discount]]-7*(dProduct[[#This Row],[PriceCase]]-dProduct[[#This Row],[PriceCase]]*dProduct[[#This Row],[LT_Discount]])/107,2)","v":18.690000000000001}]

{"sheet":"dBCustomer","index":2,"n_rows":1609,"n_cols":22,"rows_kept":1609,"cut":false,"hidden":true,"merged":[[1,1,1,2],[2,1,2,2],[1,9,1,13],[2,9,2,13],[1,4,1,6]]}
[]
[null,"Combine Customer",null,null,"::: Taweekit Plaza DataBase :::",null,null,"2018-02-02",null,"::: Lotus Express DataBase :::"]
[]
[null,"StoreCode","StoreName",null,"StoreCode","StoreName","Address","Tel",null,"StoreCode","Store Type","Site Eng","StoreName","Address","CodePost","Store Fax","Store Phone","PP09. No","OPEN","HRS.TRADING","MASTER TYPE","LOCATION"]
[null,"1031L00646","Lotus - บ้านนา นครนายก",null,"001","บริษัท ทวีกิจ ซุปเปอร์เซ็นเตอร์ จำกัด (หนองแปป)","274 ม.8 ต.อิสาน.อ.เมืองบุรีรัมย์ จ.บุรีรัมย์",null,null,"1101","TESCO LOTUS EXPRESS","RAMINDRA","รามอินทรา","เลขที่ 53 ถนนรามอินทรา แขวงคันนายาว เขตคันนายาว กรุงเทพมหานคร 10230","10230","(02) 508-2141","(02) 508-2140","00037","","","","กรุงเทพ"]
[null,"1031L00717","Lotus - วงเวียนพระนเรศวร ปราจีนบุรี",null,"002","บริษัท ทวีกิจ พลาซ่าบุรีรัมย์ จำกัด (พลาซ่า)","393/2 ถ.จิระ ต.ในเมือง อ.เมือง จ.บุรีรัมย์",null,null,"1102","TESCO LOTUS EXPRESS","VIBHAVADEE","วิภาวดี","เลขที่ 1005/1 ถนนวิภาวดีรังสิต แขวงลาดยาว เขตจตุจักร กรุงเทพมหานคร 10900","10900","(02) 617-4402","(02) 617-4403","00041","","","","กรุงเทพ"]
[null,"1031L02011","Lotus - เขื่อนขุนด่านปราการชล นครนายก",null,"003","บริษัท ทวีกิจ พลาซ่า (ทวีกิจ 1)","32-34-36 ถ.สุนทรเทพ ต.ในเมือง อ.เมือง จ.บุรีรัมย์","044-110386",null,"1103","TESCO LOTUS EXPRESS","EKKAMAI","เอกมัย","เลขที่ 11/2  ถนนสุขุมวิท ซอย 63 (เอกมัย) แขวงคลองตันเหนือ เขตวัฒนา กรุงเทพมหานคร 10110","10110","(02) 714-1581","(02) 714-1580","00042","","","",""]
[null,"1031L02385","Lotus - แยก จปร. นครนายก",null,"005","บริษัท ทวีกิจ พลาซ่า (เช้าตรู่ 2)","76-78 ถ.นิวาศ ต.ในเมือง อ.เมือง จ.บุรีรัมย์","044-110390",null,"1104","TESCO LOTUS EXPRESS","SENANIKOM","เสนานิคม","เลขที่ 1881/1 ถนนพหลโยธิน แขวงลาดยาว เขตจตุจักร กรุงเทพมหานคร 10900","10900","(02) 513-9257","(02) 513-9256","00043","","","","กรุงเทพ"]
[null,"1031L02683","Lotus - โพธิ์งาม,ปราจีนบุรี",null,"006","บริษัท ทวีกิจพลาซ่า บุรีรัมย์ (สาขานางรอง)","129/3 ม.21 ถ.โชคชัย-เดชอุดม ต.นางรอง","044-110381",null,"1105","TESCO LOTUS EXPRESS","AREE","ซอยอารีย์","เลขที่ 1183/1 ถนนพหลโยธิน แขวงสามเสนใน เขตพญาไท กรุงเทพมหานคร 10400","10400","(02) 279-4193","(02) 279-4192","00044","","","","กรุงเทพ"]
[null,"1031L02687","Lotus - ไม้เค็ด,ปราจีนบุรี",null,"008","บริษัท ทวีกิจ พลาซ่า (กระสัง)","145 หมู่9 ถ.สุขาภิบาล ต.กระสัง อ.กระสัง จ.บุรีรัมย","044-110670",null,"1106","TESCO LOTUS EXPRESS","SUKHAPIBAN","สุขาภิบาล 1","เลขที่ 66/139 หมู่ที่ 5 ถนนสุขาภิบาล 1 แขวงคลองกุ่ม เขตบึงกุ่ม กรุงเทพมหานคร 10240","10240","(02) 379-2941","(02) 379-2940","00045","","","","กรุงเทพ"]
[null,"1031M21293","MBC - BCP นครฯ-รังสิต 1",null,"009","บริษัท ทวีกิจ พลาซ่า (ประโคนชัย)","214 ถ.โชคชัย-เดชอุดม อ.ประโคนชัย จ.บุรีรัมย์","044-110377",null,"1107","TESCO LOTUS EXPRESS","SUTTHISARN","สุทธิสาร","เลขที่ 571 ถนนสุทธิสาร แขวงดินแดง เขตดินแดง กรุงเทพมหานคร 10320","10320","(02) 691-9083","(02) 691-9082","00048","","","","กรุงเทพ"]
[null,"1031M31033","MBC - หน้าโรงเรียน จปร. นครนายก",null,"010","บริษัท ทวีกิจพลาซ่า (อ.พุทไธสง)","อ.พุทไธสง จ.บุรีรัมย์","044-110383",null,"1108","TESCO LOTUS EXPRESS","SILOM S&A","สีลม",null,null,"ปิด","ปิด","00051","","","",""]
[null,"1031P00001","บริษัท ปิโตรเลียมไทย คอร์ปอเรชั่น จำกัด (นครนายก)",null,"011","บริษัท ทวีกิจ พลาซ่า (สตึก1)","335/1-2 หมู่16 ต.นิคม อ.สตึก จ.บุรีรัมย์","044-110387",null,"1109","TESCO LOTUS EXPRESS","LADPRAO 120","ลาดพร้าว 120","เลขที่ 2410 ถนนลาดพร้าว แขวงวังทองหลาง เขตวังทองหลาง กรุงเทพมหานคร 10310","10310","(02) 514-0713","(02) 514-0712","00059","","","","กรุงเทพ"]
[null,"1032A05010","บริษัท ปตท.บริหารธุรกิจค้าปลีก จำกัด",null,"014","บริษัท ทวีกิจ พลาซ่า (ละหานทราย)","15/1 หมู่2 ต.ละหานทราย อ.ละหานทราย จ.บุรีรัมย์","044-110372",null,"1110","TESCO LOTUS EXPRESS","PETCHABURI","ถนนเพชรบุรีตัดใหม่ ขาออก","เลขที่ 2063 ถนนเพชรบุรีตัดใหม่ แขวงบางกะปิ เขตห้วยขวาง กรุงเทพมหานคร 10320","10320","(02) 716-5329","(02) 716-5328","00069","","","","กรุงเทพ"]
[null,"1032A05011","บริษัท ปตท.บริหารธุรกิจค้าปลีก จำกัด",null,"021","บริษัท ทวีกิจ พลาซ่า (หนองกี่)","3/1 หมู่2 ต.ทุ่งกระเต็น อ.หนองกี่ จ.บุรีรัมย์","044-110422",null,"1111","TESCO LOTUS EXPRESS","CHARANSANITWONGSE 13","จรัญสนิทวงศ์ ","เลขที่ 44/224 ถนนจรัญสนิทวงศ์ แขวงวัดท่าพระ เขตบางกอกใหญ่ กรุงเทพมหานคร 10600","10600","(02) 411-4437","(02) 411-4428","00070","2003-12-19",24,"Esso","กรุงเทพฯ"]
[null,"1032L00744","Lotus - 304 พลาซ่า",null,"023","บริษัท ทวีกิจ พลาซ่า สาขาโนนสูง)","21 ถ.มิตรภาพ-โนนสุง ต.โนนสูง ต.โนนสุง จ.นครราชสีมา",null,null,"1112","TESCO LOTUS EXPRESS","SAMRONG","สำโรง","เลขที่ 970/1 หมู่ที่ 6 ตำบลสำโรงหนือ อำเภอเมืองสมุทรปราการ จังหวัดสมุทรปราการ 10270","10270","(02) 754-1003","(02) 754-1002","00074","","","","สมุทรปราการ"]
[null,"1032L02366","Lotus - บ้านโป่งไผ่ ปราจีนบุรี",null,"026","บริษัท ทวีกิจ พลาซ่า (บ้านกรวด)","174 หมู่4 ต.บ้านกรวด อ.บ้านกรวด จ.บุรีรัมย์","044-110392",null,"1113","TESCO LOTUS EXPRESS","UDOMSOOK","อุดมสุข (สุขุมวิท 103)","เลขที่ 268 ซอยสุขุมวิท 103 แขวงบางนา เขตบางนา กรุงเทพมหานคร 10260","10260","(02) 743-7052","(02) 743-7051","00079","","","","กรุงเทพ"]
[null,"1032L02376","Lotus - บ้านสวนพฤกษา ปราจีนบุรี",null,"027","บริษัท ทวีกิจ พลาซ่า (ปะคำ)","8 หมู่6 ต.ปะคำ อ.ปะคำ จ.บุรีรัมย์","044-110391",null,"1114","TESCO LOTUS EXPRESS","PAHOLYOTHIN KM.25","ถนนพหลโยธิน (ขาเข้า) กม.25","เลขที่ 1044/14  หมู่ที่ 6 ถนนพหลโยธิน แขวงสายไหม เขตสายไหม กรุงเทพมหานคร 10220","10220","(02) 993-8350","(02) 993-8340","00071","","","",""]
[null,"1032M21130","MBC - ศรีมหาโพธิ",null,"030","บริษัท ทวีกิจ พลาซ่า (โนนดินแดง)",null,"044-110424",null,"1115","TESCO LOTUS EXPRESS","BANGNA KM.6.5","ถนนบางนา - ตราด (ขาออก) กม.6.5","เลขที่ 6/16 หมู่ที่ 14 ตำบลบางแก้ว อำเภอบางพลี จังหวัดสมุทรปราการ 10540","10540","(02) 751-6820","(02) 751-6820","00072","2004-01-11","","","สมุทรปราการ"]
[null,"1032M21469","MBC - โป่งไผ่",null,"031","บริษัท ทวีกิจ พลาซ่า (คูเมือง)","319 หมู่6 ต.คูเมือง อ.คูเมือง จ.บุรีรัมย์","044-110425",null,"1116","TESCO LOTUS EXPRESS","CHAENGWATTANA","ถนนแจ้งวัฒนะ (ขาเข้า)","เลขที่ 236 หมู่ 2 ถนนแจ้งวัฒนะ แขวงทุ่งสองห้อง เขตหลักสี่  กรุงเทพมหานคร 10210","10210","(02) 982-5798","(02) 982-5797","00073","","","",""]
[null,"1032S02877","บริษัท สห ลอว์สัน จำกัด",null,"036","บริษัท ทวีกิจ พลาซ่า (หนองหงส์)","73 หมู่14 ต.สระแก้ว อ.หนองหงส์ จ.บุรีรัมย์","044-110393",null,"1117","TESCO LOTUS EXPRESS","PETCHAKASEM","ถนนเพชรเกษม 108","เลขที่ 13/2 หมู่ที่ 7 ถนนเพชรเกษม 108 แขวงหนองค้างพลู  เขตหนองแขม กรุงเทพมหานคร 10160","10160","(02) 808-2115","(02) 808-2114","00075","2004-02-10",16.5,"Esso","กรุงเทพฯ"]
[null,"1032S02927","บริษัท สห ลอว์สัน จำกัด",null,"037","บริษัท ทวีกิจ พลาซ่า (นิคมบ้านกรวด)","295 หมู่12 ต.บ้านกรวด อ.บ้านกรวด จ.บุรีรัมย์","044-110416",null,"1118","TESCO LOTUS EXPRESS","PINKLAO O/B","ปิ่นเกล้า (ขาออก)","เลขที่ 24/29 หมู่ที่ 6 แขวงตลิ่งชัน เขตตลิ่งชัน กรุงเทพมหานคร 10170","10170","(02) 880-8216","(02) 880-8215","00076","2004-02-17",24,"Esso","กรุงเทพฯ"]
[null,"1032S03588","บริษัท สห ลอว์สัน จำกัด",null,"043","บริษัท ทวีกิจ พลาซ่า (ชำนิ)","47 หมู่8 ต.ชำนิ อ.ชำนิ จ.บุรีรัมย์","044-110442",null,"1119","TESCO LOTUS EXPRESS","MUANGTHONG","เมืองทองธานี","เลขที่ 50/1193 หมู่ที่ 9 ถนนแจ้งวัฒนะ ตำบลบางพูด อำเภอปากเกร็ด จังหวัดนนทบุรี 11120","11120","(02) 981-4369","(02) 981-4368","00078","","","","ปทุมธานี"]
[null,"1032S03590","บริษัท สห ลอว์สัน จำกัด",null,"046","บริษัท ทวีกิจ พลาซ่า (โนนสุวรรณ)","137 หมู่8 ต.โนนสุวรรณ อ.โนนสุวรรณ จ.บุรีรัมย์","044-110423",null,"1120","TESCO LOTUS EXPRESS","KLONGJAN","สุขาภิบาล 1-คลองจั่น","เลขที่ 43 ถนนนวมินทร์ แขวงคลองจั่น เขตบางกะปิ กรุงเทพมหานคร 10240","10240","(02)733-1003","(02)733-1954","00080","","","","กรุงเทพ"]
[null,"1033D00001","บริษัท ซันดิว (ประเทศไทย) จำกัด (สาขา รร.ท่าเกษม)",null,"047","บริษัท ทวีกิจ พลาซ่า (นาโพธิ์)","195/1-5 หมู่1 ต.นาโพธิ์ อ.นาโพธิ์ จ.บุรีรัมย์","044-110375",null,"1121","TESCO LOTUS EXPRESS","SUTTHISARN 2","สุทธิสาร 2","เลขที่ 140/7 ถนนสุทธิสารวินิจฉัย แขวงสามเสนใน เขตพญาไท กรุงเทพมหานคร 10400","10400","(02) 616-6035","(02) 616-6034","00081","","","","กรุงเทพ"]
[null,"1033D00002","บริษัท ซันดิว (ประเทศไทย) จำกัด (สาขา รร.เทคนิควัฒนานคร)",null,"052","บริษัท ทวีกิจ พลาซ่า (พลับพลาชัย)","22 หมู่9 ต.สะเดา อ.พลับพลาชัย จ.บุรีรัมย์","044-110397",null,"1122","TESCO LOTUS EXPRESS","SRIYAN","ศรีย่าน","เลขที่ 900/20 ถนนสามเสน แขวงถนนนครไชยศรี เขตดุสิต กรุงเทพมหานคร 10300","10300","(02) 244-8603","(02) 244-8602","00084","","","","กรุงเทพ"]
[null,"1033D00003","บริษัท ซันดิว (ประเทศไทย) จำกัด (สาขา รร.ทัพพะยา พิทยาคม)",null,"053","บริษัท ทวีกิจ พลาซ่า (ทวีมาร์ท 2)","18/5-6 ถ.ธานี ต.ในเมือง อ.เมือง จ.บุรีรัมย์","044-110385",null,"1123","TESCO LOTUS EXPRESS","RAMA IX","พระราม 9 ขาออก","เลขที่ 1063/1 ถนนพระราม 9 แขวงสวนหลวง เขตสวนหลวง กรุงเทพมหานคร 10250","10250","(02)-718-3019","(02) 718-3747","00086","","","","กรุงเทพ"]
[null,"1033L00927","Lotus - อรัญประเทศ สระแก้ว",null,"054","บริษัท ทวีกิจ พลาซ่า (กระสัง2)","377,377/1-8 หมู่9 ต.กระสัง อ.กระสัง","044-110693",null,"1124","TESCO LOTUS EXPRESS","RAMKHAMHAENG","รามคำแหง ขาออก","เลขที่ 185/2 ถนนรามคำแหง(สุขาภิบาล3) แขวงหัวหมาก เขตบางกะปิ กรุงเทพมหานคร 10240","10240","(02) 735-2362","(02) 735-2361","00090","","","","กรุงเทพ"]
[null,"1033L02327","Lotus - อำเภอโคกสูง สระแก้ว",null,"056","บริษัท ก้าวไกลบุรีรัมย์","319 ม.1 ต.คุเมือง ต.คูเมือง จ.บุรีรัมย์",null,null,"1125","TESCO LOTUS EXPRESS","RAMINDRA I/B","รามอินทรา ขาเข้า","เลขที่ 69/83 หมู่ 8 แขวงท่าแร้ง เขตบางเขน กรุงเทพมหานคร 10220","10220","(02) 943-8233","(02) 943-8230","00085","","","","กรุงเทพ"]
[null,"1033L02332","Lotus - ซอยเทศบาล 6 สระแก้ว",null,"059","บริษัท ทวีกิจ พลาซ่า (แคนดง2)","114-116 หมู่1 ต.แคนดง อ.แคนดง จ.บุรีรัมย์","044-110398",null,"1126","TESCO LOTUS EXPRESS","SUKHUMWIT I/B","สุขุมวิท ขาเข้า","เลขที่ 3786 ถนนสุขุมวิท แขวงบางนา เขตบางนา กรุงเทพมหานคร 10260","10260","(02) 745-4023","(02) 398-6584","00087","","","","กรุงเทพ"]
[null,"1033L02343","Lotus - อรัญวิลล์ สระแก้ว",null,"061","บริษัท ทวีกิจ พลาซ่า (สตึก2)","387/1-2 ถ.สนามม้า ต.นิคม อ.สตึก จ.บุรีรัมย์","044-110680",null,"1127","TESCO LOTUS EXPRESS","SAMRONG NUA","สำโรงเหนือ","เลขที่ 443/1 หมู่ที่ 5 ตำบลสำโรงเหนือ อำเภอเมืองสมุทรปราการ จังหวัดสมุทรปราการ 10270","10270","(02) 758-9991","(02) 758-9990","00088","2004-04-20","","","สมุทรปราการ"]
[null,"1033L02430","Lotus - เทศบาลสระแก้ว ซอย 17 สระแก้ว",null,"064","บริษัท ทวีกิจ พลาซ่า (บ้านด่าน)","242 หมู่19 ต.บ้านด่าน อ.บ้านด่าน จ.บุรีรัมย์","044-110382",null,"1128","TESCO LOTUS EXPRESS","BANGKAE NUA","บางแคเหนือ","เลขที่ 603/1105 หมู่ที่ 10 แขวงบางแค เขตบางแค กรุงเทพมหานคร 10160","10160","(02)4132541","(02) 413-2540","00091","2004-07-02",24,"Esso","กรุงเทพฯ"]
[null,"1033L02682","Lotus - ท่าเกษม,สระแก้ว",null,"065","บริษัท ทวีกิจ พลาซ่า (เฉลิมพระเกียรติ)","40 หมู่2 ต.ตาเป๊ก อ.เฉลิมพระเกียรติ จ.บุรีรัมย์","044-628352",null,"1129","TESCO LOTUS EXPRESS","RAMA 4","พระราม 4","เลขที่ 2825/22 ถนนพระรามที่ 4 แขวงคลองตัน เขตคลองเตย กรุงเทพมหานคร 10110","10110","(02)663-0115","(02)663-0114","00093","","","","กรุงเทพ"]
[null,"1033M21270","MBC - ศาลาลำดวน",null,"072","บริษัท ทวีกิจ พลาซ่า (ตาจง)","105 หมู่12 ต.ตาจง อ.ละหานทราย จ.บุรีรัมย์","044-110378",null,"1130","TESCO LOTUS EXPRESS","PANITTHON","พาณิชย์ธน","เลขที่ 41 ถนนบางแวก แขวงบางแวก เขตภาษีเจริญ กรุงเทพมหานคร 10160","10160","(02) 865-7007","(02) 865 7008","00094","2004-08-10",24,"Esso","กรุงเทพฯ"]
[null,"1033M21297","MBC - ตลาดโรงเกลือ",null,"074","บริษัท ทวีกิจพลาซ่า (อ.บ้านใหม่ไชยพจน์)","อ.บ้านใหม่ไชยพจน์  จ.บุรีรัมย์","044-110374",null,"1131","TESCO LOTUS EXPRESS","HUA HIN","หัวหิน",null,null,"(032) 531-283","(032) 531-281","00095","","","",""]
[null,"1033M21481","MBC - ตลาดสระแก้ว",null,"077","บริษัท ทวีกิจ พลาซ่า (แสลงโทน)","170 หมู่3 ต.แสลงโทน อ.ประโคนชัย จ.บุรีรัมย์","044-110379",null,"1132","TESCO LOTUS EXPRESS","BANGPAKOK","บางปะกอก","เลขที่ 575/10 หมู่ที่ 8 แขวงบางปะกอก เขตราษฎร์บูรณะ กรุงเทพมหานคร 10140","10140","(02) 874-5832","(02) 874-5831","00097","2004-10-21",24,"Esso","กรุงเทพฯ"]
[null,"1033M31028","MBC - อรัญประเทศ",null,"078","บริษัท ทวีกิจ พลาซ่า (หินเหล็กไฟ)","104/3-6 หมู่1 ต.หินเหล็กไฟ อ.คูเมือง จ.บุรีรัมย์","044-110682",null,"1133","TESCO LOTUS EXPRESS","HUA MARK","หัวหมาก","เลขที่ 460/1 ถนนรามคำแหง (สุขุมวิท 71) แขวงหัวหมาก เขตบางกะปิ กรุงเทพมหานคร 10240","10240","(02)732-2402","(02)732-2402","00098","","","","กรุงเทพ"]
[null,"1034D00001","บริษัท ซันดิว (ประเทศไทย) จำกัด (สาขา รร.สนามชัยเขต)",null,"081","บริษัท ทวีกิจ พลาซ่า (ดอนอะราง)","59 หมู่ 12 ต.ดอนอะราง อ.หนองกี่ จ.บุรีรัมย์","044-110376",null,"1134","TESCO LOTUS EXPRESS","BANGNA KM 2 (TANAPINYO)"," (บางนา กม.2) ธนภิญโญ","เลขที่ 939/32 หมู่ที่ 12 แขวงบางนา เขตบางนา กรุงเทพมหานคร 10260","10260","(02) 747-5137","(02) 747-5136","00099","","","","กรุงเทพ"]
[null,"1034E00001","บริษัท ซุปเปอร์เซฟ คอร์ปปอเรชั่น จำกัด (นิคมอุตสาหกรรมเกตุเวย์)",null,"082","บริษัท ทวีกิจ พลาซ่า (ตูมใหญ่)","106 หมู่5 ต.ตูมใหญ่ อ.คูเมือง จ.บุรีรัมย์","044-110683",null,"1135","TESCO LOTUS EXPRESS","SUKHUMVIT 105","สุขุมวิท 105","เลขที่ 50/61 หมู่ที่ 3 ตรอกหมู่บ้านนอกเขต แขวงบางนา เขตบางนา กรุงเทพมหานคร 10260","10260","(02) 744-5083","(02) 744-5082","00102","","","","กรุงเทพ"]
[null,"1034L00667","Lotus - สนามชัยเขต",null,"084","บริษัท ทวีกิจ พลาซ่า (บึงเจริญ)","88 หมู่3 ต.บึงเจริญ อ.บ้านกรวด จ.บุรีรัมย์","061-8196123",null,"1136","TESCO LOTUS EXPRESS","K-HA ROMKLAO (SHOPHOUSE # 5)","ร่มเกล้า",null,null,"(02) 916-0506","(02) 916-0505","00103","","","",""]
[null,"1034L02499","Lotus - เกาะจันทร์",null,"085","บริษัท ทวีกิจ พลาซ่า (ข้างโรงพยาบาล)","386/7 หมู่11 ต.ชุมเห็ด อ.เมือง จ.บุรีรัมย์","044-110387",null,"1137","TESCO LOTUS EXPRESS","BANGBUATHONG","บางบัวทอง","เลขที่ 190/10 หมู่ที่ 3 ตำบลบางรักพัฒนา อำเภอบางบัวทอง นนทบุรี 11110","11110","(02) 920-5862","(02) 920-5861","00104","2004-11-14","","","นนทบุรี"]
[null,"1034M21141","MBC - แยกนิคมเกตเวย์",null,"086","บริษัท ทวีกิจ พลาซ่า (สองชั้น)","40 หมู่2  ต.สองชั้น  อ.กระสัง  จ.บุรีรัมย์","044-110396",null,"1138","TESCO LOTUS EXPRESS","RUNGSIT KLONG 2 (KLONGLUANG)","รังสิต คลอง 2 (คลองหลวง)","เลขที่ 44/31 หมู่ที่ 7 ตำบลคลองสอง อำเภอคลองหลวง ปทุมธานี 12120","12120","(02) 902-5297","(02) 901-5296","00105","","","","ปทุมธานี"]
[null,"1034M21196","MBC - ตลาดหมอนนาง",null,"087","บริษัท ทวีกิจ พลาซ่า (บ้านบุ)","4/1-4 หมู่17 ต.จรเข้มาก อ.ประโคนชัย จ.บุรีรัมย์",null,null,"1139","TESCO LOTUS EXPRESS","CHAREONNAKORN","เจริญนคร","เลขที่ 176/4 ถนนเจริญนคร แขวงสำเหร่ เขตธนบุรี กรุงเทพมหานคร 10600","10600","02-877-7690","(02) 877-7688","00106","2004-11-29",24,"Esso","กรุงเทพฯ"]
[null,"1034M21267","MBC - บ่อทอง-ชลบุรี",null,"089","บริษัท ทวีกิจ พลาซ่า (หนองไม้งาม)","36 หมู่13 ต.หนองไม้งาม อ.บ้านกรวด จ.บุรีรัมย์","044-110437",null,"1140","TESCO LOTUS EXPRESS","NONGKHEM","หนองแขม","เลขที่ 12 หมู่ที่ 7 แขวงหนองค้างพลู เขตหนองแขม กรุงเทพมหานคร 10160","10160","(02) 808-8030","(02) 808-8029","00107","2004-12-07",24,"Esso","กรุงเทพฯ"]
[null,"1034M21426","MBC - เกาะโพธิ์ ชลบุรี",null,"090","บริษัท ทวีกิจ พลาซ่า (ร่อนทอง)","153/1 หมู่2 ต.ร่อนทอง อ.สตึก จ.บุรีรัมย์","061-8196091",null,"1141","TESCO LOTUS EXPRESS","CHOKECHAI 4","โชคชัย 4","เลขที่ 23/411 หมู่ที่ 13 แขวงลาดพร้าว เขตลาดพร้าว กรุงเทพมหานคร 10230","10230","(02) 539-8560","(02) 539-8559","00108","","","","กรุงเทพ"]
[null,"1034M21501","MBC - แปลงยาว",null,"091","บริษัท ทวีกิจ พลาซ่า (ไพศาล)","189 หมู่13 ต.ไพศาล อ.ประโคนชัย จ.บุรีรัมย์","044-110439",null,"1142","TESCO LOTUS EXPRESS","BANGPOOD","บางพูด","เลขที่ 123/1 หมู่ที่ 3 ตำบลบ้านใหม่ อำเภอปากเกร็ด นนทบุรี 11120","11120","(02) 961-8534","(02) 961-8535","00109","","","","ปทุมธานี"]
[null,"1034P00001","บริษัท ปิโตรเลียมไทย  คอร์ปอเรชั่น จำกัด (พนัสนิคม 3)",null,"092","บริษัท ทวีกิจ พลาซ่า (หนองใหญ่)","44 หมู่13 ต.หนองใหญ่ อ.สตึก จ.บุรีรัมย์","044-110692",null,"1143","TESCO LOTUS EXPRESS","PAHOLYOTHIN 26","พหลโยธิน กม.26","เลขที่ 179/125 หมู่ที่ 9 แขวงสีกัน เขตดอนเมือง กรุงเทพมหานคร 10210","10210","(02) 996-6028","(02) 996-6027","00110","","","","ปทุมธานี"]
[null,"1034P00002","บริษัท ปิโตรเลียมไทย คอร์ปอเรชั่น จำกัด ( พนัสนิคม 4 )",null,"093","บริษัท ทวีกิจ พลาซ่า (หนองขมาร)","116 หมู่3 ต.หนองขมาร อ.คูเมือง จ.บุรีรัมย์","044-110681",null,"1144","TESCO LOTUS EXPRESS","PECHKASEM 69","เพชรเกษม 69","เลขที่ 117 ซอยเพชรเกษม 69 แขวงหลักสอง เขตบางแค กรุงเทพมหานคร 10160","10160","(02) 807-4089","(02) 807-4090","00111","2004-12-14",24,"Esso","กรุงเทพฯ"]
[null,"1034S03106","บริษัท สห ลอว์สัน จำกัด",null,"094","บริษัท ทวีกิจ พลาซ่า (บ้านว่าน)","78 หมู่11 ต.โคกสะอาด อ.ลำปลายมาศ จ.บุรีรัมย์","044-187726",null,"1145","TESCO LOTUS EXPRESS","LAMLOOKKA KLONG 1","ลำลูกกา",null,null,"(02) 994-8533","(02) 994-8532","00112","","","",""]
[null,"1035A59001","บริษัท ปตท.บริหารธุรกิจค้าปลีก จำกัด",null,"095","บริษัท ทวีกิจ พลาซ่า (เมืองแก)","59 หมู่18 ต.เมืองแก อ.สตึก จ.บุรีรัมย์","044-110417",null,"1146","TESCO LOTUS EXPRESS","SERI ON-NUJ","หมู่บ้านเสรี","เลขที่ 42,44,46.48 ถนนอ่อนนุช แขวงประเวศ เขตประเวศ กรุงเทพมหานคร 10250","10250","(02) 721-2947","(02) 721-2948","00114","","","",""]
[null,"1035A59002","บริษัท ปตท.บริหารธุรกิจค้าปลีก จำกัด",null,"096","บริษัท ทวีกิจ พลาซ่า (ยายแย้ม)","29/1 หมู่10 ต.ยายแย้มวัฒนา อ.เฉลิมพระเกียรติ","044-110370",null,"1147","TESCO LOTUS EXPRESS","PRACHANIVEJ","ประชานิเวศน์","เลขที่ 81 หมู่ที่ 7 ตำบลท่าทราย อำเภอเมืองนนทบุรี นนทบุรี 11000","11000","(02) 953-5862","(02) 575-2421-2","00113","","","","กรุงเทพ"]
[null,"1035L00711","Lotus - แยกสามทหาร ปราจีนบุรี",null,"097","บริษัท ทวีกิจ พลาซ่า (สี่เหลี่ยมเจริญ)","189 หมู่10 ต.แสลงพัน อ.ลำปลายมาศ จ.บุรีรัมย์","044-110434",null,"1148","TESCO LOTUS EXPRESS","WANG-HIN","วังหิน","เลขที่ 12/31 หมู่ที่ 11 แขวงลาดพร้าว เขตลาดพร้าว กรุงเทพมหานคร 10230","10230","(02) 942-3103","(02) 942-3102","00115","","","","กรุงเทพ"]
[null,"1035L02536","Lotus - วังใหม่,สระแก้ว",null,"098","บริษัท ทวีกิจ พลาซ่า (ทุ่งวัง)","60 หมู่3 ต.ทุ่งวัง อ.สตึก จ.บุรีรัมย์","044-110369",null,"1149","TESCO LOTUS EXPRESS","ON-NUCH","อ่อนนุช","เลขที่ 48/8 หมู่ 7 แขวงลาดกระบัง เขตลาดกระบัง กรุงเทพมหานคร  10520","10520","(02) 727-6935","(02) 727-6934","00116","","","","กรุงเทพ"]
[null,"1035L02573","Lotus - ตลาดเย็นวังน้ำเย็น,สระแก้ว",null,"101","บริษัท ทวีกิจ พลาซ่า (โนนดู่)","223 หมู่3 ต.ตลาดไทร อ.ชุมพวง จ.นครราชสีมา","061-8196164",null,"1150","TESCO LOTUS EXPRESS","IMPACT MUANGTHONG THANI","อิมแพค เมืองทองธานี","เลขที่ 101-101/1 ถนนป๊อปปูล่า ตำบลบ้านใหม่ อำเภอปากเกร็ด จังหวัดนนทบุรี  11120","11120","(02) 980-5506","(02) 980-5507","00117","","","","ปทุมธานี"]
[null,"1035M21111","MBC - แยกสามทหาร",null,"104","บริษัท ทวีกิจ พลาซ่า (ดงอีจาน)","17 หมู่13 ต.ดงอีจาน อ.โนนสุวรรณ จ.บุรีรัมย์","061-8196126",null,"1151","TESCO LOTUS EXPRESS","PORNSAWAN PLAZA","พรสวรรค์ พลาซ่า","เลขที่ 21/129 หมู่ที่ 4 ตำบลสวนใหญ่ อำเภอเมืองนนทบุรี จังหวัดนนทบุรี 11000","11000","(02) 967-2162","(02) 967-2161","00121","","","",""]
[null,"1035M21135","MBC - ตลาดแพนเวย์",null,"107","บริษัท ทวีกิจ พลาซ่า (พระครูใหญ่)","65 หมู่10 ต.พระครู อ.เมือง จ.บุรีรัมย์","044-110673",null,"1152","TESCO LOTUS EXPRESS","PATTANAKARN 30","พัฒนาการ ซอย 30","เลขที่ 1144/39-42 ถนนพัฒนาการ แขวงสวนหลวง เขตสวนหลวง กรุงเทพมหานคร 10250","10250","(02) 713-7181","(02) 713-7180","00123","","","","กรุงเทพ"]
[null,"1035M21184","MBC - ตลาดกบินทร์บุรี",null,"108","บริษัท ทวีกิจ พลาซ่า (ตะโก)","46 หมู่10 ต.อีสานเขต อ.เฉลิมพระเกียรติ จ.บุรีรัมย์","044-110129",null,"1153","TESCO LOTUS EXPRESS","PATTANAKARN 20","พัฒนาการ ซอย 20","เลขที่ 123 ซอยพัฒนาการ 20 ถนนพัฒนาการ แขวงสวนหลวง เขตสวนหลวง กรุงเทพมหานคร 10250","10250","(02) 318-6381","(02) 717-9280","00122","","","",""]
[null,"1035M21380","MBC - BCP เมืองสระแก้ว",null,"109","บริษัท ทวีกิจ พลาซ่า (หนองโบสถ์)","254/1 หมู่6 ต.หนองโบสถ์ อ.นางรอง จ.บุรีรัมย์","044-110438",null,"1154","TESCO LOTUS EXPRESS","CHALERMPRAKIET 22",null,null,null,"(02) 747-0831","(02) 747-0830","00125","","","",""]
[null,"1035M21420","MBC - ตลาดวังน้ำเย็น",null,"111","บริษัท ทวีกิจ พลาซ่า (โคกวัด)","89/9-10 หมู่ 1 ต.อิสาน อ.เมือง จ.บุรีรัมย์","044-110436",null,"1155","TESCO LOTUS EXPRESS","AINOI",null,null,null,"(02) 571-4705","(02) 571-4704","00126","","","",""]
[null,"1036A05008","บริษัท ปตท.บริหารธุรกิจค้าปลีก จำกัด",null,"112","บริษัท ทวีกิจ พลาซ่า (บ้านยาง)","263 หมู่17 ต.บ้านยาง อ.เมือง จ.บุรีรัมย์","044-110429",null,"1156","TESCO LOTUS EXPRESS","PINCHAREON 3","ปิ่นเจริญ 3","เลขที่ 310/398-400 หมู่ที่ 3 แขวงสีกัน เขตดอนเมือง กรุงเทพมหานคร 10210","10210","(02) 928-9236","(02) 928-9235","00127","","","","ปทุมธานี"]
[null,"1036B20019","บจก.บางจากกรีนเนท ( บางคล้า )",null,"113","บริษัท ทวีกิจ พลาซ่า (บ้านสิงห์)","129 หมู่11 ต.บ้านสิงห์ อ.นางรอง จ.บุรีรัมย์","044-110428",null,"1157","TESCO LOTUS EXPRESS","SOI SAPANKOO","ซอยสะพานคู่","เลขที่ 1036/1-4 ถนนพระราม 4 แขวงทุ่งมหาเมฆ เขตสาทร กรุงเทพมหานคร 10120","10120",null,"(02) 679-7103-5","00128","","","",""]
[null,"1036D00001","บริษัท ซันดิว (ประทศไทย) จำกัด  (สาขา รร.ปกณ.)",null,"114","บริษัท ทวีกิจ พลาซ่า (สวายจีก)","195 หมู่14 ต.สวายจีก อ.เมือง จ.บุรีรัมย์","044-110421",null,"1158","TESCO LOTUS EXPRESS","NAWANAKORN","นวนคร","เลขที่ 59/77 หมู่ที่ 19 ตำบลคลองหนึ่ง อำเภอคลองหลวง จังหวัดปทุมธานี 12120","12120","02-909-5361","(02) 909-5360","00129","","","","ปทุมธานี"]
[null,"1036L00624","Lotus - ประจันตคาม",null,"115","บริษัท ทวีกิจ พลาซ่า (หนองโดน)","138 หมู่1 ต.หนองโดน อ.ลำปลายมาศ จ.บุรีรัมย์","044-110427",null,"1159","TESCO LOTUS EXPRESS","THIENDAD","ซอยเทียนดัด (sh61)","เลขที่ 85 หมู่ที่ 1 ตำบลบ้านใหม่  อำเภอสามพราน จังหวัดนครปฐม 73110","73110",null,"(02) 805-8070","00130","2005-04-23","","","นครปฐม"]
[null,"1036L00970","Lotus - เกาะขนุน พนมสารคาม ฉะเชิงเทรา",null,"116","บริษัท ทวีกิจ พลาซ่า (ดอนมนต์)","141/2 หมู่5 ต.ดอนมนต์ อ.สตึก จ.บุรีรัมย์","044-110443",null,"1160","TESCO LOTUS EXPRESS","NEIGHBOUR CENTER","เนจ์เบอร์ เซ็นเตอร์","เลขที่ 91/38 หมู่ที่ 6 แขวงท่าแร้ง เขตบางเขน กรุงเทพมหานคร 10220","10220","(02) 948-2058","(02) 948-2028","00131","","","",""]
[null,"1036L02526","Lotus - ศรีมโหสถ,ปราจีนบุรี",null,"118","บริษัท ทวีกิจ พลาซ่า (เกษตร)","155/3-6 หมู่18 ต.อิสาน อ.เมือง จ.บุรีรัมย์","044-110418",null,"1161","TESCO LOTUS EXPRESS","TALAD BANGBON","ตลาดบางบอน","เลขที่ 76/51-53 หมู่ที่ 6 แขวงบางบอน เขตบางบอน กรุงเทพมหานคร 10150","10150","(02) 899-5172","(02)-899-5171","00132","","","",""]
[null,"1036L02756","Lotus - บ้านสร้าง,ปราจีนบุรี",null,"119","บริษัท ทวีกิจ พลาซ่า (ชำนิ วีแลนด์)","13 หมู่8 ต.ชำนิ อ.ชำนิ จ.บุรีรัมย์","061-8196422",null,"1162","TESCO LOTUS EXPRESS","SORANAKOM","ซอยสรณคมน์","เลขที่ 371/9 หมู่ที่ 3 ถนนสรงประภา  แขวงสีกัน เขตดอนเมือง กรุงเทพมหานคร 10210","10210","(02) 929-7804","(02) 929-7803","00133","","","","ปทุมธานี"]
[null,"1036M21116","MBC - ตลาดศิริพนม",null,"121","บริษัท ทวีกิจ พลาซ่า (โนนเจริญ)","263 หมู่1 ต.โนนเจริญา อ.บ้านกรวด จ.บุรีรัมย์","061-8196427",null,"1163","TESCO LOTUS EXPRESS","THASAI","ท่าทราย","เลขที่ 40/4056 หมู่ที่ 1 ตำบลท่าทราย อำเภอเมืองนนทบุรี จังหวัดนนทบุรี 11000","11000","(02) 952-8128","(02) 952-8127","00134","","","","กรุงเทพ"]
[null,"1036M21183","MBC - ถนนปราจีนตคาม",null,"126","บริษัท ทวีกิจ พลาซ่า (ลำดวน 1)","207-208-209 หมู่ 11 ต.ลำดวน อ.กระสัง จ.บุรีรัมย์","044-110690",null,"1164","TESCO LOTUS EXPRESS","TALAD BANGBOR",null,null,null,"02-708-3455","(02) 708-3454","00135","","","",""]
[null,"1036M21246","MBC - ศรีมโหสถ",null,"133","บริษัท ทวีกิจ พลาซ่า (กระเดื่อง)","71 หมู่12 ต.สองห้อง อ.เมือง จ.บุรีรัมย์",null,null,"1165","TESCO LOTUS EXPRESS","RANGSIT KLONG 6","รังสิต คลอง 6 (Sa 23)","เลขที่ 42/110 หมู่ที่ 1 ตำบลคลองหก อำเภอคลองหลวง จังหวัดปทุมธานี 12120","12120","02-904-2405","(02) 904-2404","00136","","","","ปทุมธานี"]
[null,"1036S03573","บริษัท สห ลอว์สัน จำกัด",null,"142","บริษัท ทวีกิจ พลาซ่า (บ้านบัว)","179 หมู่3 ต.บ้านบัว อ.เมือง จ.บุรีรัมย์","044-110384",null,"1166","TESCO LOTUS EXPRESS","LADKRABANG 52","ลาดกระบัง  (Sh24)","เลขที่ 2430,2432,2434 ถนนลาดกระบัง แขวงลาดกระบัง เขตลาดกระบัง กรุงเทพมหานคร 10520","10520",null,"(02) 739-1750-1","00138","","","",""]
[null,"1037C05182","บริษัท ซีพี ออลล์ จำกัด (มหาชน) CV.CODE 12-260",null,"149","บริษัท ทวีกิจ พลาซ่า (เมืองแฝก)","199 หมู่7 ต.เมืองแฝก อ.ลำปลายมาศ จ.บุรีรัมย์","063-0093265",null,"1167","TESCO LOTUS EXPRESS","THANAM PHRAPADAENG (SH 68)","ท่าน้ำพระประแดง","เลขที่ 12, 14, 16 ถนนนครเขื่อนขันธ์ ตำบลตลาด อำเภอพระประแดง จังหวัดสมุทรปราการ 10130","10130","(02) 818-4956","(02) 818-4955","00139","2005-10-21",24,"Shophouse","สมุทรปราการ"]
[null,"1037C08345","บริษัท ซีพี ออลล์ จำกัด (มหาชน) CV.CODE 12-260",null,"151","บริษัท ทวีกิจ พลาซ่า (ห้วยราช)","126/1 หมู่5 ต.ห้วยราช อ.ห้วยราช จ.บุรีรัมย์","044-110718",null,"1168","TESCO LOTUS EXPRESS","MUANG-EK","เมืองเอก (Sh 70)","เลขที่  52/126,128 ตำบลหลักหก อำเภอเมืองปทุมธานี  จังหวัดปทุมธานี 12000","12000",null,"(02) 997-7035-7","00140","","","","ปทุมธานี"]
[null,"1037C09375","บริษัท ซีพี ออลล์ จำกัด (มหาชน) CV.CODE 12-260",null,"153","บริษัท ทวีกิจ พลาซ่า (สะแกโพรง)","190 ม.19 ต.สะแกโพรง อ.เมือง  จ.บุรีรัมย์","063-4642101",null,"1169","TESCO LOTUS EXPRESS","BANGKRADEE",null,null,null,"02-896-2492","(02) 896-2491","00142","","","",""]
[null,"1037L00726","Lotus - นาดี ปราจีนบุรี",null,"154","บริษัท ทวีกิจ พลาซ่า (สะแกซำ)",null,"063-4642094",null,"1170","TESCO LOTUS EXPRESS","MOOBAN PRUEKSA 3",null,null,null,null,"(02) 927-1050-1","00143","","","",""]
[null,"1037M21144","MBC - ตลาดอุดมสุข",null,"157","บริษัท ทวีกิจ พลาซ่า (จันทบเพชร)",null,null,null,"1171","TESCO LOTUS EXPRESS","SOI PRADOO","ซอยประดู่ (Sh 58)","เลขที่ 12,12/1-2 ตรอกประดู่ แขวงบางคอแหลม เขตบางคอแหลม กรุงเทพมหานคร 10120","10120","02-6888217","02-6888216","00144","","","","กรุงเทพ"]
[null,"2031Z20001","บรรจง บ.ทีมพรีซิชั่น จก.",null,"169","ห้างหุ้นส่วนจำกัด ก้าวไกลบุรีรัมย์(หินเหล็กไฟ2)","ต.หินเหล็กไฟ อ.คู๋เมือง จ.บุรีรัมย์","063-373-8481",null,"1172","TESCO LOTUS EXPRESS","TALAD PRAMESUK","ตลาดเปรมสุขเรวดี (sa 12)","เลขที่ 29/376 หมู่ที่ 2 ตำบลตลาดขวัญ อำเภอเมืองนนทบุรี จังหวัดนนทบุรี 11000","11000","02-9556101","02-9556102","00145","","","","กรุงเทพ"]
[null,"2031Z20002","บ.อีซีเทค",null,"080","ห้างหุ้นส่วนจำกัด ก้าวไกลบุรีรัมย์(บ้านปลื้ม)","20/15 ต.โคกมะม่วง อ.ประคำ จ.บุรีรัมย์",null,null,"1173","TESCO LOTUS EXPRESS","PETCHKASEM","เพชรเกษม 39 (Esso)","เลขที่ 109/1 หมู่ที่ 15 แขวงบางหว้า เขตภาษีเจริญ กรุงเทพมหานคร 10160","10160","(02) 8047270.","(02) 804-7269","00146","","","",""]
[null,"2031Z30001","รพ.บ้านนา",null,null,null,null,null,null,"1174","TESCO LOTUS EXPRESS","MOOBAN CHAIMONGKOL (SA 32)",null,null,null,null,"(02) 909-0237-9","00148","","","",""]
[null,"2031Z50001","NGV-หนองชะอม",null,null,null,null,null,null,"1175","TESCO LOTUS EXPRESS","MOOBAN DK (SH78)","หมู่บ้านดีเค(sh 78)","เลขที่ 45/420 หมู่ที่ 7 แขวงบางบอน เขตบางบอน กรุงเทพมหานคร 10150","10150",null," 02-895-0647-8","00149","2005-07-22",24,"Shophouse","กรุงเทพฯ"]
[null,"2031Z50003","อ้น นาลาดปิโตรเลียม",null,null,null,null,null,null,"1176","TESCO LOTUS EXPRESS","MOOBAN SOR PHANURUNGSRI (SH 90)","หมู่บ้าน ส ภาณุรังษี (sh 90)","เลขที่ 20/14-16 หมู่ที่ 8 ตำบลบางกรวย อำเภอบางกรวย จังหวัดนนทบุรี 11130","11130",null,"(02) 883-6511,8836544","00150","2005-07-15",24,"Shophouse","นนทบุรี"]
[null,"2031Z70002","สโมสรเขาเขียว",null,null,null,null,null,null,"1177","TESCO LOTUS EXPRESS","MOOBAN BUATHONG (SH 73)","หมู่บ้านบัวทอง (Sh 73)","เลขที่ 111/84 หมู่ที่ 10 ตำบลบางรักพัฒนา อำเภอบางบัวทอง จังหวัดนนทบุรี 11110","11110","02-925-3013","02-594-5733","00151","2005-07-17","","","นนทบุรี"]
[null,"2031Z70005","มะลิวัลย์",null,null,null,null,null,null,"1178","TESCO LOTUS EXPRESS","PHRAYASURAIN","พระยาสุเรนทร์ (Sh 106)","เลขที่ 60/395-398 หมู่ที่ 4 แขวงบางชัน เขตคลองสามวา กรุงเทพมหานคร 10510","10510","(02) 955-3109","(02) 955-3108","00154","","","","กรุงเทพ"]
[null,"2031Z70006","จ่าอ๊อด",null,null,null,null,null,null,"1179","TESCO LOTUS EXPRESS","RUNGSIT KLONG1","รังสิตคลอง 1 (Sa 28)","เลขที่ 208 ถนนเลียบคลองรังสิต ตำบลประชาธิปัตย์ อำเภอธัญบุรี จังหวัดปทุมธานี 12110","12110",null,"(02) 992-9035","00153","","","","ปทุมธานี"]
[null,"2031Z70007","หมวดมาโนช",null,null,null,null,null,null,"1180","TESCO LOTUS EXPRESS","TA - IT","ท่าอิฐ (Sa 17)","เลขที่ 57/11 หมู่ที่ 4 ตำบลบางรักน้อย อำเภอเมืองนนทบุรี จังหวัดนนทบุรี 11000","11000",null,"(02) 922-1656,922-1502","00152","2005-07-28","","","นนทบุรี"]
[null,"2031Z70008","จ่าดา",null,null,null,null,null,null,"1181","TESCO LOTUS EXPRESS","SAMPRAN","สามพราน (Sa 24)","เลขที่ 46/6 หมู่ที่ 7 ตำบลสามพราน อำเภอสามพราน จังหวัดนครปฐม 73110","73110","034-223-005","(034) 223-006","00155","2006-09-30","","","นครปฐม"]
[null,"2031Z70009","จุฑามาศ",null,null,null,null,null,null,"1182","TESCO LOTUS EXPRESS","PREAKSA","แพรกษา (Sh 113)","เลขที่ 157/8-10 หมู่ที่ 5 ตำบลแพรกษา อำเภอเมืองสมุทรปราการ จังหวัดสมุทรปราการ 10280","10280",null,"(02) 334-3673","00157","2005-08-07","","","สมุทรปราการ"]
[null,"2031Z70011","พ.อ.อ.พันธิพิชญ์ สิงหา",null,null,null,null,null,null,"1183","TESCO LOTUS EXPRESS","SANTIDHUM(SH 110)",null,null,null,"(053) 406-567-9","(053) 406-568-9","00158","","","",""]
[null,"2031Z70012","PX.กองพันปืนใหญ่ พัน 12รอ.(จ่าสุพิศ นำพา)",null,null,null,null,null,null,"1184","TESCO LOTUS EXPRESS","TALAD SANKHAMPANG (SA 36)",null,null,null,"(053) 392-713","(053)392-706,392-672","00159","","","",""]
[null,"2031Z90001","สีดา  มินิมาร์ท",null,null,null,null,null,null,"1185","TESCO LOTUS EXPRESS","MOOBAN SINTHAWEE RAMA II",null,null,null,null,"(02) 867-1310,840-2617,840-2393","00160","","","",""]
[null,"2031ZB0002","เขาดิน(พิกุล)",null,null,null,null,null,null,"1186","TESCO LOTUS EXPRESS","RATCHAWONG(ESSO)",null,null,null,"(053) 876267","(053)876-260,876-185","00161","","","",""]
[null,"2031ZB0003","คีรีวัน มินิมาร์ท",null,null,null,null,null,null,"1187","TESCO LOTUS EXPRESS","NONGHOY(ESSO)",null,null,null,"(053) 800-301","(053) 800-216","00162","","","",""]
[null,"2031ZB0004","ครูกบ",null,null,null,null,null,null,"1188","TESCO LOTUS EXPRESS","MAE - RIM O/B",null,null,null,null,"(053) 890-961,890-928,890-719","00163","","","",""]
[null,"2031ZB0007","จันทร์หอม",null,null,null,null,null,null,"1189","TESCO LOTUS EXPRESS","CHAROENMUANG",null,null,null,null,"(053) 302-293,302-355,302-369","00164","","","",""]
[null,"2031ZB0009","ดวงใจ+พี่ดวง",null,null,null,null,null,null,"1190","TESCO LOTUS EXPRESS","RANGSIT KLONG 2 (SA21)","รังสิต คลอง 2 ","เลขที่ 23/15  หมู่ที่ 6 ถนนเสมาฟ้าคราม ตำบลคูคต อำเภอลำลูกกา จังหวัดปทุมธานี 12130","12130",null,"(02)-987-3751,3719,3783","00166","","","","ปทุมธานี"]
[null,"2031ZB0012","เต็งศิริ",null,null,null,null,null,null,"1191","TESCO LOTUS EXPRESS","RANGNAM (SH 50)","รางน้ำ (sh 50)","เลขที่ 104/30-34 ถนนรางน้ำ แขวงถนนพญาไท เขตราชเทวี กรุงเทพมหานคร 10400","10400","(02)-642-4536,640-1715,","02-2486749","00167","","","","กรุงเทพ"]
[null,"2031ZB0014","น้อย",null,null,null,null,null,null,"1192","TESCO LOTUS EXPRESS","PHAHOLYOTHIN 66 (SH 100)","พหลโยธิน 66","เลขที่ 99/10, 99/12 หมู่ที่ 6 ถนนพหลโยธิน แขวงสายไหม เขตสายไหม กรุงเทพมหานคร 10220","10220",null,"(02)-994-7870-2","00168","","","","ปทุมธานี"]
[null,"2031ZB0015","น้ำใจ มินิมาร์ท",null,null,null,null,null,null,"1193","TESCO LOTUS EXPRESS","K - HA THANI 4 (SA37)","เคหะธานี","เลขที่ 63/2882 หมู่ที่ 7 แขวงสะพานสูง เขตสะพานสูง กรุงเทพมหานคร 10240","10240","02-9170023 ","02 917-0779 ","00169","","","","กรุงเทพ"]
[null,"2031ZB0017","ใบมาร์ท 2",null,null,null,null,null,null,"1194","TESCO LOTUS EXPRESS","TALAD TON PHAYOM (SH 62)",null,null,null,null,"(053) 808-596-8","00170","","","",""]
[null,"2031ZB0018","บุญทรัพย์",null,null,null,null,null,null,"1195","TESCO LOTUS EXPRESS","MOOBAN SETTHAKIT (SH 109)","หมู่บ้านเศรษฐกิจ","เลขที่ 184/5,184/9,184/10 หมู่ที่ 4 ซอยถนนหมู่บ้านเศรษฐกิจ แขวงบางแคเหนือ เขตบางแค กรุงเทพฯ 10160","10160","(02) 808-0282","(02) 808-0281","00171","2005-09-28",24,"Shophouse","กรุงเทพฯ"]
[null,"2031ZB0019","เบียร์",null,null,null,null,null,null,"1196","TESCO LOTUS EXPRESS","PETCHKASEM 48 (SH 128)","เพชรเกษม 48","เลขที่ 3/60-62 หมู่ที่ 5 แขวงบางหว้า เขตภาษีเจริญ กรุงเทพมหานคร 10160","10160",null,"(02) 869-4115-6,4032","00172","2005-09-28",24,"Shophouse","กรุงเทพฯ"]
[null,"2031ZB0022","ป้าเปี๊ยก",null,null,null,null,null,null,"1197","TESCO LOTUS EXPRESS","KLONG TON (ESSO)","คลองตัน","เลขที่ 1016/19 ถนนสุขุมวิท 71 แขวงคลองตันเหนือ เขตวัฒนา กรุงเทพมหานคร 10110","10110","02-7130256","(02) 713-1462","00173","","","","กรุงเทพ"]
[null,"2031ZB0024","ละเอียด  สด",null,null,null,null,null,null,"1198","TESCO LOTUS EXPRESS","WAT BOTDONPHROM",null,null,null,"(02) 903-5331","(02) 903-5330","00175","","","",""]
[null,"2031ZB0025","ป้าแป๋ว *",null,null,null,null,null,null,"1199","TESCO LOTUS EXPRESS","SINSOMBOON",null,null,null,"ปิด","ปิด","00176","","","",""]
[null,"2031ZB0026","ปอ เกาะพันซา",null,null,null,null,null,null,"1200","TESCO LOTUS EXPRESS","TALAD WORARAT",null,null,null,"02-6760147","02-6760148","00177","","","",""]
[null,"2031ZB0028","พี่เอ",null,null,null,null,null,null,"1201","TESCO LOTUS EXPRESS","DON WHAI","ดอนหวาย","เลขที่ 1/39 หมู่ที่ 5 ตำบลบางกระทึก อำเภอสามพราน จังหวัดนครปฐม 73210","73210",null,"034-360081-3","00178","2005-10-14","","","นครปฐม"]
[null,"2031ZB0030","มีนา",null,null,null,null,null,null,"1202","TESCO LOTUS EXPRESS","TALAD CHAI-CHIMPLEE (SH 124)","ตลาดไชยฉิมพลี","เลขที่ 27/196-197 หมู่ที่ 6 แขวงบางแวก เขตภาษีเจริญ กรุงเทพมหานคร 10160","10160","02-865-0615","02-865-0610","00180","2005-10-30",24,"Shophouse","กรุงเทพฯ"]
[null,"2031ZB0032","มีสุข",null,null,null,null,null,null,"1203","TESCO LOTUS EXPRESS","SUTHISARN 3 (SH 157)","สุทธิสาร 3","เลขที่ 1326,1330 ถนนสุทธิสารวินิจฉัย แขวงห้วยขวาง เขตห้วยขวาง กรุงเทพมหานคร 10320","10320","02-693-0416","02-693-0416","00181","","","",""]
[null,"2031ZB0035","แม่น้อง",null,null,null,null,null,null,"1204","TESCO LOTUS EXPRESS","PRACHA - UTIT 33 (SH 158)","ประชาอุทิศ 33","เลขที่ 385/13,14,15 หมู่ที่ 4 แขวงบางมด เขตทุ่งครุ กรุงเทพมหานคร 10140","10140","02-873-3281","02-873-3280","00182","2005-11-03",24,"Shophouse","กรุงเทพฯ"]
[null,"2031ZB0036","เล็ก ไม้เค็ด",null,null,null,null,null,null,"1205","TESCO LOTUS EXPRESS","TALAD PIMOLRAJ (SA 48)","ตลาดพิมลราช","เลขที่ 163/13,163/14 หมู่ที่ 1 ตำบลพิมลราช อำเภอบางบัวทอง จังหวัดนนทบุรี 11110","11110",null,"02-9243405","00185","","","","ปทุมธานี"]
[null,"2031ZB0038","วรรณภา",null,null,null,null,null,null,"1206","TESCO LOTUS EXPRESS","TA-CHALOM (SH 149)","ท่าฉลอม","เลขที่ 279/119 ถนนสุทธิวาตวิถี ตำบลท่าฉลอม อำเภอเมืองสมุทรสาคร จังหวัดสมุทรสาคร 74000","74000","034-818643","034-818642","00187","2005-11-11","","","สมุทรสาคร"]
[null,"2031ZB0040","ศรีนวล",null,null,null,null,null,null,"1207","TESCO LOTUS EXPRESS","MOOBAN SOMCHAI (SH 144)","หมู่บ้านสมชาย","เลขที่ 27/301-304 หมู่ที่ 5 ตำบลบางกรวย อำเภอบางกรวย จังหวัดนนทบุรี  11130","11130","02-8795317","02-8795316","00188","2005-11-11",24,"Shophouse","นนทบุรี"]
[null,"2031ZB0041","สมหมาย  ปัญญา",null,null,null,null,null,null,"1208","TESCO LOTUS EXPRESS","SOI SUPAPHONG (SH 116)","ซอยสุภาพงษ์","เลขที่ 15/119-122 แขวงหนองบอน เขตประเวศ กรุงเทพมหานคร  10250","10250","02-3306116","02-3309115","00186","","","",""]
[null,"2031ZB0043","สมบัติ หนองชะอม",null,null,null,null,null,null,"1209","TESCO LOTUS EXPRESS","BUATHONG THANI (SA 44)","บัวทองธานี","เลขที่ 14/1399 หมู่ที่ 13 ตำบลบางบัวทอง อำเภอบางบัวทอง จังหวัดนนทบุรี  11110","11110",null,"02-9226391","00189","","","","ปทุมธานี"]
[null,"2031ZB0045","สายสมร",null,null,null,null,null,null,"1210","TESCO LOTUS EXPRESS","UDOMDEJ (SH 155)","อุดมเดช","เลขที่ 63/636 หมู่ที่ 2 ตำบลบางเมืองใหม่ อำเภอเมืองสมุทรปราการ จังหวัดสมุทรปราการ  10270","10270","02-756-3713","02-756-3714","00190","2005-11-13","","","สมุทรปราการ"]
[null,"2031ZB0046","สุ่มทอง",null,null,null,null,null,null,"1211","TESCO LOTUS EXPRESS","BAN SUANTHON (SH 141)","บ้านสวนธน","เลขที่ 365/1644,365/1646,325 หมู่ที่ 2 แขวงบางมด เขตทุ่งครุ กรุงเทพมหานคร  10140","10140","02-870-6931","02-870-6930","00193","2005-11-16",24,"Shophouse","กรุงเทพฯ"]
[null,"2031ZB0047","สมัย",null,null,null,null,null,null,"1212","TESCO LOTUS EXPRESS","WAT KRU NAI","วัดครุใน","เลขที่ 134/33-34 หมู่ที่ 11 ตำบลบางครุ อำเภอพระประแดง สมุทรปราการ 10130","10130","02-819-0441","02-819-0440","00191","2005-11-23",24,"Shophouse","สมุทรปราการ"]
[null,"2031ZB0048","สุดหล่อ",null,null,null,null,null,null,"1213","TESCO LOTUS EXPRESS","PREAKSA-PUTHSEE","แพรกษา-พุฒสี","เลขที่ 431-431/1 หมู่ที่ 3 ตำบลแพรกษา อำเภอเมืองสมุทรปราการ สมุทรปราการ 10280","10280","02-7037895","02-7037494","00195","2005-11-27","","","สมุทรปราการ"]
[null,"2031ZB0050","อุ๊",null,null,null,null,null,null,"1214","TESCO LOTUS EXPRESS","RUNGSIT CITY","รังสิตซิตี้","เลขที่ 250/9-11 หมู่ที่ 6 ตำบลบางพูน อำเภอเมืองปทุมธานี ปทุมธานี 12000","12000",null,"02-959-9518,9910,02-759-9167","00196","","","","ปทุมธานี"]
[null,"2031ZB0052","ป้า อำนวย",null,null,null,null,null,null,"1215","TESCO LOTUS EXPRESS","K-HA BANGBUA","เคหะบางบัว","เลขที่ 304/747-750 หมู่ที่ 3 แขวงตลาดบางเขน เขตหลักสี่ กรุงเทพมหานคร 10210","10210","02-516-1036","02-561-0135","00198","","","","กรุงเทพ"]
[null,"2031ZB0053","อุดมสโตร์",null,null,null,null,null,null,"1216","TESCO LOTUS EXPRESS","WAT YAI SUKSAWAD",null,null,null,null,"02-815-6700,6596,6054","00199","","","",""]
[null,"2031ZB0058","พี่แคท",null,null,null,null,null,null,"1217","TESCO LOTUS EXPRESS","SUKHUMWIT 71","สุขุมวิท 71","เลขที่ 77,79,81-83 ซอยแสงทิพย์ แขวงพระโขนงเหนือ เขตวัฒนา กรุงเทพมหานคร 10110","10110","02-7110273","02-7110273","00200","","","","กรุงเทพ"]
[null,"2031ZB0060","ป.ปกรณ์ มินิมาร์ท",null,null,null,null,null,null,"1218","TESCO LOTUS EXPRESS","MOOBAN SUMMAKORN","หมู่บ้านสัมมากร","เลขที่ 120 หมู่ที่ 3 แขวงสะพานสูง เขตสะพานสูง กรุงเทพมหานคร 10240","10240","02-6296930","02-729-6850,6930,9985","00201","","","","กรุงเทพ"]
[null,"2031ZB0063","ป้าเรณู",null,null,null,null,null,null,"1219","TESCO LOTUS EXPRESS","NONGCHOK","หนองจอก","เลขที่ 135/74 หมู่ที่ 2 ถนนเชื่อมสัมพันธ์ แขวงกระทุ่มราย เขตหนองจอก กรุงเทพมหานคร 10530","10530","02-5483197","02-5483198 ","00202","","","","กรุงเทพ"]
[null,"2031ZB0064","กำพล",null,null,null,null,null,null,"1220","TESCO LOTUS EXPRESS","TALAD BANGSAOTHONG","ตลาดบางเสาธง","เลขที่ 128/79-81 หมู่ที่ 1 ตำบลบางเสาธง อำเภอบางเสาธง สมุทรปราการ 10540","10540","02-706-3173","02-706-3106,3204","00204","2005-12-24","","","สมุทรปราการ"]
[null,"2031ZB0065","จิดาภรการค้า",null,null,null,null,null,null,"1221","TESCO LOTUS EXPRESS","WAT KOO","วัดกู้","เลขที่ 46/2 หมู่ที่ 3 ตำบลบางพูด อำเภอปากเกร็ด นนทบุรี 11120","11120",null,"02-963-0359-61","00205","","","","ปทุมธานี"]
[null,"2031ZB0074","ต้อย สาย1",null,null,null,null,null,null,"1222","TESCO LOTUS EXPRESS","SOT TAKOB","ซอยตากบ","เลขที่ 1066 หมู่ที่ 3 ตำบลท้ายบ้านใหม่ อำเภอเมืองสมุทรปราการ สมุทรปราการ 10280","10280",null,"02-702-0781,02-702-0510,02-702-0781","00206","2005-12-24","","","สมุทรปราการ"]
[null,"2031ZB0077","พลบำรุง",null,null,null,null,null,null,"1223","TESCO LOTUS EXPRESS","YEESIB MITHUNA",null,null,null,"02-690-4632","02-690-4630","00207","","","",""]
[null,"2031ZB0078","สากล",null,null,null,null,null,null,"1224","TESCO LOTUS EXPRESS","BANGPOONAKORN","บางปูนคร","เลขที่ 212/20-22 หมู่ที่ 7 ตำบลบางปูใหม่ อำเภอเมืองสมุทรปราการ สมุทรปราการ 10280","10280",null,"02-707-9013-5","00208","2005-12-27","","","สมุทรปราการ"]
[null,"2031ZB0079","เจ๊ก จปร.",null,null,null,null,null,null,"1225","TESCO LOTUS EXPRESS","MOOBAN THIPPAWAN","หมู่บ้านทิพวัล","เลขที่ 420/197 หมู่ที่ 5 ตำบลเทพารักษ์ อำเภอเมืองสมุทรปราการ สมุทรปรากร 10270","10270",null,"02-7580676","00209","2005-12-27","","","สมุทรปราการ"]
[null,"2031ZB0080","ดีเจริญ",null,null,null,null,null,null,"1226","TESCO LOTUS EXPRESS","LUMLOOKKA KLONG 4","ลำลูกกา คลอง 4","เลขที่ 65 หมู่ที่ 4 ตำบลลาดสวาย อำเภอลำลูกกา ปทุมธานี 12150","12150",null,"02-9944422","00210","","","","ปทุมธานี"]
[null,"2031ZB0081","ติ๋ม",null,null,null,null,null,null,"1227","TESCO LOTUS EXPRESS","LUMLOOKKA KLONG 3","ลำลูกกา คลอง 3","เลขที่ 71/579 หมู่ที่ 7 ตำบลลาดสวาย อำเภอลำลูกกา จังหวัดปทุมธานี 12150","12150","02-994-4837","02-994-5362,5864","00211","","","","ปทุมธานี"]
[null,"2031ZB0083","จ๋า",null,null,null,null,null,null,"1228","TESCO LOTUS EXPRESS","RUNGSIT KLONG 3","รังสิต คลอง 3","เลขที่ 22/9 หมู่ที่ 2 ตำบลคลองสาม อำเภอคลองหลวง ปทุมธานี 12120","12120",null,"02-832-7291","00212","","","","ปทุมธานี"]
[null,"2031ZB0086","นิสา เทศยุคุณธร",null,null,null,null,null,null,"1229","TESCO LOTUS EXPRESS","MUANGTHONG PATTANAKARN","เมืองทอง พัฒนาการ","เลขที่ 189,191,193 ถนนพัฒนาการ แขวงประเวศ เขตประเวศ จังหวัดกรุงเทพมหานคร 10250","10250","02-722-3727","02-722-3726 , 722-3729","00213","","","","กรุงเทพ"]
[null,"2031ZC0001","ป้าปุ๋ย สนามกอล์ฟ จปร.",null,null,null,null,null,null,"1230","TESCO LOTUS EXPRESS","NUANCHAN","นวลจันทร์","เลขที่ 40/751 หมู่ที่ 10 แขวงคลองกุ่ม เขตบึงกุ่ม จังหวัดกรุงเทพมหานคร 10230","10230",null,"02-946-0391-3","00214","","","","กรุงเทพ"]
[null,"2031ZC0002","ศูนย์ฝึกอบรบเขาใหญ่",null,null,null,null,null,null,"1231","TESCO LOTUS EXPRESS","SOI RUNGPRAPA ( SH 179)","ซอยรุ่งประภา","เลขที่ 374 ถนนสิรินธร แขวงบางพลัด เขตบางพลัด กรุงเทพมหานคร  10700","10700",null,"02-881-2131-2,881-2135","00215","2006-01-28",24,"Shophouse","กรุงเทพฯ"]
[null,"2032Z20001","BJC",null,null,null,null,null,null,"1232","TESCO LOTUS EXPRESS","CHA-AM (SH94)",null,null,null,"032-433671","032-433671","00216","","","",""]
[null,"2032Z20002","DSST-นงลักษณ์-ไดเซล",null,null,null,null,null,null,"1233","TESCO LOTUS EXPRESS","SOI SAMER DAMAPONG (SA69)","ซอย เสมอ ดามาพงษ์","เลขที่ 18/4 หมู่ที่ 3 แขวงลาดพร้าว เขตลาดพร้าว กรุงเทพมหานคร 10230","10230",null,"02-932-8062-3","00217","","","","กรุงเทพ"]
[null,"2032Z20004","TRIX - ทริค",null,null,null,null,null,null,"1234","TESCO LOTUS EXPRESS","PHAHOLYOTHIN 34 (SA65)","พหลโยธิน 34","เลขที่ 1549/3 ซอยพหลโยธิน 34  แขวงเสนานิคม เขตจตุจักร กรุงเทพมหานคร 10900","10900",null,"02-941-5074-6","00218","","","","กรุงเทพ"]
[null,"2032Z20006","จัสมิน",null,null,null,null,null,null,"1235","TESCO LOTUS EXPRESS","PHETKASEM 33 (SH193)","เพชรเกษม 33 (ซอยวัดรางบัว)","เลขที่ 30,32,34,36 ซอยเพชรเกษม 33 แขวงบางหว้า เขตภาษีเจริญ กรุงเทพมหานคร 10160","10160",null,"02-8687267    ","00219","2006-01-31",24,"Shophouse","กรุงเทพฯ"]
[null,"2032Z20009","บ.ทอกระสอบ",null,null,null,null,null,null,"1236","TESCO LOTUS EXPRESS","LADPRAO 48 (SA 66)","ลาดพร้าว 48","เลขที่ 16/2 ซอยพิบูลอุปถัมภ์ แขวงสามเสนนอก เขตห้วยขวาง กรุงเทพมหานคร 10310","10310",null,"02-9398337-9","00220","","","","กรุงเทพ"]
[null,"2032Z20010","ทานะเบะ",null,null,null,null,null,null,"1237","TESCO LOTUS EXPRESS","VIDAPA PARK (SA 45)","วิดาภา ปาร์ค","เลขที่ 15/2 หมู่ 3 ตำบลพิมลราช อำเภอบางบัวทอง จังหวัดนนทบุรี 11110","11110","02-923-5071","02-923-6942","00221","","","","ปทุมธานี"]
[null,"2032Z20011","โพเทคทีฟ",null,null,null,null,null,null,"1238","TESCO LOTUS EXPRESS","VICHIANCHODOK (SH 221)"," วิเชียรโชฎก","1257/7-9 ถนนวิเชียรโชฎก ตำบลมหาชัย อำเภอเมืองสมุทรสาคร จังหวัดสมุทรสาคร 74000","74000",null,"034-820828-9,820830","00225","2006-07-03","","","สมุทรสาคร"]
[null,"2032Z20012","มิงโก้",null,null,null,null,null,null,"1239","TESCO LOTUS EXPRESS","RAMKAMHAENG UNIVERSITY 2(SH 217)","มหาวิทยาลัยรามคำแหง 2","เลขที่ 4/883-885 หมู่ที่ 8 แขวงดอกไม้ เขตประเวศ กรุงเทพมหานคร 10250","10250","02-751-7660","02-740-9714","00224","","","","กรุงเทพ"]
[null,"2032Z20013","แลคตาซอย",null,null,null,null,null,null,"1240","TESCO LOTUS EXPRESS","K - HA KLONGLUANG (SH 166)","เคหะคลองหลวง","เลขที่ 56/126-129 หมู่ 14 ตำบลคลองหนึ่ง อำเภอคลองหลวง จังหวัดปทุมธานี 12120","12120",null,"02-9086106","00226","","","","ปทุมธานี"]
[null,"2032Z20014","สยามยาชิโยะ",null,null,null,null,null,null,"1241","TESCO LOTUS EXPRESS","PHAHOLYOTHIN 58","พหลโยธิน 58","เลขที่ 315/12-14 หมู่ที่ 6 ซอยพหลโยธิน 58 แขวงสายไหม เขตสายไหม กรุงเทพมหานคร 10220","10220",null,"02-9936303-4,9936306","00234","","","","ปทุมธานี"]
[null,"2032Z20018","วัฒนาไพศาล",null,null,null,null,null,null,"1242","TESCO LOTUS EXPRESS","K- HA SAMUTPRAKARN (SH 226)","เคหะสมุทรปราการ","เลขที่ 1614/861-863 หมู่ที่ 6 ซอย 49 ตำบลท้ายบ้านใหม่ อำเภอเมืองสมุทรปราการ จังหวัดสมุทรปราการ 10280","10280",null,"02-7023489,7023499,7023500","00227","2006-03-06","","","สมุทรปราการ"]
[null,"2032Z20020","ซันโย 304",null,null,null,null,null,null,"1243","TESCO LOTUS EXPRESS","SOI MAIYARAP (SA 068)","ซอยมัยลาภ","เลขที่ 2/286 หมู่ที่ 9 แขวงท่าแร้ง เขตบางเขน กรุงเทพมหานคร 10230","10230","02-9436410","02-9436420","00229","","","","กรุงเทพ"]
[null,"2032Z20023","ยานากาวา",null,null,null,null,null,null,"1244","TESCO LOTUS EXPRESS","THE LOFT PLAZA","เดอะลอฟท์พลาซ่า","เลขที่ 707/1 ถนนประชาอุทิศ แขวงสามเสนนอก เขตห้วยขวาง กรุงเทพมหานคร 10320","10320","02-6906372","02-6906342","00236","","","",""]
[null,"2032Z20024","คูราชิกิสยามรับเบอร์",null,null,null,null,null,null,"1245","TESCO LOTUS EXPRESS","MOOBAN YOOSUK","หมู่บ้านอยู่สุข","เลขที่ 10,10/1-3 หมู่ที่ 7 ตำบลบางเมือง อำเภอเมืองสมุทรปราการ จังหวัดสมุทรปราการ 10270","10270",null,"02-7025094-6","00231","2006-03-27","","","สมุทรปราการ"]
[null,"2032Z20025","มาแทน สิทธิมงคล",null,null,null,null,null,null,"1246","TESCO LOTUS EXPRESS","RAMKAMHAENG 53","รามคำแหง 53","เลขที่ 515,515/1-3 ซอยลาดพร้าว 112 (เอี่ยมสมบูรณ์) แขวงวังทองหลาง เขตวังทองหลาง กรุงเทพมหานคร 10310","10310",null,"02-9319507-8,9319512","00232","","","","กรุงเทพ"]
[null,"2032Z20026","DAT",null,null,null,null,null,null,"1247","TESCO LOTUS EXPRESS","CP PARK LANE",null,null,null,"ปิด","ปิด","00237","","","",""]
[null,"2032Z20027","HONDA LOGISTICS",null,null,null,null,null,null,"1248","TESCO LOTUS EXPRESS","NONGPUENG",null,null,null,null,"053-801-666-8","00235","","","",""]
[null,"2032Z20028","สยามไอซิน 304",null,null,null,null,null,null,"1249","TESCO LOTUS EXPRESS","TEPARAK O/B(ESSO)","เทพารักษ์","เลขที่ 1852 หมู่ที่ 7 ตำบลเทพารักษ์ อำเภอเมืองสมุทรปราการ จังหวัดสมุทรปราการ 10270","10270","02-7596736","02-7596735","00233","2006-03-23","","","สมุทรปราการ"]
[null,"2032Z20029","ซันโย 304 (2)",null,null,null,null,null,null,"1250","TESCO LOTUS EXPRESS","TALAD PEAR-NONT","ตลาดเปียร์นนท์","เลขที่ 248,248/1-5 หมู่ที่ 3 ถนนประชาอุทิศ ตำบลคูคต อำเภอลำลูกกา จังหวัดปทุมธานี 12130","12130","02-991-0232","02-991-0231","00240","","","","ปทุมธานี"]
[null,"2032Z80001","เอฟเวอรี่เดย์มินิมาร์ท",null,null,null,null,null,null,"1251","TESCO LOTUS EXPRESS","PREMRUETHAI BANGNA",null,null,null,null,"02-7459170,7430180,7430104,7430010","00241","","","",""]
[null,"2032ZB0001","สามพี่น้อง แฟร์ แฟร์",null,null,null,null,null,null,"1252","TESCO LOTUS EXPRESS","LARDPRAO","ลาดพร้าว 18","เลขที่ 36/8 ซอยลาดพร้าว 18 แขวงจอมพล เขตจตุจักร กรุงเทพมหานคร 10900","10900",null,"02-9386027,9386195,9386322","00238","","","",""]
[null,"2032ZB0002","108 shop (วังสำราญ)",null,null,null,null,null,null,"1253","TESCO LOTUS EXPRESS","K-HA TUNGSONGHONG","เคหะทุ่งสองห้อง","เลขที่ 321/3-5 หมู่ที่ 2 แขวงทุ่งสองห้อง เขตหลักสี่ กรุงเทพมหานคร 10210","10210",null,"02-9822304-5,9823208","00242","","","","ปทุมธานี"]
[null,"2032ZB0003","ร้าน 108 Shop (นภาวีย์)",null,null,null,null,null,null,"1254","TESCO LOTUS EXPRESS","TALAD NIKOM BANGPOO",null,null,null,null,"02-7037335-6,7037010","00243","","","",""]
[null,"2032ZB0006","ข้าวหอม 304",null,null,null,null,null,null,"1255","TESCO LOTUS EXPRESS","RANGSIT O/B","รังสิต (ขาออก) ไทยสงวน","เลขที่ 293/10 หมู่ที่ 13 ถนนพหลโยธิน ตำบลคูคต อำเภอลำลูกกา จังหวัดปทุมธานี 12130","12130",null,"02-9901730,9921740-1","00244","","","","ปทุมธานี"]
[null,"2032ZB0008","ครัวคุณป้า",null,null,null,null,null,null,"1256","TESCO LOTUS EXPRESS","SATTHUPRADIT(ESSO)","สาธุประดิษฐ์","เลขที่ 617/3 ถนนสาธุประดิษฐ์ แขวงช่องนนทรี เขตยานนาวา กรุงเทพมหานคร 10120","10120",null,"02-6821037-9","00245","","","","กรุงเทพ"]
[null,"2032ZB0009","จันทร์",null,null,null,null,null,null,"1257","TESCO LOTUS EXPRESS","BANGPOO 91","บางปู 91","เลขที่ 209/385,386,387 หมู่ที่ 3 ซอยเทศบาลบางปู 91 ตำบลบางปูใหม่ อำเภอเมือง จังหวัดสมุทรปราการ 10280","10280",null,"02-7107600-2","00246","2006-05-18","","","สมุทรปราการ"]
[null,"2032ZB0010","ป้าจำเรียง",null,null,null,null,null,null,"1258","TESCO LOTUS EXPRESS","WAT SAMAR","วัดไทรม้า","เลขที่ 95/1-3 หมู่ที่ 4 ถนนรัตนาธิเบศร์ ตำบลไทรม้า อำเภอเมือง จังหวัดนนทบุรี 11000","11000",null,"02-9217005,9217072,9217082","00247","2006-05-19","","","นนทบุรี"]
[null,"2032ZB0013","ณิชาภัทร",null,null,null,null,null,null,"1259","TESCO LOTUS EXPRESS","RAMINDRA 39","รามอินทรา 39","เลขที่ 40/88 หมู่ที่ 4 ซอยรามอินทรา ถนนรามอินทรา แขวงอนุสาวรีย์ เขตบางเขน กรุงเทพมหานคร 10220","10220","02-9731631","02-9731630","00248","","","","กรุงเทพ"]
[null,"2032ZB0015","ดาบพิชัย",null,null,null,null,null,null,"1260","TESCO LOTUS EXPRESS","MOOBAN LIKIT","หมู่บ้านลิขิต","เลขที่ 128/14 หมู่ที่ 12 ตำบลบางพลีใหญ่ อำเภอบางพลี จังหวัดสมุทรปราการ 10540","10540","02-7511645","02-7511644","00249","2006-05-19","","","สมุทรปราการ"]
[null,"2032ZB0017","แตง",null,null,null,null,null,null,"1261","TESCO LOTUS EXPRESS","MOOBAN PRAPIN","หมู่บ้านพระปิ่น 5","เลขที่ 104/1373 หมู่ที่ 3 แขวงบางบอน เขตบางบอน กรุงเทพมหานคร  10150","10150",null,"02-8908467-8","00250","2006-05-27",24,"Shophouse","กรุงเทพฯ"]
[null,"2032ZB0018","ตี๋  เขาหินซ้อน",null,null,null,null,null,null,"1262","TESCO LOTUS EXPRESS","MOOBAN RINTHONG",null,null,null,null,"02-9954266-8","00251","","","",""]
[null,"2032ZB0019","ถูกใจ มินิมาร์ท",null,null,null,null,null,null,"1263","TESCO LOTUS EXPRESS","MOOBAN PONGSIRICHAI 4","หมู่บ้าน พงษ์ศิริชัย 4","เลขที่ 45/672,673,674 หมู่บ้านพงษ์ศิริชัย 4 หมู่ที่ 1 ถนนเพชรเกษม แขวงหนองค้างพลู เขตหนองแขม กรุงเทพมหานคร 10160","10160",null,"02-8123763-4,8123794","00252","2006-05-27",24,"Shophouse","กรุงเทพฯ"]
[null,"2032ZB0021","นก เขาหินซ้อน",null,null,null,null,null,null,"1264","TESCO LOTUS EXPRESS","KLONG PHAYOM",null,null,null,"035-218351","035-218292,218320","00253","","","",""]
[null,"2032ZB0024","นิด  บ้านกรุง",null,null,null,null,null,null,"1265","TESCO LOTUS EXPRESS","MOOBAN BUATHONG","หมู่บ้านบัวทอง 4","เลขที่ 178/528-530 หมู่ที่ 7 ตำบลพิมลราช อำเภอบางบัวทอง จังหวัดนนทบุรี 11110","11110",null,"02-8345128-30","00254","","","","ปทุมธานี"]
[null,"2032ZB0029","นิด (เขาหินซ้อน)",null,null,null,null,null,null,"1266","TESCO LOTUS EXPRESS","KLONG KAE","คลองแค","เลขที่ 21/69 หมู่ที่ 2 ตำบลอ้อมน้อย อำเภอกระทุ่มแบน จังหวัดสมุทรสาคร 74130","74130","02-8100720","02-8100719","00255","2006-06-08","","","สมุทรสาคร"]
[null,"2032ZB0031","น้ำแข็ง",null,null,null,null,null,null,"1267","TESCO LOTUS EXPRESS","WAT WERUWANARAM","วัดเวฬุวนาราม","เลขที่ 19/127-19/130 หมู่ที่ 5 ถนนสรงประภา แขวงสีกัน เขตดอนเมือง กรุงเทพมหานคร 10210","10210",null,"02-9285481-2,9285487","00258","","","","ปทุมธานี"]
[null,"2032ZB0033","บุญส่ง เขาหินซ้อน",null,null,null,null,null,null,"1268","TESCO LOTUS EXPRESS","LADPRAO80","ลาดพร้าว 80 ","เลขที่ 295/1 ซอยลาดพร้าว 80 แยก 11 ถนนลาดพร้าว แขวงวังทองหลาง เขตวังทองหลาง กรุงเทพมหานคร 10310","10310",null,"02-9326350,02-9326360-1","00275","","","","กรุงเทพ"]
[null,"2032ZB0034","บ้านเจียบ",null,null,null,null,null,null,"1269","TESCO LOTUS EXPRESS","RANGSIT KI.8",null,null,null,null,"02-9570817-9","00256","","","",""]
[null,"2032ZB0036","ปอ",null,null,null,null,null,null,"1270","TESCO LOTUS EXPRESS","SOI SANGHCHAN","ซอยแสงจันทร์ ","เลขที่ 434/13-15 ซอยแสงจันทร์ ถนนเจริญกรุง แขวงยานนาวา เขตสาธร กรุงเทพมหานคร 10120","10120",null,"02-6751313-5","00263","","","",""]
[null,"2032ZB0039","แม่แดง  เขาหินซ้อน",null,null,null,null,null,null,"1271","TESCO LOTUS EXPRESS","WAT KAO SUWANNARAM","วัดเกาะสุวรรณาราม","เลขที่ 201/779 หมู่ที่ 2 แขวงคลองถนน เขตสายไหม กรุงเทพมหานคร 10220","10220","02-9747406","02-9747405","00259","","","","กรุงเทพ"]
[null,"2032ZB0040","มนต์ทิพย์",null,null,null,null,null,null,"1272","TESCO LOTUS EXPRESS","TALAD KUNG NONT",null,null,null,null,"02-8842063-5","00260","","","",""]
[null,"2032ZB0042","สิริลักษณ์",null,null,null,null,null,null,"1273","TESCO LOTUS EXPRESS","SOI KRUNG THONBURI 6","ซอยกรุงธนบุรี 6 ","เลขที่ 318,320-322 ซอยกรุงธนบุรี 6 ถนนกรุงธนบุรี แขวงบางลำภูล่าง เขตคลองสาน กรุงเทพมหานคร 10600","10600","02-8609655","02-8609655,8609844,8607373","00261","2006-06-10",24,"Shophouse","กรุงเทพฯ"]
[null,"2032ZB0044","ลิ้ม",null,null,null,null,null,null,"1274","TESCO LOTUS EXPRESS","MOOBAN RATTANAKOSIN 200",null,null,null,null,"02-9582053-5","00264","","","",""]
[null,"2032ZB0047","วิรัตน์ (ระเบาะไผ่)",null,null,null,null,null,null,"1275","TESCO LOTUS EXPRESS","EGAT (POWER PLANT), BANGPAKONG","โรงไฟฟ้าบางปะกง","เลขที่ 84 หมู่ที่ 6 ตำบลท่าข้าม อำเภอบางปะกง จังหวัดฉะเชิงเทรา 24130","24130","038-828403","038-828402","00410","2007-04-30","","","ฉะเชิงเทรา"]
[null,"2032ZB0048","ศรีวิภา",null,null,null,null,null,null,"1276","TESCO LOTUS EXPRESS","SOI WAT MAPRAOTIER","ซอยวัดมะพร้าวเตี้ย","เลขที่ 40/36 หมู่ที่ 4 ซอยวัดมะพร้าวเตี้ย แขวงคลองขวาง เขตภาษีเจริญ กรุงเทพมหานคร 10160","10160",null,"02-8652834-5,02-8652843","00262","2006-06-23",24,"Shophouse","กรุงเทพฯ"]
[null,"2032ZB0050","สุพรรษา",null,null,null,null,null,null,"1277","TESCO LOTUS EXPRESS","SOI WATPRADOO PRACHARAT","ซอยวัดประดู่ ประชาราษฎร์","เลขที่ 1/56 หมู่ที่ 9 หมู่บ้านเขตเดิม แขวงบางซื่อ เขตบางซื่อ กรุงเทพมหานคร 10800","10800",null,"02-9123067-9","00265","","","","กรุงเทพ"]
[null,"2032ZB0051","สาวบิวตี้มาร์ท",null,null,null,null,null,null,"1278","TESCO LOTUS EXPRESS","RAMKAMHEANG","รามคำแหง 164","เลขที่ 50/1 ซอยรามคำแหง 164 แขวงมีนบุรี เขตมีนบุรี กรุงเทพมหานคร 10510","10510",null,"02-9174479-80","00273","","","","กรุงเทพ"]
[null,"2032ZB0054","สุดา",null,null,null,null,null,null,"1279","TESCO LOTUS EXPRESS","SOI KOSUM SAMUKKI 2","ซอยโกสุมสามัคคี 2","เลขที่ 7/6,8,10,12 หมู่ที่ 5 แขวงสีกัน เขตดอนเมือง กรุงเทพมหานคร 10210","10210",null,"02-9832063-5","00266","","","","ปทุมธานี"]
[null,"2032ZB0055","อารีย์",null,null,null,null,null,null,"1280","TESCO LOTUS EXPRESS","DP PLACE","ดีพี เพลส","เลขที่ 1164,1164/1 ซอยสุขุมวิท 101/1 แขวงบางจาก เขตพระโขนง กรุงเทพมหานคร 10260","10260",null,"02-7463607-5","00267","","","","กรุงเทพ"]
[null,"2032ZB0056","แอน เขาหินซ้อน",null,null,null,null,null,null,"1281","TESCO LOTUS EXPRESS","K-HA DONMUENG","เคหะดอนเมือง","เลขที่ 74/164 หมู่ที่ 4 แขวงสีกัน เขตดอนเมือง กรุงเทพมหานคร 10210","10210",null,"02-9282158-9 ,9282116","00269","","","","ปทุมธานี"]
[null,"2032ZB0057","อมร",null,null,null,null,null,null,"1282","TESCO LOTUS EXPRESS","MOOBAN THONGVIWAT","หมู่บ้านทองวิวัฒน์","เลขที่ 10/3-5 หมู่ที่ 3 ตำบลบางเมือง อำเภอเมืองสมุทรปราการ จังหวัดสมุทรปราการ 10270","10270",null,"02-7560850-1,7560861","00270","2006-07-06","","","สมุทรปราการ"]
[null,"2032ZB0058","ราชันย์",null,null,null,null,null,null,"1283","TESCO LOTUS EXPRESS","MOOBAN K-HA THANEE3","หมู่บ้านเคหะธานี 3","เลขที่ 72 ซอยนวมินทร์ 74 แยก 3 ถนนนวมินทร์ แขวงคันนายาว เขตคันนายาว กรุงเทพมหานคร 10230","10230","02-9477965","02-9477964","00271","","","","กรุงเทพ"]
[null,"2032ZB0059","88 ช้อป",null,null,null,null,null,null,"1284","TESCO LOTUS EXPRESS","SOI SUB BUN CHAI","ซอยทรัพย์บุญชัย","เลขที่ 100/374-7,100/374-8 หมู่ที่ 10 ตำบลบางเมือง อำเภอเมืองสมุทรปราการ จังหวัดสมุทรปราการ 10270","10270",null,"02-7030663-5","00272","2006-07-12","","","สมุทรปราการ"]
[null,"2032ZB0061","บุญรอง เพชรสง",null,null,null,null,null,null,"1285","TESCO LOTUS EXPRESS","MOOBAN SRIPHET","เพชรเกษม 106 (หมู่บ้านศรีเพชร)","เลขที่ 1011,1011/1-3 หมู่ที่ 7 ถนนเพชรเกษม แขวงหนองค้างพลู เขตหนองแขม กรุงเทพมหานคร 10160","10160",null,"02-8082100,8082102-3","00297","2006-09-06",24,"Shophouse","กรุงเทพฯ"]
[null,"2032ZB0062","ปริ้นมาร์ท",null,null,null,null,null,null,"1286","TESCO LOTUS EXPRESS","PAKNAM PRANBURI",null,null,null,null,"032-570267-9","00274","","","",""]
[null,"2032ZB0063","พัฒนาการเกษตร",null,null,null,null,null,null,"1287","TESCO LOTUS EXPRESS","BAN WONGWHANCHATCHAWAND",null,null,null,null,"02-8973540-2","00276","","","",""]
[null,"2032ZB0067","อมรรัตน์ มินิมาร์ท",null,null,null,null,null,null,"1288","TESCO LOTUS EXPRESS","TALAD WAT BUDDA","ตลาดวัดพุฒิ","เลขที่ 89/15 หมู่ที่ 1 ตำบลบางกร่าง อำเภอเมืองนนทบุรี จังหวัดนนทบุรี 11000","11000",null,"02-8829103,8829100-1","00277","2006-07-12","","","นนทบุรี"]
[null,"2032ZB0068","อรวรรณ ไพเราะ",null,null,null,null,null,null,"1289","TESCO LOTUS EXPRESS","BANGBON SOI 23","บางบอน ซอย 23","เลขที่ 50/320 หมู่ที่ 9 แขวงบางแค เขตบางแค กรุงเทพมหานคร 10160","10160","02-8032886","02-8032886","00278","2006-07-22",24,"Standalone","กรุงเทพฯ"]
[null,"2032ZB0070","ช่างโหนก",null,null,null,null,null,null,"1290","TESCO LOTUS EXPRESS","BAAN LAEM-PETCHBURI",null,null,null,"ปิด","ปิด","00279","","","",""]
[null,"2032ZB0073","ศรีรุ่งเรือง",null,null,null,null,null,null,"1291","TESCO LOTUS EXPRESS","PRACHUAB KIRIKHAN",null,null,null,null,"032-551072-4","00280","","","",""]
[null,"2032ZB0075","ส.สมบัติ",null,null,null,null,null,null,"1292","TESCO LOTUS EXPRESS","BAAN SA KAE NGAM 35/2","สะแกงาม 35/2","เลขที่ 9/174-176 หมู่ที่ 1 ถนนสะแกงาม แขวงแสมดำ เขตบางขุนเทียน กรุงเทพมหานคร 10150","10150","02-8970069","02-8970068","00320","2006-10-08",24,"Shophouse","กรุงเทพฯ"]
[null,"2032ZB0076","ป้าศรี (บ.โปร่งใหญ่)",null,null,null,null,null,null,"1293","TESCO LOTUS EXPRESS","SOI U DEE","ซอยอยู่ดี","เลขที่ 220/1 ซอยเจริญราษฎร์ 7 แยก 7(ฝั่งขวา) แขวงบางโคล่ เขตบางคอแหลม กรุงเทพมหานคร 10120","10120",null,"02-6897485-7","00281","","","","กรุงเทพ"]
[null,"2032ZB0079","คำหมุน นาดี",null,null,null,null,null,null,"1294","TESCO LOTUS EXPRESS","K-HA ROMKLAW 2",null,null,null,"ปิด","ปิด","00327","","","",""]
[null,"2032ZB0081","ลุงสุชาติ",null,null,null,null,null,null,"1295","TESCO LOTUS EXPRESS","K HA ROMKLAW 3","เคหะร่มเกล้า 3","เลขที่ 126/18-20 หมู่ที่ 4 แขวงคลองสองต้นนุ่น เขตลาดกระบัง กรุงเทพมหานคร 10520","10520","02-9150437","02-9150436","00338","","","","กรุงเทพ"]
[null,"2032ZB0082","สายทอง (โรจนะ)",null,null,null,null,null,null,"1296","TESCO LOTUS EXPRESS","SOI KAMNAN MAEN","ซอยกำนันแม้น","เลขที่ 85/325 หมู่ที่ 3 ซอยกำนันแม้น ถนนกำนันแม้น แขวงบางขุนเทียน เขตจอมทอง กรุงเทพมหานคร 10150","10150","02-8975079","02-8975078","00382","2007-02-22",24,"Standalone","กรุงเทพฯ"]
[null,"2032ZB0084","คาดหมาย แฟมิลี่",null,null,null,null,null,null,"1297","TESCO LOTUS EXPRESS","MOO BAAN S.K.","หมู่บ้าน S.K.","เลขที่ 40/237-240 หมู่ที่ 9 ถนนเอกชัย แขวงบางบอน เขตบางบอน กรุงเทพมหานคร 10150","10150","02-4171533","02-4171535","00326","2007-03-19",24,"Shophouse","กรุงเทพฯ"]
[null,"2032ZB0085","บุษกร",null,null,null,null,null,null,"1298","TESCO LOTUS EXPRESS","SUKHUMWIT 101/1","สุขุมวิท 101","เลขที่ 615 ซอยสุขุมวิท 101 ถนนสุขุมวิท แขวงบางจาก เขตพระโขนง กรุงเทพมหานคร 10260","10260","02-7305113","02-7305112","00325","","","","กรุงเทพ"]
[null,"2032ZB0088","นาถ",null,null,null,null,null,null,"1299","TESCO LOTUS EXPRESS","PHAHOLYOTHIN 54","พหลโยธิน 54","เลขที่ 351,351/1,447,447/1 หมู่ที่ 2 แขวงคลองถนน เขตสายไหม กรุงเทพมหานคร 10220","10220","02-9748171","02-9748170","00282","","","","กรุงเทพ"]
[null,"2032ZB0089","ปรัศนี พรมอินทร์",null,null,null,null,null,null,"1300","TESCO LOTUS EXPRESS","WAT VACHIRATUMSATID","ซอยสุขุมวิท 101/1","เลขที่ 1293/48-50 ซอยวชิรธรรมสาธิต 57 แขวงบางจาก เขตพระโขนง กรุงเทพมหานคร 10260","10260",null,"02-7463782-4","00284","","","","กรุงเทพ"]
[null,"2033Z10002","รร.ซับนกแก้ววิทยา",null,null,null,null,null,null,"1301","TESCO LOTUS EXPRESS","MOO BAAN PRUEKSA 3","หมู่บ้านพฤกษา 3 (ขาออก)","เลขที่ 12/4 หมู่ที่ 8 ตำบลบางคูรัด อำเภอบางบัวทอง จังหวัดนนทบุรี 11110","11110",null,"02-9560552,9634465,9634482","00285","","","","ปทุมธานี"]
[null,"2033Z20003","คุณนุช - รง.น้ำตาลวัฒนานคร",null,null,null,null,null,null,"1302","TESCO LOTUS EXPRESS","WAT CHALERMPRAKIAT","วัดเฉลิมพระเกียรติ","เลขที่ 89/890 หมู่ที่ 3 ถนนท่าน้ำนนท์-วัดโบสถ์ ตำบลบางศรีเมือง อำเภอเมือง จังหวัดนนทบุรี 11000","11000","02-8815160","02-8815098","00286","2006-08-20","","","นนทบุรี"]
[null,"2033Z20004","ศรีตัง",null,null,null,null,null,null,"1303","TESCO LOTUS EXPRESS","NONGKAE","หนองแค","เลขที่ 138,140,142 ถนนเศรษฐสัมพันธ์ ตำบลหนองแค อำเภอหนองแค จังหวัดสระบุรี 18140","18140","036-325745","036-325744-6","00287","","","","อยุธยา"]
[null,"2033Z20005","ไทยฟู้ดส์อาหารสัตว์",null,null,null,null,null,null,"1304","TESCO LOTUS EXPRESS","SOI NAWAMIN 163","ซอยนวมินทร์ 163","เลขที่ 38/1 ซอยนวมินทร์ 163 ถนนนวมินทร์ แขวงคันนายาว เขตคันนายาว กรุงเทพมหานคร 10230","10230","02-9442076","02-9442074","00288","","","","กรุงเทพ"]
[null,"2033Z30001","รพ.วัฒนา",null,null,null,null,null,null,"1305","TESCO LOTUS EXPRESS","PRANBURI",null,null,null,null,"032-540416-8","00289","","","",""]
[null,"2033Z30002","รพ.ค่ายสุรสิงห์",null,null,null,null,null,null,"1306","TESCO LOTUS EXPRESS","MOO BANN SINTHON","หมู่บ้านสินธร","เลขที่ 1070,1071,1072 หมู่ที่ 3 ตำบลบางพูน อำเภอเมืองปทุมธานี จังหวัดปทุมธานี 12000","12000",null,"02-9596515-7","00291","","","","ปทุมธานี"]
[null,"2033Z30003","สวัสดิการ รพ.สระแก้ว",null,null,null,null,null,null,"1307","TESCO LOTUS EXPRESS","WAT SRIWAREENOI",null,null,null,null,"02-7406095","00296","","","",""]
[null,"2033Z40001","ขนส่งสระแก้ว",null,null,null,null,null,null,"1308","TESCO LOTUS EXPRESS","SENA AYUTTHAYA","เสนา-อยุธยา","เลขที่ 408/1-4 ถนนวิไลเสนา (ก) ตำบลเสนา อำเภอเสนา จังหวัดพระนครศรีอยุธยา 13110","13110","035-217387","035-217386","00305","","","","อยุธยา"]
[null,"2033Z40002","มาลี เส็งเล็ก",null,null,null,null,null,null,"1309","TESCO LOTUS EXPRESS","KE HA KLONG","เคหะคลองจั่น","เลขที่ 1,3 ซอย 58 (การเคหะแห่งชาติ) แขวงคลองจั่น เขตบางกะปิ กรุงเทพมหานคร 10240","10240","02-7345862","02-7345861","00303","","","","กรุงเทพ"]
[null,"2033Z50001","ES  POWER**9",null,null,null,null,null,null,"1310","TESCO LOTUS EXPRESS","WAT DAN SAMRONG","วัดด่านสำโรง","เลขที่ 905-909 หมู่ที่ 10 ตำบลสำโรงเหนือ อำเภอเมืองสมุทรปราการ จังหวัดสมุทรปราการ 10270","10270","02-7590243 ","02-7590242-4","00294","2006-08-31","","","สมุทรปราการ"]
[null,"2033Z50002","PT",null,null,null,null,null,null,"1311","TESCO LOTUS EXPRESS","LADPRAO 87","ลาดพร้าว 87","เลขที่ 285,285/1,285/2-3 ซอยลาดพร้าว 87 (จันทราสุข) ถนนลาดพร้าว แขวงวังทองหลาง เขตวังทองหลาง กรุงเทพมหานคร 10310","10310","02-9321067","02-9321066","00292","","","","กรุงเทพ"]
[null,"2033Z50004","จุ๋ม โดนใจ",null,null,null,null,null,null,"1312","TESCO LOTUS EXPRESS","SOI PHAHOL 52","พหลโยธิน 52","เลขที่ 139/146-148 หมู่ที่ 4 ซอยพหลโยธิน 52 ถนนพหลโยธิน แขวงคลองถนน เขตสายไหม กรุงเทพมหานคร 10220","10220","02-9726046","02-9726045","00295","","","","กรุงเทพ"]
[null,"2033Z50005","ซัสโก้-อรัญ",null,null,null,null,null,null,"1313","TESCO LOTUS EXPRESS","PRACHASONGKRAO 14","ประชาสงเคราะห์ 14","เลขที่ 136 ซอยผาสุก แขวงดินแดง เขตดินแดง กรุงเทพมหานคร 10400","10400","02-6406324","02-6406323","00298","","","","กรุงเทพ"]
[null,"2033Z50006","ใบจากมาร์ท",null,null,null,null,null,null,"1314","TESCO LOTUS EXPRESS","SERITHAI 41","ซอยเสรีไทย 41","เลขที่ 48/771 หมู่ที่ 4 แขวงคลองกุ่ม เขตบึงกุ่ม กรุงเทพมหานคร 10240","10240","02-3646766","02-3646765","00299","","","","กรุงเทพ"]
[null,"2033Z50009","หจก.เคพีพี เอนกบุญย์ ปิโตรเลียม",null,null,null,null,null,null,"1315","TESCO LOTUS EXPRESS","CHANG - AKART UTIT SOI 3","ช่างอากาศอุทิศ ซอย 3","เลขที่ 160/300-302 หมู่ที่ 1 ถนนช่างอากาศอุทิศ แขวงสีกัน เขตดอนเมือง กรุงเทพมหานคร 10210","10210","02-9294983","02-9294982","00301","","","","ปทุมธานี"]
[null,"2033Z50010","ส.เสาวคนธ์",null,null,null,null,null,null,"1316","TESCO LOTUS EXPRESS","SUKSAWAT 78","สุขสวัสดิ์ 78","เลขที่ 125/2 หมู่ที่ 8 ซอยสุขสวัสดิ์ 78 ถนนสุขสวัสดิ์ ตำบลบางจาก อำเภอพระประแดง จังหวัดสมุทรปราการ 10130","10130",null,"02-8161631","00307","2006-09-21",18,"Standalone","สมุทรปราการ"]
[null,"2033Z70001","ทาร์ม",null,null,null,null,null,null,"1317","TESCO LOTUS EXPRESS","MOO BAAN FEUNGFA","หมู่บ้านเฟื่องฟ้า","เลขที่ 2195 หมู่ที่ 6 ซอยเจริญใจ ถนนเทพารักษ์ ตำบลเทพารักษ์ อำเภอเมืองสมุทรปราการ จังหวัดสมุทรปราการ 10270","10270","02-7596447","02-7596414","00308","2006-09-22","","","สมุทรปราการ"]
[null,"2033Z70002","จสอ.ประยงค์ (กองกำลังบูรพา)",null,null,null,null,null,null,"1318","TESCO LOTUS EXPRESS","SOI KHUN PRA-PHAHOLYOTHIN","ซอยคุณพระ-พหลโยธิน","เลขที่ 29/176 หมู่ที่ 6 ซอยคุณพระ ถนนพหลโยธิน ตำบลคลองหนึ่ง อำเภอคลองหลวง จังหวัดปทุมธานี 10120","10120","02-9017183","02-9017182","00309","","","","ปทุมธานี"]
[null,"2033Z70004","สมาคม",null,null,null,null,null,null,"1319","TESCO LOTUS EXPRESS","SOI NORI BANGPOO","ซอยโนรี บางปู","เลขที่ 1599/41,43,45 หมู่ที่ 6 ตำบลท้ายบ้านใหม่ อำเภอเมืองสมุทรปราการ จังหวัดสมุทรปราการ 10280","10280","02-7020308","02-7020307-9","00306","2006-10-27","","","สมุทรปราการ"]
[null,"2033Z70005","สอ.สามารถ",null,null,null,null,null,null,"1320","TESCO LOTUS EXPRESS","SUKSAN 6","สุขสันต์ 6","เลขที่ 9/48-50 หมู่ที่ 7 แขวงบางแค เขตบางแค กรุงเทพมหานคร 10160","10160","02-8035861","02-8035860","00311","2006-09-30",24,"Shophouse","กรุงเทพฯ"]
[null,"2033ZB0001","ลุงแดง",null,null,null,null,null,null,"1321","TESCO LOTUS EXPRESS","KUI BURI PRACHUAB",null,null,null,"032-577127","032-577126","00314","","","",""]
[null,"2033ZB0002","108 SHOPสระแก้ว",null,null,null,null,null,null,"1322","TESCO LOTUS EXPRESS","WAT CHANG KHIAN",null,null,null,"053-893252","053-893250","00317","","","",""]
[null,"2033ZB0003","SRI MINIMART",null,null,null,null,null,null,"1323","TESCO LOTUS EXPRESS","MOO BAAN PRAPA NAKHON","หมู่บ้านประปานคร","เลขที่ 62,64,66 ถนนนาสร้าง ตำบลนครปฐม อำเภอเมืองนครปฐม จังหวัดนครปฐม 73000","73000","034-216370","034-216369","00312","2008-05-31","","","นครปฐม"]
[null,"2033ZB0006","เขียด",null,null,null,null,null,null,"1324","TESCO LOTUS EXPRESS","WAT KAN KAM AYUTTHAYA","วัดคานหาม-อยุธยา","เลขที่ 25/6 หมู่ที่ 4 ตำบลคานหาม อำเภออุทัย จังหวัดพระนครศรีอยุธยา 13210","13210","035-719594","035-719593","00313","","","","อยุธยา"]
[null,"2033ZB0007","ชายไผ่ 2",null,null,null,null,null,null,"1325","TESCO LOTUS EXPRESS","MOO BAAN PREM PREE RANGSIT KLONG 2","หมู่บ้านเปรมปรีดิ์ รังสิตคลอง 2","เลขที่ 70/812,813 หมู่ที่ 5 ถนนรังสิต-นครนายก ตำบลประชาธิปัตย์ อำเภอธัญบุรี จังหวัดปทุมธานี 12130","12130","02-9741231","02-9741710 , 02-9741320","00315","","","","ปทุมธานี"]
[null,"2033ZB0008","ชาตรี",null,null,null,null,null,null,"1326","TESCO LOTUS EXPRESS","SOI NHAMDAENG","ซอยหนามแดง","เลขที่ 19/49 หมู่ที่ 2 ตำบลบางแก้ว อำเภอบางพลี จังหวัดสมุทรปราการ 10540","10540","02-7535971","02-7535671","00440","2007-08-31","","","สมุทรปราการ"]
[null,"2033ZB0009","ช่วย",null,null,null,null,null,null,"1327","TESCO LOTUS EXPRESS","SOI BUAKLAW","ซอยบัวแก้ว","เลขที่ 17/5-7 หมู่ที่ 12 ตำบลบางพลีใหญ่ อำเภอบางพลี จังหวัดสมุทรปราการ 10540","10540","02-8970069","02-7307309","00321","2006-10-08","","","สมุทรปราการ"]
[null,"2033ZB0010","เชียร",null,null,null,null,null,null,"1328","TESCO LOTUS EXPRESS","MOO BAAN PISAN","หมู่บ้านพิศาล","เลขที่ 99/800-802 หมู่บ้านพิศาลแลนด์ หมู่ที่ 7 ถนนท่าข้าม แขวงแสมดำ เขตบางขุนเทียน กรุงเทพมหานคร 10150","10150","02-4179023","02-4179022","00323","2006-10-08",18,"Shophouse","กรุงเทพฯ"]
[null,"2033ZB0012","ต้นสน",null,null,null,null,null,null,"1329","TESCO LOTUS EXPRESS","MAE RIM - CHIANG MAI",null,null,null,"053-863147","053-863145","00324","","","",""]
[null,"2033ZB0013","ถวิล",null,null,null,null,null,null,"1330","TESCO LOTUS EXPRESS","WAT KAE","วัดแค","เลขที่ 62/5-8 หมู่ที่ 2 ถนนสุขสวัสดิ์ ตำบลในคลองบางปลากด อำเภอพระสมุทรเจดีย์ จังหวัดสมุทรปราการ 10290","10290","02-8154078","02-8154077","00322","2006-10-14",18,"Shophouse","สมุทรปราการ"]
[null,"2033ZB0014","ธัญญาทิพย์",null,null,null,null,null,null,"1331","TESCO LOTUS EXPRESS","TALAD NIKOM LADKRABANG",null,null,null,"02-7372198","02-7372197","00328","","","",""]
[null,"2033ZB0015","นวลจันทร์",null,null,null,null,null,null,"1332","TESCO LOTUS EXPRESS","TEPKHUNCHOM 31","เทพกุญชร 30","เลขที่ 89/25 หมู่ที่ 12 ซอยเทพกุญชร 30 ถนนเทพกุญชร 1 ตำบลคลองหนึ่ง อำเภอคลองหลวง จังหวัดปทุมธานี 12120","12120","02-9084292","02-9084291","00329","","","","ปทุมธานี"]
[null,"2033ZB0016","นก",null,null,null,null,null,null,"1333","TESCO LOTUS EXPRESS","SALAYA 1","ศาลายา 1","เลขที่ 73/63 หมู่ที่ 5 ตำบลศาลายา อำเภอพุทธมณฑล จังหวัดนครปฐม 73170","73170","02-8893431","02-8893497","00330","2006-11-10","","","นครปฐม"]
[null,"2033ZB0017","บี",null,null,null,null,null,null,"1334","TESCO LOTUS EXPRESS","WANGNOI","วังน้อย","เลขที่ 16/1 หมู่ที่ 7 ถนนโรจนะฝั่งขวา ตำบลลำไทร อำเภอวังน้อย จังหวัดพระนครศรีอยุธยา 13170","13170","035-215273","035-215271","00332","","","","อยุธยา"]
[null,"2033ZB0018","บุ๋ม",null,null,null,null,null,null,"1335","TESCO LOTUS EXPRESS","BUATHONG KEHA","บัวทองเคหะ","เลขที่ 5/100 หมู่ที่ 1 ตำบลบางบัวทอง อำเภอบางบัวทอง จังหวัดนนทบุรี 11110","11110","02-925-9769","02-925-9768","00331","","","","ปทุมธานี"]
[null,"2033ZB0019","บุษบา มินิมาร์ท",null,null,null,null,null,null,"1336","TESCO LOTUS EXPRESS","MOO BAAN SUBYUNGYEUN","หมู่บ้านทรัพย์ยั่งยืน","เลขที่ 39/12-14 หมู่ที่ 6 ถนนประดิษฐ์สโมสร ตำบลบางเมืองใหม่ อำเภอเมืองสมุทรปราการ จังหวัดสมุทรปราการ 10270","10270","02-758-0807","02-758-0802","00337","2006-11-04","","","สมุทรปราการ"]
[null,"2033ZB0021","พรทิพย์",null,null,null,null,null,null,"1337","TESCO LOTUS EXPRESS","SARAPEE CHIENGMAI",null,null,null,"053-423907","053-423901","00333","","","",""]
[null,"2033ZB0023","มากบุญ",null,null,null,null,null,null,"1338","TESCO LOTUS EXPRESS","RAMKHAMHAENG 50","รามคำแหง 50","เลขที่ 31/1 ซอยรามคำแหง 50 (สหกรณ์ 1) ถนนรามคำแหง แขวงหัวหมาก เขตบางกะปิ กรุงเทพมหานคร 10240","10240","02-732-3513","02-732-3512","00334","","","","กรุงเทพ"]
[null,"2033ZB0024","แมว",null,null,null,null,null,null,"1339","TESCO LOTUS EXPRESS","THAHARN BOK ROAD 2","ถนนทหารบก 2","เลขที่ 6,8,10 ถนนถวิลราษฎรบูรณะ ตำบลบ่อพลับ อำเภอเมืองนครปฐม จังหวัดนครปฐม 73000","73000","034-216436","034-216435","00340","2009-10-16","","","นครปฐม"]
[null,"2033ZB0025","มณีรัตน์ การเกษตร",null,null,null,null,null,null,"1340","TESCO LOTUS EXPRESS","BAN FAH RANGSIT KLONG 4","บ้านฟ้ารังสิตคลอง 4","เลขที่ 68/10 หมู่ที่ 3 ถนนรังสิต-นครนายก ตำบลบึงยี่โถ อำเภอธัญบุรี จังหวัดปทุมานี 12130","12130","02-9577700","02-9577662","00341","","","","ปทุมธานี"]
[null,"2033ZB0028","สุมิตร",null,null,null,null,null,null,"1341","TESCO LOTUS EXPRESS","K HA ROMKLAO",null,null,null,"02-9424015","02-9424013","00339","","","",""]
[null,"2033ZB0029","สุดารัตน์",null,null,null,null,null,null,"1342","TESCO LOTUS EXPRESS","WAT CHINWANARAM",null,null,null,"02-9752601","02-9752600","00343","","","",""]
[null,"2033ZB0031","หน่อย วัฒนา",null,null,null,null,null,null,"1343","TESCO LOTUS EXPRESS","RAMKHAMHAENG 190","รามคำแหง 190","เลขที่ 132,134,136 ถนนรามคำแหง แขวงมีนบุรี เขตมีนบุรี กรุงเทพมหานคร 10510","10510","02-9163807","02-9163806","00344","","","","กรุงเทพ"]
[null,"2033ZB0032","หมวย (ห้วยโจด)",null,null,null,null,null,null,"1344","TESCO LOTUS EXPRESS","PRATUNAM PRA-IN","ประตูน้ำพระอินทร์","เลขที่ 92/121 หมู่ที่ 7 ตำบลเชียงรากน้อย อำเภอบางปะอิน จังหวัดพระนครศรีอยุธยา 13180","13180","035-218792","035-218791-3","00353","","","","อยุธยา"]
[null,"2033ZB0033","อำพันธ์",null,null,null,null,null,null,"1345","TESCO LOTUS EXPRESS","PRAYAD AYUDTHAYA",null,null,null,"035-213422","035-213421","00346","","","",""]
[null,"2033ZB0035","อ๋อย",null,null,null,null,null,null,"1346","TESCO LOTUS EXPRESS","THAN PETCH PRATUM PLAZA","ฐานเพชร ปทุมพลาซ่า","เลขที่ 99/10 หมู่ที่ 5 ตำบลบ้านใหม่ อำเภอเมืองปทุมธานี จังหวัดปทุมธานี 12000","12000","02-9636291","02-9636290","00347","","","","ปทุมธานี"]
[null,"2033ZB0036","แอ๋ว  (ท่าข้าม)",null,null,null,null,null,null,"1347","TESCO LOTUS EXPRESS","SINTIVATHANI","หมู่บ้านสินทิวาธานี","เลขที่ 394,394/1-3 หมู่ที่ 2 ถนนโรจนะ ตำบลสามเรือน อำเภอบางปะอิน จังหวัดพระนครศรีอยุธยา 13160","13160","035-227129","035-227127","00348","","","","อยุธยา"]
[null,"2033ZB0037","คำพอง",null,null,null,null,null,null,"1348","TESCO LOTUS EXPRESS","LUNG PUD","ตลาดลุงพุฒ","เลขที่ 1118/1 หมู่ที่ 3 ถนนเทพารักษ์ ตำบลเทพารักษ์ อำเภอเมืองสมุทรปราการ จังหวัดสมุทรปราการ 10270","10270","02-7530799","02-7530798","00351","2006-11-30","","","สมุทรปราการ"]
[null,"2033ZB0038","งามวงษ์พาณิชย์",null,null,null,null,null,null,"1349","TESCO LOTUS EXPRESS","BANGWUA BANGPAKONG","บางวัว บางปะกง","เลขที่ 1/17-19 หมู่ที่ 14 ตำบลบางวัว อำเภอบางปะกง จังหวัดฉะเชิงเทรา 24180","24180","038-840916","038-840915","00356","2007-02-16","","","ฉะเชิงเทรา"]
[null,"2033ZB0039","จิตร-บ้านสวน",null,null,null,null,null,null,"1350","TESCO LOTUS EXPRESS","AYUTTHAYA","โรงพยาบาลอยุธยา 1","เลขที่ 20/20 หมู่ที่ 4 ตำบลประตูชัย อำเภอพระนครศรีอยุธยา จังหวัดพระนครศรีอยุธยา 13000","13000","035-211771","035-211770","00350","","","",""]
[null,"2033ZB0040","สายยู",null,null,null,null,null,null,"1351","TESCO LOTUS EXPRESS","MOO BAAN POONSINTHANI 1","หมู่บ้านพูนสินธานี 1","เลขที่ 76/53-56 หมู่ที่ 3 แขวงคลองสองต้นนุ่น เขตลาดกระบัง กรุงเทพมหานคร 10520","10520","02-9183619","02-9183618","00336","","","","กรุงเทพ"]
[null,"2033ZB0042","อดิเรก",null,null,null,null,null,null,"1352","TESCO LOTUS EXPRESS","SOI TIWANON 38","ซอยติวานนท์ 38","เลขที่ 160/1 ซอยติวานนท์ 38 ถนนติวานนท์ ตำบลท่าทราย อำเภอเมืองนนทบุรี จังหวัดนนทบุรี 11000","11000","02-9686985","02-9686984","00349","","","","กรุงเทพ"]
[null,"2033ZB0049","เรณู",null,null,null,null,null,null,"1353","TESCO LOTUS EXPRESS","PRACHAUTIT 23",null,null,null,"02-8708021","02-8708020","00357","","","",""]
[null,"2033ZB0050","ชัญญาภัค",null,null,null,null,null,null,"1354","TESCO LOTUS EXPRESS","PAMOK ANGTHONG","ป่าโมก อ่างทอง","เลขที่ 944/ข หมู่ที่ 2 ตำบลป่าโมก อำเภอป่าโมก จังหวัดอ่างทอง 14130","14130","035-623394","035-623188","00352","","","","อยุธยา"]
[null,"2033ZB0051","อ้อยใจ",null,null,null,null,null,null,"1355","TESCO LOTUS EXPRESS","PHETCHAKASEM 110 YAK 6","เพชรเกษม 110 แยก 6","เลขที่ 47/9 หมู่ที่ 3 แขวงหนองค้างพลู เขตหนองแขม กรุงเทพมหานคร 10160","10160","02-8090807","02-8090806","00354","2007-02-13",24,"Standalone","กรุงเทพฯ"]
[null,"2033ZB0052","ประพิศ แผ่วตะพุ",null,null,null,null,null,null,"1356","TESCO LOTUS EXPRESS","PRATUCHAI AYUTTAYA","ประตูชัย อยุธยา","เลขที่ 16/7 หมู่ที่ 2 ถนนอู่ทอง ตำบลท่าวาสุกรี อำเภอพระนครศรีอยุธยา จังหวัดพระนครศรีอยุธยา 13000","13000","035-232878","035-232796","00358","","","","อยุธยา"]
[null,"2033ZB0053","สุวิทย์ เรืองกล้า",null,null,null,null,null,null,"1357","TESCO LOTUS EXPRESS","WAT LAO","วัดเลา","เลขที่ 27/39-41 หมู่ที่ 1 ซอยพระรามที่ 2 ซอย 51 ถนนพระรามที่ 2 แขวงท่าข้าม เขตบางขุนเทียน กรุงเทพมหานคร 10150","10150","02-8965954","02-8965953","00359","2006-11-30",16.5,"Shophouse","กรุงเทพฯ"]
[null,"2033ZB0055","T.STORE (ทีสโตร์)",null,null,null,null,null,null,"1358","TESCO LOTUS EXPRESS","SUANMAHAWONG",null,null,null,"02-7484819","02-7484817-8","00360","","","",""]
[null,"2033ZB0057","น้องว่านมินิมาร์ท",null,null,null,null,null,null,"1359","TESCO LOTUS EXPRESS","MOO BAN RINTHONG","หมู่บ้านรินทร์ทอง (สุขุมวิท 115)","เลขที่ 1596 หมู่ที่ 4 ซอยอภิชาติ ถนนสุขุมวิท115 ตำบลเทพารักษ์ อำเภอเมืองสมุทรปราการ จังหวัดสมุทรปราการ 10270","10270","02-7576114","02-7576113","00361","2010-03-19","","","สมุทรปราการ"]
[null,"2033ZB0058","สมส่วน",null,null,null,null,null,null,"1360","TESCO LOTUS EXPRESS","K HA BANGBUATHONG","เคหะบางบัวทอง ","เลขที่ 306/8-10 หมู่ที่ 2 ถนนบางกรวย-ไทรน้อย ตำบลบางบัวทอง อำเภอบางบัวทอง จังหวัดนนทบุรี  11110","11110","02-9231342","02-9231343","00362","","","","ปทุมธานี"]
[null,"2033ZB0060","จรัญญา พงษ์พันธุ์",null,null,null,null,null,null,"1361","TESCO LOTUS EXPRESS","SUKSAWAT 38","สุขสวัสดิ์ 38","เลขที่ 118 หมู่ 6 ซอยสุขสวัสดิ์38 ถนนสุขสวัสดิ์ แขวงบางปะกอก เขตราษฎร์บูรณะ กรุงเทพมหานคร 10140","10140","02-8711867","02-8711865-6","00375","2007-02-18",24,"Standalone","กรุงเทพฯ"]
[null,"2033ZB0061","แดง-บ้านด่าน",null,null,null,null,null,null,"1362","TESCO LOTUS EXPRESS","SOI MUNGKORN TERARAK ROAD","ซอยมังกร ","เลขที่ 450/10-13 หมู่ที่ 1 ซอยมังกร-ขันดี ถนนเทพารักษ์ ตำบลแพรกษาใหม่ อำเภอเมืองสมุทรปราการ จังหวัดสมุทรปราการ 10280","10280","02-7575905","02-7575904","00389","2007-03-20","","","สมุทรปราการ"]
[null,"2033ZB0062","ละออ",null,null,null,null,null,null,"1363","TESCO LOTUS EXPRESS","PAHOLYOTHIN 62","พหลโยธิน 62","เลขที่ 676/7-9 หมู่ที่ 4 ซอยพหลโยธิน 62 ถนนพหลโยธิน ตำบลคูคต อำเภอลำลูกกา จังหวัดปทุมธานี 12130","12130","02-9937023","02-9937022","00390","","","","ปทุมธานี"]
[null,"2033ZC0001","Crow quty free",null,null,null,null,null,null,"1364","TESCO LOTUS EXPRESS","PRACHA U - TIT 33 YAK 7","ประชาอุทิศ 33 แยก 7","เลขที่ 62 ซอยประชาอุทิศ 33 แยก 7 ถนนประชาอุทิศ แขวงบางมด เขตทุ่งครุ กรุงเทพมหานคร 10140","10140","02-8732068","02-8732067","00391","2007-03-20",24,"Shophouse","กรุงเทพฯ"]
[null,"2033ZC0003","MPL มาร์ท",null,null,null,null,null,null,"1365","TESCO LOTUS EXPRESS","WAT PRAI FAH, PHATHUMTHANI","วัดไพร่ฟ้า ปทุมธานี","เลขที่ 111/27-29 หมู่ที่ 5 ตำบลบางเดื่อ อำเภอเมืองปทุมธานี จังหวัดปทุมธานี 12000","12000","02-9783787","02-9783786","00392","","","","ปทุมธานี"]
[null,"2033ZC0004","ดาว (ตลาดเขมร)",null,null,null,null,null,null,"1366","TESCO LOTUS EXPRESS","PRACHASAMAKKE RD.","ถนนประชาสามัคคี, ประชาอุทิศ","เลขที่ 312/5 หมู่ที่ 10 ตำบลในคลองบางปลากด อำเภอพระสมุทรเจดีย์ จังหวัดสมุทรปราการ 10290","10290","02-4617442","02-4617440","00363","2007-02-21",24,"Standalone","สมุทรปราการ"]
[null,"2033ZC0005","ระที",null,null,null,null,null,null,"1367","TESCO LOTUS EXPRESS","MOOBAN WARANGKUL","หมู่บ้านวรางกูล","เลขที่ 26/429 หมู่ที่ 10 ตำบลลาดสวาย อำเภอลำลูกกา จังหวัดปทุมธานี 12150","12150","02-1523163","02-1523161","00364","","","","ปทุมธานี"]
[null,"2033ZC0006","หมวย",null,null,null,null,null,null,"1368","TESCO LOTUS EXPRESS","LEAB KLONG SEE WAH","เลียบคลองสี่วา","เลขที่ 8/4-7 หมู่ที่ 6 ตำบลคอกกระบือ อำเภอเมืองสมุทรสาคร จังหวัดสมุทรสาคร 74000","74000","034-832498","034-832497","00405","","","",""]
[null,"2033ZC0007","อ้วน",null,null,null,null,null,null,"1369","TESCO LOTUS EXPRESS","MOO BAAN SIRISUK","หมู่บ้านศิริสุข ","เลขที่ 99/9 หมู่ที่ 7 ถนนกาญจนาภิเษก แขวงบางแค เขตบางแค กรุงเทพมหานคร 10160","10160","02-8027771","02-8027770","00373","2007-02-17",24,"Standalone","กรุงเทพฯ"]
[null,"2033ZC0010","Crow quty free 2",null,null,null,null,null,null,"1370","TESCO LOTUS EXPRESS","K-HA BANGCHALONG","เคหะบางโฉลง","เลขที่ 90/9 หมู่ที่ 1 ซอยแสนสุข ถนนบางนา-ตราด ตำบลบางโฉลง อำเภอบางพลี จังหวัดสมุทรปราการ 10540","10540","02-7508562","02-7508561","00424","2007-07-18","","","สมุทรปราการ"]
[null,"2033ZC0011","Crow quty free 3",null,null,null,null,null,null,"1371","TESCO LOTUS EXPRESS","PHHOLYATIN 48","พหลโยธิน 48","เลขที่ 40/340 หมู่ที่ 3 ถนนพหลโยธิน แขวงอนุเสาวรีย์ เขตบางเขน กรุงเทพมหานคร 10220","10220","02-9712583","02-9712582","00374","","","","กรุงเทพ"]
[null,"2033ZC0012","อาด (เขมร)",null,null,null,null,null,null,"1372","TESCO LOTUS EXPRESS","AMATA NAKORN 1",null,null,null,"038-717208","038-717207","00403","","","",""]
[null,"2033ZC0013","เจีย (เขมร)",null,null,null,null,null,null,"1373","TESCO LOTUS EXPRESS","PHAHOLYOTHIN 54/1 (MOO BAAN MARAUY)","พหลโยธิน 54/1 (หมู่บ้านมารวย 2)","เลขที่ 89/9-11 หมู่ที่ 7 ซอยพหลโยธิน54/1 ถนนพหลโยธิน แขวงสายไหม เขตสายไหม กรุงเทพมหานคร 10220","10220","02-9749038","02-9749037","00409","","","","กรุงเทพ"]
[null,"2033ZC0014","ดำ (เขมร)",null,null,null,null,null,null,"1374","TESCO LOTUS EXPRESS","SOI PHUMJIT","ซอยภูมิจิตร","เลขที่ 89/10-13 ซอยสุขุมวิท46 ถนนสุขุมวิท แขวงพระโขนง เขตคลองเตย กรุงเทพมหานคร 10110","10110","02-7136759","02-7136756","00398","","","","กรุงเทพ"]
[null,"2033ZC0015","Crow quty free 4",null,null,null,null,null,null,"1375","TESCO LOTUS EXPRESS","TALAD WAT LANG BANGPRAKONG","วัดล่าง บางปะกง","เลขที่ 238/1-2 หมู่ที่ 10 ถนนสุขุมวิทสายเก่า ตำบลบางปะกง อำเภอบางปะกง จังหวัดฉะเชิงเทรา 24130","24130","038-832142","038-832122","00376","2007-03-09","","","ฉะเชิงเทรา"]
[null,"2034Z10003","วิทยาลัยการอาชีพพนัสนิคม",null,null,null,null,null,null,"1376","TESCO LOTUS EXPRESS","PRARAM 2 SOI 42","พระราม 2 ซอย 42","เลขที่ 19/179,19/180,19/181,19/182 หมู่ที่ 10 แขวงบางมด เขตจอมทอง กรุงเทพมหานคร 10150","10150","02-8983124","02-8983124","00377","2007-02-19",24,"Shophouse","กรุงเทพฯ"]
[null,"2034Z20001","ENDO",null,null,null,null,null,null,"1377","TESCO LOTUS EXPRESS","LADPRAO 71","ลาดพร้าว 71","เลขที่ 33/143 หมู่ที่ 6 ซอยนกแก้วน้อย1 ถนนนาคนิวาส แขวงลาดพร้าว เขตลาดพร้าว กรุงเทพมหานคร 10230","10230","02-9324834","02-9324830","00378","","","","กรุงเทพ"]
[null,"2034Z20002","ISUZU",null,null,null,null,null,null,"1378","TESCO LOTUS EXPRESS","RANGSIT KLONG 8","รังสิต คลอง 8 (หมู่บ้านเจริญลาภ)","เลขที่ 11/10 หมุ่ที่ 3 ถนนรังสิต-นครนายก ตำบลลำผักกูด อำเภอธัญบุรี จังหวัดปทุมธานี 12110","12110","02-9052316","02-9052315","00379","","","","ปทุมธานี"]
[null,"2034Z20003","IWCT",null,null,null,null,null,null,"1379","TESCO LOTUS EXPRESS","TEDSABAN SAINOI","เทศบาลไทรน้อย","เลขที่ 11/19-21 หมู่ที่ 1 ตำบลคลองขวาง อำเภอไทรน้อย จังหวัดนนทบุรี 11150","11150","02-9224312","02-9224311","00485","","","","ปทุมธานี"]
[null,"2034Z20004","กาแฟสด เอปสัน",null,null,null,null,null,null,"1380","TESCO LOTUS EXPRESS","ANGSILA - CHONCURI","อ่างศิลา","เลขที่ 127/36 หมู่ที่ 1 ถนนอ่างศิลา-บางแสน ตำบลอ่างศิลา อำเภอเมืองชลบุรี จังหวัดชลบุรี 20000","20000","038-715727","038-715726","00380","2007-06-06",24,"Standalone","ชลบุรี"]
[null,"2034Z20005","คูโบต้า 2",null,null,null,null,null,null,"1381","TESCO LOTUS EXPRESS","MOO BAN FAMILY LAND","แฟมิลี่แลนด์","เลขที่ 9/48 หมู่ที่ 12 ตำบลนาป่า อำเภอเมืองชลบุรี จังหวัดชลบุรี 20000","20000","038-448783","038-448782","00384","","","","ชลบุรี"]
[null,"2034Z20006","คูโบต้า 1",null,null,null,null,null,null,"1382","TESCO LOTUS EXPRESS","SOI KOO SANG","ซอยคู่สร้าง-สุขสวัสดิ์","เลขที่ 331 หมู่ที่ 1 ถนนสุขสวัสดิ์ ตำบลในคลองบางปลากด อำเภอพระสมุทรเจดีย์ จังหวัดสมุทรปราการ 10290","10290","02-8163170","02-8163169","00385","2007-02-28",24,"Shophouse","สมุทรปราการ"]
[null,"2034Z20007","จารุวรรณ (ไซโก้)",null,null,null,null,null,null,"1383","TESCO LOTUS EXPRESS","SIAM THORANEE","สยามธรณี","เลขที่ 83/65 หมู่ที่ 5 แขวงท่าแร้ง เขตบางเขน  กรุงเทพมหานคร  10220","10220","02-9496508","02-9496507","00386","","","","กรุงเทพ"]
[null,"2034Z20009","MATALCOM",null,null,null,null,null,null,"1384","TESCO LOTUS EXPRESS","RATCHADAPISEK","รัชดาภิเษก 13","เลขที่ 182/1 ซอยเทอดไทย 33 ถนนเทอดไทย แขวงดาวคะนอง เขตธนบุรี กรุงเทพมหานคร 10600","10600","02-8788206","02-8788205","00388","2007-03-08",24,"Shophouse","กรุงเทพฯ"]
[null,"2034Z20010","ยูนิเซีย",null,null,null,null,null,null,"1385","TESCO LOTUS EXPRESS","CHINNAKET SOI 2","ชินเขต ซอย 2","เลขที่ 31/86-88 หมู่ที่ 6 แขวงทุ่งสองห้อง เขตหลักสี่ กรุงเทพมหานคร 10210","10210",null,"02-9545386","00393","","","","กรุงเทพ"]
[null,"2034Z20012","สีไทย",null,null,null,null,null,null,"1386","TESCO LOTUS EXPRESS","THANON THAIBAN","ถนนท้ายบ้าน","เลขที่ 465,467,469,471 ถนนท้ายบ้าน ตำบลปากน้ำ อำเภอเมืองสมุทรปราการ จังหวัดสมุทรปราการ 10270","10270","02-7016229","02-7016228","00394","2007-03-22","","","สมุทรปราการ"]
[null,"2034Z20014","ทีอี",null,null,null,null,null,null,"1387","TESCO LOTUS EXPRESS","KLONG DAN","คลองด่าน","เลขที่ 6, 6/1, 7 หมู่ที่ 13 ตำบลคลองด่าน อำเภอบางบ่อ จังหวัดสมุทรปราการ 10550","10550","02-7073052","02-7073051","00395","2007-05-14","","","สมุทรปราการ"]
[null,"2034Z30001","รพ.สนามชัยเขต",null,null,null,null,null,null,"1388","TESCO LOTUS EXPRESS","BANGPAHAN AYUTTHAYA",null,null,null,"035-710459","035-710458","00396","","","",""]
[null,"2034Z30002","รพ.แปลงยาว",null,null,null,null,null,null,"1389","TESCO LOTUS EXPRESS","SOt EKKAMAI 30","ซอยเอกมัย 30","เลขที่ 53/19-23 ซอยนวลน้อย ถนนเอกมัย แขวงคลองตันเหนือ เขตวัฒนา กรุงเทพมหานคร 10110","10110","02-7114516","02-7114515","00397","","","","กรุงเทพ"]
[null,"2034Z50001","99 มินิมาร์ท",null,null,null,null,null,null,"1390","TESCO LOTUS EXPRESS","PRACHASONGKRAO 28","ประชาสงเคราะห์ 28","เลขที่ 301/3-5 ซอยชานเมือง ถนนประชาสงเคราะห์ แขวงดินแดง เขตดินแดง กรุงเทพมหานคร 10400","10400","02-6923271","02-6923270","00411","","","","กรุงเทพ"]
[null,"2034Z50002","PTIเสาวลักษณ์",null,null,null,null,null,null,"1391","TESCO LOTUS EXPRESS","SOI ONNUT 46","ซอยอ่อนนุช 46","เลขที่ 209/1 ซอยสุภาพงษ์ 1 ถนนอ่อนนุช แขวงหนองบอน เขตประเวศ กรุงเทพมหานคร 10250","10250","02-7205253","02-7205252","00441","","","","กรุงเทพ"]
[null,"2034Z50003","PT.ธีระ",null,null,null,null,null,null,"1392","TESCO LOTUS EXPRESS","NONTHABURI 42","นนทบุรี 42","เลขที่ 13/1 ซอยรณสิทธิพิชัย 7 ตำบลบางกระสอ อำเภอเมืองนนทบุรี จังหวัดนนทบุรี 11000","11000","02-9504052","02-9504051","00442","","","","กรุงเทพ"]
[null,"2034Z50004","PTTเกาะโพธิ์",null,null,null,null,null,null,"1393","TESCO LOTUS EXPRESS","CHAENGWATTANA 6","ซอยแจ้งวัฒนะ 6","เลขที่ 208/17 หมู่ที่ 4 ถนนแจ้งวัฒนะ แขวงตลาดบางเขน เขตหลักสี่ กรุงเทพมหานคร 10210","10210","02-9735148","02-9735147","00623","","","","กรุงเทพ"]
[null,"2034Z50005","PT-มินิมาร์ท (หนองโมก)",null,null,null,null,null,null,"1394","TESCO LOTUS EXPRESS","MOO BAAN LANTHONG","หมู่บ้านลานทอง","เลขที่ 100/41-44 หมู่ที่ 8 ถนนติวานนท์ ตำบลบางพูด อำเภอปากเกร็ด จังหวัดนนทบุรี 11120","11120","02-9645015","02-9645014","00400","","","",""]
[null,"2034Z50007","ชุติมามาร์ท",null,null,null,null,null,null,"1395","TESCO LOTUS EXPRESS","SOI PHIBOONSONGKRAM 22","ซอยพิบูลสงคราม 22","เลขที่ 25/249 หมู่ที่ 8 ซอยพิบูลสงคราม22 ถนนพิบูลสงคราม ตำบลบางเขน อำเภอเมืองนนทบุรี จังหวัดนนทบุรี 11000","11000","02-9667027","02-9667026","00412","","","","กรุงเทพ"]
[null,"2034Z50008","โดนัท",null,null,null,null,null,null,"1396","TESCO LOTUS EXPRESS","ONNUT SOI 17 YAK 16","อ่อนนุช ซอย 17 แยก 16","เลขที่ 650 ซอยอ่อนนุช 17 ถนนอ่อนนุช แขวงสวนหลวง เขตสวนหลวง กรุงเทพมหานคร   10250","10250","02-7176352","02-7176351","00413","","","","กรุงเทพ"]
[null,"2034Z50012","ฮั่วเซี่ยงออยล์",null,null,null,null,null,null,"1397","TESCO LOTUS EXPRESS","PRAYASURAIN 38","พระยาสุเรนทร์ 38","เลขที่ 42/14-17 ซอยพระยาสุเรนทร์38 ถนนพระยาสุเรนทร์ แขวงสามวาตะวันตก เขตคลองสามวา กรุงเทพมหานคร 10510","10510","02-9144928","02-9144920","00445","","","","กรุงเทพ"]
[null,"2034Z50013","สมใจ",null,null,null,null,null,null,"1398","TESCO LOTUS EXPRESS","RATPATTANA","ราษฏร์พัฒนา","เลขที่ 45/15-16 หมู่ 2 ถนนราษฎร์พัฒนา แขวงสะพานสูง เขตสะพานสูง กรุงเทพมหานคร  10240","10240","02-1716401","02-1716400","00399","","","","กรุงเทพ"]
[null,"2034Z50014","ไทรงาม",null,null,null,null,null,null,"1399","TESCO LOTUS EXPRESS","BUALUANG THANI","บัวหลวงธานี","เลขที่ 33/26-28 หมู่ที่ 3 ตำบลสามเมือง อำเภอลาดบัวหลวง จังหวัดพระนครศรีอยุธยา 13230","13230","035-280130","035-280129","00408","","","","อยุธยา"]
[null,"2034Z50015","PS ซุปเปอร์",null,null,null,null,null,null,"1600","TESCO LOTUS EXPRESS","K-HA NONTHABURI","เคหะนนทบุรี","เลขที่ 126,126/1-3 หมู่ที่ 5 ตำบลปากเกร็ด อำเภอปากเกร็ด จังหวัดนนทบุรี 11120","11120","044-299061","02-9640917","00419","","","","ปทุมธานี"]
[null,"2034Z50016","กรีน มาร์ท",null,null,null,null,null,null,"1601","TESCO LOTUS EXPRESS","TALAD SI KHWA AYUTTHAYA","ตลาดสี่ขวา","เลขที่ 224/11-14 ตำบลลำตาเสา อำเภอวังน้อย จังหวัดพระนครศรีอยุธยา 13170","13170","02-3470359","035-230786","00414","","","","อยุธยา"]
[null,"2034ZB0001","BD SHOP",null,null,null,null,null,null,"1602","TESCO LOTUS EXPRESS","LAEM FA PAAR ( SUKSAWAT)","แหลมฟ้าผ่า","เลขที่ 181/1 หมู่ที่ 1 ตำบลแหลมฟ้าผ่า อำเภอพระสมุทรเจดีย์ จังหวัดสมุทรปราการ 10290","10290","053-397527","02-8152570","00415","2007-05-28",24,"Shophouse","สมุทรปราการ"]
[null,"2034ZB0002","กิม",null,null,null,null,null,null,"1603","TESCO LOTUS EXPRESS","LADPAOW 101","ลาดพร้าว 101 ","เลขที่ 47 ซอยลาดพร้าว 101 แขวงคลองจั่น เขตบางกะปิ กรุงเทพมหานคร 10240","10240","043-337458","02-7315416","00416","","","","กรุงเทพ"]
[null,"2034ZB0003","แก้วมินิมาร์ท",null,null,null,null,null,null,"1604","TESCO LOTUS EXPRESS","LADPRAO 47","ลาดพร้าว 47","เลขที่ 16,18,20 ซอยลาดพร้าว 47 (สะพาน 2) ถนนลาดพร้าว แขวงวังทองหลาง เขตวังทองหลาง กรุงเทพมหานคร 10310","10310","032-440964","02-5383725","00417","","","","กรุงเทพ"]
[null,"2034ZB0004","กัญญา",null,null,null,null,null,null,"1605","TESCO LOTUS EXPRESS","MOO BAAN SIAM NIVEJ","หมู่บ้านสยามนิเวศน์","เลขที่ 419/49-52 หมู่ที่ 10 ตำบลในคลองบางปลากด อำเภอพระสมุทรเจดีย์ จังหวัดสมุทรปราการ 10290","10290","034-841042","02-8169302","00418","2007-12-30",24,"Shophouse","สมุทรปราการ"]
[null,"2034ZB0006","เก๋มินิมาร์ท",null,null,null,null,null,null,"1606","TESCO LOTUS EXPRESS","CHARUNSANITWONG SOI 35","จรัญสนิทวงศ์ ซอย 35","เลขที่ 455/97-99 ถนนจรัญสนิทวงศ์ แขวงบางขุนศรี เขตบางกอกน้อย กรุงเทพมหานคร 10700","10700","043-321967 ","02-8649581","00420","2007-06-17",24,"Shophouse","กรุงเทพฯ"]
[null,"2034ZB0007","ไข่มุข",null,null,null,null,null,null,"1607","TESCO LOTUS EXPRESS","WAT PRA NGUEN","วัดพระเงิน","เลขที่ 98,98/1,98/2 หมู่ที่ 10 ตำบลบางม่วง อำเภอบางใหญ่ จังหวัดนนทบุรี 11140","11140","043-381212","02-9039427","00422","2007-06-21","","","นนทบุรี"]
[null,"2034ZB0011","จินตนา",null,null,null,null,null,null,"1608","TESCO LOTUS EXPRESS","WAT KOO 2","วัดกู้ 2","เลขที่ 15/1 หมู่ที่ 6 ซอยมิตรภาพ ถนนสุขาประชาสรรค์ 2 ตำบลบางพูด อำเภอปากเกร็ด จังหวัดนนทบุรี 11120","11120","056-430336","02-9630500","00423","","","","ปทุมธานี"]
[null,"2034ZB0016","หญิง-มิ้น",null,null,null,null,null,null,"1609","TESCO LOTUS EXPRESS","DANSAMRONG","ด่านสำโรง 12","เลขที่ 72,72/1 หมู่ที่ 5 ซอยด่านสำโรง 12 ตำบลสำโรงเหนือ อำเภอเมืองสมุทรปราการ จังหวัดสมุทรปราการ 10270","10270","032-546075","02-7570318","00432","2007-07-26","","","สมุทรปราการ"]
[null,"2034ZB0019","ตลาดแหลมเขา",null,null,null,null,null,null,"1610","TESCO LOTUS EXPRESS","WAT RAI KLUAY - SRIRACHA","วัดไร่กล้วย ศรีราชา","เลขที่ 102/3 หมู่ที่ 7 ตำบลสุรศักดิ์ อำเภอศรีราชา จังหวัดชลบุรี 20110","20110","043-832503","038-775663","00429","2007-07-26",24,"Standalone","ชลบุรี"]
[null,"2034ZB0020","ตุ่ม",null,null,null,null,null,null,"1611","TESCO LOTUS EXPRESS","NAWAMIN 24","นวมินทร์ 24 ","เลขที่ 99/223 หมู่ที่ 5 ซอยนวมินทร์ 24 ถนนนวมินทร์ แขวงคลองกุ่ม เขตบึงกุ่ม กรุงเทพมหานคร 10240","10240","043-831290","02-7345473","00438","","","","กรุงเทพ"]
[null,"2034ZB0021","ถาวร",null,null,null,null,null,null,"1612","TESCO LOTUS EXPRESS","PHAHOLYOTHIN 81","พหลโยธิน 81","เลขที่ 5/13 หมู่ที่ 13 ถนนพหลโยธิน ตำบลคูคต อำเภอลำลูกกา จังหวัดปทุมธานี 12130","12130","0-2727-0248","02-9920774","00430","","","","ปทุมธานี"]
[null,"2034ZB0022","ถูกดีซุปเปอร์มาร์ท",null,null,null,null,null,null,"1613","TESCO LOTUS EXPRESS","FACTORYLAND WANGNOI","อุตสาหกรรมวังน้อย","เลขที่ 185 หมู่ที่ 3 ตำบลวังจุฬา อำเภอวังน้อย จังหวัดพระนครศรีอยุธยา 13170","13170","056-422337","035-721678","00431","","","","อยุธยา"]
[null,"2034ZB0023","น้ำพริก",null,null,null,null,null,null,"1614","TESCO LOTUS EXPRESS","TALAD SUWINTHAWONG","ตลาดสุวินทวงศ์","เลขที่ 27/3/1 หมู่ที่ 1 ตำบลคลองอุดมชลจร อำเภอเมืองฉะเชิงเทรา จังหวัดฉะเชิงเทรา 24000","24000","055-219933","038-845939","00433","","","","กรุงเทพ"]
[null,"2034ZB0024","K.นี",null,null,null,null,null,null,"1615","TESCO LOTUS EXPRESS","CHAROENKRUNG 109","เจริญกรุง 109","เลขที่ 23,23/1-4 ตรอกต้นโพธิ์ แขวงบางคอแหลม เขตบางคอแหลม กรุงเทพมหานคร 10120","10120","042-348-169 ","02-6890981","00434","","","","กรุงเทพ"]
[null,"2034ZB0025","เบญจมาศ",null,null,null,null,null,null,"1616","TESCO LOTUS EXPRESS","THANON CHAN SOI 43","ถนนจันทน์ ซอย 43","เลขที่ 88/8 ซอยจันทน์ 43 ถนนจันทน์ แขวงบางโคล่ เขตบางคอแหลม กรุงเทพมหานคร 10120","10120","038-709508","02-6748785","00435","","","","กรุงเทพ"]
[null,"2034ZB0026","ปังปอนด์",null,null,null,null,null,null,"1617","TESCO LOTUS EXPRESS","WAT SUTTHARAM",null,null,null,"044-845017","02-8606150","00437","","","",""]
[null,"2034ZB0029","พงศ์ธร",null,null,null,null,null,null,"1618","TESCO LOTUS EXPRESS","TALAD WAT BAANTOR, CHIENGMAI",null,null,null,"038-578655","053-872701","00439","","","",""]
[null,"2034ZB0030","พยอม",null,null,null,null,null,null,"1619","TESCO LOTUS EXPRESS","TALAD CHIENGMAI GATE",null,null,null,"043-432140","053-814605","00453","","","",""]
[null,"2034ZB0031","ภาวินี",null,null,null,null,null,null,"1620","TESCO LOTUS EXPRESS","AMPHER SAMKHOK","อำเภอสามโคก","เลขที่ 88 หมู่ที่ 7 ตำบลบางเตย อำเภอสามโคก จังหวัดปทุมธานี 12160","12160","035-724638","02-977-2448","00466","","","","ปทุมธานี"]
[null,"2034ZB0033","ภิรมย์",null,null,null,null,null,null,"1621","TESCO LOTUS EXPRESS","TALAD BOR BUA : CHACHOENGSAO","ตลาดบ่อบัว","เลขที่ 94/15-94/18 ถนนชุมพล ตำบลหน้าเมือง อำเภอเมืองฉะเชิงเทรา จังหวัดฉะเชิงเทรา 24000","24000","032-530188","038-818017","00506","","","","กรุงเทพ"]
[null,"2034ZB0036","ไมตรี",null,null,null,null,null,null,"1622","TESCO LOTUS EXPRESS","U-THAI AYUTTHAYA","อำเภออุทัย อยุธยา","เลขที่ 11/1 หมู่ที่ 13 ตำบลอุทัย อำเภออุทัย จังหวัดพระนครศรีอยุธยา 13210","13210","075-338311 ","035-711196","00443","","","","อยุธยา"]
[null,"2034ZB0037","รุณี",null,null,null,null,null,null,"1623","TESCO LOTUS EXPRESS","PHOJAE",null,null,null,"038-730211","034-823401","00444","","","",""]
[null,"2034ZB0038","รัตน์ติกาญ",null,null,null,null,null,null,"1624","TESCO LOTUS EXPRESS","PRACHANTAKHAM : PRACHINBURI","ประจันตคาม","เลขที่ 337/2 หมู่ที่ 2 ตำบลประจันตคาม อำเภอประจันตคาม จังหวัดปราจีนบุรี 25130","25130","055-298523","037-291668","00619","","","","ปราจีบุรี"]
[null,"2034ZB0039","เลียบ",null,null,null,null,null,null,"1625","TESCO LOTUS EXPRESS","SURASAK SRIRACHA","สุรศักดิ์ ศรีราชา","เลขที่ 344/22 หมู่ที่ 8 ตำบลสุรศักดิ์ อำเภอศรีราชา  จังหวัดชลบุรี 20110","20110","074-420435","038-775734","00458","2007-10-31",24,"Standalone","ชลบุรี"]
[null,"2034ZB0040","วาสนา",null,null,null,null,null,null,"1626","TESCO LOTUS EXPRESS","WAT KHOK MAYOM","วัดโคกมะยม","เลขที่ 9/18 หมู่ที่ 9 ตำบลคานหาม อำเภออุทัย จังหวัดพระนครศรีอยุธยา 13210","13210","0-2743-2604","035-227941","00455","","","","อยุธยา"]
[null,"2034ZB0041","วัชรี",null,null,null,null,null,null,"1627","TESCO LOTUS EXPRESS","SOI THANASIT","ซอยธนสิทธิ์","เลขที่ 32/78 หมู่ที่ 11ตำบลบางปลา อำเภอบางพลี จังหวัดสมุทรปราการ 10540","10540","0-2929-1957","02-7525196","00456","2007-10-11","","","สมุทรปราการ"]
[null,"2034ZB0044","ศรีเมือง",null,null,null,null,null,null,"1628","TESCO LOTUS EXPRESS","MOO BAAN NICHADA THANI","หมู่บ้านนิชดาธานี","เลขที่ 359/1 ถนนสามัคคี ตำบลท่าทราย อำเภอเมืองนนทบุรี จังหวัดนนทบุรี 11000","11000","0-2894-1518","02-9521617","00486","","","","กรุงเทพ"]
[null,"2034ZB0049","สมบัติ (พนัสนิคม)",null,null,null,null,null,null,"1629","TESCO LOTUS EXPRESS","SETHAKIT ROAD","ถนนเศรษฐกิจ","เลขที่ 26/4-6 หมู่ที่ 9 ตำบลคลองมะเดื่อ อำเภอกระทุ่มแบน จังหวัดสมุทรสาคร 74110","74110","0-2906-5181","034-849501","00460","2007-10-25","","","สมุทรสาคร"]
[null,"2034ZB0051","หนองแหน (วิลัย)",null,null,null,null,null,null,"1630","TESCO LOTUS EXPRESS","WAT SRI SUK","วัดสีสุก","เลขที่ 13/8 หมู่ที่ 6 แขวงจอมทอง เขตจองทอง กรุงเทพมหานคร 10150","10150","0-2688-4348","02-8750574","00462","2006-05-30","","","กรุงเทพฯ"]
[null,"2034ZB0053","อารีย์",null,null,null,null,null,null,"1631","TESCO LOTUS EXPRESS","BANGPOO 69 SOI SAMHOUNG","บางปู 69","เลขที่ 1222/20-22 หมู่ที่ 7 ตำบลบางปูใหม่ อำเภอเมืองสมุทรปราการ จังหวัดสมุทรปราการ 10280","10280","032-535492","02-7079371","00335","2008-04-30","","","สมุทรปราการ"]
[null,"2034ZB0054","อุ๋งอิ๋ง",null,null,null,null,null,null,"1632","TESCO LOTUS EXPRESS","MAE JO : CHIANGMAI",null,null,null,"0-2733-1266","053-869792","00560","","","",""]
[null,"2034ZB0055","เฟรชมาร์ทบ่อทอง",null,null,null,null,null,null,"1633","TESCO LOTUS EXPRESS","HATAIRAT 11","หทัยราษฎร์ 11","เลขที่ 95,97,99 ซอยหทัยราษฎร์ 11 ถนนหทัยราษฎร์ แขวงมีนบุรี เขตมีนบุรี กรุงเทพมหานคร 10510","10510","02-991-7683","02-9064583","00467","","","","กรุงเทพ"]
[null,"2034ZB0058","หนึ่ง",null,null,null,null,null,null,"1634","TESCO LOTUS EXPRESS","SOI KANTANA","ซอยกันตนา","เลขที่ 53/4 หมู่ 3 ซอยกันตนา ถนนนกาญจนาภิเษก ตำบลบางม่วง อำเภอบางใหญ่ จังหวัดนนทบุรี 11140","11140","076-274775","02-9038350","00468","2007-11-11","","","นนทบุรี"]
[null,"2034ZB0061","ถุงแป้งมินิมาร์ท",null,null,null,null,null,null,"1635","TESCO LOTUS EXPRESS","PRACHA - UTHIT 90","ประชาอุทิศ 90","เลขที่ 115/19 หมู่ที่ 5 ซอยประชาอุทิศ 90 ถนนประชาอุทิศ แขวงทุ่งครุ เขตทุ่งครุ กรุงเทพมหานคร 10140","10140","0-2930-5393","02-8158537","00469","2007-11-18",24,"Standalone","กรุงเทพฯ"]
[null,"2034ZB0062","ยุพิน",null,null,null,null,null,null,"1636","TESCO LOTUS EXPRESS","SERITHAI 75","เสรีไทย 75","เลขที่ 190, 192, 192/1 ถนนสวนสยาม แขวงคันนายาว เขตคันนายาว กรุงเทพมหานคร 10230","10230","074-691439","02-9196062","00471","","","","กรุงเทพ"]
[null,"2034ZB0063","กิตติพงษ์ เจียมเจริญ",null,null,null,null,null,null,"1637","TESCO LOTUS EXPRESS","SOI NAK SUWAN","ซอยนาคสุวรรณ","เลขที่ 136/18 ถนนนนทรี แขวงช่องนนทรี  เขตยานนาวา กรุงเทพมหานคร 10120","10120","043-798787","02-6813242","00473","","","","กรุงเทพ"]
[null,"2034ZB0064","จู",null,null,null,null,null,null,"1638","TESCO LOTUS EXPRESS","PRARAM 2 SOI 50","พระราม 2 ซอย 50","เลขที่ 43/464 หมู่ที่ 7 พระรามที่ 2 ซอย50 ถนนพระราม 2 แขวงแสมดำ เขตบางขุนเทียน กรุงเทพมหานคร 10150","10150","0-2740-5039","02-8983186","00494","2008-02-29",24,"Shophouse","กรุงเทพฯ"]
[null,"2034ZB0065","เล็ก",null,null,null,null,null,null,"1639","TESCO LOTUS EXPRESS","SOI WAT SUANSOM","ซอยวัดสวนส้ม","เลขที่ 83/2 หมู่ที่ 8 ตำบลสำโรงใต้ อำเภอพระประแดง จังหวัดสมุทรปราการ 10130","10130","075-326-433","02-7567415","00501","2008-03-31","","","สมุทรปราการ"]
[null,"2034ZB0066","PM พรบุญมา",null,null,null,null,null,null,"1640","TESCO LOTUS EXPRESS","TALAD NAKONCHAISRI","ตลาดนครชัยศรี","เลขที่ 62/81 หมู่ที่ 3 ตำบลบางกระเบา อำเภอนครชัยศรี จังหวัดนครปฐม 73120","73120","043-881377","034-228 754","00509","2008-08-30","","","นครปฐม"]
[null,"2034ZB0071","เฮียเก๋ (กิตติพาณิชย์)",null,null,null,null,null,null,"1641","TESCO LOTUS EXPRESS","SALAYA 2","ศาลายา 2","เลขที่ 180/9 หมู่ที่ 5 ตำบลศาลายา อำเภอพุทธมณฑล จังหวัดนครปฐม 73170","73170","038-713-412","034-297678","00479","2011-12-21","","","นครปฐม"]
[null,"2034ZB0072","อ่าง",null,null,null,null,null,null,"1642","TESCO LOTUS EXPRESS","SAFARI WORLD","ซาฟารีเวิลด์","เลขที่ 264 ถนนเลียบคลองสอง แขวงบางชัน เขตคลองสามวา กรุงเทพมหานคร 10510","10510","075-362-077","02-9144086","00515","","","","กรุงเทพ"]
[null,"2034ZB0073","แนน",null,null,null,null,null,null,"1643","TESCO LOTUS EXPRESS","BAAN SAENGTAWAN (BANG BOR)","บ้านแสงตะวัน","เลขที่ 140 หมู่ที่ 2 ตำบลบางเสาธง อำเภอบางเสาธง จังหวัดสมุทรปราการ 10540","10540","076-442-484","02-7082551","00496","2008-03-16","","","สมุทรปราการ"]
[null,"2034ZB0074","ช.พาณิชย์",null,null,null,null,null,null,"1644","TESCO LOTUS EXPRESS","TALAD GRAND AYUTTHAYA","ตลาดแกรนด์ อยุธยา","เลขที่ 51/233-235 หมู่ที่ 1ตำบลธนู อำเภออุทัย จังหวัดพระนครศรีอยุธยา 13000","13000","0-2361-6516","035-229256","00478","","","","อยุธยา"]
[null,"2034ZB0076","ตาเผือก",null,null,null,null,null,null,"1645","TESCO LOTUS EXPRESS","SORNOR NONGKHAM","ส.น.หนองแขม","เลขที่ 11/1 หมู่ที่ 8 แขวงหนองแขม เขตหนองแขม กรุงเทพมหานคร 10160","10160","074-471-501","02-8113337","00480","2008-01-17",24,"Standalone","กรุงเทพฯ"]
[null,"2034ZB0077","น้อง",null,null,null,null,null,null,"1646","TESCO LOTUS EXPRESS","BAAN NA, NAKORNNAYOK","บ้านนา นครนายก","เลขที่ 24/20 หมู่ที่ 5 ตำบลบ้านนา อำเภอบ้านนา จังหวัดนครนายก 26110","26110","044-282-409","037-324361","00489","","","","ปราจีนบุรี"]
[null,"2034ZB0082","กิ่งแก้วการค้า",null,null,null,null,null,null,"1647","TESCO LOTUS EXPRESS","BANGSAEN SAI 4","บางแสน สาย 4","เลขที่ 51/14 ถนนบางแสนสาย 4 ใต้ ตำบลแสนสุข อำเภอเมืองชลบุรี จังหวัดชลบุรี 20000","20000","076-279-715","038-745526","00487","2008-02-07",24,"Standalone","ชลบุรี"]
[null,"2034ZB0085","สุภาพ",null,null,null,null,null,null,"1648","TESCO LOTUS EXPRESS","SINSAKORN ROAD","ถนนสินสาคร","เลขที่ 12/4 หมู่ที่5 ตำบลพันท้ายนรสิงห์ อำเภอเมืองสมุทรสาคร จังหวัดสมุทรสาคร 74000","74000","044-275-857","034-813475","00493","2008-02-29",24,"Standalone","สมุทรสาคร"]
[null,"2034ZB0086","วณี",null,null,null,null,null,null,"1649","TESCO LOTUS EXPRESS","MAP TA PUT","มาบตาพุด","เลขที่ 128/2 ถนนสุขุมวิท ตำบลมาบตาพุด อำเภอเมืองระยอง จังหวัดระยอง 21150","21150","0-2878-0368","038-692588","00488","","","","ระยอง"]
[null,"2034ZB0087","ดวงกลม",null,null,null,null,null,null,"1650","TESCO LOTUS EXPRESS","LUMLUKKA KLONG 8","ลำลูกกา คลอง 8","เลขที่ 88/62 หมู่ที่ 5 ตำบลลำลูกกา อำเภอลำลูกกา จังหวัดปทุมธานี 12150","12150","043-507-189","02-9871693","00495","","","","ปทุมธานี"]
[null,"2034ZB0088","อ้อย",null,null,null,null,null,null,"1651","TESCO LOTUS EXPRESS","PAK HAI AYUTTHAYA","ผักไห่ ","เลขที่ 112/21 หมู่ที่ 4 ตำบลผักไห่ อำเภอผักไห่ จังหวัดพระนครศรีอยุธยา 13120","13120","032-537-172","035-239159","00510","","","","อยุธยา"]
[null,"2034ZB0089","เจริญสุข",null,null,null,null,null,null,"1652","TESCO LOTUS EXPRESS","SUKHAPHIBAN 2 ROAD","ถนนสุขาภิบาล 2","เลขที่ 141/5 หมู่ที่ 8 แขวงประเวศ เขตประเวศ กรุงเทพมหานคร 10250","10250","036-310-971","02-7264467","00502","","","","กรุงเทพ"]
[null,"2034ZB0090","จักรพรรดิ การค้า",null,null,null,null,null,null,"1653","TESCO LOTUS EXPRESS","WAT SAI - EKKACHAI","วัดไทร เอกชัย","เลขที่ 58/291 หมู่ที่ 2 แขวงบางขุนเทียน เขตจอมทอง กรุงเทพมหานคร 10150","10150","038-736-253","02-8930104-5","00517","2008-06-20",24,"Standalone","กรุงเทพฯ"]
[null,"2034ZB0092","บุญยง คำพา",null,null,null,null,null,null,"1654","TESCO LOTUS EXPRESS","TALAD KAOSAEN : BUDDAMMONTHON SAI 5 ROAD","ตลาดเก้าแสน","เลขที่ 273/475 หมู่ที่ 6 ถนนพุทธมณฑลสาย 5 ตำบลอ้อมน้อย อำเภอกระทุ่มแบน จังหวัดสมุทสาคร 74130","74130","036-648-425","02-813 4036","00582","2008-11-29","","","สมุทรสาคร"]
[null,"2034ZB0093","PS เพียรศรี ซุปเปอร์",null,null,null,null,null,null,"1655","TESCO LOTUS EXPRESS","TALAD JATUJAK",null,null,null,"0-2683-5381","053-537873","00500","","","",""]
[null,"2034ZB0094","วณิชชา ปัทมาพรพรรณ",null,null,null,null,null,null,"1656","TESCO LOTUS EXPRESS","TALAD RAMINTRA","ตลาดรามอินทรา","เลขที่ 9/236-9/239 หมู่ที่ 4 แขวงอนุเสาวรีย์ เขตบางเขน กรุงเทพมหานคร 10220","10220","055-215-412","02-9715822","00507","","","","กรุงเทพ"]
[null,"2034ZB0095","ป้าน้อย-ลาดกระทิง",null,null,null,null,null,null,"1657","TESCO LOTUS EXPRESS","WAT THONG SA-ARD","วัดทองสะอาด","เลขที่ 88/1-88/4 หมู่ที่ 2 ตำบลคลองพระอุดม อำเภอลาดหลุมแก้ว จังหวัดปทุมธานี 12140","12140","075-335-429","02-5989196","00508","","","","ปทุมธานี"]
[null,"2034ZB0096","สุปราณี พิมพ์เจริญ",null,null,null,null,null,null,"1658","TESCO LOTUS EXPRESS","RAMKHAMHAENG 65","รามคำแหง 65","เลขที่ 268/24 ลาดพร้าว 122(มหาดไทย 1) ถนนลาดพร้าว แขวงวังทองหลาง เขตวังทองหลาง กรุงเทพมหานคร 10310","10310","0-2740-5722","02-934-3617","00516","","","","กรุงเทพ"]
[null,"2034ZB0098","เบ็ญจพร เจริญกิจจาธร",null,null,null,null,null,null,"1659","TESCO LOTUS EXPRESS","TALAD SAPAN 4","ตลาดสะพาน 4","เลขที่ 115 หมู่ที่ 3 ตำบลมาบยางพร อำเภอปลวกแดง จังหวัดระยอง 21140","21140",null,"038-891584","00547","","","","ระยอง"]
[null,"2034ZB0099","จุรีรัตน์",null,null,null,null,null,null,"1660","TESCO LOTUS EXPRESS","MOO BAN BENCHASUB","หมู่บ้านเบญจทรัพย์","เลขที่ 49/420-49/423 หมู่ที่ 4 ตำบลโคกขาม อำเภอเมืองสมุทรสาคร จังหวัดสมุทรสาคร 74000","74000","0-2904-6847","034-834797","00521","2008-06-26","","","สมุทรสาคร"]
[null,"2034ZB0100","นุช",null,null,null,null,null,null,"1661","TESCO LOTUS EXPRESS","CM.08 PETCHAKAHASEM 81","เพชรเกษม 81","เลขที่ 6,8 ถนนมาเจริญ ซอยเพชรเกษม 81 แขวงหนองแขม เขตหนองแขม จังหวัดกรุงเทพมหานคร 10160","10160","077-251-128","02-8124415","00544","2008-09-05",24,"Communitymall","กรุงเทพฯ"]
[null,"2034ZB0102","ชานน",null,null,null,null,null,null,"1662","TESCO LOTUS EXPRESS","CM.04 SOI WAT LADPLADUK","ซอยวัดลาดปลาดุก ","เลขที่ 85/7 หมู่ที่ 6 ตำบลบางรักพัฒนา อำเภอบางบัวทอง จังหวัดนนทบุรี 11110","11110","075-643-241","02-834-2981","00538","","","","ปทุมธานี"]
[null,"2034ZB0103","จอยพาณิชย์",null,null,null,null,null,null,"1663","TESCO LOTUS EXPRESS","ROMKLAO 24","ร่มเกล้า 24","เลขที่ 1 ซอยร่มเกล้า 24 ถนนร่มเกล้า แขวงมีนบุรี เขตมีนบุรี กรุงเทพมหานคร 10510","10510","044-840-072","02-9150152","00583","","","","กรุงเทพ"]
[null,"2035Z10001","รร.เขาฉกรรจ์",null,null,null,null,null,null,"1664","TESCO LOTUS EXPRESS","CHOM BUENG : RATCHABURI","จอมบึง","เลขที่ 610 หมู่ที่ 3 ตำบลจอมบึง อำเภอจอมบึง จังหวัดราชบุรี 70150","70150","056-320-053","032-362279","00514","2008-05-31","","","ราชบุรี"]
[null,"2035Z10002","มารี 1",null,null,null,null,null,null,"1665","TESCO LOTUS EXPRESS","BAN CHANG : RAYONG","บ้านฉาง","เลขที่ 40/1 หมู่ที่ 3 ถนนสุขุมวิท ตำบลบ้านฉาง อำเภอบ้านฉาง จังหวัดระยอง 21130","21130","0-2941-0295","038-882101","00533","","","","ระยอง"]
[null,"2035Z10003","มารี 2",null,null,null,null,null,null,"1666","TESCO LOTUS EXPRESS","NIMMANHEMIN",null,null,null,null,"053-400-741","00519","","","",""]
[null,"2035Z10009","รร.วังดินสอ",null,null,null,null,null,null,"1667","TESCO LOTUS EXPRESS","SANAM CHAIKHET : CHACHOENGSAO","สนามชัยเขต","เลขที่ 229/2 หมู่ที่ 14 ตำบลคู้ยายหมี อำเภอสนามชัยเขต จังหวัดฉะเชิงเทรา 24160","24160","038-775-125","038-597198","00513","","","","แปดริ้ว"]
[null,"2035Z30001","รพ.เขาฉกรรจ์",null,null,null,null,null,null,"1668","TESCO LOTUS EXPRESS","SILPAKORN UNIVERSITY","ม.ศิลปากร นครปฐม","เลขที่ 59 ถนนทรงพล ตำบลพระปฐมเจดีย์ อำเภอเมืองนครปฐม จังหวัดนครปฐม 73000","73000","0-2955-8041","034-217-047","00542","","","",""]
[null,"2035Z30002","รพ.คลองหาด",null,null,null,null,null,null,"1669","TESCO LOTUS EXPRESS","CM.14 TOWN IN TOWN","ทาวน์ อิน ทาวน์ (CM.)","เลขที่ 1329/10 ซอยลาดพร้าว 94 (ปัญจมิตร) ถนนลาดพร้าว แขวงวังทองหลาง เขตวังทองหลาง กรุงเทพมหานคร 10310","10310","074-732-071","02-9344517","00549","","","","กรุงเทพ"]
[null,"2035Z50001","NGV วังน้ำเย็น",null,null,null,null,null,null,"1670","TESCO LOTUS EXPRESS","YEAK SANAMBIN : LAMPANG",null,null,null,"0-2982-0822","054-315 326 ","00537","","","",""]
[null,"2035Z50003","ส.สมาน",null,null,null,null,null,null,"1671","TESCO LOTUS EXPRESS","MOOBAN ASIA HOME TOWN","หมู่บ้านเอเชีย โฮม ทาวน์","เลขที่ 71 หมู่ที่ 10 ถนนบางกรวย-ไทรน้อย ตำบลไทรน้อย อำเภอไทรน้อย จังหวัดนนทบุรี 11150","11150","038-893-164","02-9238574","00520","","","","ปทุมธานี"]
[null,"2035Z50006","ศรีเทพ",null,null,null,null,null,null,"1672","TESCO LOTUS EXPRESS","TALAD THEDSABAN 2 : LAMPANG",null,null,null,"044-842-336","054 311 035","00526","","","",""]
[null,"2035Z50007","108 shop(ปั๊มเชลล์)",null,null,null,null,null,null,"1673","TESCO LOTUS EXPRESS","BAN UOEY-ATHON RANGSIT KLONG 1","บ้านเอื้ออาทร รังสิตคลอง 1","เลขที่ 85 ถนนรังสิต-คูคต ตำบลประชาธิปัตย์ อำเภอธัญบุรี ปทุมธานี 12130","12130","076-270-783","02-1591377","00524","","","","ปทุมธานี"]
[null,"2035Z50008","NGV(อรพิณ)",null,null,null,null,null,null,"1674","TESCO LOTUS EXPRESS","THE PASEO : TOYOTA ONNUT","เดอะพาซิโอ อ่อนนุช","เลขที่ 318/6 ถนนลาดกระบัง แขวงลาดกระบัง เขตลาดกระบัง กรุงเทพมหานคร 10520","10520","038-768-964","02-7276952","00534","","","","กรุงเทพ"]
[null,"2035Z50009","NGV สระแก้ว",null,null,null,null,null,null,"1675","TESCO LOTUS EXPRESS","RAMKHAMHAENG 166","รามคำแหง 166","เลขที่ 2/1 ซอยรามคำแหง 166 แขวงมีนบุรี เขตมีนบุรี กรุงเทพมหานคร 10510","10510","074-626-622","02-917 6134","00578","","","","กรุงเทพ"]
[null,"2035Z50010","สันดัน",null,null,null,null,null,null,"1676","TESCO LOTUS EXPRESS","TALAD CHAO PROM : AYUTTHAYA","ตลาดเจ้าพรหม","เลขที่ 72/1-3 ซอยหอรัตนไชย ตำบลหอรัตนไชย อำเภอพระนครศรีอยุธยา จังหวัดพระนครศรีอยุธยา 13000","13000","0-2884-0659","035-211449","00543","","","","อยุธยา"]
[null,"2035Z50011","คาร์เท็กซ์ พี่หญิง",null,null,null,null,null,null,"1677","TESCO LOTUS EXPRESS","TALAD RANGSIT KLONG 2","ตลาดรังสิต คลอง 2(ขาออก)","เลขที่ 583 ถนนรังสิต-นครนายก ตำบลประชาธิปัตย์ อำเภอธัญบุรี จังหวัดปทุมธานี 12130","12130","074-736-092","02-9960975","00548","","","","ปทุมธานี"]
[null,"2035Z90001","เจริญสุขแกรนด์",null,null,null,null,null,null,"1678","TESCO LOTUS EXPRESS","TALAD SUTHAVEE","ตลาดสุทธาวี","เลขที่ 82/34-37 หมู่ที่ 21 ตำบลบางพลีใหญ่ อำเภอบางพลี จังหวัดสมุทรปราการ 10540","10540","074-445-323","02-7553904","00528","2008-07-30","","","สมุทรปราการ"]
[null,"2035ZA0001","คุณไหม",null,null,null,null,null,null,"1679","TESCO LOTUS EXPRESS","TALAD PHATOO KOM : CHIANGMAI",null,null,null,"043-347-865","053-201-726","00555","","","",""]
[null,"2035ZA0003","สยามแฟมิลี่",null,null,null,null,null,null,"1680","TESCO LOTUS EXPRESS","PLUAK DAENG : RAYONG","ปลวกแดง","เลขที่ 85 หมู่ที่ 1 ตำบลปลวกแดง อำเภอปลวกแดง จังหวัดระยอง 21140","21140","038-757-266","038-878337","00536","","","","ระยอง"]
[null,"2035ZB0004","BS มินิมาร์ท",null,null,null,null,null,null,"1681","TESCO LOTUS EXPRESS","PRACHARATBUMPEN","ประชาราษฏร์บำเพ็ญ","เลขที่ 186 ถนนประชาราษฏร์บำเพ็ญ แขวงห้วยขวาง เขตห้วยขวาง กรุงเทพมหานคร 10310","10310","038-704-197","02-6903622","00576","","","","กรุงเทพ"]
[null,"2035ZB0006","เก่ง มินิมาร์ท",null,null,null,null,null,null,"1682","TESCO LOTUS EXPRESS","RANGSIT PIROM : PHAHON YOTHIN ROAD","รังสิตภิรมย์","เลขที่ 9/132 หมู่ที่ 5 ถนนพหลโยธิน ตำบลคลองหนึ่ง อำเภอคลองหลวง จังหวัดปทุมธานี 12120","12120","043-746-763","02-9020322","00556","","","","ปทุมธานี"]
[null,"2035ZB0007","เสนาะเซ็นเตอร์",null,null,null,null,null,null,"1683","TESCO LOTUS EXPRESS","KHUBON : BANGKOK","คู้บอน","เลขที่ 67 ถนนคู้บอน แขวงคันนายาว เขตคันนายาว กรุงเทพมหานคร 10230","10230","036-330-281","02-9430457","00563","","","","กรุงเทพ"]
[null,"2035ZB0009","ABSมินิมาร์ท",null,null,null,null,null,null,"1684","TESCO LOTUS EXPRESS","SORNOR BANGKHUNNON","สน.บางขุนนนท์","เลขที่ 61/66 ถนนบางขุนนนท์ แขวงบางขุนนนท์ เขตบางกอกน้อย กรุงเทพมหานคร 10700","10700","034-844-179","02-882-4604","00545","2008-10-24",24,"Standalone","กรุงเทพฯ"]
[null,"2035ZB0016","ชาตรี",null,null,null,null,null,null,"1685","TESCO LOTUS EXPRESS","PIYAWARAROM : SAINOI BANGKRUAI","ปิยะวรารมณ์","เลขที่ 23/9 หมู่ 6 ตำบลบางบัวทอง อำเภอบางบัวทอง จังหวัดนนทบุรี 11110","11110","043-530-034","02-9036951","00579","","","","ปทุมธานี"]
[null,"2035ZB0021","ติดลม",null,null,null,null,null,null,"1686","TESCO LOTUS EXPRESS","PHOKAEW : NAWAMIN ROAD","โพธิ์แก้ว","เลขที่ 10/1334 หมู่ที่ 6 ถนนนวมินทร์ แขวงคลองกุ่ม เขตบึงกุ่ม กรุงเทพมหานคร 10240","10240","043-740-847","02-9483061","00569","","","","กรุงเทพ"]
[null,"2035ZB0022","เต้อ",null,null,null,null,null,null,"1687","TESCO LOTUS EXPRESS","WONGWIEN SA KAEW : LOPBURI","วงเวียนสระแก้ว","เลขที่ 68,69,70 ซอยศรีสุริโยทัย 1 ตำบลทะเลชุบศร อำเภอเมืองลพบุรี จังหวัดลพบุรี 15000","15000","074-345-347","036-626114","00557","","","","อยุธยา"]
[null,"2035ZB0023","แม่ถุม",null,null,null,null,null,null,"1688","TESCO LOTUS EXPRESS","RAMKHUMHEANG 139","รามคำแหง 139","เลขที่ 157/1 ถนนรามคำแหง แขวงสะพานสูง เขตสะพานสูง กรุงเทพมหานคร 10240","10240","074-699-440","02-7294191","00573","","","","กรุงเทพ"]
[null,"2035ZB0024","เจ้ทราย",null,null,null,null,null,null,"1689","TESCO LOTUS EXPRESS","LUANG PHAENG ROAD","ถนนหลวงแพ่ง","เลขที่ 545/11 ถนนหลวงแพ่ง แขวงทับยาว เขตลาดกระบัง กรุงเพทหมานคร 10520","10520","044-536-226","02-7380206","00577","","","","กรุงเทพ"]
[null,"2035ZB0026","นก",null,null,null,null,null,null,"1690","TESCO LOTUS EXPRESS","FACTORY LAND 1","แฟคตอรี่แลนด์ 1","เลขที่ 75/18 หมู่ที่ 11 ตำบลไร่ขิง อำเภอสามพราน จังหวัดนครปฐม 73210","73210","038-760-788","02-8117705","00550","2008-09-28","","","นครปฐม"]
[null,"2035ZB0028","บีบีซ็อป-ป้าเดือนวังแดง",null,null,null,null,null,null,"1691","TESCO LOTUS EXPRESS","YAK SUANG SOM-DEJ","แยกสวนสมเด็จ","เลขที่ 72/138 หมู่ที่ 3 ถนนติวานนท์ ตำบลบ้านใหม่ อำเภอปากเกร็ด จังหวัดนนทบุรี 11120","11120","074-358-876","02-9615128","00586","","","","ปทุมธานี"]
[null,"2035ZB0029","บุญเหลือพาณิช",null,null,null,null,null,null,"1692","TESCO LOTUS EXPRESS","KINGKAEW 36 : SAMUTPRAKARN","กิ่งแก้ว 36","เลขที่ 3/24 หมู่ที่ 4 ถนนกิ่งแก้ว ตำบลราชาเทวะ อำเภอบางพลี จังหวัดสมุทรปราการ 10540","10540","034-870-064","02-7501235","00581","2008-11-29","","","สมุทรปราการ"]
[null,"2035ZB0041","เจ๊รัก",null,null,null,null,null,null,"1693","TESCO LOTUS EXPRESS","SOI UDOMSUK 51 : BANGKOK","ซอยอุดมสุข 51","เลขที่ 1 ซอยอุดมสุข 51ถนนอุดมสุข แขวงบางจาก เขตพระโขนง กรุงเทพมหานคร 10260","10260","0-2988-4607","02-7465108","00580","","","","กรุงเทพ"]
[null,"2035ZB0043","เจ๊เล็ก",null,null,null,null,null,null,"1694","TESCO LOTUS EXPRESS","TALAD NONG - KRA THING",null,null,null,"074-444-225","054-313737","00539","","","",""]
[null,"2035ZB0044","ลุงวินัย",null,null,null,null,null,null,"1695","TESCO LOTUS EXPRESS","WATMAI SUWINTAWONG RD.","วัดใหม่ สุวินทวงศ์","เลขที่ 32/1 หมู่ที่ 8 ถนนสุวินทวงศ์ แขวงโคกแฝด เขตหนองจอก กรุงเทพมหานคร 10530","10530","043-373-156","02-9563715","00546","","","","กรุงเทพ"]
[null,"2035ZB0047","วัชรินทร์      สด",null,null,null,null,null,null,"1696","TESCO LOTUS EXPRESS","MOOBAN UDOMSUK : SRIRACHA","หมู่บ้านอุดมสุข ศรีราชา ","เลขที่ 41/118 หมู่ที่ 3 ตำบลสุรศักดิ์ อำเภอศรีราชา จังหวัดชลบุรี 20110","20110","043-781-525","038-772098","00724","2010-09-10",24,"Standalone","ชลบุรี"]
[null,"2035ZB0053","สวนขวัญ",null,null,null,null,null,null,"1697","TESCO LOTUS EXPRESS","WAT WANG HIN ROAD : SRIRACHA","วัดวังหิน ศรีราชา","เลขที่ 24/152 หมู่ที่ 1 ตำบลสุรศักดิ์ อำเภอศรีราชา จังหวัดชลบุรี 20110","20110","044-533-138 ","038-770436","00567","2010-11-20",24,"Shophouse","ชลบุรี"]
[null,"2035ZB0056","อุเทน",null,null,null,null,null,null,"1698","TESCO LOTUS EXPRESS","SOI KOSIN","ซอยโกสิน","เลขที่ 80 หมู่ที่ 6 ถนนเทพารักษ์ ตำบลเทพารักษ์ อำเภอเมืองสทุทรปราการ จังหวัดสมุทรปราการ 10270","10270","055-213-857","02-7547863","00552","2008-09-30","","","สมุทรปราการ"]
[null,"2035ZB0068","มธุกร",null,null,null,null,null,null,"1699","TESCO LOTUS EXPRESS","HINKONG SARABURI","หินกอง สระบุรี","เลขที่ 48/1 หมู่ที่ 1 ตำบลโคกแย้ อำเภอหนองแค จังหวัดสระบุรี 18230","18230","044-831-097","036-305929","00551","","","","อยุธยา"]
[null,"2035ZB0071","ทิพย์มินิมาร์ท",null,null,null,null,null,null,"1700","TESCO LOTUS EXPRESS","TALAD KASET PATTHANANIKOM : LOPBURI","ตลาดเกษตรพัฒนานิคม","เลขที่ 160/22 หมู่ที่ 1 ตำบลดีลัง อำเภอพัฒนานิคม จังหวัดลพบุรี 15220","15220","038-377-093","036-638546","00558","","","","อยุธยา"]
[null,"2035ZB0074","แม่สมปอง",null,null,null,null,null,null,"1701","TESCO LOTUS EXPRESS","SAKHABURI : CHAINAT",null,null,null,"056-565-076","056-424693","00559","","","",""]
[null,"2035ZB0077","เหลืองงาม เฟรชมาร์ท",null,null,null,null,null,null,"1702","TESCO LOTUS EXPRESS","CHUMCHON WAT BANAOI : SARABURI","ชุมชนวัดบ้านอ้อย","เลขที่ 1/6 ถนนเทศบาล 7 ตำบลปากเพียว อำเภอเมืองสระบุรี จังหวัดสระบุรี  18000","18000","053-570-035","036-313086","00572","","","","อยุธยา"]
[null,"2035ZB0078","รอน โชห่วย",null,null,null,null,null,null,"1703","TESCO LOTUS EXPRESS","SARABURI : SARABURI KINDERGARTEN","อนุบาลสระบุรี","เลขที่ 615/12-15 ถนนพหลโยธิน ตำบลปากเพียว อำเภอเมืองสระบุรี จังหวัดสระบุรี 18000","18000","038-734-976","036-318285","00565","","","","อยุธยา"]
[null,"2035ZB0079","เสกสรร",null,null,null,null,null,null,"1704","TESCO LOTUS EXPRESS","SARABURI HOSPITAL","โรงพยาบาลสระบุรี","เลขที่ 91/44-46 ถนนเทศบาล 4 ตำบลปากเพรียว อำเภอเมืองสระบุรี จังหวัดสระบุรี 18000","18000","056-020-216","036-318288","00566","","","","อยุธยา"]
[null,"2035ZB0081","ลานนารุ่งเรือง",null,null,null,null,null,null,"1705","TESCO LOTUS EXPRESS","KEHA : LADLUMKAEW","เคหะลาดหลุมแก้ว","เลขที่ 7/10-12 หมู่ที่ 5 ตำบลคูบางหลวง อำเภอลาดหลุมแก้ว จังหวัดปทุมธานี 12140","12140","056-564-440","02-9794616","00564","","","","ปทุมธานี"]
[null,"2035ZB0082","คอย",null,null,null,null,null,null,"1706","TESCO LOTUS EXPRESS","MOOBAAN PRACHACHUEN","หมู่บ้านประชาชื่น","เลขที่ 436/2 ถนนสามัคคี ตำบลท่าทราย อำเภอเมืองนนทบุรี จังหวัดนนทบุรี 11000","11000","044-534-052","02-9801582","00584","","","","กรุงเทพ"]
[null,"2035ZB0084","ดำเนินชัยเงินล้าน",null,null,null,null,null,null,"1707","TESCO LOTUS EXPRESS","EKACHAI ROAD","เอกชัย 99/1","เลขที่ 119/56 หมู่ที่ 4 แขวงบางบอน เขตบางบอน กรุงเทพมหานคร 10150","10150","032-753-232","02 895 0464 ","00587","2009-01-23",24,"DriveIn","กรุงเทพฯ"]
[null,"2035ZB0087","พรนิภา",null,null,null,null,null,null,"1708","TESCO LOTUS EXPRESS","GRAND PARK VIEW ASOKE TOWER","แกรนด์ พาร์ค วิว อโศก","เลขที่ 189/1 ถนนสุขุมวิท 21 (อโศก) แขวงคลองเตยเหนือ เขตวัฒนา กรุงเทพมหานคร 10110","10110","044-654-192","02-664 0322","00570","","","",""]
[null,"2035ZB0089","นิศา เพ็งศร",null,null,null,null,null,null,"1709","TESCO LOTUS EXPRESS","RAMA 2 ROAD : THACHALOM","พระราม 2 ท่าฉลอม","เลขที่ 40/59 หมู่ที่ 6 ตำบลท่าจีน อำเภอเมืองสมุทรสาคร จังหวัดสมุทรสาคร 74000","74000","043-534-035","034-822618","00603","2009-04-30","","","สมุทรสาคร"]
[null,"2035ZB0090","ตามา มินิมาร์ท",null,null,null,null,null,null,"1710","TESCO LOTUS EXPRESS","BUDDHA BUCHA : RAMA 2 SOI 29","ถนนพุทธบูชา","เลขที่ 30/126 หมู่ที่ 5 ถนนพุทธบูชา แขวงบางมด เขตจอมทอง กรุงเทพมหานคร 10150","10150","074-424-242","02 874 0480","00568","2008-11-07",24,"Standalone","กรุงเทพฯ"]
[null,"2035ZB0092","หมวดสมศักดิ์",null,null,null,null,null,null,"1711","TESCO LOTUS EXPRESS","YEAK 3 THAHARN : PRACHINBURI","แยกสามทหาร ปราจีนบุรี","เลขที่ 409/1 หมู่ที่ 8 ตำบลเมืองเก่า อำเภอกบินทร์บุรี จังหวัดปราจีนบุรี 25240","25240","037-232-837","037-203139","00574","","","","ปราจีนบุรี"]
[null,"2035ZB0095","หมวย-วังน้ำเย็น",null,null,null,null,null,null,"1712","TESCO LOTUS EXPRESS","WIANG PA PAO : CHIANGRAI",null,null,null,"02-998-0385","053-648705","00595","","","",""]
[null,"2035ZB0096","ติ๊ก-สุกัญญา",null,null,null,null,null,null,"1713","TESCO LOTUS EXPRESS","K HA CHUMCHON PHUKET",null,null,null,"044-699-496","076-253049","00607","","","",""]
[null,"2035ZB0099","บาส",null,null,null,null,null,null,"1714","TESCO LOTUS EXPRESS","WIHARN DAENG","วิหารแดง ","เลขที่ 196,196/1 หมู่ที่ 10 ตำบลหนองสรวง อำเภอวิหารแดง จังหวัดสระบุรี  18150","18150","044-532-161","036-365536","00590","","","","อยุธยา"]
[null,"2035ZB0100","พี่ไก่ บ้านเอื้ออาทร2",null,null,null,null,null,null,"1715","TESCO LOTUS EXPRESS","PHA CHE : AYUTTHAYA","ภาชี อยุธยา","เลขที่ 160/2-3,160/4 หมู่ที่ 5 ตำบลภาชี อำเภอภาชี จังหวัดพระนครศรีอยุธยา 13140","13140","043-294-722","035-311388","00591","","","","อยุธยา"]
[null,"2035ZB0101","ริน-ถนนทอง",null,null,null,null,null,null,"1716","TESCO LOTUS EXPRESS","K HA OR NGUEN","เคหะออเงิน","เลขที่ 41/2 หมู่ที่ 2 ถนนสุขาภิบาล 5 แขวงออเงิน เขตสายไหม กรุงเทพมหานคร 10220","10220","053-326-021","02-9981926","00602","","","","กรุงเทพ"]
[null,"2035ZB0102","แอ๋ว (ท่าข่อย)",null,null,null,null,null,null,"1717","TESCO LOTUS EXPRESS","WONGWIEN PHANARESUON : PRACHINBURI","วงเวียนพระนเรศวร ปราจีนบุรี","เลขที่ 19/29-30 หมู่ที่ 15 ตำบลบ้านพระ อำเภอเมืองปราจีนบุรี จังหวัดปราจีนบุรี 25230","25230","0-2895-4010","037-407025","00592","","","","ปราจีนบุรี"]
[null,"2035ZB0103","ประทุม",null,null,null,null,null,null,"1718","TESCO LOTUS EXPRESS","LOPBURI HOSPITAL","โรงพยาบาลลพบุรี","เลขที่ 66,17/2 ซอยศรีสุริโยทัย 1 ถนนพหลโยธิน ตำบลทะเลชุบศร อำเภอเมืองลพบุรี จังหวัดลพบุรี 15000","15000","042-630-024","036-627 302","00594","","","","อยุธยา"]
[null,"2035ZB0104","เชน",null,null,null,null,null,null,"1719","TESCO LOTUS EXPRESS","TALADS DEN HAR : CHIANGRAI",null,null,null,"0-2376-7520","053-752822","00598","","","",""]
[null,"2035ZB0105","กุสุมา",null,null,null,null,null,null,"1720","TESCO LOTUS EXPRESS","TALAD SRI SAI MOON : CHIANGRAI",null,null,null,"077-572-018","053 746 419","00599","","","",""]
[null,"2035ZB0106","แม่สมจิตร บ.ซ่ง",null,null,null,null,null,null,"1721","TESCO LOTUS EXPRESS","CHAINGRAI NIGHT BAZAAR",null,null,null,"036-624-986","053 754 506 ","00605","","","",""]
[null,"2035ZB0107","แม่นาง-ตรอกปลาไหล",null,null,null,null,null,null,"1722","TESCO LOTUS EXPRESS","MAE FAH LUANG UNIVERSITY",null,null,null,"038-701-872","053 706 510","00597","","","",""]
[null,"2035ZB0108","ขวัญ",null,null,null,null,null,null,"1723","TESCO LOTUS EXPRESS","BANG RACHAN : SINGBURI","บางระจัน","เลขที่ 45/3 หมู่ที่ 8 ตำบลไม้ดัด อำเภอบางระจัน จังหวัดสิงห์บุรี 16130","16130","035-234-823","036-534508","00613","","","","อยุธยา"]
[null,"2035ZB0109","นริศรา 1",null,null,null,null,null,null,"1724","TESCO LOTUS EXPRESS","LADPLAKHAO 52","ลาดปลาเค้า 52","เลขที่ 476 ถนนลาดปลาเค้า แขวงจรเข้บัว เขตลาดพร้าว กรุงเทพมหานคร 10230","10230","038-956-437","02-9403302","00625","","","","กรุงเทพ"]
[null,"2035ZB0110","นริศรา 2",null,null,null,null,null,null,"1725","TESCO LOTUS EXPRESS","VIPHAVADI RANGSIT ROAD SOI 16","วิภาวดี-รังสิต ซอย16","เลขที่ 64 ซอยโชคชัยร่วมมิตร ถนนวิภาวดีรังสิต แขวงจอมพล เขตจตุจักร กรุงเทพมหานคร 10900","10900","036-647-162","02-6914706","00606","","","","กรุงเทพ"]
[null,"2035ZB0111","บ.พันตาพาณิชย์ จำกัด",null,null,null,null,null,null,"1726","TESCO LOTUS EXPRESS","NADEE : PRACHINBURI","นาดี ปราจีนบุรี","เลขที่ 379/243-246 หมู่ที่ 10 ตำบลหนองกี่ อำเภอกบินทร์บุรี จังหวัดปราจีนบุรี 25110","25110","045-722-201","037-204 646","00593","","","","ปราจีนบุรี"]
[null,"2035ZB0112","จี้ด บ่อทอง",null,null,null,null,null,null,"1727","TESCO LOTUS EXPRESS","BAN DON : KHON KAEN","บ้านดอน ขอนแก่น"," 156/10 หมู่ที่ 13 ต.ในเมือง อ.เมืองขอนแก่น จ.ขอนแก่น 40000",40000,"077-522-705","043-330874","00624","","","",""]
[null,"2035ZB0113","แต๋ว-บ่อทอง",null,null,null,null,null,null,"1728","TESCO LOTUS EXPRESS","MOBAN AMORNPAN 9 SOI SENA","หมู่บ้านอมรพันธ์ 9","เลขที่ 70/123-126 หมู่ที่ 11 แขวงลาดพร้าว เขตลาดพร้าว กรุงเทพมหานคร 10230","10230","034-845-419","02-9421650","00596","","","","กรุงเทพ"]
[null,"2035ZB0114","ป้านึก-วังตะเคียน",null,null,null,null,null,null,"1729","TESCO LOTUS EXPRESS","AMPHER MUAK LEK : SARABURI","อำเภอมวกเหล็ก","เลขที่ 261 หมู่ที่ 9 ตำบลมิตรภาพ อำเภอมวกเหล็ก จังหวัดสระบุรี 18180","18180","077-257-192","036-327237","00600","","","","สระบุรี"]
[null,"2035ZB0115","น้ำซับ",null,null,null,null,null,null,"1730","TESCO LOTUS EXPRESS","KHAO PRA NGAM : LOBURI","เขาพระงาม ","เลขที่ 219 หมู่ 7 ตำบลเขาพระงาม อำเภอเมืองลพบุรี จังหวัดลพบุรี 15160","15160","042-637-101"," 036-642407","00601","","","","อยุธยา"]
[null,"2035ZB0116","พี่โย",null,null,null,null,null,null,"1731","TESCO LOTUS EXPRESS","NIKHOMSAMUTSAKORN : SAMUTSAKORN","นิคมสมุทรสาคร","เลขที่ 37/19 หมู่ 2 ตำบลท่าทราย อำเภอเมืองสมุทรสาคร จังหวัดสมุทรสาคร 74000","74000","043-326-588","034-822681","00652","2009-10-30","","","สมุทรสาคร"]
[null,"2035ZB0117","แสงเดือน",null,null,null,null,null,null,"1732","TESCO LOTUS EXPRESS","ONG KARAK","องครักษ์","เลขที่ 475/10 หมู่ที่ 1 ตำบลองครักษ์ อำเภอองครักษ์ จังหวัดนครนายก 26120","26120","044-298-163","037-322703","00604","","","","ปทุมธานี"]
[null,"2035ZB0118","สรศักดิ์",null,null,null,null,null,null,"1733","TESCO LOTUS EXPRESS","TALAD PUYODYING : KRATUMBAN","ตลาดภู่ยอดยิ่ง","เลขที่ 30/28 หมู่ที่ 7 ตำบลสวนหลวง อำเภอกระทุ่มแบน จังหวัดสมุทรสาคร 74110","74110","043-342-192","02-8138067","00608","2009-05-28","","","สมุทรสาคร"]
[null,"2035ZB0119","117SHOP",null,null,null,null,null,null,"1734","TESCO LOTUS EXPRESS","TALAD NONG PLA MOR : SARABURI","ตลาดหนองปลาหมอ","เลขที่ 23/1 หมู่ 7 ตำบลหนองปลาหมอ อำเภอหนองแค จังหวัดสระบุรี  18140","18140","044-679-643","036-325834","00612","","","","อยุธยา"]
[null,"2035ZB0120","เทพการค้า",null,null,null,null,null,null,"1735","TESCO LOTUS EXPRESS","PRACHA UTHIT 91","ประชาอุทิศ 91","เลขที่ 197/21 หมุ่ที่ 2 ถนนประชาอุทิศ แขวงทุ่งครุ เขตทุ่งครุ กรุงเทพมหานคร 10140","10140","038-888-072","02-8715941","00618","2009-06-28",24,"Standalone","กรุงเทพฯ"]
[null,"2035ZB0121","ป้าบำรุง-โนนฝาว",null,null,null,null,null,null,"1736","TESCO LOTUS EXPRESS","TALAD CHANGPHUEAK : CHIANGMAI",null,null,null,"034-832-458","053-405340","00627","","","",""]
[null,"2035ZB0122","ส้ม&สิงห์ มินิมาร์ท",null,null,null,null,null,null,"1737","TESCO LOTUS EXPRESS","TALAD WIBOONTHONG : CHIANGMAI",null,null,null,"0-2705-5197","053-435323","00609","","","",""]
[null,"2035ZB0123","สุกฤษ-เขามะกา",null,null,null,null,null,null,"1738","TESCO LOTUS EXPRESS","BANGKOK RAYONG HOSPITAL","โรงพยาบาลกรุงเทพ-ระยอง","เลขที่ 230/19 หมู่ที่ 2 ตำบลเนินพระ อำเภอเมืองระยอง จังหวัดระยอง 21000","21000","038-739-260","038-966294","00611","","","","ระยอง"]
[null,"2035ZB0125","คุณศรีสุวรรณ",null,null,null,null,null,null,"1739","TESCO LOTUS EXPRESS","TALAD MAE HEAR : CHIANGMAI",null,null,null,"045-797-356","053-806271","00610","","","",""]
[null,"2035ZB0126","ฟ้าใส",null,null,null,null,null,null,"1740","TESCO LOTUS EXPRESS","BAN KUKU : PHUKET",null,null,null,"043-344-033","076-241647","00615","","","",""]
[null,"2035ZB0127","ยายนวล",null,null,null,null,null,null,"1741","TESCO LOTUS EXPRESS","TALAD MOOBAN MUANG THONG : PHUKET",null,null,null,"038-376-640","076-243397","00614","","","",""]
[null,"2035ZB0128","ป้อม-สำปลาตอง",null,null,null,null,null,null,"1742","TESCO LOTUS EXPRESS","KA TA BEACH : PHUKET",null,null,null,"053-832-971","076-284819","00643","","","",""]
[null,"2035ZB0129","นวล-ทองคำ",null,null,null,null,null,null,"1743","TESCO LOTUS EXPRESS","BUDDHAMONTHON SAI 4 : KRATUMBAN","พุทธมณฑล สาย 4","เลขที่ 33/94-96 หมู่ที่ 10 ตำบลอ้อมน้อย อำเภอกระทุ่มแบน จังหวัดสมุทรสาคร 74130","74130","053-388-011","02-8130338","00621","2006-10-28","","","สมุทรสาคร"]
[null,"2035ZB0130","พี่นิด",null,null,null,null,null,null,"1744","TESCO LOTUS EXPRESS","304 PLAZA : PRACHINBURI","304 พลาซ่า","เลขที่ 144 หมู่ที่ 10 ตำบลท่าตูม อำเภอศรีมหาโพธิ จังหวัดปราจีนบุรี 25140","25140","043-372-102","037-208108","00616","","","","ปราจีนบุรี"]
[null,"2035ZB0131","อาทิตยา",null,null,null,null,null,null,"1745","TESCO LOTUS EXPRESS","NIKOMPATTANA : RAYONG","นิคมพัฒนา ระยอง","เลขที่ 199/26-27 ตำบลนิคมพัฒนา อำเภอนิคมพัฒนา จังหวัดระยอง 21180","21180","044-569-606","038-636655","00617","","","","ระยอง"]
[null,"2035ZB0132","108 SHOP( ไทยประคอง)",null,null,null,null,null,null,"1746","TESCO LOTUS EXPRESS","MOOBAN PETCHSIAM 3","หมู่บ้านเพชรสยาม 3","เลขที่ 44/55  หมู่ที่ 5 ถนนบางบอน 3 แขวงหลักสอง เขตบางแค กรุงเทพมหานคร  10160","10160","053-848-860","02-8064797","00622","2009-07-31",24,"Standalone","กรุงเทพฯ"]
[null,"2035ZB0133","แจ๊บ",null,null,null,null,null,null,"1747","TESCO LOTUS EXPRESS","CHA UAT : NAKORNSRITHAMMARAT",null,null,null,"034-841-489","075-381058","00628","","","",""]
[null,"2035ZB0134","ฮาวาย",null,null,null,null,null,null,"1748","TESCO LOTUS EXPRESS","BAN THUM : KHON KAEN","บ้านทุ่ม ขอนแก่น"," 360 หมู่ที่ 12 ต.บ้านทุ่ม อ.เมืองขอนแก่น จ.ขอนแก่น 40000",40000,"038-868-644","043-382 166","00632","","","",""]
[null,"2035ZB0135","สมทรง",null,null,null,null,null,null,"1749","TESCO LOTUS EXPRESS","TALAD THAPHAE : NAKORNSRITHAMMARAT",null,null,null,"074-240-228","075-312260","00636","","","",""]
[null,"2035ZB0136","สายทอง",null,null,null,null,null,null,"1750","TESCO LOTUS EXPRESS","TALAD TARNTHONG : SARABURI","ตลาดตาลทอง","เลขที่ 149 หมู่ 2 ตำบลตาลเดี่ยว อำเภอแก่งคอย จังหวัดสระบุรี 18110","18110","043-790-502","036-320878","00633","","","","อยุธยา"]
[null,"2036Z10002","อุมาพร 2",null,null,null,null,null,null,"1751","TESCO LOTUS EXPRESS","KHAO TALO PATTAYA : CHONBURI","เขาตาโล","เลขที่ 93/230 หมู่ที่ 11 ตำบลหนองปรือ อำเภอบางละมุง จังหวัดชลบุรี 20150","20150","053-426-291","038 377 002","00461","2009-10-29",24,"Shophouse","ชลบุรี"]
[null,"2036Z20002","MARUI",null,null,null,null,null,null,"1752","TESCO LOTUS EXPRESS","KHAO CHAGUN : SA KAEO",null,null,null,"0-2811-4161","037-511270","00639","","","",""]
[null,"2036Z20004","โนเว็นต้า",null,null,null,null,null,null,"1753","TESCO LOTUS EXPRESS","NAKORNLUENG : AYUTTAYA","นครหลวง อยุธยา","เลขที่ 226/2 หมู่ที่ 1 ตำบลนครหลวง อำเภอนครหลวง จังหวัดพระนครศรีอยุธยา 13260","13260","053-889-051","035-285123","00626","","","","อยุธยา"]
[null,"2036Z20005","TE SHOP",null,null,null,null,null,null,"1754","TESCO LOTUS EXPRESS","WANG SAM MO : UDON THANI","ประชาอุทิศ 91","TESCO LOTUS EXPRESS - TALAD DOI LO : CHIANGMAI",41280,"038-836-611","042-387275","00630","","","",""]
[null,"2036Z20006","ไทยแอโรว์",null,null,null,null,null,null,"1755","TESCO LOTUS EXPRESS","SAHAPAT SRIRACHA : CHONBURI","สหพัฒน์ ศรีราชา","เลขที่ 609/14-16 หมู่ที่ 11 ตำบลหนองขาม อำเภอศรีราชา จังหวัดชลบุรี 20230","20230","0-2926-0931","038 760 821","00645","2009-10-09",24,"Shophouse","ชลบุรี"]
[null,"2036Z20007","แหม่ม-พุธ-กระทิงแดง",null,null,null,null,null,null,"1756","TESCO LOTUS EXPRESS","SAHAPAT KAOWKILO ROAD : CHONBURI","ถนนสหพัฒน์เก้ากิโล ","เลขที่ 236/44-45 หมู่ 11 ตำบลหนองขาม อำเภอศรีราชา จังหวัดชลบุรี 20230","20230","0-2866-3142","038 763 604","00634","2009-08-31",24,"Shophouse","ชลบุรี"]
[null,"2036Z20009","สมร 2",null,null,null,null,null,null,"1757","TESCO LOTUS EXPRESS","AMPHER PHAYUHA KHIRI : NAKORNSAWAN",null,null,null,"038-373-378 ","056-316462","00646","","","",""]
[null,"2036Z20010","เจ๊หลี",null,null,null,null,null,null,"1758","TESCO LOTUS EXPRESS","PHOTONG : AUNGTONG","โพธิ์ทอง อ่างทอง","เลขที่ 486 หมู่ที่ 5 ตำบลอ่างแก้ว อำเภอโพธิ์ทอง จังหวัดอ่างทอง 14120","14120","035-726-807","035-640872","00641","","","","อยุธยา"]
[null,"2036Z20011","อิเมอร์สัน (เบญจวรรณ)",null,null,null,null,null,null,"1759","TESCO LOTUS EXPRESS","TALAD BAN HOY : UDON THANI","ตลาดบ้านห้วย อุดรธานี"," 184/4,184/5-6 ถ.อุดรดุษฎี ต.หมากแข้ง อ.เมืองอุดรธานี จ.อุดรธานี 41000",41000,"038-078-993","042-324770","00637","","","",""]
[null,"2036Z20014","สัญญา นัยเลิศ (แตน-แคนนอน)",null,null,null,null,null,null,"1760","TESCO LOTUS EXPRESS","AMPHUR SOIDAO : CHANTHABURI","อำเภอสอยดาว จันทบุรี","เลขที่ 82/4-6 หมู่ที่ 1 ตำบลปะตง อำเภอสอยดาว จังหวัดจันทบุรี  22180","22180","044-520-177","039-364197","00642","","","","จันทบุรี"]
[null,"2036Z20015","ฮง-สมร2",null,null,null,null,null,null,"1761","TESCO LOTUS EXPRESS","DOI SAKET : CHAINGMAI",null,null,null,"077-218-329","053-866135","00663","","","",""]
[null,"2036Z30001","รพ.ศรีมหาโพธิ",null,null,null,null,null,null,"1762","TESCO LOTUS EXPRESS","KE-HA MUENG MAI BANGPLEE : SAMUTPRAKARN","เคหะเมืองใหม่ บางพลี","เลขที่ 4/356,4/357 หมู่ที่ 16 ตำบลบางเสาธง อำเภอบางเสาธง จังหวัดสมุทรปราการ 10540","10540","0-2740-5176","02-7050161","00661","2009-11-29","","","สมุทรปราการ"]
[null,"2036Z50001","บางจากโคกปีบ",null,null,null,null,null,null,"1763","TESCO LOTUS EXPRESS","MOOBAN ANUPAS : PHUKET",null,null,null,"035-231-984","076-522346","00638","","","",""]
[null,"2036Z50002","บางจากกาแฟสด",null,null,null,null,null,null,"1764","TESCO LOTUS EXPRESS","DAN KWAIN : NAKORNRATCHASRIMA","ด่านเกวียน","เลขที่ 249 หมู่ที่ 2 ตำบลด่านเกวียน อำเภอโชคชัย จังหวัดนครราชสีมา 30190","30190","0-2945-2017","044-338110","00635","","","","นครราชสีมา"]
[null,"2036Z50003","เจริญปิโตรเลียม (บางเดชะ)",null,null,null,null,null,null,"1765","TESCO LOTUS EXPRESS","CHAT PA WAI : RATCHABURI","ชัฏป่าหวาย ราชบุรี","เลขที่ 14/11 หมู่ที่ 1 ตำบลท่าเคย อำเภอสวนผึ้ง จังหวัดราชบุรี 70180","70180","043-324-786 ","032-364551","00647","2008-05-10","","","ราชบุรี"]
[null,"2036Z50004","มายด์มินิมาร์ท",null,null,null,null,null,null,"1766","TESCO LOTUS EXPRESS","RAMINTRA 40 : BANGKOK","รามอินทรา 40","เลขที่ 126/274 ซอยรามอินทรา 40 แยก 33-1-2 ถนนรามอินทรา แขวงนวลจันทร์ เขตบึงกุ่ม กรุงเทพมหานคร 10240","10240","053-368-302","02-9446711","00653","","","","กรุงเทพ"]
[null,"2036Z50005","วิเชียร",null,null,null,null,null,null,"1767","TESCO LOTUS EXPRESS","ROJANA INDUSTRIAL : AYUTTHAYA","นิคมอุตสาหกรรมโรจนะ","เลขที่ 475 หมู่ที่ 2 ตำบลสามเรือน อำเภอบางปะอิน จังหวัดพระนครศรีอยุธยา 13160","13160","043-332-032","035-227296","00655","","","","อยุธยา"]
[null,"2036Z70001","จ่าน้อย",null,null,null,null,null,null,"1768","TESCO LOTUS EXPRESS","SOI PUENGMEE 17 : BANGKOK","ซอยพึ่งมี  สุขุมวิท 93","เลขที่ 1/2 ซอยพึ่งมี 17 แขวงบางจาก เขตพระโขนง กรุงเทพมหานคร 10260","10260","0-2543-8141","02-7300595","00656","","","","กรุงเทพ"]
[null,"2036ZB0001","ฉวี",null,null,null,null,null,null,"1769","TESCO LOTUS EXPRESS","MONUMENT PHUKET : PHUKET",null,null,null,"0-2810-6019","076-273754","00650","","","",""]
[null,"2036ZB0005","โฟร์มาร์ท",null,null,null,null,null,null,"1770","TESCO LOTUS EXPRESS","HUASAI : NAKORNSRITHAMMARAT",null,null,null,"044-330-042","075-337165","00654","","","",""]
[null,"2036ZB0006","แมว  มินิมาร์ท",null,null,null,null,null,null,"1771","TESCO LOTUS EXPRESS","NONGPHO : RATCHABURI","หนองโพ ราชบุรี","เลขที่ 4/14 หมู่ที่ 9 ตำบลหนองโพ อำเภอโพธาราม จังหวัดราชบุรี 70120","70120","0-2991-0583","032-351883","00660","2009-11-27","","","ราชบุรี"]
[null,"2036ZB0007","รุจิรา",null,null,null,null,null,null,"1772","TESCO LOTUS EXPRESS","JOR HOR : NAKORNRATCHASRIMA","จอ หอ","เลขที่ 7 หมู่ที่ 3 ตำบลจอหอ อำเภอเมืองนครราชสีมา จังหวัดนครราชสีมา 30310","30310","043-859-605","044-296197","00662","","","","นครราชสีมา"]
[null,"2036ZB0008","วินัยมาร์ท",null,null,null,null,null,null,"1773","TESCO LOTUS EXPRESS","SAIYUAN : PHUKET",null,null,null,"053-369-042","076-289758","00658","","","",""]
[null,"2036ZB0009","สุราบางคล้า",null,null,null,null,null,null,"1774","TESCO LOTUS EXPRESS","PRACHAKSINLAPAKORN : UDONTHANI","โรงพยาบาลประจักษ์ศิลปาคม"," 328/5,328/6 หมู่ที่1 ต.หมากแข้ง อ.เมืองอุดรธานี จ.อุดรธานี 41000",41000,"0-2896-5908","042-341519","00659","","","",""]
[null,"2036ZB0010","สมฤทัย",null,null,null,null,null,null,"1775","TESCO LOTUS EXPRESS","SANAMLUENG 2","สนามหลวง 2","เลขที่ 76/4 ถนนทวีวัฒนา แขวงทวีวัฒนา เขตทวีวัฒนา กรุงะทพมหานคร 10170","10170","038-300-474","02-8067391","00668","2009-12-19",24,"Standalone","กรุงเทพฯ"]
[null,"2036ZB0011","9 เกาะลอย",null,null,null,null,null,null,"1776","TESCO LOTUS EXPRESS","TALAD MAEKORN DON KHWANG : NAKORNRATCHASRIMA","ตลาดแม่กร ดอนขวาง","เลขที่ 95,96 หมู่ที่ 3 ตำบลหัวทะเล อำเภอเมืองนครราชสีมา จังหวัดนครราชสีมา 30000","30000","038-720749","044-266346","00667","","","","นครราชสีมา"]
[null,"2036ZB0013","ควิกลี่มาร์ท",null,null,null,null,null,null,"1777","TESCO LOTUS EXPRESS","NA NAI ROAD : PHUKET",null,null,null,"043-879-558","076-294415","00673","","","",""]
[null,"2036ZB0014","จอห์นมินิมาร์ท",null,null,null,null,null,null,"1778","TESCO LOTUS EXPRESS","SUNG NOEN : NAKORNRATCHASRIMA","สูงเนิน","เลขที่ 767 หมู่ที่ 11 ตำบลสูงเนิน อำเภอสูงเนิน จังหวัดนครราชสีมา 30170","30170","038-376-428","044-286757","00672","","","","นครราชสีมา"]
[null,"2036ZB0016","ตาต่อ มินิมาร์ท",null,null,null,null,null,null,"1779","TESCO LOTUS EXPRESS","BAN NON SUNG : UDON THANI","บ้านโนนสูง"," 126 หมู่ที่11 ต.โนนสูง อ.เมืองอุดรธานี จ.อุดรธานี  41330",41330,"077-572-103","042-207852","00680","","","",""]
[null,"2036ZB0019","บีม-เบส",null,null,null,null,null,null,"1780","TESCO LOTUS EXPRESS","K HA SALAYA : NAKORNPATHOM","เคหะศาลายา","เลขที่ 71 หมู่ที่ 3 ตำบลมหาสวัสดิ์ อำเภอพุทธมณฑล จังหวัดนครปฐม 73170","73170","0-2752-3154","02-889 2991","00674","2012-02-01","","","นครปฐม"]
[null,"2036ZB0020","บังอร",null,null,null,null,null,null,"1781","TESCO LOTUS EXPRESS","CHOK CHAI : NAKORNRATCHASRIMA","โชคชัย","เลขที่ 408 หมู่ที่ 1 ตำบลโชคชัย อำเภอโชคชัย จังหวัดนครราชสีมา 30190","30190","38-378-086","044-202993","00684","","","","นครราชสีมา"]
[null,"2036ZB0022","ปราณี    สาย 6",null,null,null,null,null,null,"1782","TESCO LOTUS EXPRESS","TALAD AEKKASIN : RAYONG","ตลาดเอกสิน","เลขที่ 234/279 หมู่ที่ 5 ตำบลเชิงเนิน อำเภอเมืองระยอง จังหวัดระยอง 21000","21000","032-395-495","038-803126","00676","","","","ระยอง"]
[null,"2036ZB0023","พรรณธวรรณ",null,null,null,null,null,null,"1783","TESCO LOTUS EXPRESS","PHUKET AIRPORT : PHUKET",null,null,null,"02-903-8457","076-205281","00679","","","",""]
[null,"2036ZB0024","พีพีเอส มินิมาร์ท",null,null,null,null,null,null,"1784","TESCO LOTUS EXPRESS","WANG MUANG : SARABURI",null,null,null,"038-789687","036-364115","00682","","","",""]
[null,"2036ZB0025","ยายติ๋ม",null,null,null,null,null,null,"1785","TESCO LOTUS EXPRESS","AMPHER TAPKHLO : PICHIT",null,null,null,"037-385-042","056-654499","00690","","","",""]
[null,"2036ZB0026","ยายหนา",null,null,null,null,null,null,"1786","TESCO LOTUS EXPRESS","NON SA AT : SAKONNAKORN","โนนสะอาด"," 23 หมู่ที่2 ต.โนนสะอาด อ.โนนสะอาด จ.อุดรธานี  41240",41240,"038-297-099","042-392622","00675","","","",""]
[null,"2036ZB0027","รัตน์ชูดา",null,null,null,null,null,null,"1787","TESCO LOTUS EXPRESS","PHU WIANG : KHON KAEN","ภูเวียง"," 202-205 หมู่ที่3 ต.ภูเวียง อ.ภูเวียง จ.ขอนแก่น  40150",40150,"034-238-568","043-292133","00681","","","",""]
[null,"2036ZB0028","เริศลักษณ์",null,null,null,null,null,null,"1788","TESCO LOTUS EXPRESS","AMPHUR SAMNGAM : PHICHIT",null,null,null,"038-705-337","056-665708","00683","","","",""]
[null,"2036ZB0030","เล็ก",null,null,null,null,null,null,"1789","TESCO LOTUS EXPRESS","HUA THANON : NAKORNSRITHAMMARAT",null,null,null,"038-490-801","075-324601","00686","","","",""]
[null,"2036ZB0031","บ.ศรีสยามกลการ",null,null,null,null,null,null,"1790","TESCO LOTUS EXPRESS","NON THAI : NAKORNRATCHASRIMA","โนนไทย","เลขที่ 889 หมู่ที่ 1 ตำบลโนนไทย อำเภอโนนไทย จังหวัดนครราชสีมา 30220","30220","038-746-325","044-320078","00685","","","","นครราชสีมา"]
[null,"2036ZB0032","สาว",null,null,null,null,null,null,"1791","TESCO LOTUS EXPRESS","MOO BAN NAKKEELA : BANGKOK","หมู่บ้านนักกีฬา","เลขที่ 106/4-7 หมู่ที่ 16 แขวงสะพานสูง เขตสะพานสูง จังหวัดกรุงเทพมหานคร 10250","10250","0-2714-1322","02- 7359516","00713","","","","กรุงเทพ"]
[null,"2036ZB0034","อุษา",null,null,null,null,null,null,"1792","TESCO LOTUS EXPRESS","SOI LUANG PHAENG 5 : BANGKOK","ซอยหลวงแพ่ง 5","เลขที่ 2/1 ถนนขุมทอง-ลำต้อยติ่ง แขวงขุมทอง เขตลาดกระบัง จังหวัดกรุงเทพมหานคร 10520","10520","0-2813-4083","02-7041292","00691","","","","กรุงเทพ"]
[null,"2036ZB0035","อ้อย  สาย 6",null,null,null,null,null,null,"1793","TESCO LOTUS EXPRESS","BUDDHA MONTHON SAI 2 : NAKORNPATHOM","พุทธมณฑล สาย 2","เลขที่ 149 ถนนพุทธมณฑล สาย 2 แขวงบางแคเหนือ เขตบางแค กรุงเทพมหานคร 10160","10160","038-726-362","02-8054457","00694","2010-05-29",24,"Standalone","กรุงเทพฯ"]
[null,"2036ZB0038","บุญเรือน",null,null,null,null,null,null,"1794","TESCO LOTUS EXPRESS","TALAD LADLUMKAEW : PATHUMTHANI","ตลาดลาดหลุมแก้ว","เลขที่ 8/1 หมู่ที่ 4 ตำบลระแหง อำเภอลาดหลุมแก้ว จังหวัดปทุมธานี 12140","12140","038-034-534","02-976-1841","00696","","","","ปทุมธานี"]
[null,"2036ZB0040","ลุงพจน์",null,null,null,null,null,null,"1795","TESCO LOTUS EXPRESS","BAN KWAO : CHAIYAPHUM","บ้านเขว้า","เลขที่ 43 หมู่ที่ 2 ตำบลบ้านเขว้า อำเภอบ้านเขว้า จังหวัดชัยภูมิ 36170","36170","0-2879-8581","044-839899","00689","","","","ชัยภูมิ"]
[null,"2036ZB0042","น้องทราย",null,null,null,null,null,null,"1796","TESCO LOTUS EXPRESS","TALAD SAVE ONE : NAKORNRATCHSRIMA","ตลาดเซฟวัน","เลขที่ 1485/2 ถนนมิตรภาพ ตำบลในเมือง อำเภอเมืองนครราชสีมา จังหวัดนครราชสีมา 30000","30000","0-2747-4714","044-299060","00700","","","","นครราชสีมา"]
[null,"2036ZB0043","สำเริง ธงชัย",null,null,null,null,null,null,"1797","TESCO LOTUS EXPRESS","TALAD TANOMMIT : BANGKOK","ตลาดถนอมมิตร วัชรพล","เลขที่ 16 ซอยรามอินทรา 55/8 ถนนรามอินทรา แขวงท่าแร้ง เขตบางเขน กรุงเทพมหานคร 10220","10220","075-377-231","02-3470360","00692","","","","กรุงเทพ"]
[null,"2036ZB0044","น้องภูมิมินิมาร์ท",null,null,null,null,null,null,"1798","TESCO LOTUS EXPRESS","TALAD PHA MUED : CHIANGMAI",null,null,null,null,"053-397526","00697","","","",""]
[null,"2036ZB0046","นำไทยซุปเปอร์มาร์เก็ต",null,null,null,null,null,null,"1799","TESCO LOTUS EXPRESS","TALAD NONG YAI : KHON KAEN","หนองใหญ่ ขอนแก่น"," 7/2,7/7,7/8,7/11 หมู่ที่6 ต.ในเมือง อ.เมืองขอนแก่น จ.ขอนแก่น 40000",40000,"053-400-094","043-336392","00701","","","",""]
[null,"2036ZB0047","เพ็ญภรณ์ พันธสีมา",null,null,null,null,null,null,"1800","TESCO LOTUS EXPRESS","BAAN LAD : PHETCHABURI",null,null,null,"054-331-474","032-440963","00709","","","",""]
[null,"2036ZB0048","พรปราณี",null,null,null,null,null,null,"1801","TESCO LOTUS EXPRESS","WAT KROK KRAK : SAMUTSAKORN","วัดโกรกกราก","เลขที่ 75/1 ถนนธรรมคุณากร ตำบลโกรกกราก อำเภอเมืองสมุทรสาคร จังหวัดสมุทรสาคร 74000","74000","043-378-186","034-841041","00695","2010-05-26","","","สมุทรสาคร"]
[null,"2036ZB0049","น้องแบงค์",null,null,null,null,null,null,"1802","TESCO LOTUS EXPRESS","BUENG KAEN NAKORN : KHON KAEN","บึงแก่นนคร"," 167 ต.ในเมือง อ.เมืองขอนแก่น จ.ขอนแก่น 40000",40000,"038-367-174","043-321966","00702","","","",""]
[null,"2036ZB0050","ศิริพร เจริญ",null,null,null,null,null,null,"1803","TESCO LOTUS EXPRESS","MANCHA KIRI : KHON KAEN","มัญจาคีรี ขอนแก่น"," 240 หมู่ที่13 ต.กุดเค้า อ.มัญจาคีรี จ.ขอนแก่น 40160",40160,"042-375-613","043-381211","00708","","","",""]
[null,"2036ZB0051","สนธยา (ดงกระทงยาม)",null,null,null,null,null,null,"1804","TESCO LOTUS EXPRESS","WAT SINGHA : CHAINAT",null,null,null,"074-438-655","056-430335","00704","","","",""]
[null,"2036ZB0053","ไพ (บางกุ้ง)",null,null,null,null,null,null,"1805","TESCO LOTUS EXPRESS","THAP SAKAE : PRAJOUBKIRIKHUN",null,null,null,"054-340-276","032-546074","00698","","","",""]
[null,"2036ZB0055","สมจิตร (โคกมะกอก)",null,null,null,null,null,null,"1806","TESCO LOTUS EXPRESS","KUCHINARAI : KALASIN","กุฉินารายณ์ กาฬสินธุ์"," 208 หมู่ที่2 ต.บัวขาว อ.กฉินารายณ์ จ.กาฬสินธุ์ 46110",46110,"054-334-906","043-832502","00703","","","",""]
[null,"2036ZB0056","วาสนา (บ้านหอย)",null,null,null,null,null,null,"1807","TESCO LOTUS EXPRESS","KAMALASAI : KALASIN","กมลาไสย กาฬสินธุ์"," 80 หมู่ที่1 ต.กมลาไสย อ.กมลาไสย จ.กาฬสินธุ์ 46130",46130,"053-418-057","043-831008","00722","","","",""]
[null,"2036ZB0057","ประคอง",null,null,null,null,null,null,"1808","TESCO LOTUS EXPRESS","KANCHANAPHISEK 39 : BANGKOK","กาญจนาภิเษก 39","เลขที่ 24 ซอย01 กาญจนาภิเษก 39 ถนนกาญจนาภิเษก แขวงดอกไม้ เขตประเวศ กรุงเทพมหานคร 10250","10250","053-890-257","0-2727-0247","00732","","","","กรุงเทพ"]
[null,"2036ZB0058","อาทิตย์-วังดาล",null,null,null,null,null,null,"1809","TESCO LOTUS EXPRESS","HAN KHA : CHAINAT",null,null,null,"042-353-302","056-422336 ","00711","","","",""]
[null,"2037Z10002","รร.มณีเสวตอุปถัมภ์",null,null,null,null,null,null,"1810","TESCO LOTUS EXPRESS","TALAD ROT PHAI : PHITSANULOK",null,null,null,"044-561-512","055-219932","00715","","","",""]
[null,"2037Z10005","รร.เตรียมอุดม",null,null,null,null,null,null,"1811","TESCO LOTUS EXPRESS","TALAD BO NAM : UDONTHANI","ตลาดบ่อน้ำ อุดรธานี"," 312 หมู่ที่9 หมุม่น อ.เมืองอุดรธานี จ.อุดรธานี 41000",41000,"076-287-021","042-348-168","00719","","","",""]
[null,"2037Z20001","HITACHI             สด",null,null,null,null,null,null,"1812","TESCO LOTUS EXPRESS","BAN AMPHUR PATTAYA : CHONBURI","บ้านอำเภอ พัทยา","เลขที่ 167/6 หมู่ที่ 9 ตำบลนาจอมเทียน อำเภอสัตหีบ จังหวัดชลบุรี 20250","20250","044-322-242","038-709507","00721","2010-08-18",24,"Standalone","ชลบุรี"]
[null,"2037Z20002","PM.FOOD",null,null,null,null,null,null,"1813","TESCO LOTUS EXPRESS","PHU KAEW : CHAIYAPHUM","ภูเขียว"," 1067,1068,1069,1070 หมู่ที่1 ต.ผักปัง อ.ภูเขียว จ.ชัยภูมิ 36110","36110","056-326-211","044-845015","00710","","","",""]
[null,"2037Z20004","ซีฟาร์",null,null,null,null,null,null,"1814","TESCO LOTUS EXPRESS","WAT SEANPHUDAT : CHACHEONGSAO","วัดแสนภูดาษ","เลขที่ 11/11,11/12,11/13,11/14 หมู่ที่ 3 ตำบลแสนภูดาษ อำเภอบ้านโพธิ์ จังหวัดฉะเชิงเทรา 24140","24140","038-865-118","038-578654","00717","2010-08-07","","","ฉะเชิงเทรา"]
[null,"2037Z20005","พรีเมียร์ มาร์ท",null,null,null,null,null,null,"1815","TESCO LOTUS EXPRESS","NAM PONG : KHON KAEN","น้ำพอง ขอนแก่น"," 69-71 หมู่ที่1 ต.น้ำพอง อ.ขอนแก่น จ.ขอนแก่น 40000",40000,"043-720-103","043-432240","00718","","","",""]
[null,"2037Z20006","HAIER 1",null,null,null,null,null,null,"1816","TESCO LOTUS EXPRESS","NAKORNLUANG 2 : AYUTTHAYA","นครหลวง 2 อยุธยา","เลขที่ 134/33-35 หมู่ที่ 2 ตำบลบ่อโพง อำเภอนครหลวง จังหวัดพระนครศรีอยุธยา 13260","13260","043-877-492","035-724637","00712","","","","อยุธยา"]
[null,"2037Z20007","TUAบ้านโคก",null,null,null,null,null,null,"1817","TESCO LOTUS EXPRESS","TALAD HUA HIN : PRACHUAPKIRIKHAN",null,null,null,"042-268-325","032-530187","00714","","","",""]
[null,"2037Z20008","ซิกซอน",null,null,null,null,null,null,"1818","TESCO LOTUS EXPRESS","PROMKIRI : NAKORNSRITHAMMARAT",null,null,null,"077-251-116","075-338310","00716","","","",""]
[null,"2037Z20011","ฟูจิคูระ",null,null,null,null,null,null,"1819","TESCO LOTUS EXPRESS","SIAM COUNTRY CLUB PATTAYA : CHONBURI","สยามคันทรี่คลับ พัทยา","เลขที่ 244/108 หมู่ที่ 6 ตำบลหนองปรือ อำเภอบางละมุง จังหวัดชลบุรี 20150","20150","044-489-119","038-730210","00723","2010-09-10",24,"Standalone","ชลบุรี"]
[null,"2037Z20012","สยามไอซิน บ้านโคก",null,null,null,null,null,null,"1820","TESCO LOTUS EXPRESS","BAN KRANG : PITSANULOK",null,null,null,"045-267-226","055-298522","00731","","","",""]
[null,"2037Z20013","สุนทรีย์-ฮิตาชิ",null,null,null,null,null,null,"1821","TESCO LOTUS EXPRESS","THUNGSAO : SONGKLA",null,null,null,"044-653-210","074-420434","00727","","","",""]
[null,"2037Z20014","อิโนแอ็ค",null,null,null,null,null,null,"1822","TESCO LOTUS EXPRESS","BARRING : SAMUTPRAKARN","แบริ่ง สมุทรปราการ","เลขที่ 200 หมู่ที่ 10 ตำบลสำโรงเหนือ อำเภอเมืองสมุทรปราการ จังหวัดสมุทรปราการ 10270","10270","053-829-513","0-2743-2603","00743","2010-10-31","","","สมุทรปราการ"]
[null,"2037Z20015","ฮิตาชิอินดัสเตรียล-สด",null,null,null,null,null,null,"1823","TESCO LOTUS EXPRESS","WAT NAWONG DONMUANG : BANGKOK","วัดนาวง ดอนเมือง","เลขที่ 142 ถนนนาวงประชาพัฒนา แขวงสีกัน เขตดอนเมือง กรุงเทพมหานคร 10210","10210","044-622-132","0-2929-1956","00736","","","","ปทุมธานี"]
[null,"2037Z20017","เจ๊แมว โคโลกุวา-บ้านโคก",null,null,null,null,null,null,"1824","TESCO LOTUS EXPRESS","K HA THONBURI RAMA II : BANGKOK",null,null,null,"0-2901-2216","0-2894-1517","00735","","","",""]
[null,"2037Z20020","รัตนาภรณ์  นับเจริญ",null,null,null,null,null,null,"1825","TESCO LOTUS EXPRESS","SOI HATHAIRAT 33 : BANGKOK","ซอยหทัยราษฎร์ 33","เลขที่ 585 ถนนหทัยราษฎร์ แขวงบางชัน เขตคลองสามวา กรุงเทพมหานคร 10510","10510","045-787-345","0-2906-5180","00737","","","","กรุงเทพ"]
[null,"2037Z20021","กุ้ง บ้านนา",null,null,null,null,null,null,"1826","TESCO LOTUS EXPRESS","CHALEARM NIMIT : BANGKOK","แฉล้มนิมิตร","เลขที่ 157,159,161 ถนนแฉล้มนิมิตร(ฝั่งซ้าย) แขวงบางโคล่ เขตบางคอแหลม กรุงเทพมหานคร 10120","10120","053-850-232","0-2688-4347","00728","","","","กรุงเทพ"]
[null,"2037Z20022","ปู บ้านนา",null,null,null,null,null,null,"1827","TESCO LOTUS EXPRESS","CHUMCHON GOLFVIEW : PRAJOUBKIRIKHAN",null,null,null,"075-689-267","032-535-491","00745","","","",""]
[null,"2037Z20024","ชินพันธ์ (บ.ไฮเออร์)",null,null,null,null,null,null,"1828","TESCO LOTUS EXPRESS","HAPPY LAND : BANGKOK","แฮปปี้แลนด์","เลขที่ 67,69,71 ซอยศูนย์บันเทิงการค้า แขวงคลองจั่น เขตบางกะปิ กรุงเทพมหานคร 10240","10240","077-244-395","0-2733-1265","00729","","","","กรุงเทพ"]
[null,"2037Z20025","ไทยฟู๊ด บ้านนา",null,null,null,null,null,null,"1829","TESCO LOTUS EXPRESS","TALAD WONGSAKORN : BANGKOK",null,null,null,null,"02-991-7680","00754","","","",""]
[null,"2037Z20026","วัฒนา(ทาพาโก)",null,null,null,null,null,null,"1830","TESCO LOTUS EXPRESS","TALAD TALANG : PHUKET",null,null,null,"038-610-067","076-274774","00726","","","",""]
[null,"2037Z30001","รพ.นาดี",null,null,null,null,null,null,"1831","TESCO LOTUS EXPRESS","SOI SUA YAI U-THIT : BANGKOK","ซอยเสือใหญ่อุทิศ ","เลขที่ 15/124 ซอยเสือใหญ่อุทิศ ถนนรัชดาภิเษก แขวงจันทรเกษม เขตจตุจักร กรุงเทพมหานคร 10900","10900","077-262-293","0-2930-5392","00739","","","","กรุงเทพ"]
[null,"2037Z50001","ถฑาฐิธีย์",null,null,null,null,null,null,"1832","TESCO LOTUS EXPRESS","KHAO CHAISON : PHATTHALUNG",null,null,null,"038-802-680","074-691404","00738","","","",""]
[null,"2037Z50002","บางจากมุกดา",null,null,null,null,null,null,"1833","TESCO LOTUS EXPRESS","WAPI PATHUM : MAHASARAKHAM","วาปีปทุม มหาสารคาม"," 240/8-10 ต.หนองแสง อ.วาปีปทุม จ.มหาสารคาม 44120",44120,"053-852-309","043-798786","00742","","","",""]
[null,"2037Z50011","อรายา",null,null,null,null,null,null,"1834","TESCO LOTUS EXPRESS","SOI POONCHAROEN : SAMUTPRAKARN","ซอยพูลเจริญ","เลขที่ 41/45-41/49 หมู่ที่ 6 ซอยพูลเจริญ ถนนบางนา-ตราด ตำบลบางโฉลง อำเภอบางพลี จังหวัดสมุทรปราการ 10540","10540","075-330-103","0-2740-5038","00746","2010-12-04","","","สมุทรปราการ"]
[null,"2037Z50013","ซัสโก้",null,null,null,null,null,null,"1835","TESCO LOTUS EXPRESS","KHANOM : NAKORNSRITHAMMARAT",null,null,null,"077-234-173","075-326-432","00756","","","",""]
[null,"2037Z90001","ดีสโตร์ มินิมาร์ท",null,null,null,null,null,null,"1836","TESCO LOTUS EXPRESS","NONG KUNG SRI : KALASIN","หนองกุงศรี กาฬสินธุ์"," 245 หมู่ที่1 ต.ลำหนองแสน อ.หนองกุงศรี จ.กาฬสินธุ์ 46220",46220,"056-754-077","043-881376","00747","","","",""]
[null,"2037ZB0003","โชคช้ย",null,null,null,null,null,null,"1837","TESCO LOTUS EXPRESS","PATTAYA SAI 3 SOI 17 : CHONBURI","พัทยา สาย 3 ซอย 17","เลขที่ 584/1, 584/2, 584/3, 584/4 หมู่ที่ 10 ตำบลหนองปรือ อำเภอบางละมุง จังหวัดชลบุรี 20150","20150","042-357-247","038-713-411","00781","2011-01-26",24,"Shophouse","ชลบุรี"]
[null,"2037ZB0004","ดอกไม้",null,null,null,null,null,null,"1838","TESCO LOTUS EXPRESS","BO LO : NAKORNSRITHAMMARAT",null,null,null,"038-966-636","075-362-076","00768","","","",""]
[null,"2037ZB0005","ดีมิก มาร์ท",null,null,null,null,null,null,"1839","TESCO LOTUS EXPRESS","THAP PUD : PHANG NGA",null,null,null,"042-364-085","076-442-483","00751","","","",""]
[null,"2037ZB0006","เจ๊เตือน",null,null,null,null,null,null,"1840","TESCO LOTUS EXPRESS","SOI LASAN : BANGKOK","ซอยลาซาล","เลขที่ 758 ถนนลาซาล แขวงบางนา เขตบางนา กรุงเทพมหานคร 10260","10260","077-365-404","0-2361-6515","00755","2010-11-30","","","กรุงเทพฯ"]
[null,"2037ZB0007","ป้าแต๋ว นาดี",null,null,null,null,null,null,"1841","TESCO LOTUS EXPRESS","KIMBERLY KLARK : SONGKHLA",null,null,null,"044-538-047","074-471-500","00767","","","",""]
[null,"2037ZB0008","บำรุงชู",null,null,null,null,null,null,"1842","TESCO LOTUS EXPRESS","CHUMCHON SUAN PRIKTHAI : NAKORNRATCHASRIMA","ชุมชนสวนพริกไทย","เลขที่ 424 หมู่ที่ 10 ตำบลบ้านใหม่ อำเภอเมืองนครราชสีมา จังหวัดนครราชสีมา 30000","30000","038-433-284","044-282-408","00758","","","","นครราชสีมา"]
[null,"2037ZB0009","เจ๊ป๊อก",null,null,null,null,null,null,"1843","TESCO LOTUS EXPRESS","KAMMALA BEACH : PHUKET",null,null,null,"044-444-456","076-279-714","00762","","","",""]
[null,"2037ZB0010","แสนสุข",null,null,null,null,null,null,"1844","TESCO LOTUS EXPRESS","DET UDOM : NAKORNRATCHASRIMA",null,null,null,"034-289-315","044-275-856","00779","","","",""]
[null,"2037ZB0011","เจ๊อ้อย",null,null,null,null,null,null,"1845","TESCO LOTUS EXPRESS","JOMTHONG : BANGKOK",null,null,null,"077-250-127","0-2878-0367","00760","","","",""]
[null,"2037ZB0012","ป้าชูศรี",null,null,null,null,null,null,"1846","TESCO LOTUS EXPRESS","CHANG HAN : ROI ET","จังหาร ร้อยเอ็ด"," 181/1 หมู่ที่5 ต.ชาฝา อ.จังหาร จ.ร้อยเอ็ด 45000",45000,"053-704-117","043-507-204","00761","","","",""]
[null,"2037ZB0013","ป้าเล็ก",null,null,null,null,null,null,"1847","TESCO LOTUS EXPRESS","KHAO THAKIAP : PRACHUABKIRIKHAN",null,null,null,"056-333-367","032-537-171","00765","","","",""]
[null,"2037ZB0014","ศิริชัย",null,null,null,null,null,null,"1848","TESCO LOTUS EXPRESS","LIAP KLONG ROAD : SARABURI","ถนนเลียบคลอง สระบุรี","เลขที่ 237/34 ถนนพหลโยธิน ตำบลปากเพรียว อำเภอเมืองสระบุรี จังหวัดสระบุรี 18000","18000","0-2688-1405","036-310-970","00773","","","","อยุธยา"]
[null,"2037ZB0027","กบกะกิ๊ก",null,null,null,null,null,null,"1849","TESCO LOTUS EXPRESS","YEAK THAO THAN : CHONBURI","แยกเตาถ่าน","เลขที่ 16/3 หมู่ที่ 8 ตำบลสัตหีบ อำเภอสัตหีบ จังหวัดชลบุรี 20180","20180","038-724-320","038-736-252","00782","2011-01-27",24,"Standalone","ชลบุรี"]
[null,"2037ZB0028","แขร",null,null,null,null,null,null,"1850","TESCO LOTUS EXPRESS","NONG MUANG : LOPBURI","หนองม่วง ลพบุรี","เลขที่ 380-381 หมู่ที่ 2 ตำบลหนองม่วง อำเภอหนองม่วง จังหวัดลพบุรี 15170","15170","044-964-181","036-648-424","00802","","","","อยุธยา"]
[null,"2037ZB0029","คุณโอ๋",null,null,null,null,null,null,"1851","TESCO LOTUS EXPRESS","WAT DOK MAI : BANGKOK","วัดดอกไม้","เลขที่ 1032/18, 1032/19, 1032/20 ตรอกวัดจันทร์ใน แขวงบางโพงพาง เขตยานนาวา กรุงเทพมหานคร 10120","10120","075-374-382","0-2683-5380","00769","","","","กรุงเทพ"]
[null,"2037ZB0033","ยายชา",null,null,null,null,null,null,"1852","TESCO LOTUS EXPRESS","TALAD BAN KLONG : PITSANULOK",null,null,null,"074-462-262","055-215-411","00766","","","",""]
[null,"2037ZB0035","ดำ   สด",null,null,null,null,null,null,"1853","TESCO LOTUS EXPRESS","SICHON : NAKORNSRITHAMMARAT",null,null,null,"053-398-114","075-335-428","00774","","","",""]
[null,"2037ZB0037","ดา-โคกลาน",null,null,null,null,null,null,"1854","TESCO LOTUS EXPRESS","BAAN AUR ARETHON WATSRIWARENOI : SAMUTPRAKARN","บ้านเอื้ออาทร วัดศรีวารีน้อย","เลขที่ 325 หมู่ที่ 5 ตำบลศรีษะจรเข้ใหญ่ อำเภอบางเสาธง จังหวัดสมุทรปราการ 10540","10540","044-333-041","0-2740-5721","00780","2011-01-26","","","สมุทรปราการ"]
[null,"2037ZB0041","เตี้ย",null,null,null,null,null,null,"1855","TESCO LOTUS EXPRESS","THUNG WA : SATUN",null,null,null,"054-317-042","074-789-241","00788","","","",""]
[null,"2037ZB0043","ทีที มาร์ท",null,null,null,null,null,null,"1856","TESCO LOTUS EXPRESS","RANGSIT KLONG 5 : PATHUMTHANI","รังสิต คลอง 5","เลขที่ 52/58 หมู่ที่ 1 ตำบลรังสิต อำเภอธัญบุรี จังหวัดปทุมธานี 12110","12110","053-852-519","0-2904-6845","00763","","","","ปทุมธานี"]
[null,"2037ZB0048","น้องต่าย",null,null,null,null,null,null,"1857","TESCO LOTUS EXPRESS","YEAK KM.18 : SURATTHANI",null,null,null,"077-367-088","077-254-127","00772","","","",""]
[null,"2037ZB0053","นรีกานต์",null,null,null,null,null,null,"1858","TESCO LOTUS EXPRESS","LAM THAP : KRABI",null,null,null,null,"075-643-240","00777","","","",""]
[null,"2037ZB0055","เจ๊นงค์",null,null,null,null,null,null,"1859","TESCO LOTUS EXPRESS","CHATTURAT : CHAIYAPHUM","จตุรัส ชัยภูมิ","เลขที่ 75 หมู่ที่ 1 ตำบลบ้านกอก อำเภอจตุรัส จังหวัดชัยภูมิ 36130","36130","038-739-465","044-840-071","00775","","","","ชัยภูมิ"]
[null,"2037ZB0056","บุญคง",null,null,null,null,null,null,"1860","TESCO LOTUS EXPRESS","KROK PHRA : NAKORNSAWAN",null,null,null,"038-702415","056-320-052","00800","","","",""]
[null,"2037ZB0058","บ้านนา",null,null,null,null,null,null,"1861","TESCO LOTUS EXPRESS","SOI THAN PUYING PHAHOL : BANGKOK","ซอยท่านผู้หญิงพหลฯ","เลขที่ 21/53-55 หมู่ที่ 5 แขวงลาดยาว เขตจตุจักร กรุงเทพมหานคร 10900","10900",null,"0-2941-0294","00778","","","","กรุงเทพ"]
[null,"2037ZB0059","บง",null,null,null,null,null,null,"1862","TESCO LOTUS EXPRESS","SANAMBIN NAM : NONTHABURI","สนามบินน้ำ","เลขที่ 99/127 หมู่ที่ 5 ตำบลท่าทราย อำเภอเมืองนนทบุรี จังหวัดนนทบุรี 11000","11000","042-322-009","0-2526-8989","00785","","","","กรุงเทพ"]
[null,"2037ZB0060","ป้อม",null,null,null,null,null,null,"1863","TESCO LOTUS EXPRESS","WAT RAI KRUEY 2 : CHONBURI","วัดไร่กล้วย 2 ชลบุรี","เลขที่ 12/5 หมู่ที่ 5 ตำบลสุรศักดิ์ อำเภอศรีราชา จังหวัดชลบุรี 20110","20110","0-2815-4131","038-775-124","00783","2011-01-30",24,"Standalone","ชลบุรี"]
[null,"2037ZB0061","ป้าแป๊ด",null,null,null,null,null,null,"1864","TESCO LOTUS EXPRESS","RANGSIT KLONG 11 : PATHUMTHANI","รังสิต คลอง 11(วัดสระบัว)","เลขที่ 39/5,39/6 หมู่ที่ 1 ตำบลบึงน้ำรักษ์ อำเภอธัญบุรี จังหวัดปทุมธานี 12110","12110","077-265-088","0-2955-8041","00786","","","","ปทุมธานี"]
[null,"2037ZB0062","พี-ไอซ์",null,null,null,null,null,null,"1865","TESCO LOTUS EXPRESS","SATUN HOSPITAL : SATUN",null,null,null,"0-2970-8131","074-732-070","00808","","","",""]
[null,"2037ZB0063","พิมพ์ใจ",null,null,null,null,null,null,"1866","TESCO LOTUS EXPRESS","CHAENGWATTANA 10 : BANGKOK","แจ้งวัฒนะ ซอย 10","เลขที่ 99/535 หมู่ที่ 2 ถนนแจ้งวัฒนะ แขวงทุ่งสองห้อง เขตหลักสี่ จังหวัดกรุงเทพมหานคร 10210","10210","038-691-099","0-2982-0821","00804","","","","ปทุมธานี"]
[null,"2037ZB0065","พี่ขวัญ-คลองชุมพล",null,null,null,null,null,null,"1867","TESCO LOTUS EXPRESS","TEDSABAN MAKHAM KOO : RAYONG","เทศบาลมะขามคู่","เลขที่ 269,270,271,272 หมู่ที่ 2 ตำบลมะขามคู่ อำเภอนิคมพัฒนา จังหวัดระยอง 21180","21180","038-130-172","038-893-163","00787","","","","ระยอง"]
[null,"2037ZB0068","ฟ่าง",null,null,null,null,null,null,"1868","TESCO LOTUS EXPRESS","BAMNET NARONG : CHAIYAPHUM","บำเหน็จณรงค์","เลขที่ 63/3,295 หมู่ที่ 21 ตำบลบ้านเพชร อำเภอบำเหน็จณรงค์ จังหวัดชัยภูมิ 36160","36160","053-887-320","044-842-335","00792","","","","ชัยภูมิ"]
[null,"2037ZB0069","ยุพา (ทุ่งโพธิ์)",null,null,null,null,null,null,"1869","TESCO LOTUS EXPRESS","SURIN BEACH : PHUKET",null,null,null,"043-587-422","076-270-782","00796","","","",""]
[null,"2037ZB0070","ยายเพ็ญ-วังน้ำเขียว",null,null,null,null,null,null,"1870","TESCO LOTUS EXPRESS","AO AUDOM 2 : CHONBURI","อ่าวอุดม 2 ชลบุรี","เลขที่ 199/74 หมู่ 8 ตำบลทุ่งสุขลา อำเภอศรีราชา จังหวัดชลบุรี 20230","20230","043-823-672","038-768-963","00890","2011-08-07",24,"Standalone","ชลบุรี"]
[null,"2037ZB0075","เจ๊เรือน",null,null,null,null,null,null,"1871","TESCO LOTUS EXPRESS","PHATTHALUNG TOWN : PHATTHALUNG",null,null,null,"044-276-090","043-373-155","00793","","","",""]
[null,"2037ZB0076","หน่อย",null,null,null,null,null,null,"1872","TESCO LOTUS EXPRESS","THUNGMUNGKORN : BANGKOK","ทุ่งมังกร","เลขที่ 80/23 หมู่ที่ 5 แขวงฉิมพลี เขตตลิ่งชัน กรุงเทพมหานคร 10170","10170","0-2508-0497","038-734-974","00827","2011-04-21",16.5,"2-Shophouse","กรุงเทพฯ"]
[null,"2037ZB0077","แอ๋ว",null,null,null,null,null,null,"1873","TESCO LOTUS EXPRESS","CHA LUNG : PATTALUNG",null,null,null,"045-571-863","056-020-215","00818","","","",""]
[null,"2037ZB0079","วาสนา",null,null,null,null,null,null,"1874","TESCO LOTUS EXPRESS","TALAD KHOR HONG HADYAI : SONGKHLA",null,null,null,"0-2807-6373","0-2998-0384","00801","","","",""]
[null,"2037ZB0080","ลี-วิว มินิมาร์ท",null,null,null,null,null,null,"1875","TESCO LOTUS EXPRESS","KHON KAEN UNIVERSITY : KHON KAEN","มหาวิทยาลัยขอนแก่น"," 56/66 หมู่ที่14 ต.ในเมือง อ.เมืองขอนแก่น จ.ขอนแก่น  40000",40000,"043-740-054","044-699-496","00794","","","",""]
[null,"2037ZB0083","แสวง (นาดี)",null,null,null,null,null,null,"1876","TESCO LOTUS EXPRESS","TALAD MAE LA-OR : CHONBURI","ตลาดแม่ละออ ชลบุรี","เลขที่ 52/553-556 หมู่ที่ 12 ตำบลหนองปรือ อำเภอบางละมุง จังหวัดชลบุรี 20150","20150","053-640-069","043-294-721 ","00856","2011-06-30",24,"Shophouse","ชลบุรี"]
[null,"2037ZB0084","สร้อยทอง",null,null,null,null,null,null,"1877","TESCO LOTUS EXPRESS","NONG PLA LAI : CHONBURI","หนองปลาไหล","เลขที่ 98/16-19 หมู่ที่ 6 ตำบลหนองปลาไหล อำเภอบางละมุง จังหวัดชลบุรี 20150","20150","038-738-984","053-326-020","00809","2011-03-31",24,"Shophouse","ชลบุรี"]
[null,"2037ZB0088","หมวย",null,null,null,null,null,null,"1878","TESCO LOTUS EXPRESS","MAHA SARAKHAM UNIVERSITY","มหาวิทยาลัยมหาสารคาม"," 303/7 หมู่ที่ 1 ต.ท่าขอนยาง อ.กันทรวิชัย จ.มหาสารคาม  44150",44150,"0-2191-9853","0-2376-7519","00798","","","",""]
[null,"2037ZB0089","ป้าหนู",null,null,null,null,null,null,"1879","TESCO LOTUS EXPRESS","MUAK LEK 2 : SARABURI","มวกเหล็ก 2 สระบุรี","เลขที่ 173 หมู่ 2 ตำบลมวกเหล็ก อำเภอมวกเหล็ก จังหวัดสระบุรี 18180","18180","077-210-165","038-701-871","00810","","","","สระบุรี"]
[null,"2037ZB0090","ลัดดา",null,null,null,null,null,null,"1880","TESCO LOTUS EXPRESS","WAT DON KAIDEE : SAMUTSAKORN","วัดดอนไก่ดี","เลขที่ 437/15 ถนนดอนไก่ดี ตำบลตลาดกระทุ่มแบน อำเภอกระทุ่มแบน จังหวัดสมุทรสาคร 74110","74110","045-799-332","036-647-161","00797","2011-02-26","","","สมุทรสาคร"]
[null,"2037ZB0099","คุณนันทา",null,null,null,null,null,null,"1881","TESCO LOTUS EXPRESS","KASET WISAI : ROI ET","เกษตรวิสัย ร้อยเอ็ด"," 176/1 หมู่ที่13 ต.เกษตรวิสัย อ.เกษตรวิสัย จ.ร้อยเอ็ด 45150",45150,"054-320-358","045-722-200","00813","","","",""]
[null,"2037ZB0139","พล-บ่อปลา(อำนวย บุญนาที)",null,null,null,null,null,null,"1882","TESCO LOTUS EXPRESS","WAENG NANG : MAHA SARAKHAM","แวงนาง  มหาสารคาม"," 374 หมู่ที่ 1 ต.แวงน่าง อ.เมืองมหาสารคาม จ.มหาสารคาม  44000",44000,"055-226-079","077-522-704","00799","","","",""]
[null,"2037ZB0141","เดือน น้อยเคน",null,null,null,null,null,null,"1883","TESCO LOTUS EXPRESS","TALAD BAN KLONGTOEI : SONGKHLA",null,null,null,"044-656-098","034-845-418","00812","","","",""]
[null,"2037ZB0142","ประคอง",null,null,null,null,null,null,"1884","TESCO LOTUS EXPRESS","PAK PHAYUN : PHATTHALUNG",null,null,null,"053-822-484","043-342-191","00824","","","",""]
[null,"2037ZB0143","น้องเนย",null,null,null,null,null,null,"1885","TESCO LOTUS EXPRESS","RATTANA BURI : SURIN","รัตนบุรี สุรินทร์","เลขที่ 38 หมู่ที่ 8 ตำบลรัตนบุรี อำเภอรัตนบุรี จังหวัดสุรินทร์ 32130","32130","053-531-272","038-888-071","00805","","","","สุรินทร์"]
[null,"2037ZB0144","ภา",null,null,null,null,null,null,"1886","TESCO LOTUS EXPRESS","TALAD WORAKIT PLAZA : CHONBURI","ตลาดวรกิจ พลาซ่า","เลขที่ 144/1 หมู่ 3 ตำบลบึง อำเภอศรีราชา จังหวัดชลบุรี 20230","20230","055-381-801","034-832-460","00814","2011-04-28",24,"Standalone","ชลบุรี"]
[null,"2037ZB0146","เขียด-บ.ม่วง",null,null,null,null,null,null,"1887","TESCO LOTUS EXPRESS","RATTANA UTHIT ROAD : SONGKHLA",null,null,null,"053-650-367","0-2705-5196","00817","","","",""]
[null,"2037ZB0147","น้ำหวาน",null,null,null,null,null,null,"1888","TESCO LOTUS EXPRESS","NIKHOM SINSAKORN : SAMUTSAKORN","นิคมสินสาคร","เลขที่ 28/93 หมู่ที่ 1 ตำบลโคกขาม อำเภอเมืองสมุทรสาคร จังหวัดสมุทรสาคร 74000","74000","043-820-996","038-739-258","00828","2011-05-22","","","สมุทรสาคร"]
[null,"2037ZB0148","เย็นใจ",null,null,null,null,null,null,"1889","TESCO LOTUS EXPRESS","MOO BAN KHRUE WAN : BANGKOK","หมู่บ้านเครือวัลย์","เลขที่ 44/12 หมู่ที่ 9 แขวงลำผักชี เขตหนองจอก กรุงเทพมหานคร 10530","10530","042-304-497","045-797-355","00845","","","","กรุงเทพ"]
[null,"2037ZB0149","สมควร",null,null,null,null,null,null,"1890","TESCO LOTUS EXPRESS","PADUNGBEZAR SADAO : SONGKHLA",null,null,null,"053-644-091","043-344-032","00841","","","",""]
[null,"2037ZB0150","ยอด คลองมะเลา",null,null,null,null,null,null,"1891","TESCO LOTUS EXPRESS","NAMPHONG MITTRAPHAP RD : KHONKAEN","น้ำพอง (ถนนมิตรภาพ) ขอนแก่น"," 25/7-8 หมู่ที่2 ต.น้ำพอง อ.น้ำพอง จ.ขอนแก่น 40140",40140,"053-831-118","043-373-155","00881","","","",""]
[null,"2037ZB0151","สมบัติ.มินิมาร์ท-โคกอุดม",null,null,null,null,null,null,"1892","TESCO LOTUS EXPRESS","CHIANG YUEN : MAHASARAKHAM","เชียงยืน มหาสารคาม"," 414,415,416 หมู่ที่5 ต.เชียงยืน อ.เชียงยืน จ.มหาสารคาม 41160",41160,null,"034-841-488","00820","","","",""]
[null,"2037ZB0152","ป้าจง",null,null,null,null,null,null,"1893","TESCO LOTUS EXPRESS","CHOM PHRA : SURIN","จอมพระ สุรินทร์","เลขที่ 226 หมู่ที่ 4 ตำบลจอมพระ อำเภอจอมพระ จังหวัดสุรินทร์ 32180","32180","077-252-045","043-790-499","00840","","","","สุรินทร์"]
[null,"2037ZB0153","ปราณี-บุเจริญ",null,null,null,null,null,null,"1894","TESCO LOTUS EXPRESS","TALAD BAN HUA RO : PITSANULOK",null,null,null,"043-569-294","053-426-290","00825","","","",""]
[null,"2037ZB0154","สี่แยกทรายทอง",null,null,null,null,null,null,"1895","TESCO LOTUS EXPRESS","KAENG KHOR : CHAIYAPHUM","แก้งคร้อ"," 224 หมู่ที่9 ต.ช่องสามหมอ อ.แก้งคร้อ จ.ชัยภูมิ 36150","36150","038-733-535","0-2811-4162","00853","","","",""]
[null,"2037ZB0155","คุณลำใย",null,null,null,null,null,null,"1896","TESCO LOTUS EXPRESS","SOI BOONSAMPAN : PATTAYA","ซอยบุญสัมพันธ์ พัทยา","เลขที่ 180/59,180/60,180/61 หมู่ที่ 13 ตำบลหนองปรือ อำเภอบางละมุง จังหวัดชลบุรี 20150","20150","038-763-285","053-889-050","00833","2011-05-28",24,"3-Shophouse","ชลบุรี"]
[null,"2037ZB0156","ป้าอำนวย",null,null,null,null,null,null,"1897","TESCO LOTUS EXPRESS","NA CHALIANG : PETCHABOON",null,null,null,"0-2867-3592","0-2926-0930","00834","","","",""]
[null,"2037ZB0157","ล้านอิน",null,null,null,null,null,null,"1898","TESCO LOTUS EXPRESS","AMPHUR LEE : LUMPHUMM",null,null,null,"054-369-084","0-2866-3141","00914","","","",""]
[null,"2037ZB0160","นาง ขุนศรี",null,null,null,null,null,null,"1899","TESCO LOTUS EXPRESS","SIAM COUNTRY CLUB 2 PATTAYA : CHONBURI","สยามคันทรี่คลับ 2 พัทยา","เลขที่ 1/7 หมู่ที่ 7 ตำบลหนองปรือ อำเภอบางละมุง จังหวัดชลบุรี 20150","20150","034-204-498","038-734-974","00885","2011-07-31",24,"Shophouse","ชลบุรี"]
[null,"2037ZB0161","ชิน บ้านวังหิน",null,null,null,null,null,null,"1920","TESCO LOTUS EXPRESS","CHON DAN : PHETCHABUN",null,null,null,"043-597-516","056-020-215","00857","","","",""]
[null,"2037ZB0162","บุญทม",null,null,null,null,null,null,"1921","TESCO LOTUS EXPRESS","THA PHON : PETCHABOON",null,null,null,"075-501-640","053-369-042","00832","","","",""]
[null,"2037ZB0163","บุญนาค",null,null,null,null,null,null,"1922","TESCO LOTUS EXPRESS","THATUM - SURIN","ท่าตูม สุรินทร์","เลขที่ 44/1-2 ,44/6 หมู่ 7 ตำบลท่าตูม อำเภอท่าตูม จังหวัดสุรินทร์ 32120","32120","038-762-182","044-534-051","00819","","","","สุรินทร์"]
[null,"2037ZB0164","ลำพึง",null,null,null,null,null,null,"1923","TESCO LOTUS EXPRESS","SAMROIYOD : PRACHUABKIRIKHAN",null,null,null,"043-324-447","032-573-231","00822","","","",""]
[null,"2037ZB0165","ต๋อย-บุพราหมณ์",null,null,null,null,null,null,"1924","TESCO LOTUS EXPRESS","PAKHAM : BURIRAM","ปะคำ บุรีรัมย์","เลขที่ 158 หมู่ที่ 1 ตำบลปะคำ อำเภอปะคำ จังหวัดบุรีรัมย์ 31220","31220","0-2739-6237","044-654-190","00835","","","","บุรีรัมย์"]
[null,"2037ZB0167","ดำ-บุพราหมณ์",null,null,null,null,null,null,"1925","TESCO LOTUS EXPRESS","PHONTHONG : ROI ET","โพนทอง ร้อยเอ็ด"," 54-55-56 หมู่ที่2 ต.แวง อ.โพนทอง จ.ร้อยเอ็ด 44160",44160,"055-214-338","043-534-034","00836","","","",""]
[null,"2037ZB0168","อ๋อย-วังขอนแดง",null,null,null,null,null,null,"1926","TESCO LOTUS EXPRESS","POLPICHAI ROAD : SONGKHLA",null,null,null,"044-193-177","074-424-241","00842","","","",""]
[null,"2037ZB0169","ช่างต่อ(ห้วยโสมง)",null,null,null,null,null,null,"1927","TESCO LOTUS EXPRESS","ARANYAPRATHET : SAKAEW","อรัญประเทศ สระแก้ว","เลขที่ 109/7-10 ถนนบำรุงราษฎร์ ตำบลอรัญประเทศ อำเภออรัญประเทศ จังหวัดสระแก้ว 27120","27120","034-624-330","037-231-585","00821","","","","ปราจีนบุรี"]
[null,"2037ZB0170","พรหม แนวสุข",null,null,null,null,null,null,"1928","TESCO LOTUS EXPRESS","SOI VIPHAWADEE 33 : BANGKOK","ซอยวิภาวดีรังสิต 33","เลขที่ 72 ซอยวิภาวดีรังสิต 33 แขวงสนามบิน เขตดอนเมือง กรุงเทพมหานคร 10210","10210","043-125-090","0-2998-0384","00867","","","","ปทุมธานี"]
[null,"2037ZB0172","เจน-ห้วยโสมง",null,null,null,null,null,null,"1929","TESCO LOTUS EXPRESS","KHUMUENG : BURIRAM","คูเมือง บุรีรัมย์","เลขที่ 72 หมู่ที่ 10 ตำบลคูเมือง อำเภอคูเมือง จังหวัดบุรีรัมย์ 31190","31190","045-280-446","044-699-496","00900","","","","บุรีรัมย์"]
[null,"2037ZB0173","ป้าจิตร ทับลาน",null,null,null,null,null,null,"1930","TESCO LOTUS EXPRESS","PRASAT : SURIN","ปราสาท สุรินทร์ ","เลขที่ 80/1-2-3 หมู่ที่ 2 ตำบลกังแอน อำเภอปราสาท จังหวัดสุรินทร์ 32140","32140","077-232-253","044-532-159","00830","","","","สุรินทร์"]
[null,"2037ZB0174","การเกษตร",null,null,null,null,null,null,"1931","TESCO LOTUS EXPRESS","NONG RUE : KHON KAEN","หนองเรือ ขอนแก่น"," 108,108/1,108/2 หมู่ที่1 ต.หนองเรือ อ.หนองเรือ จ.ขอนแก่น 40120",40120,"038-866-172","043-294-721 ","00837","","","",""]
[null,"2037ZD0001","ส.ภ.อ.วังน้ำเขียว อ.วังน้ำเขียว จ.นครราชสีมา",null,null,null,null,null,null,"1932","TESCO LOTUS EXPRESS","TALAD MAEKUE : CHAINGMAI",null,null,null,"077-218-412","053-326-020","00869","","","",""]
[null,"2037ZD0002","สวัสดิการตำรวจ",null,null,null,null,null,null,"1933","TESCO LOTUS EXPRESS","THAKHAM : BANGKOK","ท่าข้าม","เลขที่ 111/2 ถนนท่าข้าม แขวงแสมดำ เขตบางขุนเทียน กรุงเทพมหานคร 10150","10150","038-733-215","0-2895-4009","00863","2011-07-08",24,"Standalone","กรุงเทพฯ"]
[null,"2038Z10001","รร.ลาดตะเคียนราษฎร์บำรุง",null,null,null,null,null,null,"1934","TESCO LOTUS EXPRESS","TALAD TESSABAN 1 : MUKDAHAN","ตลาดเทศบาล 1 มุกดาหาร"," 52 ถ.พิทักษ์พนมเขต ต.มุกดาหาร อ.เมืองมุกดาหาร จ.มุกดาหาร 49000",49000,"056-336-031","042-630-023","00862","","","",""]
[null,"2038Z10002","ออย-รร.วัดใหม่พรหมสุวรรณ",null,null,null,null,null,null,"1935","TESCO LOTUS EXPRESS","K-HA AUR ARTHORN LADKRABANG 2 : BANGKOK","เคหะเอื้ออาทร ลาดกระบัง 2","เลขที่ 376 ถนนประชาพัฒนา แขวงทับยาว เขตลาดกระบัง กรุงเทพมหานคร 10520","10520","056-319-151","0-2376-7519","00877","","","","กรุงเทพ"]
[null,"2038Z10008","รร.นนทรีวิทยา",null,null,null,null,null,null,"1936","TESCO LOTUS EXPRESS","TALAD CHUMPORN : CHUMPORN",null,null,null,"045-266-425","077-572-017","00850","","","",""]
[null,"2038Z20001","บ.โอกาโมโต",null,null,null,null,null,null,"1937","TESCO LOTUS EXPRESS","KHOK SAMRONG : LOPBURI","โคกสำโรง ลพบุรี","เลขที่ 70-72 ถนนศรีสำโรง ตำบลโคกสำโรง อำเภอโคกสำโรง จังหวัดลพบุรี 15120","15120","044-620-389","036-624-949","00846","","","","อยุธยา"]
[null,"2038Z20003","SSDC",null,null,null,null,null,null,"1938","TESCO LOTUS EXPRESS","SATTAHIP SUKHUMVIT 107 : CHONBURI","สัตหีบ-สุขุมวิท 107 ชลบุรี","เลขที่ 114/323,114/324,114/325,114/326 หมู่ที่ 7 ตำบลพลูตาหลวง อำเภอสัตหีบ จังหวัดชลบุรี 20180","20180","038-255-874","038-701-871","00904","","","","ชลบุรี"]
[null,"2038Z20005","สุภาภรณ์",null,null,null,null,null,null,"1939","TESCO LOTUS EXPRESS","CHUMCHON WAT CHAIMONGKOL : AYUTTAYA","ชุมชนวัดใหญ่ชัยมงคล อยุธยา","เลขที่ 19/71,19/72,19/73 หมู่ที่ 3 ตำบลคลองสวนพูล อำเภอพระนครศรีอยุธยา จังหวัดพระนครศรีอยุธยา 13000","13000","075-332-349","035-234-822","00916","","","","อยุธยา"]
[null,"2038Z20007","โสม ใกล้ด่านกลาง",null,null,null,null,null,null,"1940","TESCO LOTUS EXPRESS","AMATA CITY : RAYONG","อมตะซิตี้ ระยอง","เลขที่ 9/28 หมู่ที่ 4 ตำบลมาบยางพร อำเภอปลวกแดง จังหวัดระยอง 21140","21140","045-689182","038-956-435","00852","","","","ระยอง"]
[null,"2038Z20008","บ.ซังเค",null,null,null,null,null,null,"1941","TESCO LOTUS EXPRESS","SA BOT : LOPBURI","สระโบสถ์ ลพบุรี","เลขที่ 176/2-3 หมู่ที่ 12 ตำบลสระโบสถ์ อำเภอสระโบสถ์ จังหวัดลพบุรี 15240","15240","077-256-237","036-647-161","00906","","","",""]
[null,"2038Z20013","ธนูลักษณ์",null,null,null,null,null,null,"1942","TESCO LOTUS EXPRESS","YASOTHORN HOSPITAL : YASOTHORN","โรงพยาบาลยโสธร"," 102,103,104 หมู่ที่12 ต.เขื่องคำ อ.เมืองยโสธร จ.ยโสธร 35000",35000,"043-749176","045-722-200","00897","","","",""]
[null,"2038Z20014","บริษัท เอส เอ็ม เอส ช็อป จำกัด",null,null,null,null,null,null,"1943","TESCO LOTUS EXPRESS","TALAD PAK NAM : CHUMPHON",null,null,null,"044-264230","077-522-704","00855","","","",""]
[null,"2038Z20015","PBP",null,null,null,null,null,null,"1944","TESCO LOTUS EXPRESS","BANG THO RAT : SAMUTSAKORN","บางโทรัด","เลขที่ 66/1 หมู่ที่ 6 ตำบลบางโทรัด อำเภอเมืองสมุทรสาคร จังหวัดสมุทรสาคร 74000","74000","077-929-384","034-845-418","00911","","","",""]
[null,"2038Z20016","จุฑามาศ ท่าข้าม",null,null,null,null,null,null,"1945","TESCO LOTUS EXPRESS","WIENG SRA : SURATTHANI",null,null,null,"077-220-212","077-257-191","00838","","","",""]
[null,"2038Z20019","บ.TST จำกัด",null,null,null,null,null,null,"1946","TESCO LOTUS EXPRESS","KHAMCHA I : MUKDAHAN","คำชะอี มุกดาหาร"," ฃ133 หมู่ที่6 ต.น้ำเที่ยง อ.คำชะอี จ.มุกดาหาร 49110",49110,"074-484-427","042-637-100","00843","","","",""]
[null,"2038Z20020","สุรัตน์ ผาสุข (บ.ทาคาเนะฯ)",null,null,null,null,null,null,"1947","TESCO LOTUS EXPRESS","NONTHAN : KHONKAEN","โนนทัน ขอนแก่น"," 160/184 หมู่ที่2 ต.ในเมือง อ.เมืองขอนแก่น จ.ขอนแก่น 40000",40000,"038-744-068","043-326-589","00844","","","",""]
[null,"2038Z30001","รพ.จุฬารัตน์304",null,null,null,null,null,null,"1948","TESCO LOTUS EXPRESS","KEHA NAKORNRATCHASRIMA","เคหะนครราชสีมา","เลขที่ 297/11,297/12 ซอยมิตรภาพ 15 ถนนมิตรภาพ ตำบลในเมือง อำเภอเมืองนครราชสีมา จังหวัดนครราชสีมา 30000","30000","074-366-101","044-298-161","00847","","","","นครราชสีมา"]
[null,"2038Z40001","พรพัฒน์ ทิพย์รมณ์",null,null,null,null,null,null,"1949","TESCO LOTUS EXPRESS","NON MUANG : KHONKAEN","โนนม่วง ขอนแก่น"," 641 หมู่ที่12 ต.ศิลา อ.เมืองขอนแก่น จ.ขอนแก่น 40000",40000,"043-579-307","043-342-191","00870","","","",""]
[null,"2038Z40002","บขส.กบินทร์บุรี+ชาติชัย",null,null,null,null,null,null,"1950","TESCO LOTUS EXPRESS","BAN KRUAT : BURIRAM","บ้านกรวด บุรีรัมย์","เลขที่ 267,267/1,267/2  หมู่ที่ 4 ตำบลปราสาท อำเภอบ้านกรวด จังหวัดบุรีรัมย์ 31180","31180","039-354-123","044-679-642","00919","","","","บุรีรัมย์"]
[null,"2038Z50005","ดวงใจ อดกลั้น",null,null,null,null,null,null,"1951","TESCO LOTUS EXPRESS","WANG CHAN : RAYONG","วังจันทร์ ระยอง","เลขที่ 460 หมู่ที่ 1 ตำบลชุมแสง อำเภอวังจันทร์ จังหวัดระยอง 21210","21210","038-754208","038-888-071","00892","","","","ระยอง"]
[null,"2038Z80001","สมโภชน์ มินิมาร์ท",null,null,null,null,null,null,"1952","TESCO LOTUS EXPRESS","BANGNAMJUED : SAMUTSAKORN","บางน้ำจืด","เลขที่ 37/23 หมู่ที่ 6 ตำบลบางน้ำจืด อำเภอเมืองสมุทรสาคร จังหวัดสมุทรสาคร 74000","74000","034-725-154","034-832-460","00901","2011-08-21","","","สมุทรสาคร"]
[null,"2038ZB0002","แม่สุ",null,null,null,null,null,null,"1953","TESCO LOTUS EXPRESS","ABAC BANGNA : BANGKOK","เอแบค บางนา","เลขที่ 78/9 หมู่ที่ 7 ตำบลบางเสาธง อำเภอบางเสาธง จังหวัดสมุทรปราการ 10540","10540","053-830-188","0-2705-5196","00896","2011-08-19","","","สมุทรปราการ"]
[null,"2038ZB0003","แม่นัท",null,null,null,null,null,null,"1954","TESCO LOTUS EXPRESS","TALAD SATTAHIP TEDSABAN 7 : CHONBURI","ตลาดสัตหีบ(เทศบาลซอย 7)","เลขที่ 651/45-48 หมู่ที่ 2 ตำบลสัตหีบ อำเภอสัตหีบ จังหวัดชลบุรี 20180","20180","02-8086198","038-739-258","00907","","","","ชลบุรี"]
[null,"2038ZB0004","แม่นงค์",null,null,null,null,null,null,"1955","TESCO LOTUS EXPRESS","KHOWANG : YASOTHORN","ค้อวัง ยโสธร"," 257 หมู่ที่ 7 ตำบลค้อวัง อำเภอค้อวัง จังหวัดยโสธร  35160",35160,"053-750-084","045-797-355","00899","","","",""]
[null,"2038ZB0007","กองเงิน",null,null,null,null,null,null,"1956","TESCO LOTUS EXPRESS","SRIHARAT DECHOCHAI RD : KHON KAEN","ถนนสีหราชเดโชชัย ขอนแก่น"," 123 หมู่ที่ 22 ต.บ้านเป็ด อ.เมืองขอนแก่น จ.ขอนแก่น  40000",40000,"045-782-487","043-344-032","00912","","","",""]
[null,"2038ZB0008","เจ๊ณัฐ-นาแขม",null,null,null,null,null,null,"1957","TESCO LOTUS EXPRESS","SOI BOONSAMPAN SOI 9 : CHONBURI",null,null,null,"043-391-113","038-376-639","00873","","","",""]
[null,"2038ZB0009","ลำภูมินิมาร์ท",null,null,null,null,null,null,"1958","TESCO LOTUS EXPRESS","TALAD NONG TONG : CHIANGMAI",null,null,null,"044-620-129","053-832-970","00931","","","",""]
[null,"2038ZB0015","ป้าอำนวย",null,null,null,null,null,null,"1959","TESCO LOTUS EXPRESS","AMPHUR CHIANG DAO : CHIANG MAI",null,null,null,"054-332-144","053-388-010","00865","","","",""]
[null,"2038ZB0016","เอกชัย",null,null,null,null,null,null,"1960","TESCO LOTUS EXPRESS","UBONRAT : KHONHONKAEN","อุบลรัตน์ ขอนแก่น"," 185 หมู่ที่2 ต.เขื่อนอุบลรัตน์ อ.อุบลรัตน์ จ.ขอนแก่น 40250",40250,"074-393-374","043-372-101","00868","","","",""]
[null,"2038ZB0017","ป้าเล็ก-ห้วยน้ำอู้",null,null,null,null,null,null,"1961","TESCO LOTUS EXPRESS","SAMRONGTHAP : SURIN","สำโรงทาบ สุรินทร์","เลขที่ 535 หมู่ที่ 1 ตำบลหนองไผ่ล้อม อำเภอสำโรงทาบ จังหวัดสุรินทร์ 32170","32170","075-371-352","044-569-600","00915","","","","สุรินทร์"]
[null,"2038ZB0019","ชุมชนเนินแห่",null,null,null,null,null,null,"1962","TESCO LOTUS EXPRESS","TALAD JEDEE MAEKRUE : CHIANGMAI",null,null,null,"056-330-082","053-848-862","00922","","","",""]
[null,"2038ZB0022","สุรศักดิ์  มาวิน",null,null,null,null,null,null,"1963","TESCO LOTUS EXPRESS","MAHACHAI MUANGTHONG : SAMUTSAKORN","มหาชัยเมืองทอง สมุทรสาคร","เลขที่ 25/523,25/524,25/525 หมู่ที่ 3 ตำบลบางหญ้าแพรก อำเภอเมืองสมุทรสาคร จังหวัดสมุทรสาคร 74000","74000","053-742-063","034-841-488","00879","","","",""]
[null,"2038ZB0023","สายทอง",null,null,null,null,null,null,"1964","TESCO LOTUS EXPRESS","BAN KHAI : RAYONG","บ้านค่าย ระยอง","เลขที่ 74/1 หมู่ที่ 3 ตำบลหนองละลอก อำเภอบ้านค่าย จังหวัดระยอง 21120","21120","043-657-008","038-868-643","00937","","","","ระยอง"]
[null,"2038ZB0034","ไทยประกัน",null,null,null,null,null,null,"1965","TESCO LOTUS EXPRESS","KLONG HOI KONG KONG BIN 56 : SONGKHLA",null,null,null,"055-214023","038-078-992","00886","","","",""]
[null,"2038ZB0036","วัน",null,null,null,null,null,null,"1966","TESCO LOTUS EXPRESS","PHAYAKKAPHOOMPISAI : MAHASAKHAM","พยัคภูมิพิสัย มหาสารคาม"," 875 หมู่ที่1 ต.ปะหลาน อ.พยัคฆภูมิพิสัย จ.มหาสารคาม 44110",44110,"044-487146","043-790-499","00898","","","",""]
[null,"2038ZB0037","ซูโม่",null,null,null,null,null,null,"1967","TESCO LOTUS EXPRESS","AMPHUR HANG DONG : CHIANG MAI",null,null,null,"076-252-105","053-426-290","00910","","","",""]
[null,"2038ZB0047","ลุงเล็ก-สะพานหิน",null,null,null,null,null,null,"1968","TESCO LOTUS EXPRESS","TALAD AOMYAI: NAKORNPATHOM","ตลาดอ้อมใหญ่","เลขที่ 100/4-5 หมู่ที่ 8 ตำบลอ้อมใหญ่ อำเภอสามพราน จังหวัดนครปฐม 73160","73160","045-720-407","0-2811-4162","00874","","","",""]
[null,"2038ZB0048","อี้ด-หนองแสง",null,null,null,null,null,null,"1969","TESCO LOTUS EXPRESS","AMPHUR PROA : CHIANGMAI",null,null,null,"074-625-156","053-889-050","00872","","","",""]
[null,"2038ZB0054","ติ๋ว-เพชรเอิม",null,null,null,null,null,null,"1970","TESCO LOTUS EXPRESS","KOH KANUN : CHACHEOBGSAO","เกาะขนุน พนมสารคาม ฉะเชิงเทรา","เลขที่ 313/1 หมู่ที่ 2 ตำบลเกาะขนุน อำเภอพนมสารคาม จังหวัดฉะเชิงเทรา 24120","24120","076-274-194","038-836-610","00860","","","","แปดริ้ว"]
[null,"2038ZB0055","ฤทัยวรรณ-บ.สบ้า",null,null,null,null,null,null,"1971","TESCO LOTUS EXPRESS","SARASART SCHOOL BANGBUATHONG : NONTHABURI","โรงเรียนสารสาสน์ บางบัวทอง","เลขที่ 30/4 หมู่ที่ 4 ตำบลลำโพ อำเภอบางบัวทอง จังหวัดนนทบุรี 11110","11110","076-280-296","0-2926-0930","00902","","","","ปทุมธานี"]
[null,"2038ZB0056","ป๊อก-บ้านทาม",null,null,null,null,null,null,"1972","TESCO LOTUS EXPRESS","SIRIRAJ PRAN NOK : BANGKOK NOI","ศิริราช พรานนก บางกอกน้อย","เลขที่ 27,29,31 ถนนพรานนก แขวงศิริราช เขตบางกอกน้อย กรุงเทพมหานคร 10700","10700","043-779-363","0-2866-3141","00861","2011-07-20",24,"3-Shophouse","กรุงเทพฯ"]
[null,"2038ZB0062","ปราณี (กิ่งต้น-ไผ่น้ำ)",null,null,null,null,null,null,"1973","TESCO LOTUS EXPRESS","BANG SALEY : CHONBURI","บางเสร่ ชลบุรี","เลขที่ 138/19-22 หมู่ที่ 8 ตำบลบางเสร่ อำเภอสัตหีบ จังหวัดชลบุรี 20250","20250","043-320-180","038-737-343","00908","2011-08-31",24,"Shophouse","ชลบุรี"]
[null,"2038ZB0064","อุไร",null,null,null,null,null,null,"1974","TESCO LOTUS EXPRESS","BANGBAN : AYUTTHAYA","บางบาล อยุธยา ","เลขที่ 39,39/1-3 หมู่ที่ 1 ตำบลมหาพราหมณ์ อำเภอบางบาล จังหวัดพระนครศรีอยุธยา 13250","13250","053-640-098","035-726-806","00878","","","","อยุธยา"]
[null,"2038ZB0068","กุ้ง",null,null,null,null,null,null,"1975","TESCO LOTUS EXPRESS","PONG BANGLAMUNG : CHONBURI","โป่ง บางละมุง ชลบุรี","เลขที่ 15/13 หมู่ที่ 2 ตำบลโป่ง อำเภอบางละมุง จังหวัดชลบุรี 20150","20150","045-266-224","038-078-992","00935","2011-09-29",24,"Standalone","ชลบุรี"]
[null,"2038ZB0069","สมหมาย-หนองข้าวหลาม",null,null,null,null,null,null,"1976","TESCO LOTUS EXPRESS","PHAKDEECHUMPHON RD : SURIN","ถนนภักดีชุมพล สุรินทร์","เลขที่ 54/1 ถนนภักดีชุมพล ตำบลในเมือง อำเภอเมืองสุรินทร์ จังหวัดสุรินทร์ 32000","32000","075-364-040","044-520-176","00905","","","","สุรินทร์"]
[null,"2038ZB0070","ปอ (หนองศรีวิชัย)",null,null,null,null,null,null,"1977","TESCO LOTUS EXPRESS","TALAD DONNOK : SURATTHANI",null,null,null,"045-303-095","077-218-328","00859","","","",""]
[null,"2038ZB0071","หนู",null,null,null,null,null,null,"1978","TESCO LOTUS EXPRESS","BAAN AUE ARTHORN SUWANNAPHUM 2 : SAMUTPRAKARN","บ้านเอื้ออาทร สุวรรณภูมิ 2","เลขที่ 33/20 หมู่ที่ 7 ตำบลบางโฉลง อำเภอบางพลี จังหวัดสมุทรปราการ 10540","10540","038-786-448","02-740-5175","00921","2011-09-24","","","สมุทรปราการ"]
[null,"2038ZB0078","ติ๊ก",null,null,null,null,null,null,"1979","TESCO LOTUS EXPRESS","HUA RO : AYUTTHAYA","หัวรอ อยุธยา","เลขที่  4/87/88 หมู่ที่ 8 ตำบลหัวรอ อำเภอพระนครศรีอยุธยา จังหวัดพระนครศรีอยุธยา 13000","13000","038-765-489","035-231-983","00882","","","","อยุธยา"]
[null,"2038ZB0082","กาหลง",null,null,null,null,null,null,"1980","TESCO LOTUS EXPRESS","BAAN AUR ARTHORN RAMINTRA : BANGKOK","บ้านเอื้ออาทร รามอินทรา คู้บอน","เลขที่ 19/2,19/3 หมู่ที่ 5 แขวงท่าแร้ง เขตบางเขน กรุงเทพมหานคร 10220","10220","0-2737-0368","0-2945-2015","00876","","","",""]
[null,"2038ZB0088","คุณจรัญ",null,null,null,null,null,null,"1981","TESCO LOTUS EXPRESS","BAN KOK : KHONKAEN","บ้านกอก ขอนแก่น"," 202/2,202/3,202/4 หมู่ที่7 ต.บ้านเป็ด อ.เมืองขอนแก่น จ.ขอนแก่น 40000",40000,"053-558-105","043-324-787","00875","","","",""]
[null,"2038ZB0090","ป้าพี",null,null,null,null,null,null,"1982","TESCO LOTUS EXPRESS","TALAD BAN NUMTHONG : CHIANGMAI",null,null,null,"053-750-135","053-368-301","00923","","","",""]
[null,"2038ZB0099","นิพน(เกาะลอย)",null,null,null,null,null,null,"1983","TESCO LOTUS EXPRESS","KHAM HI : KHON KAEN","คำไฮ ขอนแก่น"," 153 หมู่ที่ 6 ตำบลบ้านเป็ด อำเภอเมืองขอนแก่น จังหวัดขอนแก่น  40000",40000,"075-328-253","043-332-031","00918","","","",""]
[null,"2038ZB0108","ครัวนทภัส",null,null,null,null,null,null,"1984","TESCO LOTUS EXPRESS","RATH-UTIT : BANGKOK","ราษฎร์อุทิศ กรุงเทพฯ","เลขที่ 295 ถนนราษฎร์อุทิศ แขวงแสนแสบ เขตมีนบุรี กรุงเทพมหานคร 10510","10510","034-830-141","0-2543-8155","00913","","","","กรุงเทพ"]
[null,"2038ZB0109","ต่อมินิมาร์ท(หนองบุญเกิด)",null,null,null,null,null,null,"1985","TESCO LOTUS EXPRESS","PETCHAKASEM 114 : BANGKOK","ซอยเพชรเกษม 114","เลขที่ 137 ซอยเพชรเกษม 114 แขวงหนองค้างพลู เขตหนองแขม กรุงเทพมหานคร 10160","10160","044-848-278","02-810-3016","00920","2013-08-25","","","สมุทรสาคร"]
[null,"2038ZB0112","ดาว โคกกรวด",null,null,null,null,null,null,"1986","TESCO LOTUS EXPRESS","NONG BUNMAK : NAKORNRATCHASRIMA","หนองบุญมาก นครราชสีมา","เลขที่ 10 หมู่ที่ 2 ตำบลหนองหัวแรต อำเภอหนองบุญมาก จังหวัดนครราชสีมา 30410","30410","032-305-237","044-330-041","00903","","","","นครราชสีมา"]
[null,"2038ZB0113","เรือนบุญ",null,null,null,null,null,null,"1987","TESCO LOTUS EXPRESS","MT ARENA LUMLUKKA : PATHUMTHANI",null,null,null,"035-236-651","0-2991-0582","00889","","","",""]
[null,"2038ZB0114","ยายตั่ว(สิรโรงปาร์ค)",null,null,null,null,null,null,"1988","TESCO LOTUS EXPRESS","KHOA WONG : KALASIN","เขาวง กาฬสินธุ์"," 191 หมู่ที่2 ต.คุ้มเก่า อ.เขาวง จ.กาฬสินธุ์ 46160",46160,"045-263-577","043-859-604","00887","","","",""]
[null,"2038ZB0115","คุณเปียก(บ.ช่องแคบ)",null,null,null,null,null,null,"1989","TESCO LOTUS EXPRESS","TALAD DOI LO : CHIANGMAI",null,null,null,"044-537-072","053-369-042","00884","","","",""]
[null,"2038ZB0117","ติ๋ม(วังบัวทอง)",null,null,null,null,null,null,"2000","TESCO LOTUS EXPRESS","SINTAWEENGAMCHAROEN : BANGKOK","สินทวีงามเจริญ กรุงเทพฯ","เลขที่ 567/1 ถนนอนามัยงามเจริญ แขวงท่าข้าม เขตบางขุนเทียน กรุงเทพมหานคร 10150","10150","074-496-645","0-2896-5906","00962","2011-10-16",24,"3-Shophouse","กรุงเทพฯ"]
[null,"2038ZB0118","สัมฤทธิ์",null,null,null,null,null,null,"2001","TESCO LOTUS EXPRESS","THEPPRASIT SOI 6 PATTAYA : CHONBURI (CE0074-SSH)","เทพประสิทธิ์ซอย 6 พัทยา","เลขที่ 62/299, 62/300, 62/301, 62/302 หมู่ที่ 12 ตำบลหนองปรือ อำเภอบางละมุง จังหวัดชลบุรี 20150","20150","0-2754-6145","037-385-042","01366","2012-11-25",24,"Shophouse","ชลบุรี"]
[null,"2038ZB0124","เชวงศักดิ์",null,null,null,null,null,null,"2002","TESCO LOTUS EXPRESS","TALAD BUAKHOW : CHONBURI","ตลาดบัวขาว พัทยา ชลบุรี","เลขที่ 350/35 หมู่ที่ 9 ตำบลหนองปรือ อำเภอบางละมุง จังหวัดชลบุรี 20150","20150","074-368-283","038-720748","01207","2012-07-06",24,"Shophouse","ชลบุรี"]
[null,"2038ZB0126","สมนึก มินิมาร์ท",null,null,null,null,null,null,"2003","TESCO LOTUS EXPRESS","KHAM MUANG : KALASIN","ถนนภักดีชุมพล สุรินทร์","TESCO LOTUS EXPRESS - PHICHAI : UTTARADIT (NT0363-XSA)",46180,"038-880-554","077-572-101","00929","","","",""]
[null,"2038ZB0127","DD มาร์ท",null,null,null,null,null,null,"2004","TESCO LOTUS EXPRESS","BOONSAMPAN SOI 11 PATTAYA : CHONBURI","บุญสัมพันธ์ ซอย 11 พัทยา","เลขที่ 126/10 หมู่ที่ 10 ตำบลหนองปรือ อำเภอบางละมุง จังหวัดชลบุรี 20150","20150","074-427100","0-2752-3152","00940","2011-09-30",18,"3-Shophouse","ชลบุรี"]
[null,"2038ZB0128","นันทภัทร",null,null,null,null,null,null,"2005","TESCO LOTUS EXPRESS","PORAMINMANKA 15 : CHUMPON",null,null,null,"039-450-999","077-572-101","00941","","","",""]
[null,"2038ZB0142","มารวย",null,null,null,null,null,null,"2006","TESCO LOTUS EXPRESS","BANGPLA : SAMUTPRAKARN","บางปลา สมุทรปราการ","เลขที่ 84/67 หมู่ที่ 11 ตำบลบางปลา อำเภอบางพลี จังหวัดสมุทรปราการ 10540","10540","056-653101","0-2752-3152","00959","2011-10-13",18,"Standalone","สมุทรปราการ"]
[null,"2038ZB0145","ช.ศรีเมือง",null,null,null,null,null,null,"2007","TESCO LOTUS EXPRESS","KAO TALO 2 PATTAYA : CHONBURI","เขาตาโล 2 พัทยา ,ชลบุรี","เลขที่ 99/1051,99/1052,99/1053,99/1054 หมู่ที่ 10 ตำบลหนองปรือ อำเภอบางละมุง จังหวัดชลบุรี 20150","20150","038-783113","038-378-084","01305","2012-09-23",24,"Shophouse","ชลบุรี"]
[null,"2038ZB0146","พิชชาภา",null,null,null,null,null,null,"2008","TESCO LOTUS EXPRESS","SUAN PHUENG : RATCHABURI","สวนผึ้ง ราชบุรี","เลขที่ 13 หมู่ที่ 1 ตำบลสวนผึ้ง อำเภอสวนผึ้ง จังหวัดราชบุรี 70180","70180","038-808-389","032-395-494","00949","","","",""]
[null,"2038ZB0147","ป้าจิตร ทับลาน",null,null,null,null,null,null,"2009","TESCO LOTUS EXPRESS","TANON SAMRAT PHATANA : NONTHABURI","ถนนสำเร็จพัฒนา นนทบุรี","เลขที่ 95/102 หมู่ที่ 3 ตำบลปลายบาง อำเภอบางกรวย จังหวัดนนทบุรี 11130","11130","038-309-147","0-2903-8459","01081","2012-02-04","","","นนทบุรี"]
[null,"2038ZB0148","สำรวย  เรืองยง",null,null,null,null,null,null,"2010","TESCO LOTUS EXPRESS","TALAD NONG TAM LUENG : CHONBURI (CE0028-SSA)","ตลาดหนองตำลึง ชลบุรี","เลขที่ 19/46 หมู่ที่ 7 ตำบลหนองตำลึง อำเภอพานทอง จังหวัดชลบุรี 20160","20160","074-348-901","038-789686","01354","","","","ชลบุรี"]
[null,"2038ZB0149","อำพร  คำสุข",null,null,null,null,null,null,"2011","TESCO LOTUS EXPRESS","KHUN DAN PRAKARNCHON DAM : NAKORNNAYOK","เขื่อนขุนด่านปราการชล นครนายก","เลขที่ 1/2 หมู่ที่ 1 ตำบลสาริกา อำเภอเมืองนครนายก จังหวัดนครนายก 26000","26000","075-372-263","037-385-042","00932","","","","นครนายก"]
[null,"2038ZB0151","อุ้ย-หนองบุญเกิด",null,null,null,null,null,null,"2012","TESCO LOTUS EXPRESS","TALAD DR.PRAYOTE : CHONBURI","ตลาด ดร.ประโยชน์ ชลบุรี","เลขที่ 99/5 หมู่ที่ 3 ตำบลหนองซาก อำเภอบ้านบึง จังหวัดชลบุรี 20170","20170","038-375-162","038-297-098","00946","","","","ชลบุรี"]
[null,"2038ZB0152","S&T มินิมาร์ท",null,null,null,null,null,null,"2013","TESCO LOTUS EXPRESS","AMPHUR DONTUM : NAKORNPATHOM","อำเภอดอนตูม","เลขที่ 76/5 หมู่ที่ 1 ตำบลสามง่าม อำเภอดอนตูม จังหวัดนครปฐม 73150","73150","055-291-227","034-238-568","00926","2010-01-30","","","นครปฐม"]
[null,"2038ZB0153","ปู-บ้านแขก",null,null,null,null,null,null,"2014","TESCO LOTUS EXPRESS","TA-KHIAN TIA PATTAYA : CHONBURI","ตะเคียนเตี้ย ชลบุรี","เลขที่ 113/108 หมู่ที่ 2 ตำบลตะเคียนเตี้ย อำเภอบางละมุง จังหวัดชลบุรี 20150","20150","054-322-578","038-705-336","01038","2011-12-28",24,"Standalone","ชลบุรี"]
[null,"2038ZB0154","พัชระ ธงชัย",null,null,null,null,null,null,"2015","TESCO LOTUS EXPRESS","TALAD SI MUMMUANG : CHONBURI",null,null,null,"038-877-212","038-490-800","01039","","","",""]
[null,"2038ZB0156","บุญยานุช บุญก่อ",null,null,null,null,null,null,"2016","TESCO LOTUS EXPRESS","TALAD MANEE KAEW : CHONBURI (CE0093-3SA)","ตลาดมณีแก้ว ชลบุรี","เลขที่ 127/21 หมู่ที่ 1 ตำบลเหมือง อำเภอเมืองชลบุรี จังหวัดชลบุรี 20130","20130","0-2615-7146","038-746-325","01127","2012-03-16",24,"3-Shophouse","ชลบุรี"]
[null,"2038ZB0159","สีนวน ผาโต",null,null,null,null,null,null,"2017","TESCO LOTUS EXPRESS","THONGLOR SUKHUMVIT 55 : BANGKOK (BK0081-2SH)",null,null,null,"043-787-508","0-2714-1322","01026","","","",""]
[null,"2038ZB0164","ทับทิม",null,null,null,null,null,null,"2018","TESCO LOTUS EXPRESS","BETAGRO : SAMUTSAKHON","เบทาโกร สมุทรสาคร","เลขที่ 228/465 หมู่ที่ 6 ตำบลอ้อมน้อย อำเภอกระทุ่มแบน จังหวัดสมุทรสาคร 74130","74130","038 766 413","0-2813-4084","01195","2012-05-27","","","สมุทรสาคร"]
[null,"2038ZB0172","เฟรชมาร์ท",null,null,null,null,null,null,"2019","TESCO LOTUS EXPRESS","NONG YAI SOI6 : CHON BURI (CE0057-2SA)","ตลาดหนองใหญ่ซอย 6 ชลบุรี","เลขที่ 40/9 หมู่ที่ 6 ตำบลนาเกลือ อำเภอบางละมุง จังหวัดชลบุรี 20150","20150","02-8344528\n","038-726-380","00987","","","",""]
[null,"2038ZB0173","คุณอ๊อฟ",null,null,null,null,null,null,"2020","TESCO LOTUS EXPRESS","TALAD HUAI PONG : RAYONG (CE0097-SSA)","ตลาดห้วยโป่ง ระยอง","เลขที่ 44/19 ถนนห้วยโป่ง-หนองบอน ตำบลห้วยโป่ง อำเภอเมืองระยอง จังหวัดระยอง 21150","21150","074-372-795","038-034-532","00986","","","","ระยอง"]
[null,"2038ZB0174","สหกรณ์ (บ.หนองข่า)",null,null,null,null,null,null,"2021","TESCO LOTUS EXPRESS","SUANPAK SOI 32 : NONTHABURI (BK0101-SSA)","สวนผักซอย 32 นนทบุรี","เลขที่ 2/50 หมู่ที่ 2 ตำบลมหาสวัสดิ์ อำเภอบางกรวย จังหวัดนนทบุรี 11130","11130","038-786-153","0-2879-8581","01086","2012-02-07",24,"Standalone","นนทบุรี"]
[null,"2038ZB0175","เกษ-ก้องตะวัน",null,null,null,null,null,null,"2022","TESCO LOTUS EXPRESS","SOI UDOMSUK 42 : BANGKOK","ซอยอุดมสุข 42","เลขที่ 61 ซอยบางนา-ตราด 19 ถนนบางนา-ตราด แขวงบางนา เขตบางนา กรุงเทพมหานคร 10260","10260","038-786-858","0-2747-4712","01058","","","","กรุงเทพ"]
[null,"2038ZB0177","ดาว",null,null,null,null,null,null,"2023","TESCO LOTUS EXPRESS","RAJABHAT NAKORN SRITHAMMARAT UNIVERSITY : NAKORN SRITHAMMARAT",null,null,null,"043-833-340","075-377-232","00976","","","",""]
[null,"2038ZB0178","น้องเฟิร์ส",null,null,null,null,null,null,"2025","TESCO LOTUS EXPRESS","",null,null,null,"ปิด","ปิด",{"$error":"#N/A"},"","","",""]
[null,"2038ZB0179","ประนอม สด (พรหมแสง)",null,null,null,null,null,null,"2026","TESCO LOTUS EXPRESS","WAT CHED YOD : CHIANGMAI",null,null,null,"02-701-0534","053-400-092","00958","","","",""]
[null,"2038ZB0180","ประถมพงษ์",null,null,null,null,null,null,"2027","TESCO LOTUS EXPRESS","AMPHUR MAE THA : LAMPANG",null,null,null,"074-472-273","054-331-475","00943","","","",""]
[null,"2038ZB0181","พี่เล็ก-นนทรีย์",null,null,null,null,null,null,"2028","TESCO LOTUS EXPRESS","SILA-GOTA : KHON KAEN","ศิลา-โกทา ขอนแก่น"," 50/1,50/2,50/3,50/4 หมู่ที่ 15 ตำบลศิลา อำเภอเมืองขอนแก่น จังหวัดขอนแก่น  40000",40000,"045-317-984","043-378-185","00930","","","",""]
[null,"2038ZB0182","ไพรสันต์",null,null,null,null,null,null,"2029","TESCO LOTUS EXPRESS","NA KLUA 16 PATTAYA : CHONBURI","นาเกลือ 16 พัทยา","เลขที่ 99/14,99/15 หมู่ที่ 5 ตำบลนาเกลือ อำเภอบางละมุง จังหวัดชลบุรี 20150","20150","044-579-098","038-367-173","00957","2011-11-29",24,"Shophouse","ชลบุรี"]
[null,"2038ZB0183","พล",null,null,null,null,null,null,"2030","TESCO LOTUS EXPRESS","NONSANG : NONGBUALAMPHU","โนนสัง หนองบัวลำภู"," 302 หมู่ที่ 3 ตำบลโนนสัง อำเภอโนนสัง จังหวัดหนองบัวลำภู  39140",39140,"055-290135","042-375-611","00966","","","",""]
[null,"2038ZB0184","แม่เจริญ มินิมาร์ท",null,null,null,null,null,null,"2031","TESCO LOTUS EXPRESS","TALAD BAN PHRU : SONGKHLA",null,null,null,"077-586-042","074-438-654","00985","","","",""]
[null,"2038ZB0185","สุนทร",null,null,null,null,null,null,"2032","TESCO LOTUS EXPRESS","AMPHUR MAE MO : LAMPANG",null,null,null,"044-279-284","054-340-275","00970","","","",""]
[null,"2038ZB0187","คำน้อย",null,null,null,null,null,null,"2033","TESCO LOTUS EXPRESS","TALAD TON YANG : LAMPANG",null,null,null,"043-332-116","054-334-904","00969","","","",""]
[null,"2038ZB0189","ส.พานิช",null,null,null,null,null,null,"2034","TESCO LOTUS EXPRESS","TALAD SOMPHET : CHIANGMAI",null,null,null,"056-561-024","053-418-056","00871","","","",""]
[null,"2038ZB0191","อารมณ์ พรหมแสง",null,null,null,null,null,null,"2035","TESCO LOTUS EXPRESS","TATAD PORPAN 7 : CHIANGMAI",null,null,null,"056- 650-225","053-890-256","00942","","","",""]
[null,"2038ZB0192","วราภรณ์ (เจน)",null,null,null,null,null,null,"2036","TESCO LOTUS EXPRESS","SRIBOONRUAENG : NONGBUALAMPHU","ศรีบุญเรือง หนองบัวลำภู"," 270 หมู่ที่ 13 ตำบลเมืองใหม่ อำเภอศรีบุญเรือง จังหวัดหนองบัวลำภู  39180",39180,"044-281-025","042-353-301","00928","","","",""]
[null,"2038ZB0193","จำนงค์",null,null,null,null,null,null,"2037","TESCO LOTUS EXPRESS","SRIKONRAPHUM : SURIN","ศีขรภูมิ สุรินทร์","เลขที่ 344 หมู่ที่ 2 ตำบลระแงง อำเภอศีขรภูมิ จังหวัดสุรินทร์ 32110","32110","02-4616651","044-561-513","00936","","","","สุรินทร์"]
[null,"2038ZB0194","ชมพูนุช ไฮเทค",null,null,null,null,null,null,"2038","TESCO LOTUS EXPRESS","RAWAI BEACH : PHUKET",null,null,null,"032-451499","076-287-020","00938","","","",""]
[null,"2038ZB0195","แดง-บ.คลองร่วม",null,null,null,null,null,null,"2039","TESCO LOTUS EXPRESS","KLANG DONG : NAKORNRATCHASRIMA","กลางดง นครราชสีมา","เลขที่ 461/5,461/6,461/7 หมู่ที่ 12 ตำบลกลางดง อำเภอปากช่อง จังหวัดนครราชสีมา 30320","30320","056-667-119","044-322-242-3","00933","","","","นครราชสีมา"]
[null,"2038ZB0198","สมหญิง-กรอกสมบูรณ์",null,null,null,null,null,null,"2040","TESCO LOTUS EXPRESS","NONG PLING : NAKORNSAWAN",null,null,null,"032-349-220","056-326-213","00964","","","",""]
[null,"2038ZB0199","อิงอร-ศรีมหาโพธิ์",null,null,null,null,null,null,"2041","TESCO LOTUS EXPRESS","CHOENG NOEN : RAYONG","เชิงเนิน ระยอง","เลขที่ 222/2 หมู่ที่ 4 ตำบลเชิงเนิน อำเภอเมืองระยอง จังหวัดระยอง 21000","21000","039-538201","038-865-117","00972","","","","ระยอง"]
[null,"2038ZB0200","วิชาญการค้า",null,null,null,null,null,null,"2042","TESCO LOTUS EXPRESS","SRISAWATDAMNOEN : MAHASARAKHAM","ศรีสวัสดิ์ดำเนิน มหาสารคาม"," 469/1 ถ.ศรีสวัสดิ์ดำเนิน ต.ตลาด อ.เมืองมหาสารคาม จ.มหาสารคาม 44000",44000,"054-870193","043-720-102","00975","","","",""]
[null,"2038ZB0201","ประนอม-ลาดตะเคียน",null,null,null,null,null,null,"2043","TESCO LOTUS EXPRESS","THA KANTHO : KALASIN","ท่าคันโท กาฬสินธุ์"," 373/7-12 หมู่ที่ 1 ตำบลนาตาล อำเภอท่าคันโท จังหวัดกาฬสินธุ์  46190",46190,"074-425-501","042-268-324","00939","","","",""]
[null,"3031Z10003","รร.ปากพลีวิทยาคาร",null,null,null,null,null,null,"2044","TESCO LOTUS EXPRESS","TALAD THUNG FON : UDONTHANI",null,null,null,"044-391-373","077-251-115","00952","","","",""]
[null,"3031Z30001","รพ. นครนายก *",null,null,null,null,null,null,"2045","TESCO LOTUS EXPRESS","DON SAK : SURATTHANI",null,null,null,"02-497-3931","044-489-117","00953","","","",""]
[null,"3031Z70001","PX พัน รร.จปร",null,null,null,null,null,null,"2046","TESCO LOTUS EXPRESS","PRATHAI : NAKORNRATCHASRIMA","ประทาย นครราชสีมา","เลขที่ 50 หมู่ที่ 14 ตำบลประทาย อำเภอประทาย จังหวัดนครราชสีมา 30180","30180",null,"045-267-227","00963","","","","นครราชสีมา"]
[null,"3031ZB0001","เจ๊จันทร์-สาริกา",null,null,null,null,null,null,"2047","TESCO LOTUS EXPRESS","TALAD CHAROENSRI : UBONRATCHATHANI","ตลาดเจริญศรี อุบลราชธานี","เลขที่ 55/1 หมู่ที่ 16 ตำบลแสนสุข อำเภอวารินชำราบ จังหวัดอุบลราชธานี 34190","34190","077-220205","044-653-211","00955","","","","อุบลราชธานี"]
[null,"3031ZB0002","ชุมชนหัวเขา",null,null,null,null,null,null,"2048","TESCO LOTUS EXPRESS","NONG KI : BURIRAM","หนองกี่ บุรีรัมย์","เลขที่ 90/2,90/3,90/4 หมู่ที่ 2 ถนนโชคชัย-เดชอุดม ตำบลทุ่งกระเต็น อำเภอหนองกี่ จังหวัดบุรีรัมย์ 31210","31210","045-699-203","053-829-512","00960","","","","บุรีรัมย์"]
[null,"3031ZB0003","นาตยา",null,null,null,null,null,null,"2049","TESCO LOTUS EXPRESS","TALAD TUNG SEW : CHIANGMAI",null,null,null,"039-551-725","044-622-130","00965","","","",""]
[null,"3031ZB0004","ใบมาร์ท",null,null,null,null,null,null,"2050","TESCO LOTUS EXPRESS","NANG RONG : BURIRAM","นางรอง บุรีรัมย์ ","เลขที่ 443 ถนนโชคชัย-เดชอุดม ตำบลนางรอง อำเภอนางรอง จังหวัดบุรีรัมย์ 31110","31110","039-557-442","0-2901-2215","00967","","","","บุรีรัมย์"]
[null,"3031ZB0006","เรือน",null,null,null,null,null,null,"2051","TESCO LOTUS EXPRESS","KLONG LUANG 7 : PATHUMTHANI(BK0112-2SH)",null,null,null,"043-126530","045-787-343","00961","","","",""]
[null,"3031ZB0008","อุดม",null,null,null,null,null,null,"2052","TESCO LOTUS EXPRESS","SAI MUN : YASOTTHORN","ทรายมูล ยโสธร"," 133 หมู่ที่ 3 ตำบลทรายมูล อำเภอทรายมูล จังหวัดยโสธร  35170",35170,"039-551-723","053-850-231","00968","","","",""]
[null,"3031ZC0001","อ้วน  เชื่อ",null,null,null,null,null,null,"2053","TESCO LOTUS EXPRESS","DONCHAN : CHIANGMAI",null,null,null,"02-987-9585","053-850-231","00971","","","",""]
[null,"3032Z10001","รร.วัดใหม่กรงทอง",null,null,null,null,null,null,"2054","TESCO LOTUS EXPRESS","KHAO PHANOM : KRABI",null,null,null,"053-856-065","075-689-266","01017","","","",""]
[null,"3032Z10002","รร.พระราชทานคันนายาว",null,null,null,null,null,null,"2055","TESCO LOTUS EXPRESS","KANJANADIT : SURATTHANI",null,null,null,"032-318-215","038-610-066","00977","","","",""]
[null,"3032Z20001","GMB",null,null,null,null,null,null,"2056","TESCO LOTUS EXPRESS","HADYAI BUS TERMINAL : SONGKHLA",null,null,null,"074-478101","053-852-310","00978","","","",""]
[null,"3032Z20002","SMT",null,null,null,null,null,null,"2057","TESCO LOTUS EXPRESS","KHANG AMPHUR : RAYONG (CE00052-3SH)","ข้างอำเภอ ระยอง","เลขที่ 64/48, 64/49 ถนนตากสินมหาราช ตำบลท่าประดู่ อำเภอเมืองระยอง จังหวัดระยอง 21000","21000","075-344198","038-610-066","00990","","","","ระยอง"]
[null,"3032Z20004","คูโลต้า",null,null,null,null,null,null,"2058","TESCO LOTUS EXPRESS","THA CHANA : SURATTHANI",null,null,null,"02-815-8785","053-852-310","00979","","","",""]
[null,"3032Z20005","น้อย Yเทค",null,null,null,null,null,null,"2059","TESCO LOTUS EXPRESS","BAN LANG : RAYONG (CE0039-SSH)","บ้านแลง ระยอง","เลขที่ 111/17,111/18,111/19,111/20 หมู่ที่ 6 ตำบลเชิงเนิน อำเภอเมืองระยอง จังหวัดระยอง 21000","21000","038-704-302","038-802-678","01142","","","","ระยอง"]
[null,"3032Z20007","อัลฟ่า 1",null,null,null,null,null,null,"2060","TESCO LOTUS EXPRESS","TALAD PHU DOI : CHIANG MAI (NT0025-2SA)",null,null,null,"038-775-348","053-852-310","00983","","","",""]
[null,"3032Z20008","เอื้อม",null,null,null,null,null,null,"2061","TESCO LOTUS EXPRESS","TALAD THASALA : NAKORNSRITHAMMARAT",null,null,null,"032-576-132","075-330-101","00951","","","",""]
[null,"3032Z20009","ไทยบรรจุภัณฑ์",null,null,null,null,null,null,"2062","TESCO LOTUS EXPRESS","TALAD SRIFA SAMUI : SURATTHANI",null,null,null,"077-222280","077-234-173","01059","","","",""]
[null,"3032Z20010","รินจง",null,null,null,null,null,null,"2063","TESCO LOTUS EXPRESS","WICHEANBURI : PHETCHABUN",null,null,null,"055-218-433","056-754-076","00981","","","",""]
[null,"3032Z50001","เดียร์มาร์ท",null,null,null,null,null,null,"2064","TESCO LOTUS EXPRESS","GUDDINCHEE : NONGBUALAMPHU","กุดดินจี่ หนองบัวลำภู"," 31 หมู่ที่21 ต.กุดดินจี่ อ.นากลาง จ.หนองบัวลำภู 39170",39170,"042-697190","042-357-245","00982","","","",""]
[null,"3032Z50002","ดาวมินิมาร์ท",null,null,null,null,null,null,"2065","TESCO LOTUS EXPRESS","SUKHUMVIT-RAYONG 53 : RAYONG (CE0085-ESA)","สุขุมวิท ระยอง 53","เลขที่ 8/9 ถนนวัดโขดหิน-เขาไผ่ ตำบลเนินพระ อำเภอเมืองระยอง จังหวัดระยอง 21000","21000","055-721-773","038-966-635","00991","","","","ระยอง"]
[null,"3032ZB0001","108 SHOPโปร่งไผ่ 2",null,null,null,null,null,null,"2066","TESCO LOTUS EXPRESS","NAKLANG : NONGBUALAMPHU (NE0064-ESH)","นากลาง หนองบัวลำภู"," 167, 169/1 หมู่ที่ 1 ต.นากลาง อ.นากลาง จ.หนองบัวลำภู 39170",39170,"043-729-206","042-364-087","00998","","","",""]
[null,"3032ZB0002","หจก. รัตนเอสที",null,null,null,null,null,null,"2067","TESCO LOTUS EXPRESS","BANG SAWAN : SURATTHANI",null,null,null,"044-876959","077-365-404","01023","","","",""]
[null,"3032ZB0003","แหลมทอง",null,null,null,null,null,null,"2068","TESCO LOTUS EXPRESS","TALAD TESSABAN SURIN : SURIN (NE0018-3SH)","ตลาดเทศบาลสุรินทร์","เลขที่ 199-201/1-2 ถนนกรุงศรีใน ตำบลในเมือง อำเภอเมืองสุรินทร์ จังหวัดสุรินทร์ 32000","32000","042-766-183","044-538-047","01088","","","","สุรินทร์"]
[null,"3032ZB0004","แอ๊ดหมูย่าง",null,null,null,null,null,null,"2069","TESCO LOTUS EXPRESS","THUNG KLOM : TARNMAN CHONBURI","ทุ่งกลม-ตาลหมัน ชลบุรี","เลขที่ 22/28 หมู่ที่ 9 ตำบลหนองปรือ อำเภอบางละมุง จังหวัดชลบุรี 20150","20150","02-178-8542","038-433-283","01007","2011-12-09",24,"Standalone","ชลบุรี"]
[null,"3032ZB0005","เทียม",null,null,null,null,null,null,"2070","TESCO LOTUS EXPRESS","KHONBURI : NAKORNRATCHASIMA","ครบุรี นครราชสีมา","เลขที่ 927 หมู่ที่ 4 ตำบลแชะ อำเภอครบุรี จังหวัดนครราชสีมา 30250","30250","043-746742","044-444-600","01001","","","","นครราชสีมา"]
[null,"3033ZB0001","แชมป์",null,null,null,null,null,null,"2071","TESCO LOTUS EXPRESS","SAMKRABUEPUEK : NAKHON PATHOM","สามกระบือเผือก นครปฐม","เลขที่ 170 หมู่ที่ 3 ตำบลธรรมศาลา อำเภอเมืองนครปฐม จังหวัดนครปฐม 73000","73000","02-9059985","034-289-313","00992","2011-10-07","","","นครปฐม"]
[null,"3033ZB0002","แซร์ออ",null,null,null,null,null,null,"2072","TESCO LOTUS EXPRESS","PHRASAENG : SURATTHANI",null,null,null,"036-640-053","077-250-126","01015","","","",""]
[null,"3033ZB0003","ตุ๊กติ๊ก",null,null,null,null,null,null,"2073","TESCO LOTUS EXPRESS","TALAD MAE KHACHAN : CHIENGRAI",null,null,null,"038-116-029","053-704-116","01005","","","",""]
[null,"3033ZB0004","พัด",null,null,null,null,null,null,"2074","TESCO LOTUS EXPRESS","DREAM LAND TOWN HOME : NAKHON SAWAN",null,null,null,"044-459-437","056-333-366","01032","","","",""]
[null,"3033ZB0006","ประเสริฐ",null,null,null,null,null,null,"2075","TESCO LOTUS EXPRESS","CHAROEN KRUNG 83 : BANGKOK","เจริญกรุง 83","เลขที่ 2111-2113-2115 ถนนเจริญกรุง แขวงวัดพระยาไกร เขตบางคอแหลม กรุงเทพมหานคร 10120","10120","043-834-043","0-2688-1404","01057","","","","กรุงเทพ"]
[null,"3033ZB0007","อู๊ด",null,null,null,null,null,null,"2076","TESCO LOTUS EXPRESS","BUAKHOW SOI 15 : PATTAYA","บัวขาว ซอย 15 พัทยา","เลขที่ 111/307,111/308,111/309 หมู่ที่ 10 ตำบลหนองปรือ อำเภอบางละมุง จังหวัดชลบุรี 20150","20150","038-296-031","038-724-319","01216","2012-06-30",24,"3-Shophouse","ชลบุรี"]
[null,"3033ZC0001","สตาร์เวกัส 1",null,null,null,null,null,null,"2077","TESCO LOTUS EXPRESS","LAM THAMENCHAI : NAKHONRATCHASIMA","ลำทะเมนชัย นครราชสีมา","เลขที่ 48/1 หมู่ที่ 9 ตำบลขุย อำเภอลำทะเมนชัย จังหวัดนครราชสีมา 30270","30270","038-345-890","044-964-182","01002","","","","นครราชสีมา"]
[null,"3033ZC0002","สตาร์เวกัส 2",null,null,null,null,null,null,"2078","TESCO LOTUS EXPRESS","LAN SAKA : NAKHONSRITHAMMARAT",null,null,null,"034-622142","075-374-381","01010","","","",""]
[null,"3033ZC0003","สตาร์เวกัส 3",null,null,null,null,null,null,"2079","TESCO LOTUS EXPRESS","KANJANAVANITCH SOI 19 HADYAI : SONGKHLA",null,null,null,"02-9277392","074-462-263","01008","","","",""]
[null,"3033ZC0005","สตาร์เวกัส 8",null,null,null,null,null,null,"2080","TESCO LOTUS EXPRESS","TALAD KHA CHAROEN : CHIANG MAI (NT0031-SSH)",null,null,null,"038-952-084","053-398-113","00989","","","",""]
[null,"3033ZC0008","สตาร์เวกัส 9",null,null,null,null,null,null,"2081","TESCO LOTUS EXPRESS","KHAM TALE SO : NAKHONRATCHASIMA","ขามทะเลสอ นครราชสีมา","เลขที่ 387 หมู่ที่ 7 ตำบลขามทะเลสอ อำเภอขามทะเลสอ จังหวัดนครราชสีมา 30280","30280","038-338-713","044-333-040","01003","","","","นครราชสีมา"]
[null,"3034Z60001","สหกรณ์ บชร. 1 จำกัด",null,null,null,null,null,null,"2082","TESCO LOTUS EXPRESS","TALAD KARD MEK : LAMPANG (NT0029-SSH)",null,null,null,"039-536309","054-317-041","00995","","","",""]
[null,"3035Z20001","PARK WAY",null,null,null,null,null,null,"2083","TESCO LOTUS EXPRESS","TALAD KAJAO : CHIANG MAI",null,null,null,"038-761-733","053-852-518","01006","","","",""]
[null,"3035Z30001","รพ. วังน้ำเย็น",null,null,null,null,null,null,"2084","TESCO LOTUS EXPRESS","CHAIBURI : SURATTHANI",null,null,null,"074-376670 ","077-367-202","01009","","","",""]
[null,"3035Z30002","ใบหม่อน",null,null,null,null,null,null,"2085","TESCO LOTUS EXPRESS","HI SQUARE (TAWEEWATTANA) : BANGKOK","ไฮสแควร์ (ทวีวัฒนา) กรุงเทพฯ","เลขที่ 199/1 ถนนทวีวัฒนา แขวงทวีวัฒนา เขตทวีวัฒนา กรุงเทพมหานคร 10170","10170","036-318486","02-999-9999","01295","2012-09-13",16.5,"3-Shophouse","กรุงเทพฯ"]
[null,"3035ZA0001","รวงทองการค้า",null,null,null,null,null,null,"2086","TESCO LOTUS EXPRESS","SATTAHIP-SUKHUMVIT 45-47 : CHON BURI",null,null,null,null,"038-739-464","01025","","","",""]
[null,"3035ZB0003","ทิพย์เจริญการค้า",null,null,null,null,null,null,"2088","TESCO LOTUS EXPRESS","SUKHUMVIT PATTAYA 15 : CHONBURI","สุขุมวิท พัทยา 15","เลขที่ 700/135,700/136,700/137,700/138 หมู่ที่ 8 ตำบลหนองปลาไหล อำเภอบางละมุง จังหวัดชลบุรี 20150","20150","043-000107","038-702414","01334","2012-10-27",24,"Shophouse","ชลบุรี"]
[null,"3035ZB0004","นรินทร์",null,null,null,null,null,null,"2089","TESCO LOTUS EXPRESS","TALAD KM.10, SATTAHIP : CHON BURI (CE0113-SSH)","ตลาด กม.10 สัตหีบ ชลบุรี","เลขที่ 26/1-26/4 หมู่ที่ 1 ตำบลพลูตาหลวง อำเภอสัตหีบ จังหวัดชลบุรี 20180","20180","045-270415","038-244-741","00988","","","",{"$error":"#REF!"}]
[null,"3035ZB0007","เจ๊เนียง",null,null,null,null,null,null,"2090","TESCO LOTUS EXPRESS","TALAD THAISIRI : UDONTHANI (NE0063-3SH)","ตลาดไทยศิริ อุดรธานี"," 307/10 หมู่ที่ 2 ต. หนองบัว อ.เมืองอุดรธานี จ.อุดรธานี 41000",41000,"045-351-360","042-322-007","00999","","","",""]
[null,"3035ZB0008","สมหมาย",null,null,null,null,null,null,"2091","TESCO LOTUS EXPRESS","PHOOMJAI NIVET : SAMUTPRAKARN (BK0070-3SH)","ภูมิใจนิเวศน์ สมุทรปราการ","เลขที่ 100,100/1,100/2 หมู่ที่ 5 ตำบลในคลองบางปลากด อำเภอพระสมุทรเจดีย์ จังหวัดสมุทรปราการ 10290","10290","045-855-280","0-2815-4130","00984","2011-12-21",24,"3-Shophouse","สมุทรปราการ"]
[null,"3036Z20002","TOSHIBA",null,null,null,null,null,null,"2092","TESCO LOTUS EXPRESS","KHIRI RAT NIKHOM : SURATTHANI",null,null,null,"044-691622","077-265-087","01016","","","",""]
[null,"3036Z20003","โกดำ",null,null,null,null,null,null,"2093","TESCO LOTUS EXPRESS","CHA POR SUEA SHRINE : RAMINTRA SOI 5","ศาลเจ้าพ่อเสือ รามอินทรา ซอย 5","เลขที่ 332 ซอยพหลโยธิน 48 แขวงอนุสาวรีย์ เขตบางเขน กรุงเทพมหานคร 10220","10220","038-058-049","0-2970-8131","01077","","","","กรุงเทพ"]
[null,"3036Z20004","ทิพย์นิภา",null,null,null,null,null,null,"2094","TESCO LOTUS EXPRESS","TALAD TESSABAN MAPTAPUD : RAYONG","ตลาดเทศบาลมาบตาพุด ระยอง","เลขที่ 94/99 ถนนเนินพยอม ตำบลมาบตาพุด อำเภอเมืองระยอง จังหวัดระยอง 21000","21000","056-758055","038-691-098","01027","","","","ระยอง"]
[null,"3036ZB0001","พรีเมียร์มาร์ท",null,null,null,null,null,null,"2095","TESCO LOTUS EXPRESS","TOYOTA BAN PHO : CHACHOENSAO","โตโยต้าบ้านโพธิ์ ฉะเชิงเทรา","เลขที่ 38/66 หมู่ที่ 1 ตำบลคลองประเวศ อำเภอบ้านโพธิ์ จังหวัดฉะเชิงเทรา 24140","24140","044-294-093","038-130-170","01028","2011-12-20",24,"3-Shophouse","ฉะเชิงเทรา"]
[null,"3036ZB0002","บัวไข",null,null,null,null,null,null,"2096","TESCO LOTUS EXPRESS","TALAD THA RUA : CHIANGMAI",null,null,null,"02-914-5420","053-887-319","01014","","","",""]
[null,"3036ZB0003","โลตัส พนมสารคาม",null,null,null,null,null,null,"2097","TESCO LOTUS EXPRESS","PATTHUMRAT : ROI ET","ปทุมรัตต์ ร้อยเอ็ด"," 72 หมู่ที่ 9 ต. บัวแดง อ.ปทุมรัตต์ จ.ร้อยเอ็ด 45190",45190,"034-736751","043-587-421","01033","","","",""]
[null,"3036ZB0004","สำรวม",null,null,null,null,null,null,"2098","TESCO LOTUS EXPRESS","SOMDET : KALASIN","สมเด็จ กาฬสินธุ์"," 1 หมู่ที่ 5 ต.สมเด็จ อ.สมเด็จ จ.กาฬสินธุ์ 46150",46150,"044-596403","043-823-672","01018","","","",""]
[null,"3037Z20001","LEAR",null,null,null,null,null,null,"2099","TESCO LOTUS EXPRESS","CHUMCHON MAHACHAI-UDOMPORN : NAKORNRATCHASIMA","ชุมชนมหาชัย-อุดมพร นครราชสีมา","เลขที่ 2/1 ถนนมหาชัย ตำบลในเมือง อำเภอเมืองนครราชสีมา จังหวัดนครราชสีมา 30000","30000","02-947-9252","044-276-091","01036","","","","นครราชสีมา"]
[null,"3037Z30001","รพ. วังน้ำเขียว",null,null,null,null,null,null,"2100","TESCO LOTUS EXPRESS","SOI YOTHINPATTANA : BANGKOK (BK0131-SSA)","ซอยโยธินพัฒนา ","เลขที่ 226 ซอยโรงเรียนคลองลำเจียก แขวงคลองจั่น เขตบางกะปิ กรุงเทพมหานคร 10240","10240","032-661304","0-2508-0497","01066","","","",""]
[null,"3038Z50001","สตาร์ SHOP",null,null,null,null,null,null,"2101","TESCO LOTUS EXPRESS","SANGKHA : SURIN","สังขะ สุรินทร์","เลขที่ 257 หมู่ที่ 1 ตำบลสังขะ อำเภอสังขะ จังหวัดสุรินทร์ 32150","32150","037-441335","045-571-867","01034","","","","สุรินทร์"]
[null,"3038ZB0001","หยก/หยี",null,null,null,null,null,null,"2102","TESCO LOTUS EXPRESS","TALAD AUNRUEN : BANGKOK (BK0118-SSA)","ตลาดอุ่นเรือน กรุงเทพฯ","เลขที่ 264/2 ถนนเลียบคลองภาษีเจริญฝั่งเหนือ แขวงหนองแขม เขตหนองแขม กรุงเทพมหานคร 10160","10160","043-332-106","0-2807-6373","01100","","","",""]
[null,"3038ZB0002","แดง",null,null,null,null,null,null,"2103","TESCO LOTUS EXPRESS","TALAD UTHAITHIT : MAHA SARAKHAM","ตลาดอุทัยทิศ มหาสารคาม"," 747/1, 747/2, 747/3 ถ.นครสวรรค์ ต.ตลาด อ.เมืองมหาสารคาม จ.มหาสารคาม 44000",44000,"043-631296","043-740-053","01000","","","",""]
[null,"3038ZB0003","ดาราวัลย์ คันสินธ์",null,null,null,null,null,null,"2104","TESCO LOTUS EXPRESS","MAESAI : CHIANG RAI",null,null,null,"054-750114","053-640-068","01020","","","",""]
[null,"3038ZB0004","KC SHOP",null,null,null,null,null,null,"2105","TESCO LOTUS EXPRESS","SATTAHIP SUKHUMVIT 73 : CHONBURI","สัตหีบ สุขุมวิท 73 ชลบุรี","เลขที่ 68/53 หมู่ที่ 6 ตำบลสัตหีบ อำเภอสัตหีบ จังหวัดชลบุรี 20182","20182","055-222443","038-738-983","01290","","","","ชลบุรี"]
[null,"3038ZB0005","อี๊ด",null,null,null,null,null,null,"2106","TESCO LOTUS EXPRESS","PRADABDAOW (RATCHAPHRUEUK) : NONTHABURI (BK0129-SSA)","ประดับดาว(ราชพฤกษ์) นนทบุรี","เลขที่ 23/11 หมู่ที่ 1 ตำบลท่าอิฐ อำเภอปากเกร็ด จังหวัดนนทบุรี 11120","11120","037-220564","038-733-534","01070","2012-01-27","","","นนทบุรี"]
[null,"4031Z70001","หมู่ปรีดา..กองร้อยบังคับการ",null,null,null,null,null,null,"2107","TESCO LOTUS EXPRESS","TESSA BAN 1 SCHOOL : SURATTHANI (ST0053-SSA)",null,null,null,"039-365-184","077-210-164","01053","","","",""]
[null,"4031Z70003","กองร้อยอาวุธเบาที่ 1 ( เขาอีโต้ )",null,null,null,null,null,null,"2108","TESCO LOTUS EXPRESS","MAHACHANACHAI : YASOTHORN (NE0037-SSA)","มหาชนะชัย ยโสธร"," 315 หมู่ที่ 2 ต.ฟ้าหยาด อ.มหาชนะชัย จ.ยโสธร 35130",35130,"054-620253","045-799-332","01090","","","",""]
[null,"4031Z70008","จ่ารัตน์ กองร้อย ม.พัน 30 ร้อย 2",null,null,null,null,null,null,"2109","TESCO LOTUS EXPRESS","PRATU MA : LAMPANG (NT0045-SSH)",null,null,null,"02-429-6386","054-320-357","01035","","","",""]
[null,"4031Z70015","จ่าแหลม-วิชัย ร้านค้าสวัสดิการ",null,null,null,null,null,null,"2110","TESCO LOTUS EXPRESS","NARASUAN UNIVERSITY PRA-TU 4 : PHITSANULOK",null,null,null,"055-732113","055-226-078","01049","","","",""]
[null,"4031Z70018","จสอ.อัครินทร์ ปริหิรัญยกิตดิ์",null,null,null,null,null,null,"2111","TESCO LOTUS EXPRESS","LAHANSAI : BURIRAM","ละหานทราย บุรีรัมย์","เลขที่ 76 หมู่ที่ 1 ตำบลละหานทราย อำเภอละหานทราย จังหวัดบุรีรัมย์ 31170","31170",null,"044-656-097","01013","","","","บุรีรัมย์"]
[null,"4031Z70032","จ่าบุญสม สายจันทร์",null,null,null,null,null,null,"2112","TESCO LOTUS EXPRESS","TALAD SAN PA TONG : CHIANG MAI (NT0032-3SA)",null,null,null,"054-753022","053-822-485","01043","","","",""]
[null,"4031Z70033","จ่ารุ่งวิทย์ เดชะผล",null,null,null,null,null,null,"2113","TESCO LOTUS EXPRESS","TALAD WAT SRIBOONYEAN : LUMPHUN (NT0073-3SA)",null,null,null,"056-992080","053-531-271","01051","","","",""]
[null,"4031Z70041","จสอ.รังสรรค์  เก่งการช่าง",null,null,null,null,null,null,"2114","TESCO LOTUS EXPRESS","AMPHUR CHAT TRAKAN : PHITSANULOK",null,null,null,"02-738-8290","055-381-801","01037","","","",""]
[null,"4031Z70050","สอ.ณัฐพล  คำพอง",null,null,null,null,null,null,"2115","TESCO LOTUS EXPRESS","AMPHUR CHIANG SAEN : CHIANG RAI",null,null,null,"038-963-452","053-650-367","01083","","","",""]
[null,"4031Z70055","จสอ.พงษกรณ์  คำเพชรดี อาวุธเบาที่2 เขาอีโต้",null,null,null,null,null,null,"2116","TESCO LOTUS EXPRESS","TALAD THORUNG : KALASIN (NE0042-3SH)","ตลาดโต้รุ่ง กาฬสินธุ์"," 101, 103-105 ถ.เทศบาล 23 ต.กาฬสินธุ์ อ.เมืองกาฬสินธุ์ จ.กาฬสินธุ์ 46000",46000,"055-738-156","043-820-996","01040","","","",""]
[null,"4031Z70064","รท.ณรงค์กฤษณ์ กลั่นจัตุรัส (พันซ่อมบำรุง)",null,null,null,null,null,null,"2117","TESCO LOTUS EXPRESS","TALAD PHOSRI : UDONTHANI (NE0010-3SA)","ตลาดโพธิ์ศรี อุดรธานี"," 355/4 หมู่ที่ 2 ซ.บ้านโพธิ์สว่าง ต.หมากแข้ง อ.เมืองอุดรธานี จ.อุดรธานี 41000",41000,"037-223684","042-304-498","01052","","","",""]
[null,"4031Z70068","รต.บุณยทรรศน์ สุวรรณคีรี(หมวดกิต)",null,null,null,null,null,null,"2119","TESCO LOTUS EXPRESS","TALAD MUEANG DANG : CHIANG RAI (NT0076-SSA)",null,null,null,"02-887-8264","053-644-091","01046","","","",""]
[null,"4031Z70069","จสอ.สุราษฎร์ อบมา",null,null,null,null,null,null,"2120","TESCO LOTUS EXPRESS","AMPHUR HOD : CHIANG MAI (NT0072-ESA)",null,null,null,"075-523-3365","053-831-117","01048","","","",""]
[null,"4031ZC0002","ลำตะคอง",null,null,null,null,null,null,"2121","TESCO LOTUS EXPRESS","KLOW KILO ROAD, SRIRACHA : CHONBURI (CE0094-SSA)","ถนนเก้ากิโล ศรีราชา ชลบุรี","เลขที่ 514/51 หมู่ที่ 6 ตำบลทุ่งสุขลา อำเภอศรีราชา จังหวัดชลบุรี 20230","20230","042-709-362","038-112-104","01085","2012-02-06",24,"Standalone","ชลบุรี"]
[null,"4031ZC0003","ศูนย์อาหารเขาใหญ่",null,null,null,null,null,null,"2122","TESCO LOTUS EXPRESS","TALAD BAN NA DOEM : SURATTHANI (ST0065-SSA)",null,null,null,"044-520210","077-252-044","01044","","","",""]
[null,"4032Z20001","สวัสดิการแคนทีน ฮอนด้า ปราจีนบุรี",null,null,null,null,null,null,"2123","TESCO LOTUS EXPRESS","THAWAT BURI : ROI ET (NE0082-3SA)","ธวัชบุรี ร้อยเอ็ด"," 110 หมู่ที่ 15 ต.นิเวศน์ อ.ธวัชบุรี จ.ร้อยเอ็ด 45170",45170,"055-773-292","043-569-294","01047","","","",""]
[null,"4033Z70001","จ่าคมสรรค์ กองร้อยทหารราบ (ยานเกาะที่ 3)",null,null,null,null,null,null,"2124","TESCO LOTUS EXPRESS","CHAIYAPORNVITHEE 8-10 PATTAYA : CHONBURI","ชัยพรวิถี 8-10 พัทยา ชลบุรี","เลขที่ 77/28,77/29 หมู่ที่ 1 ตำบลหนองปรือ อำเภอบางละมุง จังหวัดชลบุรี 20150","20150","044-485004","038-733-534","01285","2012-08-27",24,"2-Shophouse","ชลบุรี"]
[null,"4033Z70007","จสอ.วรรณลบ เพ็ชรสมบัติ",null,null,null,null,null,null,"2125","TESCO LOTUS EXPRESS","NONG KLA MAI-SAHAPAT , SRIRACHA : CHONBURI (CE0096-SSA)","หนองคล้าใหม่ สหพัฒน์ ศรีราชา","เลขที่ 68 หมู่ที่ 9 ตำบลบึง อำเภอศรีราชา จังหวัดชลบุรี 20230","20230","044-866263","038-763-284","01050","2012-01-08",24,"Standalone","ชลบุรี"]
[null,"4033Z70008","สวัสดิการฝูงบิน 206",null,null,null,null,null,null,"2126","TESCO LOTUS EXPRESS","CHARUN 13 VILLA : BANGKOK (BK0147-SSA)","จรัญ 13 วิลล่า","เลขที่ 453/5 ถนนบางแวก แขวงบางแวก เขตภาษีเจริญ กรุงเทพมหานคร 10160","10160","042-899-065","0-2867-3592","01118","2012-12-26",24,"Standalone","กรุงเทพฯ"]
[null,"4033Z70009","จสอ.สมทรง",null,null,null,null,null,null,"2127","TESCO LOTUS EXPRESS","AMPHUR CHAE HOM : LAMPANG (NT0067-3SA)",null,null,null,null,"054-369-084","01092","","","",""]
[null,"4033Z70020","จ่าบรรพต โสภาเวช",null,null,null,null,null,null,"2128","TESCO LOTUS EXPRESS","TUNGKRAPUNGHOM : NAKHON PATHOM","ทุ่งกระพังโหม นครปฐม","เลขที่ 121 หมู่ที่ 5 ตำบลทุ่งกระพังโหม อำเภอกำแพงแสน จังหวัดนครปฐม 73140","73140","034-866-688","034-204-498","01075","2011-09-26","","","นครปฐม"]
[null,"4034Z70001","สอ.กานต์",null,null,null,null,null,null,"2129","TESCO LOTUS EXPRESS","CHUMCHON FA HAM : CHIANG MAI NT0068-3SA)",null,null,null,"042-347-747","053-306-115","01067","","","",""]
[null,"4034Z70003","จสอ.ภักดี มีฟัก กองร้อยบังคับการ",null,null,null,null,null,null,"2130","TESCO LOTUS EXPRESS","MOO BANN THAN THONG VILLA : BANGKOK (BK0136-SSA)","หมู่บ้านธารทองวิลล่า กรุงเทพ","เลขที่ 284 ถนนบางแวก แขวงบางแวก เขตภาษีเจริญ กรุงเทพมหานคร 10160","10160","042-595-403","0-2865-8149","01119","2012-11-03",24,"Standalone","กรุงเทพฯ"]
[null,"4034Z70006","รต.วันชัย เสือนาค (หมวดหนุ่ย)",null,null,null,null,null,null,"2131","TESCO LOTUS EXPRESS","TALAD KHOKSUNG : NAKORNRATCHASIMA","ตลาดโคกสูง นครราชสีมา","เลขที่ 69/2,69/3,69/4 หมู่ที่ 10 ตำบลโคกสูง อำเภอเมืองนครราชสีมา จังหวัดนครราชสีมา 30310","30310","076-446055","044-294-098","01030","","","","นครราชสีมา"]
[null,"4034Z70007","สอ.สาธิต วิทไธสง",null,null,null,null,null,null,"2132","TESCO LOTUS EXPRESS","KHAM KHUAN KAEW : YASOTHORN (NE0091-ESA)","คำเขื่อนแก้ว ยโสธร"," 1033 หมู่ที่ 2 ต.ลุมพุก อ.คำเขื่อนแก้ว จ.ยโสธร 35110",35110,"044-270357","045-791-795","01061","","","",""]
[null,"4036Z70001","PX100 ม.ท.บ.12 หน่วยฝึกทหารใหม่",null,null,null,null,null,null,"2133","TESCO LOTUS EXPRESS","TALAD KHOK SAWAI : NAKORNRATCHASIMA (NE0089-SSA)","โคกสวาย นครราชสีมา","เลขที่ 111 หมู่ที่ 4 ตำบลสายออ อำเภอโนนไทย จังหวัดนครราชสีมา 30220","30220","032 532 065","044-972-052","01062","","","","นครราชสีมา"]
[null,"4036Z70003","จสอ.วราทิพย์ อินตา กองร้อยอาวุธเบาที่ 1",null,null,null,null,null,null,"2134","TESCO LOTUS EXPRESS","SAHATSAKHAN : NKALASIN","สหัสขันธ์ กาฬสินธุ์"," 16,16/3,16/4 หมู่ที่ 1 ต.โนนบุรี อ.สหัสขันธ์ จ.กาฬสินธุ์ 46140",46140,"038-796-979","043-871-630","01031","","","",""]
[null,"4036Z70004","กองร้อยเสนารักษ์",null,null,null,null,null,null,"2135","TESCO LOTUS EXPRESS","SOI KOR PAI PATTAYA : CHONBURI","ซอยกอไผ่ พัทยา","เลขที่ 587/10, 587/11,587/12,587/13 หมู่ที่ 10 ตำบลหนองปรือ อำเภอบางละมุง จังหวัดชลบุรี 20150","20150","077-261118","038-374-624","01187","2012-05-26",24,"Shophouse","ชลบุรี"]
[null,"4036Z70006","สต.เจษฎา ผลิพืช",null,null,null,null,null,null,"2136","TESCO LOTUS EXPRESS","TALAD KIJ CHAROEN 99 : CHONBURI (CE0095-SSA)","ตลาดกิจเจริญ 99 ชลบุรี","เลขที่ 88/101 หมู่ที่ 11 ตำบลหนองขาม อำเภอศรีราชา จังหวัดชลบุรี 20230","20230","034-659115","038-763-412","01098","2012-02-14",24,"Standalone","ชลบุรี"]
[null,"4036Z70013","จสอ.ธานินทร์ เดชดี กองร้อย สสก.",null,null,null,null,null,null,"2137","TESCO LOTUS EXPRESS","PHRA TUM NAK SOI 5, PATTAYA : CHONBURI (CE0127-SSA)","พระตำหนัก ซอย 5 พัทยา ชลบุรี","เลขที่ 378/478 หมู่ที่ 12 ตำบลหนองปรือ อำเภอบางละมุง จังหวัดชลบุรี 20150","20150","038-777358","038-306-501","01093","2012-02-10",24,"Standalone","ชลบุรี"]
[null,"4036Z70016","จสต.สันติ ชูช่วย",null,null,null,null,null,null,"2138","TESCO LOTUS EXPRESS","MOO BAAN WISET SUK NAKHON : BANGKOK","หมู่บ้านวิเศษสุขนคร กรุงเทพฯ","เลขที่ 81/1245 ซอยประชาอุทิศ 79 แขวงทุ่งครุ เขตทุ่งครุ กรุงเทพมหานคร 10140","10140","074-458458","02-871-9013","01296","2012-09-14",24,"Standalone","กรุงเทพฯ"]
[null,"4036Z70019","จ่าสมนึก นิลใหญ่",null,null,null,null,null,null,"2139","TESCO LOTUS EXPRESS","SAMUT SAKHON HOSPITAL : SAMUT SAKHON (BK0134-SSA)","โรงพยาบาลสมุทรสาคร","เลขที่ 925/65 ถนนเอกชัย ตำบลมหาชัย อำเภอเมืองสมุทรสาคร จังหวัดสมุทรสาคร 74000","74000","054-584177","034-8364-740","01136","2012-03-13","","","สมุทรสาคร"]
[null,"4036Z70022","หมวดวัฒน์ นุชมี",null,null,null,null,null,null,"2140","TESCO LOTUS EXPRESS","KHUAN NIANG : SONGKHLA (ST0067-SSA)",null,null,null,"044-855-178","074-432-430","01056","","","",""]
[null,"4036Z70023","จ่าสมนึก นิลใหญ่ (หน่วยฝึกทหารใหม่)",null,null,null,null,null,null,"2141","TESCO LOTUS EXPRESS","PHUKET ZOO : PHUKET (ST0030-SSA)",null,null,null,null,"076-282-436","01139","","","",""]
[null,"4036Z80001","บริษัท พวงทองตลอดวันตลอดคืน จำกัด",null,null,null,null,null,null,"2142","TESCO LOTUS EXPRESS","TANON YINGPAOTAI : NAKHON PATHOM","ถนนยิงเป้าใต้ นครปฐม","เลขที่ 4/58 หมู่ที่ 2 ตำบลสนามจันทร์ อำเภอเมืองนครปฐม จังหวัดนครปฐม 73000","73000","038-525-458","034-217-364","01076","2012-01-20","","","นครปฐม"]
[null,"4036Z80002","บริษัท พวงทองตลาดนัดติดแอร์ จำกัด",null,null,null,null,null,null,"2143","TESCO LOTUS EXPRESS","NA DUN : MAHASARAKHAM (NE0090-SSA)","นาดูน มหาสารคาม"," 262 หมู่ที่ 9 ต.นาดูน อ.นาดูน จ.มหาสารคาม 44180",44180,"077-222264","043-797-066","01063","","","",""]
[null,"4038Z40001","บขส.คุณสุนีย์",null,null,null,null,null,null,"2144","TESCO LOTUS EXPRESS","BANGRAK PIER : KOH SAMUI,SURATTHANI",null,null,null,"038-774228","077-247-398","01082","","","",""]
[null,null,null,null,null,null,null,null,null,"2145","TESCO LOTUS EXPRESS","MUEANG SUANG : ROI ET (NE0101-SSA)","เมืองสรวง ร้อยเอ็ด"," 287 หมู่ที่ 4 ต.หนองผือ อ.เมืองสรวง จ.ร้อยเอ็ด 45220",45220,"042-463-076","043-597-516","01064","","","",""]
[null,null,null,null,null,null,null,null,null,"2146","TESCO LOTUS EXPRESS","TALAD THUNG YAO : TRANG",null,null,null,"042-266543","075-501-639","01055","","","",""]
[null,null,null,null,null,null,null,null,null,"2147","TESCO LOTUS EXPRESS","TALAD UDOMKIT 2 : CHONBURI (CE0081-SSA)","ตลาดอุดมกิจ 2 ชลบุรี","เลขที่ 259/71 หมู่ที่ 11 ตำบลหนองขาม อำเภอศรีราชา จังหวัดชลบุรี 20230","20230","074-433434","038-762-182","01095","2012-02-12",24,"Standalone","ชลบุรี"]
[null,null,null,null,null,null,null,null,null,"2148","TESCO LOTUS EXPRESS","LAO NA DEI ROAD : KHON KAEN (NE0106-SSA)","ถนนเหล่านาดี ขอนแก่น"," 430 หมู่ที่ 8 ต.เมืองเก่า อ.เมืองขอนแก่น จ. ขอนแก่น 40000",40000,"034-634277","043-324-447","01087","","","",""]
[null,null,null,null,null,null,null,null,null,"2149","TESCO LOTUS EXPRESS","SOI KAMNAN YEN-UTHID : BANKOK (BK0143-3SA)","ซอยกำนันเย็นอุทิศ กรุงเทพ","เลขที่ 320/1 ถนนเลียบคลองลำกอไผ่ แขวงลำปลาทิว เขตลาดกระบัง กรุงเทพมหานคร 10520","10520","036-627067","0-2739-6236","01137","","","","กรุงเทพ"]
[null,null,null,null,null,null,null,null,null,"2150","TESCO LOTUS EXPRESS","TALAD CHUMCHON ARANYIK : PHITSANULOK (NT0088-3SA)",null,null,null,"042-418169","055-214-338","01120","","","",""]
[null,null,null,null,null,null,null,null,null,"2151","TESCO LOTUS EXPRESS","KAN DONG : BURIRAM (NE0083-SSA)","แคนดง บุรีรัมย์","เลขที่ 150 หมู่ที่ 16 ตำบลแคนดง กิ่งอำเภอแคนดง จังหวัดบุรีรัมย์ 31150","31150","037-481231","044-193-177","01096","","","","บุรีรัมย์"]
[null,null,null,null,null,null,null,null,null,"2152","TESCO LOTUS EXPRESS","GOLD CITY PLACE : KANCHANABURI","โกลด์ซิตี้ เพลส กาญจนบุรี","เลขที่ 77/7 ถนนแม่น้ำแคว ตำบลท่ามะขาม อำเภอเมืองกาญจนบุรี จังหวัดกาญจนบุรี 71000","71000","055-634172","034-624-330","01073","2012-01-20","","","กาญจนบุรี"]
[null,null,null,null,null,null,null,null,null,"2153","TESCO LOTUS EXPRESS","KHAM YAI : KALASIN","คำใหญ่ กาฬสินธุ์"," 211 หมู่ที่ 12 ต.คำใหญ่ อ.ห้วยเม็ก จ.กาฬสินธุ์ 46170",46170,"02-870-5301","043-125-090","01060","","","",""]
[null,null,null,null,null,null,null,null,null,"2154","TESCO LOTUS EXPRESS","KHAEM YAI : UBONRATCHATHANI (NE0112-3SA)","ขามใหญ่ อุบลราชธานี","เลขที่ 239/7 หมู่ที่ 3 ตำบลขามใหญ่ อำเภอเมืองอุบลราชธานี จังหวัดอุบลราชธานี 34000","34000","054-630033","045-280-446","01097","","","","อุบลราชธานี"]
[null,null,null,null,null,null,null,null,null,"2155","TESCO LOTUS EXPRESS","HUA THANON-SAMUI : SURATTHANI",null,null,null,"043-340117","077-232-253","01111","","","",""]
[null,null,null,null,null,null,null,null,null,"2156","TESCO LOTUS EXPRESS","SUNTHORN PHU MONUMENT : RAYONG (CE0140-3SA)","อนุสาวรีย์สุนทรภู่ ระยอง","เลขที่ 144 หมู่ที่ 1 ตำบลกร่ำ อำเภอแกลง จังหวัดระยอง 21190","21190","055-293252","038-866-172","01121","","","","ระยอง"]
[null,null,null,null,null,null,null,null,null,"2157","TESCO LOTUS EXPRESS","RAJABHAT SURAT : SURATTHANI (ST0038-SSA)",null,null,null,"042-276-164","077-218-412","01105","","","",""]
[null,null,null,null,null,null,null,null,null,"2158","TESCO LOTUS EXPRESS","TALAD PHUYAIGUI : CHONBURI","ตลาดผู้ใหญ่กุ่ย ชลบุรี","เลขที่ 1/6 หมู่ที่ 13 ตำบลหนองปรือ อำเภอบางละมุง จังหวัดชลบุรี 20150","20150","043-384028","038-733-214","01247","2012-07-29",24,"Standalone","ชลบุรี"]
[null,null,null,null,null,null,null,null,null,"2160","TESCO LOTUS EXPRESS","YAEK POM 1 : NAKHON SAWAN",null,null,null,"037-326154","056-336-031","01112","","","",""]
[null,null,null,null,null,null,null,null,null,"2161","TESCO LOTUS EXPRESS","TALAD KAOLIEO : NAKHON SAWAN (CE0137-SSA)",null,null,null,"055-631-172","056-319-152","01128","","","",""]
[null,null,null,null,null,null,null,null,null,"2162","TESCO LOTUS EXPRESS","TALAD MAE KIM TIANG : UBONRATCHATHANI","ตลาดแม่กิมเตียง อุบลราชธานี","เลขที่ 343/1 ถนนกันทรลักษ์ ตำบลวารินชำราบ อำเภอวารินชำราบ จังหวัดอุบลราชธานี 34190","34190","077-212-110","045-266-425","01109","","","","อุบลราชธานี"]
[null,null,null,null,null,null,null,null,null,"2163","TESCO LOTUS EXPRESS","BURI RAM BUS TERMINAL : BURIRAM (NE0104-SSH)","สถานีขนส่งบุรีรัมย์ บุรีรัมย์","เลขที่ 48/5,48/6,48/7 ถนนบุลำดวน ตำบลในเมือง อำเภอเมืองบุรีรัมย์ จังหวัดบุรีรัมย์ 31000","31000","074-447747","044-620-389","01089","","","","บุรีรัมย์"]
[null,null,null,null,null,null,null,null,null,"2164","TESCO LOTUS EXPRESS","BAM NAM MAO : CHONBURI (CE0117-SSH)","บ้านน้ำเมา ชลบุรี","เลขที่ 22/47 หมู่ที่ 2 ตำบลนาจอมเทียน อำเภอสัตหีบ จังหวัดชลบุรี 20250","20250","036-494280","038-255-873","01146","2012-04-12",24,"Shophouse","ชลบุรี"]
[null,null,null,null,null,null,null,null,null,"2165","TESCO LOTUS EXPRESS","THUNG SONG : NAKHON SI THAMMARAT (ST0066-3SH)",null,null,null,"039-557445","075-332-349","01074","","","",""]
[null,null,null,null,null,null,null,null,null,"2166","TESCO LOTUS EXPRESS","BUENG BUN : SRISAKET (NE0124-3SA)","บึงบูรพ์ ศรีสะเกษ","เลขที่ 352 หมู่ที่ 2 ตำบลบึงบูรพ์ อำเภอบึงบูรพ์ จังหวัดศรีษะเกษ 33220","33220","075-262218","045-689182","01099","","","","ศรีสะเกษ"]
[null,null,null,null,null,null,null,null,null,"2167","TESCO LOTUS EXPRESS","TALAD LAEM DIN-SAMUI : SURATTHANI (ST0058-3SH)",null,null,null,"02-7396517","077-256-237","01103","","","",""]
[null,null,null,null,null,null,null,null,null,"2168","TESCO LOTUS EXPRESS","KHAM RIANG : MAHASARAKHAM (NE0103-SSH)","ขามเรียง มหาสารคาม"," 179/1-5 หมู่ที่ 15 ต.ขามเรียง อ.กันทรวิชัย จ.มหาสารคาม 44150",44150,"044-326-116","043-749176","01065","","","",""]
[null,null,null,null,null,null,null,null,null,"2169","TESCO LOTUS EXPRESS","CHUMCHON SAN CHAOPHOSUE-THUNG SAWANG : NAKORNRATCHASIMA","ชุมชนศาลเจ้าพ่อเสือ-ทุ่งสว่าง ","เลขที่ 293/1 ถนนท้าวสุระ ตำบลในเมือง อำเภอเมืองนครราชสีมา จังหวัดนครราชสีมา 30000","30000","036-336809","044-264230","01108","","","",""]
[null,null,null,null,null,null,null,null,null,"2170","TESCO LOTUS EXPRESS","KHAO TOR : SURATTHANI (ST0073-3SH)",null,null,null,"045-209-255","077-929-386","01041","","","",""]
[null,null,null,null,null,null,null,null,null,"2171","TESCO LOTUS EXPRESS","TALAD PHORKHUNTALE : SURATTHANI",null,null,null,"042-321560","077-220-211","01180","","","",""]
[null,null,null,null,null,null,null,null,null,"2172","TESCO LOTUS EXPRESS","MUANG NGAM : SONGKHLA (ST0068-3SA)",null,null,null,"044-337-140","074-484-427","01094","","","",""]
[null,null,null,null,null,null,null,null,null,"2173","TESCO LOTUS EXPRESS","TALAD WAT SRI : CHONBURI (CE0013-SSA)","ตลาดวัดศรี ชลบุรี","เลขที่ 92 หมู่ที่ 7 ตำบลบ้านเก่า อำเภอพานทอง จังหวัดชลบุรี 20160","20160","045-265-625","038-744-067","01152","","","","ชลบุรี"]
[null,null,null,null,null,null,null,null,null,"2174","TESCO LOTUS EXPRESS","TALAD SRISAWANGVONG : SONGKHLA",null,null,null,"045-379-189 ","074-366-100","01170","","","",""]
[null,null,null,null,null,null,null,null,null,"2175","TESCO LOTUS EXPRESS","NONG PHOK : ROI ET (NE0123-3SA)","หนองพอก ร้อยเอ็ด"," 263 หมู่ที่ 8 ต.หนองพอก อ.หนองพอก จ.ร้อยเอ็ด 45170",45170,"055-556-158","043-579-302","01132","","","",""]
[null,null,null,null,null,null,null,null,null,"2177","TESCO LOTUS EXPRESS","CHANTHANIMIT : CHANTHABURI (CE0141-3SH)","จันทนิมิต จันทบุรี","เลขที่ 83-84,85 หมู่ที่ 1 ตำบลจันทนิมิต อำเภอเมืองจันทบุรี จังหวัดจันทบุรี 22000","22000","038-643-297","039-354-123","01068","","","","จันทบุรี"]
[null,null,null,null,null,null,null,null,null,"2178","TESCO LOTUS EXPRESS","WAT HUAY YAI : CHONBURI","วัดห้วยใหญ่ ชลบุรี","เลขที่ 50/3  หมู่ที่ 3  ตำบลห้วยใหญ่  อำเภอบางละมุง  จังหวัดชลบุรี 20150","20150","045-280-676","038-754209","01343","2012-11-07",24,"Standalone","ชลบุรี"]
[null,null,null,null,null,null,null,null,null,"2179","TESCO LOTUS EXPRESS","AMPHAWA : SAMUTSONGKHRAM","อัมพวา สมุทรสงคราม","เลขที่ 1 ถนนประชาเศรษฐ ตำบลอัมพวา อำเภออัมพวา จังหวัดสมุทรสงคราม 75110","75110","053-959038","034-725-154","01091","2012-02-05","","","สมุทรสงคราม"]
[null,null,null,null,null,null,null,null,null,"2180","TESCO LOTUS EXPRESS","TALAD BAN KARD : CHIANGMAI (NT0069-3SA)",null,null,null,"038-607709","053-830-186","01143","","","",""]
[null,null,null,null,null,null,null,null,null,"2181","TESCO LOTUS EXPRESS","TALAD KLONGKWANG : BANGKOK","ตลาดคลองขวาง กรุงเทพฯ","เลขที่ 725 ซอยเพชรเกษม 69 แขวงหลักสอง เขตบางแค กรุงเทพมหานคร 10160","10160","038-745731","02-8086196","01212","2012-06-28",24,"Shophouse","กรุงเทพฯ"]
[null,null,null,null,null,null,null,null,null,"2182","TESCO LOTUS EXPRESS","TALAD BAN NAM LAT : CHIANGRAI (NT0055-3SA)",null,null,null,"038-794-209","053-750-084","01102","","","",""]
[null,null,null,null,null,null,null,null,null,"2183","TESCO LOTUS EXPRESS","LOENG NOK THA : YASOTHORN (NE0065-SSH)","เลิงนกทา ยโสธร"," 589/2 หมู่ที่ 1 ต.สวาท อ.เลิงนกทา จ.ยโสธร 35120",35120,"038-683621","045-782-485","01149","","","",""]
[null,null,null,null,null,null,null,null,null,"2184","TESCO LOTUS EXPRESS","NON HAN : KHON KAEN","โนนหัน ขอนแก่น"," 94 หมู่ที่ 1 ต.โนนหัน อ.ชุมแพ จ.ขอนแก่น 40130",40130,"038-748645","043-391-112","01189","","","",""]
[null,null,null,null,null,null,null,null,null,"2186","TESCO LOTUS EXPRESS","BURI RAM HOSPITAL : BURIRAM (NE0100-SSH)","โรงพยาบาลบุรีรัมย์","เลขที่ 142/105-106,142/107 ถนนนิวาศ ตำบลในเมือง อำเภอเมืองบุรีรัมย์ จังหวัดบุรีรัมย์ 31000","31000","02-7310742","044-620-128","01144","","","","บุรีรัมย์"]
[null,null,null,null,null,null,null,null,null,"2187","TESCO LOTUS EXPRESS","AMPHUR WANG NUEA : LAMPANG",null,null,null,"043-266-509","054-332-144","01114","","","",""]
[null,null,null,null,null,null,null,null,null,"2188","TESCO LOTUS EXPRESS","RA NOT : SONGKHLA",null,null,null,"077-263089","074-393-372","01123","","","",""]
[null,null,null,null,null,null,null,null,null,"2189","TESCO LOTUS EXPRESS","BANGKHAN : NAKHON SI THAMMARAT",null,null,null,null,"075-371-352","01107","","","",""]
[null,null,null,null,null,null,null,null,null,"2190","TESCO LOTUS EXPRESS","TALAD SRINAKHON : NAKHONSAWAN (CE0043-3SH)",null,null,null,"054 642 045","056-330-082","01106","","","",""]
[null,null,null,null,null,null,null,null,null,"2191","TESCO LOTUS EXPRESS","CHUMCHON NONG BUA : CHIANG RAI (NT0057-SSA)",null,null,null,"053-810231","053-742-063","01125","","","",""]
[null,null,null,null,null,null,null,null,null,"2192","TESCO LOTUS EXPRESS","PHO CHAI : ROI ET (NE0127-SSA)","โพธิ์ชัย ร้อยเอ็ด"," 134 หมู่ที่ 2 ต.ขามเปี้ย อ.โพธิ์ชัย จ.ร้อยเอ็ด 45140",45140,"02-8647290","043-657-007","01129","","","",""]
[null,null,null,null,null,null,null,null,null,"2193","TESCO LOTUS EXPRESS","YEAK TENG NAM : PHITSANULOK",null,null,null,"042-822273","055-214022","01263","","","",""]
[null,null,null,null,null,null,null,null,null,"2194","TESCO LOTUS EXPRESS","CHUM PHUANG : NAKORNRATCHASIMA","ชุมพวง นครราชสีมา","เลขที่ 432 หมู่ที่ 1 ตำบลชุมพวง อำเภอชุมพวง จังหวัดนครราชสีมา 30270","30270","044 271 363","044-487145","01235","","","","นครราชสีมา"]
[null,null,null,null,null,null,null,null,null,"2195","TESCO LOTUS EXPRESS","KOH SIRAE : PHUKET",null,null,null,"02-802-0009","076-252-104","01165","","","",""]
[null,null,null,null,null,null,null,null,null,"2196","TESCO LOTUS EXPRESS","YASOTHON TOWN : YASOTHORN","ยโสธรทาวน์"," 282-284 ถ.แจ้งสนิท ต.ในเมือง อ.เมืองยโสธร จ.ยโสธร 35000",35000,"055-297057","045-720-407","01110","","","",""]
[null,null,null,null,null,null,null,null,null,"2197","TESCO LOTUS EXPRESS","PABON : PHATTHALUNG",null,null,null,"043-820340","074-625-154","01176","","","",""]
[null,null,null,null,null,null,null,null,null,"2198","TESCO LOTUS EXPRESS","BANDON : PHUKET (ST0030-SSA)",null,null,null,"042-123-053","076-274-193","01148","","","",""]
[null,null,null,null,null,null,null,null,null,"2199","TESCO LOTUS EXPRESS","5 YEAK CHALONG : PHUKET",null,null,null,"036-325930","076-280-296","01117","","","",""]
[null,null,null,null,null,null,null,null,null,"2200","TESCO LOTUS EXPRESS","NACHUEAK : MAHASARAKHAM","นาเชือก มหาสารคาม"," 7 ถนนนาเชือก พยัคฆภูมิพิสัย ต.นาเชือก อ.นาเชือก จ.มหาสารคาม 44170",44170,"038-786250","043-779-363","01115","","","",""]
[null,null,null,null,null,null,null,null,null,"2201","TESCO LOTUS EXPRESS","ROB MUEANG ROAD : KHON KAEN","ถนนรอบเมือง ขอนแก่น"," 199/1 ถ.รอบเมือง ต.ในเมือง อ.เมืองขอนแก่น จ.ขอนแก่น 40000",40000,"037-220-463","043-320-180","01084","","","",""]
[null,null,null,null,null,null,null,null,null,"2202","TESCO LOTUS EXPRESS","PA YANG MAESAI : CHAIANG RAI (NT0093-3SH)",null,null,null,"056 310-128","053-640-096","01138","","","",""]
[null,null,null,null,null,null,null,null,null,"2203","TESCO LOTUS EXPRESS","SATHONRAMAK : UBON RATCHATHANI (NE0116-3SA)","สถลมาร์ค อุบลราชธานี","เลขที่ 469 ถนนสถลมาร์ค ตำบลวารินชำราบ อำเภอวารินชำราบ จังหวัดอุบลราชธานี 34190","34190","036-308123","045-266-223","01130","","","","อุบลราชธานี"]
[null,null,null,null,null,null,null,null,null,"2204","TESCO LOTUS EXPRESS","CHAN DEE : NAKHONSITHAMMARAT",null,null,null,"045-282187","075-364-039","01183","","","",""]
[null,null,null,null,null,null,null,null,null,"2205","TESCO LOTUS EXPRESS","SAMRONG : UBON RATCHATHANI (NE0096-3SA)","สำโรง อุบลราชธานี","เลขที่ 177 หมู่ที่ 8 ตำบลสำโรง อำเภอสำโรง จังหวัดอุบลราชธานี 34360","34360","055-652-218","045-303-094","01131","","","","อุบลราชธานี"]
[null,null,null,null,null,null,null,null,null,"2206","TESCO LOTUS EXPRESS","WAT THONG KHUNG : CHONBURI","วัดท้องคุ้ง ชลบุรี","เลขที่ 8/31 หมู่ที่ 1 ตำบลนาป่า อำเภอเมืองชลบุรี จังหวัดชลบุรี 20000","20000",null,"038-786-448","01113","","","","ชลบุรี"]
[null,null,null,null,null,null,null,null,null,"2207","TESCO LOTUS EXPRESS","MITSAMPHAN BANGSAEN : CHONBURI (CE0118-SSA)","มิตรสัมพันธ์ บางแสน","เลขที่ 22/3 หมู่ที่ 5 ตำบลบ้านปึก อำเภอเมืองชลบุรี จังหวัดชลบุรี 20130","20130","055-548009","038-765-489","01124","2012-03-09",24,"Standalone","ชลบุรี"]
[null,null,null,null,null,null,null,null,null,"2208","TESCO LOTUS EXPRESS","SHOPZILA,LADKRABANG : BANGKOK","ช๊อปซิลล่า ลาดกระบัง","เลขที่ 642 ถนนลาดกระบัง แขวงลาดกระบัง เขตลาดกระบัง กรุงเทพมหานคร 10520","10520","044-329237","0-2737-0367","01177","","","","กรุงเทพ"]
[null,null,null,null,null,null,null,null,null,"2209","TESCO LOTUS EXPRESS","TALAD UMONG : LAMPHUN (NT0080-3SH)",null,null,null,"045-620315","053-558-106","01122","","","",""]
[null,null,null,null,null,null,null,null,null,"2210","TESCO LOTUS EXPRESS","TALAD BAN MAI : CHIANG RAI (NT0087-3SH)",null,null,null,"038-870081","053-750-135","01126","","","",""]
[null,null,null,null,null,null,null,null,null,"2211","TESCO LOTUS EXPRESS","KHOK BOK : NAKHON SI THAMMARAT",null,null,null,null,"075-328-254","01161","","","",""]
[null,null,null,null,null,null,null,null,null,"2212","TESCO LOTUS EXPRESS","BAN LEK TEE 5 : SAMUTSAKHON","บ้านเลขที่ 5 สมุทรสาคร","เลขที่ 5/1291 หมู่ที่ 7 ตำบลท่าทราย อำเภอเมืองสมุทรสาคร จังหวัดสมุทรสาคร 74000","74000","043-556-143","034-830-140","01154","2012-04-25","","","สมุทรสาคร"]
[null,null,null,null,null,null,null,null,null,"2213","TESCO LOTUS EXPRESS","KHONSAWAN : CHAIYAPHUM (NE0121-ESH)","โรงพยาบาลบุรีรัมย์","TESCO LOTUS EXPRESS - PHICHAI : UTTARADIT (NT0363-XSA)","36140","074-431202","044-848-277","01133","","","",""]
[null,null,null,null,null,null,null,null,null,"2214","TESCO LOTUS EXPRESS","TALAD CHOCK AREE : RATCHABURI (CE0150-SSA)","ตลาดโชคอารีย์ ราชบุรี","เลขที่ 82/29 หมู่ที่ 9 ตำบลดอนทราย อำเภอโพธาราม จังหวัดราชบุรี 70120","70120","056-655506","032-305-236","01147","2012-07-04","","","ราชบุรี"]
[null,null,null,null,null,null,null,null,null,"2215","TESCO LOTUS EXPRESS","BAN KROD-WAT SUTHI : AYUTTHAYA (CE0135-SSA)","บ้านกรด วัดสุทธิ อยุธยา","เลขที่ 70 หมู่ที่ 3 ตำบลบ้านกรด อำเภอบางปะอิน จังหวัดพระนครศรีอยุธยา 13160","13160","02-8654635","035-236-650","01151","","","","อยุธยา"]
[null,null,null,null,null,null,null,null,null,"2216","TESCO LOTUS EXPRESS","PATHUM : UBONRATCHATHANI (NE0113-SSH)","ปทุม อุบลราชธานี","เลขที่ 178/22,178/23,178/24,178/25 หมู่ที่ 2 ตำบลปทุม อำเภอเมืองอุบลราชธานี จังหวัดอุบลราชธานี 34000","34000","038-789-488","045-263-576","01140","","","","อุบลราชธานี"]
[null,null,null,null,null,null,null,null,null,"2217","TESCO LOTUS EXPRESS","LUMDUAM : SURIN (NE0130-SSA)","ลำดวน สุรินทร์","เลขที่ 39 หมู่ที่ 3 ตำบลลำดวน อำเภอลำดวน จังหวัดสุรินทร์ 32220","32220","038-296797","044-537-071","01153","","","","สุรินทร์"]
[null,null,null,null,null,null,null,null,null,"2218","TESCO LOTUS EXPRESS","UBONTRAKAN : UBONRATCHATHANI","อุบล-ตระการ อุบลราชธานี","เลขที่ 51 ถนนอุบล-ตระการ ตำบลในเมือง อำเภอเมืองอุบลราชธานี จังหวัดอุบลราชธานี 34000","34000",null,"045-240-670","01171","","","","อุบลราชธานี"]
[null,null,null,null,null,null,null,null,null,"2220","TESCO LOTUS EXPRESS","BAN NA SRITONG : SONGKHLA",null,null,null,"042-743071","074-496-639","01175","","","",""]
[null,null,null,null,null,null,null,null,null,"2221","TESCO LOTUS EXPRESS","SOI THI DIN THONG 4 : SAMUTPRAKAN","ซอยที่ดินทอง 4 สมุทรปราการ","เลขที่ 1556 หมู่ที่ 6 ตำบลเทพารักษ์ อำเภอเมืองสมุทรปราการ จังหวัดสมุทรปราการ 10270","10270","074-697-491","0-2754-6144","01157","2012-04-26",24,"3-Shophouse","สมุทรปราการ"]
[null,null,null,null,null,null,null,null,null,"2222","TESCO LOTUS EXPRESS","NIPHAT SONGKHRO 5 : SONGKHLA",null,null,null,null,"074-368-282","01166","","","",""]
[null,null,null,null,null,null,null,null,null,"2223","TESCO LOTUS EXPRESS","NOEN KRAPORK : RAYONG","เนินกระปรอก ระยอง","เลขที่ 119/37 หมู่ที่ 1 ตำบลบ้านฉาง อำเภอบ้านฉาง จังหวัดระยอง 21130","21130","035-213-553","038-880-553","01164","","","","ระยอง"]
[null,null,null,null,null,null,null,null,null,"2224","TESCO LOTUS EXPRESS","KLONG HAE : SONGKHLA",null,null,null,"02-4208067","074-427102","01201","","","",""]
[null,null,null,null,null,null,null,null,null,"2225","TESCO LOTUS EXPRESS","TALAD PA LHUAY : CHANTHABURI","ตลาดป้าหลวย จันทบุรี","เลขที่ 2/15 หมู่ที่ 9 ตำบลเกาะขวาง อำเภอเมืองจันทบุรี จังหวัดจันทบุรี 22000","22000","038-171018","039-450-997","01163","","","","จันทบุรี"]
[null,null,null,null,null,null,null,null,null,"2226","TESCO LOTUS EXPRESS","SAKLEK : PHITCHIT",null,null,null,"042-830842","056-653-099","01150","","","",""]
[null,null,null,null,null,null,null,null,null,"2227","TESCO LOTUS EXPRESS","YEAK KIRI PATTAYA : CHONBURI","แยกคีรี ชลบุรี","เลขที่ 42/88,42/89,42/90,42/91 หมู่ที่ 2 ตำบลเสม็ด อำเภอเมืองชลบุรี จังหวัดชลบุรี 20130","20130","042-834416","038-783115 ","01172","","","","ชลบุรี"]
[null,null,null,null,null,null,null,null,null,"2228","TESCO LOTUS EXPRESS","TALAD MORDIT : RAYONG","ตลาดหมอดิษฐ์ ระยอง","เลขที่ 3/44 หมู่ที่ 3 ตำบลเนินพระ อำเภอเมืองระยอง จังหวัดระยอง 21150","21150","035-427-192","038-808-388","01159","","","","ระยอง"]
[null,null,null,null,null,null,null,null,null,"2229","TESCO LOTUS EXPRESS","KHAO MAI KAEW : CHON BURI (CE0013-SSH)","เขาไม้แก้ว ชลบุรี","เลขที่ 22/23,22/24,22/25,22/26 หมู่ที่ 1 ตำบลเขาไม้แก้ว อำเภอบางละมุง จังหวัดชลบุรี 20150","20150",null,"038-309-146","01134","2012-03-22",24,"Shophouse","ชลบุรี"]
[null,null,null,null,null,null,null,null,null,"2230","TESCO LOTUS EXPRESS","RATTAKARN : SONGKHLA",null,null,null,"044-847224","074-348-900","01181","","","",""]
[null,null,null,null,null,null,null,null,null,"2231","TESCO LOTUS EXPRESS","PHIPUN : NAKHONSITHAMMARAT",null,null,null,"077-399165","075-372-264","01155","","","",""]
[null,null,null,null,null,null,null,null,null,"2232","TESCO LOTUS EXPRESS","SOI ARUNOTHAI,PATTAYA : CHONBURI","ซอยอรุโณทัย พัทยา ","เลขที่ 258/300 หมู่ที่ 9 ตำบลหนองปรือ อำเภอบางละมุง จังหวัดชลบุรี 20150","20150","045-620244","038-375-161","01227","2012-07-01",24,"Standalone","ชลบุรี"]
[null,null,null,null,null,null,null,null,null,"2233","TESCO LOTUS EXPRESS","AMPHUR WAT BOT : PHITSANULOK",null,null,null,"056-755067","055-291-226","01156","","","",""]
[null,null,null,null,null,null,null,null,null,"2234","TESCO LOTUS EXPRESS","REGENT HOTEL : LUMPANG",null,null,null,null,"054-322-577","01160","","","",""]
[null,null,null,null,null,null,null,null,null,"2235","TESCO LOTUS EXPRESS","TALAD NONG BON : RAYONG","ตลาดหนองบอน ระยอง","เลขที่ 111/3,111/4,111/5,111/6 หมู่ที่ 4 ตำบลนิคมพัฒนา อำเภอนิคมพัฒนา จังหวัดระยอง 21180","21180","042-265193","038-877-211","01193","","","","ระยอง"]
[null,null,null,null,null,null,null,null,null,"2236","TESCO LOTUS EXPRESS","SAPANKWAI : BANGKOK","สะพานควาย กรุงเทพฯ","เลขที่ 1511/13-15 ถนนพหลโยธิน แขวงสามเสนใน เขตพญาไท กรุงเทพมหานคร 10400","10400","043-336073","0-2615-7145","01173","","","","กรุงเทพ"]
[null,null,null,null,null,null,null,null,null,"2237","TESCO LOTUS EXPRESS","KAE DAM : MAHASARAKHAM","แกดำ  มหาสารคาม"," 88 หมู่ที่ 13 ต.แกดำ อ.แกดำ จ.มหาสารคาม 44190",44190,"043-532092"," 043-787-505","01162","","","",""]
[null,null,null,null,null,null,null,null,null,"2239","TESCO LOTUS EXPRESS","TALAD AO UDOM : CHONBURI","ตลาดอ่าวอุดม ชลบุรี","เลขที่ 777/1,777/2,777/3 หมู่ที่ 7 ตำบลทุ่งสุขลา อำเภอศรีราชา จังหวัดชลบุรี 20230","20230","075-306042","038 766 412","01409","2013-01-17",24,"Standalone","ชลบุรี"]
[null,null,null,null,null,null,null,null,null,"2240","TESCO LOTUS EXPRESS","PHIMONRAT VILLAGE : BANGKOK","หมู่บ้านพิมลราช นนทบุรี ","เลขที่ 192/4 หมู่ที่ 7 ตำบลพิมลราช อำเภอบางบัวทอง จังหวัดนนทบุรี 11110","11110","055-626090","038-791034","01191","","","","ปทุมธานี"]
[null,null,null,null,null,null,null,null,null,"2241","TESCO LOTUS EXPRESS","BAN SATHON : SONGKHLA",null,null,null,"02-801-6105","038-781006","01196","","","",""]
[null,null,null,null,null,null,null,null,null,"2242","TESCO LOTUS EXPRESS","AO UDOM 3 : CHONBURI","อ่าวอุดม 3 ชลบุรี","เลขที่ 205/88 หมู่ที่ 8 ตำบลทุ่งสุขลา อำเภอศรีราชา จังหวัดชลบุรี 20230","20230","02-865-4418","038-786-154","01203","2012-06-19",24,"3-Standalone","ชลบุรี"]
[null,null,null,null,null,null,null,null,null,"2243","TESCO LOTUS EXPRESS","NONA MAI DAENG : CHONBURI","หนองไม้แดง ชลบุรี","เลขที่ 48/3 หมู่ที่ 3 ตำบลหนองไม้แดง อำเภอเมืองชลบุรี จังหวัดชลบุรี 20000","20000","055-481653","038-786-858","01199","","","","ชลบุรี"]
[null,null,null,null,null,null,null,null,null,"2244","TESCO LOTUS EXPRESS","YANG TALAT : KALASIN","ยางตลาด กาฬสินธุ์"," 440 หมู่ที่ 1 ต.ยางตลาด อ.ยางตลาด จ.กาฬสินธุ์ 46120",46120,"077-260-052","043-833-339","01210","","","",""]
[null,null,null,null,null,null,null,null,null,"2245","TESCO LOTUS EXPRESS","KLAENG WET MARKET : RAYONG (CE0159-3SH)","ตลาดแกลง ระยอง","เลขที่ 148/8, 148/9 ,148/10 ถนนเทศบาล 2 ตำบลทางเกวียน อำเภอแกลง จังหวัดระยอง 21110","21110","075-248-049","038-884-231","01135","","","","ระยอง"]
[null,null,null,null,null,null,null,null,null,"2246","TESCO LOTUS EXPRESS","PHRAEKSA KLONG 9 : SAMUTPRAKAN","แพรกษา คลอง 9 สมุทรปราการ","เลขที่ 239 หมู่ที่ 2 ตำบลแพรกษาใหม่ อำเภอเมืองสมุทรปราการ จังหวัดสมุทรปราการ 10280","10280","075-366-501","02-701-0535","01192","2012-05-27",24,"Standalone","สมุทรปราการ"]
[null,null,null,null,null,null,null,null,null,"2247","TESCO LOTUS EXPRESS","THUNG THAMSAO : SONGKHLA",null,null,null,null,"074-472-274","01174","","","",""]
[null,null,null,null,null,null,null,null,null,"2248","TESCO LOTUS EXPRESS","SUKHA-UPATHAM RD : UBONRATCHATHANI","ถนนสุขาอุปถัมภ์ อุบลราชธานี","เลขที่ 24 ถนนสุขาอุปถัมภ์ ตำบลในเมือง อำเภอเมืองอุบลราชธานี จังหวัดอุบลราชธานี 34000","34000","032-622-352 ","045-317-983","01186","","","","อุบลราชธานี"]
[null,null,null,null,null,null,null,null,null,"2250","TESCO LOTUS EXPRESS","BUA CHET : SURIN","บัวเชด สุรินทร์","เลขที่ 540 หมู่ที่ 4 ตำบลบัวเชด อำเภอบัวเชด จังหวัดสุรินทร์ 32230","32230","02-9940-135","044-579-097","01213","","","","สุรินทร์"]
[null,null,null,null,null,null,null,null,null,"2251","TESCO LOTUS EXPRESS","AMPHUR PHOM PHIRAM : PHITSANULOK",null,null,null,"043-296085","055-290133","01256","","","",""]
[null,null,null,null,null,null,null,null,null,"2252","TESCO LOTUS EXPRESS","PATHIO : CHUMPHON",null,null,null,"044-320094","077-586-040","01167","","","",""]
[null,null,null,null,null,null,null,null,null,"2253","TESCO LOTUS EXPRESS","NONG SARAI : NAKORNRATCHASIMA",null,null,null,"044-836442","044-279-283","01178","","","",""]
[null,null,null,null,null,null,null,null,null,"2254","TESCO LOTUS EXPRESS","SINLAPASANIT ROAD : KHON KAEN","ถนนศิลปสนิท ขอนแก่น"," 261/3 หมู่ที่ 16 ต.ในเมือง อ.เมืองขอนแก่น จ.ขอนแก่น 40000",40000,"053-534041","043-332-115","01190","","","",""]
[null,null,null,null,null,null,null,null,null,"2255","TESCO LOTUS EXPRESS","BEAUG SAMPHAN : PHETCHABOON",null,null,null,"056-752078","056-561-022","01188","","","",""]
[null,null,null,null,null,null,null,null,null,"2257","TESCO LOTUS EXPRESS","PHITCHIT HOSPITAL : PHITCHIT",null,null,null,"056-759-066","056- 650-224","01202","","","",""]
[null,null,null,null,null,null,null,null,null,"2258","TESCO LOTUS EXPRESS","MUKMONTEI ROAD : NAKORNRATCHASIMA","ถนนมุขมนตรี นครราชสีมา","เลขที่ 1846/2 ถนนมุขมนตรี ตำบลในเมือง อำเภอเมืองนครราชสีมา จังหวัดนครราชสีมา 30000","30000","055 223 028","044-281-023","01228","","","","นครราชสีมา"]
[null,null,null,null,null,null,null,null,null,"2260","TESCO LOTUS EXPRESS","BAN KHLONG SUAN : SAMUTPRAKAN","บ้านคลองสวน สมุทรปราการ","เลขที่ 998 หมู่ที่ 2 ตำบลบ้านคลองสวน อำเภอพระสมุทรเจดีย์ จังหวัดสมุทรปราการ 10290","10290","044-874259","02-4616650","01205","2012-06-21",24,"Standalone","สมุทรปราการ"]
[null,null,null,null,null,null,null,null,null,"2262","TESCO LOTUS EXPRESS","CHUM CHON BANG KWAI : PHETCHABURI",null,null,null,"055-737-023","032-451498","01266","","","",""]
[null,null,null,null,null,null,null,null,null,"2263","TESCO LOTUS EXPRESS","AMPHUR PHO THALE : PHITCHIT",null,null,null,"038-057670","056-667-117","01204","","","",""]
[null,null,null,null,null,null,null,null,null,"2265","TESCO LOTUS EXPRESS","HUAPHO : RATCHABURI","หัวโพ ราชบุรี","เลขที่ 147/1 หมู่ที่ 1 ตำบลหัวโพ อำเภอบางแพ จังหวัดราชบุรี 70160","70160","044-886-478","032-349-218","01179","2012-05-13","","","ราชบุรี"]
[null,null,null,null,null,null,null,null,null,"2266","TESCO LOTUS EXPRESS","LAEM NGOP : TRAT","แหลมงอบ ตราด","เลขที่ 259/2 หมู่ที่ 1 ตำบลแหลมงอบ อำเภอแหลมงอบ จังหวัดตราด 23120","23120","045-484204 ","039-538200","01223","","","","จันทบุรี"]
[null,null,null,null,null,null,null,null,null,"2267","TESCO LOTUS EXPRESS","PHAYAO UNIVERSITY : PHAYAO",null,null,null,"038-166285","054-870192","01217","","","",""]
[null,null,null,null,null,null,null,null,null,"2268","TESCO LOTUS EXPRESS","RAT UTHIT SOI 5 : SONGKHLA",null,null,null,"077-227-476","074-425-500","01194","","","",""]
[null,null,null,null,null,null,null,null,null,"2269","TESCO LOTUS EXPRESS","HUAI THALAENG : NAKORNRATCHASIMA","ห้วยแถลง นครราชสีมา","เลขที่ 400/1,400/2 หมู่ที่ 1 ตำบลห้วยแถลง อำเภอห้วยแถลง จังหวัดนครราชสีมา 30240","30240","038-950533","044-391-372","01197","","","","นครราชสีมา"]
[null,null,null,null,null,null,null,null,null,"2270","TESCO LOTUS EXPRESS","WAT NAKORN CHUEN CHUM : NAKHONPATHOM","วัดนครชื่นชุ่ม นครปฐม","เลขที่ 119/1 หมู่ที่ 7 ตำบลกระทุ่มล้ม อำเภอสามพราน จังหวัดนครปฐม 73220","73220","044-655542","02-497-3930","01214","2012-06-29","","","นครปฐม"]
[null,null,null,null,null,null,null,null,null,"2271","TESCO LOTUS EXPRESS","KAMPHAENGPHET RAJABHAT UNIVERSITY : KAMPHAENGPHET",null,null,null,"055-399120","055-721-227","01222","","","",""]
[null,null,null,null,null,null,null,null,null,"2272","TESCO LOTUS EXPRESS","TALAD DIAMON : SURATTHANI",null,null,null,"044-264436","077-220204 ","01283","","","",""]
[null,null,null,null,null,null,null,null,null,"2273","TESCO LOTUS EXPRESS","HUAI YHAP THAN : SISAKET","ห้วยทับทัน ศรีสะเกษ","เลขที่ 336 หมู่ที่ 1 ตำบลห้วยทับทัน อำเภอห้วยทับทัน จังหวัดศรีสะเกษ 33210","33210","038-886-119","02-815-8783","01224","","","","ศรีสะเกษ"]
[null,null,null,null,null,null,null,null,null,"2274","TESCO LOTUS EXPRESS","CHAI CHET KOH CHANG : TRAT","ไชยเชษฐ์ เกาะช้าง ตราด","เลขที่ 17/3 หมู่ที่ 4 ตำบลเกาะช้าง อำเภอเกาะช้าง จังหวัดตราด 23170","23170","043-832033","039-551-734","01218","","","",""]
[null,null,null,null,null,null,null,null,null,"2275","TESCO LOTUS EXPRESS","KLONGPRAO,KOH CHANG : TRAT","คลองพร้าว,เกาะช้าง ตราด","เลขที่ 27/11 หมู่ที่ 4 ตำบลเกาะช้าง อำเภอเกาะช้าง จังหวัดตราด 23170","23170","035-229753","043-126528","01233","","","",""]
[null,null,null,null,null,null,null,null,null,"2276","TESCO LOTUS EXPRESS","NA KHU : KALASIN","นาคู กาฬสินธุ์"," 99-100 หมู่ที่ 10 ต.นาคู อ.นาคู จ.กาฬสินธุ์ 46160",46160,"036-367136","043-126528","01200","","","",""]
[null,null,null,null,null,null,null,null,null,"2277","TESCO LOTUS EXPRESS","WHITE SAND BEACH,KOH CHANG : TRAT",null,null,null,"055-215064","053-856-064","01234","","","",""]
[null,null,null,null,null,null,null,null,null,"2278","TESCO LOTUS EXPRESS","LUMLUKKA KLONG 7 : PATHUMTHANI","ลำลูกกาคลอง 7 ปทุมธานี ","เลขที่ 59/9  หมู่ที่ 4 ตำบลบึงคำพร้อย อำเภอลำลูกกา จังหวัดปทุมธานี 12150","12150","044 - 124-099","02-987-9584","01226","","","","ปทุมธานี"]
[null,null,null,null,null,null,null,null,null,"2279","TESCO LOTUS EXPRESS","AMPHUR MAE AI : CHIANG MAI",null,null,null,"02 - 971-8062","053-856-064","01231","","","",""]
[null,null,null,null,null,null,null,null,null,"2280","TESCO LOTUS EXPRESS","MONTRISURIYAWONG : RATCHABURI","มนตรีสุริยวงศ์ ราชบุรี","เลขที่ 89,91,93 ถนนมนตรีสุริยวงศ์ ตำบลหน้าเมือง อำเภอเมืองราชบุรี จังหวัดราชบุรี 70000","70000","044-285-165","032-318-214","01219","2012-06-30","","","ราชบุรี"]
[null,null,null,null,null,null,null,null,null,"2281","TESCO LOTUS EXPRESS","YAEK LAM PHLAI : SONGKHLA",null,null,null,"076-441105","074-478100","01249","","","",""]
[null,null,null,null,null,null,null,null,null,"2282","TESCO LOTUS EXPRESS","CHAWANG : NAKHONSITHAMMARAT",null,null,null,"053-632052","075-344199","01206","","","",""]
[null,null,null,null,null,null,null,null,null,"2283","TESCO LOTUS EXPRESS","EUA-ARTHORN PRACHA UTHIT-KHU SANG : SAMUTPRAKAN",null,null,null,"044-589-127","02-815-8783","01274","","","",""]
[null,null,null,null,null,null,null,null,null,"2284","TESCO LOTUS EXPRESS","THUNGRAD : CHONBURI","ทุ่งกราด ชลบุรี","เลขที่ 34/70 หมู่ที่ 8 ตำบลบางละมุง อำเภอบางละมุง จังหวัดชลบุรี 20150","20150",null,"038-704-301","01240","2012-07-27",24,"Standalone","ชลบุรี "]
[null,null,null,null,null,null,null,null,null,"2285","TESCO LOTUS EXPRESS","ASSUMPTION SRIRACHA : CHONBURI",null,null,null,"044-290-059","038-775-347","01238","","","",""]
[null,null,null,null,null,null,null,null,null,"2287","TESCO LOTUS EXPRESS","HUAI MONG KHOL : PRACHUAPKHIRIKHAN",null,null,null,"075-226-094","042-766-182","01225","","","",""]
[null,null,null,null,null,null,null,null,null,"2288","TESCO LOTUS EXPRESS","TALAD SAMPAOTHONG : SURATTHANI",null,null,null,"045 -469616","077-222281","01336","","","",""]
[null,null,null,null,null,null,null,null,null,"2289","TESCO LOTUS EXPRESS","TALAD WAT CHALAMANI : PHITSANULOK",null,null,null,null,"055-218-432","01250","","","",""]
[null,null,null,null,null,null,null,null,null,"2290","TESCO LOTUS EXPRESS","DONG LUANG : MUKDAHAN","ดงหลวง มุกดาหาร"," 277, 277/1 หมู่ที่ 4 ต.ดงหลวง อ.ดงหลวง จ.มุกดาหาร 49140",49140,"039-452204","042-697191","01215","","","",""]
[null,null,null,null,null,null,null,null,null,"2291","TESCO LOTUS EXPRESS","KAMPHAENGPHET HOSPITAL : KAMPHAENGPHET",null,null,null,"034-720622","055-721-722","01211","","","",""]
[null,null,null,null,null,null,null,null,null,"2293","TESCO LOTUS EXPRESS","YANG SISURAT : MAHASARAKHAM","ยางสีสุราช มหาสารคาม"," 257 หมู่ที่ 10 ต.ยางสีสุราช อ.ยางสีสุราช จ.มหาสารคาม 44210",44210,null,"043-729-036","01220","","","",""]
[null,null,null,null,null,null,null,null,null,"2294","TESCO LOTUS EXPRESS","KHON SAN : CHAIYAPHUM","คอนสาร ชัยภูมิ"," 272 หมู่ที่ 8 ต.คอนสาร อ.คอนสาร จ.ชัยภูมิ 36180","36180","043-496-182","044-876960","01239","","","",""]
[null,null,null,null,null,null,null,null,null,"2295","TESCO LOTUS EXPRESS","KHOK SI SUPHAN : SAKONNAKON","โคกศรีสุพรรณ สกลนคร"," 172 หมู่ที่ 2 ต.ตองโขบ อ.โคกศรีสุพรรณ จ.สกลนคร",null,"037-276540","042-766-182","01221","","","",""]
[null,null,null,null,null,null,null,null,null,"2296","TESCO LOTUS EXPRESS","EUA-ARTHORN KHACHONWIT : SAMUTPRAKAN","เอื้ออาทรขจรวิทย์ สมุทรปราการ","เลขที่ 93 หมู่ที่ 1 ตำบลแพรกษาใหม่ อำเภอเมืองสมุทรปราการ จังหวัดสมุทรปราการ 10280","10280",null,"02-178-8544","01236","2012-07-27",24,"3-Standalone","สมุทรปราการ"]
[null,null,null,null,null,null,null,null,null,"2297","TESCO LOTUS EXPRESS","THA KHON YANG : MAHASARAKHAM","ท่าขอนยาง มหาสารคาม"," 610 หมู่ที่ 1 ต.ท่าขอนยาง อ.กันทรวิชัย จ.มหาสารคาม 44150",44150,null,"043-746741","01243","","","",""]
[null,null,null,null,null,null,null,null,null,"2298","TESCO LOTUS EXPRESS","NONGSUEA : PATHUMTHANI","หนองเสือ ปทุมธานี","เลขที่ 72 หมู่ที่ 6 ตำบลบึงบา อำเภอหนองเสือ จังหวัดปทุมธานี 12170","12170",null,"02-9059983","01244","","","","ปทุมธานี"]
[null,null,null,null,null,null,null,null,null,"2299","TESCO LOTUS EXPRESS","CHUM CHON SIRUNYA : LOPBURI","ชุมชนสิรัญญา ลพบุรี","เลขที่ 159 หมู่ที่ 2 ตำบลถนนใหญ่ อำเภอเมืองลพบุรี จังหวัดลพบุรี 15000","15000","035-626-118","036-640-052","01252","","","","อยุธยา"]
[null,null,null,null,null,null,null,null,null,"2300","TESCO LOTUS EXPRESS","SOI PONG SAKET : CHONBURI","ซอยโป่งสะเก็ด ชลบุรี","เลขที่ 256/477 หมู่ที่ 3 ตำบลบ่อวิน อำเภอศรีราชา จังหวัดชลบุรี 20230","20230",null,"038-116-028","01253","2012-08-10",24,"3-Standalone","ชลบุรี"]
[null,null,null,null,null,null,null,null,null,"2301","TESCO LOTUS EXPRESS","KHONG : NAKORNRATCHASIMA","คง นครราชสีมา","เลขที่ 176 หมู่ที่ 8 ตำบลเมืองคง อำเภอคง จังหวัดนครราชสีมา 30260","30260","043-524-119","044-459-436","01229","","","","นครราชสีมา"]
[null,null,null,null,null,null,null,null,null,"2302","TESCO LOTUS EXPRESS","HUAI PHUENG : KALASIN","ห้วยผึ้ง กาฬสินธุ์"," 88 หมู่ที่ 3 ต.ห้วยผึ้ง อ.นิคมห้วยผึ้ง จ.กาฬสินธุ์ 46240",46240,null,"043-834-044","01245","","","",""]
[null,null,null,null,null,null,null,null,null,"2303","TESCO LOTUS EXPRESS","SUANSUEA, SRIRACHA : CHONBURI","สวนเสือศรีราชา ชลบุรี","เลขที่ 486/7 หมู่ที่ 3 ตำบลหนองขาม อำเภอศรีราชา จังหวัดชลบุรี 20230","20230","037-517141","038-296-029","01255","2012-08-11",24,"SuperExpress","ชลบุรี"]
[null,null,null,null,null,null,null,null,null,"2304","TESCO LOTUS EXPRESS","BORWIN SRIRACHA : CHONBURI","บ่อวิน ศรีราชา ชลบุรี","เลขที่ 299/1,299/2,299/3,299/4 หมู่ที่ 3 ตำบลบ่อวิน อำเภอศรีราชา จังหวัดชลบุรี 20230","20230",null,"038-345-844","01230","2012-07-15",24,"Shophouse","ชลบุรี"]
[null,null,null,null,null,null,null,null,null,"2305","TESCO LOTUS EXPRESS","BANBOR : KANCHANABURI","บ้านบ่อ กาญจนบุรี","เลขที่ 13/18 ถนนพัฒนากาญจน์ ตำบลปากแพรก อำเภอเมืองกาญจนบุรี จังหวัดกาญจนบุรี 71000","71000","02- 805-0252","034-622141","01257","2012-08-18","","","กาญจนบุรี"]
[null,null,null,null,null,null,null,null,null,"2306","TESCO LOTUS EXPRESS","BANGKULAD : NONTHABURI","บางคูลัด นนทบุรี","เลขที่ 59/10 หมู่ที่ 4 ตำบลบางใหญ่ อำเภอบางใหญ่ จังหวัดนนทบุรี 11140","11140",null,"02-9277391","01267","2012-08-24","","","นนทบุรี"]
[null,null,null,null,null,null,null,null,null,"2307","TESCO LOTUS EXPRESS","MAPKHA : RAYONG","มาบข่า ระยอง","เลขที่ 23/8 หมู่ที่ 5 ตำบลมาบข่า อำเภอนิคมพัฒนา จังหวัดระยอง 21180","21180","043-625052","038-952-082","01268","","","","ระยอง"]
[null,null,null,null,null,null,null,null,null,"2308","TESCO LOTUS EXPRESS","NONG YAI BUU : CHONBURI","หนองยายบู่ ชลบุรี","เลขที่ 170/33 หมู่ที่ 1 ตำบลหนองขาม อำเภอศรีราชา จังหวัดชลบุรี 20230","20230",null,"038-338-712","01261","2012-08-21",24,"Standalone","ชลบุรี"]
[null,null,null,null,null,null,null,null,null,"2309","TESCO LOTUS EXPRESS","BORAI : TRAT","บ่อไร่ ตราด","เลขที่ 79 หมู่ที่ 3 ตำบลบ่อพลอย อำเภอบ่อไร่ จังหวัดตราด 23140","23140",null,"039-536308","01276","","","","จันทบุรี"]
[null,null,null,null,null,null,null,null,null,"2310","TESCO LOTUS EXPRESS","TALAD MUANG THONG-SAHAPAT : CHONBURI","ตลาดเมืองทอง-สหพัฒน์ ชลบุรี","เลขที่ 104/261 หมู่ที่ 2 ตำบลบึง อำเภอศรีราชา จังหวัดชลบุรี 20230","20230","036-613-612","038-761-732","01265","2012-08-21",24,"Standalone","ชลบุรี"]
[null,null,null,null,null,null,null,null,null,"2311","TESCO LOTUS EXPRESS","THEPHA : SONGKHLA",null,null,null,null,"036-318485","01248","","","",""]
[null,null,null,null,null,null,null,null,null,"2312","TESCO LOTUS EXPRESS","CHUMCHON WAT KAENG KHANOON : SARABURI","ชุมชนวัดแก่งขนุน สระบุรี","เลขที่ 225/43 ถนนเทศบาล 4 ตำบลปากเพรียว อำเภอเมืองสระบุรี จังหวัดสระบุรี 18000","18000",null,"036-318485","01278","","","","อยุธยา"]
[null,null,null,null,null,null,null,null,null,"2313","TESCO LOTUS EXPRESS","KACHED : RAYONG","กะเฉด ระยอง","เลขที่ 209/14 หมู่ที่ 3 ตำบลแกลง อำเภอเมืองระยอง จังหวัดระยอง 21160","21160","044-629199","038-648-682","01279","","","","ระยอง"]
[null,null,null,null,null,null,null,null,null,"2314","TESCO LOTUS EXPRESS","BAN KHOK SI : KHON KAEN","บ้านโคกสี ขอนแก่น"," 33 หมู่ที่ 14 ต.โคกสี อ.เมืองขอนแก่น จ.ขอนแก่น 40000",40000,null,"043-000105","01275","","","",""]
[null,null,null,null,null,null,null,null,null,"2315","TESCO LOTUS EXPRESS","NA AMPHUR : AMNATCHAROEN",null,null,null,null,"045-270414","01246","","","",""]
[null,null,null,null,null,null,null,null,null,"2316","TESCO LOTUS EXPRESS","KHONG CHIAM : UBONRATCHATHANI","โขงเจียม อุบลราชธานี","เลขที่ 716 หมู่ที่ 1 ตำบลโขงเจียม อำเภอโขงเจียม จังหวัดอุบลราชธานี 34220","34220",null,"045-351-256  ","01280","","","","อุบลราชธานี"]
[null,null,null,null,null,null,null,null,null,"2317","TESCO LOTUS EXPRESS","BUNG WAI : UBONRATCHATHANI","บุ่งหวาย อุบลราชธานี","เลขที่ 215 หมู่ที่ 19 ตำบลบุ่งหวาย อำเภอวารินชำราบ จังหวัดอุบลราชธานี 34310","34310",null,"045-855-279","01281","","","","อุบลราชธานี"]
[null,null,null,null,null,null,null,null,null,"2318","TESCO LOTUS EXPRESS","KRASANG : BURIRAM","กระสัง บุรีรัมย์","เลขที่ 434 หมู่ที่ 9 ตำบลกระสัง อำเภอกระสัง จังหวัดบุรีรัมย์ 31160","31160",null,"044-691621","01242","","","","บุรีรัมย์"]
[null,null,null,null,null,null,null,null,null,"2319","TESCO LOTUS EXPRESS","WAT HUAI PRAP : CHONBURI","วัดห้วยปราบ ชลบุรี","เลขที่ 276/458 หมู่ที่ 3 ตำบลบ่อวิน อำเภอศรีราชา จังหวัดชลบุรี 20230","20230",null,"038-058-046","01293","2012-09-09",24,"Standalone","ชลบุรี"]
[null,null,null,null,null,null,null,null,null,"2320","TESCO LOTUS EXPRESS","AMPHUR WANG PONG : PHETCHABON",null,null,null,null,"056-758053","01284","","","",""]
[null,null,null,null,null,null,null,null,null,"2321","TESCO LOTUS EXPRESS","CHOM CHON RATTANAPHITAN : NAKORNRATCHASIMA","ชุมชนรัตนพิธาน นครราชสีมา","เลขที่ 1154,1154/1,1154/2,1154/3 หมู่ที่ 13 ตำบลจอหอ อำเภอเมืองนครราชสีมา จังหวัดนครราชสีมา 30310","30310",null,"044-294-092 ","01260","","","","นครราชสีมา"]
[null,null,null,null,null,null,null,null,null,"2322","TESCO LOTUS EXPRESS","NIMITMAI 9 : BANGKOK","นิมิตใหม่ 9 กรุงเทพฯ","เลขที่ 57/6,57/8,57/10 ซอยนิมิตใหม่ 9 แขวงทรายกองดิน เขตคลองสามวา กรุงเทพมหานคร 10510","10510",null,"02-914-5418","01264","","","","กรุงเทพ"]
[null,null,null,null,null,null,null,null,null,"2323","TESCO LOTUS EXPRESS","CHUM CHON WAT PRATHUM : SAMUTSONGKRAM","ชุมชนวัดประทุม สมุทรสงคราม","เลขที่ 75/4 ซอยบางเรือหัก ถนนไชยพร ตำบลแม่กลอง อำเภอเมืองสมุทรสงคราม จังหวัดสมุทรสงคราม 75000","75000","034-736751","034-736750","01258","2012-08-18","","","สมุทรสงคราม"]
[null,null,null,null,null,null,null,null,null,"2324","TESCO LOTUS EXPRESS","CHUMPONBURI : SURIN","ชุมพลบุรี สุรินทร์","เลขที่ 266,267-268 หมู่ที่ 1 ตำบลชุมพลบุรี อำเภอชุมพลบุรี จังหวัดสุรินทร์ 32190","32190","044-596403","044-596401","01251","","","","สุรินทร์"]
[null,null,null,null,null,null,null,null,null,"2325","TESCO LOTUS EXPRESS","NAWAMINTR RD : BANGKOK","ถนนนวมินทร์","เลขที่ 629/2 ถนนนวมินทร์ แขวงนวลจันทร์ เขตบึงกุ่ม กรุงเทพมหานคร 10230","10230","02-947-9252","02-947-9250","01254","","","","กรุงเทพ"]
[null,null,null,null,null,null,null,null,null,"2326","TESCO LOTUS EXPRESS","KLONG WAN : PRACHUAPKHIRIKHAN",null,null,null,"032-661304","032-661349  ","01259","","","",""]
[null,null,null,null,null,null,null,null,null,"2327","TESCO LOTUS EXPRESS","AMPHUR KHOK SUNG : SAKAEW","อำเภอโคกสูง สระแก้ว","เลขที่ 175/6,175/25 หมู่ที่ 8 ตำบลโคกสูง อำเภอโคกสูง จังหวัดสระแก้ว 27120","27120","037-441335","037-441334","01277","","","","สระแก้ว"]
[null,null,null,null,null,null,null,null,null,"2328","TESCO LOTUS EXPRESS","BAN SITHAN : KHON KAEN","บ้านศรีฐาน ขอนแก่น"," 169/27 หมู่ที่ 7 ต.ในเมือง อ.เมืองขอนแก่น จ.ขอนแก่น 40000",40000,"043-332-106","043-332-104","01294","","","",""]
[null,null,null,null,null,null,null,null,null,"2329","TESCO LOTUS EXPRESS","TAWAT DIN DANG : ROI ET","ธวัชดินแดง ร้อยเอ็ด"," 27 หมู่ที่ 10 ต.ธงธานี อ.ธวัชบุรี จ.ร้อยเอ็ด 45170",45170,"043-631296","043-631295","01291","","","",""]
[null,null,null,null,null,null,null,null,null,"2330","TESCO LOTUS EXPRESS","NAN HOSPITAL : NAN",null,null,null,"054-750114","054-750112","01299","","","",""]
[null,null,null,null,null,null,null,null,null,"2331","TESCO LOTUS EXPRESS","NONG TOM : PHITSANULOK",null,null,null,"055-222443","055-222441","01303","","","",""]
[null,null,null,null,null,null,null,null,null,"2332","TESCO LOTUS EXPRESS","SOI TESSABAN 6 : SAKAEW","ซอยเทศบาล 6 สระแก้ว","เลขที่ 82/5 ถนนเทศบาล 6 ตำบลสระแก้ว อำเภอเมืองสระแก้ว จังหวัดสระแก้ว 27000","27000","037-220564","037-220899","01304","","","","สระแก้ว"]
[null,null,null,null,null,null,null,null,null,"2333","TESCO LOTUS EXPRESS","NONG KHLA : CHANTHABURI",null,null,null,"039-365-184","039-365-182","01302","","","",""]
[null,null,null,null,null,null,null,null,null,"2334","TESCO LOTUS EXPRESS","PRATU CHAI : PHRAE",null,null,null,"054-620253","054-620255","01288","","","",""]
[null,null,null,null,null,null,null,null,null,"2335","TESCO LOTUS EXPRESS","SIWARAT 5 : NAKHONPATHOM","สิวารัตน์ 5 นครปฐม","เลขที่ 58/186 หมู่ที่ 4 ตำบลกระทุ่มล้ม อำเภอสามพราน จังหวัดนครปฐม 73220","73220","02-429-6386","02-429-6384","01310","2012-09-29","","","นครปฐม"]
[null,null,null,null,null,null,null,null,null,"2336","TESCO LOTUS EXPRESS","SAI THONG WATTANA : KAMPHAENGPHET",null,null,null,"055-732113","055-732112","01269","","","",""]
[null,null,null,null,null,null,null,null,null,"2337","TESCO LOTUS EXPRESS","PHIBUN MUNGSAHAN : UBONRATCHATHANI","พิบูลมังสาหาร อุบลราชธานี","เลขที่ 40/3 ถนนพรหมแสง ตำบลพิบูล อำเภอพิบูลมังสาหาร จังหวัดอุบลราชธานี 34110","34110",null,"045-204-885","01287","","","","อุบลราชธานี"]
[null,null,null,null,null,null,null,null,null,"2338","TESCO LOTUS EXPRESS","CHIANG KLANG : NAN",null,null,null,"054-753022","054-753021","01300","","","",""]
[null,null,null,null,null,null,null,null,null,"2339","TESCO LOTUS EXPRESS","PHAI THA PHOE : PHITCHIT",null,null,null,"056-992080","056-992079","01262","","","",""]
[null,null,null,null,null,null,null,null,null,"2340","TESCO LOTUS EXPRESS","SOI KING KAEW : SAMUTPRAKAN","ซอยกิ่งแก้ว 33,สมุทรปราการ","เลขที่ 97/2 หมู่ที่ 14 ตำบลราชาเทวะ อำเภอบางพลี จังหวัดสมุทรปราการ 10540","10540","02-738-8290","02-738-8291","01282","2012-08-26",24,"Standalone","สมุทรปราการ"]
[null,null,null,null,null,null,null,null,null,"2341","TESCO LOTUS EXPRESS","SUM NUK TORN : RAYONG","สำนักท้อน ระยอง","เลขที่ 21/7 หมู่ที่ 1 ตำบลสำนักท้อน อำเภอบ้านฉาง จังหวัดระยอง 21130","21130","038-963-452","038-963-451","01312","","","","ระยอง"]
[null,null,null,null,null,null,null,null,null,"2342","TESCO LOTUS EXPRESS","NAKORNCHUM : KAMPHAENGPHET",null,null,null,"055-738-156","055-738-155","01313","","","",""]
[null,null,null,null,null,null,null,null,null,"2343","TESCO LOTUS EXPRESS","ARAN VILLE : SAKAEW","อรัญวิลล์ สระแก้ว","เลขที่ 281/13,281/14,281/15 หมู่ที่ 2 ตำบลบ้านใหม่หนองไทร อำเภออรัญประเทศ จังหวัดสระแก้ว 27120","27120","037-223684","037-223494","01286","","","","สระแก้ว"]
[null,null,null,null,null,null,null,null,null,"2344","TESCO LOTUS EXPRESS","WATINTRAWAS: BANGKOK","วัดอินทราวาส กรุงเทพฯ","เลขที่ 14 ถนนพุทธมณฑลสาย 1 แขวงบางระมาด เขตตลิ่งชัน กรุงเทพมหานคร 10170","10170","02-887-8264","02-887-8263","01317","2012-10-07",24,"Standalone","กรุงเทพฯ"]
[null,null,null,null,null,null,null,null,null,"2345","TESCO LOTUS EXPRESS","YAEK ANDAMAN : TRANG",null,null,null,"075-523-3365","075-523-3364","01292","","","",""]
[null,null,null,null,null,null,null,null,null,"2346","TESCO LOTUS EXPRESS","CHOROEN SIN : SAKONNAKHON",null,null,null,"042-709-362","042-709-342","01298","","","",""]
[null,null,null,null,null,null,null,null,null,"2347","TESCO LOTUS EXPRESS","TALAD NOI RUENROM : SURIN","ตลาดน้อยรื่นรมณ์ สุรินทร์","เลขที่ 394/1,394/2,394/3 ถนนหลักเมือง ตำบลในเมือง อำเภอเมืองสุรินทร์ จังหวัดสุรินทร์ 32000","32000","044-520210","044-520211","01306","","","","สุรินทร์"]
[null,null,null,null,null,null,null,null,null,"2348","TESCO LOTUS EXPRESS","TALAD TUNG SANUN : KAMPHAENG PHET",null,null,null,"055-773-292","055-773-293","01307","","","",""]
[null,null,null,null,null,null,null,null,null,"2349","TESCO LOTUS EXPRESS","NON DAENG : NAKORNRATCHASIMA","โนนแดง นครราชสีมา","เลขที่ 30 หมู่ที่ 15 ตำบลโนนแดง อำเภอโนนแดง จังหวัดนครราชสีมา 30360","30360","044-485004","044-485003","01311","","","","นครราชสีมา"]
[null,null,null,null,null,null,null,null,null,"2350","TESCO LOTUS EXPRESS","BAN PAO : CHAIYAPHUM","บ้านเป้า,ชัยภูมิ"," 282 หมู่ที่ 8 ต.บ้านเป้า อ.เกษตรสมบูรณ์ จ.ชัยภูมิ 36120","36120","044-866263","044-866262","01314","","","",""]
[null,null,null,null,null,null,null,null,null,"2351","TESCO LOTUS EXPRESS","PHU RUEA : LOEI",null,null,null,"042-899-065","042-899-040","01315","","","",""]
[null,null,null,null,null,null,null,null,null,"2352","TESCO LOTUS EXPRESS","TALAD THA PHOE : NAKORNSRITHMMARAT",null,null,null,"075-311880","075-311881","01308","","","",""]
[null,null,null,null,null,null,null,null,null,"2353","TESCO LOTUS EXPRESS","KHAERAI : SAMUTSAKORN","แคราย สมุทรสาคร","เลขที่ 22/23 หมู่ที่ 5 ตำบลแคราย อำเภอกระทุ่มแบน จังหวัดสมุทรสาคร 74110","74110","034-866-688","034-866-687","01316","2012-10-01","","","สมุทรสาคร"]
[null,null,null,null,null,null,null,null,null,"2354","TESCO LOTUS EXPRESS","BAN THON : UDONTHANI","บ้านถ่อน อุดรธานี"," 104/10 หมู่ที่ 4 ต.บ้านเลื่อม อ.เมืองอุดรธานี จ.อุดรธานี 41000",41000,"042-347-747","042-347-748","01318","","","",""]
[null,null,null,null,null,null,null,null,null,"2355","TESCO LOTUS EXPRESS","PHON SAWAN : NAKHONPHANOM",null,null,null,"042-595-403","042-595-402","01322","","","",""]
[null,null,null,null,null,null,null,null,null,"2356","TESCO LOTUS EXPRESS","TALAD BANG MUANG : PHANG NGA",null,null,null,"076-446055","076-446057","01323","","","",""]
[null,null,null,null,null,null,null,null,null,"2357","TESCO LOTUS EXPRESS","CHUMCHON NONG YA NGAM : NAKORNRATCHASIMA","ชุมชนหนองหญ้างาม นครราชสีมา","เลขที่ 143/76 ถนนเซนต์เมรี ตำบลในเมือง อำเภอเมืองนครราชสีมา จังหวัดนครราชสีมา 30000","30000","044-270357","044-270356","01342","","","","นครราชสีมา"]
[null,null,null,null,null,null,null,null,null,"2358","TESCO LOTUS EXPRESS","HUA HIN SOI 88 : PRACHUAPKHIRIKAN",null,null,null,"032 532 065","032 532 064","01325","","","",""]
[null,null,null,null,null,null,null,null,null,"2359","TESCO LOTUS EXPRESS","TALAD NONG SAMOR : CHONBURI","ตลาดหนองสมอ ชลบุรี","เลขที่ 25/73 หมู่ที่ 3 ตำบลห้วยกะปิ  อำเภอเมืองชลบุรี จังหวัดชลบุรี 20000","20000","038-796-979","038-796-978","01326","","","",""]
[null,null,null,null,null,null,null,null,null,"2360","TESCO LOTUS EXPRESS","BAN TA KHUN : SURATTHANI",null,null,null,"077-261118","077-261116","01328","","","",""]
[null,null,null,null,null,null,null,null,null,"2361","TESCO LOTUS EXPRESS","NONG KHAO : KANCHANABURI","หนองขาว กาญจนบุรี","เลขที่ 193 หมู่ที่ 1 ตำบลหนองขาว อำเภอท่าม่วง จังหวัดกาญจนบุรี 71110","71110","034-659115","034-659114","01329","2012-10-21","","","กาญจนบุรี"]
[null,null,null,null,null,null,null,null,null,"2362","TESCO LOTUS EXPRESS","BAN HIN POENG : CHONBURI","บ้านหินเพิง, ชลบุรี","เลขที่ 71 หมู่ที่ 6 ตำบลบางพระ อำเภอศรีราชา จังหวัดชลบุรี 20110","20110","038-777358","038-777357","01327","2012-10-21",24,"Standalone","ชลบุรี"]
[null,null,null,null,null,null,null,null,null,"2363","TESCO LOTUS EXPRESS","SATHING PRA : SONGKHLA",null,null,null,"074-458458","074-458460","01330","","","",""]
[null,null,null,null,null,null,null,null,null,"2364","TESCO LOTUS EXPRESS","LONG : PHRAE",null,null,null,"054-584177","054-584176","01333","","","",""]
[null,null,null,null,null,null,null,null,null,"2365","TESCO LOTUS EXPRESS","THEP SATHIT : CHAIYAPHUM","เทพสถิต, ชัยภูมิ ","เลขที่ 1012 หมู่ที่ 1 ตำบลวะตะแบก อำเภอเทพสถิต จังหวัดชัยภูมิ 36230","36230","044-855-178","044-855-077","01331","","","","ชัยภูมิ"]
[null,null,null,null,null,null,null,null,null,"2366","TESCO LOTUS EXPRESS","BAAN PONG PHAI : PRACHINBURI","บ้านโป่งไผ่ ปราจีนบุรี","เลขที่ 565 หมู่ที่ 7 ตำบลท่าตูม  อำเภอศรีมหาโพธิ  จังหวัดปราจีนบุรี 25140","25140",null,"037-466587","01335","","","","ปราจีนบุรี"]
[null,null,null,null,null,null,null,null,null,"2367","TESCO LOTUS EXPRESS","TALAD KHLONG SUAN : CHACHOENGSAO","ตลาดคลองสวน ฉะเชิงเทรา","เลขที่ 92 หมู่ที่ 6 ตำบลเทพราช อำเภอบ้านโพธิ์  จังหวัดฉะเชิงเทรา 24140","24140","038-525-458","038-525-457","01337","2012-10-28",24,"3-Standalone","ฉะเชิงเทรา"]
[null,null,null,null,null,null,null,null,null,"2368","TESCO LOTUS EXPRESS","WAT PHO 25 : SURATTHANI",null,null,null,"077-222264","077-222263","01338","","","",""]
[null,null,null,null,null,null,null,null,null,"2369","TESCO LOTUS EXPRESS","SURASAK SRIRACHA 2 : CHONBURI","สุรศักดิ์ศรีราชา 2 ชลบุรี","เลขที่ 340/43,340/44,340/45,340/46  หมู่ที่ 7 ตำบลสุรศักดิ์ อำเภอศรีราชา จังหวัดชลบุรี 20110","20110","038-774228","038-774227","01319","2012-10-11",24,"Shophouse","ชลบุรี"]
[null,null,null,null,null,null,null,null,null,"2370","TESCO LOTUS EXPRESS","SA KHRAI : NONG KHAI",null,null,null,"042-463-076","042-463-074","01339","","","",""]
[null,null,null,null,null,null,null,null,null,"2371","TESCO LOTUS EXPRESS","TALAD MAE YUPIN : UDONTHANI","ตลาดแม่ยุพิน, อุดรธานี "," 10 หมู่ที่ 11 ต.หมูม่น อ.เมืองอุดรธานี จ.อุดรธานี 41000",41000,"042-266543","042-266540","01340","","","",""]
[null,null,null,null,null,null,null,null,null,"2372","TESCO LOTUS EXPRESS","NA MOM : SONGKHLA",null,null,null,"074-433434","074-433436","01341","","","",""]
[null,null,null,null,null,null,null,null,null,"2373","TESCO LOTUS EXPRESS","SAI YOK NOI : KANCHANABURI (CE0248-SSA)","ไทรโยคน้อย กาญจนบุรี","เลขที่ 911 หมู่ที่ 3 ตำบลท่าเสา  อำเภอไทรโยค  จังหวัดกาญจนบุรี  71150","71150","034-634277","034-634276 ","01361","2012-11-23","","","กาญจนบุรี"]
[null,null,null,null,null,null,null,null,null,"2374","TESCO LOTUS EXPRESS","CHUM CHON KHAI ERAWAN : LOPBURI","ชุมชนค่ายเอราวัณ ลพบุรี","เลขที่ 217 ถนนนเรศวร (ช.6) ตำบลเขาสามยอด อำเภอเมืองลพบุรี จังหวัดลพบุรี 15000","15000","036-627067","036-627065","01350","","","","อยุธยา"]
[null,null,null,null,null,null,null,null,null,"2375","TESCO LOTUS EXPRESS","RATTANAWAPI : NONG KHAI",null,null,null,"042-418169","042-418082","01332","","","",""]
[null,null,null,null,null,null,null,null,null,"2376","TESCO LOTUS EXPRESS","BAAN SUAN PRUKSA : PRACHINBURI","บ้านสวนพฤกษา ปราจีนบุรี","เลขที่ 193 หมู่ที่ 8 ตำบลท่าตูม อำเภอศรีมหาโพธิ จังหวัดปราจีนบุรี 25140","25140","037-481231","037-481231","01345","","","","ปราจีนบุรี"]
[null,null,null,null,null,null,null,null,null,"2377","TESCO LOTUS EXPRESS","BAAN DAN LAN HOI : SUKHOTHAI",null,null,null,"055-634172","055-634171","01351","","","",""]
[null,null,null,null,null,null,null,null,null,"2378","TESCO LOTUS EXPRESS","PHUTTHA BUCHA 36 : BANGKOK","พุทธบูชา 36","เลขที่ 17/1 ซอยพุทธบูชา 36 แขวงบางมด เขตทุ่งครุ กรุงเทพมหานคร 10140","10140","02-870-5301","02-870-5302","01353","2006-05-27",2,"","กรุงเทพฯ"]
[null,null,null,null,null,null,null,null,null,"2379","TESCO LOTUS EXPRESS","AMPHUR SUNG MEN : PHRAE (NT0170-ESA)",null,null,null,"054-630033","054-630032","01364","","","",""]
[null,null,null,null,null,null,null,null,null,"2380","TESCO LOTUS EXPRESS","KE-HA KHON KAEN : KHON KAEN","เคหะขอนแก่น ขอนแก่น"," 398/1 ถนนกลางเมือง ต.ในเมือง อ.เมืองขอนแก่น จ.ขอนแก่น 40000",40000,"043-340117","043-340116","01352","","","",""]
[null,null,null,null,null,null,null,null,null,"2381","TESCO LOTUS EXPRESS","SUPPRAIWAN : PHITSANULOK (NT0183-3SA)",null,null,null,"055-293252","055-293251","01357","","","",""]
[null,null,null,null,null,null,null,null,null,"2383","TESCO LOTUS EXPRESS","SANG KHOM : UDONTHANI (NE0217-3SA)",null,null,null,"042-276-164","042-276-163","01355","","","",""]
[null,null,null,null,null,null,null,null,null,"2384","TESCO LOTUS EXPRESS","TALAD TAI CHUMPHAE : KHON KAEN (NE0241-SSA)","ตลาดใต้ชุมแพ ขอนแก่น"," 23 หมู่ที่ 1 ต.ชุมแพ อ.ชุมแพ จ.ขอนแก่น 40130",40130,"043-384028","043-384027","01356","","","",""]
[null,null,null,null,null,null,null,null,null,"2385","TESCO LOTUS EXPRESS","YEAK JOR POR ROR : NAKHONNAYOK (CE0247-3SA)","แยก จปร. นครนายก","เลขที่ 596 หมู่3 ตำบลพรหมณี อำเภอเมืองนครนายก จังหวัดนครนายก 26000","26000","037-326154","037-326153","01362","","","","นครนายก"]
[null,null,null,null,null,null,null,null,null,"2386","TESCO LOTUS EXPRESS","TALAD THACHAI : SUKHOTHAI (NT0181-3SA)",null,null,null,"055-631-172","055-631-171","01369","","","",""]
[null,null,null,null,null,null,null,null,null,"2387","TESCO LOTUS EXPRESS","TALAD LANG : SURATTHANI (ST0129-SSA)",null,null,null,"077-212-108 ","077-212-110","01501","","","",""]
[null,null,null,null,null,null,null,null,null,"2388","TESCO LOTUS EXPRESS","BAN KHUAN HIN : SONGKHLA (ST0141-SSA)",null,null,null,"074-447747","074-447747","01373","","","",""]
[null,null,null,null,null,null,null,null,null,"2389","TESCO LOTUS EXPRESS","PA SAK CHONLASIT DAM : LOPBURI","เขื่อนป่าสักชลสิทธิ์ ลพบุรี","เลขที่ 38 หมู่ที่ 1 ตำบลหนองบัว อำเภอพัฒนานิคม จังหวัดลพบุรี 15140","15140","036-494280","036-494277 ","01377","","","","อยุธยา"]
[null,null,null,null,null,null,null,null,null,"2390","TESCO LOTUS EXPRESS","KAI BAE KOH CHANG : TRAT (CE0270-SSA)","ไก่แบ้ เกาะช้าง ตราด","เลขที่ 52/3 หมู่ที่ 4 ตำบลเกาะช้าง อำเภอเกาะช้าง จังหวัดตราด 23170","23170","039-557445","039-557447","01367","","","",""]
[null,null,null,null,null,null,null,null,null,"2391","TESCO LOTUS EXPRESS","WANG WISET : TRANG",null,null,null,"075-262218","075-262216 ","01378","","","",""]
[null,null,null,null,null,null,null,null,null,"2392","TESCO LOTUS EXPRESS","YAEK BON KAI, KOH SAMUI : SURATTHANI",null,null,null,"077-256-283 ","077-256-282","01375","","","",""]
[null,null,null,null,null,null,null,null,null,"2393","TESCO LOTUS EXPRESS","TALAD BUNGBUA KHUMKLAO : BANGKOK","ตลาดบึงบัว คุ้มเกล้า กรุงเทพฯ","เลขที่ 46/1 ถนนคุ้มเกล้า แขวงลำปลาทิว เขตลาดกระบัง กรุงเทพมหานคร 10520","10520","02-7396517","02-7396516","01344","","","","กรุงเทพ"]
[null,null,null,null,null,null,null,null,null,"2394","TESCO LOTUS EXPRESS","NON SUNG : NAKORNRATCHASIMA (NE0242-SSH)","โนนสูง, นครราชสีมา","เลขที่ 1,3,5,7,9 ถนนโนนสูง-มิตรภาพ ตำบลโนนสูง อำเภอโนนสูง จังหวัดนครราชสีมา 30160","30160","044-326-116","044-326-118","01374","","","","นครราชสีมา"]
[null,null,null,null,null,null,null,null,null,"2395","TESCO LOTUS EXPRESS","HIN KONG 2 : SARABURI","หินกอง 2 สระบุรี","เลขที่ 18/1 หมู่ที่ 8 ตำบลห้วยขมิ้น อำเภอหนองแค จังหวัดสระบุรี 18230","18230","036-336809","036-336808","01381","","","","อยุธยา"]
[null,null,null,null,null,null,null,null,null,"2397","TESCO LOTUS EXPRESS","THUNG SRI MUEANG : UBONRATCHATHANI (NE0177-3SH)","ทุ่งศรีเมือง อุบลราชธานี","เลขที่ 158/6 ถนนราชบุตร ตำบลในเมือง อำเภอเมืองอุบลราชธานี จังหวัดอุบลราชธานี 34000","34000","045-209-255","045-209-253","01368","","","","อุบลราชธานี"]
[null,null,null,null,null,null,null,null,null,"2398","TESCO LOTUS EXPRESS","PRACHASANTI ROAD : UDONTHANI","ถนนประชาสันติ อุดรธานี"," 357/17 ม.14 ซอยบ้านเก่าจาน ต.หมากแข้ง อ.เมืองอุดรธานี จ.อุดรธานี 41000",41000,"042-321560","042-321559","01399","","","",""]
[null,null,null,null,null,null,null,null,null,"2399","TESCO LOTUS EXPRESS","PHRA THONG KHAM : NAKORNRATCHASIMA","พระทองคำ นครราชสีมา","เลขที่ 589 หมู่ที่ 1 ตำบลสระพระ อำเภอพระทองคำ จัวหวัดนครราชสีมา 30000","30000","044-337-140","044-337-149","01385","","","","นครราชสีมา"]
[null,null,null,null,null,null,null,null,null,"2400","TESCO LOTUS EXPRESS","SAPPASIT HOSPITAL : UBONRATCHATHANI (NE0244-SSA)","โรงพยาบาลสรรพสิทธิ์,อุบลราชธานี","เลขที่ 209/2 ถนนสรรพสิทธิ์ ตำบลในเมือง อำเภอเมืองอุบลราชธานี จังหวัดอุบลราชธานี 34000","34000","045-265-625","045-265-624","01421","","","","อุบลราชธานี"]
[null,null,null,null,null,null,null,null,null,"2401","TESCO LOTUS EXPRESS","NA CHALUAI : UBONRATCHATHANI","นาจะหลวย, อุบลราชธานี ","เลขที่ 359 หมู่ที่ 8 ตำบลนาจะหลวย อำเภอนาจะหลวย จังหวัดอุบลราชธานี 34280","34280","045-379-189 ","045-379-295","01389","","","","อุบลราชธานี"]
[null,null,null,null,null,null,null,null,null,"2402","TESCO LOTUS EXPRESS","WANG CHO : TAK (NT0152-ESH)",null,null,null,"055-556-158","055-556-157","01370","","","",""]
[null,null,null,null,null,null,null,null,null,"2403","TESCO LOTUS EXPRESS","SANGKHARUK : RAYONG (CE0263-3SH)","สังขะฤกษ์,ระยอง","เลขที่ 89/48  หมู่ที่ 1  ตำบลสำนักทอง  อำเภอเมืองระยอง  จังหวัดระยอง  21100","21100","038-643-297","038-643-296","01365","","","","ระยอง"]
[null,null,null,null,null,null,null,null,null,"2405","TESCO LOTUS EXPRESS","TALAD WAT NONG BUA : UBONRATCHATHANI","ตลาดวัดหนองบัว ","เลขที่ 54/2 ถนนธรรมวิถี ตำบลในเมือง อำเภอเมืองอุบลราชธานี จังหวัดอุบลราชธานี 34000","34000","045-280-676","045-280-675","01383","","","","อุบลราชธานี"]
[null,null,null,null,null,null,null,null,null,"2406","TESCO LOTUS EXPRESS","PHAYA MEANGRAI : CHIANGRAI (NT0168-3SH)",null,null,null,"053-959038","053-959036","01358","","","",""]
[null,null,null,null,null,null,null,null,null,"2407","TESCO LOTUS EXPRESS","TALAD LAOS : RAYONG","ตลาดลาว,ระยอง","เลขที่  80/45 ถนนตากวน-หาดทรายทอง ตำบลมาบตาพุด อำเภอเมืองระยอง จังหวัดระยอง 21100","21100","038-607709","038-607710","01436","","","","ระยอง"]
[null,null,null,null,null,null,null,null,null,"2408","TESCO LOTUS EXPRESS","WAT TAN LOM : CHONBURI","วัดตาลล้อม ชลบุรี","เลขที่180/1 ถนนเปรมใจราษฎร์ ตำบลแสนสุข อำเภอเมืองชลบุรี จังหวัดชลบุรี 20130","20130","038-745731","038-745730 ","01404","2012-12-23",24,"Standalone","ชลบุรี"]
[null,null,null,null,null,null,null,null,null,"2409","TESCO LOTUS EXPRESS","SRIPHALO : CHONBURI (CE0219-SSA)","ศรีพโล, ชลบุรี","เลขที่ 45/15 หมู่ที่ 1 ตำบลหนองไม้แดง อำเภอเมืองชบุรี จังหวัดชลบุรี 20000","20000","038-794-209","038-794-207","01464","","","","ชลบุรี"]
[null,null,null,null,null,null,null,null,null,"2411","TESCO LOTUS EXPRESS","MAP CHALUT : RAYONG","มาบชลูด ระยอง","เลขที่ 59/9 ถนนมาบชลูด - แหลมสน ตำบลห้วยโป่ง อำเภอเมืองระยอง จังหวัดระยอง 21150","21150","038-683621","038-683620","01391","","","","ระยอง"]
[null,null,null,null,null,null,null,null,null,"2412","TESCO LOTUS EXPRESS","KHAOLAM ROAD : CHONBURI","ถนนข้าวหลาม ชลบุรี","เลขที่ 67 ถนนข้าวหลาม ตำบลแสนสุข อำเภอเมืองชลบุรี จังหวัดชลบุรี 20130","20130","038-748645","038-748642","01405","2012-12-28",24,"Standalone","ชลบุรี"]
[null,null,null,null,null,null,null,null,null,"2414","TESCO LOTUS EXPRESS","LADPRAO 130 : BANGKOK","ลาดพร้าว 130","เลขที่ 13 ซอยลาดพร้าว130 (มหาดไทย2) แขวงคลองจั่น เขตบางกะปิ กรุงเทพมหานคร 10240","10240","02-7310742","02-7310740","01394","","","","กรุงเทพ"]
[null,null,null,null,null,null,null,null,null,"2415","TESCO LOTUS EXPRESS","PHRA YUEN : KHON KAEN","พระยืน ขอนแก่น"," 420 หมู่ที่ 1 ต.พระยืน อ.พระยืน จ.ขอนแก่น 40320",40320,"043-266-509","043-266-507","01384","","","",""]
[null,null,null,null,null,null,null,null,null,"2416","TESCO LOTUS EXPRESS","THUNG TAO : SURATTHANI",null,null,null,"077-263089","077-263088 ","01395","","","",""]
[null,null,null,null,null,null,null,null,null,"2417","TESCO LOTUS EXPRESS","RASI SALAI : SISAKET","ราษีไศล ศรีสะเกษ","เลขที่  267  หมู่ที่ 2  ตำบลเมืองคง  อำเภอราษีไศล  จังหวัดศรีสะเกษ  33160","33160",null,"045-682-254","01400","","","","ศรีสะเกษ"]
[null,null,null,null,null,null,null,null,null,"2418","TESCO LOTUS EXPRESS","SONG : PHRAE",null,null,null,"054 642 045","054 642 044 ","01396","","","",""]
[null,null,null,null,null,null,null,null,null,"2420","TESCO LOTUS EXPRESS","TESSABAN SUTHEP : CHIANGMAI(NT0165-3SA)",null,null,null,"053-810231","053-810229","01419","","","",""]
[null,null,null,null,null,null,null,null,null,"2421","TESCO LOTUS EXPRESS","BANG PHROM-RATCHAPREUK : BANGKOK","บางพรม ราชพฤกษ์","เลขที่ 74 ถนนบางพรม แขวงบางพรม เขตตลิ่งชัน กรุงเทพมหานคร 10170","10170","02-8647290","02-8647289","01401","2012-12-28",24,"3-Standalone","กรุงเทพฯ"]
[null,null,null,null,null,null,null,null,null,"2422","TESCO LOTUS EXPRESS","CHIANG KAN : LOEI",null,null,null,"042-822273","042-822271","01388","","","",""]
[null,null,null,null,null,null,null,null,null,"2423","TESCO LOTUS EXPRESS","THANON CHANG PHUEAK : NAKORNRATCHASIMA (NE0223-SSA)","ถนนช้างเผือก, นครราชสีมา","เลขที่ 497/16 ถนนช้างเผือก ตำบลในเมือง อำเภอเมืองนครราชสีมา จังหวัดนครราชสีมา 30000","30000","044 271 363","044 271 362","01449","","","","นครราชสีมา"]
[null,null,null,null,null,null,null,null,null,"2424","TESCO LOTUS EXPRESS","KAMNANMAEN 36 : BANGKOK (BK0258-3SA)","กำนันแม้น 36","เลขที่ 42/25 หมู่ที่ 5 แขวงบางขุนเทียน เขตจอมทอง กรุงเทพมหานคร 10150","10150","02-802-0009","02-802-0007","01425","2013-01-26",24,"3-Standalone","กรุงเทพฯ"]
[null,null,null,null,null,null,null,null,null,"2425","TESCO LOTUS EXPRESS","BANGRAKAM : PHITSANULOK",null,null,null,"055-297057","055-297056","01430","","","",""]
[null,null,null,null,null,null,null,null,null,"2426","TESCO LOTUS EXPRESS","THANON THUNGSRIMUANG KALASIN : KALASIN","ถนนทุ่งศรีเมือง กาฬสินธุ์"," 231/1-4 ถ.ทุ่งศรีเมือง ต.กาฬสินธุ์ อ.เมืองกาฬสินธุ์ จ.กาฬสินธุ์ 40000",40000,"043-820340","043-820338 ","01393","","","",""]
[null,null,null,null,null,null,null,null,null,"2427","TESCO LOTUS EXPRESS","TALAD SOR NONG NUCH : UDONTHANI (NE0200-SSA)","ตลาด ส.นงนุช, อุดรธานี"," 381 ม.2 ต.บ้านจั่น อ.เมืองอุดรธานี จ.อุดรธานี 41000",41000,"042-123-053","042-123-051","01427","","","",""]
[null,null,null,null,null,null,null,null,null,"2428","TESCO LOTUS EXPRESS","KLONG RAPEEPHAT NONGKAE : SARABURI","คลองระพีพัฒน์ หนองแค","เลขที่ 69/47 ถนนระพีพัฒน์ฝั่งซ้าย ตำบลหนองแค อำเภอหนองแค จังหวัดสระบุรี 18140","18140","036-325930","036-325928 ","01397","","","","อยุธยา"]
[null,null,null,null,null,null,null,null,null,"2429","TESCO LOTUS EXPRESS","RUAM JAI ROAD : CHONBURI (CE0251-ESA)","ถนนร่วมใจ, ชลบุรี","เลขที่ 29/38 หมู่ที่ 1 ตำบลนาป่า อำเภอเมืองชลบุรี จังหวัดชลบุรี 20000","20000","038-786250","038-786249","01408","","","","ชลบุรี"]
[null,null,null,null,null,null,null,null,null,"2430","TESCO LOTUS EXPRESS","TESSABARN SA KASO SOI 17 : SAKAEW","เทศบาลสระแก้ว ซอย 17 สระแก้ว","เลขที่ 207, 209/1 ถนนสุวรรณศร ตำบลสระแก้ว อำเภอเมืองสระแก้ว จังหวัดสระแก้ว 27000","27000","037-220-463","037-220-461","01398","","","","สระแก้ว"]
[null,null,null,null,null,null,null,null,null,"2431","TESCO LOTUS EXPRESS","KEHA NAKHONSAWAN : NAKHONSAWAN (CE0271-SSA)",null,null,null,"056 310-128","056 310-127","01423","","","",""]
[null,null,null,null,null,null,null,null,null,"2432","TESCO LOTUS EXPRESS","CHUM CHON LHUNG KASEMRAD: SARABURI (CE0279-3SA)","ชุมชนหลังเกษมราษฎร์, สระบุรี","เลขที่ 1/16 ซอย2(ถนนเทศบาล6) ตำบลปากเพรียว อำเภอเมืองสระบุรี  จังหวัดสระบุรี 18000","18000","036-308123","036-308122","01426","","","","อยุธยา"]
[null,null,null,null,null,null,null,null,null,"2433","TESCO LOTUS EXPRESS","AMPHUR DET UDOM : UBONRATCHATHANI (NE0277-SSA)","อำเภอเดชอุดม, อุบลราชธานี","เลขที่ 444 หมู่ 5 ตำบลเมืองเดช อำเภอเดชอุดม จังหวัดอุบลราชธานี 34160","34160","045-282187","045-282186  ","01428","","","","อุบลราชธานี"]
[null,null,null,null,null,null,null,null,null,"2434","TESCO LOTUS EXPRESS","SRI NAKORN : SUKHOTHAI",null,null,null,"055-652-218","055-652-217","01415","","","",""]
[null,null,null,null,null,null,null,null,null,"2435","TESCO LOTUS EXPRESS","HUAYKAPI 17 : CHONBURI (CE0269-SSA)","ห้วยกะปิ 17,ชลบุรี","เลขที่ 52/1 หมู่ที่ 5  ตำบลห้วยกะปิ  อำเภอเมืองชลบุรี  จังหวัดชลบุรี 20000","20000",null,"038-764-375","01420","","","",""]
[null,null,null,null,null,null,null,null,null,"2436","TESCO LOTUS EXPRESS","BAN TAK : TAK",null,null,null,"055-548009","055-548007","01413","","","",""]
[null,null,null,null,null,null,null,null,null,"2437","TESCO LOTUS EXPRESS","SIDA : NAKORNRATCHASIMA (NE0255-SSA)","สีดา,นครราชสีมา","เลขที่ 158 หมู่ที่ 1 ตำบลโพนทอง อำเภอสีดา จังหวัดนครราชสีมา 30430","30430","044-329237","044-329236 ","01480","","","","นครราชสีมา"]
[null,null,null,null,null,null,null,null,null,"2438","TESCO LOTUS EXPRESS","TALAD TON MAKUEA : SISAKET (NE0151-3SA)","ตลาดต้นมะเกลือ,ศรีสะเกษ","เลขที่ 1333/16 ถนนวิจิตรนคร ตำบลเมืองใต้ อำเภอเมืองศรีสะเกษ จังหวัดศรีสะเกษ 33000","33000","045-620315","045-620314","01448","","","","ศรีสะเกษ"]
[null,null,null,null,null,null,null,null,null,"2439","TESCO LOTUS EXPRESS","THANON RIMNAM : RAYONG","ถนนริมน้ำ ระยอง","เลขที่ 186,186/1,186/2 ถนนริมน้ำ ตำบลเชิงเนิน อำเภอเมืองระยอง จังหวัดระยอง 21000","21000","038-870081","038-870080 ","01392","","","","ระยอง"]
[null,null,null,null,null,null,null,null,null,"2442","TESCO LOTUS EXPRESS","KHUAN KALONG : SATUN (ST0146-3SA)",null,null,null,null,"074-797168","01424","","","",""]
[null,null,null,null,null,null,null,null,null,"2443","TESCO LOTUS EXPRESS","RATJAPHAT ROI ET : ROI ET (NE0265-3SH)","ราชภัฎร้อยเอ็ด"," 9/1 หมู่ที่ 14 ต.เกาะแก้ว อ.เสลภูมิ จ.ร้อยเอ็ด 45120",45120,"043-556-143","043-556-077 ","01407","","","",""]
[null,null,null,null,null,null,null,null,null,"2444","TESCO LOTUS EXPRESS","CHANA : SONGKHLA",null,null,null,"074-431202","074-431200","01414","","","",""]
[null,null,null,null,null,null,null,null,null,"2445","TESCO LOTUS EXPRESS","CHUMCHON MUEANG KAO : PHITCHIT (NT0211-SSA)",null,null,null,"056-655506","056-655504","01437","","","",""]
[null,null,null,null,null,null,null,null,null,"2446","TESCO LOTUS EXPRESS","UDOMSAP-BANG WAEK : BANGKOK","อุดมทรัพย์ บางแวก ","เลขที่ 112/4 ถนนบางแวก แขวงบางไผ่ เขตบางแค กรุงเทพมหานคร 10160","10160","02-8654635","02-8654634","01417","2013-01-20",24,"3-Standalone","กรุงเทพฯ"]
[null,null,null,null,null,null,null,null,null,"2447","TESCO LOTUS EXPRESS","TALAD NUD AMATA : CHON BURI (CE0216-SSA)","ตลาดนัดอมตะ, ชลบุรี","เลขที่ 49/18 หมู่ 3 ตำบลหนองตำลึง อำเภอพานทอง จังหวัดชลบุรี 20160","20160","038-789-488","038-789-480","01455","","","","ชลบุรี"]
[null,null,null,null,null,null,null,null,null,"2448","TESCO LOTUS EXPRESS","NONG KHO : CHONBURI","หนองค้อ,ชลบุรี","เลขที่ 31/5 หมู่ที่ 9 ตำบลหนองขาม อำเภอศรีราชา จังหวัดชลบุรี 20110","20110","038-296797","038-296796","01444","2013-02-21",24,"Standalone","ชลบุรี"]
[null,null,null,null,null,null,null,null,null,"2449","TESCO LOTUS EXPRESS","NONG BUA RAWE : CHAIYAPHUM","หนองบัวระเหว,ชัยภูมิ","เลขที่ 708 หมู่ที่9 ตำบลหนองบัวระเหว อำเภอหนองบัวระเหว จังหวัดชัยภูมิ 36250","36250",null,"044-897-062","01442","","","","ชัยภูมิ"]
[null,null,null,null,null,null,null,null,null,"2450","TESCO LOTUS EXPRESS","CHUMCHON RUNG PATTANA : SAKONNAKHON","ชุมชนรุ่งพัฒนา,สกลนคร"," 455/3 ถ.นิตโย ต.ธาตุเชิงชุม อ.เมืองสกลนคร จ.สกลนคร",null,"042-743071","042-743072","01456","","","",""]
[null,null,null,null,null,null,null,null,null,"2451","TESCO LOTUS EXPRESS","TALAD BANG KAEW : PHATTHALUNG (ST0116-3SH)",null,null,null,"074-697-491","074-697-489","01406","","","",""]
[null,null,null,null,null,null,null,null,null,"2452","TESCO LOTUS EXPRESS","MAE RA MAD : TAK (NT0179-SSH)",null,null,null,"055-553-122","055-553-120 ","01422","","","",""]
[null,null,null,null,null,null,null,null,null,"2453","TESCO LOTUS EXPRESS","CHUMCHON WAT SAKAE : AYUTTHYA (BK0281-3SA)","ชุมชนวัดสะแก","เลขที่ 32/4 หมู่ที่ 2 ตำบลธนู อำเภออุทัย จังหวัดพระนครศรีอยุธยา 13210","13210","035-213-553","035-213-550","01447","","","","อยุธยา"]
[null,null,null,null,null,null,null,null,null,"2455","TESCO LOTUS EXPRESS","TESSABAN SOI 8 : NAKHONPATHOM (BK0215-3SH)",null,null,null,"02-4208067","02-4208065","01429","","","",""]
[null,null,null,null,null,null,null,null,null,"2456","TESCO LOTUS EXPRESS","SOI WAT PHAN SADET NAI : CHONBURI (CE0291-SSA)","ซอยวัดพันสเด็จใน","เลขที่ 999/10 หมู่ที่ 6 ตำบลบ่อวิน อำเภอศรีราชา จังหวัดชลบุรี 20230","20230","038-171018","038-171016  ","01459","2013-03-06",24,"Standalone","ชลบุรี"]
[null,null,null,null,null,null,null,null,null,"2457","TESCO LOTUS EXPRESS","CHUMCHON WI SUTTHI THEP : LOEI (NE0283-SSA)",null,null,null,"042-830842","042-830841","01476","","","",""]
[null,null,null,null,null,null,null,null,null,"2458","TESCO LOTUS EXPRESS","BAN NA NONG : LOEI",null,null,null,"042-834416","042-834415","01462","","","",""]
[null,null,null,null,null,null,null,null,null,"2459","TESCO LOTUS EXPRESS","SA KACHOM : SUPHANBURI (BK0241-3SA)",null,null,null,"035-427-192","035-427-191","01467","","","",""]
[null,null,null,null,null,null,null,null,null,"2460","TESCO LOTUS EXPRESS","KAENG SANAM NANG : NAKORNRATCHASIMA","แก้งสนามนาง, นครราชสีมา","เลขที่ 114 หมู่ที่ 9 ตำบลแก้งสนามนาง อำเภอแก้งสนามนาง จังหวัดนครราชสีมา 30440","30440",null,"044-339-079","01431","","","","นครราชสีมา"]
[null,null,null,null,null,null,null,null,null,"2461","TESCO LOTUS EXPRESS","KASET SOMBOON : CHAIYAPHUM (NE0260-SSH)","เกษตรสมบูรณ์ ชัยภูมิ"," 399/1 ม.1 ต.บ้านยาง อ.เกษตรสมบูรณ์ จ.ชัยภูมิ 36120","36120","044-847224","044-847223 ","01418","","","",""]
[null,null,null,null,null,null,null,null,null,"2462","TESCO LOTUS EXPRESS","PHANOM : SURATTHANI",null,null,null,"077-399165","077-399164","01439","","","",""]
[null,null,null,null,null,null,null,null,null,"2463","TESCO LOTUS EXPRESS","KHAO NOI ROAD : CHONBURI (CE0285-ESA)","ถนนเขาน้อย,ชลบุรี","เลขที่ 99/372 หมู่ที่ 7 ตำบลบ้านสวน อำเภอเมืองชลบุรี จังหวัดชลบุรี 20000","20000",null,"038-781006","01585","","","","ชลบุรี"]
[null,null,null,null,null,null,null,null,null,"2464","TESCO LOTUS EXPRESS","NAH YEAK AOR SOR : SISAKET (NE0294-3SH)","หน้าแยก อส.,ศรีษะเกษ","เลขที่ 1540/9-12 ถนนขุขันธ์ ตำบลเมืองใต้ อำเภอเมืองศรีสะเกษ จังหวัดศรีสะเกษ 33000","33000","045-620244","045-620243 ","01440","","","","ศรีสะเกษ"]
[null,null,null,null,null,null,null,null,null,"2465","TESCO LOTUS EXPRESS","SRI THEP : PHETCHABUN (NT0176-SSH)",null,null,null,"056-755067","056-755066 ","01488","","","",""]
[null,null,null,null,null,null,null,null,null,"2466","TESCO LOTUS EXPRESS","AYUTTHYA RAILWAY STATION : AYUTTHYA (BK0290-3SH)","สถานีรถไฟอยุธยา","เลขที่ 93/4, 93/5, 93/6 หมู่ที่ 10 ตำบลกะมัง อำเภอพระนครศรีอยุธยา จังหวัดพระนครศรีอยุธยา 13000","13000",null,"035-234-934","01441","","","","อยุธยา"]
[null,null,null,null,null,null,null,null,null,"2467","TESCO LOTUS EXPRESS","CHAI WAN : UDONTHANI","ไชยวาน, อุดรธานี"," 133/1-3 ม.12 ต.ไชยวาน อ.ไชยวาน จ.อุดรธานี 41290",41290,"042-265193","042-265192 ","01443","","","",""]
[null,null,null,null,null,null,null,null,null,"2469","TESCO LOTUS EXPRESS","PRACHASAMOSORN ROAD : KHON KAEN (NE0144-3SH)","ถนนประชาสโมสร,ขอนแก่น"," 58/246-7 ม.4 ต.ในเมือง อ.เมืองขอนแก่น จ.ขอนแก่น 40000",40000,"043-336073","043-336072 ","01460","","","",""]
[null,null,null,null,null,null,null,null,null,"2471","TESCO LOTUS EXPRESS","SUWANNAPHUM : ROI ET","สุวรรณภูมิ,ร้อยเอ็ด"," 556 ม.2 ต.สระคู อ.สุวรรณภูมิ จ.ร้อยเอ็ด 45130",45130,"043-532092","043-532091","01445","","","",""]
[null,null,null,null,null,null,null,null,null,"2472","TESCO LOTUS EXPRESS","THAM PANNARA: NAKHONSRITAMMARAT",null,null,null,"075-306042","075-306041","01416","","","",""]
[null,null,null,null,null,null,null,null,null,"2474","TESCO LOTUS EXPRESS","TUNGSALIAM : SUKHOTHAI (NT0184-SSH)",null,null,null,"055-626090","055-626088 ","01506","","","",""]
[null,null,null,null,null,null,null,null,null,"2475","TESCO LOTUS EXPRESS","PHETKASEM 63 : BANGKOK","เพชรเกษม 63","เลขที่ 657/1 ตรอก- ซอยเพชรเกษม 63 แขวงหลักสอง เขตบางแค กรุงเทพมหานคร 10160","10160","02-801-6105","02-801-6104","01432","2013-02-08",24,"Standalone","กรุงเทพฯ"]
[null,null,null,null,null,null,null,null,null,"2476","TESCO LOTUS EXPRESS","YAEK THOSSAKAN : BANGKOK","แยกทศกัณฑ์","เลขที่ 612/6 ตรอก-ถนนพุทธมณฑลสาย 2 แขวงบางไผ่ เขตบางแค กรุงเทพมหานคร 10160","10160","02-865-4418","02-865-4416","01433","2012-02-08",24,"Standalone","กรุงเทพฯ"]
[null,null,null,null,null,null,null,null,null,"2477","TESCO LOTUS EXPRESS","NAMPAT : UTTARADIT",null,null,null,"055-481653","055-481735","01451","","","",""]
[null,null,null,null,null,null,null,null,null,"2478","TESCO LOTUS EXPRESS","THACHANG : SURATTHANI",null,null,null,"077-260-052","077-260-050","01458","","","",""]
[null,null,null,null,null,null,null,null,null,"2479","TESCO LOTUS EXPRESS","SI KAO : TRANG (ST0160-3SA)",null,null,null,"075-248-049","075-248-050","01483","","","",""]
[null,null,null,null,null,null,null,null,null,"2480","TESCO LOTUS EXPRESS","CHA MAO : NAKHONSRITAMMARAT (ST0163-3SH)",null,null,null,"075-366-501","075-366-499","01468","","","",""]
[null,null,null,null,null,null,null,null,null,"2481","TESCO LOTUS EXPRESS","BORABUE : MAHASARAKHAM","บรบือ มหาสารคาม"," 467 ม.1 ต.บรบือ อ.บรบือ จ.มหาสารคาม 44130",44130,null,"081-825-5019","00839","","","",""]
[null,null,null,null,null,null,null,null,null,"2482","TESCO LOTUS EXPRESS","THAWUNG : LOP BURI",null,null,null,"032-622-352 ","032-622-351 ","01507","","","",""]
[null,null,null,null,null,null,null,null,null,"2483","TESCO LOTUS EXPRESS","WATCHARAPHOL 2 : BANGKOK (BK0285-XSA)",null,null,null,"02-9940-135","02 -9940-134","01466","","","",""]
[null,null,null,null,null,null,null,null,null,"2484","TESCO LOTUS EXPRESS","TALAD NONGKAE : KHON KAEN","ตลาดหนองแก, ขอนแก่น"," 283 ม.4 ต.โนนสะอาด อ.หนองเรือ จ.ขอนแก่น 40120",40120,"043-296085","043-296402","01452","","","",""]
[null,null,null,null,null,null,null,null,null,"2485","TESCO LOTUS EXPRESS","NON THAI 2 : NAKORNRATCHASIMA",null,null,null,"044-320094","044-320093","01471","","","",""]
[null,null,null,null,null,null,null,null,null,"2486","TESCO LOTUS EXPRESS","CHAIYAPHUM HOSPITAL : CHAIYAPHUM (NE0258-SSA)","โรงพยาบาลชัยภูมิ","เลขที่ 48/6 ถนนบรรณาการ  ตำบลในเมือง  อำเภอเมืองชัยภูมิ จังหวัดชัยภูมิ 36000","36000","044-836442","044-836440","01453","","","","ชัยภูมิ"]
[null,null,null,null,null,null,null,null,null,"2488","TESCO LOTUS EXPRESS","SIRIKASAEM : BANGKOK (BK0180-SSA)","ศิริเกษม","เลขที่ 180/1 ถนนศิริเกษม แขวงบางไผ่ เขตบางแค กรุงเทพมหานคร 10160","10160",null,"02-8070583","01582","2013-08-22",24,"Standalone","กรุงเทพฯ"]
[null,null,null,null,null,null,null,null,null,"2489","TESCO LOTUS EXPRESS","LAMPHUN HOSPITA : LAMPHUN (NT0123-3SH)",null,null,null,"053-534041","053-534040","01446","","","",""]
[null,null,null,null,null,null,null,null,null,"2490","TESCO LOTUS EXPRESS","BAN KHORK : PHETCHABUN",null,null,null,"056-752078","056-752076","01450","","","",""]
[null,null,null,null,null,null,null,null,null,"2491","TESCO LOTUS EXPRESS","BAN TIO : PHETCHABUN",null,null,null,"056-759-066","056-759-065","01454","","","",""]
[null,null,null,null,null,null,null,null,null,"2492","TESCO LOTUS EXPRESS","CHINNALAP VILLAGE : PHITSANULOK (NT0224-3SH)",null,null,null,"055 223 028","055 223 027","01493","","","",""]
[null,null,null,null,null,null,null,null,null,"2493","TESCO LOTUS EXPRESS","NA YANG KLAK : CHAIYAPHUM (NE0306-3SA)","นายางกลัก,ชัยภูมิ","เลขที่ 1227 หมู่ที่1 ตำบลนายางกลัก อำเภอเทพสถิต จังหวัดชัยภูมิ 36230","36230","044-874259","044-874255","01486","","","","ชัยภูมิ"]
[null,null,null,null,null,null,null,null,null,"2494","TESCO LOTUS EXPRESS","AMPHUR SAI-NGAM : KAMPHAENGPHET",null,null,null,"055-737-023","055-737-022","01484","","","",""]
[null,null,null,null,null,null,null,null,null,"2495","TESCO LOTUS EXPRESS","CHUMCHON KLANG WAT PHAN SADET NAI : CHONBURI","ชุมนุมกลางวัดพันเสด็จใน,ชลบุรี","เลขที่ 335/12 หมู่ที่ 7 ตำบลบ่อวิน อำเภอศรีราชา จังหวัดชลบุรี 20230","20230","038-057670","038-057639","01457","2013-02-24",24,"Standalone","ชลบุรี"]
[null,null,null,null,null,null,null,null,null,"2496","TESCO LOTUS EXPRESS","BAN TAEN : CHAIYAPHUM (NE0320-3SA)","บ้านแท่น,ชัยภูมิ"," 426 ม.3 ต.บ้านแท่น อ.บ้านแท่น จ.ชัยภูมิ 36190","36190","044-886-478","044-886-474","01487","","","",""]
[null,null,null,null,null,null,null,null,null,"2498","TESCO LOTUS EXPRESS","KUT KHAO PUN : UBONRATCHATHANI (NE0317-3SA)","กุดข้าวปุ้น,อุบลราชธานี","เลขที่ 338 หมู่ที่ 14 ตำบลข้าวปุ้น อำเภอกุดข้าวปุ้น จังหวัดอุบลราชธานี 34270","34270","045-484204 ","045-484071 ","01500","","","","อุบลราชธานี"]
[null,null,null,null,null,null,null,null,null,"2499","TESCO LOTUS EXPRESS","KOH CHAN : CHONBURI (CE0252-SSA)","เกาะจันทร์","เลขที่ 70/12  หมู่ที่ 1 ตำบลเกาะจันทร์ อำเภอเกาะจันทร์ จังหวัดชลบุรี 20240","20240","038-166285","038-166284","01469","","","","ชลบุรี"]
[null,null,null,null,null,null,null,null,null,"2500","TESCO LOTUS EXPRESS","THA THONG : SURATTHANI (ST0128-SSA)",null,null,null,"077-227-476","077-227-475","01494","","","",""]
[null,null,null,null,null,null,null,null,null,"2501","TESCO LOTUS EXPRESS","KLONG KRUM PLUAK DAENG : RAYONG (CE0298-SSA)","คลองกรำ,ปลวกแดง","เลขที่ 358 หมู่ที่ 1 ตำบลตาสิทธิ์ อำเภอปลวกแดง จังหวัดระยอง 21140","21140","038-950533","038-950531","01481","","","","ระยอง"]
[null,null,null,null,null,null,null,null,null,"2502","TESCO LOTUS EXPRESS","PHUTTHAISONG : BURIRAM (NE0078-SSH)","พุทไธสง, บุรีรัมย์","เลขที่ 395,396,397,398 หมู่ที่ 1 ตำบลพุทไธสง อำเภอพุทไธสง จังหวัดบุรีรัมย์ 31120","31120","044-655542","044-655541 ","01472","","","","บุรีรัมย์"]
[null,null,null,null,null,null,null,null,null,"2503","TESCO LOTUS EXPRESS","NOEN MAPRANG : PHITSANULOK (NT0151-3SH)",null,null,null,"055-399120","055-399121","01465","","","",""]
[null,null,null,null,null,null,null,null,null,"2504","TESCO LOTUS EXPRESS","PHO KLANG : NAKORNRATCHASIMA (NE0304-SSH)","โพธิ์กลาง, นครราชสีมา","เลขที่ 545/1, 545/2, 545/3, 545/4, 545/5 หมู่ที่ 1 ตำบลโพธิ์กลาง อำเภอเมืองนครราชสีมา จังหวัดนครราชสีมา 30000","30000","044-264436","044-264437","01470","","","","นครราชสีมา"]
[null,null,null,null,null,null,null,null,null,"2505","TESCO LOTUS EXPRESS","NONG KAN KRAO : RAYONG (CE0262-3SH)","หนองกันเกรา","เลขที่ 34 หมู่ที่ 2 ตำบลทางเกวียน อำเภอแกลง จังหวัดระยอง 21110","21110","038-886-119","038-886-118","01475","","","","ระยอง"]
[null,null,null,null,null,null,null,null,null,"2506","TESCO LOTUS EXPRESS","TALAD SAENG SANG THONG : KALASIN (NE0293-3SA)","ตลาดแสงสังข์ทอง,กาฬสินธุ์"," 64 ม.12 ต.บัวขาว อ.กุฉินารายณ์ จ.กาฬสินธุ์ 46110",46120,"043-832033","043-832032","01499","","","",""]
[null,null,null,null,null,null,null,null,null,"2507","TESCO LOTUS EXPRESS","CHUMCHON NARESUAN : AYUTTHAYA (BK0272-3SH)","ชุมชนนเรศวร","เลขที่ 59/59 หมู่ที่ 1 ตำบลธนู อำเภออุทัย จังหวัดพระนครศรีอยุธยา 13000","13000","035-229753","035-229752 ","01473","","","","อยุธยา"]
[null,null,null,null,null,null,null,null,null,"2509","TESCO LOTUS EXPRESS","AMPHUR NONG DON : SARABURI (CE0240-3SH)","อำเภอหนองโดน","เลขที่ 104,119 หมู่ที่ 1 ตำบลหนองโดน อำเภอหนองโดน จังหวัดสระบุรี 18190","18190","036-367136","036-367134","01482","","","",""]
[null,null,null,null,null,null,null,null,null,"2510","TESCO LOTUS EXPRESS","CHUMCHON CHAIYANUPHAP : PHITSANULOK (NT0213-3SA)",null,null,null,"055-215064","055-215063","01496","","","",""]
[null,null,null,null,null,null,null,null,null,"2511","TESCO LOTUS EXPRESS","SI YEAK CHO RAKA : CHAIYAPHUM (NE0328-3SH)","สี่แยกช่อระกา, ชัยภูมิ","เลขที่ 237/1 หมู่ที่ 17 ตำบลนาฝาย อำเภอเมืองชัยภูมิ จังหวัดชัยภูมิ 36000","36000","044 - 124-099","044 - 124-098","01478","","","","ชัยภูมิ"]
[null,null,null,null,null,null,null,null,null,"2512","TESCO LOTUS EXPRESS","RAMINTRA SOI 8 : BANGKOK (BK0263-3SH)","รามอินทรา ซอย 8","เลขที่ 10/6,10/7,10/8 หมู่ที่ 2 แขวงอนุสาวรีย์ เขตบางเขน กรุงเทพมหานคร 10220","10220","02 - 971-8062","02 - 971-8061","01495","","","","กรุงเทพ"]
[null,null,null,null,null,null,null,null,null,"2513","TESCO LOTUS EXPRESS","PHIMAI : NAKORNRATCHASIMA (NE0267-3SH)","พิมาย,นครราชสีมา","เลขที่ 409/1,409/2 หมู่ที่2 ตำบลในเมือง อำเภอพิมาย จังหวัดนครราชสีมา 30110","30110","044-285-165","044-285-163","01479","","","","นครราชสีมา"]
[null,null,null,null,null,null,null,null,null,"2514","TESCO LOTUS EXPRESS","TAKUA PA : PHANG NGA (ST0162-SSH)",null,null,null,"076-441105","076-441104","01485","","","",""]
[null,null,null,null,null,null,null,null,null,"2515","TESCO LOTUS EXPRESS","HUAI KHRAI : CHIANG RAI (NT0187-SSH)",null,null,null,"053-632052","053-632050","01477","","","",""]
[null,null,null,null,null,null,null,null,null,"2516","TESCO LOTUS EXPRESS","SANOM : SURIN (NE0318-3SH)","สนม,สุรินทร์","เลขที่ 266,267,268,269 หมู่ที่ 2 ตำบลสนม อำเภอสนม จังหวัดสุรินทร์ 32160","32160","044-589-127","044-589-126 ","01474","","","","สุรินทร์"]
[null,null,null,null,null,null,null,null,null,"2517","TESCO LOTUS EXPRESS","KEAW INN ROAD : NONTHABURI (BK0314-SSA)","ถนนแก้วอินทร์ , นนทบุรี","เลขที่ 1/10 หมู่ที่ 4 ตำบลบางแม่นาง อำเภอบางใหญ่ จังหวัดนนทบุรี 11140","11140","02-1951005","02-1951003","01515","2013-05-23","","","นนทบุรี"]
[null,null,null,null,null,null,null,null,null,"2518","TESCO LOTUS EXPRESS","SIKHIO : NAKORNRATCHASIMA (SA354/UPC)","สีคิ้ว, นครราชสีมา","เลขที่ 88 หมู่ที่ 1 ตำบลสีคิ้ว  อำเภอสีคิ้ว จังหวัดนครราชสีมา 30140","30140","044-290-059","044-290-058","01492","","","","นครราชสีมา"]
[null,null,null,null,null,null,null,null,null,"2519","TESCO LOTUS EXPRESS","BAN PHO : TRANG (ST0170-3SA)",null,null,null,"075-226-094","075-226-092","01489","","","",""]
[null,null,null,null,null,null,null,null,null,"2520","TESCO LOTUS EXPRESS","HUA TAPHAN : AMNATCHAROEN (NE0270-SSA)",null,null,null,"045 -469616","045 -469614  ","01502","","","",""]
[null,null,null,null,null,null,null,null,null,"2521","TESCO LOTUS EXPRESS","THAIMUANG : PHANG NGA (ST0151-SSH)",null,null,null,"076-432088","076-432086","01531","","","",""]
[null,null,null,null,null,null,null,null,null,"2522","TESCO LOTUS EXPRESS","KHAO KITCHAKOOT : CHANTHABURI (CE0276-3SA)","เขาคิชฌกูฏ,จันทบุรี","เลขที่ 42/6 หมู่ที่ 10 ตำบลพลวง อำเภอเขาคิชฎกูฎ จังหวัดจันทบุรี 22210","22210","039-452204","039-452202","01511","","","","จันทบุรี"]
[null,null,null,null,null,null,null,null,null,"2523","TESCO LOTUS EXPRESS","LAD YAI : SAMUTSONGKHRAM (BK0302-3SH)","ลาดใหญ่ สมุทรสงคราม","เลขที่ 12/158 ซอยบางประจัน ถนนเอกชัย ตำบลแม่กลอง อำเภอเมืองสมุทรสงคราม จังหวัดสมุทรสงคราม 75000","75000","034-720622","034-720621 ","01491","2013-04-12","","","สมุทรสงคราม"]
[null,null,null,null,null,null,null,null,null,"2524","TESCO LOTUS EXPRESS","TALAD BANG SA : PHANG NGA (ST0132-3SA)",null,null,null,"076-431126","076-431124","01525","","","",""]
[null,null,null,null,null,null,null,null,null,"2525","TESCO LOTUS EXPRESS","WAENG YAI : KHON KAEN (NE0312-3SA)","แวงใหญ่, ขอนแก่น"," 330 ม.3 ต.แวงใหญ่ อ.แวงใหญ่ จ.ขอนแก่น 40330",40330,"043-496-182","043-496-180","01512","","","",""]
[null,null,null,null,null,null,null,null,null,"2526","TESCO LOTUS EXPRESS","SRI MAHOSOT : PRACHIN BURI","ศรีมโหสถ,ปราจีนบุรี","เลขที่ 223/5 หมุ่ที่ 3 ตำบลโคกปีบ อำเภอศรีมโหสถ จังหวัดปราจีนบุรี 25190","25190","037-276540","037-276538","01509","","","","ปราจีนบุรี"]
[null,null,null,null,null,null,null,null,null,"2527","TESCO LOTUS EXPRESS","BAN SUAN : SUKHOTHAI (NT0221-SSA)",null,null,null,"055-632119","055-632117 ","01516","","","",""]
[null,null,null,null,null,null,null,null,null,"2528","TESCO LOTUS EXPRESS","YEAK CHANG PHUEK : NAN (NT0149-SSA)",null,null,null,"054-750-068","054-750-067","01513","","","",""]
[null,null,null,null,null,null,null,null,null,"2529","TESCO LOTUS EXPRESS","KHAO KAEW : LOP BURI (CE0284-SSA)","เขาแก้ว,ลพบุรี","เลขที่ 23/18 หมู่ที่ 8 ตำบลนิคมสร้างตนเอง อำเภอเมืองลพบุรี จังหวัดลพบุรี 15000","15000","036-652217","036-652216 ","01517","","","","อยุธยา"]
[null,null,null,null,null,null,null,null,null,"2530","TESCO LOTUS EXPRESS","ROM SAI : ANG THONG (CE0299-SSA)","ร่มไทร,อ่างทอง","เลขที่ 39/5 หมุ่ที่ 4 ตำบลศาลาแดง อำเภอเมืองอ่างทอง จังหวัดอ่างทอง  14000","14000","035-626-118","035-626-117","01524","","","","อยุธยา"]
[null,null,null,null,null,null,null,null,null,"2531","TESCO LOTUS EXPRESS","BAN KRA CHOT : NAKORNRATCHASIMA (NE0329-SSA)","บ้านกระฉอด, นครราชสีมา","เลขที่ 84 หมู่ที่ 5 ตำบลตลาด อำเภอเมืองนครราชสีมา จังหวัดนครราชสีมา 30310","30310","044-206-374","044-206-373  ","01526","","","","นครราชสีมา"]
[null,null,null,null,null,null,null,null,null,"2532","TESCO LOTUS EXPRESS","BAN LAO RUEA : ROI ET (NE0342-3SH)","บ้านเหล่าเรือ, ร้อยเอ็ด"," 7/4 ม.16 ต.รอบเมือง อ.เมืองร้อยเอ็ด จ.ร้อยเอ็ด 45000",45000,"043-524-119","043-524-118","01503","","","",""]
[null,null,null,null,null,null,null,null,null,"2533","TESCO LOTUS EXPRESS","SOI MAIYALARP : BANGKOK (BK0292-3SA)","ซอยมัยลาภ 2, กรุงเทพฯ","เลขที่ 127 ซอยประเสริฐมนูกิจ 29 ถนนประเสริฐมนูกิจ แขวงจรเข้บัว เขตลาดพร้าว กรุงเทพมหานคร 10230","10230",null,"02-5530875  ","01590","","","","กรุงเทพ"]
[null,null,null,null,null,null,null,null,null,"2534","TESCO LOTUS EXPRESS","STUEK : BURIRAM (NE0311-SSH)","สตึก บุรีรัมย์","เลขที่ 398/21-23 หมู่ที่ 1 ตำบลนิคม อำเภอสตึก จังหวัดบุรีรัมย์ 31150","31150","044-627488","044-627489","01537","","","","บุรีรัมย์"]
[null,null,null,null,null,null,null,null,null,"2535","TESCO LOTUS EXPRESS","EKACHAI 17 : SAMUT SAKHON (BK0295-SSA)","เอกชัย 17,สมุทรสาคร","เลขที่ 57/56 หมู่ที่ 4 ตำบลโคกขาม อำเภอเมืองสมุทรสาคร จังหวัดสมุทรสาคร 74000","74000","034-837162","034-837161","01518","2013-05-24","","","สมุทรสาคร"]
[null,null,null,null,null,null,null,null,null,"2536","TESCO LOTUS EXPRESS","WANG MAI : SA KAEO (CE0302-SSH)","วังใหม่,สระแก้ว","เลขที่ 966 หมู่ที่ 1 ตำบลวังใหม่ อำเภอวังสมบูรณ์  จังหวัดสระแก้ว 27250","27250","037-517141","037-517143","01497","","","","สระแก้ว"]
[null,null,null,null,null,null,null,null,null,"2537","TESCO LOTUS EXPRESS","KAM NERT PHET : LOEI (NE0348-SSA)",null,null,null,"042-835572","042-835571 ","01528","","","",""]
[null,null,null,null,null,null,null,null,null,"2538","TESCO LOTUS EXPRESS","BUDTHAMONTHON SAI 1 : BNAGKOK (BK0321-3SH)","พุทธมณฑล สาย 1","เลขที่ 11,13,15 ถนนพุทธมณฑล สาย 1 แขวงบางด้วน เขตภาษีเจริญ กรุงเทพมหานคร 10160","10160","02- 805-0252","02- 805-0251","01498","2013-04-28",24,"3-Shophouse","กรุงเทพฯ"]
[null,null,null,null,null,null,null,null,null,"2539","TESCO LOTUS EXPRESS","VIPHAWADEE 16/22 : BANGKOK (BK0320-3SA)","วิภาวดี 16/22","เลขที่ 138 ซอยวิภาวดีรังสิต 16 แขวงดินแดง เขตดินแดง กรุงเทพมหานคร 10400","10400","02-6914591","02-6914593 ","01541","","","","กรุงเทพ"]
[null,null,null,null,null,null,null,null,null,"2540","TESCO LOTUS EXPRESS","BANG SAO THONG KLANG : SAMUTPRAKAN (BK0331-3SA)","บางเสาธงกลาง ,สมุทรปราการ","เลขที่ 99/90 หมู่ที่ 3 ตำบลบางเสาธง อำเภอบางเสาธง จังหวัดสมุทรปราการ 10540","10540","02-181-7142","02-181-7140","01521","2013-05-26",24,"3-Standalone","สมุทรปราการ"]
[null,null,null,null,null,null,null,null,null,"2541","TESCO LOTUS EXPRESS","TALAD BAN CHIANG MAI : ROI ET (NE0285-3SH)","ตลาดบ้านเชียงใหม่, ร้อยเอ็ด"," 296/1-4 ม.8 ต.เชียงใหม่ อ.โพธิ์ชัย จ.ร้อยเอ็ด 45140",45140,"043-625052","043-625044 ","01505","","","",""]
[null,null,null,null,null,null,null,null,null,"2542","TESCO LOTUS EXPRESS","MOOBAN LADDAROM RATCHAPRUK : NONTHABURI (BK0305-SSA)","หมู่บ้านลัดดารมย์ ราชพฤกษ์","เลขที่ 6/5 หมู่ที่ 5 ตำบลบางรักน้อย อำเภอเมืองนนทบุรี จังหวัดนนทบุรี 11000","11000","02-9221638","02-9221637","01522","2013-05-26","","","นนทบุรี"]
[null,null,null,null,null,null,null,null,null,"2543","TESCO LOTUS EXPRESS","THANON SAM WA : BANGKOK (BK0327-3SA)","ถนนสามวา ","เลขที่ 3/4 ถนนสามวา แขวงมีนบุรี เขตมีนบุรี กรุงเทพมหานคร 10510","10510","02-918-5027","02-918-5027","01529","","","","กรุงเทพ"]
[null,null,null,null,null,null,null,null,null,"2544","TESCO LOTUS EXPRESS","PA WAI : LOP BURI (CE0317-3SH)","ป่าหวาย,ลพบุรี","เลขที่ 1/18,1/19 หมู่ที่ 3 ตำบลป่าตาล อำเภอเมืองลพบุรี จังหวัดลพบุรี 15000","15000","036-613-612","036-613-610","01504","","","","อยุธยา"]
[null,null,null,null,null,null,null,null,null,"2545","TESCO LOTUS EXPRESS","ON NUT 44 : BANGKOK (BK0287-SSA)","อ่อนนุช 44,กรุงเทพฯ","เลขที่ 1781 ซอยวชิรธรรมสาธิต 57 แขวงบางจาก เขตพระโขนง กรุงเทพมหานคร 10260","10260","02-741-0173","02-741-0171","01553","","","","กรุงเทพ"]
[null,null,null,null,null,null,null,null,null,"2546","TESCO LOTUS EXPRESS","SANGKHA SANTISUK : BANGKOK (BK0306-3SA)","สังฆสันติสุข, กรุงเทพฯ","เลขที่ 19/10 หมู่ที่ 5 แขวงกระทุ่มราย เขตหนองจอก กรุงเทพมหานคร 10530","10530","02-988-3818","02-988-3816 ","01527","","","",""]
[null,null,null,null,null,null,null,null,null,"2547","TESCO LOTUS EXPRESS","NA MUANG PET : TRANG (ST0165-SSA)",null,null,null,"075-278001","075-278000 ","01530","","","",""]
[null,null,null,null,null,null,null,null,null,"2548","TESCO LOTUS EXPRESS","THALE CHUP SON : Lop Buri(CE0318-SSA)","ทะเลชุบศร,ลพบุรี","เลขที่ 92 ถนนพหลโยธิน (ช.14) ตำบลเขาสามยอด อำเภอเมืองลพบุรี  จังหวัดลพบุรี 15000","15000","036-627-823","036-627-822","01535","","","","อยุธยา"]
[null,null,null,null,null,null,null,null,null,"2549","TESCO LOTUS EXPRESS","NA PHO : BURIRAM (NE0278-3SA)","นาโพธิ์ ,บุรีรัมย์","เลขที่ 292 หมู่ที่ 14 ตำบลนาโพธ์ อำเภอนาโพธิ์ จังหวัดบุรีรัมย์ 31230","31230","044-629199","044-629200  ","01510","","","","บุรีรัมย์"]
[null,null,null,null,null,null,null,null,null,"2550","TESCO LOTUS EXPRESS","NIKHOM PINTHONG : CHONBURI (CE0301-3SA)","นิคมปิ่นทอง,ชลบุรี","เลขที่ 21/49 หมู่ที่ 10 ตำบลหนองขาม อำเภอศรีราชา จังหวัดชลบุรี 20230","20230","038-296-187","038-296-186","01519","2013-05-25",24,"3-Standalone","ชลบุรี"]
[null,null,null,null,null,null,null,null,null,"2551","TESCO LOTUS EXPRESS","ROM SAI : BANGKOK (BK0309-SSA)","ร่มไทร","เลขที่ 5/1 ซอยกาญจนาภิเษก 003 แขวงบางบอน เขตบางบอน กรุงเทพมหานคร 10150","10150","02-415-3502 ","02-415-3500 ","01536","2013-06-18",24,"Standalone","กรุงเทพฯ"]
[null,null,null,null,null,null,null,null,null,"2552","TESCO LOTUS EXPRESS","SI YAEK NONG YAI : BANGKOK (BK0273-SSA)","สี่แยกหนองใหญ่","เลขที่ 787/1 ถนนบางแค แขวงบางแค เขตบางแค กรุงเทพมหานคร 10160","10160","02-802-3689","02-802-3688","01538","2013-06-23",24,"Standalone","กรุงเทพฯ"]
[null,null,null,null,null,null,null,null,null,"2553","TESCO LOTUS EXPRESS","NON SUWAN : BURIRAM (NE0335-3SA)","โนนสุวรรณ ,บุรีรัมย์","เลขที่ 295 หมู่ที่1 ตำบลโกรกแก้ว อำเภอโนนสุวรรณ จังหวัดบุรีรัมย์ 31110","31110","044-666024","044-666023","01548","","","","บุรีรัมย์"]
[null,null,null,null,null,null,null,null,null,"2554","TESCO LOTUS EXPRESS","PAK SOI SUPHAN PLUAK DEANG: RAYONG (CE0324-SSA)","ปากซอยสุพรรณ,ปลวกแดง","เลขที่ 65 หมู่ที่ 4 ตำบลปลวกแดง อำเภอปลวกแดง จังหวัดระยอง 21140","21140","038-891072","038-891071","01545","","","","ระยอง"]
[null,null,null,null,null,null,null,null,null,"2555","TESCO LOTUS EXPRESS","YU WITTAYA : BANGKOK (BK0259-3SA)","อยู่วิทยา","เลขที่ 242 ถนนอยู่วิทยา แขวงกระทุ่มราย เขตหนองจอก กรุงเทพมหานคร 10530","10530","02-9887905","02-9887904","01542","","","","กรุงเทพ"]
[null,null,null,null,null,null,null,null,null,"2556","TESCO LOTUS EXPRESS","LADPRAOW 64 : BANGKOK (BK0326-SSA)","ลาดพร้าว 64","เลขทื่ 72 ซอยลาดพร้าว64 (เกตุนุติ) แขวงวังทองหลาง เขตวังทองหลาง กรุงเทพมหานคร 10310","10310","02-933-6148","02-933-6147","01554","","","","กรุงเทพ"]
[null,null,null,null,null,null,null,null,null,"2557","TESCO LOTUS EXPRESS","NARESUAN UNIVERSITY PRA-TU 6 : PHITSANULOK (NT0207-SSH)",null,null,null,"055-226012","055-226010  ","01514","","","",""]
[null,null,null,null,null,null,null,null,null,"2558","TESCO LOTUS EXPRESS","SOI U-YEN : BANGKOK (BK0268-3SH)","ซอยอยู่เย็น,กรุงเทพฯ","เลขที่ 55/7,55/8,55/9 ซอยรามอินทรา 34 แยก 22 แขวงท่าแร้ง เขตบางเขน กรุงเทพมหานคร 10230","10230","02-943-7648","02-943-7647","01544","","","","กรุงเทพ"]
[null,null,null,null,null,null,null,null,null,"2559","TESCO LOTUS EXPRESS","SRINAKARIN : PHATTHALUNG (ST0174-3SA)",null,null,null,"074-605-678","074-605-677","01523","","","",""]
[null,null,null,null,null,null,null,null,null,"2560","TESCO LOTUS EXPRESS","RONG KHAM : KALASIN (NE0282-3SH)","สตึก บุรีรัมย์","TESCO LOTUS EXPRESS - PHICHAI : UTTARADIT (NT0363-XSA)",46120,"043-897-392","043-897-391","01520","","","",""]
[null,null,null,null,null,null,null,null,null,"2561","TESCO LOTUS EXPRESS","CHALERM PHRAKIAT 72 : BANGKOK (BK0307-3SA)","เฉลิมพระเกียรติ 72,กรุงเทพฯ","เลขที่ 72/1 ถนนเฉลิมพระเกียรติ ร.๙ แขวงประเวศ เขตประเวศ กรุงเทพมหานคร 10250","10250",null,"081-867-6508","01563","","","","กรุงเทพ"]
[null,null,null,null,null,null,null,null,null,"2562","TESCO LOTUS EXPRESS","CHALERM PHRAKIAT 48 : BANGKOK (BK0323-3SA)","เฉลิมพระเกียรติ 48,กรุงเทพฯ","เลขที่ 56/1  ถนนเฉลิมพระเกียรติ ร.๙ แขวงดอกไม้ เขตประเวศ กรุงเทพมหานคร 10250","10250","02-726-5909","02-726-5909","01568","","","","กรุงเทพ"]
[null,null,null,null,null,null,null,null,null,"2563","TESCO LOTUS EXPRESS","CHAK PHRU ROAD : BANGKOK (BK0304-3SH)","ถนนชักพระ ","เลขที่ 194,196,198 ถนนชัยพฤกษ์ แขวงตลิ่งชั่น เขตตลิ่งชั่น กรุงเทพมหานคร 10170","10170","02-8813047","02-8813045","01539","2013-06-19",24,"3-Shophouse","กรุงเทพฯ"]
[null,null,null,null,null,null,null,null,null,"2564","TESCO LOTUS EXPRESS","MOO BAN RUENSUK 2 : PATTHUMTHANI (BK0343-3SA)","หมู่บ้านเรือนสุข2","เลขที่ 67/10 หมู่ที่ 3 ตำบลลำผักกูด อำเภอธัญบุรี จังหวัดปทุมธานี 12110","12110","02-905-2708","02-905-2706 ","01546","","","",""]
[null,null,null,null,null,null,null,null,null,"2565","TESCO LOTUS EXPRESS","TALAD BAN NAPHO : NAKHONPHANOM (NE0332-3SA)",null,null,null,"042-051517","042-051516","01552","","","",""]
[null,null,null,null,null,null,null,null,null,"2566","TESCO LOTUS EXPRESS","TALAD NONG BU : UDONTHANI (NE0371-3SA)","ตลาดหนองบุ, อุดรธานี"," 118 ม.14 ต.สามพร้าว อ.เมืองอุดรธานี จ.อุดรธานี 41000",41000,"042-204-291","042-204-289","01555","","","",""]
[null,null,null,null,null,null,null,null,null,"2567","TESCO LOTUS EXPRESS","SAM YAEK NA LAK : LOEI (NE0359-3SH)",null,null,null,"042-850613","042-850612","01532","","","",""]
[null,null,null,null,null,null,null,null,null,"2568","TESCO LOTUS EXPRESS","BOR YANG : CHONBURI (CE0322-SSA)","บ่อยาง,ชลบุรี","เลขที่ 183/69 หมู่ที่ 11 ตำบลหนองขาม อำเภอศรีราชา จังหวัดชลบุรี 20230","20230","038-763-608","038-763-607","01560","2013-07-12",24,"Shophouse","ชลบุรี"]
[null,null,null,null,null,null,null,null,null,"2569","TESCO LOTUS EXPRESS","BAN LAT YAI : CHAIYAPHUM (NE0239-3SH)","บ้านลาดใหญ่, ชัยภูมิ","เลขที่ 255/1, 255/2,255/3,255/4 หมู่ที่ 3 ตำบลลาดใหญ่ อำเภอเมืองชัยภูมิ จังหวัดชัยภูมิ 36000","36000","044-801-031","044-801-030 ","01540","","","","ชัยภูมิ"]
[null,null,null,null,null,null,null,null,null,"2570","TESCO LOTUS EXPRESS","NONG RA WIANG : NAKORNRATCHASIMA (NE0319-SSH)","หนองระเวียง, นครราชสีมา","เลขที่ 246 หมู่ที่ 6 ตำบลหนองระเวียง อำเภอเมืองนครราชสีมา จังหวัดนครราชสีมา 30000","30000","044-327-088","044-327-086","01533","","","","นครราชสีมา"]
[null,null,null,null,null,null,null,null,null,"2571","TESCO LOTUS EXPRESS","SAWANG AROM : UTHAI THANI (CE0343-SSA)",null,null,null,"056-544081","056-544080","01562","","","",""]
[null,null,null,null,null,null,null,null,null,"2572","TESCO LOTUS EXPRESS","AMNAT CHAROEN HOSPITAL : BURIRAM (NE0350-3SH)",null,null,null,"045-270453","045-270451       ","01549","","","",""]
[null,null,null,null,null,null,null,null,null,"2573","TESCO LOTUS EXPRESS","TALAD YEN WANG NUM YEN : SAKAEO (CE0305-SSH)","ตลาดเย็นวังน้ำเย็น,สระแก้ว","เลขที่ 649,649/1,649/2 หมู่ที่ 1 ตำบลวังน้ำเย็น อำเภอวังน้ำเย็น จังหวัดสระแก้ว 27210","27210",null,"037-228-138","01550","","","","สระแก้ว"]
[null,null,null,null,null,null,null,null,null,"2574","TESCO LOTUS EXPRESS","NA DUANG : LOEI (NE0322-SSH)",null,null,null,"042-887-528","042-887-526","01543","","","",""]
[null,null,null,null,null,null,null,null,null,"2576","TESCO LOTUS EXPRESS","THANON SIRIRAK : CHON BURI (CE0311-SSH)","ถนนศิริรักษ์,ชลบุรี","เลขที่ 85,85/121,85/122,85/123 หมู่ที่ 11 ตำบลนาป่า อำเภอเมืองชลบุรี จังหวัดชลบุรี 20000","20000","038-786805","038-786804","01547","","","","ชลบุรี"]
[null,null,null,null,null,null,null,null,null,"2577","TESCO LOTUS EXPRESS","NONG KHOEN : CHON BURI (CE0333-SSA)","หนองเขิน,ชลบุรี","เลขที่ 229/4 หมู่ที่ 4  ตำบลหนองชาก  อำเภอบ้านบึง  จังหวัดชลบุรี  20170","20170","038-297338","038-297337 ","01534","","","","ชลบุรี"]
[null,null,null,null,null,null,null,null,null,"2578","TESCO LOTUS EXPRESS","NGAMWONGWAN SOI 25 : NONTHABURI (BK0357-SSA)","งามวงศ์วาน ซอย25","เลขที่ 398/1 หมู่ที่ 2 ตำบลบางเขน อำเภอเมืองนนทบุรี จังหวัดนนทบุรี 11000","11000","02-952-5403","02-952-5403","01564","","","","กรุงเทพ"]
[null,null,null,null,null,null,null,null,null,"2579","TESCO LOTUS EXPRESS","PRAKHON CHAI : BURIRAM (NE0374-SSA)","ประโคนชัย, บุรีรัมย์","เลขที่ 342 หมู่ที่ 6 ตำบลประโคนชัย อำเภอประโคนชัย จังหวัดบุรีรัมย์ 31140","31140","044-651171","044-651173","01571","","","","บุรีรัมย์"]
[null,null,null,null,null,null,null,null,null,"2580","TESCO LOTUS EXPRESS","MOO BANN AMORNCHAI 5 : SAMUT SAKHON (BK0097-3SH)","หมู่บ้านอมรชัย 5","เลขที่ 99/501,99/502 หมู่ที่ 1 ตำบลบางน้ำจืด อำเภอเมืองสมุทรสาคร จังหวัดสมุทรสาคร 74000","74000","034-813935","034-813935","01565","2013-07-28",24,"3-Shophouse","สมุทรสาคร"]
[null,null,null,null,null,null,null,null,null,"2582","TESCO LOTUS EXPRESS","TALAD YEN : LOEI (NE0256-SSA)",null,null,null,null,"042-832157","01579","","","",""]
[null,null,null,null,null,null,null,null,null,"2583","TESCO LOTUS EXPRESS","BANG KHANMARK : LOPBURI (CE0344-SSA)","พรหมมาสตร์,ลพบุรี","เลขที่ 129 หมู่ที่ 6 ตำบลพรหมมาสตร์ อำเภอเมืองลพบุรี จังหวัดลพบุรี 15000","15000","036-618-192","036-618-190","01581","","","","อยุธยา"]
[null,null,null,null,null,null,null,null,null,"2584","TESCO LOTUS EXPRESS","TALAD TALAD THORUNG WARIN : UBONRATCHATHANI (NE0249-SSH)","ตลาดโต้รุ่งวาริน","เลขที่ 73 ถนนวาริน-พิบูลฯ ตำบลวารินชำราบ อำเภอวารินชำราบ จังหวัดอุบลราชธานี 34190","34190","045-266932","045-266931  ","01551","","","","อุบลราชธานี"]
[null,null,null,null,null,null,null,null,null,"2585","TESCO LOTUS EXPRESS","SAI KHAO : LOEI (NE0344-3SA)",null,null,null,null,"081-903-0238","01573","","","",""]
[null,null,null,null,null,null,null,null,null,"2586","TESCO LOTUS EXPRESS","KANTHARAROM : SI SA KET (NE0354-3SA)","กันทรารมย์, ศรีสะเกษ","เลขที่ 64/15 หมู่ที่ 5 แขวงดูน อำเภอกันทรารมย์ จังหวัดศรีสะเกษ 33130","33130","045-636-118","045-636-116","01567","","","","อุบลราชธานี"]
[null,null,null,null,null,null,null,null,null,"2587","TESCO LOTUS EXPRESS","BANG CHAK : ANG THONG (CE0349-3SA)","บางจัก,อ่างทอง","เลขที่ 39/15 หมู่ที่ 4 ตำบลบางจัก อำเภอวิเศษชัยชาญ จังหวัดอ่างทอง 14110","14110","035-642452","035-642451","01561","","","","อยุธยา"]
[null,null,null,null,null,null,null,null,null,"2588","TESCO LOTUS EXPRESS","KING KAEO 41/1 : SAMUT PRAKAN (BK0297-SSH)","กิ่งแก้ว 41/1","เลขที่ 131,131/1,131/2,131/3 หมู่ที่ 14 ตำบลราชาเทวะ อำเภอบางพลี จังหวัดสมุทรปราการ 10540","10540","02-7384013","02-7384013","01566","2013-07-21",24,"Shophouse","สมุทรปราการ"]
[null,null,null,null,null,null,null,null,null,"2589","TESCO LOTUS EXPRESS","THAMAKHAM : KANCHANABURI (CE0346-SSA)","ท่ามะขาม,กาญจนบุรี","เลขที่ 152/1 หมู่ที่ 5 ตำบลท่ามะขาม อำเภอเมืองกาญจนบุรี จังหวัดกาญจนบุรี 71000","71000",null,"034-624227","01578","2013-08-17","","","กาญจนบุรี"]
[null,null,null,null,null,null,null,null,null,"2590","TESCO LOTUS EXPRESS","SUCHAI ROAD : SAMUTSAKHON (BK0348-3SA)","ถนนสุชัย","เลขที่ 79/29 หมู่ที่ 6 ตำบลท่าทราย อำเภอเมืองสมุทรสาคร จังหวัดสมุทรสาคร 74000","74000",null,"092-251-6287","01583","","","",""]
[null,null,null,null,null,null,null,null,null,"2591","TESCO LOTUS EXPRESS","THANON KHU KLONG SIP : BANGKOK (BK0363-3SA)","ถนนคู้คลองสิบ ","เลขที่ 40/19 หมู่ที่ 8 แขวงคู้ฝั่งเหนือ เขตหนองจอก กรุงเทพมหานคร 10530","10530",null,"092-251-6315","01586","","","",""]
[null,null,null,null,null,null,null,null,null,"2592","TESCO LOTUS EXPRESS","BAAN EUA-ARTHORN SOI KANTANA : NONTHABURI (BK0355-3SA)","บ้านเอื้ออาทร ซอยกันตนา","เลขที่ 50/2 หมู่ที่ 1 ตำบลบางใหญ่ อำเภอบางใหญ่ จังหวัดนนทบุรี 11140","11140",null,"02-459-4058","01584","2013-08-23","","","นนทบุรี"]
[null,null,null,null,null,null,null,null,null,"2597","TESCO LOTUS EXPRESS","BAN NA NONG THUMM : CHAIYAPHUM (NE0363-3SA)","บ้านนาหนองทุ่ม, ชัยภูมิ"," 485 ม.14 ต.นาหนองทุ่ม อ.แก้งคร้อ จ.ชัยภูมิ 36150","36150",null,"044-883156","01676","","","",""]
[null,null,null,null,null,null,null,null,null,"2598","TESCO LOTUS EXPRESS","PRAPUTHA CHAI : SARABURI (CE0336-SSA)","พระพุทธฉาย,สระบุรี","เลขที่ 65/8 หมู่ที่ 3 ตำบลหนองปลาไหล อำเภอเมืองสระบุรี จังหวัดสระบุรี 18000","18000",null,"081-987-1049","01595","","","","อยุธยา"]
[null,null,null,null,null,null,null,null,null,"2599","TESCO LOTUS EXPRESS","TAMBOL KHOK SI : KALASIN (NE0325-3SA)","ตำบลโคกศรี  กาฬสินธุ์"," 219 ม.7 ต.อุ่มเม่า อ.ยางตลาด จ.กาฬสินธุ์ 46120",46120,"043-835-093","043-835-091","01574","","","",""]
[null,null,null,null,null,null,null,null,null,"2600","TESCO LOTUS EXPRESS","WANON NIWAT : SAKON NAKHON (NE0316-3SH)",null,null,null,"042-791279","042-791279","01572","","","",""]
[null,null,null,null,null,null,null,null,null,"2601","TESCO LOTUS EXPRESS","CHUMCHON BOON WATTANA : NAKORNRATCHASIMA (NE0375-3SA)","ชุมชนบุญวัฒนา นครราชสีมา","เลขที่ 1710 หมู่ที่ 1 ตำบลหัวทะเล อำเภอเมืองนครราชสีมา จังหวัดนครราชสีมา 30000","30000",null,"081-9672733 ","01592","","","","นครราชสีมา"]
[null,null,null,null,null,null,null,null,null,"2602","TESCO LOTUS EXPRESS","AMPHUR BAN LUEAM : NAKORNRATCHASIMA (NE0381-3SA)",null,null,null,null,"044-387025","01594","","","",""]
[null,null,null,null,null,null,null,null,null,"2603","TESCO LOTUS EXPRESS","NONGHONG : BURIRAM (NE0374-3SA)","หนองหงส์, บุรีรัมย์","เลขที่ 176 หมู่ที่ 14 ตำบลสระแก้ว อำเภอหนองหงส์ จังหวัดบุรีรัมย์ 31240","31240",null,"092-251-6316","01596","","","","บุรีรัมย์"]
[null,null,null,null,null,null,null,null,null,"2604","TESCO LOTUS EXPRESS","TALAD NONG PAEN : KALASIN (NE0338-3SA)","ตลาดหนองแปน กาฬสินธุ์"," 170 ม.3 ต.หนองแปน อ.กมลาไสย จ.กาฬสินธุ์ 46130",46130,"043-584-019","043-584-019","01576","","","",""]
[null,null,null,null,null,null,null,null,null,"2605","TESCO LOTUS EXPRESS","NONG KHANG KHOK : CHONBURI (CE0280-SSA)","หนองข้างคอก,ชลบุรี","เลขที่ 52/50 หมู่ที่ 4 ตำบลหนองข้างคอก อำเภอเมืองชลบุรี จังหวัดชลบุรี 20000","20000",null,"038-799044","01580","","","","ชลบุรี"]
[null,null,null,null,null,null,null,null,null,"2606","TESCO LOTUS EXPRESS","PA CHA CHIN : NAKORNRATCHASIMA (NE0319-SSH)","ป่าช้าจีน, นครราชสีมา","เลขที่ 980 หมู่ที่ 4 ตำบลหัวทะเล อำเภอเมืองนครราชสีมา จังหวัดนครราชสีมา 30000","30000",null,"044-327083","01591","","","","นครราชสีมา"]
[null,null,null,null,null,null,null,null,null,"2607","TESCO LOTUS EXPRESS","NAH SOON RATCHAKARN : SAKON NAKHON (NE0305-SSH)",null,null,null,"042-732063","042-732063","01570","","","",""]
[null,null,null,null,null,null,null,null,null,"2609","TESCO LOTUS EXPRESS","KUD BAK : SAKON NAKHON (NE0395-3SA)",null,null,null,null,"042-784-171","01587","","","",""]
[null,null,null,null,null,null,null,null,null,"2610","TESCO LOTUS EXPRESS","NA WANG : NONG BUA LUMPHU (NE0245-3SH)","นาวัง หนองบัวลำภู"," 165/1 ม.1 ต.นาเหล่า อ.นาวัง จ.หนองบัวลำภู 39170",39170,null,"092-251-6326","01575","","","",""]
[null,null,null,null,null,null,null,null,null,"2611","TESCO LOTUS EXPRESS","NA WA : NAKHONPHANOM (NE0366-3SH)",null,null,null,null,"092-2516251","01593","","","",""]
[null,null,null,null,null,null,null,null,null,"2614","TESCO LOTUS EXPRESS","CHUMCHON THAT DUM1 : SAKONNAKHON (NE0343-3SH)",null,null,null,null,"042-732-072","01597","","","",""]
[null,null,null,null,null,null,null,null,null,"2616","TESCO LOTUS EXPRESS","CHUMCHIN MITLAPHAB RUAM JAI : NAKORNRATCHASIMA (NE0362-3SH)",null,null,null,null,"092-251-6320","01598","","","",""]
[null,null,null,null,null,null,null,null,null,"2621","TESCO LOTUS EXPRESS","NIMITMAI 32 : BANGKOK (3SA)(TLB) (BK0349-3SA)","นิมิตรใหม่ 32","เลขที่ 116 ถนนนิมิตใหม่ แขวงสามวาตะวันออก เขตคลองสามวา กรุงเทพมหานคร 10510","10510",null,"02-915-6161","01699","","","","กรุงเทพ"]
[null,null,null,null,null,null,null,null,null,"2627","TESCO LOTUS EXPRESS","SAO PHAO : NAKHON SRI THAMMARAT (ST0186-SSH)",null,null,null,null,"075-367-300","01615","","","",""]
[null,null,null,null,null,null,null,null,null,"2628","TESCO LOTUS EXPRESS","TALAD CHAIYAPORN : NONG KHAI (NE0264-3SH)",null,null,null,null,"092-274-6100","01654","","","",""]
[null,null,null,null,null,null,null,null,null,"2629","TESCO LOTUS EXPRESS","TALAD TESSABAN : RANONG (ST0192-SSH)",null,null,null,null,"077-832-067","01632","","","",""]
[null,null,null,null,null,null,null,null,null,"2630","TESCO LOTUS EXPRESS","WAT NAI RAI : RAYONG (CE0378-3SA)",null,null,null,null,"038-651-246","01612","","","",""]
[null,null,null,null,null,null,null,null,null,"2631","TESCO LOTUS EXPRESS","LADPHRAO 80 SOI CHANTIMA : BANGKOK (BK0348-3SA)","ลาดพร้าว 80 (ซอยจันทิมา)","เลขที่ 123 ซอยลาดพร้าว80(จันทิมา) แขวงวังทองหลาง เขตวังทองหลาง กรุงเทพมหานคร 10310","10310",null,"092-274-6229","01623","","","","กรุงเทพ"]
[null,null,null,null,null,null,null,null,null,"2632","TESCO LOTUS EXPRESS","TESSABAN PLAI BANG : NONTHABURI (BK0375-SSA)","ตลาดปลายบาง,นนทบุรี","เลขที่ 84/5 หมู่ที่ 2 ตำบลบางคูเวียง อำเภอบางกรวย จังหวัดนนทบุรี 11130","11130",null,"02-985-1596","01611","2013-11-29","","","นนทบุรี"]
[null,null,null,null,null,null,null,null,null,"2633","TESCO LOTUS EXPRESS","BAN KHAI MUEN PHAEW : CHAIYAPHUM (NE0367-SSA)","บ้านค่ายหมื่นแผ้ว, ชัยภูมิ","เลขที่ 993 หมู่ที่ 1 ตำบลบ้านค่าย อำเภอเมืองชัยภูมิ จังหวัดชัยภูมิ 36240","36240",null,"044-800030","01638","","","","ชัยภูมิ"]
[null,null,null,null,null,null,null,null,null,"2634","TESCO LOTUS EXPRESS","PETKASEM 58 : BANGKOK (BK0414-3SA)","เพชรเกษม 58","เลขที่ 215/2 ซอยเพชรเกษม 54 แขวงบางด้วน เขตภาษีเจริญ กรุงเทพมหานคร 10160","10160",null,null,"01617","2013-11-30",24,"3-Standalone","กรุงเทพฯ"]
[null,null,null,null,null,null,null,null,null,"2635","TESCO LOTUS EXPRESS","MOOBAN KASEMSOOK : PATHUM THANI (BK0364-SSA)","หมู่บ้านเกษมสุข (ลำลูกกา คลอง7)","เลขที่ 18/12 หมู่ที่ 2 ตำบลบึงคำพร้อย อำเภอลำลูกกา จังหวัดปทุมธานี 12150","12150",null,"02-904-2396","01610","","","","ปทุมธานี"]
[null,null,null,null,null,null,null,null,null,"2636","TESCO LOTUS EXPRESS","SUANPAK SOI 1: BANGKOK (BK0288-SSA)","สวนผัก ซอย1","เลขที่ 108 ถนนสวนผัก แขวงตลิ่งชัน เขตตลิ่งชัน กรุงเทพมหานคร 10170","10170",null,"02-882-0080 ","01613","2013-11-29",24,"Standalone","กรุงเทพฯ"]
[null,null,null,null,null,null,null,null,null,"2637","TESCO LOTUS EXPRESS","THAP KRIT : NAKHON SAWAN (CE0339-ESA)",null,null,null,null,"056-368005","01648","","","",""]
[null,null,null,null,null,null,null,null,null,"2638","TESCO LOTUS EXPRESS","BAN KOK2 : KHON KAEN OPT2 (NE0396-3SA)","บ้านกอก 2, ขอนแก่น"," 199/205 ม.17 ต.ในเมือง อ.เมืองขอนแก่น จ.ขอนแก่น 40000",40000,null,"092-274-6230","01624","","","",""]
[null,null,null,null,null,null,null,null,null,"2639","TESCO LOTUS EXPRESS","YAK NAM KRA JAI : SONGKHLA (ST0201-3SA)",null,null,null,null,"074-447272","01700","","","",""]
[null,null,null,null,null,null,null,null,null,"2640","TESCO LOTUS EXPRESS","MHON MAI : PRACHUAP KHIRI KHAN (CE0377-SSA)",null,null,null,null,"032 -575063","01614","","","",""]
[null,null,null,null,null,null,null,null,null,"2641","TESCO LOTUS EXPRESS","THA LI : LOEI (NE0299-3SA)",null,null,null,null,"092-274-6240","01629","","","",""]
[null,null,null,null,null,null,null,null,null,"2642","TESCO LOTUS EXPRESS","PRANG KU : SI SA KET (NE0198-SSA)","ปรางค์กู่, ศรีสะเกษ","เลขที่ 155 หมู่ที่ 1 ตำบลพิมาย อำเภอปรางค์กู่ จังหวัดศรีสะเกษ 33170","33170",null,null,"01688","","","","ศรีสะเกษ"]
[null,null,null,null,null,null,null,null,null,"2643","TESCO LOTUS EXPRESS","RAM DECHO : LOP BURI (CE0315-SSA)","รามเดโช, ลพบุรี","เลขที่ 162 ถนนรามเดโช ตำบลทะเลชุบศร อำเภอเมืองลพบุรี จังหวัดลพบุรี 15000","15000",null,null,"01627","","","","อยุธยา"]
[null,null,null,null,null,null,null,null,null,"2644","TESCO LOTUS EXPRESS","SI THAT : UDON THANI (NE0246-SSH)","ศรีธาตุ, อุดรธานี"," 133/1 ม.1 ต.ศรีธาตุ อ.ศรีธาตุ จ.อุดรธานี 41230",41230,null,null,"01633","","","",""]
[null,null,null,null,null,null,null,null,null,"2645","TESCO LOTUS EXPRESS","SERD NOI ROAD : CHON BURI (CE0370-3SA)","ถนนเชิดน้อย, ชลบุรี","เลขที่ 51/21 ถนนเชิดน้อย ตำบลบ้านบึง อำเภอบ้านบึง จังหวัดชลบุรี 20170","20170",null,null,"01628","","","","ชลบุรี"]
[null,null,null,null,null,null,null,null,null,"2646","TESCO LOTUS EXPRESS","PRAYAMONTRAD : BANGKOK (BK0367-3SA)","พระยามนธาตุ","เลขที่ 133/1 ซอยพระยามนธาตุราชศรีพิจิตร์ แขวงบางบอน เขตบางบอน กรุงเทพมหานคร 10150","10150",null,"02-899-8050","01621","2013-12-01",24,"3-Standalone","กรุงเทพฯ"]
[null,null,null,null,null,null,null,null,null,"2647","TESCO LOTUS EXPRESS","DON KAN : PHETCHABURI (CE0278-3SA)",null,null,null,null,"032-412199 ","01679","","","",""]
[null,null,null,null,null,null,null,null,null,"2648","TESCO LOTUS EXPRESS","MAKHAM KOO SOI 8 : RAYONG (CE0380-SSA)","มะขามคู่ ซอย 8, ระยอง","เลขที่ 545/16 หมู่ที่ 2 ตำบลพนานิคม อำเภอนิคมพัฒนา จังหวัดระยอง 21180","21180",null,"038-877-030","01619","","","","ระยอง"]
[null,null,null,null,null,null,null,null,null,"2649","TESCO LOTUS EXPRESS","PHO THONG : LOPBURI (CE0364-3SH)",null,null,null,null,"036-790-449","01658","","","",""]
[null,null,null,null,null,null,null,null,null,"2650","TESCO LOTUS EXPRESS","BAN LUEAM : UDON THANI OPT3 (NE0408-3SA)","บ้านเลื่อม, อุดรธานี"," 397/1 ม.1 ต.บ้านเลือม อ.เมืองอุดรธานี จ.อุดรธานี 41000",41000,null,null,"01637","","","",""]
[null,null,null,null,null,null,null,null,null,"2651","TESCO LOTUS EXPRESS","BANG SAI : CHON BURI (CE0314-SSA)","บางทราย,ชลบุรี","เลขที่ 1/42 หมู่ที่ 5 ตำบลบางทราย อำเภอเมืองชลบุรี จังหวัดชลบุรี 20000","20000",null,null,"01645","","","","ชลบุรี"]
[null,null,null,null,null,null,null,null,null,"2652","TESCO LOTUS EXPRESS","4 YAEK WAT UDOM : NAKHON NAYOK (CE0327-3SA)",null,null,null,null,null,"01631","","","",""]
[null,null,null,null,null,null,null,null,null,"2653","TESCO LOTUS EXPRESS","PICHAI NARONG SONGKRAM : SARABURI (CE0345-SSA)","พิชัยณรงค์สงคราม, สระบุรี","เลขที่ 265/3 ถนนพิชัยรณรงค์สงคราม ตำบลปากเพรียว อำเภอเมืองสระบุรี จังหวัดสระบุรี 18000","18000",null,"036-312051","01616","","","","อยุธยา"]
[null,null,null,null,null,null,null,null,null,"2654","TESCO LOTUS EXPRESS","SARIKA : NAKHON NAYOK (CE0391-3SA)",null,null,null,null,null,"01636","","","",""]
[null,null,null,null,null,null,null,null,null,"2655","TESCO LOTUS EXPRESS","KWONG LUK THUNG : CHONBURI (CE0393-3SA)",null,null,null,null,"038-745054 ","01677","","","",""]
[null,null,null,null,null,null,null,null,null,"2656","TESCO LOTUS EXPRESS","TALAD KNONG NILL : SURAT THANI (ST0164-3SH)",null,null,null,null,"077-262-036","01703","","","",""]
[null,null,null,null,null,null,null,null,null,"2657","TESCO LOTUS EXPRESS","BAN CHANG : CHONBURI (CE0374-SSA)","บ้านช้าง, ชลบุรี","เลขที่ 54/5 หมู่ที่ 4 ตำบลบ้านช้าง อำเภอพนัสนิคม จังหวัดชลบุรี 20140","20140",null,"038-787087","01620","","","","ชลบุรี"]
[null,null,null,null,null,null,null,null,null,"2658","TESCO LOTUS EXPRESS","KLANG MOR BURAPHA : CHON BURI OPT3 (CE0259-SSH)","เคียง ม.บูรพา,ชลบุรี","เลขที่ 36/20,36/21,36/22,36/23,36/24 ถนนเนตรดี  ตำบลแสนสุข อำเภอเมืองชลบุรี จังหวัดชลบุรี 20130","20130",null,"038-745044","01626","2013-12-04",24,"Shophouse","ชลบุรี"]
[null,null,null,null,null,null,null,null,null,"2659","TESCO LOTUS EXPRESS","NIKHOM NONG KAE : CHON BURI (CE0422-SSA)","นิคมหนองแก,ชลบุรี","เลขที่ 170/4 หมู่ที่ 3 ตำบลบ้านบึง อำเภอบ้านบึง จังหวัดชลบุรี 20170","20170",null,null,"01625","","","","ชลบุรี"]
[null,null,null,null,null,null,null,null,null,"2660","TESCO LOTUS EXPRESS","RAMINTRA 21 : BANGKOK (BK0409-3SA)",null,null,null,null,"02-970-7689","01662","","","",""]
[null,null,null,null,null,null,null,null,null,"2661","TESCO LOTUS EXPRESS","PHA KHAO : LOEI (NE0407-3SA)",null,null,null,null,"042-818-027","01686","","","",""]
[null,null,null,null,null,null,null,null,null,"2662","TESCO LOTUS EXPRESS","K-HA NONG CHOK : BANGKOK (BK0384-3SA)",null,null,null,null,"02-988-6349","01674","","","",""]
[null,null,null,null,null,null,null,null,null,"2663","TESCO LOTUS EXPRESS","MAHA RAT : AYUTTHAYA (BK0403-SSA)","มหาราช,อยุธยา","เลขที่ 219/3 หมู่ที่ 6 ตำบลหัวไผ่ อำเภอมหาราช จังหวัดพระนครศรีอยุธยา 13150","13150",null,"035-228-020","01673","","","","อยุธยา"]
[null,null,null,null,null,null,null,null,null,"2664","TESCO LOTUS EXPRESS","CHIANG KLOM : LOEI (NE0406-3SA)",null,null,null,null,"024-075055","01717","","","",""]
[null,null,null,null,null,null,null,null,null,"2665","TESCO LOTUS EXPRESS","KONGKRAIRAT : SUKHOTHAI (NT0203-SSA)",null,null,null,null,"055-625012","01622","","","",""]
[null,null,null,null,null,null,null,null,null,"2666","TESCO LOTUS EXPRESS","NONG RI : CHON BURI (CE0368-SSA)","หนองรี,ชลบุรี","เลขที่ 91/20 หมู่ที่ 7 ตำบลหนองรี อำเภอเมืองชลบุรี จังหวัดชลบุรี 20000","20000",null,null,"01634","","","","ชลบุรี"]
[null,null,null,null,null,null,null,null,null,"2667","TESCO LOTUS EXPRESS","THEPKUNCHORN35 : PATHUM THANI (BK0411-3SA)","เทพกุญชร 35,ปทุมธานี","เลขที่ 22/15 หมู่ที่ 13 ตำบลคลองหนึ่ง อำเภอคลองหลวง จังหวัดปทุมธานี 12120","12120",null,"02-908-5098","01680","","","","ปทุมธานี"]
[null,null,null,null,null,null,null,null,null,"2669","TESCO LOTUS EXPRESS","TALAD RUNGRUENGSUP : BANGKOK (BK0430-3SA)",null,null,null,null,"02-996-3078","01683","","","",""]
[null,null,null,null,null,null,null,null,null,"2670","TESCO LOTUS EXPRESS","BAN TALAT THUNGHIENG : CHONBURI (CE0408-3SA)",null,null,null,null,null,"01647","","","",""]
[null,null,null,null,null,null,null,null,null,"2671","TESCO LOTUS EXPRESS","SEAGATE : NAKHON RATCHASIMA(NE0418-3SA)","ซีเกท, นคครราชสีมา","เลขที่  30/38  หมู่ที่ 15  ตำบลสูงเนิน  อำเภอสูงเนิน  จังหวัดนครราชสีมา  30170","30170",null,"044-029022","01705","","","","นครราชสีมา"]
[null,null,null,null,null,null,null,null,null,"2672","TESCO LOTUS EXPRESS","KHAM SAKAE SAENG : NAKHON RATCHASIMA OPT3 (NE0430-SSA)","ขามสะแกแสง, นครราชสีมา","เลขที่ 500 หมู่ที่ 13 ตำบลขามสะแกแสง อำเภอขามสะแกแสง จังหวัดนครราชสีมา 30290","30290",null,null,"01635","","","","นครราชสีมา"]
[null,null,null,null,null,null,null,null,null,"2673","TESCO LOTUS EXPRESS","DOEMBANG NANGBUAT : SUPHAN BURI (CE0404-SSA)","เดิมบางนางบวช,สุพรรณบุรี","เลขที่ 138 หมู่ที่ 5 ตำบลเขาพระ อำเภอเดิมบางนางบวช จังหวัดสุพรรณบุรี 72120","72120",null,"035-508051","01653","","","","อยุธยา"]
[null,null,null,null,null,null,null,null,null,"2674","TESCO LOTUS EXPRESS","EAST LAND DON HUA LO : CHONBURI (CE0400-SSA)","อีสแลนด์(ดอนหัวฬอ),ชลบุรี","เลขที่ 86/1 หมู่ที่ 1 ตำบลดอนหัวฬ่อ อำเภอเมืองชลบุรี จังหวัดชลบุรี 20000","20000",null,"038-206-058","01671","","","","ชลบุรี"]
[null,null,null,null,null,null,null,null,null,"2675","TESCO LOTUS EXPRESS","MOOBAN SINTANA : BANGKOK (BK0404-3SA)","หมู่บ้านสินธนา","เลขที่ 25/131 ซอยนวมินทร์163 แยก17 แขวงนวลจันทร์ เขตบึงกุ่ม กรุงเทพมหานคร 10240","10240",null,"02-944-0096","01663","","","","กรุงเทพ"]
[null,null,null,null,null,null,null,null,null,"2676","TESCO LOTUS EXPRESS","HEMARAJ RAYONG : RAYONG (CE0390-SSA)","เหมราช ระยอง","เลขที่ 1/12 หมู่ที่ 11 ตำบลหนองละลอก อำเภอบ้านค่าย จังหวัดระยอง 21120","21120",null,"038-892-102","01695","","","","ระยอง"]
[null,null,null,null,null,null,null,null,null,"2677","TESCO LOTUS EXPRESS","NONG SEE NGA : CHANTHABURI (CE0369-3SA)",null,null,null,null,null,"01656","","","",""]
[null,null,null,null,null,null,null,null,null,"2678","TESCO LOTUS EXPRESS","PONG : PHAYAO (NT0191-SSH)",null,null,null,null,"054-429-008","01618","","","",""]
[null,null,null,null,null,null,null,null,null,"2679","TESCO LOTUS EXPRESS","WANG SAI PHUN : PHICHIT (NT0243-3SH)",null,null,null,null,"056 - 658258","01649","","","",""]
[null,null,null,null,null,null,null,null,null,"2680","TESCO LOTUS EXPRESS","WANG NOI : KHON KAEN (NE0409-3SA)","แวงน้อย ขอนแก่น"," 447 ม.12 ต.แวงน้อย อ.แวงน้อย จ.ขอนแก่น 40000",40000,null,"043-499454","01678","","","",""]
[null,null,null,null,null,null,null,null,null,"2681","TESCO LOTUS EXPRESS","TALADNUD KLONGPRAYOM : AYUTTHAYA (BK0434-3SH)",null,null,null,null,null,"01655","","","",""]
[null,null,null,null,null,null,null,null,null,"2682","TESCO LOTUS EXPRESS","THA KASEM : SA KAEO (CE0306-SSH)","ท่าเกษม,สระแก้ว","เลขที่ 7,7/1 หมู่ที่ 2 ตำบลท่าเกษม อำเภอเมืองสระแก้ว จังหวัดสระแก้ว 27000","27000",null,"037-515018 ","01630","","","","สระแก้ว"]
[null,null,null,null,null,null,null,null,null,"2683","TESCO LOTUS EXPRESS","PHO NGAM : PRACHIN BURI (CE0358-SSH)","โพธิ์งาม,ปราจีนบุรี","เลขที่ 378 หมู่ที่ 2 ตำบลโพธิ์งาม อำเภอประจันตคาม จังหวัดปราจีนบุรี 25130","25130",null,"037-410372","01675","","","","ปราจีนบุรี"]
[null,null,null,null,null,null,null,null,null,"2684","TESCO LOTUS EXPRESS","BAN KAO : CHON BURI (CE0331-SSA)","บ้านเก่า,ชลบุรี","เลขที่ 56/2 หมู่ที่ 6 ตำบลบ้านเก่า อำเภอพานทอง จังหวัดชลบุรี 20160","20160",null,"038-451255 ","01667","","","","ชลบุรี"]
[null,null,null,null,null,null,null,null,null,"2685","TESCO LOTUS EXPRESS","SANG KHOM : NONG KHAI (NE0386-SSH)",null,null,null,null,"042-441340","01640","","","",""]
[null,null,null,null,null,null,null,null,null,"2686","TESCO LOTUS EXPRESS","BAN SAMRAN : KHON KAEN (NE0415-3SH)","บ้านสำราญ, ขอนแก่น"," 210 ม.1 ต.สำราญ อ.เมืองขอนแก่น จ.ขอนแก่น 40000",40000,null,"043-379065","01646","","","",""]
[null,null,null,null,null,null,null,null,null,"2687","TESCO LOTUS EXPRESS","MAI KHET : PRACHIN BURI (CE0373-SSH)","ไม้เค็ด,ปราจีนบุรี","เลขที่ 90/5,90/6 หมู่ที่ 8 ตำบลบ้านพระ อำเภอเมืองปราจีนบุรี จังหวัดปราจีนบุรี 25230","25230",null,null,"01665","","","","ปราจีนบุรี"]
[null,null,null,null,null,null,null,null,null,"2688","TESCO LOTUS EXPRESS","TALAD YEN BAN DUNG : UDON THANI (NE0357-SSH)",null,null,null,null,"042-271153","01670","","","",""]
[null,null,null,null,null,null,null,null,null,"2689","TESCO LOTUS EXPRESS","HA YAEK NON HAI : CHAIYAPHUM (NE0384-3SH)","ห้าแยกโนนไฮ, ชัยภูมิ","เลขที่ 14/15-17 หมู่ที่ 6 ถนนชัยภูมิ-สีคิ้ว ตำบลในเมือง อำเภอเมืองชัยภูมิ จังหวัดชัยภูมิ 36000","36000",null,"044-835033    ","01659","","","","ชัยภูมิ"]
[null,null,null,null,null,null,null,null,null,"2690","TESCO LOTUS EXPRESS","SRIDAN 22 : SAMUT PRAKAN OPT2 (BK0336-3SH)","ศรีด่าน 22,สมุทรปราการ","เลขที่ 19/15 หมู่ที่ 16 ตำบลบางแก้ว อำเภอบางพลี จังหวัดสมุทรปราการ 10540","10540",null,"02-758-7639","01666","2013-12-20",24,"3-Shophouse","สมุทรปราการ"]
[null,null,null,null,null,null,null,null,null,"2691","TESCO LOTUS EXPRESS","TANON SHEEKUN : AYUTTHAYA (BK0360-3SH)","ถนนชีกุน","เลขที่ 41/2 ถนนอู่ทอง ตำบลประตูชัย อำเภอพระนครศรีอยุธยา จังหวัดพระนครศรีอยุธยา 13000","13000",null,"035-210-101","01660","","","","อยุธยา"]
[null,null,null,null,null,null,null,null,null,"2692","TESCO LOTUS EXPRESS","NOPPAKAO : RAYONG (CE0389-SSH)","นพเก้า,ระยอง","เลขที่ 16,65/1,65/4 หมู่ที่ 3 ตำบลมะขามคู่ อำเภอนิคมพัฒนา จังหวัดระยอง 21180","21180",null,null,"01661","","","","ระยอง"]
[null,null,null,null,null,null,null,null,null,"2693","TESCO LOTUS EXPRESS","PHOSA : ANG THONG (CE0409-3SA)",null,null,null,null,"035-620062","01669","","","",""]
[null,null,null,null,null,null,null,null,null,"2694","TESCO LOTUS EXPRESS","DAN SAI : LOEI (NE0334-SSA)",null,null,null,null,"042-89-1351","01672","","","",""]
[null,null,null,null,null,null,null,null,null,"2695","TESCO LOTUS EXPRESS","PRIDI PHANOMYOUG 14 : BANGKOK (BK0335-3SA)","ปรีดี พนมยงค์ 14","เลขที่ 60/6 ซอยมีสุวรรณ 3 แขวงพระโขนงเหนือ เขตวัฒนา กรุงเทพมหานคร 10110","10110",null,"02-711-0701","01685","","","","กรุงเทพ"]
[null,null,null,null,null,null,null,null,null,"2696","TESCO LOTUS EXPRESS","LAM LUK KA KLONG 13 : PATHUM THANI (BK0396-3SA)",null,null,null,null,"02-479-1933 ","01693","","","",""]
[null,null,null,null,null,null,null,null,null,"2697","TESCO LOTUS EXPRESS","SAWANGHA : ANG THONG (CE0412-3SA)","แสวงหา,อ่างทอง","เลขที่ 76/12 หมู่ที่ 6 ตำบลแสวงหา อำเภอแสวงหา จังหวัดอ่างทอง 14150","14150",null,"035-648037","01694","","","","อยุธยา"]
[null,null,null,null,null,null,null,null,null,"2698","TESCO LOTUS EXPRESS","TALAD SAI 2 : BANGKOK (BK0412-SSA)","ตลาดสาย2","เลขที่ 356/1 ถนนพุทธมณฑลสาย 2 แขวงบางแคเหนือ เขตบางแค กรุงเทพมหานคร 10160","10160",null,"02-804-0070     ","01696","2014-01-15",24,"Standalone","กรุงเทพฯ"]
[null,null,null,null,null,null,null,null,null,"2699","TESCO LOTUS EXPRESS","KROK YAI CHA OPT4 : RAYONG (CE0419-SSA)","กรอกยายชา Opt.4,ระยอง","เลขที่ 45/8 ถนนกรอกยายชา ตำบลเนินพระ อำเภอเมืองระยอง จังหวัดระยอง 21000","21000",null,"038-966-044","01697","","","","ระยอง"]
[null,null,null,null,null,null,null,null,null,"2700","TESCO LOTUS EXPRESS","TALAD TESSABAN BAN PHAENG : NAKHON PHANOM",null,null,null,null,"042-591027  ","01681","","","",""]
[null,null,null,null,null,null,null,null,null,"2701","TESCO LOTUS EXPRESS","BANG YAI CITY : NONTHABURI","บางใหญ่ซิตี้,นนทบุรี","เลขที่ 66/231 หมู่ที่ 6 ตำบลเสาธงหิน อำเภอบางใหญ่ จังหวัดนนทบุรี 11140","11140",null,"02-9030131 ","01701","2014-01-17","","","นนทบุรี"]
[null,null,null,null,null,null,null,null,null,"2702","TESCO LOTUS EXPRESS","TAKHU : NAKHON RATCHASIMA OPT2 (NE0452-3SA)","ตะคุ นครราชสีมา","เลขที่ 156 หมู่ที่ 1 ตำบลตะคุ อำเภอปักธงชัย จังหวัดนครราชสีมา 30150","30150",null,"044-441550","01702","","","","นครราชสีมา"]
[null,null,null,null,null,null,null,null,null,"2703","TESCO LOTUS EXPRESS","BAN PNAENG KOSUM PHISAI : MAHA SARAKHAM","บ้านแพงโกสุมพิสัย มหาสารคาม"," 273 ม.9 ต.แพง อ.โกสมพิสัย จ.มหาสารคาม 44140",44140,null,"043-776345  ","01687","","","",""]
[null,null,null,null,null,null,null,null,null,"2704","TESCO LOTUS EXPRESS","RAI NOI : UBON RATCHATHANI (NE0310-3SA)","ไร่น้อย อุบลราชธานี","เลขที่ 280 หมู่ที่ 12 ตำบลไร่น้อย อำเภอเมืองอุบลราชธานี จังหวัดอุบลราชธานี 34000","34000",null,"045-280224","01689","","","","อุบลราชธานี"]
[null,null,null,null,null,null,null,null,null,"2705","TESCO LOTUS EXPRESS","KHOAHINSON : CHACHOENGSAO (BK0449-3SH)",null,null,null,null,"038-854088 ","01690","","","",""]
[null,null,null,null,null,null,null,null,null,"2706","TESCO LOTUS EXPRESS","LIAP KHIONG PHASI CHAROEN FANG TAI : BANGKOK (BK0393-SSA)","เลียบคลองภาษีเจริญฝั่งใต้","เลขที่ 234/3 ถนนเลียบคลองภาษีเจริญฝั่งใต้ แขวงหนองแขม เขตหนองแขม กรุงเทพมหานคร 10160","10160",null,"02-947-9250","01710","2014-01-20",24,"Standalone","กรุงเทพฯ"]
[null,null,null,null,null,null,null,null,null,"2707","TESCO LOTUS EXPRESS","THA YIAM : NAKHON RATCHASIMA (NE0387-3SH)",null,null,null,null,"044-492778","01684","","","",""]
[null,null,null,null,null,null,null,null,null,"2708","TESCO LOTUS EXPRESS","NA TA KHWAN : RAYONG (CE0382-SSA)","นาตาขวัญ,ระยอง","เลขที่ 107/3 หมู่ที่ 1 ตำบลนาตาขวัญ อำเภอเมืองระยอง จังหวัดระยอง 21000","21000",null,"038-890-033","01704","","","","ระยอง"]
[null,null,null,null,null,null,null,null,null,"2709","TESCO LOTUS EXPRESS","SENANGKHANIKHOM : AMNAT CHAROEN (NE0429-3SA)",null,null,null,null,"045-461918","01691","","","",""]
[null,null,null,null,null,null,null,null,null,"2710","TESCO LOTUS EXPRESS","SOI WAT SANG KRACHAI : BANGKOK (BK0413-3SH)","ซอยวัดสังข์กระจาย","เลขที่ 506, 508, 510 ซอยเพชรเกษม 4 แขวงวัดท่าพระ เขตบางกอกใหญ่ กรุงเทพมหานคร 10600","10600",null,"02-8917128","01745","2014-02-11",24,"3-Shophouse","กรุงเทพฯ"]
[null,null,null,null,null,null,null,null,null,"2711","TESCO LOTUS EXPRESS","SAO HAI : SARABURI OPT.2 (CE0437-SSA)","เสาไห้,สระบุรี","เลขที่ 47 หมู่ที่ 1 ตำบลเสาไห้ อำเภอเสาไห้ จังหวัดสระบุรี 18160","18160",null,"036-332040  ","01729","","","","อยุธยา"]
[null,null,null,null,null,null,null,null,null,"2712","TESCO LOTUS EXPRESS","BAN KLANG YAI : UDON THANI (NE0276-3SA)",null,null,null,null,"042-9215-17","01692","","","",""]
[null,null,null,null,null,null,null,null,null,"2713","TESCO LOTUS EXPRESS","TAO NGOI : SAKON NAKHON (NE0440-3SA)",null,null,null,null,"042-761212    ","01711","","","",""]
[null,null,null,null,null,null,null,null,null,"2714","TESCO LOTUS EXPRESS","SAMSIP KANYA : NAKHON RATCHASIMA 18/3 (NE0411-3SA)","สามสิบกันยา นครราชสีมา","เลขที่ 356/6 ถนน 30 กันยา ตำบลในเมือง อำเภอเมืองนครราชสีมา จังหวัดนครราชสีมา 30000","30000",null,"044-270-371","01713","","","","นครราชสีมา"]
[null,null,null,null,null,null,null,null,null,"2715","TESCO LOTUS EXPRESS","KHAO YAI : NAKHON RATCHASIMA(NE0474-SSA)","เขาใหญ่ นครราชสีมา","เลขที่ 106/5 หมู่ที่ 5 ตำบลหมูสี อำเภอปากช่อง จังหวัดนครราชสีมา 30130","30130",null,"044-297020","01714","","","","นครราชสีมา"]
[null,null,null,null,null,null,null,null,null,"2716","TESCO LOTUS EXPRESS","TALAD ROI PI MUEANG YA : NAKHON RATCHASIMA (NE0301-3SA)","ตลาดร้อยปีเมืองย่า นครราชสีมา","เลขที่ 277/1 ถนนมุขมนตรี ตำบลในเมือง อำเภอเมืองนครราชสีมา จังหวัดนครราชสีมา 30000","30000",null,"044-261-050","01712","","","","นครราชสีมา"]
[null,null,null,null,null,null,null,null,null,"2717","TESCO LOTUS EXPRESS","HANG NAM SAKHON : CHAINAT OPT.3 (SSH)(TLM) (CE0456-SSH)",null,null,null,null,"056-431-355","01706","","","",""]
[null,null,null,null,null,null,null,null,null,"2718","TESCO LOTUS EXPRESS","WAT TOOM : AYUTTHAYA(BK0428-SSA)","วัดตูม,อยุธยา","เลขที่ 120 หมู่ที่ 5 ตำบลวัดตูม อำเภอพระนครศรีอยุธยา จังหวัดพระนครศรีอยุธยา 13000","13000",null,"035-231-038","01723","","","","อยุธยา"]
[null,null,null,null,null,null,null,null,null,"2719","TESCO LOTUS EXPRESS","DON YAI HOM : NAKORN PATHOM (BK0424-SSA)","ดอนยายหอม,นครปฐม","เลขที่ 262/5 หมู่ที่ 3 ตำบลดอนยายหอม อำเภอเมืองนครปฐม จังหวัดนครปฐม 73000","73000",null,"034-229-334","01721","2014-01-24","","","นครปฐม"]
[null,null,null,null,null,null,null,null,null,"2720","TESCO LOTUS EXPRESS","AKAT AMNUAI : SAKON NAKHON (NE0445-3SH)",null,null,null,null,"042-798-229 ","01708","","","",""]
[null,null,null,null,null,null,null,null,null,"2721","TESCO LOTUS EXPRESS","SOI MAHACHAI : SAMUT PRAKAN (BK0458-3SA)","ซอยมหาชัย,สมุทรปราการ","เลขที่ 118 หมู่ที่ 13 ตำบลบางพลีใหญ่ อำเภอบางพลี จังหวัดสมุทรปราการ 10540","10540",null,"02-9479250","01724","2014-01-25",24,"3-Standalone","สมุทรปราการ"]
[null,null,null,null,null,null,null,null,null,"2722","TESCO LOTUS EXPRESS","NONG SAENG : UDON THANI (NE0457-3SA)","หนองแสง อุดรธานี"," 49/1 ม.11 ต.ทับกุง อ.หนองแสง จ.อุดรธานี 41340",41340,null,"042-396-299 ","01719","","","",""]
[null,null,null,null,null,null,null,null,null,"2723","TESCO LOTUS EXPRESS","SOI MANTHANA : SAMUT PRAKAN (BK0419-3SA)","ซอยมัณฑนา,สมุทรปราการ","เลขที่ 22/286 หมู่ที่ 7 ตำบลบางโฉลง อำเภอบางพลี จังหวัดสมุทรปราการ 10540","10540",null,"02-7405119 ","01725","2014-01-26",24,"3-Standalone","สมุทรปราการ"]
[null,null,null,null,null,null,null,null,null,"2724","TESCO LOTUS EXPRESS","BAN PA KHO : NONG KHAI (NE0421-3SA)",null,null,null,null,"042-408-024","01737","","","",""]
[null,null,null,null,null,null,null,null,null,"2725","TESCO LOTUS EXPRESS","SUKSAWAT 26 : BKK (BK0354-3SA)",null,null,null,null,"02-874-6126","01742","","","",""]
[null,null,null,null,null,null,null,null,null,"2726","TESCO LOTUS EXPRESS","KAI BOK WAN : NONG KHAI (NE0460-3SH)",null,null,null,null,"042-407026 ","01715","","","",""]
[null,null,null,null,null,null,null,null,null,"2728","TESCO LOTUS EXPRESS","THONG SEAN KHAN : UTTARADIT (NT0236-3SH)",null,null,null,null,"055-418232","01752","","","",""]
[null,null,null,null,null,null,null,null,null,"2729","TESCO LOTUS EXPRESS","HUAL SAI TAI : PHETCHABURI (CE0387-SSA)",null,null,null,null,"032-442-020","01743","","","",""]
[null,null,null,null,null,null,null,null,null,"2730","TESCO LOTUS EXPRESS","BAN KRUT : PRACHUAP KHIRI KHAN (CE0401-SSA)",null,null,null,null,"032-695032","01736","","","",""]
[null,null,null,null,null,null,null,null,null,"2731","TESCO LOTUS EXPRESS","TALAD LUNG AUAN : RAYONG(CE0415-SSA)","ตลาดลุงอ้วน,ระยอง","เลขที่ 401 หมู่ที่ 4 ตำบลปลวกแดง อำเภอปลวกแดง จังหวัดระยอง 21140","21140",null,"038-954-098","01733","","","","ระยอง"]
[null,null,null,null,null,null,null,null,null,"2732","TESCO LOTUS EXPRESS","BANG PLA MOR : SUPHANBURI (CE0416-SSA)","บางปลาหมอ,สุพรรณบุรี","เลขที่ 279/1 หมู่ที่ 4 ตำบลรั้วใหญ่ อำเภอเมืองสุพรรณบุรี จังหวัดสุพรรณบุรี 72000","72000",null,null,"01748","","","","อยุธยา"]
[null,null,null,null,null,null,null,null,null,"2733","TESCO LOTUS EXPRESS","PHO SAI : UBON RATCHATHANI (NE0422-3SA)","โพธิ์ไทร, อุบลราชธานี","เลขที่  279  หมู่ที่ 2  ตำบลโพธิ์ไทร  อำเภอโพธิ์ไทร  จังหวัดอุบลราชธานี  34340","34340",null,"045-496-088","01731","","","","อุบลราชธานี"]
[null,null,null,null,null,null,null,null,null,"2734","TESCO LOTUS EXPRESS","AMPHOE PHIBUN RAK : UDON THANI (NE0468-3SA)",null,null,null,null,"042-258209","01735","","","",""]
[null,null,null,null,null,null,null,null,null,"2735","TESCO LOTUS EXPRESS","WAT SAKSAMOR : CHON BURI (CE0371-SSH)","วัดชากสมอ,ชลบุรี","เลขที่ 4/34-37 หมู่ที่ 4 ตำบลดอนหัวฬอ อำเภอเมืองชลบุรี จังหวัดชลบุรี 20000","20000",null,"038-708001","01738","","","","ชลบุรี"]
[null,null,null,null,null,null,null,null,null,"2736","TESCO LOTUS EXPRESS","CHUMPOL THAHANRUEA : OPT.3 CHONBURI (CE0414-3SH)","ชุมพลทหารเรือ,ชลบุรี","เลขที่ 177/119-121 หมู่ที่ 10 ตำบลบางเสร่ อำเภอสัตหีบ จังหวัดชลบุรี 20250","20250",null,"038-736-069","01746","2014-02-14",24,"3-Shophouse","ชลบุรี"]
[null,null,null,null,null,null,null,null,null,"2737","TESCO LOTUS EXPRESS","SA PAN MITTRAPHAP THAI-LAO : NONG KHAI (NE0446-SSH)",null,null,null,null,"042-467061","01718","","","",""]
[null,null,null,null,null,null,null,null,null,"2738","TESCO LOTUS EXPRESS","LAM PLAI MAT : BURI RUM (NE0352-3SA)","ลำปลายมาศ บุรีรัมย์","เลขที่ 76 หมู่ที่ 1 ตำบลลำปลายมาศ อำเภอลำปลายมาศ จังหวัดบุรีรัมย์ 31130","31130",null,"044-623-232","01716","","","","บุรีรัมย์"]
[null,null,null,null,null,null,null,null,null,"2739","TESCO LOTUS EXPRESS","CHUMCHON BO HIN : NONGKHAI (NE0397-3SA)",null,null,null,null,"042-464207","01720","","","",""]
[null,null,null,null,null,null,null,null,null,"2740","TESCO LOTUS EXPRESS","THANON KONGPHON 10 : ROI ET (NE0415-SSA)","ถนนกองพล 10, ร้อยเอ็ด"," 25/2-5 ถ.กองพล 10 ต.ในเมือง อ.เมืองร้อยเอ็ด จ.ร้อยเอ็ด 45000",45000,null,"043-524087","01727","","","",""]
[null,null,null,null,null,null,null,null,null,"2741","TESCO LOTUS EXPRESS","BAMNET NARONG 2 : CHAIYAPHUM (NE0412-3SA)","โรงเรียนแก่นนครวิทยาลัย, ขอนแก่น"," 79/10-11 ถ.เหล่านาดี ต.ในเมือง อ.เมืองขอนแก่น จ.ขอนแก่น 40000",40000,null,"043-320-132","01734","","","",""]
[null,null,null,null,null,null,null,null,null,"2742","TESCO LOTUS EXPRESS","BAMNET NARONG 2 : CHAIYAPHUM","บำเหน็จณรงค์ 2, ชัยภูมิ","เลขที่  68  หมู่ที่ 17  ตำบลบ้านชวน อำเภอบำเหน็จณรงค์  จังหวัดชัยภูมิ 36160","36160",null,"044-842-029","01744","","","","ชัยภูมิ"]
[null,null,null,null,null,null,null,null,null,"2743","TESCO LOTUS EXPRESS","LAM LUK KA KLONG 9 : PATUM THANI (BK0429-3SA)","ลำลูกกาคลอง9,ปทุมธานี","เลขที่ 19/41 หมู่ที่ 11 ตำบลบึงทองหลาง อำเภอลำลูกกา จังหวัดปทุมธานี 12150","12150",null,"02-987-0529 ","01749","","","","ปทุมธานี"]
[null,null,null,null,null,null,null,null,null,"2744","TESCO LOTUS EXPRESS","NANG RONG 2 : BURIRAM","นางรอง 2, บุรีรัมย์","เลขที่ 589/2, 589/3 ถนนประจันตเขต ตำบลนางรอง อำเภอนางรอง จังหวัดบุรีรัมย์ 31110","31110",null,"044-622-284","01769","","","","บุรีรัมย์"]
[null,null,null,null,null,null,null,null,null,"2745","TESCO LOTUS EXPRESS","SAM KO : ANG THONG (CE0413-SSA)","สามโก้,อ่างทอง","เลขที่ 99/17 หมู่ที่ 4 ตำบลสามโก้ อำเภอสามโก้ จังหวัดอ่างทอง 14160","14160",null,"035-697088  ","01751","","","","อยุธยา"]
[null,null,null,null,null,null,null,null,null,"2746","TESCO LOTUS EXPRESS","KHIRI WONG : NAKHON SAWAN (CE0428-3SA)",null,null,null,null,"056-311023","01763","","","",""]
[null,null,null,null,null,null,null,null,null,"2747","TESCO LOTUS EXPRESS","NONG PHO : NAKHON SAWAN(CE0473-3SH)",null,null,null,null,"056-338088","01754","","","",""]
[null,null,null,null,null,null,null,null,null,"2748","TESCO LOTUS EXPRESS","SONGPRAPHA-PRACHAUTID : BANGKOK (OPTION 2) (BK0488-3SA)",null,null,null,null," 02-928-0109 ","01753","","","",""]
[null,null,null,null,null,null,null,null,null,"2749","TESCO LOTUS EXPRESS","PAKKET BYPASS : NONTHBURI(BK0374-SSA)","ปากเกร็ด บายพาส,นนทบุรี","เลขที่ 30/134 หมู่ที่ 9 ตำบลบางพูด อำเภอปากเกร็ด จังหวัดนนทบุรี 11120","11120",null,"02-964-5089","01755","","","","ปทุมธานี"]
[null,null,null,null,null,null,null,null,null,"2750","TESCO LOTUS EXPRESS","BUEANG PHA : PHITSANULOK (NT0245-3SA)",null,null,null,null,"055-287-032","01765","","","",""]
[null,null,null,null,null,null,null,null,null,"2751","TESCO LOTUS EXPRESS","NA MUEANG ROAD : KHON KAEN (NE0391-3SA)","ถนนหน้าเมือง, ขอนแก่น"," 539/5 ถ.หน้าเมือง ต.ในเมือง อ.เมืองขอนแก่น จ.ขอนแก่น 40000",40000,null,"043-320128","01766","","","",""]
[null,null,null,null,null,null,null,null,null,"2752","TESCO LOTUS EXPRESS","BAN KHAM : KHON KAEN (NE0470-3SA)","บ้านขาม, ขอนแก่น"," 188 ม.1 ต.บ้านขาม อ.น้ำพอง จ.ขอนแก่น 40140",40140,null,"043-436070","01756","","","",""]
[null,null,null,null,null,null,null,null,null,"2753","TESCO LOTUS EXPRESS","NONG HAN : UDON THANI(NE0461-3SH)","หนองหาน, อุดรธานี"," 19/1-4 ม.6 ต.หนองหาน อ.หนองหาน จ.อุดรธานี 41130",41130,null,"042-209023","01768","","","",""]
[null,null,null,null,null,null,null,null,null,"2754","TESCO LOTUS EXPRESS","KHWAO SINARIN : SURIN (NE0454-3SA)","เขวาสินรินทร์, สุรินทร์","เลขที่ 165 หมู่ที่ 1 ตำบลเขวาสินรินทร์ อำเภอเขวาสินรินทร์ จังหวัดสุรินทร์ 32000","32000",null,"044-582-311","01764","","","",""]
[null,null,null,null,null,null,null,null,null,"2755","TESCO LOTUS EXPRESS","TALAD BAN MAI : PHITSANULOK (NT0252-3SA)",null,null,null,null,"055-286-013 ","01767","","","",""]
[null,null,null,null,null,null,null,null,null,"2756","TESCO LOTUS EXPRESS","BAN SANG : PRACHINBURI","บ้านสร้าง,ปราจีนบุรี","293 หมู่ 4 ตำบลบ้านสร้าง อำเภอบ้านสร้าง จังหวัดปราจีนบุรี 25150","25150",null,null,"01770","","","","ปราจีนบุรี"]
[null,null,null,null,null,null,null,null,null,"2757","TESCO LOTUS EXPRESS","SI YEAK RONGRIAN MUEANG ROI ET : ROI ET","สี่แยกโรงเรียนเมืองร้อยเอ็ด"," 89 ถ.ปัทมานนท์ ต.ในเมือง อ.เมืองร้อยเอ็ด จ.ร้อยเอ็ด 45000",45000,null,"043-526-064","01772","","","",""]
[null,null,null,null,null,null,null,null,null,"2758","TESCO LOTUS EXPRESS","KHOK SUNG SAM PA : KHON KAEN","โคกสูงสัมพันธ์,ขอนแก่น"," 314 ม.4 ต.โนนอุดม อ.ชุมแพ จ.ขอนแก่น 40130",40130,null,"043-463236","01771","","","",""]
[null,null,null,null,null,null,null,null,null,"2759","TESCO LOTUS EXPRESS","BAN SUAN SOI 11 : CHON BURI","บ้านสวน ซอย11,ชลบุรี","2/122 หมู่ที่ 1 ตำบลบ้านสวน อำเภอเมืองชลบุรี จังหวัดชลบุรี 20000","20000",null,null,"01773","","","","ชลบุรี"]
[null,null,null,null,null,null,null,null,null,"2760","TESCO LOTUS EXPRESS","THOED THAI29 : BANGKOK","เทอดไท29,กรุงเทพฯ","1231/9 ถนนเทอดไทย แขวงตลาดพลู เขตธนบุรี กรุงเทพมหานคร   10600","10600",null,"02-947-9250","01774","2014-03-27",24,"3-Standalone","กรุงเทพฯ"]
[null,null,null,null,null,null,null,null,null,"2761","TESCO LOTUS EXPRESS","MOR THOR SOR PHRATA 4 : NAKHON RATCHASIMA","มทส. ประตู 4, นครราชสีมา","เลขที่ 647 หมู่ที่ ตำบลสุรนารี อำเภอเมืองนครราชสีมา จังหวัดนครราชสีมา 30000","30000",null,"044-933514","01781","","","","นครราชสีมา"]
[null,null,null,null,null,null,null,null,null,"2762","TESCO LOTUS EXPRESS","BAN NON TUN : KHON KAEN","โนนตุ่น, ขอนแก่น"," 222/5-7 ม.15 ต.เมืองเก่า อ.เมืองขอนแก่น จ.ขอนแก่น 40000",40000,null,"043-340149  ","01775","","","",""]
[null,null,null,null,null,null,null,null,null,"2763","TESCO LOTUS EXPRESS","TALAD BAN THAT : LOEI",null,null,null,null,"042-854124","01778","","","",""]
[null,null,null,null,null,null,null,null,null,"2764","TESCO LOTUS EXPRESS","BAN KHI LEK YAI : CHAIYAPHUM","บ้านขี้เหล็กใหญ่, ชัยภูมิ","เลขที่ 401/8-9-10 หมู่ที่ 9 ตำบลในเมือง อำเภอเมืองชัยภูมิ จังหวัดชัยภูมิ 36000","36000",null,"044-835042","01779","","","","ชัยภูมิ"]
[null,null,null,null,null,null,null,null,null,"2765","TESCO LOTUS EXPRESS","YEAK PRA SAE OPT4 : RAYONG","แยกประแสร์,ระยอง","เลขที่ 55/30 หมู่ที่ 6 ตำบลบางพระ อำเภอศรีราชา จังหวัดชลบุรี  20110","20110",null,null,"01780","","","","ระยอง"]
[null,null,null,null,null,null,null,null,null,"2766","TESCO LOTUS EXPRESS","PRAKKASA MAI : SAMUT PRAKAN","แพรกษาใหม่,สมุทรปราการ","98/164 ,98/165, 98/166 หมู่ที่ 5 ตำบลแพรกษาใหม่ อำเภอเมืองสมุทรปราการ จังหวัดสมุทรปราการ 10280","10280",null,"02-0232080","01777","2014-03-30",24,"3-Shophouse","สมุทรปราการ"]
[null,null,null,null,null,null,null,null,null,"2767","TESCO LOTUS EXPRESS","BANG SAI : AYUTTHAYA","บางไทร,อยุธยา","73/1 หมู่ที่ 1 ตำบลบางไทร   อำเภอบางไทร จังหวัดพระนครศรีอยุธยา 13190","13190",null,"035-201376","01783","","","","ปทุมธานี"]
[null,null,null,null,null,null,null,null,null,"2768","TESCO LOTUS EXPRESS","TAMBON TAKHOP : NAKHON RATCHASIMA","ตำบลตะขบ, นครราชสีมา","เลขที่ 52/2, 52/3, 52/4, 52/5 หมู่ที่ 1 ตำบลตะขบ  อำเภอปักธงชัย  จังหวัดนครราชสีมา  30150","30150",null,"044-373009 ","01782","","","","นครราชสีมา"]
[null,null,null,null,null,null,null,null,null,"2769","TESCO LOTUS EXPRESS","TALAD NUD ANG KAB NAM BANGPHRA : CHON BURI","ตลาดนัดอ่างเก็บน้ำบางพระ , ชลบุรี","เลขที่ 55/30 หมู่ที่ 6 ตำบลบางพระ อำเภอศรีราชา จังหวัดชลบุรี  20110","20110",null,"038-777002","01785","2014-04-12",24,"Standalone","ชลบุรี"]
[null,null,null,null,null,null,null,null,null,"2770","TESCO LOTUS EXPRESS","NA SA LA KLANG : CHONBURI OPT3","หน้าศาลากลาง, ชลบุรี","เลขที่ 45จ ถนนพาสเภตรา ตำบลบางปลาสร้อย อำเภอเมืองชลบุรี จังหวัดชลบุรี 20000","20000",null,"038-791034","01784","","","","ชลบุรี"]
[null,null,null,null,null,null,null,null,null,"2771","TESCO LOTUS EXPRESS","RANGSIT KHLONG 15 : NAKORN NAYOK","รังสิตคลอง 15, นครนายก","เลขที่ 3/7 หมู่ที่ 4 ตำบลคลองใหญ่ อำเภอองครักษ์ จังหวัดนครนายก 26120","26120",null,null,"01790","","","","ปทุมธานี"]
[null,null,null,null,null,null,null,null,null,"2772","TESCO LOTUS EXPRESS","PHAI KWANG : SUPHANBURI","ไผ่ขวาง สุพรรณบุรี","เลขที่ 121 หมู่ที่ 5 ท่าระหัด อำเภอเมืองสุพรรณบุรี จังหวัดสุพรรณบุรี 72000","72000",null,null,"01787","","","","อยุธยา"]
[null,null,null,null,null,null,null,null,null,"2773","TESCO LOTUS EXPRESS","PHON PHISA : NONG KHAI",null,null,null,null,"042-405024  ","01786","","","",""]
[null,null,null,null,null,null,null,null,null,"2774","TESCO LOTUS EXPRESS","WAT BANG PRONG : CHACHOENGSAO",null,null,null,null,null,"01789","","","",""]
[null,null,null,null,null,null,null,null,null,"2775","TESCO LOTUS EXPRESS","DON JEDI : SUPHANBURI","ดอนเจดีย์ สุพรรณบุรี","เลขที่ 1673/1 หมู่ที่ 5 ตำบลดอนเจดีย์ อำเภอดอนเจดีย์ จังหวัดสุพรรณบุรี 72170","72170",null,null,"01788","","","",""]
[null,null,null,null,null,null,null,null,null,"2776","TESCO LOTUS EXPRESS","CHUM CHON WAT PHRA KHAO : AYUTTHAYA","ชุมชนวัดพระขาว,อยุธยา","เลขที่ 36/1 หมู่ที่ 7 ตำบลพระขาว อำเภอบางบาล จังหวัดพระนครศรีอยุธยา 13250","13250",null,null,"01791","","","",""]
[null,null,null,null,null,null,null,null,null,"2777","TESCO LOTUS EXPRESS","TALAD BFOOD : LOPBURI",null,null,null,null,null,"01792","","","",""]
[null,null,null,null,null,null,null,null,null,"2778","TESCO LOTUS EXPRESS","ESSO HAT YAI : SONGKHLA",null,null,null,null,null,"01793","","","",""]
[null,null,null,null,null,null,null,null,null,"2779","TESCO LOTUS EXPRESS","NIKOM PINTHONG 2 : CHONBURI (CE0477-3SH)",null,null,null,null,null,"01795","","","",""]
[null,null,null,null,null,null,null,null,null,"2780","TESCO LOTUS EXPRESS","BANG SAPHAN YAI : PRACHUAP KHIRI KHAN (CE0430-3SH)",null,null,null,null,null,"01796","","","",""]
[null,null,null,null,null,null,null,null,null,"2781","TESCO LOTUS EXPRESS","SELAPHUM : ROI ET (NE0432-SSH)",null," 388 หมู่ 8 ต.กลาง อ.เสลภูมิ จ.ร้อยเอ็ด 45120",45120,null,null,"01797","","","",""]
[null,null,null,null,null,null,null,null,null,"2782","TESCO LOTUS EXPRESS","MOO BANN RATTANATHIBET : NONTHABURI (BK0418-3SH)","หมู่บ้านรัตนาธิเบศร์,นนทบุรี","เลขที่ 8/17,8/18,8/19 หมู่ที่ 13 ตำบลบางรักพัฒนา อำเภอบางบัวทอง จังหวัดนนทบุรี  11110","11110",null,null,"01798","2014-05-25","","","นนทบุรี"]
[null,null,null,null,null,null,null,null,null,"2783","TESCO LOTUS EXPRESS","RAM INTRA 117 : BANGKOK (BK0471-3SA)","รามอินทรา 117,กรุงเทพฯ","เลขที่ 1/5 ซอยรามอินทรา 117 แขวงมีนบุรี เขตมีนบุรี กรุงเทพฯ 10510","10510",null,null,"01799","","","","กรุงเทพ"]
[null,null,null,null,null,null,null,null,null,"2784","TESCO LOTUS EXPRESS","ESSO NIT AT U-THONG : SUPHANBURI (CE0476-3SA)","เอสโซ่-อู่ทอง,สุพรรณบุรี","เลขที่ 744 หมู่ที่ 3 ตำบลอู่ทอง อำเภออู่ทอง จังหวัดสุพรรณบุรี 72160","72160",null,null,"01800","2014-06-08","","","สุพรรณบุรี"]
[null,null,null,null,null,null,null,null,null,"2785","TESCO LOTUS EXPRESS","WONGSAN : NAKHON SAWAN (CE0489-3SA)",null,null,null,null,null,"01801","","","",""]
[null,null,null,null,null,null,null,null,null,"2786","TESCO LOTUS EXPRESS","333 FACTORY LAND : NONTHABURI (BK0416-SSA)","333 แฟคทอรี่แลนด์,นนทบุรี","เลขที่ 72/2 หมู่ที่ 9   ตำบลละหาร อำเภอบางบัวทอง จังหวัดนนทบุรี   11110","11110",null,null,"01802","","","","ปทุมธานี"]
[null,null,null,null,null,null,null,null,null,"2787","TESCO LOTUS EXPRESS","BANN PREAK : AYUTTHAYA (BK0503-SSA)","บ้านแพรก,อยุธยา ","เลขที่ 333 หมู่ที่ 4 ตำบลบ้านแพรก อำเภอบ้านแพรก จังหวัดพระนครศรีอยุธยา 13240","13240",null,null,"01804","","","","อยุธยา"]
[null,null,null,null,null,null,null,null,null,"2788","TESCO LOTUS EXPRESS","PANAWAN SMART LAND : CHONBURI (CE0475-SSA)","พนาวัลย์ สมาร์ทแลนด์,ชลบุรี","เลขที่ 491/497 หมู่ที่ 10 ตำบลหนองขาม อำเภอศรีราชา จังหวัดชลบุรี  20110","20110",null,null,"01809","2014-06-16",24,"Standalone","ชลบุรี"]
[null,null,null,null,null,null,null,null,null,"2789","TESCO LOTUS EXPRESS","TALAD THA KHAM : SING BURI (CE0444-SSA)","ตลาดท่าข้าม ,สิงห์บุรี ","เลขที่ 1/4 หมู่ที่ 6 ตำบลโพสังโฆ อำเภอค่ายบางระจัน จังหวัดสิงห์บุรี16150","16150",null,null,"01806","","","","อยุธยา"]
[null,null,null,null,null,null,null,null,null,"2790","TESCO LOTUS EXPRESS","TALAD BANG ZAI : AYUTTHAYA  (BK0492-SSA)","ตลาดบางซ้าย, อยุธยา","เลขที่ 28/2 หมู่ที่ 3 ตำบลบางซ้าย อำเภอบางซ้าย จังหวัดพระนครศรีอยุธยา 13270","13270",null,null,"01807","","","","อยุธยา"]
[null,null,null,null,null,null,null,null,null,"2791","TESCO LOTUS EXPRESS","BANGPU 52 : SAMUT PRAKAN (BK0423-3SH)","บางปู 52 ,สมุทรปราการ","เลขที่ 62/15,62/16,62/17 หมู่ที่ 1 ตำบลท้ายบ้าน อำเภอเมืองสมุทรปราการ จังหวัดสมุทรปราการ 10280","10280",null,null,"01805","2014-06-20",24,"3-Shophouse","สมุทรปราการ"]
[null,null,null,null,null,null,null,null,null,"2792","TESCO LOTUS EXPRESS","WAT NONG PRUE : CHON BURI (CE0376-SSA)","วัดหนองปรือ,ชลบุรี","เลขที่ 206/8 หมู่ที่ 3 ตำบลบึง อำเภอศรีราชา จังหวัดชลบุรี 20110","20110",null,null,"01815","2014-07-02",24,"Standalone","ชลบุรี"]
[null,null,null,null,null,null,null,null,null,"2793","TESCO LOTUS EXPRESS","LAEM THAEN : CHONBURI  (CE0508-SSA)","แหลมแท่น,ชลบุรี","เลขที่ 28/2 ถนนบางแสน-อ่างศิลา ตำบลแสนสุข อำเภอเมืองชลบุรี จังหวัดชลบุรี 20000","20000",null,null,"01816","2014-07-02",24,"Standalone","ชลบุรี"]
[null,null,null,null,null,null,null,null,null,"2794","TESCO LOTUS EXPRESS","I'M PARK : BANGKOK BK00495-3SH)","I'm Park,กรุงเทพฯ","เลขที่ 353  ถนนเจริญเมือง แขวงวังใหม่  เขตปทุมวัน กรุงเทพมหานคร 10330","10330",null,null,"01808","","","","กรุงเทพ"]
[null,null,null,null,null,null,null,null,null,"2795","TESCO LOTUS EXPRESS","RON THONG : PRACHUAP KHIRI KHAN(CE0424-3SH)",null,null,null,null,null,"01811","","","",""]
[null,null,null,null,null,null,null,null,null,"2796","TESCO LOTUS EXPRESS","THUNG SUKHALA : CHONBURI (CE0471-SSA)","ทุ่งสุขลา,ชลบุรี","เลขที่ 146/6 หมู่ที่ 11 ตำบลทุ่งสุขลา อำเภอศรีราชา จังหวัดชลบุรี 20230","20230",null,null,"01810","2014-07-01",24,"Stanalone","ชลบุรี"]
[null,null,null,null,null,null,null,null,null,"2797","TESCO LOTUS EXPRESS","WAT PAN SADET NOK : CHONBURI","วัดพันเสด็จนอก, ชลบุรี","เลขที่ 671/69 หมู่ที่ 10 ตำบลเขาคันทรง อำเภอศรีราชา จังหวัดชลบุรี 20110","20110",null,null,"01817","2014-07-08",24,"Stanalone","ชลบุรี"]
[null,null,null,null,null,null,null,null,null,"2798","TESCO LOTUS EXPRESS","NONGKHAM_SAK KHO : CHONBURI (CE0395-SSA)","หนองขาม_ซากค้อ, ชลบุรี","เลขที่ 64/2 หมู่ที่ 1 ตำบลหนองขาม อำเภอศรีราชา จังหวัดชลบุรี 20230","20230",null,null,"01812","2014-07-15",24,"Stanalone","ชลบุรี"]
[null,null,null,null,null,null,null,null,null,"2844","TESCO LOTUS EXPRESS","MABYANGPORN : RAYONG (CE0443-SSA)","มาบยางพร,ระยอง","เลขที่ 275 หมู่ที่ 3 ตำบลมาบยางพร อำเภอปลวกแดง จังหวัดระยอง 21140","21140",null,"038-891120","01750","","","","ระยอง"]
[null,null,null,null,null,null,null,null,null,"3004","TESCO LOTUS EXPRESS","LAK YA : KANCHANABURI (CE0342-XSA)",null,null,null,null,null,"01642","","","",""]
[null,null,null,null,null,null,null,null,null,"3005","TESCO LOTUS EXPRESS","SRI MAHA PHOT : PRACHINBURI (CE0400-XSA)",null,null,null,null,null,"01605","","","",""]
[null,null,null,null,null,null,null,null,null,"3006","TESCO LOTUS EXPRESS","THA PHRA : KHON KAEN",null,null,null,null,null,"01709","","","",""]
[null,null,null,null,null,null,null,null,null,"3007","TESCO LOTUS EXPRESS","RANOD : SONGKHLA",null,null,null,null,null,"01757","","","",""]
[null,null,null,null,null,null,null,null,null,"3008","TESCO LOTUS EXPRESS","RENU NAKHON : NAKHON PHANOM (NE0416-XSA)",null,null,null,null,null,"01641","","","",""]
[null,null,null,null,null,null,null,null,null,"3010","TESCO LOTUS EXPRESS","WARITCHAPHUM : SAKON NAKHON (NE0413-XSA)",null,null,null,null,null,"01644","","","",""]
[null,null,null,null,null,null,null,null,null,"3011","TESCO LOTUS EXPRESS","BAN MUANG : SAKON NAKHON (NE0413-XSA)",null,null,null,null,null,"01657","","","",""]
[null,null,null,null,null,null,null,null,null,"3012","TESCO LOTUS EXPRESS","NA KLANG 2 : NONG BUA LUMPHU (NE0448-XSA)",null,null,null,null,null,"01668","","","",""]
[null,null,null,null,null,null,null,null,null,"3013","TESCO LOTUS EXPRESS","PHAYU : SISAKET (NE0444-XSA)",null,null,null,null,null,"01664","","","",""]
[null,null,null,null,null,null,null,null,null,"3014","TESCO LOTUS EXPRESS","PHLIO : CHANTHABURI (CE0400-XSA)",null,null,null,null,null,"01643","","","",""]
[null,null,null,null,null,null,null,null,null,"3015","TESCO LOTUS EXPRESS","KLONG TANON : NONTHABURI",null,null,null,null,null,"01682","","","",""]
[null,null,null,null,null,null,null,null,null,"3016","TESCO LOTUS EXPRESS","YANG TALAD : KALASIN",null,null,null,null,null,"01726","","","",""]
[null,null,null,null,null,null,null,null,null,"3017","TESCO LOTUS EXPRESS","NA WONG : TRANG",null,null,null,null,null,"01758","","","",""]
[null,null,null,null,null,null,null,null,null,"3018","TESCO LOTUS EXPRESS","NA YONG : TRANG",null,null,null,null,null,"01759","","","",""]
[null,null,null,null,null,null,null,null,null,"3020","TESCO LOTUS EXPRESS","CHATURAPHAK PHIMAN : ROI ET",null,null,null,null,null,"01760","","","",""]
[null,null,null,null,null,null,null,null,null,"3502","TESCO LOTUS EXPRESS","PHICHAI : UTTARADIT (NT0363-XSA)",null,null,null,null,null,"01588","","","",""]
[null,null,null,null,null,null,null,null,null,"3503","TESCO LOTUS EXPRESS","LAN SAK : UTHAITHANI (CE0367-XSA)",null,null,null,null,null,"01599","","","",""]
[null,null,null,null,null,null,null,null,null,"2404","TESCO LOTUS EXPRESS","NONG SAMSAK : CHONBURI","หนองซ้ำซาก ชลบุรี","เลขที่ 114/31 หมู่ที่ 2 ตำบลหนองซ้ำซาก อำเภอบ้านบึง จังหวัดชลบุรี 20170","20170",null,null,"01402","","","","ชลบุรี"]
[null,null,null,null,null,null,null,null,null,"2802","TESCO LOTUS EXPRESS","STORE ESSO TCC WANGNOI : AYUTTHAYA","วังน้อย อยุธยา","บริษัท เอก-ชัย ดีสทริบิวชั่น ซิสเทม จำกัด45/2 ม.1 ต.ลำไทรอ.วังน้อยจ.พระนครศรีอยุธยา 13170","13170",null,null,"01822","","","","อยุธยา"]
[null,null,null,null,null,null,null,null,null,"2799","TESCO LOTUS EXPRESS","STORE JOMTHONG : BANGKOK","จอมทอง, กรุงเทพฯ","บริษัท เอก-ชัย ดีสทริบิวชั่น ซิสเทม จำกัด 73/122-123 ม.1 แขวงจอมทอง เขตจอมทอง จ.กรุงเทพมหานคร  10150","10150",null,"02-878-0367","00760","","","",""]
[null,null,null,null,null,null,null,null,null,"2800","TESCO LOTUS EXPRESS","STORE TALAD WONGSAKORN : BANGKOK","ตลาดวงศกร, กรุงเทพฯ","บริษัท เอก-ชัย ดีสทริบิวชั่น ซิสเทม จำกัด 48/96 ม.1 แขวงสายไหม เขตสายไหม จ.กรุงเทพมหานคร 10220","10220",null,"02-991-7688","00754","","","",""]
[null,null,null,null,null,null,null,null,null,"2803","TESCO LOTUS EXPRESS","STORE DAN PEPSI : CHONBURI","ด่านเป็ปซี่ , ชลบุรี","บริษัท เอก-ชัย ดีสทริบิวชั่น ซิสเทม จำกัด 22/16,22/17,22/18 หมู่ที่ 12  ตำบลนาป่า  อำเภอเมือง จังหวัดชลบุรี  20000","20000",null,"02-991-7689","00755","","","",""]
[null,null,null,null,null,null,null,null,null,"2804","TESCO LOTUS EXPRESS","Dan Pepsi : Chonburi (CE0545-3SH)","แยกสรุศักดิ์ , ชลบุรี","บริษัท เอก-ชัย ดีสทริบิวชั่น ซิสเทม จำกัด 22/16,22/17,22/18 หมู่ที่ 12  ตำบลนาป่า  อำเภอเมือง จังหวัดชลบุรี  20001","20001",null,"02-991-7690","00756","","","",""]
[null,null,null,null,null,null,null,null,null,"2809","TESCO LOTUS EXPRESS","ON NUCH 47 : BANGKOK","อ่อนนุช 47, กรุงเทพฯ","บริษัท เอก-ชัย ดีสทริบิวชั่นซิสเทม จำกัด เลขที่ 2195,2197 ถนนอ่อนนุช 47 แขวงสวนหลวง เขตสวนหลวง กรุงเทพมหานคร 10250",10250,null,"02-991-7691","00757","","","",""]
[null,null,null,null,null,null,null,null,null,"2810","TESCO LOTUS EXPRESS","BAN MAI CHAIYAPHOT : BURIRAM","บ้านใหม่ไชยพจน์,บุรีรัมย์","บริษัท เอก-ชัย ดีสทริบิวชั่นซิสเทม จำกัด เลขที่ 162 หมู่ที่ 1 ตำบลหนองแวง อำเภอบ้านใหม่ไชยพจน์ จังหวัดบุรีรัมย์ 31120",31120,null,null,null,"","","","บุรีรัมย์"]
[null,null,null,null,null,null,null,null,null,"2812","TESCO LOTUS EXPRESS","SOI ALIED : CHONBURI","ซอยอารีย์ , ชลบุรี","บริษัท เอก-ชัย ดีสทริบิวชั่นซิสเทม จำกัด เลขที่  161 / 42  ม. 8  ต.บ่อวิน  อ.ศรีราชา  จ.ชลบุรี   20230",20230,null,null,null,"","","","ชลบุรี"]
[null,null,null,null,null,null,null,null,null,"2813","TESCO LOTUS EXPRESS","BAN KLANG : PATHUMTHANI","บ้านกลาง,ปทุมธานี","บริษัท เอก-ชัย ดีสทริบิวชั่น ซิสเทม จำกัด131/38 ม.2 ต.บ้านกลางอ.เมืองปทุมธานีจ.ปทุมธานี\n",12000,null,null,null,"","","","ปทุมธานี"]
[null,null,null,null,null,null,null,null,null,"2814","TESCO LOTUS EXPRESS","KEHA BANG PLEE 3 : SAMUT PRAKARN","เคะหะบางพลี3 ,สมุทรปราการ","บริษัท เอก-ชัย ดีสทริบิวชั่นซิสเทม จำกัด เลขที่  99  ม. 15  ต.บางเสาธง   อ.บางเสาธง  จ.สมุทรปราการ  10540",10540,null,null,null,"2014-02-24",27,"Standalone","ระยอง"]
[null,null,null,null,null,null,null,null,null,"2830","TESCO LOTUS EXPRESS","TCC SOUTH PATTHAYA : CHONBURI","เอสโซ่ พัทยาใต้","บริษัท เอก-ชัย ดีสทริบิวชั่นซิสเทม จำกัด เลขที่ 147/50 ม.9 ต.หนองปรือ อ.บางละมุง จ.ชลบุรี 20150",20150,null,null,null,"","","",""]
[null,null,null,null,null,null,null,null,null,"2832","TESCO LOTUS EXPRESS","TCC TAB KWNAG : SARABURI","เอสโซ่ ทับกวาง , สระบุรี","บริษัท เอก-ชัย ดีสทริบิวชั่นซิสเทม จำกัด เลขที่ 183/3 ม.4 ต.ทับกวาง อ.แก่งคอย จ.สระบุรี 18260",18260,null,null,null,"","","",""]
[null,null,null,null,null,null,null,null,null,"2828","TESCO LOTUS EXPRESS","ESSO PATTHAYA : CHONBURI","เอสโซ่  , พัทยาเหนือ","บริษัท เอก-ชัย ดีสทริบิวชั่น ซิสเทม จำกัด141/190 ม.6 ต.นาเกลือ อ.บางละมุง  จ.ชลบุรี",20150,null,null,null,"","","","ชลบุรี"]
[null,null,null,null,null,null,null,null,null,"2805","TESCO LOTUS EXPRESS","PRATU KU KEAW : MAHA SARAKHAM","ประตูกู่แก้ว,มหาสารคาม"," 23/4-5 ม.13 ต.ท่าขอนยาง อ.กันทรวิชัย จ.มหาสารคาม 44150",44150,null,"0626058914","01825","","","",""]
[null,null,null,null,null,null,null,null,null,"2807","TESCO LOTUS EXPRESS","KHON KAEN HOSPITAL : KHON KAEN","โรงพยาบาลขอนแก่น,ขอนแก่น"," 182/36 ม.4 ต.ในเมือง อ.เมืองขอนแก่น จ.ขอนแก่น 40000",40000,null,"0626058916","01829","","","",""]
[null,null,null,null,null,null,null,null,null,"2820","TESCO LOTUS EXPRESS","NON WAI : UDON THANI","โนนหวาย,อุดรธานี"," 150 ม.8 ต.โนนหวาย อ.หนองวัวซอ จ.อุดรธานี 40000",41220,null,"0626058928","01841","","","",""]
[null,null,null,null,null,null,null,null,null,"2838","TESCO LOTUS EXPRESS","DON MONG : KHON KEAN","ดอนโมง,ขอนแก่น"," 429 ม.9 ต.บ้านกง อ.หนองเรือ จ.ขอนแก่น 40000",40000,null,null,"01862","","","",""]
[null,null,null,null,null,null,null,null,null,"2855","TESCO LOTUS EXPRESS","BAN WA : KHON KEAN","บ้านหว้า"," 314 ม.11 ต.บ้านหว้า อ.เมืองขอนแก่น จ.ขอนแก่น 40000",40000,null,null,"01881","","","",""]
[null,null,null,null,null,null,null,null,null,"2410","TESCO LOTUS EXPRESS","TUMBON NONG PHAI : KHON KAEN","หนองไผ่, ขอนแก่น"," 111/1 หมู่ที่ 13 ต.หนองไผ่ อ.ชุมแพ จ.ขอนแก่น 40130",40130,null,"0626058532","01376","","","",""]
[null,null,null,null,null,null,null,null,null,"2935","TESCO LOTUS EXPRESS","ORE RAMA 2 SOI 18 : BANGKOK","พระราม 2 ซอย 18,กรุงเทพฯ","179/1 ซอยพระราม 2 ซอย 18 แขวงบางมด เขตจอมทอง กทม.10150",10150,null,null,null,"","","",""]
[null,null,null,null,null,null,null,null,null,"2939","TESCO LOTUS EXPRESS","ORE MAP YAI LIA : CHONBURI","มาบยายเลีย , ชลบุรี","46/11 ม.5 ต.หนองปรือ อ.บางละมุง จ. ชลบุรี",20150,null,null,null,"","","",""]
[null,null,null,null,null,null,null,null,null,"2940","TESCO LOTUS EXPRESS","ORE CHAIYAPORNVITHEE : CHONBURI","ชัยพรวิถี , ระยอง","271/22 ม.4 ต.นาเกลือ อ.บางละมุง ชลบุรี",20150,null,null,null,"","","",""]
[null,null,null,null,null,null,null,null,null,"2942","TESCO LOTUS EXPRESS","ORE MOOBAN PRAPIN 3 : NONTHABURI","หมู่บ้านพระปิ่น 3 , นนทบุรี","68/17 ม.15 ต.บางแม่นาง อ.บางใหญ่ นนทบุรี",11140,null,null,null,"","","",""]
[null,null,null,null,null,null,null,null,null,"2943","TESCO LOTUS EXPRESS","ORE LAD KRABANG 14 : SAMUT PRAKAN","ลาดกระบัง 14 , สมุทรปราการ","42/6 ม.8 ต.ราชาเทวะ อ.บางพลี สมุทรปราการ",10540,null,null,null,"","","",""]
[null,null,null,null,null,null,null,null,null,"2946","TESCO LOTUS EXPRESS","ORE CHAN KLIN : BANGKOK","จันทร์กลิ่น , กรุงเทพฯ","481/1 ซอยเทอดไทย 33 แขวงดาวคะนอง เขตธนบุรี กรุงเทพมหานคร",10600,null,null,null,"","","",""]
[null,null,null,null,null,null,null,null,null,"2948","TESCO LOTUS EXPRESS","ORE TALAD MAKHAM THAO : NAKORNRATCHASRIM","ตลาดมะขามเฒ่า , นครราชสีมา","533 ม.2 ต.บ้านใหม่ อ.เมืองนครราชสีมา นครราชสีมา",30000,null,null,null,"","","",""]
[null,null,null,null,null,null,null,null,null,"2954",null,null,"Lotus - บางกรวย เทอดพระเกียรติ,นนทบุรี"]
[null,null,null,null,null,null,null,null,null,"2955",null,null,"Lotus - อำเภอพนมดงรัก,สุรินทร์"]
[null,null,null,null,null,null,null,null,null,"2958",null,null,"Lotus - ซ.รามคำแหง 174 ,กรุงเทพฯ"]
[null,null,null,null,null,null,null,null,null,"2960",null,null,"Lotus - ตลาดช่องจอม,สุรินทร์"]
[null,null,null,null,null,null,null,null,null,"2963",null,null,"Lotus - ซอยกรุงธนบุรี1,กรุงเทพฯ "]
[null,null,null,null,null,null,null,null,null,"2969",null,null,"Lotus - เฉลิมพระเกียรติ 87,กรุงเทพฯ"]
[null,null,null,null,null,null,null,null,null,"2970",null,null,"Lotus - หมู่บ้านวิสต้า,ปทุมธานี"]
[null,null,null,null,null,null,null,null,null,"2975",null,null,"Lotus - ซอยจรัลสนิทวงศ์ 75 , กรุงเทพฯ"]
[null,null,null,null,null,null,null,null,null,"2979",null,null,"Lotus - ตลาดสี่คิ้ว , โคราช"]
[null,null,null,null,null,null,null,null,null,"2982",null,null,"Lotus - พหลโยธิน กม 25, กรุงเทพฯ"]
[null,null,null,null,null,null,null,null,null,"2985",null,null,"Lotus - ห้วยสะพาน , ชลบุรี"]
[null,null,null,null,null,null,null,null,null,"2991",null,null,"Lotus - ถนนคลังอาวุธ , อุบลราชธานี"]
[null,null,null,null,null,null,null,null,null,"2994",null,null,"Lotus - ตลาดนัดเอสพี, ชลบุรี"]
[null,null,null,null,null,null,null,null,null,"2996",null,null,"Lotus - ถนนพัฒนาชนบท 3 , กรุงเทพฯ"]
[null,null,null,null,null,null,null,null,null,"2999",null,null,"Lotus - ซอยศิริชัย , นนทบุรี"]
[null,null,null,null,null,null,null,null,null,"3002",null,null,"Lotus - ซอยมิตรไมตรี,สมุทรปราการ"]
[null,null,null,null,null,null,null,null,null,"3003",null,null,"Lotus - หมู่บ้านสหกรณ์ ไทยออยล์ ,ชลบุรี"]
[null,null,null,null,null,null,null,null,null,"3019",null,null,"Lotus - ตลาดสยามนินจา,ชลบุรี"]
[null,null,null,null,null,null,null,null,null,"3022",null,null,"Lotus - รังสิต คลอง 3"]
[null,null,null,null,null,null,null,null,null,"3024",null,null,"Lotus - ซอยวัดสวนแก้ว,นนทบุรี"]
[null,null,null,null,null,null,null,null,null,"3025",null,null,"Lotus - ตลาดท่าดินแดง,กรุงเทพฯ"]
[null,null,null,null,null,null,null,null,null,"3027",null,null,"Lotus - บางกรวย-จงถนอม,นนทบุรี"]
[null,null,null,null,null,null,null,null,null,"3028",null,null,"Lotus - บางกรวย-ไทรน้อย ซอย 33,นนทบุรี"]
[null,null,null,null,null,null,null,null,null,"3029",null,null,"Lotus - ถนนเทพคุณากร, ฉะเชิงเทรา"]
[null,null,null,null,null,null,null,null,null,"3031",null,null,"Lotus - เสาธงหิน,นนทบุรี"]
[null,null,null,null,null,null,null,null,null,"3032",null,null,"Lotus - นวมินทร์ซอย 42แยก 25 ,กรุงเทพฯ"]
[null,null,null,null,null,null,null,null,null,"3037",null,null,"Lotus - บึงหนองโครต,ขอนแก่น"]
[null,null,null,null,null,null,null,null,null,"3038",null,null,"Lotus - เดอะดิทท์ ลำลูกกาคลอง2,ปทุมธานี"]
[null,null,null,null,null,null,null,null,null,"3042",null,null,"Lotus - พหลโยธิน ซอย 52 แยก 38"]
[null,null,null,null,null,null,null,null,null,"3043",null,null,"Lotus - ตลาดโคกเพชร, นครราชสีมา"]
[null,null,null,null,null,null,null,null,null,"3046",null,null,"Lotus - ซอยสำโรงเหนือ 11(สุขุมวิท113), กรุงเทพฯ"]
[null,null,null,null,null,null,null,null,null,"3045",null,null,"Lotus - ตลาดโรงไก่ (ด่านสาม), ชลบุรี"]
[null,null,null,null,null,null,null,null,null,"3044",null,null,"Lotus - ประชาอุทิศ 23 ,กรุงเทพฯ"]
[null,null,null,null,null,null,null,null,null,"3046",null,null,"Lotus - ซอยสำโรงเหนือ 11 (สุขุมวิท113) กรุงเทพฯ"]
[null,null,null,null,null,null,null,null,null,"2876",null,null,"Lotus - ตลาดนัดแสงเดือน,บางบัวทอง,นนทบุรี"]
[null,null,null,null,null,null,null,null,null,"3047",null,null,"Lotus - จรัลสนิทวงศ์ ซอย 3 "]
[null,null,null,null,null,null,null,null,null,"3050",null,null,"Lotus - ชุมชนเทศบาล 2 บุรีรัมย์"]
[null,null,null,null,null,null,null,null,null,"3051",null,null,"Lotus - ถนนโพธิสาร ขอนแก่น"]
[null,null,null,null,null,null,null,null,null,"3052",null,null,"Lotus - เขาตาโล 3 (พัทยา) ชลบุรี"]
[null,null,null,null,null,null,null,null,null,"3053",null,null,"Lotus - ซอยสุขาประชาสรรค์ 3 นนทบุรี"]
[null,null,null,null,null,null,null,null,null,"2944",null,null,"Lotus - เขาคันทรง ศรีราชา ชลบุรี"]
[null,null,null,null,null,null,null,null,null,"3054",null,null,"Lotus - ซอยรัตนาภิเบศร์ 22 , นนทบุรี"]
[null,null,null,null,null,null,null,null,null,"3055",null,null,"Lotus - ถนนเทพดำเนิน , ขอนแก่น"]
[null,null,null,null,null,null,null,null,null,"2808",null,null,"Lotus - ถนนศรีชมชื่น , อุดรธานี"]
[null,null,null,null,null,null,null,null,null,"2370",null,null,"Lotus - สระใคร , หนองคาย"]
[null,null,null,null,null,null,null,null,null,"2103",null,null,"Lotus - ตลาดอุทัยทิพย์ , มหาสารคาม"]
[null,null,null,null,null,null,null,null,null,"1350",null,null,"Lotus - รพ.อยุธยา"]
[null,null,null,null,null,null,null,null,null,"3058",null,null,"Lotus - คลองสิงห์โต , สมุทรปราการ"]
[null,null,null,null,null,null,null,null,null,"2383",null,null,"Lotus - สร้างคอม , อุดรธานี"]
[null,null,null,null,null,null,null,null,null,"2537",null,null,"Lotus - กำเนิดเพชร , เลย"]
[null,null,null,null,null,null,null,null,null,"1166",null,null,"Lotus - ลาดกระบัง 52 ,กรุงเทพฯ"]
[null,null,null,null,null,null,null,null,null,"1151",null,null,"Lotus - พรสวรรค์พล่าซ่า , นนทบุรี"]
[null,null,null,null,null,null,null,null,null,"1394",null,null,"Lotus - มบ.ลานทอง , นนทบุรี"]
[null,null,null,null,null,null,null,null,null,"1170",null,null,"Lotus - มบ.พฤษภา3, นนทบุรี"]
[null,null,null,null,null,null,null,null,null,"2737",null,null,"Lotus - สะพานมิตรภาพไทย-ลาว, หนองคาย"]
[null,null,null,null,null,null,null,null,null,"2375",null,null,"Lotus - รัตนวาปี, หนองคาย"]
[null,null,null,null,null,null,null,null,null,"2773",null,null,"Lotus - โพนพิสัย, หนองคาย"]
[null,null,null,null,null,null,null,null,null,"2567",null,null,"Lotus - แยกธนารักษ์, เลย"]
[null,null,null,null,null,null,null,null,null,"1153",null,null,"Lotus - พัฒนาการ ซอย 20"]
[null,null,null,null,null,null,null,null,null,"1157",null,null,"Lotus - ซอยสะพานคู่"]
[null,null,null,null,null,null,null,null,null,"1208",null,null,"Lotus - ซอยสุภาพงษ์"]
[null,null,null,null,null,null,null,null,null,"1270",null,null,"Lotus - ซอยแสงจันทร์ "]
[null,null,null,null,null,null,null,null,null,"1668",null,null,"Lotus - ม.ศิลปากร นครปฐม"]
[null,null,null,null,null,null,null,null,null,"1754",null,null,"Lotus - วังสามหมอ"]
[null,null,null,null,null,null,null,null,null,"1757",null,null,"Lotus - อำเภอพยุหะคีรี"]
[null,null,null,null,null,null,null,null,null,"1800",null,null,"Lotus - บ้านลาด เพชรบุรี"]
[null,null,null,null,null,null,null,null,null,"1860",null,null,"Lotus - โกรกพระ , นครสวรรค์"]
[null,null,null,null,null,null,null,null,null,"1941",null,null,"Lotus - สระโบสถ์ ลพบุรี"]
[null,null,null,null,null,null,null,null,null,"2003",null,null,"Lotus - คำม่วง กาฬสินธุ์"]
[null,null,null,null,null,null,null,null,null,"2040",null,null,"Lotus - หนองปลิง นครสวรรค์"]
[null,null,null,null,null,null,null,null,null,"2044",null,null,"Lotus - ตลาดทุ่งฝน อุดรธานี"]
[null,null,null,null,null,null,null,null,null,"2100",null,null,"Lotus - ซอยโยธินพัฒนา "]
[null,null,null,null,null,null,null,null,null,"2293",null,null,"Lotus - ยางสีสุราช,มหาสารคาม"]
[null,null,null,null,null,null,null,null,null,"2457",null,null,"Lotus - ชุมชนวิสุทธิเทพ,เลย"]
[null,null,null,null,null,null,null,null,null,"2607",null,null,"Lotus - หน้าศูนย์ราชการ สกลนคร"]
[null,null,null,null,null,null,null,null,null,"2628",null,null,"Lotus - ตลาดชัยพร, หนองคาย"]
[null,null,null,null,null,null,null,null,null,"2661",null,null,"Lotus - ผาขาว, เลย"]
[null,null,null,null,null,null,null,null,null,"2685",null,null,"Lotus - สังคม, หนองคาย"]
[null,null,null,null,null,null,null,null,null,"2688",null,null,"Lotus - ตลาดเย็นบ้านดุง, อุดรธานี"]
[null,null,null,null,null,null,null,null,null,"2712",null,null,"Lotus - บ้านกลางใหญ่ อุดรธานี"]
[null,null,null,null,null,null,null,null,null,"2739",null,null,"Lotus - ชุมชนบ่อหิน หนองคาย"]
[null,null,null,null,null,null,null,null,null,"2821",null,null,"Lotus - ตลาดวัดธาตุ,หนองคาย"]
[null,null,null,null,null,null,null,null,null,"2866",null,null,"Lotus - ราชภัฏอุดรธานี , อุดรธานี"]
[null,null,null,null,null,null,null,null,null,"2878",null,null,"Lotus - กุมภวาปี , อุดรธานี"]
[null,null,null,null,null,null,null,null,null,"2895",null,null,"Lotus - สามพร้าว ,อุดรธานี"]
[null,null,null,null,null,null,null,null,null,"2906",null,null,"Lotus - ดงมะไฟ ,สกลนคร"]
[null,null,null,null,null,null,null,null,null,"2920",null,null,"Lotus - บ้านดงอุดม , อุดรธานี"]
[null,null,null,null,null,null,null,null,null,"2938",null,null,"Lotus - ท่าบรรทุก, ระยอง "]
[null,null,null,null,null,null,null,null,null,"6401",null,null,"Lotus-talad-พงษ์เพชร นนทบุรี"]
[null,null,null,null,null,null,null,null,null,"6403",null,null,"Lotus-talad-ไชน่าทาวน์"]
[null,null,null,null,null,null,null,null,null,"6404",null,null,"Lotus-talad-ปิ่นเกล้า"]
[null,null,null,null,null,null,null,null,null,"6407",null,null,"Lotus-talad-พนัสนิคม"]
[null,null,null,null,null,null,null,null,null,"6409",null,null,"Lotus-talad-วัชรพล"]
[null,null,null,null,null,null,null,null,null,"6411",null,null,"Lotus-talad-สุรินทร์"]
[null,null,null,null,null,null,null,null,null,"6416",null,null,"Lotus-talad-บ้านแพ้ว"]
[null,null,null,null,null,null,null,null,null,"6417",null,null,"Lotus-talad-ท่ามะกา กาญจนบุรี"]
[null,null,null,null,null,null,null,null,null,"6418",null,null,"Lotus-talad-โพธาราม ราชบุรี"]
[null,null,null,null,null,null,null,null,null,"6427",null,null,"Lotus-talad-ระยอง"]
[null,null,null,null,null,null,null,null,null,"6430",null,null,"Lotus-talad-ท่าม่วง กาญจนบุรี"]
[null,null,null,null,null,null,null,null,null,"6435",null,null,"Lotus-talad-ดำเนินสะดวก ราชบุรี"]
[null,null,null,null,null,null,null,null,null,"6438",null,null,"Lotus-talad-เซ็ลทรัล พัทยา"]
[null,null,null,null,null,null,null,null,null,"6440",null,null,"Lotus-talad-โคกสำโรง ลพบุรี"]
[null,null,null,null,null,null,null,null,null,"6444",null,null,"Lotus-talad-บางปะอิน อยุธยา"]
[null,null,null,null,null,null,null,null,null,"6445",null,null,"Lotus-talad-พิบูลมังสาหาร อุบลฯ"]
[null,null,null,null,null,null,null,null,null,"6456",null,null,"Lotus-talad-เพชรบุรี"]
[null,null,null,null,null,null,null,null,null,"6461",null,null,"Lotus-talad-บัวใหญ่ นครราชสีมา"]
[null,null,null,null,null,null,null,null,null,"6463",null,null,"Lotus-talad-พระนั่งเกล้า นนทบุรี"]
[null,null,null,null,null,null,null,null,null,"6469",null,null,"Lotus-talad-กระนวน จ.ขอนแก่น"]
[null,null,null,null,null,null,null,null,null,"6471",null,null,"Lotus-talad-พุทธมณฑล สาย 4"]
[null,null,null,null,null,null,null,null,null,"6472",null,null,"Lotus-talad-อ่างศิลา ชลบุรี"]
[null,null,null,null,null,null,null,null,null,"6474",null,null,"Lotus-talad-โพนพิสัย จ.หนองคาย"]
[null,null,null,null,null,null,null,null,null,"6475",null,null,"Lotus-talad-บางน้ำเปรี้ยว จ.ฉะเชิงเทรา"]
[null,null,null,null,null,null,null,null,null,"6476",null,null,"Lotus-talad-บ้านหมี่ จ.ลพบุรี"]
[null,null,null,null,null,null,null,null,null,"6477",null,null,"Lotus-talad-ขลุง จ.จันทบุรี"]
[null,null,null,null,null,null,null,null,null,"6478",null,null,"Lotus-talad-กัลปพฤกษ์ บางขุนเทียน กทม"]
[null,null,null,null,null,null,null,null,null,"6489",null,null,"Lotus-talad-บางปะกง จ.ฉะเชิงเทรา"]
[null,null,null,null,null,null,null,null,null,"6498",null,null,"Lotus-talad-พระแท่น กาญจนบุรี"]
[null,null,null,null,null,null,null,null,null,"6540",null,null,"Lotus-talad-ปาติ้ว จ.ยโสธร"]
[null,null,null,null,null,null,null,null,null,"6553",null,null,"Lotus-talad-ประชาอุทิศ พล่าซ่า กทม"]
[null,null,null,null,null,null,null,null,null,"6560",null,null,"Lotus-talad-แพรกษา จ.สมุทรปราการ"]
[null,null,null,null,null,null,null,null,null,"6565",null,null,"Lotus-talad-โคราชตะวันตก จ.นครราชสีมา"]
[null,null,null,null,null,null,null,null,null,"6566",null,null,"Lotus-talad-สนามชัยเขต จ.ฉะเชิงเทรา"]
[null,null,null,null,null,null,null,null,null,"6572",null,null,"Lotus-talad-น้ำยืน จ.อุบลราชธานี"]
[null,null,null,null,null,null,null,null,null,"6576",null,null,"Lotus-talad-ศรีเชียงใหม่ จ.หนองคาย"]
[null,null,null,null,null,null,null,null,null,"6577",null,null,"Lotus-talad-ท่าตะโก จ.นครสวรรค์"]
[null,null,null,null,null,null,null,null,null,"6580",null,null,"Lotus-talad-เกาะจันทร์ จ.ชลบุรี"]
[null,null,null,null,null,null,null,null,null,"6587",null,null,"Lotus-talad-ฉะเชิงเทราทาวน์"]
[null,null,null,null,null,null,null,null,null,"6589",null,null,"Lotus-talad-กันทรารมย์ จ.ศรีสะเกษ"]
[null,null,null,null,null,null,null,null,null,"6590",null,null,"Lotus-talad-ระยองทาวน์"]
[null,null,null,null,null,null,null,null,null,"6591",null,null,"Lotus-talad-แปลงยาว จ.ฉะเชิงเทรา"]
[null,null,null,null,null,null,null,null,null,"6595",null,null,"Lotus-talad-ดอนทอง จ.ฉะเชิงเทรา"]
[null,null,null,null,null,null,null,null,null,"6602",null,null,"Lotus-talad-ชนบท จ.ขอนแก่น"]
[null,null,null,null,null,null,null,null,null,"6603",null,null,"Lotus-talad-อินทร์บุรี จ.สิงห์บุรี"]
[null,null,null,null,null,null,null,null,null,"6605",null,null,"Lotus-talad-ถนนกรุงเทพกรีฑา สะพานสูง"]
[null,null,null,null,null,null,null,null,null,"6607",null,null,"Lotus-talad-เขาสวนกวาง จ.ขอนแก่น"]
[null,null,null,null,null,null,null,null,null,"6609",null,null,"Lotus-talad-บางคล้า จ.ฉะเชิงเทรา"]
[null,null,null,null,null,null,null,null,null,"6612",null,null,"Lotus-talad-สรรคบุรี จ.ชัยนาท"]
[null,null,null,null,null,null,null,null,null,"6613",null,null,"Lotus-talad-ท่าใหม่ จ.จันทบุรี"]
[null,null,null,null,null,null,null,null,null,"6619",null,null,"Lotus-talad-ลาดพร้าว101 กทม"]
[null,null,null,null,null,null,null,null,null,"6624",null,null,"Lotus-talad-เสรีไทย กทม"]
[null,null,null,null,null,null,null,null,null,"6628",null,null,"Lotus-talad-จรัญสนิทวงศ์ กทม"]
[null,null,null,null,null,null,null,null,null,"6629",null,null,"Lotus-talad-กิ่งแก้ว สมุทรปราการ"]
[null,null,null,null,null,null,null,null,null,"3060",null,null,"Lotus - มบ.ไทรน้อย,นนทบุรี"]

{"sheet":"FORM","index":3,"n_rows":68,"n_cols":41,"rows_kept":68,"cut":false,"hidden":false,"merged":[[49,31,49,32],[50,31,50,32],[51,31,51,32],[40,31,40,32],[41,31,41,32],[42,31,42,32],[43,31,43,32],[44,31,44,32],[45,31,45,32],[46,31,46,32],[47,31,47,32],[48,31,48,32],[46,3,46,4],[47,3,47,4],[48,3,48,4],[49,3,49,4],[50,3,50,4],[51,3,51,4],[37,6,37,7],[38,6,38,7],[39,6,39,7],[40,6,40,7],[41,6,41,7],[42,6,42,7],[43,6,43,7],[44,6,44,7],[45,6,45,7],[46,6,46,7],[47,6,47,7],[48,6,48,7],[49,6,49,7],[50,6,50,7],[51,6,51,7],[37,3,37,4],[38,3,38,4],[39,3,39,4],[40,3,40,4],[41,3,41,4],[42,3,42,4],[43,3,43,4],[44,3,44,4],[45,3,45,4],[65,28,66,28],[66,34,66,35],[66,36,66,38],[62,28,62,29],[62,30,62,31],[62,33,62,37],[62,38,62,39],[64,29,64,32],[64,33,64,34],[64,35,64,38],[59,35,59,37],[59,38,59,39],[60,35,60,37],[60,38,60,39],[61,35,61,37],[61,38,61,39],[57,28,57,29],[57,35,57,37],[57,38,57,39],[58,35,58,37],[58,38,58,39],[54,28,54,29],[54,31,54,32],[55,28,55,29],[55,31,55,32],[56,28,56,30],[56,31,56,32],[36,28,36,29],[36,31,36,32],[52,28,52,29],[52,31,52,32],[53,28,53,29],[53,31,53,32],[37,28,37,29],[38,28,38,29],[39,28,39,29],[40,28,40,29],[41,28,41,29],[42,28,42,29],[43,28,43,29],[44,28,44,29],[45,28,45,29],[46,28,46,29],[47,28,47,29],[48,28,48,29],[49,28,49,29],[50,28,50,29],[51,28,51,29],[37,31,37,32],[38,31,38,32],[39,31,39,32],[33,28,33,29],[33,31,33,32],[34,28,34,29],[34,31,34,32],[35,28,35,29],[35,31,35,32],[30,28,30,29],[30,31,30,32],[31,28,31,29],[31,31,31,32],[32,28,32,29],[32,31,32,32],[27,28,27,29],[27,31,27,32],[28,28,28,29],[28,31,28,32],[29,28,29,29],[29,31,29,32],[24,28,24,29],[24,31,24,32],[25,28,25,29],[25,31,25,32],[26,28,26,29],[26,31,26,32],[13,29,13,31],[14,29,14,30],[14,36,14,37],[14,38,14,39],[21,28,21,29],[21,31,21,32],[22,28,22,29],[22,31,22,32],[23,28,23,29],[23,31,23,32],[18,28,18,30],[18,31,18,39],[20,28,20,30],[20,31,20,32],[20,33,20,34],[20,35,20,36],[20,37,20,38],[1,39,1,40],[6,28,6,38],[7,28,7,38],[8,28,8,38],[10,27,10,39],[16,4,16,14],[17,4,17,14],[18,6,18,14],[14,11,14,12],[14,13,14,14],[15,13,15,14],[1,14,1,15],[6,3,6,13],[7,3,7,13],[8,3,8,13],[10,2,10,14],[15,29,15,34],[15,35,15,37],[15,38,15,39],[16,29,16,39],[17,29,17,39],[12,29,12,31],[12,32,12,33],[12,38,12,39],[20,3,20,5],[24,6,24,7],[22,6,22,7],[15,10,15,12],[12,4,12,6],[21,6,21,7],[18,3,18,5],[20,10,20,11],[20,8,20,9],[20,12,20,13],[12,13,12,14],[12,7,12,8],[24,3,24,4],[20,6,20,7],[23,6,23,7],[21,3,21,4],[22,3,22,4],[23,3,23,4],[13,4,13,6],[15,4,15,9],[14,4,14,5],[25,3,25,4],[26,3,26,4],[27,3,27,4],[25,6,25,7],[26,6,26,7],[27,6,27,7],[28,6,28,7],[29,6,29,7],[30,6,30,7],[28,3,28,4],[29,3,29,4],[30,3,30,4],[31,6,31,7],[32,6,32,7],[33,6,33,7],[31,3,31,4],[32,3,32,4],[33,3,33,4],[34,6,34,7],[35,6,35,7],[36,6,36,7],[34,3,34,4],[35,3,35,4],[36,3,36,4],[52,6,52,7],[53,6,53,7],[54,6,54,7],[52,3,52,4],[53,3,53,4],[54,3,54,4],[57,3,57,4],[55,6,55,7],[56,6,56,7],[56,3,56,5],[55,3,55,4],[65,3,66,3],[62,3,62,4],[62,5,62,6],[64,4,64,7],[62,13,62,14],[62,8,62,12],[64,11,64,14],[64,8,64,10],[64,2,64,3],[66,13,66,14],[66,11,66,12],[57,13,57,14],[58,13,58,14],[59,13,59,14],[60,13,60,14],[61,13,61,14],[57,10,57,12],[58,10,58,12],[59,10,59,12],[60,10,60,12],[61,10,61,12]]}
[]
[null,2,null,null,null,null,null,null,null,null,null,null,null,null,"FRM-INV01",null,null,null,null,null,null,null,null,null,null,null,null,null,null,null,null,null,null,null,null,null,null,null,null,"FRM-INV01"]
[null,null,null,null,null,null,null,null,null,null,null,null,null,null,"REF.No. :",{"$f":"COUNTIF(Rec_Trc[Items],1)","v":0},null,null,null,null,null,null,null,null,null,null,null,null,null,null,null,null,null,null,null,null,null,null,null,"REF.No. :",{"$f":"CHOOSE(SelectCase,COUNTIF(MasterExp_Detail!AE:AE,1),COUNTIF(MasterExp_TESCO!AN:AN,1),COUNTIF(#REF!,1))+1","v":1}]
[null,null,null,null,null,null,null,null,null,null,null,null,null,null,"SELECT FRM :",{"$f":"SelectCase","v":2},null,null,null,null,null,null,null,null,null,null,null,null,null,null,null,null,null,null,null,null,null,null,null,"SELECT FRM :",1]
[]
[]
[null,null,null,"บริษัท เอ็น.ซี.เอส โกลด์เบรด จำกัด",null,null,null,null,null,null,null,null,null,null,null,null,null,null,null,null,null,null,null,null,null,null,null,null,"บริษัท เอ็น.ซี.เอส โกลด์เบรด จำกัด"]
[null,null,null,"2/11-12 ถ.รามคำแหง แขวงมีนบุรี เขตมีนบุรี กรุงเทพฯ 10510",null,null,null,null,null,null,null,null,null,null,null,null,null,null,null,null,null,null,null,null,null,null,null,null,"2/11-12 ถ.รามคำแหง แขวงมีนบุรี เขตมีนบุรี กรุงเทพฯ 10510"]
[null,null,null,"เลขประจำตัวผู้เสียภาษีอากร 0105547073295 สำนักงานใหญ่",null,null,null,null,null,null,null,null,null,null,null,null,null,null,null,null,null,null,null,null,null,null,null,null,"เลขประจำตัวผู้เสียภาษีอากร 0105547073295 สำนักงานใหญ่"]
[]
[null,null,"แบบฟอร์มสำหรับคีย์วางบิล ส่งข้อมูลเป็นไฟล์เพื่อวางบิลกับลูกค้าเท่านั้น",null,null,null,null,null,null,null,null,null,null,null,null,null,null,null,null,null,null,null,null,null,null,null,null,"แบบฟอร์มสำหรับคีย์บิลมือวางบิลกับลูกค้าเท่านั้น"]
[]
[null,null,null,"เลขที่ :","-- Create New or Update --",null,null,{"$f":"IF(INV<100,\"<< กรอกเลขที่ invoice\",\"\")","v":""},null,"วันที่ :",{"$f":"FillFRM","v":""},null,"เวลา :",{"$f":"NOW()","v":43358.957441550927},null,null,null,null,null,null,null,null,null,null,null,null,null,null,"เลขที่ :",{"$f":"IF(INV=\"\",\"\",INV)","v":"-- Create New or Update --"},null,null,{"$f":"IF(INV<100,\"<< กรอกเลขที่ invoice\",\"\")","v":""},null,"วันที่ :",{"$f":"IFERROR(INDEX(Rec_Trc[Issue_Date],MATCH(INV,Rec_Trc[INV No.],0)),\"\")","v":""},null,"เวลา :",{"$f":"IFERROR(INDEX(Rec_Trc[Time],MATCH(INV,Rec_Trc[INV No.],0)),\"\")","v":""}]
[null,null,null,"PO :",{"$f":"FillFRM","v":""},null,null,null,null,"วันวางบิล :",{"$f":"FillFRM","v":""},null,null,null,null,null,null,null,null,null,null,null,null,null,null,null,null,null,"PO :",{"$f":"IFERROR(INDEX(Rec_Trc[PO],MATCH(INV,Rec_Trc[INV No.],0)),\"\")","v":""},null,null,null,null,"วันวางบิล :",{"$f":"IFERROR(INDEX(Rec_Trc[Billing_Date],MATCH(INV,Rec_Trc[INV No.],0)),\"\")","v":""}]
[null,null,null,"รหัสร้านค้า :",null,null,null,null,null,null,null,"สาขา :",null,{"$f":"FillFRM","v":""},null,null,null,null,null,null,null,null,null,null,null,null,null,null,"รหัสร้านค้า :",{"$f":"IFERROR(INDEX(Rec_Trc[Store Code],MATCH(INV,Rec_Trc[INV No.],0)),\"\")","v":""},null,null,null,null,null,null,"สาขา :",null,{"$f":"IFERROR(INDEX(Rec_Trc[Branch Code],MATCH(INV,Rec_Trc[INV No.],0)),\"\")","v":""}]
[null,null,null,"ชื่อลูกค้า :",{"$f":"IFERROR(INDEX(INDIRECT(DbTable&\"[StoreName]\"),MATCH(StoreCode,INDIRECT(DbTable&\"[StoreCode]\"),0)),\"\")","v":""},null,null,null,null,null,"รหัสพนักงานขาย :",null,null,{"$f":"FillFRM","v":""},null,null,null,null,null,null,null,null,null,null,null,null,null,null,"ชื่อลูกค้า :",{"$f":"IFERROR(INDEX(INDIRECT(DbTable&\"[StoreName]\"),MATCH(Ref_StoreCode,INDIRECT(DbTable&\"[StoreCode]\"),0)),\"\")","v":""},null,null,null,null,null,"รหัสพนักงานขาย :",null,null,{"$f":"IFERROR(--MID(INDEX(Rec_Trc[Sales],MATCH(INV,Rec_Trc[INV No.],0)),3,10),\"\")","v":""}]
[null,null,null,"ที่อยู่ :",{"$f":"IFERROR(INDEX(INDIRECT(DbTable&\"[Address]\"),MATCH(StoreCode,INDIRECT(DbTable&\"[StoreCode]\"),0)),\"\")","v":""},null,null,null,null,null,null,null,null,null,null,null,null,null,null,null,null,null,null,null,null,null,null,null,"ที่อยู่ :",{"$f":"IFERROR(INDEX(INDIRECT(DbTable&\"[Address]\"),MATCH(Ref_StoreCode,INDIRECT(DbTable&\"[StoreCode]\"),0)),\"\")","v":""}]
[]
[null,null,null,"เลขประจำตัวผู้เสียภาษีอากร ",null,null,"0313543000613",null,null,null,null,null,null,null,null,null,null,null,null,null,null,null,null,null,null,null,null,null,"เลขประจำตัวผู้เสียภาษีอากร ",null,null,"0105536092641"]
[]
[null,"TLItem","ลำดับที่\nItem","รายการ\nDescription",null,null,"รหัสสินค้า\nBarcode",null,"จำนวน\nQuantity",null,"เปลี่ยน\nExchange",null,"ราคา\nPrice",null,"จำนวนเงิน\nAmount",null,null,null,null,null,null,null,null,null,null,null,"Index","ลำดับที่\nItem","รายการ\nDescription",null,null,"รหัสสินค้า\nBarcode",null,"จำนวน\nQuantity",null,"เปลี่ยน\nExchange",null,"ราคา\nPrice",null,"จำนวนเงิน\nAmount"]
[null,{"$f":"IF(D22=\"\",\"\",IF(OR(D22=\"\",I22=0,I22=\"\"),\"-\",MAX($B$21:$B21)+1))","v":""},{"$f":"IF(OR(C21=\"\",D22=\"\"),\"\",ROW(1:1))","v":""},{"$f":"FillFRM","v":""},null,null,{"$f":"IF($C22=\"\",\"\",INDEX(dProduct[BarCode],MATCH($D22,dProduct[NameTH],0)))","v":""},null,{"$f":"FillFRM","v":""},{"$f":"IF(I22=\"\",\"\",\"ชิ้น\")","v":""},{"$f":"FillFRM","v":""},{"$f":"IF(K22=\"\",\"\",\"ชิ้น\")","v":""},{"$f":"IF($C22=\"\",\"\",INDEX(CHOOSE(SelectCase,dProduct[PriceCase],dProduct[LT_Price],dProduct[TWK_Price]),MATCH($D22,dProduct[NameTH],0)))","v":""},{"$f":"IF(M22=\"\",\"\",\"บาท\")","v":""},{"$f":"IF(OR(C22=\"\",I22=\"\"),\"\",IF(M22=\"\",\"0.00\",I22*M22))","v":""},{"$f":"OR(C22=\"\",AND(I22<>\"\",I22>0),AND(K22<>\"\",K22>0))","v":true},null,null,null,null,null,null,null,null,null,null,{"$f":"IF(ROW()-ROW($AF$21)>COUNTIF(Rec_Trc[INV No.],INV),\"\",_xlfn.AGGREGATE(15,6,ROW(Rec_Trc[Product_Name])-ROW(Rec_Trc[[#Headers],[Product_Name]])/(Rec_Trc[INV No.]=INV),ROW()-ROW($AF$21)))","v":""},{"$f":"IF(OR(AB21=\"\",AC22=\"\"),\"\",ROW(1:1))","v":""},{"$f":"IF($AA22=\"\",\"\",INDEX(Rec_Trc[Product_Name],$AA22))","v":""},null,null,{"$f":"IF($AA22=\"\",\"\",INDEX(Rec_Trc[Product_Code],$AA22))","v":""},null,{"$f":"IF($AA22=\"\",\"\",INDEX(Rec_Trc[Unit],$AA22))","v":""},{"$f":"IF(AH22=\"\",\"\",\"ชิ้น\")","v":""},{"$f":"IF($AA22=\"\",\"\",INDEX(Rec_Trc[Exchange],$AA22))","v":""},{"$f":"IF(AJ22=\"\",\"\",\"ชิ้น\")","v":""},{"$f":"IF($C22=\"\",\"\",INDEX(dProduct[PriceCase],MATCH($D22,dProduct[NameTH],0))*(1-Discount))","v":""},{"$f":"IF(AL22=\"\",\"\",\"บาท\")","v":""},{"$f":"IF($AA22=\"\",\"\",INDEX(Rec_Trc[Total Ex.Vat],$AA22))","v":""}]
[null,{"$f":"IF(D23=\"\",\"\",IF(OR(D23=\"\",I23=0,I23=\"\"),\"-\",MAX($B$21:$B22)+1))","v":""},{"$f":"IF(OR(C22=\"\",D23=\"\"),\"\",ROW(2:2))","v":""},"",null,null,{"$f":"IF($C23=\"\",\"\",INDEX(dProduct[BarCode],MATCH($D23,dProduct[NameTH],0)))","v":""},null,"",{"$f":"IF(I23=\"\",\"\",\"ชิ้น\")","v":""},"",{"$f":"IF(K23=\"\",\"\",\"ชิ้น\")","v":""},{"$f":"IF($C23=\"\",\"\",INDEX(CHOOSE(SelectCase,dProduct[PriceCase],dProduct[LT_Price],dProduct[TWK_Price]),MATCH($D23,dProduct[NameTH],0)))","v":""},{"$f":"IF(M23=\"\",\"\",\"บาท\")","v":""},{"$f":"IF(OR(C23=\"\",I23=\"\"),\"\",IF(M23=\"\",\"0.00\",I23*M23))","v":""},{"$f":"OR(C23=\"\",AND(I23<>\"\",I23>0),AND(K23<>\"\",K23>0))","v":true},null,null,null,null,null,null,null,null,null,null,{"$f":"IF(ROW()-ROW($AF$21)>COUNTIF(Rec_Trc[INV No.],INV),\"\",_xlfn.AGGREGATE(15,6,ROW(Rec_Trc[Product_Name])-ROW(Rec_Trc[[#Headers],[Product_Name]])/(Rec_Trc[INV No.]=INV),ROW()-ROW($AF$21)))","v":""},"",{"$f":"IF($AA23=\"\",\"\",INDEX(Rec_Trc[Product_Name],$AA23))","v":""},null,null,{"$f":"IF($AA23=\"\",\"\",INDEX(Rec_Trc[Product_Code],$AA23))","v":""},null,{"$f":"IF($AA23=\"\",\"\",INDEX(Rec_Trc[Unit],$AA23))","v":""},{"$f":"IF(AH23=\"\",\"\",\"ชิ้น\")","v":""},{"$f":"IF($AA23=\"\",\"\",INDEX(Rec_Trc[Exchange],$AA23))","v":""},{"$f":"IF(AJ23=\"\",\"\",\"ชิ้น\")","v":""},{"$f":"IF($C23=\"\",\"\",INDEX(dProduct[PriceCase],MATCH($D23,dProduct[NameTH],0))*(1-Discount))","v":""},{"$f":"IF(AL23=\"\",\"\",\"บาท\")","v":""},{"$f":"IF($AA23=\"\",\"\",INDEX(Rec_Trc[Total Ex.Vat],$AA23))","v":""}]
[null,{"$f":"IF(D24=\"\",\"\",IF(OR(D24=\"\",I24=0,I24=\"\"),\"-\",MAX($B$21:$B23)+1))","v":""},"","",null,null,{"$f":"IF($C24=\"\",\"\",INDEX(dProduct[BarCode],MATCH($D24,dProduct[NameTH],0)))","v":""},null,"","","","",{"$f":"IF($C24=\"\",\"\",INDEX(CHOOSE(SelectCase,dProduct[PriceCase],dProduct[LT_Price],dProduct[TWK_Price]),MATCH($D24,dProduct[NameTH],0)))","v":""},"","",true,null,null,null,null,null,null,null,null,null,null,{"$f":"IF(ROW()-ROW($AF$21)>COUNTIF(Rec_Trc[INV No.],INV),\"\",_xlfn.AGGREGATE(15,6,ROW(Rec_Trc[Product_Name])-ROW(Rec_Trc[[#Headers],[Product_Name]])/(Rec_Trc[INV No.]=INV),ROW()-ROW($AF$21)))","v":""},"",{"$f":"IF($AA24=\"\",\"\",INDEX(Rec_Trc[Product_Name],$AA24))","v":""},null,null,{"$f":"IF($AA24=\"\",\"\",INDEX(Rec_Trc[Product_Code],$AA24))","v":""},null,{"$f":"IF($AA24=\"\",\"\",INDEX(Rec_Trc[Unit],$AA24))","v":""},"",{"$f":"IF($AA24=\"\",\"\",INDEX(Rec_Trc[Exchange],$AA24))","v":""},"",{"$f":"IF($C24=\"\",\"\",INDEX(dProduct[PriceCase],MATCH($D24,dProduct[NameTH],0))*(1-Discount))","v":""},"",{"$f":"IF($AA24=\"\",\"\",INDEX(Rec_Trc[Total Ex.Vat],$AA24))","v":""}]
[null,{"$f":"IF(D25=\"\",\"\",IF(OR(D25=\"\",I25=0,I25=\"\"),\"-\",MAX($B$21:$B24)+1))","v":""},"","",null,null,{"$f":"IF($C25=\"\",\"\",INDEX(dProduct[BarCode],MATCH($D25,dProduct[NameTH],0)))","v":""},null,"","","","",{"$f":"IF($C25=\"\",\"\",INDEX(CHOOSE(SelectCase,dProduct[PriceCase],dProduct[LT_Price],dProduct[TWK_Price]),MATCH($D25,dProduct[NameTH],0)))","v":""},"","",true,null,null,null,null,null,null,null,null,null,null,{"$f":"IF(ROW()-ROW($AF$21)>COUNTIF(Rec_Trc[INV No.],INV),\"\",_xlfn.AGGREGATE(15,6,ROW(Rec_Trc[Product_Name])-ROW(Rec_Trc[[#Headers],[Product_Name]])/(Rec_Trc[INV No.]=INV),ROW()-ROW($AF$21)))","v":""},"",{"$f":"IF($AA25=\"\",\"\",INDEX(Rec_Trc[Product_Name],$AA25))","v":""},null,null,{"$f":"IF($AA25=\"\",\"\",INDEX(Rec_Trc[Product_Code],$AA25))","v":""},null,{"$f":"IF($AA25=\"\",\"\",INDEX(Rec_Trc[Unit],$AA25))","v":""},"",{"$f":"IF($AA25=\"\",\"\",INDEX(Rec_Trc[Exchange],$AA25))","v":""},"",{"$f":"IF($C25=\"\",\"\",INDEX(dProduct[PriceCase],MATCH($D25,dProduct[NameTH],0))*(1-Discount))","v":""},"",{"$f":"IF($AA25=\"\",\"\",INDEX(Rec_Trc[Total Ex.Vat],$AA25))","v":""}]
[null,{"$f":"IF(D26=\"\",\"\",IF(OR(D26=\"\",I26=0,I26=\"\"),\"-\",MAX($B$21:$B25)+1))","v":""},"","",null,null,{"$f":"IF($C26=\"\",\"\",INDEX(dProduct[BarCode],MATCH($D26,dProduct[NameTH],0)))","v":""},null,"",{"$f":"IF(I26=\"\",\"\",\"ชิ้น\")","v":""},"",{"$f":"IF(K26=\"\",\"\",\"ชิ้น\")","v":""},{"$f":"IF($C26=\"\",\"\",INDEX(CHOOSE(SelectCase,dProduct[PriceCase],dProduct[LT_Price],dProduct[TWK_Price]),MATCH($D26,dProduct[NameTH],0)))","v":""},{"$f":"IF(M26=\"\",\"\",\"บาท\")","v":""},{"$f":"IF(OR(C26=\"\",I26=\"\"),\"\",IF(M26=\"\",\"0.00\",I26*M26))","v":""},true,null,null,null,null,null,null,null,null,null,null,{"$f":"IF(ROW()-ROW($AF$21)>COUNTIF(Rec_Trc[INV No.],INV),\"\",_xlfn.AGGREGATE(15,6,ROW(Rec_Trc[Product_Name])-ROW(Rec_Trc[[#Headers],[Product_Name]])/(Rec_Trc[INV No.]=INV),ROW()-ROW($AF$21)))","v":""},"",{"$f":"IF($AA26=\"\",\"\",INDEX(Rec_Trc[Product_Name],$AA26))","v":""},null,null,{"$f":"IF($AA26=\"\",\"\",INDEX(Rec_Trc[Product_Code],$AA26))","v":""},null,{"$f":"IF($AA26=\"\",\"\",INDEX(Rec_Trc[Unit],$AA26))","v":""},"",{"$f":"IF($AA26=\"\",\"\",INDEX(Rec_Trc[Exchange],$AA26))","v":""},{"$f":"IF(AJ26=\"\",\"\",\"ชิ้น\")","v":""},{"$f":"IF($C26=\"\",\"\",INDEX(dProduct[PriceCase],MATCH($D26,dProduct[NameTH],0))*(1-Discount))","v":""},{"$f":"IF(AL26=\"\",\"\",\"บาท\")","v":""},{"$f":"IF($AA26=\"\",\"\",INDEX(Rec_Trc[Total Ex.Vat],$AA26))","v":""}]
[null,{"$f":"IF(D27=\"\",\"\",IF(OR(D27=\"\",I27=0,I27=\"\"),\"-\",MAX($B$21:$B26)+1))","v":""},"","",null,null,{"$f":"IF($C27=\"\",\"\",INDEX(dProduct[BarCode],MATCH($D27,dProduct[NameTH],0)))","v":""},null,"","","","",{"$f":"IF($C27=\"\",\"\",INDEX(CHOOSE(SelectCase,dProduct[PriceCase],dProduct[LT_Price],dProduct[TWK_Price]),MATCH($D27,dProduct[NameTH],0)))","v":""},"","",true,null,null,null,null,null,null,null,null,null,null,{"$f":"IF(ROW()-ROW($AF$21)>COUNTIF(Rec_Trc[INV No.],INV),\"\",_xlfn.AGGREGATE(15,6,ROW(Rec_Trc[Product_Name])-ROW(Rec_Trc[[#Headers],[Product_Name]])/(Rec_Trc[INV No.]=INV),ROW()-ROW($AF$21)))","v":""},"",{"$f":"IF($AA27=\"\",\"\",INDEX(Rec_Trc[Product_Name],$AA27))","v":""},null,null,{"$f":"IF($AA27=\"\",\"\",INDEX(Rec_Trc[Product_Code],$AA27))","v":""},null,{"$f":"IF($AA27=\"\",\"\",INDEX(Rec_Trc[Unit],$AA27))","v":""},"",{"$f":"IF($AA27=\"\",\"\",INDEX(Rec_Trc[Exchange],$AA27))","v":""},"",{"$f":"IF($C27=\"\",\"\",INDEX(dProduct[PriceCase],MATCH($D27,dProduct[NameTH],0))*(1-Discount))","v":""},"",{"$f":"IF($AA27=\"\",\"\",INDEX(Rec_Trc[Total Ex.Vat],$AA27))","v":""}]
[null,{"$f":"IF(D28=\"\",\"\",IF(OR(D28=\"\",I28=0,I28=\"\"),\"-\",MAX($B$21:$B27)+1))","v":""},"","",null,null,{"$f":"IF($C28=\"\",\"\",INDEX(dProduct[BarCode],MATCH($D28,dProduct[NameTH],0)))","v":""},null,"","","","",{"$f":"IF($C28=\"\",\"\",INDEX(CHOOSE(SelectCase,dProduct[PriceCase],dProduct[LT_Price],dProduct[TWK_Price]),MATCH($D28,dProduct[NameTH],0)))","v":""},"","",true,null,null,null,null,null,null,null,null,null,null,{"$f":"IF(ROW()-ROW($AF$21)>COUNTIF(Rec_Trc[INV No.],INV),\"\",_xlfn.AGGREGATE(15,6,ROW(Rec_Trc[Product_Name])-ROW(Rec_Trc[[#Headers],[Product_Name]])/(Rec_Trc[INV No.]=INV),ROW()-ROW($AF$21)))","v":""},"",{"$f":"IF($AA28=\"\",\"\",INDEX(Rec_Trc[Product_Name],$AA28))","v":""},null,null,{"$f":"IF($AA28=\"\",\"\",INDEX(Rec_Trc[Product_Code],$AA28))","v":""},null,{"$f":"IF($AA28=\"\",\"\",INDEX(Rec_Trc[Unit],$AA28))","v":""},"",{"$f":"IF($AA28=\"\",\"\",INDEX(Rec_Trc[Exchange],$AA28))","v":""},"",{"$f":"IF($C28=\"\",\"\",INDEX(dProduct[PriceCase],MATCH($D28,dProduct[NameTH],0))*(1-Discount))","v":""},"",{"$f":"IF($AA28=\"\",\"\",INDEX(Rec_Trc[Total Ex.Vat],$AA28))","v":""}]
[null,{"$f":"IF(D29=\"\",\"\",IF(OR(D29=\"\",I29=0,I29=\"\"),\"-\",MAX($B$21:$B28)+1))","v":""},"","",null,null,{"$f":"IF($C29=\"\",\"\",INDEX(dProduct[BarCode],MATCH($D29,dProduct[NameTH],0)))","v":""},null,"","","","",{"$f":"IF($C29=\"\",\"\",INDEX(CHOOSE(SelectCase,dProduct[PriceCase],dProduct[LT_Price],dProduct[TWK_Price]),MATCH($D29,dProduct[NameTH],0)))","v":""},"","",true,null,null,null,null,null,null,null,null,null,null,{"$f":"IF(ROW()-ROW($AF$21)>COUNTIF(Rec_Trc[INV No.],INV),\"\",_xlfn.AGGREGATE(15,6,ROW(Rec_Trc[Product_Name])-ROW(Rec_Trc[[#Headers],[Product_Name]])/(Rec_Trc[INV No.]=INV),ROW()-ROW($AF$21)))","v":""},"",{"$f":"IF($AA29=\"\",\"\",INDEX(Rec_Trc[Product_Name],$AA29))","v":""},null,null,{"$f":"IF($AA29=\"\",\"\",INDEX(Rec_Trc[Product_Code],$AA29))","v":""},null,{"$f":"IF($AA29=\"\",\"\",INDEX(Rec_Trc[Unit],$AA29))","v":""},"",{"$f":"IF($AA29=\"\",\"\",INDEX(Rec_Trc[Exchange],$AA29))","v":""},"",{"$f":"IF($C29=\"\",\"\",INDEX(dProduct[PriceCase],MATCH($D29,dProduct[NameTH],0))*(1-Discount))","v":""},"",{"$f":"IF($AA29=\"\",\"\",INDEX(Rec_Trc[Total Ex.Vat],$AA29))","v":""}]
[null,{"$f":"IF(D30=\"\",\"\",IF(OR(D30=\"\",I30=0,I30=\"\"),\"-\",MAX($B$21:$B29)+1))","v":""},"","",null,null,{"$f":"IF($C30=\"\",\"\",INDEX(dProduct[BarCode],MATCH($D30,dProduct[NameTH],0)))","v":""},null,"","","","",{"$f":"IF($C30=\"\",\"\",INDEX(CHOOSE(SelectCase,dProduct[PriceCase],dProduct[LT_Price],dProduct[TWK_Price]),MATCH($D30,dProduct[NameTH],0)))","v":""},"","",true,null,null,null,null,null,null,null,null,null,null,{"$f":"IF(ROW()-ROW($AF$21)>COUNTIF(Rec_Trc[INV No.],INV),\"\",_xlfn.AGGREGATE(15,6,ROW(Rec_Trc[Product_Name])-ROW(Rec_Trc[[#Headers],[Product_Name]])/(Rec_Trc[INV No.]=INV),ROW()-ROW($AF$21)))","v":""},"",{"$f":"IF($AA30=\"\",\"\",INDEX(Rec_Trc[Product_Name],$AA30))","v":""},null,null,{"$f":"IF($AA30=\"\",\"\",INDEX(Rec_Trc[Product_Code],$AA30))","v":""},null,{"$f":"IF($AA30=\"\",\"\",INDEX(Rec_Trc[Unit],$AA30))","v":""},"",{"$f":"IF($AA30=\"\",\"\",INDEX(Rec_Trc[Exchange],$AA30))","v":""},"",{"$f":"IF($C30=\"\",\"\",INDEX(dProduct[PriceCase],MATCH($D30,dProduct[NameTH],0))*(1-Discount))","v":""},"",{"$f":"IF($AA30=\"\",\"\",INDEX(Rec_Trc[Total Ex.Vat],$AA30))","v":""}]
[null,{"$f":"IF(D31=\"\",\"\",IF(OR(D31=\"\",I31=0,I31=\"\"),\"-\",MAX($B$21:$B30)+1))","v":""},"","",null,null,{"$f":"IF($C31=\"\",\"\",INDEX(dProduct[BarCode],MATCH($D31,dProduct[NameTH],0)))","v":""},null,"","","","",{"$f":"IF($C31=\"\",\"\",INDEX(CHOOSE(SelectCase,dProduct[PriceCase],dProduct[LT_Price],dProduct[TWK_Price]),MATCH($D31,dProduct[NameTH],0)))","v":""},"","",true,null,null,null,null,null,null,null,null,null,null,{"$f":"IF(ROW()-ROW($AF$21)>COUNTIF(Rec_Trc[INV No.],INV),\"\",_xlfn.AGGREGATE(15,6,ROW(Rec_Trc[Product_Name])-ROW(Rec_Trc[[#Headers],[Product_Name]])/(Rec_Trc[INV No.]=INV),ROW()-ROW($AF$21)))","v":""},"",{"$f":"IF($AA31=\"\",\"\",INDEX(Rec_Trc[Product_Name],$AA31))","v":""},null,null,{"$f":"IF($AA31=\"\",\"\",INDEX(Rec_Trc[Product_Code],$AA31))","v":""},null,{"$f":"IF($AA31=\"\",\"\",INDEX(Rec_Trc[Unit],$AA31))","v":""},"",{"$f":"IF($AA31=\"\",\"\",INDEX(Rec_Trc[Exchange],$AA31))","v":""},"",{"$f":"IF($C31=\"\",\"\",INDEX(dProduct[PriceCase],MATCH($D31,dProduct[NameTH],0))*(1-Discount))","v":""},"",{"$f":"IF($AA31=\"\",\"\",INDEX(Rec_Trc[Total Ex.Vat],$AA31))","v":""}]
[null,{"$f":"IF(D32=\"\",\"\",IF(OR(D32=\"\",I32=0,I32=\"\"),\"-\",MAX($B$21:$B31)+1))","v":""},"","",null,null,{"$f":"IF($C32=\"\",\"\",INDEX(dProduct[BarCode],MATCH($D32,dProduct[NameTH],0)))","v":""},null,"","","","",{"$f":"IF($C32=\"\",\"\",INDEX(CHOOSE(SelectCase,dProduct[PriceCase],dProduct[LT_Price],dProduct[TWK_Price]),MATCH($D32,dProduct[NameTH],0)))","v":""},"","",true,null,null,null,null,null,null,null,null,null,null,{"$f":"IF(ROW()-ROW($AF$21)>COUNTIF(Rec_Trc[INV No.],INV),\"\",_xlfn.AGGREGATE(15,6,ROW(Rec_Trc[Product_Name])-ROW(Rec_Trc[[#Headers],[Product_Name]])/(Rec_Trc[INV No.]=INV),ROW()-ROW($AF$21)))","v":""},"",{"$f":"IF($AA32=\"\",\"\",INDEX(Rec_Trc[Product_Name],$AA32))","v":""},null,null,{"$f":"IF($AA32=\"\",\"\",INDEX(Rec_Trc[Product_Code],$AA32))","v":""},null,{"$f":"IF($AA32=\"\",\"\",INDEX(Rec_Trc[Unit],$AA32))","v":""},"",{"$f":"IF($AA32=\"\",\"\",INDEX(Rec_Trc[Exchange],$AA32))","v":""},"",{"$f":"IF($C32=\"\",\"\",INDEX(dProduct[PriceCase],MATCH($D32,dProduct[NameTH],0))*(1-Discount))","v":""},"",{"$f":"IF($AA32=\"\",\"\",INDEX(Rec_Trc[Total Ex.Vat],$AA32))","v":""}]
[null,{"$f":"IF(D33=\"\",\"\",IF(OR(D33=\"\",I33=0,I33=\"\"),\"-\",MAX($B$21:$B32)+1))","v":""},"","",null,null,{"$f":"IF($C33=\"\",\"\",INDEX(dProduct[BarCode],MATCH($D33,dProduct[NameTH],0)))","v":""},null,"","","","",{"$f":"IF($C33=\"\",\"\",INDEX(CHOOSE(SelectCase,dProduct[PriceCase],dProduct[LT_Price],dProduct[TWK_Price]),MATCH($D33,dProduct[NameTH],0)))","v":""},"","",true,null,null,null,null,null,null,null,null,null,null,{"$f":"IF(ROW()-ROW($AF$21)>COUNTIF(Rec_Trc[INV No.],INV),\"\",_xlfn.AGGREGATE(15,6,ROW(Rec_Trc[Product_Name])-ROW(Rec_Trc[[#Headers],[Product_Name]])/(Rec_Trc[INV No.]=INV),ROW()-ROW($AF$21)))","v":""},"",{"$f":"IF($AA33=\"\",\"\",INDEX(Rec_Trc[Product_Name],$AA33))","v":""},null,null,{"$f":"IF($AA33=\"\",\"\",INDEX(Rec_Trc[Product_Code],$AA33))","v":""},null,{"$f":"IF($AA33=\"\",\"\",INDEX(Rec_Trc[Unit],$AA33))","v":""},"",{"$f":"IF($AA33=\"\",\"\",INDEX(Rec_Trc[Exchange],$AA33))","v":""},"",{"$f":"IF($C33=\"\",\"\",INDEX(dProduct[PriceCase],MATCH($D33,dProduct[NameTH],0))*(1-Discount))","v":""},"",{"$f":"IF($AA33=\"\",\"\",INDEX(Rec_Trc[Total Ex.Vat],$AA33))","v":""}]
[null,{"$f":"IF(D34=\"\",\"\",IF(OR(D34=\"\",I34=0,I34=\"\"),\"-\",MAX($B$21:$B33)+1))","v":""},"","",null,null,{"$f":"IF($C34=\"\",\"\",INDEX(dProduct[BarCode],MATCH($D34,dProduct[NameTH],0)))","v":""},null,"","","","",{"$f":"IF($C34=\"\",\"\",INDEX(CHOOSE(SelectCase,dProduct[PriceCase],dProduct[LT_Price],dProduct[TWK_Price]),MATCH($D34,dProduct[NameTH],0)))","v":""},"","",true,null,null,null,null,null,null,null,null,null,null,{"$f":"IF(ROW()-ROW($AF$21)>COUNTIF(Rec_Trc[INV No.],INV),\"\",_xlfn.AGGREGATE(15,6,ROW(Rec_Trc[Product_Name])-ROW(Rec_Trc[[#Headers],[Product_Name]])/(Rec_Trc[INV No.]=INV),ROW()-ROW($AF$21)))","v":""},"",{"$f":"IF($AA34=\"\",\"\",INDEX(Rec_Trc[Product_Name],$AA34))","v":""},null,null,{"$f":"IF($AA34=\"\",\"\",INDEX(Rec_Trc[Product_Code],$AA34))","v":""},null,{"$f":"IF($AA34=\"\",\"\",INDEX(Rec_Trc[Unit],$AA34))","v":""},"",{"$f":"IF($AA34=\"\",\"\",INDEX(Rec_Trc[Exchange],$AA34))","v":""},"",{"$f":"IF($C34=\"\",\"\",INDEX(dProduct[PriceCase],MATCH($D34,dProduct[NameTH],0))*(1-Discount))","v":""},"",{"$f":"IF($AA34=\"\",\"\",INDEX(Rec_Trc[Total Ex.Vat],$AA34))","v":""}]
[null,{"$f":"IF(D35=\"\",\"\",IF(OR(D35=\"\",I35=0,I35=\"\"),\"-\",MAX($B$21:$B34)+1))","v":""},"","",null,null,{"$f":"IF($C35=\"\",\"\",INDEX(dProduct[BarCode],MATCH($D35,dProduct[NameTH],0)))","v":""},null,"","","","",{"$f":"IF($C35=\"\",\"\",INDEX(CHOOSE(SelectCase,dProduct[PriceCase],dProduct[LT_Price],dProduct[TWK_Price]),MATCH($D35,dProduct[NameTH],0)))","v":""},"","",true,null,null,null,null,null,null,null,null,null,null,{"$f":"IF(ROW()-ROW($AF$21)>COUNTIF(Rec_Trc[INV No.],INV),\"\",_xlfn.AGGREGATE(15,6,ROW(Rec_Trc[Product_Name])-ROW(Rec_Trc[[#Headers],[Product_Name]])/(Rec_Trc[INV No.]=INV),ROW()-ROW($AF$21)))","v":""},"",{"$f":"IF($AA35=\"\",\"\",INDEX(Rec_Trc[Product_Name],$AA35))","v":""},null,null,{"$f":"IF($AA35=\"\",\"\",INDEX(Rec_Trc[Product_Code],$AA35))","v":""},null,{"$f":"IF($AA35=\"\",\"\",INDEX(Rec_Trc[Unit],$AA35))","v":""},"",{"$f":"IF($AA35=\"\",\"\",INDEX(Rec_Trc[Exchange],$AA35))","v":""},"",{"$f":"IF($C35=\"\",\"\",INDEX(dProduct[PriceCase],MATCH($D35,dProduct[NameTH],0))*(1-Discount))","v":""},"",{"$f":"IF($AA35=\"\",\"\",INDEX(Rec_Trc[Total Ex.Vat],$AA35))","v":""}]
[null,{"$f":"IF(D36=\"\",\"\",IF(OR(D36=\"\",I36=0,I36=\"\"),\"-\",MAX($B$21:$B35)+1))","v":""},"","",null,null,{"$f":"IF($C36=\"\",\"\",INDEX(dProduct[BarCode],MATCH($D36,dProduct[NameTH],0)))","v":""},null,"","","","",{"$f":"IF($C36=\"\",\"\",INDEX(CHOOSE(SelectCase,dProduct[PriceCase],dProduct[LT_Price],dProduct[TWK_Price]),MATCH($D36,dProduct[NameTH],0)))","v":""},"","",true,null,null,null,null,null,null,null,null,null,null,{"$f":"IF(ROW()-ROW($AF$21)>COUNTIF(Rec_Trc[INV No.],INV),\"\",_xlfn.AGGREGATE(15,6,ROW(Rec_Trc[Product_Name])-ROW(Rec_Trc[[#Headers],[Product_Name]])/(Rec_Trc[INV No.]=INV),ROW()-ROW($AF$21)))","v":""},"",{"$f":"IF($AA36=\"\",\"\",INDEX(Rec_Trc[Product_Name],$AA36))","v":""},null,null,{"$f":"IF($AA36=\"\",\"\",INDEX(Rec_Trc[Product_Code],$AA36))","v":""},null,{"$f":"IF($AA36=\"\",\"\",INDEX(Rec_Trc[Unit],$AA36))","v":""},"",{"$f":"IF($AA36=\"\",\"\",INDEX(Rec_Trc[Exchange],$AA36))","v":""},"",{"$f":"IF($C36=\"\",\"\",INDEX(dProduct[PriceCase],MATCH($D36,dProduct[NameTH],0))*(1-Discount))","v":""},"",{"$f":"IF($AA36=\"\",\"\",INDEX(Rec_Trc[Total Ex.Vat],$AA36))","v":""}]
[null,{"$f":"IF(D37=\"\",\"\",IF(OR(D37=\"\",I37=0,I37=\"\"),\"-\",MAX($B$21:$B36)+1))","v":""},"","",null,null,{"$f":"IF($C37=\"\",\"\",INDEX(dProduct[BarCode],MATCH($D37,dProduct[NameTH],0)))","v":""},null,"","","","",{"$f":"IF($C37=\"\",\"\",INDEX(CHOOSE(SelectCase,dProduct[PriceCase],dProduct[LT_Price],dProduct[TWK_Price]),MATCH($D37,dProduct[NameTH],0)))","v":""},"","",true,null,null,null,null,null,null,null,null,null,null,{"$f":"IF(ROW()-ROW($AF$21)>COUNTIF(Rec_Trc[INV No.],INV),\"\",_xlfn.AGGREGATE(15,6,ROW(Rec_Trc[Product_Name])-ROW(Rec_Trc[[#Headers],[Product_Name]])/(Rec_Trc[INV No.]=INV),ROW()-ROW($AF$21)))","v":""},"",{"$f":"IF($AA37=\"\",\"\",INDEX(Rec_Trc[Product_Name],$AA37))","v":""},null,null,{"$f":"IF($AA37=\"\",\"\",INDEX(Rec_Trc[Product_Code],$AA37))","v":""},null,{"$f":"IF($AA37=\"\",\"\",INDEX(Rec_Trc[Unit],$AA37))","v":""},"",{"$f":"IF($AA37=\"\",\"\",INDEX(Rec_Trc[Exchange],$AA37))","v":""},"",{"$f":"IF($C37=\"\",\"\",INDEX(dProduct[PriceCase],MATCH($D37,dProduct[NameTH],0))*(1-Discount))","v":""},"",{"$f":"IF($AA37=\"\",\"\",INDEX(Rec_Trc[Total Ex.Vat],$AA37))","v":""}]
[null,{"$f":"IF(D38=\"\",\"\",IF(OR(D38=\"\",I38=0,I38=\"\"),\"-\",MAX($B$21:$B37)+1))","v":""},"","",null,null,{"$f":"IF($C38=\"\",\"\",INDEX(dProduct[BarCode],MATCH($D38,dProduct[NameTH],0)))","v":""},null,"","","","",{"$f":"IF($C38=\"\",\"\",INDEX(CHOOSE(SelectCase,dProduct[PriceCase],dProduct[LT_Price],dProduct[TWK_Price]),MATCH($D38,dProduct[NameTH],0)))","v":""},"","",true,null,null,null,null,null,null,null,null,null,null,{"$f":"IF(ROW()-ROW($AF$21)>COUNTIF(Rec_Trc[INV No.],INV),\"\",_xlfn.AGGREGATE(15,6,ROW(Rec_Trc[Product_Name])-ROW(Rec_Trc[[#Headers],[Product_Name]])/(Rec_Trc[INV No.]=INV),ROW()-ROW($AF$21)))","v":""},"",{"$f":"IF($AA38=\"\",\"\",INDEX(Rec_Trc[Product_Name],$AA38))","v":""},null,null,{"$f":"IF($AA38=\"\",\"\",INDEX(Rec_Trc[Product_Code],$AA38))","v":""},null,{"$f":"IF($AA38=\"\",\"\",INDEX(Rec_Trc[Unit],$AA38))","v":""},"",{"$f":"IF($AA38=\"\",\"\",INDEX(Rec_Trc[Exchange],$AA38))","v":""},"",{"$f":"IF($C38=\"\",\"\",INDEX(dProduct[PriceCase],MATCH($D38,dProduct[NameTH],0))*(1-Discount))","v":""},"",{"$f":"IF($AA38=\"\",\"\",INDEX(Rec_Trc[Total Ex.Vat],$AA38))","v":""}]
[null,{"$f":"IF(D39=\"\",\"\",IF(OR(D39=\"\",I39=0,I39=\"\"),\"-\",MAX($B$21:$B38)+1))","v":""},"","",null,null,{"$f":"IF($C39=\"\",\"\",INDEX(dProduct[BarCode],MATCH($D39,dProduct[NameTH],0)))","v":""},null,"","","","",{"$f":"IF($C39=\"\",\"\",INDEX(CHOOSE(SelectCase,dProduct[PriceCase],dProduct[LT_Price],dProduct[TWK_Price]),MATCH($D39,dProduct[NameTH],0)))","v":""},"","",true,null,null,null,null,null,null,null,null,null,null,{"$f":"IF(ROW()-ROW($AF$21)>COUNTIF(Rec_Trc[INV No.],INV),\"\",_xlfn.AGGREGATE(15,6,ROW(Rec_Trc[Product_Name])-ROW(Rec_Trc[[#Headers],[Product_Name]])/(Rec_Trc[INV No.]=INV),ROW()-ROW($AF$21)))","v":""},"",{"$f":"IF($AA39=\"\",\"\",INDEX(Rec_Trc[Product_Name],$AA39))","v":""},null,null,{"$f":"IF($AA39=\"\",\"\",INDEX(Rec_Trc[Product_Code],$AA39))","v":""},null,{"$f":"IF($AA39=\"\",\"\",INDEX(Rec_Trc[Unit],$AA39))","v":""},"",{"$f":"IF($AA39=\"\",\"\",INDEX(Rec_Trc[Exchange],$AA39))","v":""},"",{"$f":"IF($C39=\"\",\"\",INDEX(dProduct[PriceCase],MATCH($D39,dProduct[NameTH],0))*(1-Discount))","v":""},"",{"$f":"IF($AA39=\"\",\"\",INDEX(Rec_Trc[Total Ex.Vat],$AA39))","v":""}]
[null,{"$f":"IF(D40=\"\",\"\",IF(OR(D40=\"\",I40=0,I40=\"\"),\"-\",MAX($B$21:$B39)+1))","v":""},"","",null,null,{"$f":"IF($C40=\"\",\"\",INDEX(dProduct[BarCode],MATCH($D40,dProduct[NameTH],0)))","v":""},null,"","","","",{"$f":"IF($C40=\"\",\"\",INDEX(CHOOSE(SelectCase,dProduct[PriceCase],dProduct[LT_Price],dProduct[TWK_Price]),MATCH($D40,dProduct[NameTH],0)))","v":""},"","",true,null,null,null,null,null,null,null,null,null,null,{"$f":"IF(ROW()-ROW($AF$21)>COUNTIF(Rec_Trc[INV No.],INV),\"\",_xlfn.AGGREGATE(15,6,ROW(Rec_Trc[Product_Name])-ROW(Rec_Trc[[#Headers],[Product_Name]])/(Rec_Trc[INV No.]=INV),ROW()-ROW($AF$21)))","v":""},"",{"$f":"IF($AA40=\"\",\"\",INDEX(Rec_Trc[Product_Name],$AA40))","v":""},null,null,{"$f":"IF($AA40=\"\",\"\",INDEX(Rec_Trc[Product_Code],$AA40))","v":""},null,{"$f":"IF($AA40=\"\",\"\",INDEX(Rec_Trc[Unit],$AA40))","v":""},"",{"$f":"IF($AA40=\"\",\"\",INDEX(Rec_Trc[Exchange],$AA40))","v":""},"",{"$f":"IF($C40=\"\",\"\",INDEX(dProduct[PriceCase],MATCH($D40,dProduct[NameTH],0))*(1-Discount))","v":""},"",{"$f":"IF($AA40=\"\",\"\",INDEX(Rec_Trc[Total Ex.Vat],$AA40))","v":""}]
[null,{"$f":"IF(D41=\"\",\"\",IF(OR(D41=\"\",I41=0,I41=\"\"),\"-\",MAX($B$21:$B40)+1))","v":""},"","",null,null,{"$f":"IF($C41=\"\",\"\",INDEX(dProduct[BarCode],MATCH($D41,dProduct[NameTH],0)))","v":""},null,"","","","",{"$f":"IF($C41=\"\",\"\",INDEX(CHOOSE(SelectCase,dProduct[PriceCase],dProduct[LT_Price],dProduct[TWK_Price]),MATCH($D41,dProduct[NameTH],0)))","v":""},"","",true,null,null,null,null,null,null,null,null,null,null,{"$f":"IF(ROW()-ROW($AF$21)>COUNTIF(Rec_Trc[INV No.],INV),\"\",_xlfn.AGGREGATE(15,6,ROW(Rec_Trc[Product_Name])-ROW(Rec_Trc[[#Headers],[Product_Name]])/(Rec_Trc[INV No.]=INV),ROW()-ROW($AF$21)))","v":""},"",{"$f":"IF($AA41=\"\",\"\",INDEX(Rec_Trc[Product_Name],$AA41))","v":""},null,null,{"$f":"IF($AA41=\"\",\"\",INDEX(Rec_Trc[Product_Code],$AA41))","v":""},null,{"$f":"IF($AA41=\"\",\"\",INDEX(Rec_Trc[Unit],$AA41))","v":""},"",{"$f":"IF($AA41=\"\",\"\",INDEX(Rec_Trc[Exchange],$AA41))","v":""},"",{"$f":"IF($C41=\"\",\"\",INDEX(dProduct[PriceCase],MATCH($D41,dProduct[NameTH],0))*(1-Discount))","v":""},"",{"$f":"IF($AA41=\"\",\"\",INDEX(Rec_Trc[Total Ex.Vat],$AA41))","v":""}]
[null,{"$f":"IF(D42=\"\",\"\",IF(OR(D42=\"\",I42=0,I42=\"\"),\"-\",MAX($B$21:$B41)+1))","v":""},"","",null,null,{"$f":"IF($C42=\"\",\"\",INDEX(dProduct[BarCode],MATCH($D42,dProduct[NameTH],0)))","v":""},null,"","","","",{"$f":"IF($C42=\"\",\"\",INDEX(CHOOSE(SelectCase,dProduct[PriceCase],dProduct[LT_Price],dProduct[TWK_Price]),MATCH($D42,dProduct[NameTH],0)))","v":""},"","",true,null,null,null,null,null,null,null,null,null,null,{"$f":"IF(ROW()-ROW($AF$21)>COUNTIF(Rec_Trc[INV No.],INV),\"\",_xlfn.AGGREGATE(15,6,ROW(Rec_Trc[Product_Name])-ROW(Rec_Trc[[#Headers],[Product_Name]])/(Rec_Trc[INV No.]=INV),ROW()-ROW($AF$21)))","v":""},"",{"$f":"IF($AA42=\"\",\"\",INDEX(Rec_Trc[Product_Name],$AA42))","v":""},null,null,{"$f":"IF($AA42=\"\",\"\",INDEX(Rec_Trc[Product_Code],$AA42))","v":""},null,{"$f":"IF($AA42=\"\",\"\",INDEX(Rec_Trc[Unit],$AA42))","v":""},"",{"$f":"IF($AA42=\"\",\"\",INDEX(Rec_Trc[Exchange],$AA42))","v":""},"",{"$f":"IF($C42=\"\",\"\",INDEX(dProduct[PriceCase],MATCH($D42,dProduct[NameTH],0))*(1-Discount))","v":""},"",{"$f":"IF($AA42=\"\",\"\",INDEX(Rec_Trc[Total Ex.Vat],$AA42))","v":""}]
[null,{"$f":"IF(D43=\"\",\"\",IF(OR(D43=\"\",I43=0,I43=\"\"),\"-\",MAX($B$21:$B42)+1))","v":""},"","",null,null,{"$f":"IF($C43=\"\",\"\",INDEX(dProduct[BarCode],MATCH($D43,dProduct[NameTH],0)))","v":""},null,"","","","",{"$f":"IF($C43=\"\",\"\",INDEX(CHOOSE(SelectCase,dProduct[PriceCase],dProduct[LT_Price],dProduct[TWK_Price]),MATCH($D43,dProduct[NameTH],0)))","v":""},"","",true,null,null,null,null,null,null,null,null,null,null,{"$f":"IF(ROW()-ROW($AF$21)>COUNTIF(Rec_Trc[INV No.],INV),\"\",_xlfn.AGGREGATE(15,6,ROW(Rec_Trc[Product_Name])-ROW(Rec_Trc[[#Headers],[Product_Name]])/(Rec_Trc[INV No.]=INV),ROW()-ROW($AF$21)))","v":""},"",{"$f":"IF($AA43=\"\",\"\",INDEX(Rec_Trc[Product_Name],$AA43))","v":""},null,null,{"$f":"IF($AA43=\"\",\"\",INDEX(Rec_Trc[Product_Code],$AA43))","v":""},null,{"$f":"IF($AA43=\"\",\"\",INDEX(Rec_Trc[Unit],$AA43))","v":""},"",{"$f":"IF($AA43=\"\",\"\",INDEX(Rec_Trc[Exchange],$AA43))","v":""},"",{"$f":"IF($C43=\"\",\"\",INDEX(dProduct[PriceCase],MATCH($D43,dProduct[NameTH],0))*(1-Discount))","v":""},"",{"$f":"IF($AA43=\"\",\"\",INDEX(Rec_Trc[Total Ex.Vat],$AA43))","v":""}]
[null,{"$f":"IF(D44=\"\",\"\",IF(OR(D44=\"\",I44=0,I44=\"\"),\"-\",MAX($B$21:$B43)+1))","v":""},"","",null,null,{"$f":"IF($C44=\"\",\"\",INDEX(dProduct[BarCode],MATCH($D44,dProduct[NameTH],0)))","v":""},null,"","","","",{"$f":"IF($C44=\"\",\"\",INDEX(CHOOSE(SelectCase,dProduct[PriceCase],dProduct[LT_Price],dProduct[TWK_Price]),MATCH($D44,dProduct[NameTH],0)))","v":""},"","",true,null,null,null,null,null,null,null,null,null,null,{"$f":"IF(ROW()-ROW($AF$21)>COUNTIF(Rec_Trc[INV No.],INV),\"\",_xlfn.AGGREGATE(15,6,ROW(Rec_Trc[Product_Name])-ROW(Rec_Trc[[#Headers],[Product_Name]])/(Rec_Trc[INV No.]=INV),ROW()-ROW($AF$21)))","v":""},"",{"$f":"IF($AA44=\"\",\"\",INDEX(Rec_Trc[Product_Name],$AA44))","v":""},null,null,{"$f":"IF($AA44=\"\",\"\",INDEX(Rec_Trc[Product_Code],$AA44))","v":""},null,{"$f":"IF($AA44=\"\",\"\",INDEX(Rec_Trc[Unit],$AA44))","v":""},"",{"$f":"IF($AA44=\"\",\"\",INDEX(Rec_Trc[Exchange],$AA44))","v":""},"",{"$f":"IF($C44=\"\",\"\",INDEX(dProduct[PriceCase],MATCH($D44,dProduct[NameTH],0))*(1-Discount))","v":""},"",{"$f":"IF($AA44=\"\",\"\",INDEX(Rec_Trc[Total Ex.Vat],$AA44))","v":""}]
[null,{"$f":"IF(D45=\"\",\"\",IF(OR(D45=\"\",I45=0,I45=\"\"),\"-\",MAX($B$21:$B44)+1))","v":""},"","",null,null,{"$f":"IF($C45=\"\",\"\",INDEX(dProduct[BarCode],MATCH($D45,dProduct[NameTH],0)))","v":""},null,"","","","",{"$f":"IF($C45=\"\",\"\",INDEX(CHOOSE(SelectCase,dProduct[PriceCase],dProduct[LT_Price],dProduct[TWK_Price]),MATCH($D45,dProduct[NameTH],0)))","v":""},"","",true,null,null,null,null,null,null,null,null,null,null,{"$f":"IF(ROW()-ROW($AF$21)>COUNTIF(Rec_Trc[INV No.],INV),\"\",_xlfn.AGGREGATE(15,6,ROW(Rec_Trc[Product_Name])-ROW(Rec_Trc[[#Headers],[Product_Name]])/(Rec_Trc[INV No.]=INV),ROW()-ROW($AF$21)))","v":""},"",{"$f":"IF($AA45=\"\",\"\",INDEX(Rec_Trc[Product_Name],$AA45))","v":""},null,null,{"$f":"IF($AA45=\"\",\"\",INDEX(Rec_Trc[Product_Code],$AA45))","v":""},null,{"$f":"IF($AA45=\"\",\"\",INDEX(Rec_Trc[Unit],$AA45))","v":""},"",{"$f":"IF($AA45=\"\",\"\",INDEX(Rec_Trc[Exchange],$AA45))","v":""},"",{"$f":"IF($C45=\"\",\"\",INDEX(dProduct[PriceCase],MATCH($D45,dProduct[NameTH],0))*(1-Discount))","v":""},"",{"$f":"IF($AA45=\"\",\"\",INDEX(Rec_Trc[Total Ex.Vat],$AA45))","v":""}]
[null,{"$f":"IF(D46=\"\",\"\",IF(OR(D46=\"\",I46=0,I46=\"\"),\"-\",MAX($B$21:$B45)+1))","v":""},"","",null,null,{"$f":"IF($C46=\"\",\"\",INDEX(dProduct[BarCode],MATCH($D46,dProduct[NameTH],0)))","v":""},null,"","","","",{"$f":"IF($C46=\"\",\"\",INDEX(CHOOSE(SelectCase,dProduct[PriceCase],dProduct[LT_Price],dProduct[TWK_Price]),MATCH($D46,dProduct[NameTH],0)))","v":""},"","",true,null,null,null,null,null,null,null,null,null,null,{"$f":"IF(ROW()-ROW($AF$21)>COUNTIF(Rec_Trc[INV No.],INV),\"\",_xlfn.AGGREGATE(15,6,ROW(Rec_Trc[Product_Name])-ROW(Rec_Trc[[#Headers],[Product_Name]])/(Rec_Trc[INV No.]=INV),ROW()-ROW($AF$21)))","v":""},"",{"$f":"IF($AA46=\"\",\"\",INDEX(Rec_Trc[Product_Name],$AA46))","v":""},null,null,{"$f":"IF($AA46=\"\",\"\",INDEX(Rec_Trc[Product_Code],$AA46))","v":""},null,{"$f":"IF($AA46=\"\",\"\",INDEX(Rec_Trc[Unit],$AA46))","v":""},"",{"$f":"IF($AA46=\"\",\"\",INDEX(Rec_Trc[Exchange],$AA46))","v":""},"",{"$f":"IF($C46=\"\",\"\",INDEX(dProduct[PriceCase],MATCH($D46,dProduct[NameTH],0))*(1-Discount))","v":""},"",{"$f":"IF($AA46=\"\",\"\",INDEX(Rec_Trc[Total Ex.Vat],$AA46))","v":""}]
[null,{"$f":"IF(D47=\"\",\"\",IF(OR(D47=\"\",I47=0,I47=\"\"),\"-\",MAX($B$21:$B46)+1))","v":""},"","",null,null,{"$f":"IF($C47=\"\",\"\",INDEX(dProduct[BarCode],MATCH($D47,dProduct[NameTH],0)))","v":""},null,"","","","",{"$f":"IF($C47=\"\",\"\",INDEX(CHOOSE(SelectCase,dProduct[PriceCase],dProduct[LT_Price],dProduct[TWK_Price]),MATCH($D47,dProduct[NameTH],0)))","v":""},"","",true,null,null,null,null,null,null,null,null,null,null,{"$f":"IF(ROW()-ROW($AF$21)>COUNTIF(Rec_Trc[INV No.],INV),\"\",_xlfn.AGGREGATE(15,6,ROW(Rec_Trc[Product_Name])-ROW(Rec_Trc[[#Headers],[Product_Name]])/(Rec_Trc[INV No.]=INV),ROW()-ROW($AF$21)))","v":""},"",{"$f":"IF($AA47=\"\",\"\",INDEX(Rec_Trc[Product_Name],$AA47))","v":""},null,null,{"$f":"IF($AA47=\"\",\"\",INDEX(Rec_Trc[Product_Code],$AA47))","v":""},null,{"$f":"IF($AA47=\"\",\"\",INDEX(Rec_Trc[Unit],$AA47))","v":""},"",{"$f":"IF($AA47=\"\",\"\",INDEX(Rec_Trc[Exchange],$AA47))","v":""},"",{"$f":"IF($C47=\"\",\"\",INDEX(dProduct[PriceCase],MATCH($D47,dProduct[NameTH],0))*(1-Discount))","v":""},"",{"$f":"IF($AA47=\"\",\"\",INDEX(Rec_Trc[Total Ex.Vat],$AA47))","v":""}]
[null,{"$f":"IF(D48=\"\",\"\",IF(OR(D48=\"\",I48=0,I48=\"\"),\"-\",MAX($B$21:$B47)+1))","v":""},"","",null,null,{"$f":"IF($C48=\"\",\"\",INDEX(dProduct[BarCode],MATCH($D48,dProduct[NameTH],0)))","v":""},null,"","","","",{"$f":"IF($C48=\"\",\"\",INDEX(CHOOSE(SelectCase,dProduct[PriceCase],dProduct[LT_Price],dProduct[TWK_Price]),MATCH($D48,dProduct[NameTH],0)))","v":""},"","",true,null,null,null,null,null,null,null,null,null,null,{"$f":"IF(ROW()-ROW($AF$21)>COUNTIF(Rec_Trc[INV No.],INV),\"\",_xlfn.AGGREGATE(15,6,ROW(Rec_Trc[Product_Name])-ROW(Rec_Trc[[#Headers],[Product_Name]])/(Rec_Trc[INV No.]=INV),ROW()-ROW($AF$21)))","v":""},"",{"$f":"IF($AA48=\"\",\"\",INDEX(Rec_Trc[Product_Name],$AA48))","v":""},null,null,{"$f":"IF($AA48=\"\",\"\",INDEX(Rec_Trc[Product_Code],$AA48))","v":""},null,{"$f":"IF($AA48=\"\",\"\",INDEX(Rec_Trc[Unit],$AA48))","v":""},"",{"$f":"IF($AA48=\"\",\"\",INDEX(Rec_Trc[Exchange],$AA48))","v":""},"",{"$f":"IF($C48=\"\",\"\",INDEX(dProduct[PriceCase],MATCH($D48,dProduct[NameTH],0))*(1-Discount))","v":""},"",{"$f":"IF($AA48=\"\",\"\",INDEX(Rec_Trc[Total Ex.Vat],$AA48))","v":""}]
[null,{"$f":"IF(D49=\"\",\"\",IF(OR(D49=\"\",I49=0,I49=\"\"),\"-\",MAX($B$21:$B48)+1))","v":""},"","",null,null,{"$f":"IF($C49=\"\",\"\",INDEX(dProduct[BarCode],MATCH($D49,dProduct[NameTH],0)))","v":""},null,"","","","",{"$f":"IF($C49=\"\",\"\",INDEX(CHOOSE(SelectCase,dProduct[PriceCase],dProduct[LT_Price],dProduct[TWK_Price]),MATCH($D49,dProduct[NameTH],0)))","v":""},"","",true,null,null,null,null,null,null,null,null,null,null,{"$f":"IF(ROW()-ROW($AF$21)>COUNTIF(Rec_Trc[INV No.],INV),\"\",_xlfn.AGGREGATE(15,6,ROW(Rec_Trc[Product_Name])-ROW(Rec_Trc[[#Headers],[Product_Name]])/(Rec_Trc[INV No.]=INV),ROW()-ROW($AF$21)))","v":""},"",{"$f":"IF($AA49=\"\",\"\",INDEX(Rec_Trc[Product_Name],$AA49))","v":""},null,null,{"$f":"IF($AA49=\"\",\"\",INDEX(Rec_Trc[Product_Code],$AA49))","v":""},null,{"$f":"IF($AA49=\"\",\"\",INDEX(Rec_Trc[Unit],$AA49))","v":""},"",{"$f":"IF($AA49=\"\",\"\",INDEX(Rec_Trc[Exchange],$AA49))","v":""},"",{"$f":"IF($C49=\"\",\"\",INDEX(dProduct[PriceCase],MATCH($D49,dProduct[NameTH],0))*(1-Discount))","v":""},"",{"$f":"IF($AA49=\"\",\"\",INDEX(Rec_Trc[Total Ex.Vat],$AA49))","v":""}]
[null,{"$f":"IF(D50=\"\",\"\",IF(OR(D50=\"\",I50=0,I50=\"\"),\"-\",MAX($B$21:$B49)+1))","v":""},"","",null,null,{"$f":"IF($C50=\"\",\"\",INDEX(dProduct[BarCode],MATCH($D50,dProduct[NameTH],0)))","v":""},null,"","","","",{"$f":"IF($C50=\"\",\"\",INDEX(CHOOSE(SelectCase,dProduct[PriceCase],dProduct[LT_Price],dProduct[TWK_Price]),MATCH($D50,dProduct[NameTH],0)))","v":""},"","",true,null,null,null,null,null,null,null,null,null,null,{"$f":"IF(ROW()-ROW($AF$21)>COUNTIF(Rec_Trc[INV No.],INV),\"\",_xlfn.AGGREGATE(15,6,ROW(Rec_Trc[Product_Name])-ROW(Rec_Trc[[#Headers],[Product_Name]])/(Rec_Trc[INV No.]=INV),ROW()-ROW($AF$21)))","v":""},"",{"$f":"IF($AA50=\"\",\"\",INDEX(Rec_Trc[Product_Name],$AA50))","v":""},null,null,{"$f":"IF($AA50=\"\",\"\",INDEX(Rec_Trc[Product_Code],$AA50))","v":""},null,{"$f":"IF($AA50=\"\",\"\",INDEX(Rec_Trc[Unit],$AA50))","v":""},"",{"$f":"IF($AA50=\"\",\"\",INDEX(Rec_Trc[Exchange],$AA50))","v":""},"",{"$f":"IF($C50=\"\",\"\",INDEX(dProduct[PriceCase],MATCH($D50,dProduct[NameTH],0))*(1-Discount))","v":""},"",{"$f":"IF($AA50=\"\",\"\",INDEX(Rec_Trc[Total Ex.Vat],$AA50))","v":""}]
[null,{"$f":"IF(D51=\"\",\"\",IF(OR(D51=\"\",I51=0,I51=\"\"),\"-\",MAX($B$21:$B50)+1))","v":""},"","",null,null,{"$f":"IF($C51=\"\",\"\",INDEX(dProduct[BarCode],MATCH($D51,dProduct[NameTH],0)))","v":""},null,"","","","",{"$f":"IF($C51=\"\",\"\",INDEX(CHOOSE(SelectCase,dProduct[PriceCase],dProduct[LT_Price],dProduct[TWK_Price]),MATCH($D51,dProduct[NameTH],0)))","v":""},"","",true,null,null,null,null,null,null,null,null,null,null,{"$f":"IF(ROW()-ROW($AF$21)>COUNTIF(Rec_Trc[INV No.],INV),\"\",_xlfn.AGGREGATE(15,6,ROW(Rec_Trc[Product_Name])-ROW(Rec_Trc[[#Headers],[Product_Name]])/(Rec_Trc[INV No.]=INV),ROW()-ROW($AF$21)))","v":""},"",{"$f":"IF($AA51=\"\",\"\",INDEX(Rec_Trc[Product_Name],$AA51))","v":""},null,null,{"$f":"IF($AA51=\"\",\"\",INDEX(Rec_Trc[Product_Code],$AA51))","v":""},null,{"$f":"IF($AA51=\"\",\"\",INDEX(Rec_Trc[Unit],$AA51))","v":""},"",{"$f":"IF($AA51=\"\",\"\",INDEX(Rec_Trc[Exchange],$AA51))","v":""},"",{"$f":"IF($C51=\"\",\"\",INDEX(dProduct[PriceCase],MATCH($D51,dProduct[NameTH],0))*(1-Discount))","v":""},"",{"$f":"IF($AA51=\"\",\"\",INDEX(Rec_Trc[Total Ex.Vat],$AA51))","v":""}]
[null,{"$f":"IF(D52=\"\",\"\",IF(OR(D52=\"\",I52=0,I52=\"\"),\"-\",MAX($B$21:$B51)+1))","v":""},"","",null,null,{"$f":"IF($C52=\"\",\"\",INDEX(dProduct[BarCode],MATCH($D52,dProduct[NameTH],0)))","v":""},null,"","","","",{"$f":"IF($C52=\"\",\"\",INDEX(CHOOSE(SelectCase,dProduct[PriceCase],dProduct[LT_Price],dProduct[TWK_Price]),MATCH($D52,dProduct[NameTH],0)))","v":""},"","",true,null,null,null,null,null,null,null,null,null,null,{"$f":"IF(ROW()-ROW($AF$21)>COUNTIF(Rec_Trc[INV No.],INV),\"\",_xlfn.AGGREGATE(15,6,ROW(Rec_Trc[Product_Name])-ROW(Rec_Trc[[#Headers],[Product_Name]])/(Rec_Trc[INV No.]=INV),ROW()-ROW($AF$21)))","v":""},"",{"$f":"IF($AA52=\"\",\"\",INDEX(Rec_Trc[Product_Name],$AA52))","v":""},null,null,{"$f":"IF($AA52=\"\",\"\",INDEX(Rec_Trc[Product_Code],$AA52))","v":""},null,{"$f":"IF($AA52=\"\",\"\",INDEX(Rec_Trc[Unit],$AA52))","v":""},"",{"$f":"IF($AA52=\"\",\"\",INDEX(Rec_Trc[Exchange],$AA52))","v":""},"",{"$f":"IF($C52=\"\",\"\",INDEX(dProduct[PriceCase],MATCH($D52,dProduct[NameTH],0))*(1-Discount))","v":""},"",{"$f":"IF($AA52=\"\",\"\",INDEX(Rec_Trc[Total Ex.Vat],$AA52))","v":""}]
[null,{"$f":"IF(D53=\"\",\"\",IF(OR(D53=\"\",I53=0,I53=\"\"),\"-\",MAX($B$21:$B52)+1))","v":""},"","",null,null,{"$f":"IF($C53=\"\",\"\",INDEX(dProduct[BarCode],MATCH($D53,dProduct[NameTH],0)))","v":""},null,"","","","",{"$f":"IF($C53=\"\",\"\",INDEX(CHOOSE(SelectCase,dProduct[PriceCase],dProduct[LT_Price],dProduct[TWK_Price]),MATCH($D53,dProduct[NameTH],0)))","v":""},"","",true,null,null,null,null,null,null,null,null,null,null,{"$f":"IF(ROW()-ROW($AF$21)>COUNTIF(Rec_Trc[INV No.],INV),\"\",_xlfn.AGGREGATE(15,6,ROW(Rec_Trc[Product_Name])-ROW(Rec_Trc[[#Headers],[Product_Name]])/(Rec_Trc[INV No.]=INV),ROW()-ROW($AF$21)))","v":""},"",{"$f":"IF($AA53=\"\",\"\",INDEX(Rec_Trc[Product_Name],$AA53))","v":""},null,null,{"$f":"IF($AA53=\"\",\"\",INDEX(Rec_Trc[Product_Code],$AA53))","v":""},null,{"$f":"IF($AA53=\"\",\"\",INDEX(Rec_Trc[Unit],$AA53))","v":""},"",{"$f":"IF($AA53=\"\",\"\",INDEX(Rec_Trc[Exchange],$AA53))","v":""},"",{"$f":"IF($C53=\"\",\"\",INDEX(dProduct[PriceCase],MATCH($D53,dProduct[NameTH],0))*(1-Discount))","v":""},"",{"$f":"IF($AA53=\"\",\"\",INDEX(Rec_Trc[Total Ex.Vat],$AA53))","v":""}]
[null,{"$f":"IF(D54=\"\",\"\",IF(OR(D54=\"\",I54=0,I54=\"\"),\"-\",MAX($B$21:$B53)+1))","v":""},"","",null,null,{"$f":"IF($C54=\"\",\"\",INDEX(dProduct[BarCode],MATCH($D54,dProduct[NameTH],0)))","v":""},null,"","","","",{"$f":"IF($C54=\"\",\"\",INDEX(CHOOSE(SelectCase,dProduct[PriceCase],dProduct[LT_Price],dProduct[TWK_Price]),MATCH($D54,dProduct[NameTH],0)))","v":""},"","",true,null,null,null,null,null,null,null,null,null,null,{"$f":"IF(ROW()-ROW($AF$21)>COUNTIF(Rec_Trc[INV No.],INV),\"\",_xlfn.AGGREGATE(15,6,ROW(Rec_Trc[Product_Name])-ROW(Rec_Trc[[#Headers],[Product_Name]])/(Rec_Trc[INV No.]=INV),ROW()-ROW($AF$21)))","v":""},"",{"$f":"IF($AA54=\"\",\"\",INDEX(Rec_Trc[Product_Name],$AA54))","v":""},null,null,{"$f":"IF($AA54=\"\",\"\",INDEX(Rec_Trc[Product_Code],$AA54))","v":""},null,{"$f":"IF($AA54=\"\",\"\",INDEX(Rec_Trc[Unit],$AA54))","v":""},"",{"$f":"IF($AA54=\"\",\"\",INDEX(Rec_Trc[Exchange],$AA54))","v":""},"",{"$f":"IF($C54=\"\",\"\",INDEX(dProduct[PriceCase],MATCH($D54,dProduct[NameTH],0))*(1-Discount))","v":""},"",{"$f":"IF($AA54=\"\",\"\",INDEX(Rec_Trc[Total Ex.Vat],$AA54))","v":""}]
[null,{"$f":"IF(D55=\"\",\"\",IF(OR(D55=\"\",I55=0,I55=\"\"),\"-\",MAX($B$21:$B54)+1))","v":""},"","",null,null,{"$f":"IF($C55=\"\",\"\",INDEX(dProduct[BarCode],MATCH($D55,dProduct[NameTH],0)))","v":""},null,"","","","",{"$f":"IF($C55=\"\",\"\",INDEX(CHOOSE(SelectCase,dProduct[PriceCase],dProduct[LT_Price],dProduct[TWK_Price]),MATCH($D55,dProduct[NameTH],0)))","v":""},"","",true,null,null,null,null,null,null,null,null,null,null,{"$f":"IF(ROW()-ROW($AF$21)>COUNTIF(Rec_Trc[INV No.],INV),\"\",_xlfn.AGGREGATE(15,6,ROW(Rec_Trc[Product_Name])-ROW(Rec_Trc[[#Headers],[Product_Name]])/(Rec_Trc[INV No.]=INV),ROW()-ROW($AF$21)))","v":""},"",{"$f":"IF($AA55=\"\",\"\",INDEX(Rec_Trc[Product_Name],$AA55))","v":""},null,null,{"$f":"IF($AA55=\"\",\"\",INDEX(Rec_Trc[Product_Code],$AA55))","v":""},null,{"$f":"IF($AA55=\"\",\"\",INDEX(Rec_Trc[Unit],$AA55))","v":""},"",{"$f":"IF($AA55=\"\",\"\",INDEX(Rec_Trc[Exchange],$AA55))","v":""},"",{"$f":"IF($C55=\"\",\"\",INDEX(dProduct[PriceCase],MATCH($D55,dProduct[NameTH],0))*(1-Discount))","v":""},"",{"$f":"IF($AA55=\"\",\"\",INDEX(Rec_Trc[Total Ex.Vat],$AA55))","v":""}]
[null,{"$f":"IF(D56=\"\",\"\",IF(OR(D56=\"\",I56=0,I56=\"\"),\"-\",MAX($B$21:$B55)+1))","v":""},"","",null,null,{"$f":"IF($C56=\"\",\"\",INDEX(dProduct[BarCode],MATCH($D56,dProduct[NameTH],0)))","v":""},null,"","","","",{"$f":"IF($C56=\"\",\"\",INDEX(CHOOSE(SelectCase,dProduct[PriceCase],dProduct[LT_Price],dProduct[TWK_Price]),MATCH($D56,dProduct[NameTH],0)))","v":""},"","",true,null,null,null,null,null,null,null,null,null,null,{"$f":"IF(ROW()-ROW($AF$21)>COUNTIF(Rec_Trc[INV No.],INV),\"\",_xlfn.AGGREGATE(15,6,ROW(Rec_Trc[Product_Name])-ROW(Rec_Trc[[#Headers],[Product_Name]])/(Rec_Trc[INV No.]=INV),ROW()-ROW($AF$21)))","v":""},"",{"$f":"IF($AA56=\"\",\"\",INDEX(Rec_Trc[Product_Name],$AA56))","v":""},null,null,{"$f":"IF($AA56=\"\",\"\",INDEX(Rec_Trc[Product_Code],$AA56))","v":""},null,{"$f":"IF($AA56=\"\",\"\",INDEX(Rec_Trc[Unit],$AA56))","v":""},"",{"$f":"IF($AA56=\"\",\"\",INDEX(Rec_Trc[Exchange],$AA56))","v":""},"",{"$f":"IF($C56=\"\",\"\",INDEX(dProduct[PriceCase],MATCH($D56,dProduct[NameTH],0))*(1-Discount))","v":""},"",{"$f":"IF($AA56=\"\",\"\",INDEX(Rec_Trc[Total Ex.Vat],$AA56))","v":""}]
[null,null,null,{"$f":"COUNT(C22:C56)","v":0},null,null,null,null,{"$f":"SUM(I22:I56)","v":0},"ชิ้น",{"$f":"COUNTIF(P22:P56,\"FALSE\")","v":0},null,null,null,null,null,null,null,null,null,null,null,null,null,null,null,"Row_Ref",null,{"$f":"COUNT(AB22:AB56)","v":0},null,null,null,null,{"$f":"SUM(AH22:AH56)","v":0},"ชิ้น"]
[null,null,null,null,null,null,null,null,null,null,"รวม/Amount",null,null,{"$f":"SUM(O22:P56)","v":0},null,null,null,null,null,null,null,null,null,null,null,null,{"$f":"MIN(IndexInv)+ROW(Record_Ref)","v":43},null,null,null,null,null,null,null,null,"รวม/Amount",null,null,{"$f":"SUM(AN22:AO56)","v":0}]
[null,null,null,null,null,null,null,null,null,null,{"$f":"\"ส่วนลด………...%\"","v":"ส่วนลด………...%"},null,null,null,null,null,null,null,null,null,null,null,null,null,null,null,{"$f":"MAX(IndexInv)+ROW(Record_Ref)+1","v":44},null,null,null,null,null,null,null,null,{"$f":"\"ส่วนลด………...%\"","v":"ส่วนลด………...%"}]
[null,null,null,{"$f":"\"PO : \"&E14","v":"PO : "},null,null,null,null,null,null,"มูลค่าสินค้าก่อน Vat.",null,null,{"$f":"N58","v":0},null,null,null,null,null,null,null,null,null,null,null,null,null,null,{"$f":"\"PO : \"&AD14","v":"PO : "},null,null,null,null,null,null,"มูลค่าสินค้าก่อน Vat.",null,null,{"$f":"AM58","v":0}]
[null,null,null,null,null,null,null,null,null,null,"ภาษีมูลค่าเพิ่ม 7%",null,null,{"$f":"0.07*N60","v":0},null,null,null,null,null,null,null,null,null,null,null,null,null,null,null,null,null,null,null,null,null,"ภาษีมูลค่าเพิ่ม 7%",null,null,{"$f":"0.07*AM60","v":0}]
[null,null,null,{"$f":"IFERROR(\"(\"&BAHTTEXT(N62)&\")\",\"-\")","v":"(ศูนย์บาทถ้วน)"},null,null,null,null,null,null,"ยอดเงินสุทธิ",null,null,{"$f":"N60+N61","v":0},null,null,null,null,null,null,null,null,null,null,null,null,null,null,{"$f":"IFERROR(\"(\"&BAHTTEXT(AM62)&\")\",\"-\")","v":"(ศูนย์บาทถ้วน)"},null,null,null,null,null,null,"ยอดเงินสุทธิ",null,null,{"$f":"AM60+AM61","v":0}]
[null,null,null,"รวมยอดเก็บเงิน :",null,0,null,null,"พนักงานขาย Seles :",null,null,null,null,{"$f":"RIGHT(Branch,2)&TEXT(N16,\"00\")","v":""},null,null,null,null,null,null,null,null,null,null,null,null,null,null,"รวมยอดเก็บเงิน :",null,0,null,null,"พนักงานขาย Seles :",null,null,null,null,{"$f":"RIGHT(Branch,2)&TEXT(AM16,\"00\")","v":""}]
[]
[null,null,"ผู้รับสินค้า :",null,null,null,null,null,"ผู้รับเงิน/ผู้จัดส่ง :",null,null,null,null,null,null,null,null,null,null,null,null,null,null,null,null,null,null,null,"ผู้รับสินค้า :",null,null,null,null,"ผู้รับเงิน/ผู้จัดส่ง"]
[]
[null,null,null,null,null,null,null,null,null,null,null,"Status :",null,{"$f":"IF(AND(INV<>\"\",StoreCode<>\"\",C22<>\"\",K13<>\"\",TotalAmt.Ex.Vat>0,ROW_Chk=0),\"Ready\",\"Waiting\")","v":"Waiting"},null,null,null,null,null,null,null,null,null,null,null,null,null,null,null,null,null,null,null,null,"Status :",null,{"$f":"IF(AND(INV<>\"\",StoreCode<>\"\",AB22<>\"\",AJ13<>\"\",TotalAmt.Ex.Vat>0),\"พร้อมบันทึก\",\"ข้อมูลยังไม่ครบ\")","v":"ข้อมูลยังไม่ครบ"},null,null,{"$f":"IF(AK67=\"พร้อมบันทึก\",\"OK\",\"NO\")","v":"NO"}]
[null,null,null,null,null,null,null,null,null,null,null,null,null,null,null,null,null,null,null,null,null,null,null,null,null,null,null,null,"-----------------------------------------------------------------------------------------------------------------------------------------"]

{"sheet":"OutputTemplate","index":4,"n_rows":113,"n_cols":28,"rows_kept":113,"cut":false,"hidden":true,"merged":[[38,0,38,1],[0,0,0,1],[76,0,76,1]]}
["| Combine FRM",null,{"$f":"COLUMN()","v":3},{"$f":"COLUMN()","v":4},{"$f":"COLUMN()","v":5},{"$f":"COLUMN()","v":6},{"$f":"COLUMN()","v":7},{"$f":"COLUMN()","v":8},{"$f":"COLUMN()","v":9},{"$f":"COLUMN()","v":10},{"$f":"COLUMN()","v":11},{"$f":"COLUMN()","v":12},{"$f":"COLUMN()","v":13},{"$f":"COLUMN()","v":14},{"$f":"COLUMN()","v":15},{"$f":"COLUMN()","v":16},{"$f":"COLUMN()","v":17},{"$f":"COLUMN()","v":18},{"$f":"COLUMN()","v":19},{"$f":"COLUMN()","v":20},{"$f":"COLUMN()","v":21},{"$f":"COLUMN()","v":22},{"$f":"COLUMN()","v":23},{"$f":"COLUMN()","v":24},{"$f":"COLUMN()","v":25},{"$f":"COLUMN()","v":26},{"$f":"COLUMN()","v":27},{"$f":"COLUMN()","v":28}]
["01-Branch Code","02-Sales","03-Cust Name","04-Date","05-INV No.","Time","PO No.","ลำดับ","06-ชื่อสินค้า","07-Unit","08-Exchange","09-Total","10-Ex.Vat","11-CustomType","12-ส่งของวันที่","13-รอบเข้าร้าน","14-RowsDelete",null,null,"CountData",{"$f":"COUNT(FRM_Detail[ลำดับ])","v":0}]
[{"$f":"IF(ROW(1:1)>ItemRows_New,\"\",Branch)","v":""},{"$f":"IF(ROW(1:1)>ItemRows_New,\"\",Sales)","v":""},{"$f":"IF(ROW(1:1)>ItemRows_New,\"\",StoreCode&\" - \"&StoreName)","v":""},{"$f":"IF(ROW(1:1)>ItemRows_New,\"\",Issue_Date)","v":""},{"$f":"IF(ROW(1:1)>ItemRows_New,\"\",INV)","v":""},{"$f":"IF(ROW(1:1)>ItemRows_New,\"\",Time)","v":""},{"$f":"IF(ROW(1:1)>ItemRows_New,\"\",PO)","v":""},{"$f":"IF(ROW(1:1)>ItemRows_New,\"\",FORM!$C22)","v":""},{"$f":"IF(ROW(1:1)>ItemRows_New,\"\",FORM!$D22)","v":""},{"$f":"IF(ROW(1:1)>ItemRows_New,\"\",FORM!$I22)","v":""},{"$f":"IF(ROW(1:1)>ItemRows_New,\"\",FORM!$K22)","v":""},{"$f":"IF(ROW(1:1)>ItemRows_New,\"\",M3*1.07)","v":""},{"$f":"IF(ROW(1:1)>ItemRows_New,\"\",FORM!$O22)","v":""},{"$f":"IF(ROW(1:1)>ItemRows_New,\"\",MID(C3,5,1)&\" - \"&INDEX(dCustType[Customer],MATCH(MID(C3,5,1),dCustType[Code],0)))","v":""},{"$f":"IF(ROW(1:1)>ItemRows_New,\"\",Issue_Date)","v":""}]
["","","","","","","",{"$f":"IF(ROW(2:2)>ItemRows_New,\"\",FORM!$C23)","v":""},{"$f":"IF(ROW(2:2)>ItemRows_New,\"\",FORM!$D23)","v":""},{"$f":"IF(ROW(2:2)>ItemRows_New,\"\",FORM!$I23)","v":""},{"$f":"IF(ROW(2:2)>ItemRows_New,\"\",FORM!$K23)","v":""},"",{"$f":"IF(ROW(2:2)>ItemRows_New,\"\",FORM!$O23)","v":""},{"$f":"IF(ROW(2:2)>ItemRows_New,\"\",MID(C4,5,1)&\" - \"&INDEX(dCustType[Customer],MATCH(MID(C4,5,1),dCustType[Code],0)))","v":""},""]
["","","","","","","",{"$f":"IF(ROW(3:3)>ItemRows_New,\"\",FORM!$C24)","v":""},{"$f":"IF(ROW(3:3)>ItemRows_New,\"\",FORM!$D24)","v":""},{"$f":"IF(ROW(3:3)>ItemRows_New,\"\",FORM!$I24)","v":""},{"$f":"IF(ROW(3:3)>ItemRows_New,\"\",FORM!$K24)","v":""},"",{"$f":"IF(ROW(3:3)>ItemRows_New,\"\",FORM!$O24)","v":""},{"$f":"IF(ROW(3:3)>ItemRows_New,\"\",MID(C5,5,1)&\" - \"&INDEX(dCustType[Customer],MATCH(MID(C5,5,1),dCustType[Code],0)))","v":""},""]
["","","","","","","",{"$f":"IF(ROW(4:4)>ItemRows_New,\"\",FORM!$C25)","v":""},{"$f":"IF(ROW(4:4)>ItemRows_New,\"\",FORM!$D25)","v":""},{"$f":"IF(ROW(4:4)>ItemRows_New,\"\",FORM!$I25)","v":""},{"$f":"IF(ROW(4:4)>ItemRows_New,\"\",FORM!$K25)","v":""},"",{"$f":"IF(ROW(4:4)>ItemRows_New,\"\",FORM!$O25)","v":""},{"$f":"IF(ROW(4:4)>ItemRows_New,\"\",MID(C6,5,1)&\" - \"&INDEX(dCustType[Customer],MATCH(MID(C6,5,1),dCustType[Code],0)))","v":""},""]
["","","","","","","",{"$f":"IF(ROW(5:5)>ItemRows_New,\"\",FORM!$C26)","v":""},{"$f":"IF(ROW(5:5)>ItemRows_New,\"\",FORM!$D26)","v":""},{"$f":"IF(ROW(5:5)>ItemRows_New,\"\",FORM!$I26)","v":""},{"$f":"IF(ROW(5:5)>ItemRows_New,\"\",FORM!$K26)","v":""},"",{"$f":"IF(ROW(5:5)>ItemRows_New,\"\",FORM!$O26)","v":""},{"$f":"IF(ROW(5:5)>ItemRows_New,\"\",MID(C7,5,1)&\" - \"&INDEX(dCustType[Customer],MATCH(MID(C7,5,1),dCustType[Code],0)))","v":""},""]
["","","","","","","",{"$f":"IF(ROW(6:6)>ItemRows_New,\"\",FORM!$C27)","v":""},{"$f":"IF(ROW(6:6)>ItemRows_New,\"\",FORM!$D27)","v":""},{"$f":"IF(ROW(6:6)>ItemRows_New,\"\",FORM!$I27)","v":""},{"$f":"IF(ROW(6:6)>ItemRows_New,\"\",FORM!$K27)","v":""},"",{"$f":"IF(ROW(6:6)>ItemRows_New,\"\",FORM!$O27)","v":""},{"$f":"IF(ROW(6:6)>ItemRows_New,\"\",MID(C8,5,1)&\" - \"&INDEX(dCustType[Customer],MATCH(MID(C8,5,1),dCustType[Code],0)))","v":""},""]
["","","","","","","",{"$f":"IF(ROW(7:7)>ItemRows_New,\"\",FORM!$C28)","v":""},{"$f":"IF(ROW(7:7)>ItemRows_New,\"\",FORM!$D28)","v":""},{"$f":"IF(ROW(7:7)>ItemRows_New,\"\",FORM!$I28)","v":""},{"$f":"IF(ROW(7:7)>ItemRows_New,\"\",FORM!$K28)","v":""},"",{"$f":"IF(ROW(7:7)>ItemRows_New,\"\",FORM!$O28)","v":""},{"$f":"IF(ROW(7:7)>ItemRows_New,\"\",MID(C9,5,1)&\" - \"&INDEX(dCustType[Customer],MATCH(MID(C9,5,1),dCustType[Code],0)))","v":""},""]
["","","","","","","",{"$f":"IF(ROW(8:8)>ItemRows_New,\"\",FORM!$C29)","v":""},{"$f":"IF(ROW(8:8)>ItemRows_New,\"\",FORM!$D29)","v":""},{"$f":"IF(ROW(8:8)>ItemRows_New,\"\",FORM!$I29)","v":""},{"$f":"IF(ROW(8:8)>ItemRows_New,\"\",FORM!$K29)","v":""},"",{"$f":"IF(ROW(8:8)>ItemRows_New,\"\",FORM!$O29)","v":""},{"$f":"IF(ROW(8:8)>ItemRows_New,\"\",MID(C10,5,1)&\" - \"&INDEX(dCustType[Customer],MATCH(MID(C10,5,1),dCustType[Code],0)))","v":""},""]
["","","","","","","",{"$f":"IF(ROW(9:9)>ItemRows_New,\"\",FORM!$C30)","v":""},{"$f":"IF(ROW(9:9)>ItemRows_New,\"\",FORM!$D30)","v":""},{"$f":"IF(ROW(9:9)>ItemRows_New,\"\",FORM!$I30)","v":""},{"$f":"IF(ROW(9:9)>ItemRows_New,\"\",FORM!$K30)","v":""},"",{"$f":"IF(ROW(9:9)>ItemRows_New,\"\",FORM!$O30)","v":""},{"$f":"IF(ROW(9:9)>ItemRows_New,\"\",MID(C11,5,1)&\" - \"&INDEX(dCustType[Customer],MATCH(MID(C11,5,1),dCustType[Code],0)))","v":""},""]
["","","","","","","",{"$f":"IF(ROW(10:10)>ItemRows_New,\"\",FORM!$C31)","v":""},{"$f":"IF(ROW(10:10)>ItemRows_New,\"\",FORM!$D31)","v":""},{"$f":"IF(ROW(10:10)>ItemRows_New,\"\",FORM!$I31)","v":""},{"$f":"IF(ROW(10:10)>ItemRows_New,\"\",FORM!$K31)","v":""},"",{"$f":"IF(ROW(10:10)>ItemRows_New,\"\",FORM!$O31)","v":""},{"$f":"IF(ROW(10:10)>ItemRows_New,\"\",MID(C12,5,1)&\" - \"&INDEX(dCustType[Customer],MATCH(MID(C12,5,1),dCustType[Code],0)))","v":""},""]
["","","","","","","",{"$f":"IF(ROW(11:11)>ItemRows_New,\"\",FORM!$C32)","v":""},{"$f":"IF(ROW(11:11)>ItemRows_New,\"\",FORM!$D32)","v":""},{"$f":"IF(ROW(11:11)>ItemRows_New,\"\",FORM!$I32)","v":""},{"$f":"IF(ROW(11:11)>ItemRows_New,\"\",FORM!$K32)","v":""},"",{"$f":"IF(ROW(11:11)>ItemRows_New,\"\",FORM!$O32)","v":""},{"$f":"IF(ROW(11:11)>ItemRows_New,\"\",MID(C13,5,1)&\" - \"&INDEX(dCustType[Customer],MATCH(MID(C13,5,1),dCustType[Code],0)))","v":""},""]
["","","","","","","",{"$f":"IF(ROW(12:12)>ItemRows_New,\"\",FORM!$C33)","v":""},{"$f":"IF(ROW(12:12)>ItemRows_New,\"\",FORM!$D33)","v":""},{"$f":"IF(ROW(12:12)>ItemRows_New,\"\",FORM!$I33)","v":""},{"$f":"IF(ROW(12:12)>ItemRows_New,\"\",FORM!$K33)","v":""},"",{"$f":"IF(ROW(12:12)>ItemRows_New,\"\",FORM!$O33)","v":""},{"$f":"IF(ROW(12:12)>ItemRows_New,\"\",MID(C14,5,1)&\" - \"&INDEX(dCustType[Customer],MATCH(MID(C14,5,1),dCustType[Code],0)))","v":""},""]
["","","","","","","",{"$f":"IF(ROW(13:13)>ItemRows_New,\"\",FORM!$C34)","v":""},{"$f":"IF(ROW(13:13)>ItemRows_New,\"\",FORM!$D34)","v":""},{"$f":"IF(ROW(13:13)>ItemRows_New,\"\",FORM!$I34)","v":""},{"$f":"IF(ROW(13:13)>ItemRows_New,\"\",FORM!$K34)","v":""},"",{"$f":"IF(ROW(13:13)>ItemRows_New,\"\",FORM!$O34)","v":""},{"$f":"IF(ROW(13:13)>ItemRows_New,\"\",MID(C15,5,1)&\" - \"&INDEX(dCustType[Customer],MATCH(MID(C15,5,1),dCustType[Code],0)))","v":""},""]
["","","","","","","",{"$f":"IF(ROW(14:14)>ItemRows_New,\"\",FORM!$C35)","v":""},{"$f":"IF(ROW(14:14)>ItemRows_New,\"\",FORM!$D35)","v":""},{"$f":"IF(ROW(14:14)>ItemRows_New,\"\",FORM!$I35)","v":""},{"$f":"IF(ROW(14:14)>ItemRows_New,\"\",FORM!$K35)","v":""},"",{"$f":"IF(ROW(14:14)>ItemRows_New,\"\",FORM!$O35)","v":""},{"$f":"IF(ROW(14:14)>ItemRows_New,\"\",MID(C16,5,1)&\" - \"&INDEX(dCustType[Customer],MATCH(MID(C16,5,1),dCustType[Code],0)))","v":""},""]
["","","","","","","",{"$f":"IF(ROW(15:15)>ItemRows_New,\"\",FORM!$C36)","v":""},{"$f":"IF(ROW(15:15)>ItemRows_New,\"\",FORM!$D36)","v":""},{"$f":"IF(ROW(15:15)>ItemRows_New,\"\",FORM!$I36)","v":""},{"$f":"IF(ROW(15:15)>ItemRows_New,\"\",FORM!$K36)","v":""},"",{"$f":"IF(ROW(15:15)>ItemRows_New,\"\",FORM!$O36)","v":""},{"$f":"IF(ROW(15:15)>ItemRows_New,\"\",MID(C17,5,1)&\" - \"&INDEX(dCustType[Customer],MATCH(MID(C17,5,1),dCustType[Code],0)))","v":""},""]
["","","","","","","",{"$f":"IF(ROW(16:16)>ItemRows_New,\"\",FORM!$C37)","v":""},{"$f":"IF(ROW(16:16)>ItemRows_New,\"\",FORM!$D37)","v":""},{"$f":"IF(ROW(16:16)>ItemRows_New,\"\",FORM!$I37)","v":""},{"$f":"IF(ROW(16:16)>ItemRows_New,\"\",FORM!$K37)","v":""},"",{"$f":"IF(ROW(16:16)>ItemRows_New,\"\",FORM!$O37)","v":""},{"$f":"IF(ROW(16:16)>ItemRows_New,\"\",MID(C18,5,1)&\" - \"&INDEX(dCustType[Customer],MATCH(MID(C18,5,1),dCustType[Code],0)))","v":""},""]
["","","","","","","",{"$f":"IF(ROW(17:17)>ItemRows_New,\"\",FORM!$C38)","v":""},{"$f":"IF(ROW(17:17)>ItemRows_New,\"\",FORM!$D38)","v":""},{"$f":"IF(ROW(17:17)>ItemRows_New,\"\",FORM!$I38)","v":""},{"$f":"IF(ROW(17:17)>ItemRows_New,\"\",FORM!$K38)","v":""},"",{"$f":"IF(ROW(17:17)>ItemRows_New,\"\",FORM!$O38)","v":""},{"$f":"IF(ROW(17:17)>ItemRows_New,\"\",MID(C19,5,1)&\" - \"&INDEX(dCustType[Customer],MATCH(MID(C19,5,1),dCustType[Code],0)))","v":""},""]
["","","","","","","",{"$f":"IF(ROW(18:18)>ItemRows_New,\"\",FORM!$C39)","v":""},{"$f":"IF(ROW(18:18)>ItemRows_New,\"\",FORM!$D39)","v":""},{"$f":"IF(ROW(18:18)>ItemRows_New,\"\",FORM!$I39)","v":""},{"$f":"IF(ROW(18:18)>ItemRows_New,\"\",FORM!$K39)","v":""},"",{"$f":"IF(ROW(18:18)>ItemRows_New,\"\",FORM!$O39)","v":""},{"$f":"IF(ROW(18:18)>ItemRows_New,\"\",MID(C20,5,1)&\" - \"&INDEX(dCustType[Customer],MATCH(MID(C20,5,1),dCustType[Code],0)))","v":""},""]
["","","","","","","",{"$f":"IF(ROW(19:19)>ItemRows_New,\"\",FORM!$C40)","v":""},{"$f":"IF(ROW(19:19)>ItemRows_New,\"\",FORM!$D40)","v":""},{"$f":"IF(ROW(19:19)>ItemRows_New,\"\",FORM!$I40)","v":""},{"$f":"IF(ROW(19:19)>ItemRows_New,\"\",FORM!$K40)","v":""},"",{"$f":"IF(ROW(19:19)>ItemRows_New,\"\",FORM!$O40)","v":""},{"$f":"IF(ROW(19:19)>ItemRows_New,\"\",MID(C21,5,1)&\" - \"&INDEX(dCustType[Customer],MATCH(MID(C21,5,1),dCustType[Code],0)))","v":""},""]
["","","","","","","",{"$f":"IF(ROW(20:20)>ItemRows_New,\"\",FORM!$C41)","v":""},{"$f":"IF(ROW(20:20)>ItemRows_New,\"\",FORM!$D41)","v":""},{"$f":"IF(ROW(20:20)>ItemRows_New,\"\",FORM!$I41)","v":""},{"$f":"IF(ROW(20:20)>ItemRows_New,\"\",FORM!$K41)","v":""},"",{"$f":"IF(ROW(20:20)>ItemRows_New,\"\",FORM!$O41)","v":""},{"$f":"IF(ROW(20:20)>ItemRows_New,\"\",MID(C22,5,1)&\" - \"&INDEX(dCustType[Customer],MATCH(MID(C22,5,1),dCustType[Code],0)))","v":""},""]
["","","","","","","",{"$f":"IF(ROW(21:21)>ItemRows_New,\"\",FORM!$C42)","v":""},{"$f":"IF(ROW(21:21)>ItemRows_New,\"\",FORM!$D42)","v":""},{"$f":"IF(ROW(21:21)>ItemRows_New,\"\",FORM!$I42)","v":""},{"$f":"IF(ROW(21:21)>ItemRows_New,\"\",FORM!$K42)","v":""},"",{"$f":"IF(ROW(21:21)>ItemRows_New,\"\",FORM!$O42)","v":""},{"$f":"IF(ROW(21:21)>ItemRows_New,\"\",MID(C23,5,1)&\" - \"&INDEX(dCustType[Customer],MATCH(MID(C23,5,1),dCustType[Code],0)))","v":""},""]
["","","","","","","",{"$f":"IF(ROW(22:22)>ItemRows_New,\"\",FORM!$C43)","v":""},{"$f":"IF(ROW(22:22)>ItemRows_New,\"\",FORM!$D43)","v":""},{"$f":"IF(ROW(22:22)>ItemRows_New,\"\",FORM!$I43)","v":""},{"$f":"IF(ROW(22:22)>ItemRows_New,\"\",FORM!$K43)","v":""},"",{"$f":"IF(ROW(22:22)>ItemRows_New,\"\",FORM!$O43)","v":""},{"$f":"IF(ROW(22:22)>ItemRows_New,\"\",MID(C24,5,1)&\" - \"&INDEX(dCustType[Customer],MATCH(MID(C24,5,1),dCustType[Code],0)))","v":""},""]
["","","","","","","",{"$f":"IF(ROW(23:23)>ItemRows_New,\"\",FORM!$C44)","v":""},{"$f":"IF(ROW(23:23)>ItemRows_New,\"\",FORM!$D44)","v":""},{"$f":"IF(ROW(23:23)>ItemRows_New,\"\",FORM!$I44)","v":""},{"$f":"IF(ROW(23:23)>ItemRows_New,\"\",FORM!$K44)","v":""},"",{"$f":"IF(ROW(23:23)>ItemRows_New,\"\",FORM!$O44)","v":""},{"$f":"IF(ROW(23:23)>ItemRows_New,\"\",MID(C25,5,1)&\" - \"&INDEX(dCustType[Customer],MATCH(MID(C25,5,1),dCustType[Code],0)))","v":""},""]
["","","","","","","",{"$f":"IF(ROW(24:24)>ItemRows_New,\"\",FORM!$C45)","v":""},{"$f":"IF(ROW(24:24)>ItemRows_New,\"\",FORM!$D45)","v":""},{"$f":"IF(ROW(24:24)>ItemRows_New,\"\",FORM!$I45)","v":""},{"$f":"IF(ROW(24:24)>ItemRows_New,\"\",FORM!$K45)","v":""},"",{"$f":"IF(ROW(24:24)>ItemRows_New,\"\",FORM!$O45)","v":""},{"$f":"IF(ROW(24:24)>ItemRows_New,\"\",MID(C26,5,1)&\" - \"&INDEX(dCustType[Customer],MATCH(MID(C26,5,1),dCustType[Code],0)))","v":""},""]
["","","","","","","",{"$f":"IF(ROW(25:25)>ItemRows_New,\"\",FORM!$C46)","v":""},{"$f":"IF(ROW(25:25)>ItemRows_New,\"\",FORM!$D46)","v":""},{"$f":"IF(ROW(25:25)>ItemRows_New,\"\",FORM!$I46)","v":""},{"$f":"IF(ROW(25:25)>ItemRows_New,\"\",FORM!$K46)","v":""},"",{"$f":"IF(ROW(25:25)>ItemRows_New,\"\",FORM!$O46)","v":""},{"$f":"IF(ROW(25:25)>ItemRows_New,\"\",MID(C27,5,1)&\" - \"&INDEX(dCustType[Customer],MATCH(MID(C27,5,1),dCustType[Code],0)))","v":""},""]
["","","","","","","",{"$f":"IF(ROW(26:26)>ItemRows_New,\"\",FORM!$C47)","v":""},{"$f":"IF(ROW(26:26)>ItemRows_New,\"\",FORM!$D47)","v":""},{"$f":"IF(ROW(26:26)>ItemRows_New,\"\",FORM!$I47)","v":""},{"$f":"IF(ROW(26:26)>ItemRows_New,\"\",FORM!$K47)","v":""},"",{"$f":"IF(ROW(26:26)>ItemRows_New,\"\",FORM!$O47)","v":""},{"$f":"IF(ROW(26:26)>ItemRows_New,\"\",MID(C28,5,1)&\" - \"&INDEX(dCustType[Customer],MATCH(MID(C28,5,1),dCustType[Code],0)))","v":""},""]
["","","","","","","",{"$f":"IF(ROW(27:27)>ItemRows_New,\"\",FORM!$C48)","v":""},{"$f":"IF(ROW(27:27)>ItemRows_New,\"\",FORM!$D48)","v":""},{"$f":"IF(ROW(27:27)>ItemRows_New,\"\",FORM!$I48)","v":""},{"$f":"IF(ROW(27:27)>ItemRows_New,\"\",FORM!$K48)","v":""},"",{"$f":"IF(ROW(27:27)>ItemRows_New,\"\",FORM!$O48)","v":""},{"$f":"IF(ROW(27:27)>ItemRows_New,\"\",MID(C29,5,1)&\" - \"&INDEX(dCustType[Customer],MATCH(MID(C29,5,1),dCustType[Code],0)))","v":""},""]
["","","","","","","",{"$f":"IF(ROW(28:28)>ItemRows_New,\"\",FORM!$C49)","v":""},{"$f":"IF(ROW(28:28)>ItemRows_New,\"\",FORM!$D49)","v":""},{"$f":"IF(ROW(28:28)>ItemRows_New,\"\",FORM!$I49)","v":""},{"$f":"IF(ROW(28:28)>ItemRows_New,\"\",FORM!$K49)","v":""},"",{"$f":"IF(ROW(28:28)>ItemRows_New,\"\",FORM!$O49)","v":""},{"$f":"IF(ROW(28:28)>ItemRows_New,\"\",MID(C30,5,1)&\" - \"&INDEX(dCustType[Customer],MATCH(MID(C30,5,1),dCustType[Code],0)))","v":""},""]
["","","","","","","",{"$f":"IF(ROW(29:29)>ItemRows_New,\"\",FORM!$C50)","v":""},{"$f":"IF(ROW(29:29)>ItemRows_New,\"\",FORM!$D50)","v":""},{"$f":"IF(ROW(29:29)>ItemRows_New,\"\",FORM!$I50)","v":""},{"$f":"IF(ROW(29:29)>ItemRows_New,\"\",FORM!$K50)","v":""},"",{"$f":"IF(ROW(29:29)>ItemRows_New,\"\",FORM!$O50)","v":""},{"$f":"IF(ROW(29:29)>ItemRows_New,\"\",MID(C31,5,1)&\" - \"&INDEX(dCustType[Customer],MATCH(MID(C31,5,1),dCustType[Code],0)))","v":""},""]
["","","","","","","",{"$f":"IF(ROW(30:30)>ItemRows_New,\"\",FORM!$C51)","v":""},{"$f":"IF(ROW(30:30)>ItemRows_New,\"\",FORM!$D51)","v":""},{"$f":"IF(ROW(30:30)>ItemRows_New,\"\",FORM!$I51)","v":""},{"$f":"IF(ROW(30:30)>ItemRows_New,\"\",FORM!$K51)","v":""},"",{"$f":"IF(ROW(30:30)>ItemRows_New,\"\",FORM!$O51)","v":""},{"$f":"IF(ROW(30:30)>ItemRows_New,\"\",MID(C32,5,1)&\" - \"&INDEX(dCustType[Customer],MATCH(MID(C32,5,1),dCustType[Code],0)))","v":""},""]
["","","","","","","",{"$f":"IF(ROW(31:31)>ItemRows_New,\"\",FORM!$C52)","v":""},{"$f":"IF(ROW(31:31)>ItemRows_New,\"\",FORM!$D52)","v":""},{"$f":"IF(ROW(31:31)>ItemRows_New,\"\",FORM!$I52)","v":""},{"$f":"IF(ROW(31:31)>ItemRows_New,\"\",FORM!$K52)","v":""},"",{"$f":"IF(ROW(31:31)>ItemRows_New,\"\",FORM!$O52)","v":""},{"$f":"IF(ROW(31:31)>ItemRows_New,\"\",MID(C33,5,1)&\" - \"&INDEX(dCustType[Customer],MATCH(MID(C33,5,1),dCustType[Code],0)))","v":""},""]
["","","","","","","",{"$f":"IF(ROW(32:32)>ItemRows_New,\"\",FORM!$C53)","v":""},{"$f":"IF(ROW(32:32)>ItemRows_New,\"\",FORM!$D53)","v":""},{"$f":"IF(ROW(32:32)>ItemRows_New,\"\",FORM!$I53)","v":""},{"$f":"IF(ROW(32:32)>ItemRows_New,\"\",FORM!$K53)","v":""},"",{"$f":"IF(ROW(32:32)>ItemRows_New,\"\",FORM!$O53)","v":""},{"$f":"IF(ROW(32:32)>ItemRows_New,\"\",MID(C34,5,1)&\" - \"&INDEX(dCustType[Customer],MATCH(MID(C34,5,1),dCustType[Code],0)))","v":""},""]
["","","","","","","",{"$f":"IF(ROW(33:33)>ItemRows_New,\"\",FORM!$C54)","v":""},{"$f":"IF(ROW(33:33)>ItemRows_New,\"\",FORM!$D54)","v":""},{"$f":"IF(ROW(33:33)>ItemRows_New,\"\",FORM!$I54)","v":""},{"$f":"IF(ROW(33:33)>ItemRows_New,\"\",FORM!$K54)","v":""},"",{"$f":"IF(ROW(33:33)>ItemRows_New,\"\",FORM!$O54)","v":""},{"$f":"IF(ROW(33:33)>ItemRows_New,\"\",MID(C35,5,1)&\" - \"&INDEX(dCustType[Customer],MATCH(MID(C35,5,1),dCustType[Code],0)))","v":""},""]
["","","","","","","",{"$f":"IF(ROW(34:34)>ItemRows_New,\"\",FORM!$C55)","v":""},{"$f":"IF(ROW(34:34)>ItemRows_New,\"\",FORM!$D55)","v":""},{"$f":"IF(ROW(34:34)>ItemRows_New,\"\",FORM!$I55)","v":""},{"$f":"IF(ROW(34:34)>ItemRows_New,\"\",FORM!$K55)","v":""},"",{"$f":"IF(ROW(34:34)>ItemRows_New,\"\",FORM!$O55)","v":""},{"$f":"IF(ROW(34:34)>ItemRows_New,\"\",MID(C36,5,1)&\" - \"&INDEX(dCustType[Customer],MATCH(MID(C36,5,1),dCustType[Code],0)))","v":""},""]
["","","","","","","",{"$f":"IF(ROW(35:35)>ItemRows_New,\"\",FORM!$C56)","v":""},{"$f":"IF(ROW(35:35)>ItemRows_New,\"\",FORM!$D56)","v":""},{"$f":"IF(ROW(35:35)>ItemRows_New,\"\",FORM!$I56)","v":""},{"$f":"IF(ROW(35:35)>ItemRows_New,\"\",FORM!$K56)","v":""},"",{"$f":"IF(ROW(35:35)>ItemRows_New,\"\",FORM!$O56)","v":""},{"$f":"IF(ROW(35:35)>ItemRows_New,\"\",MID(C37,5,1)&\" - \"&INDEX(dCustType[Customer],MATCH(MID(C37,5,1),dCustType[Code],0)))","v":""},""]
[]
["| Tesco Lotus FRM"]
["Doc Type","Vendor","PO no.","RTV no.","RFC no.","Site","VAT Branch number","Invoice Date","Invoice No.","PO Discount","Total Amt. before VAT","Taxable Amt.","VAT","Total","Line no.","Style no.","UPC","SKU","Qty Case","Price Case","Qty Unit","Price Unit","Multiplied Price","PO Item Discount","Total Net","VAT Rate","VAT amount","Total2"]
[{"$f":"IF(ROW(1:1)>ItemRows_New,\"\",\"INV\")","v":""},{"$f":"IF(ROW(1:1)>ItemRows_New,\"\",\"10593\")","v":""},{"$f":"IF(ROW(1:1)>ItemRows_New,\"\",PO)","v":""},null,null,{"$f":"IF(ROW(1:1)>ItemRows_New,\"\",StoreCode)","v":""},{"$f":"IF(ROW(1:1)>ItemRows_New,\"\",\"00000\")","v":""},{"$f":"IF(ROW(1:1)>ItemRows_New,\"\",Issue_Date)","v":""},{"$f":"IF(ROW(1:1)>ItemRows_New,\"\",INV)","v":""},"",{"$f":"IF(ROW(1:1)>ItemRows_New,\"\",TotalAmt.Ex.Vat)","v":""},"",{"$f":"IF(ROW(1:1)>ItemRows_New,\"\",Vat)","v":""},{"$f":"IF(ROW(1:1)>ItemRows_New,\"\",Total.Vat)","v":""},{"$f":"IF(ROW(1:1)>ItemRows_New,\"\",FORM!$C22)","v":""},null,{"$f":"IF(ROW(1:1)>ItemRows_New,\"\",TEXT(FORM!$G22,\"0000000000000\"))","v":""},null,null,{"$f":"IF(ROW(1:1)>ItemRows_New,\"\",INDEX(dProduct[PriceCase],MATCH(FRM_TL[[#This Row],[UPC]],dProduct[BarCode],0)))","v":""},{"$f":"IF(ROW(1:1)>ItemRows_New,\"\",FORM!$I22)","v":""},{"$f":"IF(ROW(1:1)>ItemRows_New,\"\",ROUND(T41-T41*0.26-7*(T41-T41*0.26)/107,2))","v":""},{"$f":"IF(ROW(1:1)>ItemRows_New,\"\",FRM_TL[[#This Row],[Qty Unit]]*FRM_TL[[#This Row],[Price Unit]])","v":""},null,{"$f":"IF(ROW(1:1)>ItemRows_New,\"\",FRM_TL[[#This Row],[Multiplied Price]])","v":""},{"$f":"IF(ROW(1:1)>ItemRows_New,\"\",7)","v":""},{"$f":"IF(ROW(1:1)>ItemRows_New,\"\",ROUND(Y41*Z41*0.01,2))","v":""},{"$f":"IF(ROW(1:1)>ItemRows_New,\"\",Y41+AA41)","v":""}]
["","","",null,null,"","","","","",{"$f":"IF(ROW(2:2)>ItemRows_New,\"\",TotalAmt.Ex.Vat)","v":""},"","","",{"$f":"IF(ROW(2:2)>ItemRows_New,\"\",FORM!$C23)","v":""},null,{"$f":"IF(ROW(2:2)>ItemRows_New,\"\",TEXT(FORM!$G23,\"0000000000000\"))","v":""},null,null,{"$f":"IF(ROW(2:2)>ItemRows_New,\"\",INDEX(dProduct[PriceCase],MATCH(FRM_TL[[#This Row],[UPC]],dProduct[BarCode],0)))","v":""},{"$f":"IF(ROW(2:2)>ItemRows_New,\"\",FORM!$I23)","v":""},"",{"$f":"IF(ROW(2:2)>ItemRows_New,\"\",FRM_TL[[#This Row],[Qty Unit]]*FRM_TL[[#This Row],[Price Unit]])","v":""},null,{"$f":"IF(ROW(2:2)>ItemRows_New,\"\",FRM_TL[[#This Row],[Multiplied Price]])","v":""},"","",""]
["","","",null,null,"","","","","",{"$f":"IF(ROW(3:3)>ItemRows_New,\"\",TotalAmt.Ex.Vat)","v":""},"","","",{"$f":"IF(ROW(3:3)>ItemRows_New,\"\",FORM!$C24)","v":""},null,{"$f":"IF(ROW(3:3)>ItemRows_New,\"\",TEXT(FORM!$G24,\"0000000000000\"))","v":""},null,null,{"$f":"IF(ROW(3:3)>ItemRows_New,\"\",INDEX(dProduct[PriceCase],MATCH(FRM_TL[[#This Row],[UPC]],dProduct[BarCode],0)))","v":""},{"$f":"IF(ROW(3:3)>ItemRows_New,\"\",FORM!$I24)","v":""},"",{"$f":"IF(ROW(3:3)>ItemRows_New,\"\",FRM_TL[[#This Row],[Qty Unit]]*FRM_TL[[#This Row],[Price Unit]])","v":""},null,{"$f":"IF(ROW(3:3)>ItemRows_New,\"\",FRM_TL[[#This Row],[Multiplied Price]])","v":""},"","",""]
["","","",null,null,"","","","","",{"$f":"IF(ROW(4:4)>ItemRows_New,\"\",TotalAmt.Ex.Vat)","v":""},"","","",{"$f":"IF(ROW(4:4)>ItemRows_New,\"\",FORM!$C25)","v":""},null,{"$f":"IF(ROW(4:4)>ItemRows_New,\"\",TEXT(FORM!$G25,\"0000000000000\"))","v":""},null,null,{"$f":"IF(ROW(4:4)>ItemRows_New,\"\",INDEX(dProduct[PriceCase],MATCH(FRM_TL[[#This Row],[UPC]],dProduct[BarCode],0)))","v":""},{"$f":"IF(ROW(4:4)>ItemRows_New,\"\",FORM!$I25)","v":""},"",{"$f":"IF(ROW(4:4)>ItemRows_New,\"\",FRM_TL[[#This Row],[Qty Unit]]*FRM_TL[[#This Row],[Price Unit]])","v":""},null,{"$f":"IF(ROW(4:4)>ItemRows_New,\"\",FRM_TL[[#This Row],[Multiplied Price]])","v":""},"","",""]
["","","",null,null,"","","","","",{"$f":"IF(ROW(5:5)>ItemRows_New,\"\",TotalAmt.Ex.Vat)","v":""},"","","",{"$f":"IF(ROW(5:5)>ItemRows_New,\"\",FORM!$C26)","v":""},null,{"$f":"IF(ROW(5:5)>ItemRows_New,\"\",TEXT(FORM!$G26,\"0000000000000\"))","v":""},null,null,{"$f":"IF(ROW(5:5)>ItemRows_New,\"\",INDEX(dProduct[PriceCase],MATCH(FRM_TL[[#This Row],[UPC]],dProduct[BarCode],0)))","v":""},{"$f":"IF(ROW(5:5)>ItemRows_New,\"\",FORM!$I26)","v":""},"",{"$f":"IF(ROW(5:5)>ItemRows_New,\"\",FRM_TL[[#This Row],[Qty Unit]]*FRM_TL[[#This Row],[Price Unit]])","v":""},null,{"$f":"IF(ROW(5:5)>ItemRows_New,\"\",FRM_TL[[#This Row],[Multiplied Price]])","v":""},"","",""]
["","","",null,null,"","","","",null,{"$f":"IF(ROW(6:6)>ItemRows_New,\"\",TotalAmt.Ex.Vat)","v":""},"","","",{"$f":"IF(ROW(6:6)>ItemRows_New,\"\",FORM!$C27)","v":""},null,{"$f":"IF(ROW(6:6)>ItemRows_New,\"\",TEXT(FORM!$G27,\"0000000000000\"))","v":""},null,null,{"$f":"IF(ROW(6:6)>ItemRows_New,\"\",INDEX(dProduct[PriceCase],MATCH(FRM_TL[[#This Row],[UPC]],dProduct[BarCode],0)))","v":""},{"$f":"IF(ROW(6:6)>ItemRows_New,\"\",FORM!$I27)","v":""},"",{"$f":"IF(ROW(6:6)>ItemRows_New,\"\",FRM_TL[[#This Row],[Qty Unit]]*FRM_TL[[#This Row],[Price Unit]])","v":""},null,{"$f":"IF(ROW(6:6)>ItemRows_New,\"\",FRM_TL[[#This Row],[Multiplied Price]])","v":""},"","",""]
["","","",null,null,"","","","",null,{"$f":"IF(ROW(7:7)>ItemRows_New,\"\",TotalAmt.Ex.Vat)","v":""},"","","",{"$f":"IF(ROW(7:7)>ItemRows_New,\"\",FORM!$C28)","v":""},null,{"$f":"IF(ROW(7:7)>ItemRows_New,\"\",TEXT(FORM!$G28,\"0000000000000\"))","v":""},null,null,{"$f":"IF(ROW(7:7)>ItemRows_New,\"\",INDEX(dProduct[PriceCase],MATCH(FRM_TL[[#This Row],[UPC]],dProduct[BarCode],0)))","v":""},{"$f":"IF(ROW(7:7)>ItemRows_New,\"\",FORM!$I28)","v":""},"",{"$f":"IF(ROW(7:7)>ItemRows_New,\"\",FRM_TL[[#This Row],[Qty Unit]]*FRM_TL[[#This Row],[Price Unit]])","v":""},null,{"$f":"IF(ROW(7:7)>ItemRows_New,\"\",FRM_TL[[#This Row],[Multiplied Price]])","v":""},"","",""]
["","","",null,null,"","","","",null,{"$f":"IF(ROW(8:8)>ItemRows_New,\"\",TotalAmt.Ex.Vat)","v":""},"","","",{"$f":"IF(ROW(8:8)>ItemRows_New,\"\",FORM!$C29)","v":""},null,{"$f":"IF(ROW(8:8)>ItemRows_New,\"\",TEXT(FORM!$G29,\"0000000000000\"))","v":""},null,null,{"$f":"IF(ROW(8:8)>ItemRows_New,\"\",INDEX(dProduct[PriceCase],MATCH(FRM_TL[[#This Row],[UPC]],dProduct[BarCode],0)))","v":""},{"$f":"IF(ROW(8:8)>ItemRows_New,\"\",FORM!$I29)","v":""},"",{"$f":"IF(ROW(8:8)>ItemRows_New,\"\",FRM_TL[[#This Row],[Qty Unit]]*FRM_TL[[#This Row],[Price Unit]])","v":""},null,{"$f":"IF(ROW(8:8)>ItemRows_New,\"\",FRM_TL[[#This Row],[Multiplied Price]])","v":""},"","",""]
["","","",null,null,"","","","",null,{"$f":"IF(ROW(9:9)>ItemRows_New,\"\",TotalAmt.Ex.Vat)","v":""},"","","",{"$f":"IF(ROW(9:9)>ItemRows_New,\"\",FORM!$C30)","v":""},null,{"$f":"IF(ROW(9:9)>ItemRows_New,\"\",TEXT(FORM!$G30,\"0000000000000\"))","v":""},null,null,{"$f":"IF(ROW(9:9)>ItemRows_New,\"\",INDEX(dProduct[PriceCase],MATCH(FRM_TL[[#This Row],[UPC]],dProduct[BarCode],0)))","v":""},{"$f":"IF(ROW(9:9)>ItemRows_New,\"\",FORM!$I30)","v":""},"",{"$f":"IF(ROW(9:9)>ItemRows_New,\"\",FRM_TL[[#This Row],[Qty Unit]]*FRM_TL[[#This Row],[Price Unit]])","v":""},null,{"$f":"IF(ROW(9:9)>ItemRows_New,\"\",FRM_TL[[#This Row],[Multiplied Price]])","v":""},"","",""]
["","","",null,null,"","","","",null,{"$f":"IF(ROW(10:10)>ItemRows_New,\"\",TotalAmt.Ex.Vat)","v":""},"","","",{"$f":"IF(ROW(10:10)>ItemRows_New,\"\",FORM!$C31)","v":""},null,{"$f":"IF(ROW(10:10)>ItemRows_New,\"\",TEXT(FORM!$G31,\"0000000000000\"))","v":""},null,null,{"$f":"IF(ROW(10:10)>ItemRows_New,\"\",INDEX(dProduct[PriceCase],MATCH(FRM_TL[[#This Row],[UPC]],dProduct[BarCode],0)))","v":""},{"$f":"IF(ROW(10:10)>ItemRows_New,\"\",FORM!$I31)","v":""},"",{"$f":"IF(ROW(10:10)>ItemRows_New,\"\",FRM_TL[[#This Row],[Qty Unit]]*FRM_TL[[#This Row],[Price Unit]])","v":""},null,{"$f":"IF(ROW(10:10)>ItemRows_New,\"\",FRM_TL[[#This Row],[Multiplied Price]])","v":""},"","",""]
["","","",null,null,"","","","",null,{"$f":"IF(ROW(11:11)>ItemRows_New,\"\",TotalAmt.Ex.Vat)","v":""},"","","",{"$f":"IF(ROW(11:11)>ItemRows_New,\"\",FORM!$C32)","v":""},null,{"$f":"IF(ROW(11:11)>ItemRows_New,\"\",TEXT(FORM!$G32,\"0000000000000\"))","v":""},null,null,{"$f":"IF(ROW(11:11)>ItemRows_New,\"\",INDEX(dProduct[PriceCase],MATCH(FRM_TL[[#This Row],[UPC]],dProduct[BarCode],0)))","v":""},{"$f":"IF(ROW(11:11)>ItemRows_New,\"\",FORM!$I32)","v":""},"",{"$f":"IF(ROW(11:11)>ItemRows_New,\"\",FRM_TL[[#This Row],[Qty Unit]]*FRM_TL[[#This Row],[Price Unit]])","v":""},null,{"$f":"IF(ROW(11:11)>ItemRows_New,\"\",FRM_TL[[#This Row],[Multiplied Price]])","v":""},"","",""]
["","","",null,null,"","","","",null,{"$f":"IF(ROW(12:12)>ItemRows_New,\"\",TotalAmt.Ex.Vat)","v":""},"","","",{"$f":"IF(ROW(12:12)>ItemRows_New,\"\",FORM!$C33)","v":""},null,{"$f":"IF(ROW(12:12)>ItemRows_New,\"\",TEXT(FORM!$G33,\"0000000000000\"))","v":""},null,null,{"$f":"IF(ROW(12:12)>ItemRows_New,\"\",INDEX(dProduct[PriceCase],MATCH(FRM_TL[[#This Row],[UPC]],dProduct[BarCode],0)))","v":""},{"$f":"IF(ROW(12:12)>ItemRows_New,\"\",FORM!$I33)","v":""},"",{"$f":"IF(ROW(12:12)>ItemRows_New,\"\",FRM_TL[[#This Row],[Qty Unit]]*FRM_TL[[#This Row],[Price Unit]])","v":""},null,{"$f":"IF(ROW(12:12)>ItemRows_New,\"\",FRM_TL[[#This Row],[Multiplied Price]])","v":""},"","",""]
["","","",null,null,"","","","",null,{"$f":"IF(ROW(13:13)>ItemRows_New,\"\",TotalAmt.Ex.Vat)","v":""},"","","",{"$f":"IF(ROW(13:13)>ItemRows_New,\"\",FORM!$C34)","v":""},null,{"$f":"IF(ROW(13:13)>ItemRows_New,\"\",TEXT(FORM!$G34,\"0000000000000\"))","v":""},null,null,{"$f":"IF(ROW(13:13)>ItemRows_New,\"\",INDEX(dProduct[PriceCase],MATCH(FRM_TL[[#This Row],[UPC]],dProduct[BarCode],0)))","v":""},{"$f":"IF(ROW(13:13)>ItemRows_New,\"\",FORM!$I34)","v":""},"",{"$f":"IF(ROW(13:13)>ItemRows_New,\"\",FRM_TL[[#This Row],[Qty Unit]]*FRM_TL[[#This Row],[Price Unit]])","v":""},null,{"$f":"IF(ROW(13:13)>ItemRows_New,\"\",FRM_TL[[#This Row],[Multiplied Price]])","v":""},"","",""]
["","","",null,null,"","","","",null,{"$f":"IF(ROW(14:14)>ItemRows_New,\"\",TotalAmt.Ex.Vat)","v":""},"","","",{"$f":"IF(ROW(14:14)>ItemRows_New,\"\",FORM!$C35)","v":""},null,{"$f":"IF(ROW(14:14)>ItemRows_New,\"\",TEXT(FORM!$G35,\"0000000000000\"))","v":""},null,null,{"$f":"IF(ROW(14:14)>ItemRows_New,\"\",INDEX(dProduct[PriceCase],MATCH(FRM_TL[[#This Row],[UPC]],dProduct[BarCode],0)))","v":""},{"$f":"IF(ROW(14:14)>ItemRows_New,\"\",FORM!$I35)","v":""},"",{"$f":"IF(ROW(14:14)>ItemRows_New,\"\",FRM_TL[[#This Row],[Qty Unit]]*FRM_TL[[#This Row],[Price Unit]])","v":""},null,{"$f":"IF(ROW(14:14)>ItemRows_New,\"\",FRM_TL[[#This Row],[Multiplied Price]])","v":""},"","",""]
["","","",null,null,"","","","",null,{"$f":"IF(ROW(15:15)>ItemRows_New,\"\",TotalAmt.Ex.Vat)","v":""},"","","",{"$f":"IF(ROW(15:15)>ItemRows_New,\"\",FORM!$C36)","v":""},null,{"$f":"IF(ROW(15:15)>ItemRows_New,\"\",TEXT(FORM!$G36,\"0000000000000\"))","v":""},null,null,{"$f":"IF(ROW(15:15)>ItemRows_New,\"\",INDEX(dProduct[PriceCase],MATCH(FRM_TL[[#This Row],[UPC]],dProduct[BarCode],0)))","v":""},{"$f":"IF(ROW(15:15)>ItemRows_New,\"\",FORM!$I36)","v":""},"",{"$f":"IF(ROW(15:15)>ItemRows_New,\"\",FRM_TL[[#This Row],[Qty Unit]]*FRM_TL[[#This Row],[Price Unit]])","v":""},null,{"$f":"IF(ROW(15:15)>ItemRows_New,\"\",FRM_TL[[#This Row],[Multiplied Price]])","v":""},"","",""]
["","","",null,null,"","","","",null,{"$f":"IF(ROW(16:16)>ItemRows_New,\"\",TotalAmt.Ex.Vat)","v":""},"","","",{"$f":"IF(ROW(16:16)>ItemRows_New,\"\",FORM!$C37)","v":""},null,{"$f":"IF(ROW(16:16)>ItemRows_New,\"\",TEXT(FORM!$G37,\"0000000000000\"))","v":""},null,null,{"$f":"IF(ROW(16:16)>ItemRows_New,\"\",INDEX(dProduct[PriceCase],MATCH(FRM_TL[[#This Row],[UPC]],dProduct[BarCode],0)))","v":""},{"$f":"IF(ROW(16:16)>ItemRows_New,\"\",FORM!$I37)","v":""},"",{"$f":"IF(ROW(16:16)>ItemRows_New,\"\",FRM_TL[[#This Row],[Qty Unit]]*FRM_TL[[#This Row],[Price Unit]])","v":""},null,{"$f":"IF(ROW(16:16)>ItemRows_New,\"\",FRM_TL[[#This Row],[Multiplied Price]])","v":""},"","",""]
["","","",null,null,"","","","",null,{"$f":"IF(ROW(17:17)>ItemRows_New,\"\",TotalAmt.Ex.Vat)","v":""},"","","",{"$f":"IF(ROW(17:17)>ItemRows_New,\"\",FORM!$C38)","v":""},null,{"$f":"IF(ROW(17:17)>ItemRows_New,\"\",TEXT(FORM!$G38,\"0000000000000\"))","v":""},null,null,{"$f":"IF(ROW(17:17)>ItemRows_New,\"\",INDEX(dProduct[PriceCase],MATCH(FRM_TL[[#This Row],[UPC]],dProduct[BarCode],0)))","v":""},{"$f":"IF(ROW(17:17)>ItemRows_New,\"\",FORM!$I38)","v":""},"",{"$f":"IF(ROW(17:17)>ItemRows_New,\"\",FRM_TL[[#This Row],[Qty Unit]]*FRM_TL[[#This Row],[Price Unit]])","v":""},null,{"$f":"IF(ROW(17:17)>ItemRows_New,\"\",FRM_TL[[#This Row],[Multiplied Price]])","v":""},"","",""]
["","","",null,null,"","","","",null,{"$f":"IF(ROW(18:18)>ItemRows_New,\"\",TotalAmt.Ex.Vat)","v":""},"","","",{"$f":"IF(ROW(18:18)>ItemRows_New,\"\",FORM!$C39)","v":""},null,{"$f":"IF(ROW(18:18)>ItemRows_New,\"\",TEXT(FORM!$G39,\"0000000000000\"))","v":""},null,null,{"$f":"IF(ROW(18:18)>ItemRows_New,\"\",INDEX(dProduct[PriceCase],MATCH(FRM_TL[[#This Row],[UPC]],dProduct[BarCode],0)))","v":""},{"$f":"IF(ROW(18:18)>ItemRows_New,\"\",FORM!$I39)","v":""},"",{"$f":"IF(ROW(18:18)>ItemRows_New,\"\",FRM_TL[[#This Row],[Qty Unit]]*FRM_TL[[#This Row],[Price Unit]])","v":""},null,{"$f":"IF(ROW(18:18)>ItemRows_New,\"\",FRM_TL[[#This Row],[Multiplied Price]])","v":""},"","",""]
["","","",null,null,"","","","",null,{"$f":"IF(ROW(19:19)>ItemRows_New,\"\",TotalAmt.Ex.Vat)","v":""},"","","",{"$f":"IF(ROW(19:19)>ItemRows_New,\"\",FORM!$C40)","v":""},null,{"$f":"IF(ROW(19:19)>ItemRows_New,\"\",TEXT(FORM!$G40,\"0000000000000\"))","v":""},null,null,{"$f":"IF(ROW(19:19)>ItemRows_New,\"\",INDEX(dProduct[PriceCase],MATCH(FRM_TL[[#This Row],[UPC]],dProduct[BarCode],0)))","v":""},{"$f":"IF(ROW(19:19)>ItemRows_New,\"\",FORM!$I40)","v":""},"",{"$f":"IF(ROW(19:19)>ItemRows_New,\"\",FRM_TL[[#This Row],[Qty Unit]]*FRM_TL[[#This Row],[Price Unit]])","v":""},null,{"$f":"IF(ROW(19:19)>ItemRows_New,\"\",FRM_TL[[#This Row],[Multiplied Price]])","v":""},"","",""]
["","","",null,null,"","","","",null,{"$f":"IF(ROW(20:20)>ItemRows_New,\"\",TotalAmt.Ex.Vat)","v":""},"","","",{"$f":"IF(ROW(20:20)>ItemRows_New,\"\",FORM!$C41)","v":""},null,{"$f":"IF(ROW(20:20)>ItemRows_New,\"\",TEXT(FORM!$G41,\"0000000000000\"))","v":""},null,null,{"$f":"IF(ROW(20:20)>ItemRows_New,\"\",INDEX(dProduct[PriceCase],MATCH(FRM_TL[[#This Row],[UPC]],dProduct[BarCode],0)))","v":""},{"$f":"IF(ROW(20:20)>ItemRows_New,\"\",FORM!$I41)","v":""},"",{"$f":"IF(ROW(20:20)>ItemRows_New,\"\",FRM_TL[[#This Row],[Qty Unit]]*FRM_TL[[#This Row],[Price Unit]])","v":""},null,{"$f":"IF(ROW(20:20)>ItemRows_New,\"\",FRM_TL[[#This Row],[Multiplied Price]])","v":""},"","",""]
["","","",null,null,"","","","",null,{"$f":"IF(ROW(21:21)>ItemRows_New,\"\",TotalAmt.Ex.Vat)","v":""},"","","",{"$f":"IF(ROW(21:21)>ItemRows_New,\"\",FORM!$C42)","v":""},null,{"$f":"IF(ROW(21:21)>ItemRows_New,\"\",TEXT(FORM!$G42,\"0000000000000\"))","v":""},null,null,{"$f":"IF(ROW(21:21)>ItemRows_New,\"\",INDEX(dProduct[PriceCase],MATCH(FRM_TL[[#This Row],[UPC]],dProduct[BarCode],0)))","v":""},{"$f":"IF(ROW(21:21)>ItemRows_New,\"\",FORM!$I42)","v":""},"",{"$f":"IF(ROW(21:21)>ItemRows_New,\"\",FRM_TL[[#This Row],[Qty Unit]]*FRM_TL[[#This Row],[Price Unit]])","v":""},null,{"$f":"IF(ROW(21:21)>ItemRows_New,\"\",FRM_TL[[#This Row],[Multiplied Price]])","v":""},"","",""]
["","","",null,null,"","","","",null,{"$f":"IF(ROW(22:22)>ItemRows_New,\"\",TotalAmt.Ex.Vat)","v":""},"","","",{"$f":"IF(ROW(22:22)>ItemRows_New,\"\",FORM!$C43)","v":""},null,{"$f":"IF(ROW(22:22)>ItemRows_New,\"\",TEXT(FORM!$G43,\"0000000000000\"))","v":""},null,null,{"$f":"IF(ROW(22:22)>ItemRows_New,\"\",INDEX(dProduct[PriceCase],MATCH(FRM_TL[[#This Row],[UPC]],dProduct[BarCode],0)))","v":""},{"$f":"IF(ROW(22:22)>ItemRows_New,\"\",FORM!$I43)","v":""},"",{"$f":"IF(ROW(22:22)>ItemRows_New,\"\",FRM_TL[[#This Row],[Qty Unit]]*FRM_TL[[#This Row],[Price Unit]])","v":""},null,{"$f":"IF(ROW(22:22)>ItemRows_New,\"\",FRM_TL[[#This Row],[Multiplied Price]])","v":""},"","",""]
["","","",null,null,"","","","",null,{"$f":"IF(ROW(23:23)>ItemRows_New,\"\",TotalAmt.Ex.Vat)","v":""},"","","",{"$f":"IF(ROW(23:23)>ItemRows_New,\"\",FORM!$C44)","v":""},null,{"$f":"IF(ROW(23:23)>ItemRows_New,\"\",TEXT(FORM!$G44,\"0000000000000\"))","v":""},null,null,{"$f":"IF(ROW(23:23)>ItemRows_New,\"\",INDEX(dProduct[PriceCase],MATCH(FRM_TL[[#This Row],[UPC]],dProduct[BarCode],0)))","v":""},{"$f":"IF(ROW(23:23)>ItemRows_New,\"\",FORM!$I44)","v":""},"",{"$f":"IF(ROW(23:23)>ItemRows_New,\"\",FRM_TL[[#This Row],[Qty Unit]]*FRM_TL[[#This Row],[Price Unit]])","v":""},null,{"$f":"IF(ROW(23:23)>ItemRows_New,\"\",FRM_TL[[#This Row],[Multiplied Price]])","v":""},"","",""]
["","","",null,null,"","","","",null,{"$f":"IF(ROW(24:24)>ItemRows_New,\"\",TotalAmt.Ex.Vat)","v":""},"","","",{"$f":"IF(ROW(24:24)>ItemRows_New,\"\",FORM!$C45)","v":""},null,{"$f":"IF(ROW(24:24)>ItemRows_New,\"\",TEXT(FORM!$G45,\"0000000000000\"))","v":""},null,null,{"$f":"IF(ROW(24:24)>ItemRows_New,\"\",INDEX(dProduct[PriceCase],MATCH(FRM_TL[[#This Row],[UPC]],dProduct[BarCode],0)))","v":""},{"$f":"IF(ROW(24:24)>ItemRows_New,\"\",FORM!$I45)","v":""},"",{"$f":"IF(ROW(24:24)>ItemRows_New,\"\",FRM_TL[[#This Row],[Qty Unit]]*FRM_TL[[#This Row],[Price Unit]])","v":""},null,{"$f":"IF(ROW(24:24)>ItemRows_New,\"\",FRM_TL[[#This Row],[Multiplied Price]])","v":""},"","",""]
["","","",null,null,"","","","",null,{"$f":"IF(ROW(25:25)>ItemRows_New,\"\",TotalAmt.Ex.Vat)","v":""},"","","",{"$f":"IF(ROW(25:25)>ItemRows_New,\"\",FORM!$C46)","v":""},null,{"$f":"IF(ROW(25:25)>ItemRows_New,\"\",TEXT(FORM!$G46,\"0000000000000\"))","v":""},null,null,{"$f":"IF(ROW(25:25)>ItemRows_New,\"\",INDEX(dProduct[PriceCase],MATCH(FRM_TL[[#This Row],[UPC]],dProduct[BarCode],0)))","v":""},{"$f":"IF(ROW(25:25)>ItemRows_New,\"\",FORM!$I46)","v":""},"",{"$f":"IF(ROW(25:25)>ItemRows_New,\"\",FRM_TL[[#This Row],[Qty Unit]]*FRM_TL[[#This Row],[Price Unit]])","v":""},null,{"$f":"IF(ROW(25:25)>ItemRows_New,\"\",FRM_TL[[#This Row],[Multiplied Price]])","v":""},"","",""]
["","","",null,null,"","","","",null,{"$f":"IF(ROW(26:26)>ItemRows_New,\"\",TotalAmt.Ex.Vat)","v":""},"","","",{"$f":"IF(ROW(26:26)>ItemRows_New,\"\",FORM!$C47)","v":""},null,{"$f":"IF(ROW(26:26)>ItemRows_New,\"\",TEXT(FORM!$G47,\"0000000000000\"))","v":""},null,null,{"$f":"IF(ROW(26:26)>ItemRows_New,\"\",INDEX(dProduct[PriceCase],MATCH(FRM_TL[[#This Row],[UPC]],dProduct[BarCode],0)))","v":""},{"$f":"IF(ROW(26:26)>ItemRows_New,\"\",FORM!$I47)","v":""},"",{"$f":"IF(ROW(26:26)>ItemRows_New,\"\",FRM_TL[[#This Row],[Qty Unit]]*FRM_TL[[#This Row],[Price Unit]])","v":""},null,{"$f":"IF(ROW(26:26)>ItemRows_New,\"\",FRM_TL[[#This Row],[Multiplied Price]])","v":""},"","",""]
["","","",null,null,"","","","",null,{"$f":"IF(ROW(27:27)>ItemRows_New,\"\",TotalAmt.Ex.Vat)","v":""},"","","",{"$f":"IF(ROW(27:27)>ItemRows_New,\"\",FORM!$C48)","v":""},null,{"$f":"IF(ROW(27:27)>ItemRows_New,\"\",TEXT(FORM!$G48,\"0000000000000\"))","v":""},null,null,{"$f":"IF(ROW(27:27)>ItemRows_New,\"\",INDEX(dProduct[PriceCase],MATCH(FRM_TL[[#This Row],[UPC]],dProduct[BarCode],0)))","v":""},{"$f":"IF(ROW(27:27)>ItemRows_New,\"\",FORM!$I48)","v":""},"",{"$f":"IF(ROW(27:27)>ItemRows_New,\"\",FRM_TL[[#This Row],[Qty Unit]]*FRM_TL[[#This Row],[Price Unit]])","v":""},null,{"$f":"IF(ROW(27:27)>ItemRows_New,\"\",FRM_TL[[#This Row],[Multiplied Price]])","v":""},"","",""]
["","","",null,null,"","","","",null,{"$f":"IF(ROW(28:28)>ItemRows_New,\"\",TotalAmt.Ex.Vat)","v":""},"","","",{"$f":"IF(ROW(28:28)>ItemRows_New,\"\",FORM!$C49)","v":""},null,{"$f":"IF(ROW(28:28)>ItemRows_New,\"\",TEXT(FORM!$G49,\"0000000000000\"))","v":""},null,null,{"$f":"IF(ROW(28:28)>ItemRows_New,\"\",INDEX(dProduct[PriceCase],MATCH(FRM_TL[[#This Row],[UPC]],dProduct[BarCode],0)))","v":""},{"$f":"IF(ROW(28:28)>ItemRows_New,\"\",FORM!$I49)","v":""},"",{"$f":"IF(ROW(28:28)>ItemRows_New,\"\",FRM_TL[[#This Row],[Qty Unit]]*FRM_TL[[#This Row],[Price Unit]])","v":""},null,{"$f":"IF(ROW(28:28)>ItemRows_New,\"\",FRM_TL[[#This Row],[Multiplied Price]])","v":""},"","",""]
["","","",null,null,"","","","",null,{"$f":"IF(ROW(29:29)>ItemRows_New,\"\",TotalAmt.Ex.Vat)","v":""},"","","",{"$f":"IF(ROW(29:29)>ItemRows_New,\"\",FORM!$C50)","v":""},null,{"$f":"IF(ROW(29:29)>ItemRows_New,\"\",TEXT(FORM!$G50,\"0000000000000\"))","v":""},null,null,{"$f":"IF(ROW(29:29)>ItemRows_New,\"\",INDEX(dProduct[PriceCase],MATCH(FRM_TL[[#This Row],[UPC]],dProduct[BarCode],0)))","v":""},{"$f":"IF(ROW(29:29)>ItemRows_New,\"\",FORM!$I50)","v":""},"",{"$f":"IF(ROW(29:29)>ItemRows_New,\"\",FRM_TL[[#This Row],[Qty Unit]]*FRM_TL[[#This Row],[Price Unit]])","v":""},null,{"$f":"IF(ROW(29:29)>ItemRows_New,\"\",FRM_TL[[#This Row],[Multiplied Price]])","v":""},"","",""]
["","","",null,null,"","","","",null,{"$f":"IF(ROW(30:30)>ItemRows_New,\"\",TotalAmt.Ex.Vat)","v":""},"","","",{"$f":"IF(ROW(30:30)>ItemRows_New,\"\",FORM!$C51)","v":""},null,{"$f":"IF(ROW(30:30)>ItemRows_New,\"\",TEXT(FORM!$G51,\"0000000000000\"))","v":""},null,null,{"$f":"IF(ROW(30:30)>ItemRows_New,\"\",INDEX(dProduct[PriceCase],MATCH(FRM_TL[[#This Row],[UPC]],dProduct[BarCode],0)))","v":""},{"$f":"IF(ROW(30:30)>ItemRows_New,\"\",FORM!$I51)","v":""},"",{"$f":"IF(ROW(30:30)>ItemRows_New,\"\",FRM_TL[[#This Row],[Qty Unit]]*FRM_TL[[#This Row],[Price Unit]])","v":""},null,{"$f":"IF(ROW(30:30)>ItemRows_New,\"\",FRM_TL[[#This Row],[Multiplied Price]])","v":""},"","",""]
["","","",null,null,"","","","",null,{"$f":"IF(ROW(31:31)>ItemRows_New,\"\",TotalAmt.Ex.Vat)","v":""},"","","",{"$f":"IF(ROW(31:31)>ItemRows_New,\"\",FORM!$C52)","v":""},null,{"$f":"IF(ROW(31:31)>ItemRows_New,\"\",TEXT(FORM!$G52,\"0000000000000\"))","v":""},null,null,{"$f":"IF(ROW(31:31)>ItemRows_New,\"\",INDEX(dProduct[PriceCase],MATCH(FRM_TL[[#This Row],[UPC]],dProduct[BarCode],0)))","v":""},{"$f":"IF(ROW(31:31)>ItemRows_New,\"\",FORM!$I52)","v":""},"",{"$f":"IF(ROW(31:31)>ItemRows_New,\"\",FRM_TL[[#This Row],[Qty Unit]]*FRM_TL[[#This Row],[Price Unit]])","v":""},null,{"$f":"IF(ROW(31:31)>ItemRows_New,\"\",FRM_TL[[#This Row],[Multiplied Price]])","v":""},"","",""]
["","","",null,null,"","","","",null,{"$f":"IF(ROW(32:32)>ItemRows_New,\"\",TotalAmt.Ex.Vat)","v":""},"","","",{"$f":"IF(ROW(32:32)>ItemRows_New,\"\",FORM!$C53)","v":""},null,{"$f":"IF(ROW(32:32)>ItemRows_New,\"\",TEXT(FORM!$G53,\"0000000000000\"))","v":""},null,null,{"$f":"IF(ROW(32:32)>ItemRows_New,\"\",INDEX(dProduct[PriceCase],MATCH(FRM_TL[[#This Row],[UPC]],dProduct[BarCode],0)))","v":""},{"$f":"IF(ROW(32:32)>ItemRows_New,\"\",FORM!$I53)","v":""},"",{"$f":"IF(ROW(32:32)>ItemRows_New,\"\",FRM_TL[[#This Row],[Qty Unit]]*FRM_TL[[#This Row],[Price Unit]])","v":""},null,{"$f":"IF(ROW(32:32)>ItemRows_New,\"\",FRM_TL[[#This Row],[Multiplied Price]])","v":""},"","",""]
["","","",null,null,"","","","",null,{"$f":"IF(ROW(33:33)>ItemRows_New,\"\",TotalAmt.Ex.Vat)","v":""},"","","",{"$f":"IF(ROW(33:33)>ItemRows_New,\"\",FORM!$C54)","v":""},null,{"$f":"IF(ROW(33:33)>ItemRows_New,\"\",TEXT(FORM!$G54,\"0000000000000\"))","v":""},null,null,{"$f":"IF(ROW(33:33)>ItemRows_New,\"\",INDEX(dProduct[PriceCase],MATCH(FRM_TL[[#This Row],[UPC]],dProduct[BarCode],0)))","v":""},{"$f":"IF(ROW(33:33)>ItemRows_New,\"\",FORM!$I54)","v":""},"",{"$f":"IF(ROW(33:33)>ItemRows_New,\"\",FRM_TL[[#This Row],[Qty Unit]]*FRM_TL[[#This Row],[Price Unit]])","v":""},null,{"$f":"IF(ROW(33:33)>ItemRows_New,\"\",FRM_TL[[#This Row],[Multiplied Price]])","v":""},"","",""]
["","","",null,null,"","","","",null,{"$f":"IF(ROW(34:34)>ItemRows_New,\"\",TotalAmt.Ex.Vat)","v":""},"","","",{"$f":"IF(ROW(34:34)>ItemRows_New,\"\",FORM!$C55)","v":""},null,{"$f":"IF(ROW(34:34)>ItemRows_New,\"\",TEXT(FORM!$G55,\"0000000000000\"))","v":""},null,null,{"$f":"IF(ROW(34:34)>ItemRows_New,\"\",INDEX(dProduct[PriceCase],MATCH(FRM_TL[[#This Row],[UPC]],dProduct[BarCode],0)))","v":""},{"$f":"IF(ROW(34:34)>ItemRows_New,\"\",FORM!$I55)","v":""},"",{"$f":"IF(ROW(34:34)>ItemRows_New,\"\",FRM_TL[[#This Row],[Qty Unit]]*FRM_TL[[#This Row],[Price Unit]])","v":""},null,{"$f":"IF(ROW(34:34)>ItemRows_New,\"\",FRM_TL[[#This Row],[Multiplied Price]])","v":""},"","",""]
["","","",null,null,"","","","",null,{"$f":"IF(ROW(35:35)>ItemRows_New,\"\",TotalAmt.Ex.Vat)","v":""},"","","",{"$f":"IF(ROW(35:35)>ItemRows_New,\"\",FORM!$C56)","v":""},null,{"$f":"IF(ROW(35:35)>ItemRows_New,\"\",TEXT(FORM!$G56,\"0000000000000\"))","v":""},null,null,{"$f":"IF(ROW(35:35)>ItemRows_New,\"\",INDEX(dProduct[PriceCase],MATCH(FRM_TL[[#This Row],[UPC]],dProduct[BarCode],0)))","v":""},{"$f":"IF(ROW(35:35)>ItemRows_New,\"\",FORM!$I56)","v":""},"",{"$f":"IF(ROW(35:35)>ItemRows_New,\"\",FRM_TL[[#This Row],[Qty Unit]]*FRM_TL[[#This Row],[Price Unit]])","v":""},null,{"$f":"IF(ROW(35:35)>ItemRows_New,\"\",FRM_TL[[#This Row],[Multiplied Price]])","v":""},"","",""]
[]
["| Taweekit S.Centre FRM"]
["วันที่วางบิล","เลขที่เอกสาร(เว้นว่าง)","วันที่ใบกำกับภาษี","เลขใบกำกับภาษี","รหัสลูกหนี้(ทวีกิจ)","รหัสซื้อขายสินค้า","จำนวนสินค้า","จำนวนแถม","ราคาต่อหน่วย","ส่วนลดต่อรายการ","รหัสสาขา","ตำแหน่งเก็บโอนย้าย","ส่วนลดท้ายบิล","หมายเหตุท้ายบิล","Line no."]
[{"$f":"IF(ROW(1:1)>ItemRows_New,\"\",DATE(YEAR(TODAY())+543,MONTH(TODAY()),DAY(TODAY())))","v":""},null,{"$f":"IF(ROW(1:1)>ItemRows_New,\"\",DATE(YEAR(Issue_Date)+543,MONTH(Issue_Date),DAY(Issue_Date)))","v":""},{"$f":"IF(ROW(1:1)>ItemRows_New,\"\",INV)","v":""},{"$f":"IF(ROW(1:1)>ItemRows_New,\"\",\"10888\")","v":""},{"$f":"IF(ROW(1:1)>ItemRows_New,\"\",TEXT(FORM!$G22,\"0000000000000\"))","v":""},{"$f":"IF(ROW(1:1)>ItemRows_New,\"\",FORM!$I22)","v":""},null,{"$f":"IF(ROW(1:1)>ItemRows_New,\"\",INDEX(dProduct[PriceCase],MATCH(FRM_TWK[[#This Row],[รหัสซื้อขายสินค้า]],dProduct[BarCode],0))*0.75)","v":""},null,{"$f":"IF(ROW(1:1)>ItemRows_New,\"\",StoreCode)","v":""},null,null,null,{"$f":"IF(ROW(1:1)>ItemRows_New,\"\",FORM!$C22)","v":""}]
[{"$f":"IF(ROW(2:2)>ItemRows_New,\"\",DATE(YEAR(TODAY())+543,MONTH(TODAY()),DAY(TODAY())))","v":""},null,"","",{"$f":"IF(ROW(2:2)>ItemRows_New,\"\",\"10888\")","v":""},{"$f":"IF(ROW(2:2)>ItemRows_New,\"\",TEXT(FORM!$G23,\"0000000000000\"))","v":""},{"$f":"IF(ROW(2:2)>ItemRows_New,\"\",FORM!$I23)","v":""},null,{"$f":"IF(ROW(2:2)>ItemRows_New,\"\",INDEX(dProduct[PriceCase],MATCH(FRM_TWK[[#This Row],[รหัสซื้อขายสินค้า]],dProduct[BarCode],0))*0.75)","v":""},null,"",null,null,null,{"$f":"IF(ROW(2:2)>ItemRows_New,\"\",FORM!$C23)","v":""}]
["",null,"","","",{"$f":"IF(ROW(3:3)>ItemRows_New,\"\",TEXT(FORM!$G24,\"0000000000000\"))","v":""},{"$f":"IF(ROW(3:3)>ItemRows_New,\"\",FORM!$I24)","v":""},null,{"$f":"IF(ROW(3:3)>ItemRows_New,\"\",INDEX(dProduct[PriceCase],MATCH(FRM_TWK[[#This Row],[รหัสซื้อขายสินค้า]],dProduct[BarCode],0))*0.75)","v":""},null,"",null,null,null,{"$f":"IF(ROW(3:3)>ItemRows_New,\"\",FORM!$C24)","v":""}]
["",null,"","","",{"$f":"IF(ROW(4:4)>ItemRows_New,\"\",TEXT(FORM!$G25,\"0000000000000\"))","v":""},{"$f":"IF(ROW(4:4)>ItemRows_New,\"\",FORM!$I25)","v":""},null,{"$f":"IF(ROW(4:4)>ItemRows_New,\"\",INDEX(dProduct[PriceCase],MATCH(FRM_TWK[[#This Row],[รหัสซื้อขายสินค้า]],dProduct[BarCode],0))*0.75)","v":""},null,"",null,null,null,{"$f":"IF(ROW(4:4)>ItemRows_New,\"\",FORM!$C25)","v":""}]
["",null,"","","",{"$f":"IF(ROW(5:5)>ItemRows_New,\"\",TEXT(FORM!$G26,\"0000000000000\"))","v":""},{"$f":"IF(ROW(5:5)>ItemRows_New,\"\",FORM!$I26)","v":""},null,{"$f":"IF(ROW(5:5)>ItemRows_New,\"\",INDEX(dProduct[PriceCase],MATCH(FRM_TWK[[#This Row],[รหัสซื้อขายสินค้า]],dProduct[BarCode],0))*0.75)","v":""},null,"",null,null,null,{"$f":"IF(ROW(5:5)>ItemRows_New,\"\",FORM!$C26)","v":""}]
["",null,"","","",{"$f":"IF(ROW(6:6)>ItemRows_New,\"\",TEXT(FORM!$G27,\"0000000000000\"))","v":""},{"$f":"IF(ROW(6:6)>ItemRows_New,\"\",FORM!$I27)","v":""},null,{"$f":"IF(ROW(6:6)>ItemRows_New,\"\",INDEX(dProduct[PriceCase],MATCH(FRM_TWK[[#This Row],[รหัสซื้อขายสินค้า]],dProduct[BarCode],0))*0.75)","v":""},null,"",null,null,null,{"$f":"IF(ROW(6:6)>ItemRows_New,\"\",FORM!$C27)","v":""}]
["",null,"","","",{"$f":"IF(ROW(7:7)>ItemRows_New,\"\",TEXT(FORM!$G28,\"0000000000000\"))","v":""},{"$f":"IF(ROW(7:7)>ItemRows_New,\"\",FORM!$I28)","v":""},null,{"$f":"IF(ROW(7:7)>ItemRows_New,\"\",INDEX(dProduct[PriceCase],MATCH(FRM_TWK[[#This Row],[รหัสซื้อขายสินค้า]],dProduct[BarCode],0))*0.75)","v":""},null,"",null,null,null,{"$f":"IF(ROW(7:7)>ItemRows_New,\"\",FORM!$C28)","v":""}]
["",null,"","","",{"$f":"IF(ROW(8:8)>ItemRows_New,\"\",TEXT(FORM!$G29,\"0000000000000\"))","v":""},{"$f":"IF(ROW(8:8)>ItemRows_New,\"\",FORM!$I29)","v":""},null,{"$f":"IF(ROW(8:8)>ItemRows_New,\"\",INDEX(dProduct[PriceCase],MATCH(FRM_TWK[[#This Row],[รหัสซื้อขายสินค้า]],dProduct[BarCode],0))*0.75)","v":""},null,"",null,null,null,{"$f":"IF(ROW(8:8)>ItemRows_New,\"\",FORM!$C29)","v":""}]
["",null,"","","",{"$f":"IF(ROW(9:9)>ItemRows_New,\"\",TEXT(FORM!$G30,\"0000000000000\"))","v":""},{"$f":"IF(ROW(9:9)>ItemRows_New,\"\",FORM!$I30)","v":""},null,{"$f":"IF(ROW(9:9)>ItemRows_New,\"\",INDEX(dProduct[PriceCase],MATCH(FRM_TWK[[#This Row],[รหัสซื้อขายสินค้า]],dProduct[BarCode],0))*0.75)","v":""},null,"",null,null,null,{"$f":"IF(ROW(9:9)>ItemRows_New,\"\",FORM!$C30)","v":""}]
["",null,"","","",{"$f":"IF(ROW(10:10)>ItemRows_New,\"\",TEXT(FORM!$G31,\"0000000000000\"))","v":""},{"$f":"IF(ROW(10:10)>ItemRows_New,\"\",FORM!$I31)","v":""},null,{"$f":"IF(ROW(10:10)>ItemRows_New,\"\",INDEX(dProduct[PriceCase],MATCH(FRM_TWK[[#This Row],[รหัสซื้อขายสินค้า]],dProduct[BarCode],0))*0.75)","v":""},null,"",null,null,null,{"$f":"IF(ROW(10:10)>ItemRows_New,\"\",FORM!$C31)","v":""}]
["",null,"","","",{"$f":"IF(ROW(11:11)>ItemRows_New,\"\",TEXT(FORM!$G32,\"0000000000000\"))","v":""},{"$f":"IF(ROW(11:11)>ItemRows_New,\"\",FORM!$I32)","v":""},null,{"$f":"IF(ROW(11:11)>ItemRows_New,\"\",INDEX(dProduct[PriceCase],MATCH(FRM_TWK[[#This Row],[รหัสซื้อขายสินค้า]],dProduct[BarCode],0))*0.75)","v":""},null,"",null,null,null,{"$f":"IF(ROW(11:11)>ItemRows_New,\"\",FORM!$C32)","v":""}]
["",null,"","","",{"$f":"IF(ROW(12:12)>ItemRows_New,\"\",TEXT(FORM!$G33,\"0000000000000\"))","v":""},{"$f":"IF(ROW(12:12)>ItemRows_New,\"\",FORM!$I33)","v":""},null,{"$f":"IF(ROW(12:12)>ItemRows_New,\"\",INDEX(dProduct[PriceCase],MATCH(FRM_TWK[[#This Row],[รหัสซื้อขายสินค้า]],dProduct[BarCode],0))*0.75)","v":""},null,"",null,null,null,{"$f":"IF(ROW(12:12)>ItemRows_New,\"\",FORM!$C33)","v":""}]
["",null,"","","",{"$f":"IF(ROW(13:13)>ItemRows_New,\"\",TEXT(FORM!$G34,\"0000000000000\"))","v":""},{"$f":"IF(ROW(13:13)>ItemRows_New,\"\",FORM!$I34)","v":""},null,{"$f":"IF(ROW(13:13)>ItemRows_New,\"\",INDEX(dProduct[PriceCase],MATCH(FRM_TWK[[#This Row],[รหัสซื้อขายสินค้า]],dProduct[BarCode],0))*0.75)","v":""},null,"",null,null,null,{"$f":"IF(ROW(13:13)>ItemRows_New,\"\",FORM!$C34)","v":""}]
["",null,"","","",{"$f":"IF(ROW(14:14)>ItemRows_New,\"\",TEXT(FORM!$G35,\"0000000000000\"))","v":""},{"$f":"IF(ROW(14:14)>ItemRows_New,\"\",FORM!$I35)","v":""},null,{"$f":"IF(ROW(14:14)>ItemRows_New,\"\",INDEX(dProduct[PriceCase],MATCH(FRM_TWK[[#This Row],[รหัสซื้อขายสินค้า]],dProduct[BarCode],0))*0.75)","v":""},null,"",null,null,null,{"$f":"IF(ROW(14:14)>ItemRows_New,\"\",FORM!$C35)","v":""}]
["",null,"","","",{"$f":"IF(ROW(15:15)>ItemRows_New,\"\",TEXT(FORM!$G36,\"0000000000000\"))","v":""},{"$f":"IF(ROW(15:15)>ItemRows_New,\"\",FORM!$I36)","v":""},null,{"$f":"IF(ROW(15:15)>ItemRows_New,\"\",INDEX(dProduct[PriceCase],MATCH(FRM_TWK[[#This Row],[รหัสซื้อขายสินค้า]],dProduct[BarCode],0))*0.75)","v":""},null,"",null,null,null,{"$f":"IF(ROW(15:15)>ItemRows_New,\"\",FORM!$C36)","v":""}]
["",null,"","","",{"$f":"IF(ROW(16:16)>ItemRows_New,\"\",TEXT(FORM!$G37,\"0000000000000\"))","v":""},{"$f":"IF(ROW(16:16)>ItemRows_New,\"\",FORM!$I37)","v":""},null,{"$f":"IF(ROW(16:16)>ItemRows_New,\"\",INDEX(dProduct[PriceCase],MATCH(FRM_TWK[[#This Row],[รหัสซื้อขายสินค้า]],dProduct[BarCode],0))*0.75)","v":""},null,"",null,null,null,{"$f":"IF(ROW(16:16)>ItemRows_New,\"\",FORM!$C37)","v":""}]
["",null,"","","",{"$f":"IF(ROW(17:17)>ItemRows_New,\"\",TEXT(FORM!$G38,\"0000000000000\"))","v":""},{"$f":"IF(ROW(17:17)>ItemRows_New,\"\",FORM!$I38)","v":""},null,{"$f":"IF(ROW(17:17)>ItemRows_New,\"\",INDEX(dProduct[PriceCase],MATCH(FRM_TWK[[#This Row],[รหัสซื้อขายสินค้า]],dProduct[BarCode],0))*0.75)","v":""},null,"",null,null,null,{"$f":"IF(ROW(17:17)>ItemRows_New,\"\",FORM!$C38)","v":""}]
["",null,"","","",{"$f":"IF(ROW(18:18)>ItemRows_New,\"\",TEXT(FORM!$G39,\"0000000000000\"))","v":""},{"$f":"IF(ROW(18:18)>ItemRows_New,\"\",FORM!$I39)","v":""},null,{"$f":"IF(ROW(18:18)>ItemRows_New,\"\",INDEX(dProduct[PriceCase],MATCH(FRM_TWK[[#This Row],[รหัสซื้อขายสินค้า]],dProduct[BarCode],0))*0.75)","v":""},null,"",null,null,null,{"$f":"IF(ROW(18:18)>ItemRows_New,\"\",FORM!$C39)","v":""}]
["",null,"","","",{"$f":"IF(ROW(19:19)>ItemRows_New,\"\",TEXT(FORM!$G40,\"0000000000000\"))","v":""},{"$f":"IF(ROW(19:19)>ItemRows_New,\"\",FORM!$I40)","v":""},null,{"$f":"IF(ROW(19:19)>ItemRows_New,\"\",INDEX(dProduct[PriceCase],MATCH(FRM_TWK[[#This Row],[รหัสซื้อขายสินค้า]],dProduct[BarCode],0))*0.75)","v":""},null,"",null,null,null,{"$f":"IF(ROW(19:19)>ItemRows_New,\"\",FORM!$C40)","v":""}]
["",null,"","","",{"$f":"IF(ROW(20:20)>ItemRows_New,\"\",TEXT(FORM!$G41,\"0000000000000\"))","v":""},{"$f":"IF(ROW(20:20)>ItemRows_New,\"\",FORM!$I41)","v":""},null,{"$f":"IF(ROW(20:20)>ItemRows_New,\"\",INDEX(dProduct[PriceCase],MATCH(FRM_TWK[[#This Row],[รหัสซื้อขายสินค้า]],dProduct[BarCode],0))*0.75)","v":""},null,"",null,null,null,{"$f":"IF(ROW(20:20)>ItemRows_New,\"\",FORM!$C41)","v":""}]
["",null,"","","",{"$f":"IF(ROW(21:21)>ItemRows_New,\"\",TEXT(FORM!$G42,\"0000000000000\"))","v":""},{"$f":"IF(ROW(21:21)>ItemRows_New,\"\",FORM!$I42)","v":""},null,{"$f":"IF(ROW(21:21)>ItemRows_New,\"\",INDEX(dProduct[PriceCase],MATCH(FRM_TWK[[#This Row],[รหัสซื้อขายสินค้า]],dProduct[BarCode],0))*0.75)","v":""},null,"",null,null,null,{"$f":"IF(ROW(21:21)>ItemRows_New,\"\",FORM!$C42)","v":""}]
["",null,"","","",{"$f":"IF(ROW(22:22)>ItemRows_New,\"\",TEXT(FORM!$G43,\"0000000000000\"))","v":""},{"$f":"IF(ROW(22:22)>ItemRows_New,\"\",FORM!$I43)","v":""},null,{"$f":"IF(ROW(22:22)>ItemRows_New,\"\",INDEX(dProduct[PriceCase],MATCH(FRM_TWK[[#This Row],[รหัสซื้อขายสินค้า]],dProduct[BarCode],0))*0.75)","v":""},null,"",null,null,null,{"$f":"IF(ROW(22:22)>ItemRows_New,\"\",FORM!$C43)","v":""}]
["",null,"","","",{"$f":"IF(ROW(23:23)>ItemRows_New,\"\",TEXT(FORM!$G44,\"0000000000000\"))","v":""},{"$f":"IF(ROW(23:23)>ItemRows_New,\"\",FORM!$I44)","v":""},null,{"$f":"IF(ROW(23:23)>ItemRows_New,\"\",INDEX(dProduct[PriceCase],MATCH(FRM_TWK[[#This Row],[รหัสซื้อขายสินค้า]],dProduct[BarCode],0))*0.75)","v":""},null,"",null,null,null,{"$f":"IF(ROW(23:23)>ItemRows_New,\"\",FORM!$C44)","v":""}]
["",null,"","","",{"$f":"IF(ROW(24:24)>ItemRows_New,\"\",TEXT(FORM!$G45,\"0000000000000\"))","v":""},{"$f":"IF(ROW(24:24)>ItemRows_New,\"\",FORM!$I45)","v":""},null,{"$f":"IF(ROW(24:24)>ItemRows_New,\"\",INDEX(dProduct[PriceCase],MATCH(FRM_TWK[[#This Row],[รหัสซื้อขายสินค้า]],dProduct[BarCode],0))*0.75)","v":""},null,"",null,null,null,{"$f":"IF(ROW(24:24)>ItemRows_New,\"\",FORM!$C45)","v":""}]
["",null,"","","",{"$f":"IF(ROW(25:25)>ItemRows_New,\"\",TEXT(FORM!$G46,\"0000000000000\"))","v":""},{"$f":"IF(ROW(25:25)>ItemRows_New,\"\",FORM!$I46)","v":""},null,{"$f":"IF(ROW(25:25)>ItemRows_New,\"\",INDEX(dProduct[PriceCase],MATCH(FRM_TWK[[#This Row],[รหัสซื้อขายสินค้า]],dProduct[BarCode],0))*0.75)","v":""},null,"",null,null,null,{"$f":"IF(ROW(25:25)>ItemRows_New,\"\",FORM!$C46)","v":""}]
["",null,"","","",{"$f":"IF(ROW(26:26)>ItemRows_New,\"\",TEXT(FORM!$G47,\"0000000000000\"))","v":""},{"$f":"IF(ROW(26:26)>ItemRows_New,\"\",FORM!$I47)","v":""},null,{"$f":"IF(ROW(26:26)>ItemRows_New,\"\",INDEX(dProduct[PriceCase],MATCH(FRM_TWK[[#This Row],[รหัสซื้อขายสินค้า]],dProduct[BarCode],0))*0.75)","v":""},null,"",null,null,null,{"$f":"IF(ROW(26:26)>ItemRows_New,\"\",FORM!$C47)","v":""}]
["",null,"","","",{"$f":"IF(ROW(27:27)>ItemRows_New,\"\",TEXT(FORM!$G48,\"0000000000000\"))","v":""},{"$f":"IF(ROW(27:27)>ItemRows_New,\"\",FORM!$I48)","v":""},null,{"$f":"IF(ROW(27:27)>ItemRows_New,\"\",INDEX(dProduct[PriceCase],MATCH(FRM_TWK[[#This Row],[รหัสซื้อขายสินค้า]],dProduct[BarCode],0))*0.75)","v":""},null,"",null,null,null,{"$f":"IF(ROW(27:27)>ItemRows_New,\"\",FORM!$C48)","v":""}]
["",null,"","","",{"$f":"IF(ROW(28:28)>ItemRows_New,\"\",TEXT(FORM!$G49,\"0000000000000\"))","v":""},{"$f":"IF(ROW(28:28)>ItemRows_New,\"\",FORM!$I49)","v":""},null,{"$f":"IF(ROW(28:28)>ItemRows_New,\"\",INDEX(dProduct[PriceCase],MATCH(FRM_TWK[[#This Row],[รหัสซื้อขายสินค้า]],dProduct[BarCode],0))*0.75)","v":""},null,"",null,null,null,{"$f":"IF(ROW(28:28)>ItemRows_New,\"\",FORM!$C49)","v":""}]
["",null,"","","",{"$f":"IF(ROW(29:29)>ItemRows_New,\"\",TEXT(FORM!$G50,\"0000000000000\"))","v":""},{"$f":"IF(ROW(29:29)>ItemRows_New,\"\",FORM!$I50)","v":""},null,{"$f":"IF(ROW(29:29)>ItemRows_New,\"\",INDEX(dProduct[PriceCase],MATCH(FRM_TWK[[#This Row],[รหัสซื้อขายสินค้า]],dProduct[BarCode],0))*0.75)","v":""},null,"",null,null,null,{"$f":"IF(ROW(29:29)>ItemRows_New,\"\",FORM!$C50)","v":""}]
["",null,"","","",{"$f":"IF(ROW(30:30)>ItemRows_New,\"\",TEXT(FORM!$G51,\"0000000000000\"))","v":""},{"$f":"IF(ROW(30:30)>ItemRows_New,\"\",FORM!$I51)","v":""},null,{"$f":"IF(ROW(30:30)>ItemRows_New,\"\",INDEX(dProduct[PriceCase],MATCH(FRM_TWK[[#This Row],[รหัสซื้อขายสินค้า]],dProduct[BarCode],0))*0.75)","v":""},null,"",null,null,null,{"$f":"IF(ROW(30:30)>ItemRows_New,\"\",FORM!$C51)","v":""}]
["",null,"","","",{"$f":"IF(ROW(31:31)>ItemRows_New,\"\",TEXT(FORM!$G52,\"0000000000000\"))","v":""},{"$f":"IF(ROW(31:31)>ItemRows_New,\"\",FORM!$I52)","v":""},null,{"$f":"IF(ROW(31:31)>ItemRows_New,\"\",INDEX(dProduct[PriceCase],MATCH(FRM_TWK[[#This Row],[รหัสซื้อขายสินค้า]],dProduct[BarCode],0))*0.75)","v":""},null,"",null,null,null,{"$f":"IF(ROW(31:31)>ItemRows_New,\"\",FORM!$C52)","v":""}]
["",null,"","","",{"$f":"IF(ROW(32:32)>ItemRows_New,\"\",TEXT(FORM!$G53,\"0000000000000\"))","v":""},{"$f":"IF(ROW(32:32)>ItemRows_New,\"\",FORM!$I53)","v":""},null,{"$f":"IF(ROW(32:32)>ItemRows_New,\"\",INDEX(dProduct[PriceCase],MATCH(FRM_TWK[[#This Row],[รหัสซื้อขายสินค้า]],dProduct[BarCode],0))*0.75)","v":""},null,"",null,null,null,{"$f":"IF(ROW(32:32)>ItemRows_New,\"\",FORM!$C53)","v":""}]
["",null,"","","",{"$f":"IF(ROW(33:33)>ItemRows_New,\"\",TEXT(FORM!$G54,\"0000000000000\"))","v":""},{"$f":"IF(ROW(33:33)>ItemRows_New,\"\",FORM!$I54)","v":""},null,{"$f":"IF(ROW(33:33)>ItemRows_New,\"\",INDEX(dProduct[PriceCase],MATCH(FRM_TWK[[#This Row],[รหัสซื้อขายสินค้า]],dProduct[BarCode],0))*0.75)","v":""},null,"",null,null,null,{"$f":"IF(ROW(33:33)>ItemRows_New,\"\",FORM!$C54)","v":""}]
["",null,"","","",{"$f":"IF(ROW(34:34)>ItemRows_New,\"\",TEXT(FORM!$G55,\"0000000000000\"))","v":""},{"$f":"IF(ROW(34:34)>ItemRows_New,\"\",FORM!$I55)","v":""},null,{"$f":"IF(ROW(34:34)>ItemRows_New,\"\",INDEX(dProduct[PriceCase],MATCH(FRM_TWK[[#This Row],[รหัสซื้อขายสินค้า]],dProduct[BarCode],0))*0.75)","v":""},null,"",null,null,null,{"$f":"IF(ROW(34:34)>ItemRows_New,\"\",FORM!$C55)","v":""}]
["",null,"","","",{"$f":"IF(ROW(35:35)>ItemRows_New,\"\",TEXT(FORM!$G56,\"0000000000000\"))","v":""},{"$f":"IF(ROW(35:35)>ItemRows_New,\"\",FORM!$I56)","v":""},null,{"$f":"IF(ROW(35:35)>ItemRows_New,\"\",INDEX(dProduct[PriceCase],MATCH(FRM_TWK[[#This Row],[รหัสซื้อขายสินค้า]],dProduct[BarCode],0))*0.75)","v":""},null,"",null,null,null,{"$f":"IF(ROW(35:35)>ItemRows_New,\"\",FORM!$C56)","v":""}]

{"sheet":"Parameter","index":5,"n_rows":81,"n_cols":14,"rows_kept":81,"cut":false,"hidden":true,"merged":[]}
[]
[null,null,"SOURCE&TARGET MODULE",null,null,null,null,null,null,null,"ITEM SELECTOR MODULE"]
[]
[null,null,"Case","Exp_ShtName","Column","FmRange_FillDown","dbTable","Discount(%)",null,null,"SelectedItem","NewList",null,"Please_Select"]
[null,null,1,"Exp_Detail",{"$f":"COUNTA(MasterExp_Detail!1:1)","v":16},{"$f":"ADDRESS(2,1,4,1)&\":\"&ADDRESS(REC_ROWS+1,E5,4,1)","v":"A2:P2"},"dAllCustomer",null,null,null,{"$f":"IFERROR(IF(ROWS(K$5:K5)>COUNTA(SelectedItems),\"\",INDEX(SelectedItems,ROWS(K$5:K5))),\"\")","v":""},{"$f":"IFERROR(IF(ROWS(L$5:L5)<=(COUNTA(Nameth)-ItemRows_New),INDEX(dProduct[NameTH],SMALL(IF(ISNA(MATCH(dProduct[NameTH],SelectedItems,0)),ROW(dProduct[NameTH])-6),ROWS(L$5:L5))),\"\"),INDEX(dProduct[NameTH],ROWS(L$5:L5)))","v":"01-ขนมปังไส้สังขยาเล็ก"},null,"- Please Start From 1st ROW -"]
[null,null,2,"Exp_TESCO",{"$f":"COUNTA(MasterExp_TESCO!1:1)","v":28},{"$f":"ADDRESS(2,1,4,1)&\":\"&ADDRESS(REC_ROWS+1,E6,4,1)","v":"A2:AB2"},"dTLExpress",0.30841121495327101,null,null,{"$f":"IFERROR(IF(ROWS(K$5:K6)>COUNTA(SelectedItems),\"\",INDEX(SelectedItems,ROWS(K$5:K6))),\"\")","v":""},{"$f":"IFERROR(IF(ROWS(L$5:L6)<=(COUNTA(Nameth)-ItemRows_New),INDEX(dProduct[NameTH],SMALL(IF(ISNA(MATCH(dProduct[NameTH],SelectedItems,0)),ROW(dProduct[NameTH])-6),ROWS(L$5:L6))),\"\"),INDEX(dProduct[NameTH],ROWS(L$5:L6)))","v":"02-ขนมปังไส้เผือก"}]
[null,null,3,"Exp_TWK",{"$f":"COUNTA(MasterExp_TWK!1:1)","v":15},{"$f":"ADDRESS(2,1,4,1)&\":\"&ADDRESS(REC_ROWS+1,E7,4,1)","v":"A2:O2"},"dTaweekit",0.25,null,null,{"$f":"IFERROR(IF(ROWS(K$5:K7)>COUNTA(SelectedItems),\"\",INDEX(SelectedItems,ROWS(K$5:K7))),\"\")","v":""},{"$f":"IFERROR(IF(ROWS(L$5:L7)<=(COUNTA(Nameth)-ItemRows_New),INDEX(dProduct[NameTH],SMALL(IF(ISNA(MATCH(dProduct[NameTH],SelectedItems,0)),ROW(dProduct[NameTH])-6),ROWS(L$5:L7))),\"\"),INDEX(dProduct[NameTH],ROWS(L$5:L7)))","v":"03-ขนมปังไส้ถั่วแดง"}]
[null,null,4,{"$f":"MID(CELL(\"filename\",RecordTemplate!A1),FIND(\"]\",CELL(\"filename\",RecordTemplate!A1))+1,255)","v":"RecordTemplate"},{"$f":"COUNTA(Rec_Trc[#Headers])","v":20},{"$f":"ROWS(Rec_Trc[])","v":1},"Rec_Trc",null,null,null,{"$f":"IFERROR(IF(ROWS(K$5:K8)>COUNTA(SelectedItems),\"\",INDEX(SelectedItems,ROWS(K$5:K8))),\"\")","v":""},{"$f":"IFERROR(IF(ROWS(L$5:L8)<=(COUNTA(Nameth)-ItemRows_New),INDEX(dProduct[NameTH],SMALL(IF(ISNA(MATCH(dProduct[NameTH],SelectedItems,0)),ROW(dProduct[NameTH])-6),ROWS(L$5:L8))),\"\"),INDEX(dProduct[NameTH],ROWS(L$5:L8)))","v":"04-โมจิไส้ถั่ว"}]
[null,null,null,"",null,null,null,null,null,null,{"$f":"IFERROR(IF(ROWS(K$5:K9)>COUNTA(SelectedItems),\"\",INDEX(SelectedItems,ROWS(K$5:K9))),\"\")","v":""},{"$f":"IFERROR(IF(ROWS(L$5:L9)<=(COUNTA(Nameth)-ItemRows_New),INDEX(dProduct[NameTH],SMALL(IF(ISNA(MATCH(dProduct[NameTH],SelectedItems,0)),ROW(dProduct[NameTH])-6),ROWS(L$5:L9))),\"\"),INDEX(dProduct[NameTH],ROWS(L$5:L9)))","v":"05-ขนมปังไส้สังขยาใหญ่"}]
[null,null,null,"",null,"",null,null,null,null,{"$f":"IFERROR(IF(ROWS(K$5:K10)>COUNTA(SelectedItems),\"\",INDEX(SelectedItems,ROWS(K$5:K10))),\"\")","v":""},{"$f":"IFERROR(IF(ROWS(L$5:L10)<=(COUNTA(Nameth)-ItemRows_New),INDEX(dProduct[NameTH],SMALL(IF(ISNA(MATCH(dProduct[NameTH],SelectedItems,0)),ROW(dProduct[NameTH])-6),ROWS(L$5:L10))),\"\"),INDEX(dProduct[NameTH],ROWS(L$5:L10)))","v":"06-ขนมปังไส้หมูหยองเล็ก"}]
[null,null,null,null,null,null,null,null,null,null,{"$f":"IFERROR(IF(ROWS(K$5:K11)>COUNTA(SelectedItems),\"\",INDEX(SelectedItems,ROWS(K$5:K11))),\"\")","v":""},{"$f":"IFERROR(IF(ROWS(L$5:L11)<=(COUNTA(Nameth)-ItemRows_New),INDEX(dProduct[NameTH],SMALL(IF(ISNA(MATCH(dProduct[NameTH],SelectedItems,0)),ROW(dProduct[NameTH])-6),ROWS(L$5:L11))),\"\"),INDEX(dProduct[NameTH],ROWS(L$5:L11)))","v":"07-เค้กกล้วยหอม"}]
[null,null,"Select Case","ShtName","Column","FmRange_FillDown","dbTable","Discount(%)",null,null,{"$f":"IFERROR(IF(ROWS(K$5:K12)>COUNTA(SelectedItems),\"\",INDEX(SelectedItems,ROWS(K$5:K12))),\"\")","v":""},{"$f":"IFERROR(IF(ROWS(L$5:L12)<=(COUNTA(Nameth)-ItemRows_New),INDEX(dProduct[NameTH],SMALL(IF(ISNA(MATCH(dProduct[NameTH],SelectedItems,0)),ROW(dProduct[NameTH])-6),ROWS(L$5:L12))),\"\"),INDEX(dProduct[NameTH],ROWS(L$5:L12)))","v":"08-เค้กบัตเตอร์"}]
[null,null,2,{"$f":"INDEX($D$5:$D$7,MATCH($C$13,$C$5:$C$7,0))","v":"Exp_TESCO"},{"$f":"INDEX($E$5:$E$7,MATCH($C$13,$C$5:$C$7,0))","v":28},{"$f":"INDEX($F$5:$F$7,MATCH($C$13,$C$5:$C$7,0))","v":"A2:AB2"},{"$f":"INDEX(G5:G7,MATCH($C$13,$C$5:$C$7,0))","v":"dTLExpress"},{"$f":"INDEX(H5:H7,MATCH($C$13,$C$5:$C$7,0))","v":0.30841121495327101},null,null,{"$f":"IFERROR(IF(ROWS(K$5:K13)>COUNTA(SelectedItems),\"\",INDEX(SelectedItems,ROWS(K$5:K13))),\"\")","v":""},{"$f":"IFERROR(IF(ROWS(L$5:L13)<=(COUNTA(Nameth)-ItemRows_New),INDEX(dProduct[NameTH],SMALL(IF(ISNA(MATCH(dProduct[NameTH],SelectedItems,0)),ROW(dProduct[NameTH])-6),ROWS(L$5:L13))),\"\"),INDEX(dProduct[NameTH],ROWS(L$5:L13)))","v":"09-ขนมปังโรลมันเทศ"}]
[null,null,"Export_FileName",{"$f":"Sel_ShtName & \"_\" & TEXT(TODAY(),\"dd-mm-yy\")","v":"Exp_TESCO_15-09-18"},null,null,null,null,null,null,{"$f":"IFERROR(IF(ROWS(K$5:K14)>COUNTA(SelectedItems),\"\",INDEX(SelectedItems,ROWS(K$5:K14))),\"\")","v":""},{"$f":"IFERROR(IF(ROWS(L$5:L14)<=(COUNTA(Nameth)-ItemRows_New),INDEX(dProduct[NameTH],SMALL(IF(ISNA(MATCH(dProduct[NameTH],SelectedItems,0)),ROW(dProduct[NameTH])-6),ROWS(L$5:L14))),\"\"),INDEX(dProduct[NameTH],ROWS(L$5:L14)))","v":"10-ขนมปังโรลถั่วแดง"}]
[null,null,null,null,null,null,null,null,null,null,{"$f":"IFERROR(IF(ROWS(K$5:K15)>COUNTA(SelectedItems),\"\",INDEX(SelectedItems,ROWS(K$5:K15))),\"\")","v":""},{"$f":"IFERROR(IF(ROWS(L$5:L15)<=(COUNTA(Nameth)-ItemRows_New),INDEX(dProduct[NameTH],SMALL(IF(ISNA(MATCH(dProduct[NameTH],SelectedItems,0)),ROW(dProduct[NameTH])-6),ROWS(L$5:L15))),\"\"),INDEX(dProduct[NameTH],ROWS(L$5:L15)))","v":"11-ขนมปังหมูหยองมายองเนส"}]
[null,null,"SEARCH MODULE",null,null,null,"INV_LIST MODULE",null,null,null,{"$f":"IFERROR(IF(ROWS(K$5:K16)>COUNTA(SelectedItems),\"\",INDEX(SelectedItems,ROWS(K$5:K16))),\"\")","v":""},{"$f":"IFERROR(IF(ROWS(L$5:L16)<=(COUNTA(Nameth)-ItemRows_New),INDEX(dProduct[NameTH],SMALL(IF(ISNA(MATCH(dProduct[NameTH],SelectedItems,0)),ROW(dProduct[NameTH])-6),ROWS(L$5:L16))),\"\"),INDEX(dProduct[NameTH],ROWS(L$5:L16)))","v":"12-ขนมปังพิซซ่า"}]
[null,null,null,null,null,null,null,null,null,null,{"$f":"IFERROR(IF(ROWS(K$5:K17)>COUNTA(SelectedItems),\"\",INDEX(SelectedItems,ROWS(K$5:K17))),\"\")","v":""},{"$f":"IFERROR(IF(ROWS(L$5:L17)<=(COUNTA(Nameth)-ItemRows_New),INDEX(dProduct[NameTH],SMALL(IF(ISNA(MATCH(dProduct[NameTH],SelectedItems,0)),ROW(dProduct[NameTH])-6),ROWS(L$5:L17))),\"\"),INDEX(dProduct[NameTH],ROWS(L$5:L17)))","v":"13-ขนมปังหมูหยองน้ำสลัด"}]
[null,null,null,"StoreID","StoreName",{"$f":"COUNT(SEARCH(Keyword,List_CustName))","v":1163},"Select_INV","# Unique Rec",null,null,{"$f":"IFERROR(IF(ROWS(K$5:K18)>COUNTA(SelectedItems),\"\",INDEX(SelectedItems,ROWS(K$5:K18))),\"\")","v":""},{"$f":"IFERROR(IF(ROWS(L$5:L18)<=(COUNTA(Nameth)-ItemRows_New),INDEX(dProduct[NameTH],SMALL(IF(ISNA(MATCH(dProduct[NameTH],SelectedItems,0)),ROW(dProduct[NameTH])-6),ROWS(L$5:L18))),\"\"),INDEX(dProduct[NameTH],ROWS(L$5:L18)))","v":"14-ขนมปังไส้กรอก"}]
[null,null,{"$f":"IF(ROW()-18>SearchHight,\"\",SMALL(IF(ISNUMBER(SEARCH(Keyword,List_CustName)),ROW(List_CustName)-4),ROW()-18))","v":1},{"$f":"IF(C19=\"\",\"\",INDEX(List_StoreCode,$C19))","v":"1101"},{"$f":"IF(C19=\"\",\"\",INDEX(List_CustName,$C19))","v":"รามอินทรา"},null,{"$f":"IF(ROW(1:1)>$H$19,\"\",INDEX(Rec_Trc[INV No.],SMALL(IF(FREQUENCY(IF(Rec_Trc[INV No.]<>\"\",MATCH(Rec_Trc[INV No.],Rec_Trc[INV No.],0)),ROW(Rec_Trc[INV No.])-ROW(Rec_Trc[[#Headers],[INV No.]])),ROW(Rec_Trc[INV No.])-ROW(Rec_Trc[[#Headers],[INV No.]])),ROW(1:1))))","v":{"$error":"#VALUE!"}},{"$f":"SUM(IF(FREQUENCY(IF(Rec_Trc[INV No.]<>\"\",MATCH(Rec_Trc[INV No.],Rec_Trc[INV No.],0)),ROW(Rec_Trc[INV No.])-ROW(Rec_Trc[[#Headers],[INV No.]])+1),1))","v":{"$error":"#VALUE!"}},null,null,{"$f":"IFERROR(IF(ROWS(K$5:K19)>COUNTA(SelectedItems),\"\",INDEX(SelectedItems,ROWS(K$5:K19))),\"\")","v":""},{"$f":"IFERROR(IF(ROWS(L$5:L19)<=(COUNTA(Nameth)-ItemRows_New),INDEX(dProduct[NameTH],SMALL(IF(ISNA(MATCH(dProduct[NameTH],SelectedItems,0)),ROW(dProduct[NameTH])-6),ROWS(L$5:L19))),\"\"),INDEX(dProduct[NameTH],ROWS(L$5:L19)))","v":"15-ขนมก้านบัว"}]
[null,null,{"$f":"IF(ROW()-18>SearchHight,\"\",SMALL(IF(ISNUMBER(SEARCH(Keyword,List_CustName)),ROW(List_CustName)-4),ROW()-18))","v":2},{"$f":"IF(C20=\"\",\"\",INDEX(List_StoreCode,$C20))","v":"1102"},{"$f":"IF(C20=\"\",\"\",INDEX(List_CustName,$C20))","v":"วิภาวดี"},null,{"$f":"IF(ROW(2:2)>$H$19,\"\",INDEX(Rec_Trc[INV No.],SMALL(IF(FREQUENCY(IF(Rec_Trc[INV No.]<>\"\",MATCH(Rec_Trc[INV No.],Rec_Trc[INV No.],0)),ROW(Rec_Trc[INV No.])-ROW(Rec_Trc[[#Headers],[INV No.]])),ROW(Rec_Trc[INV No.])-ROW(Rec_Trc[[#Headers],[INV No.]])),ROW(2:2))))","v":{"$error":"#VALUE!"}},null,null,null,{"$f":"IFERROR(IF(ROWS(K$5:K20)>COUNTA(SelectedItems),\"\",INDEX(SelectedItems,ROWS(K$5:K20))),\"\")","v":""},{"$f":"IFERROR(IF(ROWS(L$5:L20)<=(COUNTA(Nameth)-ItemRows_New),INDEX(dProduct[NameTH],SMALL(IF(ISNA(MATCH(dProduct[NameTH],SelectedItems,0)),ROW(dProduct[NameTH])-6),ROWS(L$5:L20))),\"\"),INDEX(dProduct[NameTH],ROWS(L$5:L20)))","v":"16-ขนมปังไส้หมูหยองใหญ่"}]
[null,null,{"$f":"IF(ROW()-18>SearchHight,\"\",SMALL(IF(ISNUMBER(SEARCH(Keyword,List_CustName)),ROW(List_CustName)-4),ROW()-18))","v":3},{"$f":"IF(C21=\"\",\"\",INDEX(List_StoreCode,$C21))","v":"1103"},{"$f":"IF(C21=\"\",\"\",INDEX(List_CustName,$C21))","v":"เอกมัย"},null,{"$f":"IF(ROW(3:3)>$H$19,\"\",INDEX(Rec_Trc[INV No.],SMALL(IF(FREQUENCY(IF(Rec_Trc[INV No.]<>\"\",MATCH(Rec_Trc[INV No.],Rec_Trc[INV No.],0)),ROW(Rec_Trc[INV No.])-ROW(Rec_Trc[[#Headers],[INV No.]])),ROW(Rec_Trc[INV No.])-ROW(Rec_Trc[[#Headers],[INV No.]])),ROW(3:3))))","v":{"$error":"#VALUE!"}},null,null,null,{"$f":"IFERROR(IF(ROWS(K$5:K21)>COUNTA(SelectedItems),\"\",INDEX(SelectedItems,ROWS(K$5:K21))),\"\")","v":""},{"$f":"IFERROR(IF(ROWS(L$5:L21)<=(COUNTA(Nameth)-ItemRows_New),INDEX(dProduct[NameTH],SMALL(IF(ISNA(MATCH(dProduct[NameTH],SelectedItems,0)),ROW(dProduct[NameTH])-6),ROWS(L$5:L21))),\"\"),INDEX(dProduct[NameTH],ROWS(L$5:L21)))","v":"17-ขนมปังไส้ครีมสลัด"}]
[null,null,{"$f":"IF(ROW()-18>SearchHight,\"\",SMALL(IF(ISNUMBER(SEARCH(Keyword,List_CustName)),ROW(List_CustName)-4),ROW()-18))","v":4},{"$f":"IF(C22=\"\",\"\",INDEX(List_StoreCode,$C22))","v":"1104"},{"$f":"IF(C22=\"\",\"\",INDEX(List_CustName,$C22))","v":"เสนานิคม"},null,{"$f":"IF(ROW(4:4)>$H$19,\"\",INDEX(Rec_Trc[INV No.],SMALL(IF(FREQUENCY(IF(Rec_Trc[INV No.]<>\"\",MATCH(Rec_Trc[INV No.],Rec_Trc[INV No.],0)),ROW(Rec_Trc[INV No.])-ROW(Rec_Trc[[#Headers],[INV No.]])),ROW(Rec_Trc[INV No.])-ROW(Rec_Trc[[#Headers],[INV No.]])),ROW(4:4))))","v":{"$error":"#VALUE!"}},null,null,null,{"$f":"IFERROR(IF(ROWS(K$5:K22)>COUNTA(SelectedItems),\"\",INDEX(SelectedItems,ROWS(K$5:K22))),\"\")","v":""},{"$f":"IFERROR(IF(ROWS(L$5:L22)<=(COUNTA(Nameth)-ItemRows_New),INDEX(dProduct[NameTH],SMALL(IF(ISNA(MATCH(dProduct[NameTH],SelectedItems,0)),ROW(dProduct[NameTH])-6),ROWS(L$5:L22))),\"\"),INDEX(dProduct[NameTH],ROWS(L$5:L22)))","v":"18-ขนมปังไก่หยองน้ำสลัด"}]
[null,null,{"$f":"IF(ROW()-18>SearchHight,\"\",SMALL(IF(ISNUMBER(SEARCH(Keyword,List_CustName)),ROW(List_CustName)-4),ROW()-18))","v":5},{"$f":"IF(C23=\"\",\"\",INDEX(List_StoreCode,$C23))","v":"1105"},{"$f":"IF(C23=\"\",\"\",INDEX(List_CustName,$C23))","v":"ซอยอารีย์"},null,{"$f":"IF(ROW(5:5)>$H$19,\"\",INDEX(Rec_Trc[INV No.],SMALL(IF(FREQUENCY(IF(Rec_Trc[INV No.]<>\"\",MATCH(Rec_Trc[INV No.],Rec_Trc[INV No.],0)),ROW(Rec_Trc[INV No.])-ROW(Rec_Trc[[#Headers],[INV No.]])),ROW(Rec_Trc[INV No.])-ROW(Rec_Trc[[#Headers],[INV No.]])),ROW(5:5))))","v":{"$error":"#VALUE!"}},null,null,null,{"$f":"IFERROR(IF(ROWS(K$5:K23)>COUNTA(SelectedItems),\"\",INDEX(SelectedItems,ROWS(K$5:K23))),\"\")","v":""},{"$f":"IFERROR(IF(ROWS(L$5:L23)<=(COUNTA(Nameth)-ItemRows_New),INDEX(dProduct[NameTH],SMALL(IF(ISNA(MATCH(dProduct[NameTH],SelectedItems,0)),ROW(dProduct[NameTH])-6),ROWS(L$5:L23))),\"\"),INDEX(dProduct[NameTH],ROWS(L$5:L23)))","v":"19-ขนมก้านบัว 90 กรัม"}]
[null,null,{"$f":"IF(ROW()-18>SearchHight,\"\",SMALL(IF(ISNUMBER(SEARCH(Keyword,List_CustName)),ROW(List_CustName)-4),ROW()-18))","v":6},{"$f":"IF(C24=\"\",\"\",INDEX(List_StoreCode,$C24))","v":"1106"},{"$f":"IF(C24=\"\",\"\",INDEX(List_CustName,$C24))","v":"สุขาภิบาล 1"},null,{"$f":"IF(ROW(6:6)>$H$19,\"\",INDEX(Rec_Trc[INV No.],SMALL(IF(FREQUENCY(IF(Rec_Trc[INV No.]<>\"\",MATCH(Rec_Trc[INV No.],Rec_Trc[INV No.],0)),ROW(Rec_Trc[INV No.])-ROW(Rec_Trc[[#Headers],[INV No.]])),ROW(Rec_Trc[INV No.])-ROW(Rec_Trc[[#Headers],[INV No.]])),ROW(6:6))))","v":{"$error":"#VALUE!"}},null,null,null,{"$f":"IFERROR(IF(ROWS(K$5:K24)>COUNTA(SelectedItems),\"\",INDEX(SelectedItems,ROWS(K$5:K24))),\"\")","v":""},{"$f":"IFERROR(IF(ROWS(L$5:L24)<=(COUNTA(Nameth)-ItemRows_New),INDEX(dProduct[NameTH],SMALL(IF(ISNA(MATCH(dProduct[NameTH],SelectedItems,0)),ROW(dProduct[NameTH])-6),ROWS(L$5:L24))),\"\"),INDEX(dProduct[NameTH],ROWS(L$5:L24)))","v":"20-ปังกรอบเนยสด"}]
[null,null,{"$f":"IF(ROW()-18>SearchHight,\"\",SMALL(IF(ISNUMBER(SEARCH(Keyword,List_CustName)),ROW(List_CustName)-4),ROW()-18))","v":7},{"$f":"IF(C25=\"\",\"\",INDEX(List_StoreCode,$C25))","v":"1107"},{"$f":"IF(C25=\"\",\"\",INDEX(List_CustName,$C25))","v":"สุทธิสาร"},null,{"$f":"IF(ROW(7:7)>$H$19,\"\",INDEX(Rec_Trc[INV No.],SMALL(IF(FREQUENCY(IF(Rec_Trc[INV No.]<>\"\",MATCH(Rec_Trc[INV No.],Rec_Trc[INV No.],0)),ROW(Rec_Trc[INV No.])-ROW(Rec_Trc[[#Headers],[INV No.]])),ROW(Rec_Trc[INV No.])-ROW(Rec_Trc[[#Headers],[INV No.]])),ROW(7:7))))","v":{"$error":"#VALUE!"}},null,null,null,{"$f":"IFERROR(IF(ROWS(K$5:K25)>COUNTA(SelectedItems),\"\",INDEX(SelectedItems,ROWS(K$5:K25))),\"\")","v":""},{"$f":"IFERROR(IF(ROWS(L$5:L25)<=(COUNTA(Nameth)-ItemRows_New),INDEX(dProduct[NameTH],SMALL(IF(ISNA(MATCH(dProduct[NameTH],SelectedItems,0)),ROW(dProduct[NameTH])-6),ROWS(L$5:L25))),\"\"),INDEX(dProduct[NameTH],ROWS(L$5:L25)))","v":"21-ปังกรอบกระเทียม"}]
[null,null,{"$f":"IF(ROW()-18>SearchHight,\"\",SMALL(IF(ISNUMBER(SEARCH(Keyword,List_CustName)),ROW(List_CustName)-4),ROW()-18))","v":8},{"$f":"IF(C26=\"\",\"\",INDEX(List_StoreCode,$C26))","v":"1108"},{"$f":"IF(C26=\"\",\"\",INDEX(List_CustName,$C26))","v":"สีลม"},null,{"$f":"IF(ROW(8:8)>$H$19,\"\",INDEX(Rec_Trc[INV No.],SMALL(IF(FREQUENCY(IF(Rec_Trc[INV No.]<>\"\",MATCH(Rec_Trc[INV No.],Rec_Trc[INV No.],0)),ROW(Rec_Trc[INV No.])-ROW(Rec_Trc[[#Headers],[INV No.]])),ROW(Rec_Trc[INV No.])-ROW(Rec_Trc[[#Headers],[INV No.]])),ROW(8:8))))","v":{"$error":"#VALUE!"}},null,null,null,{"$f":"IFERROR(IF(ROWS(K$5:K26)>COUNTA(SelectedItems),\"\",INDEX(SelectedItems,ROWS(K$5:K26))),\"\")","v":""},{"$f":"IFERROR(IF(ROWS(L$5:L26)<=(COUNTA(Nameth)-ItemRows_New),INDEX(dProduct[NameTH],SMALL(IF(ISNA(MATCH(dProduct[NameTH],SelectedItems,0)),ROW(dProduct[NameTH])-6),ROWS(L$5:L26))),\"\"),INDEX(dProduct[NameTH],ROWS(L$5:L26)))","v":"23-ขนมปังหมูหยองน้ำพริกเผา"}]
[null,null,{"$f":"IF(ROW()-18>SearchHight,\"\",SMALL(IF(ISNUMBER(SEARCH(Keyword,List_CustName)),ROW(List_CustName)-4),ROW()-18))","v":9},{"$f":"IF(C27=\"\",\"\",INDEX(List_StoreCode,$C27))","v":"1109"},{"$f":"IF(C27=\"\",\"\",INDEX(List_CustName,$C27))","v":"ลาดพร้าว 120"},null,{"$f":"IF(ROW(9:9)>$H$19,\"\",INDEX(Rec_Trc[INV No.],SMALL(IF(FREQUENCY(IF(Rec_Trc[INV No.]<>\"\",MATCH(Rec_Trc[INV No.],Rec_Trc[INV No.],0)),ROW(Rec_Trc[INV No.])-ROW(Rec_Trc[[#Headers],[INV No.]])),ROW(Rec_Trc[INV No.])-ROW(Rec_Trc[[#Headers],[INV No.]])),ROW(9:9))))","v":{"$error":"#VALUE!"}},null,null,null,{"$f":"IFERROR(IF(ROWS(K$5:K27)>COUNTA(SelectedItems),\"\",INDEX(SelectedItems,ROWS(K$5:K27))),\"\")","v":""},{"$f":"IFERROR(IF(ROWS(L$5:L27)<=(COUNTA(Nameth)-ItemRows_New),INDEX(dProduct[NameTH],SMALL(IF(ISNA(MATCH(dProduct[NameTH],SelectedItems,0)),ROW(dProduct[NameTH])-6),ROWS(L$5:L27))),\"\"),INDEX(dProduct[NameTH],ROWS(L$5:L27)))","v":"24-ขนมปังเนยสด"}]
[null,null,{"$f":"IF(ROW()-18>SearchHight,\"\",SMALL(IF(ISNUMBER(SEARCH(Keyword,List_CustName)),ROW(List_CustName)-4),ROW()-18))","v":10},{"$f":"IF(C28=\"\",\"\",INDEX(List_StoreCode,$C28))","v":"1110"},{"$f":"IF(C28=\"\",\"\",INDEX(List_CustName,$C28))","v":"ถนนเพชรบุรีตัดใหม่ ขาออก"},null,{"$f":"IF(ROW(10:10)>$H$19,\"\",INDEX(Rec_Trc[INV No.],SMALL(IF(FREQUENCY(IF(Rec_Trc[INV No.]<>\"\",MATCH(Rec_Trc[INV No.],Rec_Trc[INV No.],0)),ROW(Rec_Trc[INV No.])-ROW(Rec_Trc[[#Headers],[INV No.]])),ROW(Rec_Trc[INV No.])-ROW(Rec_Trc[[#Headers],[INV No.]])),ROW(10:10))))","v":{"$error":"#VALUE!"}},null,null,null,{"$f":"IFERROR(IF(ROWS(K$5:K28)>COUNTA(SelectedItems),\"\",INDEX(SelectedItems,ROWS(K$5:K28))),\"\")","v":""},{"$f":"IFERROR(IF(ROWS(L$5:L28)<=(COUNTA(Nameth)-ItemRows_New),INDEX(dProduct[NameTH],SMALL(IF(ISNA(MATCH(dProduct[NameTH],SelectedItems,0)),ROW(dProduct[NameTH])-6),ROWS(L$5:L28))),\"\"),INDEX(dProduct[NameTH],ROWS(L$5:L28)))","v":"25-ขนมปังปอนด์ใหญ่ (L)"}]
[null,null,{"$f":"IF(ROW()-18>SearchHight,\"\",SMALL(IF(ISNUMBER(SEARCH(Keyword,List_CustName)),ROW(List_CustName)-4),ROW()-18))","v":11},{"$f":"IF(C29=\"\",\"\",INDEX(List_StoreCode,$C29))","v":"1111"},{"$f":"IF(C29=\"\",\"\",INDEX(List_CustName,$C29))","v":"จรัญสนิทวงศ์ "},null,{"$f":"IF(ROW(11:11)>$H$19,\"\",INDEX(Rec_Trc[INV No.],SMALL(IF(FREQUENCY(IF(Rec_Trc[INV No.]<>\"\",MATCH(Rec_Trc[INV No.],Rec_Trc[INV No.],0)),ROW(Rec_Trc[INV No.])-ROW(Rec_Trc[[#Headers],[INV No.]])),ROW(Rec_Trc[INV No.])-ROW(Rec_Trc[[#Headers],[INV No.]])),ROW(11:11))))","v":{"$error":"#VALUE!"}},null,null,null,{"$f":"IFERROR(IF(ROWS(K$5:K29)>COUNTA(SelectedItems),\"\",INDEX(SelectedItems,ROWS(K$5:K29))),\"\")","v":""},{"$f":"IFERROR(IF(ROWS(L$5:L29)<=(COUNTA(Nameth)-ItemRows_New),INDEX(dProduct[NameTH],SMALL(IF(ISNA(MATCH(dProduct[NameTH],SelectedItems,0)),ROW(dProduct[NameTH])-6),ROWS(L$5:L29))),\"\"),INDEX(dProduct[NameTH],ROWS(L$5:L29)))","v":"26-ขนมก้านบัวบาร์บีคิว"}]
[null,null,{"$f":"IF(ROW()-18>SearchHight,\"\",SMALL(IF(ISNUMBER(SEARCH(Keyword,List_CustName)),ROW(List_CustName)-4),ROW()-18))","v":12},{"$f":"IF(C30=\"\",\"\",INDEX(List_StoreCode,$C30))","v":"1112"},{"$f":"IF(C30=\"\",\"\",INDEX(List_CustName,$C30))","v":"สำโรง"},null,{"$f":"IF(ROW(12:12)>$H$19,\"\",INDEX(Rec_Trc[INV No.],SMALL(IF(FREQUENCY(IF(Rec_Trc[INV No.]<>\"\",MATCH(Rec_Trc[INV No.],Rec_Trc[INV No.],0)),ROW(Rec_Trc[INV No.])-ROW(Rec_Trc[[#Headers],[INV No.]])),ROW(Rec_Trc[INV No.])-ROW(Rec_Trc[[#Headers],[INV No.]])),ROW(12:12))))","v":{"$error":"#VALUE!"}},null,null,null,{"$f":"IFERROR(IF(ROWS(K$5:K30)>COUNTA(SelectedItems),\"\",INDEX(SelectedItems,ROWS(K$5:K30))),\"\")","v":""},{"$f":"IFERROR(IF(ROWS(L$5:L30)<=(COUNTA(Nameth)-ItemRows_New),INDEX(dProduct[NameTH],SMALL(IF(ISNA(MATCH(dProduct[NameTH],SelectedItems,0)),ROW(dProduct[NameTH])-6),ROWS(L$5:L30))),\"\"),INDEX(dProduct[NameTH],ROWS(L$5:L30)))","v":"28-ขนมปังชนิดแผ่น (460 กรัม)"}]
[null,null,{"$f":"IF(ROW()-18>SearchHight,\"\",SMALL(IF(ISNUMBER(SEARCH(Keyword,List_CustName)),ROW(List_CustName)-4),ROW()-18))","v":13},{"$f":"IF(C31=\"\",\"\",INDEX(List_StoreCode,$C31))","v":"1113"},{"$f":"IF(C31=\"\",\"\",INDEX(List_CustName,$C31))","v":"อุดมสุข (สุขุมวิท 103)"},null,{"$f":"IF(ROW(13:13)>$H$19,\"\",INDEX(Rec_Trc[INV No.],SMALL(IF(FREQUENCY(IF(Rec_Trc[INV No.]<>\"\",MATCH(Rec_Trc[INV No.],Rec_Trc[INV No.],0)),ROW(Rec_Trc[INV No.])-ROW(Rec_Trc[[#Headers],[INV No.]])),ROW(Rec_Trc[INV No.])-ROW(Rec_Trc[[#Headers],[INV No.]])),ROW(13:13))))","v":{"$error":"#VALUE!"}},null,null,null,{"$f":"IFERROR(IF(ROWS(K$5:K31)>COUNTA(SelectedItems),\"\",INDEX(SelectedItems,ROWS(K$5:K31))),\"\")","v":""},{"$f":"IFERROR(IF(ROWS(L$5:L31)<=(COUNTA(Nameth)-ItemRows_New),INDEX(dProduct[NameTH],SMALL(IF(ISNA(MATCH(dProduct[NameTH],SelectedItems,0)),ROW(dProduct[NameTH])-6),ROWS(L$5:L31))),\"\"),INDEX(dProduct[NameTH],ROWS(L$5:L31)))","v":"31-ขนมปังแผ่นหน้าเนยสด"}]
[null,null,{"$f":"IF(ROW()-18>SearchHight,\"\",SMALL(IF(ISNUMBER(SEARCH(Keyword,List_CustName)),ROW(List_CustName)-4),ROW()-18))","v":14},{"$f":"IF(C32=\"\",\"\",INDEX(List_StoreCode,$C32))","v":"1114"},{"$f":"IF(C32=\"\",\"\",INDEX(List_CustName,$C32))","v":"ถนนพหลโยธิน (ขาเข้า) กม.25"},null,{"$f":"IF(ROW(14:14)>$H$19,\"\",INDEX(Rec_Trc[INV No.],SMALL(IF(FREQUENCY(IF(Rec_Trc[INV No.]<>\"\",MATCH(Rec_Trc[INV No.],Rec_Trc[INV No.],0)),ROW(Rec_Trc[INV No.])-ROW(Rec_Trc[[#Headers],[INV No.]])),ROW(Rec_Trc[INV No.])-ROW(Rec_Trc[[#Headers],[INV No.]])),ROW(14:14))))","v":{"$error":"#VALUE!"}},null,null,null,{"$f":"IFERROR(IF(ROWS(K$5:K32)>COUNTA(SelectedItems),\"\",INDEX(SelectedItems,ROWS(K$5:K32))),\"\")","v":""},{"$f":"IFERROR(IF(ROWS(L$5:L32)<=(COUNTA(Nameth)-ItemRows_New),INDEX(dProduct[NameTH],SMALL(IF(ISNA(MATCH(dProduct[NameTH],SelectedItems,0)),ROW(dProduct[NameTH])-6),ROWS(L$5:L32))),\"\"),INDEX(dProduct[NameTH],ROWS(L$5:L32)))","v":"32-ขนมโมจิไส้เผือก แพ็ค 4 ชิ้น"}]
[null,null,{"$f":"IF(ROW()-18>SearchHight,\"\",SMALL(IF(ISNUMBER(SEARCH(Keyword,List_CustName)),ROW(List_CustName)-4),ROW()-18))","v":15},{"$f":"IF(C33=\"\",\"\",INDEX(List_StoreCode,$C33))","v":"1115"},{"$f":"IF(C33=\"\",\"\",INDEX(List_CustName,$C33))","v":"ถนนบางนา - ตราด (ขาออก) กม.6.5"},null,{"$f":"IF(ROW(15:15)>$H$19,\"\",INDEX(Rec_Trc[INV No.],SMALL(IF(FREQUENCY(IF(Rec_Trc[INV No.]<>\"\",MATCH(Rec_Trc[INV No.],Rec_Trc[INV No.],0)),ROW(Rec_Trc[INV No.])-ROW(Rec_Trc[[#Headers],[INV No.]])),ROW(Rec_Trc[INV No.])-ROW(Rec_Trc[[#Headers],[INV No.]])),ROW(15:15))))","v":{"$error":"#VALUE!"}},null,null,null,{"$f":"IFERROR(IF(ROWS(K$5:K33)>COUNTA(SelectedItems),\"\",INDEX(SelectedItems,ROWS(K$5:K33))),\"\")","v":""},{"$f":"IFERROR(IF(ROWS(L$5:L33)<=(COUNTA(Nameth)-ItemRows_New),INDEX(dProduct[NameTH],SMALL(IF(ISNA(MATCH(dProduct[NameTH],SelectedItems,0)),ROW(dProduct[NameTH])-6),ROWS(L$5:L33))),\"\"),INDEX(dProduct[NameTH],ROWS(L$5:L33)))","v":"35-ขนมปังโรลมันม่วง"}]
[null,null,{"$f":"IF(ROW()-18>SearchHight,\"\",SMALL(IF(ISNUMBER(SEARCH(Keyword,List_CustName)),ROW(List_CustName)-4),ROW()-18))","v":16},{"$f":"IF(C34=\"\",\"\",INDEX(List_StoreCode,$C34))","v":"1116"},{"$f":"IF(C34=\"\",\"\",INDEX(List_CustName,$C34))","v":"ถนนแจ้งวัฒนะ (ขาเข้า)"},null,{"$f":"IF(ROW(16:16)>$H$19,\"\",INDEX(Rec_Trc[INV No.],SMALL(IF(FREQUENCY(IF(Rec_Trc[INV No.]<>\"\",MATCH(Rec_Trc[INV No.],Rec_Trc[INV No.],0)),ROW(Rec_Trc[INV No.])-ROW(Rec_Trc[[#Headers],[INV No.]])),ROW(Rec_Trc[INV No.])-ROW(Rec_Trc[[#Headers],[INV No.]])),ROW(16:16))))","v":{"$error":"#VALUE!"}},null,null,null,{"$f":"IFERROR(IF(ROWS(K$5:K34)>COUNTA(SelectedItems),\"\",INDEX(SelectedItems,ROWS(K$5:K34))),\"\")","v":""},{"$f":"IFERROR(IF(ROWS(L$5:L34)<=(COUNTA(Nameth)-ItemRows_New),INDEX(dProduct[NameTH],SMALL(IF(ISNA(MATCH(dProduct[NameTH],SelectedItems,0)),ROW(dProduct[NameTH])-6),ROWS(L$5:L34))),\"\"),INDEX(dProduct[NameTH],ROWS(L$5:L34)))","v":"36-ขนมปังโรลมันส้มผสมแครอท"}]
[null,null,{"$f":"IF(ROW()-18>SearchHight,\"\",SMALL(IF(ISNUMBER(SEARCH(Keyword,List_CustName)),ROW(List_CustName)-4),ROW()-18))","v":17},{"$f":"IF(C35=\"\",\"\",INDEX(List_StoreCode,$C35))","v":"1117"},{"$f":"IF(C35=\"\",\"\",INDEX(List_CustName,$C35))","v":"ถนนเพชรเกษม 108"},null,{"$f":"IF(ROW(17:17)>$H$19,\"\",INDEX(Rec_Trc[INV No.],SMALL(IF(FREQUENCY(IF(Rec_Trc[INV No.]<>\"\",MATCH(Rec_Trc[INV No.],Rec_Trc[INV No.],0)),ROW(Rec_Trc[INV No.])-ROW(Rec_Trc[[#Headers],[INV No.]])),ROW(Rec_Trc[INV No.])-ROW(Rec_Trc[[#Headers],[INV No.]])),ROW(17:17))))","v":{"$error":"#VALUE!"}},null,null,null,{"$f":"IFERROR(IF(ROWS(K$5:K35)>COUNTA(SelectedItems),\"\",INDEX(SelectedItems,ROWS(K$5:K35))),\"\")","v":""},{"$f":"IFERROR(IF(ROWS(L$5:L35)<=(COUNTA(Nameth)-ItemRows_New),INDEX(dProduct[NameTH],SMALL(IF(ISNA(MATCH(dProduct[NameTH],SelectedItems,0)),ROW(dProduct[NameTH])-6),ROWS(L$5:L35))),\"\"),INDEX(dProduct[NameTH],ROWS(L$5:L35)))","v":"37-ขนมก้านบัวน้ำขิง"}]
[null,null,{"$f":"IF(ROW()-18>SearchHight,\"\",SMALL(IF(ISNUMBER(SEARCH(Keyword,List_CustName)),ROW(List_CustName)-4),ROW()-18))","v":18},{"$f":"IF(C36=\"\",\"\",INDEX(List_StoreCode,$C36))","v":"1118"},{"$f":"IF(C36=\"\",\"\",INDEX(List_CustName,$C36))","v":"ปิ่นเกล้า (ขาออก)"},null,{"$f":"IF(ROW(18:18)>$H$19,\"\",INDEX(Rec_Trc[INV No.],SMALL(IF(FREQUENCY(IF(Rec_Trc[INV No.]<>\"\",MATCH(Rec_Trc[INV No.],Rec_Trc[INV No.],0)),ROW(Rec_Trc[INV No.])-ROW(Rec_Trc[[#Headers],[INV No.]])),ROW(Rec_Trc[INV No.])-ROW(Rec_Trc[[#Headers],[INV No.]])),ROW(18:18))))","v":{"$error":"#VALUE!"}},null,null,null,{"$f":"IFERROR(IF(ROWS(K$5:K36)>COUNTA(SelectedItems),\"\",INDEX(SelectedItems,ROWS(K$5:K36))),\"\")","v":""},{"$f":"IFERROR(IF(ROWS(L$5:L36)<=(COUNTA(Nameth)-ItemRows_New),INDEX(dProduct[NameTH],SMALL(IF(ISNA(MATCH(dProduct[NameTH],SelectedItems,0)),ROW(dProduct[NameTH])-6),ROWS(L$5:L36))),\"\"),INDEX(dProduct[NameTH],ROWS(L$5:L36)))","v":"38-ขนมปังพิซซ่าปูอัดแฮม"}]
[null,null,{"$f":"IF(ROW()-18>SearchHight,\"\",SMALL(IF(ISNUMBER(SEARCH(Keyword,List_CustName)),ROW(List_CustName)-4),ROW()-18))","v":19},{"$f":"IF(C37=\"\",\"\",INDEX(List_StoreCode,$C37))","v":"1119"},{"$f":"IF(C37=\"\",\"\",INDEX(List_CustName,$C37))","v":"เมืองทองธานี"},null,{"$f":"IF(ROW(19:19)>$H$19,\"\",INDEX(Rec_Trc[INV No.],SMALL(IF(FREQUENCY(IF(Rec_Trc[INV No.]<>\"\",MATCH(Rec_Trc[INV No.],Rec_Trc[INV No.],0)),ROW(Rec_Trc[INV No.])-ROW(Rec_Trc[[#Headers],[INV No.]])),ROW(Rec_Trc[INV No.])-ROW(Rec_Trc[[#Headers],[INV No.]])),ROW(19:19))))","v":{"$error":"#VALUE!"}},null,null,null,{"$f":"IFERROR(IF(ROWS(K$5:K37)>COUNTA(SelectedItems),\"\",INDEX(SelectedItems,ROWS(K$5:K37))),\"\")","v":""},{"$f":"IFERROR(IF(ROWS(L$5:L37)<=(COUNTA(Nameth)-ItemRows_New),INDEX(dProduct[NameTH],SMALL(IF(ISNA(MATCH(dProduct[NameTH],SelectedItems,0)),ROW(dProduct[NameTH])-6),ROWS(L$5:L37))),\"\"),INDEX(dProduct[NameTH],ROWS(L$5:L37)))","v":"39-ขนมปังไส้กรอกคอกเทลหมู"}]
[null,null,{"$f":"IF(ROW()-18>SearchHight,\"\",SMALL(IF(ISNUMBER(SEARCH(Keyword,List_CustName)),ROW(List_CustName)-4),ROW()-18))","v":20},{"$f":"IF(C38=\"\",\"\",INDEX(List_StoreCode,$C38))","v":"1120"},{"$f":"IF(C38=\"\",\"\",INDEX(List_CustName,$C38))","v":"สุขาภิบาล 1-คลองจั่น"},null,{"$f":"IF(ROW(20:20)>$H$19,\"\",INDEX(Rec_Trc[INV No.],SMALL(IF(FREQUENCY(IF(Rec_Trc[INV No.]<>\"\",MATCH(Rec_Trc[INV No.],Rec_Trc[INV No.],0)),ROW(Rec_Trc[INV No.])-ROW(Rec_Trc[[#Headers],[INV No.]])),ROW(Rec_Trc[INV No.])-ROW(Rec_Trc[[#Headers],[INV No.]])),ROW(20:20))))","v":{"$error":"#VALUE!"}},null,null,null,{"$f":"IFERROR(IF(ROWS(K$5:K38)>COUNTA(SelectedItems),\"\",INDEX(SelectedItems,ROWS(K$5:K38))),\"\")","v":""},{"$f":"IFERROR(IF(ROWS(L$5:L38)<=(COUNTA(Nameth)-ItemRows_New),INDEX(dProduct[NameTH],SMALL(IF(ISNA(MATCH(dProduct[NameTH],SelectedItems,0)),ROW(dProduct[NameTH])-6),ROWS(L$5:L38))),\"\"),INDEX(dProduct[NameTH],ROWS(L$5:L38)))","v":""}]
[null,null,{"$f":"IF(ROW()-18>SearchHight,\"\",SMALL(IF(ISNUMBER(SEARCH(Keyword,List_CustName)),ROW(List_CustName)-4),ROW()-18))","v":21},{"$f":"IF(C39=\"\",\"\",INDEX(List_StoreCode,$C39))","v":"1121"},{"$f":"IF(C39=\"\",\"\",INDEX(List_CustName,$C39))","v":"สุทธิสาร 2"},null,{"$f":"IF(ROW(21:21)>$H$19,\"\",INDEX(Rec_Trc[INV No.],SMALL(IF(FREQUENCY(IF(Rec_Trc[INV No.]<>\"\",MATCH(Rec_Trc[INV No.],Rec_Trc[INV No.],0)),ROW(Rec_Trc[INV No.])-ROW(Rec_Trc[[#Headers],[INV No.]])),ROW(Rec_Trc[INV No.])-ROW(Rec_Trc[[#Headers],[INV No.]])),ROW(21:21))))","v":{"$error":"#VALUE!"}},null,null,null,{"$f":"IFERROR(IF(ROWS(K$5:K39)>COUNTA(SelectedItems),\"\",INDEX(SelectedItems,ROWS(K$5:K39))),\"\")","v":""},{"$f":"IFERROR(IF(ROWS(L$5:L39)<=(COUNTA(Nameth)-ItemRows_New),INDEX(dProduct[NameTH],SMALL(IF(ISNA(MATCH(dProduct[NameTH],SelectedItems,0)),ROW(dProduct[NameTH])-6),ROWS(L$5:L39))),\"\"),INDEX(dProduct[NameTH],ROWS(L$5:L39)))","v":""}]
[null,null,{"$f":"IF(ROW()-18>SearchHight,\"\",SMALL(IF(ISNUMBER(SEARCH(Keyword,List_CustName)),ROW(List_CustName)-4),ROW()-18))","v":22},{"$f":"IF(C40=\"\",\"\",INDEX(List_StoreCode,$C40))","v":"1122"},{"$f":"IF(C40=\"\",\"\",INDEX(List_CustName,$C40))","v":"ศรีย่าน"},null,{"$f":"IF(ROW(22:22)>$H$19,\"\",INDEX(Rec_Trc[INV No.],SMALL(IF(FREQUENCY(IF(Rec_Trc[INV No.]<>\"\",MATCH(Rec_Trc[INV No.],Rec_Trc[INV No.],0)),ROW(Rec_Trc[INV No.])-ROW(Rec_Trc[[#Headers],[INV No.]])),ROW(Rec_Trc[INV No.])-ROW(Rec_Trc[[#Headers],[INV No.]])),ROW(22:22))))","v":{"$error":"#VALUE!"}},null,null,null,{"$f":"IFERROR(IF(ROWS(K$5:K40)>COUNTA(SelectedItems),\"\",INDEX(SelectedItems,ROWS(K$5:K40))),\"\")","v":""},{"$f":"IFERROR(IF(ROWS(L$5:L40)<=(COUNTA(Nameth)-ItemRows_New),INDEX(dProduct[NameTH],SMALL(IF(ISNA(MATCH(dProduct[NameTH],SelectedItems,0)),ROW(dProduct[NameTH])-6),ROWS(L$5:L40))),\"\"),INDEX(dProduct[NameTH],ROWS(L$5:L40)))","v":""}]
[null,null,{"$f":"IF(ROW()-18>SearchHight,\"\",SMALL(IF(ISNUMBER(SEARCH(Keyword,List_CustName)),ROW(List_CustName)-4),ROW()-18))","v":23},{"$f":"IF(C41=\"\",\"\",INDEX(List_StoreCode,$C41))","v":"1123"},{"$f":"IF(C41=\"\",\"\",INDEX(List_CustName,$C41))","v":"พระราม 9 ขาออก"},null,{"$f":"IF(ROW(23:23)>$H$19,\"\",INDEX(Rec_Trc[INV No.],SMALL(IF(FREQUENCY(IF(Rec_Trc[INV No.]<>\"\",MATCH(Rec_Trc[INV No.],Rec_Trc[INV No.],0)),ROW(Rec_Trc[INV No.])-ROW(Rec_Trc[[#Headers],[INV No.]])),ROW(Rec_Trc[INV No.])-ROW(Rec_Trc[[#Headers],[INV No.]])),ROW(23:23))))","v":{"$error":"#VALUE!"}},null,null,null,{"$f":"IFERROR(IF(ROWS(K$5:K41)>COUNTA(SelectedItems),\"\",INDEX(SelectedItems,ROWS(K$5:K41))),\"\")","v":""},{"$f":"IFERROR(IF(ROWS(L$5:L41)<=(COUNTA(Nameth)-ItemRows_New),INDEX(dProduct[NameTH],SMALL(IF(ISNA(MATCH(dProduct[NameTH],SelectedItems,0)),ROW(dProduct[NameTH])-6),ROWS(L$5:L41))),\"\"),INDEX(dProduct[NameTH],ROWS(L$5:L41)))","v":""}]
[null,null,{"$f":"IF(ROW()-18>SearchHight,\"\",SMALL(IF(ISNUMBER(SEARCH(Keyword,List_CustName)),ROW(List_CustName)-4),ROW()-18))","v":24},{"$f":"IF(C42=\"\",\"\",INDEX(List_StoreCode,$C42))","v":"1124"},{"$f":"IF(C42=\"\",\"\",INDEX(List_CustName,$C42))","v":"รามคำแหง ขาออก"},null,{"$f":"IF(ROW(24:24)>$H$19,\"\",INDEX(Rec_Trc[INV No.],SMALL(IF(FREQUENCY(IF(Rec_Trc[INV No.]<>\"\",MATCH(Rec_Trc[INV No.],Rec_Trc[INV No.],0)),ROW(Rec_Trc[INV No.])-ROW(Rec_Trc[[#Headers],[INV No.]])),ROW(Rec_Trc[INV No.])-ROW(Rec_Trc[[#Headers],[INV No.]])),ROW(24:24))))","v":{"$error":"#VALUE!"}},null,null,null,{"$f":"IFERROR(IF(ROWS(K$5:K42)>COUNTA(SelectedItems),\"\",INDEX(SelectedItems,ROWS(K$5:K42))),\"\")","v":""},{"$f":"IFERROR(IF(ROWS(L$5:L42)<=(COUNTA(Nameth)-ItemRows_New),INDEX(dProduct[NameTH],SMALL(IF(ISNA(MATCH(dProduct[NameTH],SelectedItems,0)),ROW(dProduct[NameTH])-6),ROWS(L$5:L42))),\"\"),INDEX(dProduct[NameTH],ROWS(L$5:L42)))","v":""}]
[null,null,{"$f":"IF(ROW()-18>SearchHight,\"\",SMALL(IF(ISNUMBER(SEARCH(Keyword,List_CustName)),ROW(List_CustName)-4),ROW()-18))","v":25},{"$f":"IF(C43=\"\",\"\",INDEX(List_StoreCode,$C43))","v":"1125"},{"$f":"IF(C43=\"\",\"\",INDEX(List_CustName,$C43))","v":"รามอินทรา ขาเข้า"},null,{"$f":"IF(ROW(25:25)>$H$19,\"\",INDEX(Rec_Trc[INV No.],SMALL(IF(FREQUENCY(IF(Rec_Trc[INV No.]<>\"\",MATCH(Rec_Trc[INV No.],Rec_Trc[INV No.],0)),ROW(Rec_Trc[INV No.])-ROW(Rec_Trc[[#Headers],[INV No.]])),ROW(Rec_Trc[INV No.])-ROW(Rec_Trc[[#Headers],[INV No.]])),ROW(25:25))))","v":{"$error":"#VALUE!"}},null,null,null,{"$f":"IFERROR(IF(ROWS(K$5:K43)>COUNTA(SelectedItems),\"\",INDEX(SelectedItems,ROWS(K$5:K43))),\"\")","v":""},{"$f":"IFERROR(IF(ROWS(L$5:L43)<=(COUNTA(Nameth)-ItemRows_New),INDEX(dProduct[NameTH],SMALL(IF(ISNA(MATCH(dProduct[NameTH],SelectedItems,0)),ROW(dProduct[NameTH])-6),ROWS(L$5:L43))),\"\"),INDEX(dProduct[NameTH],ROWS(L$5:L43)))","v":""}]
[null,null,{"$f":"IF(ROW()-18>SearchHight,\"\",SMALL(IF(ISNUMBER(SEARCH(Keyword,List_CustName)),ROW(List_CustName)-4),ROW()-18))","v":26},{"$f":"IF(C44=\"\",\"\",INDEX(List_StoreCode,$C44))","v":"1126"},{"$f":"IF(C44=\"\",\"\",INDEX(List_CustName,$C44))","v":"สุขุมวิท ขาเข้า"},null,{"$f":"IF(ROW(26:26)>$H$19,\"\",INDEX(Rec_Trc[INV No.],SMALL(IF(FREQUENCY(IF(Rec_Trc[INV No.]<>\"\",MATCH(Rec_Trc[INV No.],Rec_Trc[INV No.],0)),ROW(Rec_Trc[INV No.])-ROW(Rec_Trc[[#Headers],[INV No.]])),ROW(Rec_Trc[INV No.])-ROW(Rec_Trc[[#Headers],[INV No.]])),ROW(26:26))))","v":{"$error":"#VALUE!"}}]
[null,null,{"$f":"IF(ROW()-18>SearchHight,\"\",SMALL(IF(ISNUMBER(SEARCH(Keyword,List_CustName)),ROW(List_CustName)-4),ROW()-18))","v":27},{"$f":"IF(C45=\"\",\"\",INDEX(List_StoreCode,$C45))","v":"1127"},{"$f":"IF(C45=\"\",\"\",INDEX(List_CustName,$C45))","v":"สำโรงเหนือ"},null,{"$f":"IF(ROW(27:27)>$H$19,\"\",INDEX(Rec_Trc[INV No.],SMALL(IF(FREQUENCY(IF(Rec_Trc[INV No.]<>\"\",MATCH(Rec_Trc[INV No.],Rec_Trc[INV No.],0)),ROW(Rec_Trc[INV No.])-ROW(Rec_Trc[[#Headers],[INV No.]])),ROW(Rec_Trc[INV No.])-ROW(Rec_Trc[[#Headers],[INV No.]])),ROW(27:27))))","v":{"$error":"#VALUE!"}}]
[null,null,{"$f":"IF(ROW()-18>SearchHight,\"\",SMALL(IF(ISNUMBER(SEARCH(Keyword,List_CustName)),ROW(List_CustName)-4),ROW()-18))","v":28},{"$f":"IF(C46=\"\",\"\",INDEX(List_StoreCode,$C46))","v":"1128"},{"$f":"IF(C46=\"\",\"\",INDEX(List_CustName,$C46))","v":"บางแคเหนือ"},null,{"$f":"IF(ROW(28:28)>$H$19,\"\",INDEX(Rec_Trc[INV No.],SMALL(IF(FREQUENCY(IF(Rec_Trc[INV No.]<>\"\",MATCH(Rec_Trc[INV No.],Rec_Trc[INV No.],0)),ROW(Rec_Trc[INV No.])-ROW(Rec_Trc[[#Headers],[INV No.]])),ROW(Rec_Trc[INV No.])-ROW(Rec_Trc[[#Headers],[INV No.]])),ROW(28:28))))","v":{"$error":"#VALUE!"}}]
[null,null,{"$f":"IF(ROW()-18>SearchHight,\"\",SMALL(IF(ISNUMBER(SEARCH(Keyword,List_CustName)),ROW(List_CustName)-4),ROW()-18))","v":29},{"$f":"IF(C47=\"\",\"\",INDEX(List_StoreCode,$C47))","v":"1129"},{"$f":"IF(C47=\"\",\"\",INDEX(List_CustName,$C47))","v":"พระราม 4"},null,{"$f":"IF(ROW(29:29)>$H$19,\"\",INDEX(Rec_Trc[INV No.],SMALL(IF(FREQUENCY(IF(Rec_Trc[INV No.]<>\"\",MATCH(Rec_Trc[INV No.],Rec_Trc[INV No.],0)),ROW(Rec_Trc[INV No.])-ROW(Rec_Trc[[#Headers],[INV No.]])),ROW(Rec_Trc[INV No.])-ROW(Rec_Trc[[#Headers],[INV No.]])),ROW(29:29))))","v":{"$error":"#VALUE!"}}]
[null,null,{"$f":"IF(ROW()-18>SearchHight,\"\",SMALL(IF(ISNUMBER(SEARCH(Keyword,List_CustName)),ROW(List_CustName)-4),ROW()-18))","v":30},{"$f":"IF(C48=\"\",\"\",INDEX(List_StoreCode,$C48))","v":"1130"},{"$f":"IF(C48=\"\",\"\",INDEX(List_CustName,$C48))","v":"พาณิชย์ธน"},null,{"$f":"IF(ROW(30:30)>$H$19,\"\",INDEX(Rec_Trc[INV No.],SMALL(IF(FREQUENCY(IF(Rec_Trc[INV No.]<>\"\",MATCH(Rec_Trc[INV No.],Rec_Trc[INV No.],0)),ROW(Rec_Trc[INV No.])-ROW(Rec_Trc[[#Headers],[INV No.]])),ROW(Rec_Trc[INV No.])-ROW(Rec_Trc[[#Headers],[INV No.]])),ROW(30:30))))","v":{"$error":"#VALUE!"}}]
[null,null,{"$f":"IF(ROW()-18>SearchHight,\"\",SMALL(IF(ISNUMBER(SEARCH(Keyword,List_CustName)),ROW(List_CustName)-4),ROW()-18))","v":31},{"$f":"IF(C49=\"\",\"\",INDEX(List_StoreCode,$C49))","v":"1131"},{"$f":"IF(C49=\"\",\"\",INDEX(List_CustName,$C49))","v":"หัวหิน"},null,{"$f":"IF(ROW(31:31)>$H$19,\"\",INDEX(Rec_Trc[INV No.],SMALL(IF(FREQUENCY(IF(Rec_Trc[INV No.]<>\"\",MATCH(Rec_Trc[INV No.],Rec_Trc[INV No.],0)),ROW(Rec_Trc[INV No.])-ROW(Rec_Trc[[#Headers],[INV No.]])),ROW(Rec_Trc[INV No.])-ROW(Rec_Trc[[#Headers],[INV No.]])),ROW(31:31))))","v":{"$error":"#VALUE!"}}]
[null,null,{"$f":"IF(ROW()-18>SearchHight,\"\",SMALL(IF(ISNUMBER(SEARCH(Keyword,List_CustName)),ROW(List_CustName)-4),ROW()-18))","v":32},{"$f":"IF(C50=\"\",\"\",INDEX(List_StoreCode,$C50))","v":"1132"},{"$f":"IF(C50=\"\",\"\",INDEX(List_CustName,$C50))","v":"บางปะกอก"},null,{"$f":"IF(ROW(32:32)>$H$19,\"\",INDEX(Rec_Trc[INV No.],SMALL(IF(FREQUENCY(IF(Rec_Trc[INV No.]<>\"\",MATCH(Rec_Trc[INV No.],Rec_Trc[INV No.],0)),ROW(Rec_Trc[INV No.])-ROW(Rec_Trc[[#Headers],[INV No.]])),ROW(Rec_Trc[INV No.])-ROW(Rec_Trc[[#Headers],[INV No.]])),ROW(32:32))))","v":{"$error":"#VALUE!"}}]
[null,null,null,null,null,null,{"$f":"IF(ROW(33:33)>$H$19,\"\",INDEX(Rec_Trc[INV No.],SMALL(IF(FREQUENCY(IF(Rec_Trc[INV No.]<>\"\",MATCH(Rec_Trc[INV No.],Rec_Trc[INV No.],0)),ROW(Rec_Trc[INV No.])-ROW(Rec_Trc[[#Headers],[INV No.]])),ROW(Rec_Trc[INV No.])-ROW(Rec_Trc[[#Headers],[INV No.]])),ROW(33:33))))","v":{"$error":"#VALUE!"}}]
[null,null,null,null,null,null,{"$f":"IF(ROW(34:34)>$H$19,\"\",INDEX(Rec_Trc[INV No.],SMALL(IF(FREQUENCY(IF(Rec_Trc[INV No.]<>\"\",MATCH(Rec_Trc[INV No.],Rec_Trc[INV No.],0)),ROW(Rec_Trc[INV No.])-ROW(Rec_Trc[[#Headers],[INV No.]])),ROW(Rec_Trc[INV No.])-ROW(Rec_Trc[[#Headers],[INV No.]])),ROW(34:34))))","v":{"$error":"#VALUE!"}}]
[null,null,null,null,null,null,{"$f":"IF(ROW(35:35)>$H$19,\"\",INDEX(Rec_Trc[INV No.],SMALL(IF(FREQUENCY(IF(Rec_Trc[INV No.]<>\"\",MATCH(Rec_Trc[INV No.],Rec_Trc[INV No.],0)),ROW(Rec_Trc[INV No.])-ROW(Rec_Trc[[#Headers],[INV No.]])),ROW(Rec_Trc[INV No.])-ROW(Rec_Trc[[#Headers],[INV No.]])),ROW(35:35))))","v":{"$error":"#VALUE!"}}]
[null,null,null,null,null,null,{"$f":"IF(ROW(36:36)>$H$19,\"\",INDEX(Rec_Trc[INV No.],SMALL(IF(FREQUENCY(IF(Rec_Trc[INV No.]<>\"\",MATCH(Rec_Trc[INV No.],Rec_Trc[INV No.],0)),ROW(Rec_Trc[INV No.])-ROW(Rec_Trc[[#Headers],[INV No.]])),ROW(Rec_Trc[INV No.])-ROW(Rec_Trc[[#Headers],[INV No.]])),ROW(36:36))))","v":{"$error":"#VALUE!"}}]
[null,null,null,null,null,null,{"$f":"IF(ROW(37:37)>$H$19,\"\",INDEX(Rec_Trc[INV No.],SMALL(IF(FREQUENCY(IF(Rec_Trc[INV No.]<>\"\",MATCH(Rec_Trc[INV No.],Rec_Trc[INV No.],0)),ROW(Rec_Trc[INV No.])-ROW(Rec_Trc[[#Headers],[INV No.]])),ROW(Rec_Trc[INV No.])-ROW(Rec_Trc[[#Headers],[INV No.]])),ROW(37:37))))","v":{"$error":"#VALUE!"}}]
[null,null,null,null,null,null,{"$f":"IF(ROW(38:38)>$H$19,\"\",INDEX(Rec_Trc[INV No.],SMALL(IF(FREQUENCY(IF(Rec_Trc[INV No.]<>\"\",MATCH(Rec_Trc[INV No.],Rec_Trc[INV No.],0)),ROW(Rec_Trc[INV No.])-ROW(Rec_Trc[[#Headers],[INV No.]])),ROW(Rec_Trc[INV No.])-ROW(Rec_Trc[[#Headers],[INV No.]])),ROW(38:38))))","v":{"$error":"#VALUE!"}}]
[null,null,null,null,null,null,{"$f":"IF(ROW(39:39)>$H$19,\"\",INDEX(Rec_Trc[INV No.],SMALL(IF(FREQUENCY(IF(Rec_Trc[INV No.]<>\"\",MATCH(Rec_Trc[INV No.],Rec_Trc[INV No.],0)),ROW(Rec_Trc[INV No.])-ROW(Rec_Trc[[#Headers],[INV No.]])),ROW(Rec_Trc[INV No.])-ROW(Rec_Trc[[#Headers],[INV No.]])),ROW(39:39))))","v":{"$error":"#VALUE!"}}]
[null,null,null,null,null,null,{"$f":"IF(ROW(40:40)>$H$19,\"\",INDEX(Rec_Trc[INV No.],SMALL(IF(FREQUENCY(IF(Rec_Trc[INV No.]<>\"\",MATCH(Rec_Trc[INV No.],Rec_Trc[INV No.],0)),ROW(Rec_Trc[INV No.])-ROW(Rec_Trc[[#Headers],[INV No.]])),ROW(Rec_Trc[INV No.])-ROW(Rec_Trc[[#Headers],[INV No.]])),ROW(40:40))))","v":{"$error":"#VALUE!"}}]
[null,null,null,null,null,null,{"$f":"IF(ROW(41:41)>$H$19,\"\",INDEX(Rec_Trc[INV No.],SMALL(IF(FREQUENCY(IF(Rec_Trc[INV No.]<>\"\",MATCH(Rec_Trc[INV No.],Rec_Trc[INV No.],0)),ROW(Rec_Trc[INV No.])-ROW(Rec_Trc[[#Headers],[INV No.]])),ROW(Rec_Trc[INV No.])-ROW(Rec_Trc[[#Headers],[INV No.]])),ROW(41:41))))","v":{"$error":"#VALUE!"}}]
[null,null,null,null,null,null,{"$f":"IF(ROW(42:42)>$H$19,\"\",INDEX(Rec_Trc[INV No.],SMALL(IF(FREQUENCY(IF(Rec_Trc[INV No.]<>\"\",MATCH(Rec_Trc[INV No.],Rec_Trc[INV No.],0)),ROW(Rec_Trc[INV No.])-ROW(Rec_Trc[[#Headers],[INV No.]])),ROW(Rec_Trc[INV No.])-ROW(Rec_Trc[[#Headers],[INV No.]])),ROW(42:42))))","v":{"$error":"#VALUE!"}}]
[null,null,null,null,null,null,{"$f":"IF(ROW(43:43)>$H$19,\"\",INDEX(Rec_Trc[INV No.],SMALL(IF(FREQUENCY(IF(Rec_Trc[INV No.]<>\"\",MATCH(Rec_Trc[INV No.],Rec_Trc[INV No.],0)),ROW(Rec_Trc[INV No.])-ROW(Rec_Trc[[#Headers],[INV No.]])),ROW(Rec_Trc[INV No.])-ROW(Rec_Trc[[#Headers],[INV No.]])),ROW(43:43))))","v":{"$error":"#VALUE!"}}]
[null,null,null,null,null,null,{"$f":"IF(ROW(44:44)>$H$19,\"\",INDEX(Rec_Trc[INV No.],SMALL(IF(FREQUENCY(IF(Rec_Trc[INV No.]<>\"\",MATCH(Rec_Trc[INV No.],Rec_Trc[INV No.],0)),ROW(Rec_Trc[INV No.])-ROW(Rec_Trc[[#Headers],[INV No.]])),ROW(Rec_Trc[INV No.])-ROW(Rec_Trc[[#Headers],[INV No.]])),ROW(44:44))))","v":{"$error":"#VALUE!"}}]
[null,null,null,null,null,null,{"$f":"IF(ROW(45:45)>$H$19,\"\",INDEX(Rec_Trc[INV No.],SMALL(IF(FREQUENCY(IF(Rec_Trc[INV No.]<>\"\",MATCH(Rec_Trc[INV No.],Rec_Trc[INV No.],0)),ROW(Rec_Trc[INV No.])-ROW(Rec_Trc[[#Headers],[INV No.]])),ROW(Rec_Trc[INV No.])-ROW(Rec_Trc[[#Headers],[INV No.]])),ROW(45:45))))","v":{"$error":"#VALUE!"}}]
[null,null,null,null,null,null,{"$f":"IF(ROW(46:46)>$H$19,\"\",INDEX(Rec_Trc[INV No.],SMALL(IF(FREQUENCY(IF(Rec_Trc[INV No.]<>\"\",MATCH(Rec_Trc[INV No.],Rec_Trc[INV No.],0)),ROW(Rec_Trc[INV No.])-ROW(Rec_Trc[[#Headers],[INV No.]])),ROW(Rec_Trc[INV No.])-ROW(Rec_Trc[[#Headers],[INV No.]])),ROW(46:46))))","v":{"$error":"#VALUE!"}}]
[null,null,null,null,null,null,{"$f":"IF(ROW(47:47)>$H$19,\"\",INDEX(Rec_Trc[INV No.],SMALL(IF(FREQUENCY(IF(Rec_Trc[INV No.]<>\"\",MATCH(Rec_Trc[INV No.],Rec_Trc[INV No.],0)),ROW(Rec_Trc[INV No.])-ROW(Rec_Trc[[#Headers],[INV No.]])),ROW(Rec_Trc[INV No.])-ROW(Rec_Trc[[#Headers],[INV No.]])),ROW(47:47))))","v":{"$error":"#VALUE!"}}]
[null,null,null,null,null,null,{"$f":"IF(ROW(48:48)>$H$19,\"\",INDEX(Rec_Trc[INV No.],SMALL(IF(FREQUENCY(IF(Rec_Trc[INV No.]<>\"\",MATCH(Rec_Trc[INV No.],Rec_Trc[INV No.],0)),ROW(Rec_Trc[INV No.])-ROW(Rec_Trc[[#Headers],[INV No.]])),ROW(Rec_Trc[INV No.])-ROW(Rec_Trc[[#Headers],[INV No.]])),ROW(48:48))))","v":{"$error":"#VALUE!"}}]
[null,null,null,null,null,null,{"$f":"IF(ROW(49:49)>$H$19,\"\",INDEX(Rec_Trc[INV No.],SMALL(IF(FREQUENCY(IF(Rec_Trc[INV No.]<>\"\",MATCH(Rec_Trc[INV No.],Rec_Trc[INV No.],0)),ROW(Rec_Trc[INV No.])-ROW(Rec_Trc[[#Headers],[INV No.]])),ROW(Rec_Trc[INV No.])-ROW(Rec_Trc[[#Headers],[INV No.]])),ROW(49:49))))","v":{"$error":"#VALUE!"}}]
[null,null,null,null,null,null,{"$f":"IF(ROW(50:50)>$H$19,\"\",INDEX(Rec_Trc[INV No.],SMALL(IF(FREQUENCY(IF(Rec_Trc[INV No.]<>\"\",MATCH(Rec_Trc[INV No.],Rec_Trc[INV No.],0)),ROW(Rec_Trc[INV No.])-ROW(Rec_Trc[[#Headers],[INV No.]])),ROW(Rec_Trc[INV No.])-ROW(Rec_Trc[[#Headers],[INV No.]])),ROW(50:50))))","v":{"$error":"#VALUE!"}}]
[null,null,null,null,null,null,{"$f":"IF(ROW(51:51)>$H$19,\"\",INDEX(Rec_Trc[INV No.],SMALL(IF(FREQUENCY(IF(Rec_Trc[INV No.]<>\"\",MATCH(Rec_Trc[INV No.],Rec_Trc[INV No.],0)),ROW(Rec_Trc[INV No.])-ROW(Rec_Trc[[#Headers],[INV No.]])),ROW(Rec_Trc[INV No.])-ROW(Rec_Trc[[#Headers],[INV No.]])),ROW(51:51))))","v":{"$error":"#VALUE!"}}]
[null,null,null,null,null,null,{"$f":"IF(ROW(52:52)>$H$19,\"\",INDEX(Rec_Trc[INV No.],SMALL(IF(FREQUENCY(IF(Rec_Trc[INV No.]<>\"\",MATCH(Rec_Trc[INV No.],Rec_Trc[INV No.],0)),ROW(Rec_Trc[INV No.])-ROW(Rec_Trc[[#Headers],[INV No.]])),ROW(Rec_Trc[INV No.])-ROW(Rec_Trc[[#Headers],[INV No.]])),ROW(52:52))))","v":{"$error":"#VALUE!"}}]
[null,null,null,null,null,null,{"$f":"IF(ROW(53:53)>$H$19,\"\",INDEX(Rec_Trc[INV No.],SMALL(IF(FREQUENCY(IF(Rec_Trc[INV No.]<>\"\",MATCH(Rec_Trc[INV No.],Rec_Trc[INV No.],0)),ROW(Rec_Trc[INV No.])-ROW(Rec_Trc[[#Headers],[INV No.]])),ROW(Rec_Trc[INV No.])-ROW(Rec_Trc[[#Headers],[INV No.]])),ROW(53:53))))","v":{"$error":"#VALUE!"}}]
[null,null,null,null,null,null,{"$f":"IF(ROW(54:54)>$H$19,\"\",INDEX(Rec_Trc[INV No.],SMALL(IF(FREQUENCY(IF(Rec_Trc[INV No.]<>\"\",MATCH(Rec_Trc[INV No.],Rec_Trc[INV No.],0)),ROW(Rec_Trc[INV No.])-ROW(Rec_Trc[[#Headers],[INV No.]])),ROW(Rec_Trc[INV No.])-ROW(Rec_Trc[[#Headers],[INV No.]])),ROW(54:54))))","v":{"$error":"#VALUE!"}}]
[null,null,null,null,null,null,{"$f":"IF(ROW(55:55)>$H$19,\"\",INDEX(Rec_Trc[INV No.],SMALL(IF(FREQUENCY(IF(Rec_Trc[INV No.]<>\"\",MATCH(Rec_Trc[INV No.],Rec_Trc[INV No.],0)),ROW(Rec_Trc[INV No.])-ROW(Rec_Trc[[#Headers],[INV No.]])),ROW(Rec_Trc[INV No.])-ROW(Rec_Trc[[#Headers],[INV No.]])),ROW(55:55))))","v":{"$error":"#VALUE!"}}]
[null,null,null,null,null,null,{"$f":"IF(ROW(56:56)>$H$19,\"\",INDEX(Rec_Trc[INV No.],SMALL(IF(FREQUENCY(IF(Rec_Trc[INV No.]<>\"\",MATCH(Rec_Trc[INV No.],Rec_Trc[INV No.],0)),ROW(Rec_Trc[INV No.])-ROW(Rec_Trc[[#Headers],[INV No.]])),ROW(Rec_Trc[INV No.])-ROW(Rec_Trc[[#Headers],[INV No.]])),ROW(56:56))))","v":{"$error":"#VALUE!"}}]
[null,null,null,null,null,null,{"$f":"IF(ROW(57:57)>$H$19,\"\",INDEX(Rec_Trc[INV No.],SMALL(IF(FREQUENCY(IF(Rec_Trc[INV No.]<>\"\",MATCH(Rec_Trc[INV No.],Rec_Trc[INV No.],0)),ROW(Rec_Trc[INV No.])-ROW(Rec_Trc[[#Headers],[INV No.]])),ROW(Rec_Trc[INV No.])-ROW(Rec_Trc[[#Headers],[INV No.]])),ROW(57:57))))","v":{"$error":"#VALUE!"}}]
[null,null,null,null,null,null,{"$f":"IF(ROW(58:58)>$H$19,\"\",INDEX(Rec_Trc[INV No.],SMALL(IF(FREQUENCY(IF(Rec_Trc[INV No.]<>\"\",MATCH(Rec_Trc[INV No.],Rec_Trc[INV No.],0)),ROW(Rec_Trc[INV No.])-ROW(Rec_Trc[[#Headers],[INV No.]])),ROW(Rec_Trc[INV No.])-ROW(Rec_Trc[[#Headers],[INV No.]])),ROW(58:58))))","v":{"$error":"#VALUE!"}}]
[null,null,null,null,null,null,{"$f":"IF(ROW(59:59)>$H$19,\"\",INDEX(Rec_Trc[INV No.],SMALL(IF(FREQUENCY(IF(Rec_Trc[INV No.]<>\"\",MATCH(Rec_Trc[INV No.],Rec_Trc[INV No.],0)),ROW(Rec_Trc[INV No.])-ROW(Rec_Trc[[#Headers],[INV No.]])),ROW(Rec_Trc[INV No.])-ROW(Rec_Trc[[#Headers],[INV No.]])),ROW(59:59))))","v":{"$error":"#VALUE!"}}]
[null,null,null,null,null,null,{"$f":"IF(ROW(60:60)>$H$19,\"\",INDEX(Rec_Trc[INV No.],SMALL(IF(FREQUENCY(IF(Rec_Trc[INV No.]<>\"\",MATCH(Rec_Trc[INV No.],Rec_Trc[INV No.],0)),ROW(Rec_Trc[INV No.])-ROW(Rec_Trc[[#Headers],[INV No.]])),ROW(Rec_Trc[INV No.])-ROW(Rec_Trc[[#Headers],[INV No.]])),ROW(60:60))))","v":{"$error":"#VALUE!"}}]
[null,null,null,null,null,null,{"$f":"IF(ROW(61:61)>$H$19,\"\",INDEX(Rec_Trc[INV No.],SMALL(IF(FREQUENCY(IF(Rec_Trc[INV No.]<>\"\",MATCH(Rec_Trc[INV No.],Rec_Trc[INV No.],0)),ROW(Rec_Trc[INV No.])-ROW(Rec_Trc[[#Headers],[INV No.]])),ROW(Rec_Trc[INV No.])-ROW(Rec_Trc[[#Headers],[INV No.]])),ROW(61:61))))","v":{"$error":"#VALUE!"}}]
[null,null,null,null,null,null,{"$f":"IF(ROW(62:62)>$H$19,\"\",INDEX(Rec_Trc[INV No.],SMALL(IF(FREQUENCY(IF(Rec_Trc[INV No.]<>\"\",MATCH(Rec_Trc[INV No.],Rec_Trc[INV No.],0)),ROW(Rec_Trc[INV No.])-ROW(Rec_Trc[[#Headers],[INV No.]])),ROW(Rec_Trc[INV No.])-ROW(Rec_Trc[[#Headers],[INV No.]])),ROW(62:62))))","v":{"$error":"#VALUE!"}}]
[null,null,null,null,null,null,{"$f":"IF(ROW(63:63)>$H$19,\"\",INDEX(Rec_Trc[INV No.],SMALL(IF(FREQUENCY(IF(Rec_Trc[INV No.]<>\"\",MATCH(Rec_Trc[INV No.],Rec_Trc[INV No.],0)),ROW(Rec_Trc[INV No.])-ROW(Rec_Trc[[#Headers],[INV No.]])),ROW(Rec_Trc[INV No.])-ROW(Rec_Trc[[#Headers],[INV No.]])),ROW(63:63))))","v":{"$error":"#VALUE!"}}]

{"sheet":"RecordTemplate","index":6,"n_rows":43,"n_cols":24,"rows_kept":43,"cut":false,"hidden":true,"merged":[[40,1,40,2],[1,1,1,2]]}
[]
[null,"||  Record Form"]
[]
[null,"Branch Code","Sales","Store Code","Store Name","CustomType","Issue_Date","Time","Billing_Date","INV No.","PO","Items","Product_Code","Product_Name","Unit","Exchange","Total Ex.Vat","Total Amt","Vat","Total","Remark",null,"Parameter"]
[null,{"$f":"IF(ROW()-ROW(Rec_Detail[[#Headers],[Branch Code]])>ItemRows_New,\"\",Branch)","v":""},{"$f":"IF(ROW()-ROW(Rec_Detail[[#Headers],[Branch Code]])>ItemRows_New,\"\",Sales)","v":""},{"$f":"IF(ROW()-ROW(Rec_Detail[[#Headers],[Branch Code]])>ItemRows_New,\"\",StoreCode)","v":""},{"$f":"IF(Rec_Detail[[#This Row],[Store Code]]=\"\",\"\",Rec_Detail[[#This Row],[Store Code]]&\" - \"&IFERROR(INDEX(INDIRECT(DbTable&\"[StoreName]\"),MATCH(Rec_Detail[[#This Row],[Store Code]],INDIRECT(DbTable&\"[StoreCode]\"),0)),\"\"))","v":""},{"$f":"IFERROR(MID(Rec_Detail[[#This Row],[Store Code]],5,1)&\" - \"&INDEX(dCustType[Customer],MATCH(MID(Rec_Detail[[#This Row],[Store Code]],5,1),dCustType[Code],0)),\"-\")","v":"-"},{"$f":"IF(ROW()-ROW(Rec_Detail[[#Headers],[Branch Code]])>ItemRows_New,\"\",Issue_Date)","v":""},{"$f":"IF(ROW()-ROW(Rec_Detail[[#Headers],[Branch Code]])>ItemRows_New,\"\",IF(Time=\"\",NOW(),Time))","v":""},{"$f":"IF(ROW()-ROW(Rec_Detail[[#Headers],[Branch Code]])>ItemRows_New,\"\",IF(Billing_Date=\"\",TODAY(),Billing_Date))","v":""},{"$f":"IF(ROW()-ROW(Rec_Detail[[#Headers],[Branch Code]])>ItemRows_New,\"\",IF(BillType=1,TEXT(INV,\"IC\"&\"0000000000\"),TEXT(INV,\"0000000000\")))","v":""},{"$f":"IF(ROW()-ROW(Rec_Detail[[#Headers],[Branch Code]])>ItemRows_New,\"\",PO)","v":""},{"$f":"IF(ROW()-ROW(Rec_Detail[[#Headers],[Branch Code]])>ItemRows_New,\"\",IF(SelectCase<>1,OFFSET(FORM!$C22,,-1),FORM!$C22))","v":""},{"$f":"IF(ROW()-ROW(Rec_Detail[[#Headers],[Branch Code]])>ItemRows_New,\"\",FORM!$G22)","v":""},{"$f":"IFERROR(INDEX(dProduct[NameTH],MATCH(Rec_Detail[[#This Row],[Product_Code]],dProduct[BarCode],0)),\"\")","v":""},{"$f":"IF(ROW()-ROW(Rec_Detail[[#Headers],[Branch Code]])>ItemRows_New,\"\",FORM!$I22)","v":""},{"$f":"IF(ROW()-ROW(Rec_Detail[[#Headers],[Branch Code]])>ItemRows_New,\"\",FORM!$K22)","v":""},{"$f":"IF(ROW()-ROW(Rec_Detail[[#Headers],[Branch Code]])>ItemRows_New,\"\",FORM!$O22)","v":""},{"$f":"IF(ROW()-ROW(Rec_Detail[[#Headers],[Sales]])>ItemRows_New,\"\",TotalAmt.Ex.Vat)","v":""},{"$f":"IF(ROW()-ROW(Rec_Detail[[#Headers],[Store Code]])>ItemRows_New,\"\",Vat)","v":""},{"$f":"IF(ROW()-ROW(Rec_Detail[[#Headers],[Store Code]])>ItemRows_New,\"\",Total.Vat)","v":""},{"$f":"IF(ROW()-(ROW(Rec_Detail[#Headers])+ItemRows_New+1)=0,\"-End-\",IF(AND(Rec_Detail[[#This Row],[Product_Code]]<>\"\",Rec_Detail[[#This Row],[Items]]=\"\"),\"#N/A\",\"\"))","v":"-End-"},null,"Record_End",{"$f":"LOOKUP(2,1/(U:U<>\"\"),ROW(U:U))","v":43}]
[null,{"$f":"IF(ROW()-ROW(Rec_Detail[[#Headers],[Branch Code]])>ItemRows_New,\"\",Branch)","v":""},{"$f":"IF(ROW()-ROW(Rec_Detail[[#Headers],[Branch Code]])>ItemRows_New,\"\",Sales)","v":""},{"$f":"IF(ROW()-ROW(Rec_Detail[[#Headers],[Branch Code]])>ItemRows_New,\"\",StoreCode)","v":""},{"$f":"IF(Rec_Detail[[#This Row],[Store Code]]=\"\",\"\",Rec_Detail[[#This Row],[Store Code]]&\" - \"&IFERROR(INDEX(INDIRECT(DbTable&\"[StoreName]\"),MATCH(Rec_Detail[[#This Row],[Store Code]],INDIRECT(DbTable&\"[StoreCode]\"),0)),\"\"))","v":""},{"$f":"IFERROR(MID(Rec_Detail[[#This Row],[Store Code]],5,1)&\" - \"&INDEX(dCustType[Customer],MATCH(MID(Rec_Detail[[#This Row],[Store Code]],5,1),dCustType[Code],0)),\"-\")","v":"-"},{"$f":"IF(ROW()-ROW(Rec_Detail[[#Headers],[Branch Code]])>ItemRows_New,\"\",Issue_Date)","v":""},{"$f":"IF(ROW()-ROW(Rec_Detail[[#Headers],[Branch Code]])>ItemRows_New,\"\",IF(Time=\"\",NOW(),Time))","v":""},{"$f":"IF(ROW()-ROW(Rec_Detail[[#Headers],[Branch Code]])>ItemRows_New,\"\",IF(Billing_Date=\"\",TODAY(),Billing_Date))","v":""},{"$f":"IF(ROW()-ROW(Rec_Detail[[#Headers],[Branch Code]])>ItemRows_New,\"\",IF(BillType=1,TEXT(INV,\"IC\"&\"0000000000\"),TEXT(INV,\"0000000000\")))","v":""},{"$f":"IF(ROW()-ROW(Rec_Detail[[#Headers],[Branch Code]])>ItemRows_New,\"\",PO)","v":""},{"$f":"IF(ROW()-ROW(Rec_Detail[[#Headers],[Branch Code]])>ItemRows_New,\"\",IF(SelectCase<>1,OFFSET(FORM!$C23,,-1),FORM!$C23))","v":""},{"$f":"IF(ROW()-ROW(Rec_Detail[[#Headers],[Branch Code]])>ItemRows_New,\"\",FORM!$G23)","v":""},{"$f":"IFERROR(INDEX(dProduct[NameTH],MATCH(Rec_Detail[[#This Row],[Product_Code]],dProduct[BarCode],0)),\"\")","v":""},{"$f":"IF(ROW()-ROW(Rec_Detail[[#Headers],[Branch Code]])>ItemRows_New,\"\",FORM!$I23)","v":""},{"$f":"IF(ROW()-ROW(Rec_Detail[[#Headers],[Branch Code]])>ItemRows_New,\"\",FORM!$K23)","v":""},{"$f":"IF(ROW()-ROW(Rec_Detail[[#Headers],[Branch Code]])>ItemRows_New,\"\",FORM!$O23)","v":""},{"$f":"IF(ROW()-ROW(Rec_Detail[[#Headers],[Sales]])>ItemRows_New,\"\",TotalAmt.Ex.Vat)","v":""},{"$f":"IF(ROW()-ROW(Rec_Detail[[#Headers],[Store Code]])>ItemRows_New,\"\",Vat)","v":""},{"$f":"IF(ROW()-ROW(Rec_Detail[[#Headers],[Store Code]])>ItemRows_New,\"\",Total.Vat)","v":""},{"$f":"IF(ROW()-(ROW(Rec_Detail[#Headers])+ItemRows_New+1)=0,\"-End-\",IF(AND(Rec_Detail[[#This Row],[Product_Code]]<>\"\",Rec_Detail[[#This Row],[Items]]=\"\"),\"#N/A\",\"\"))","v":""},null,"Columns",{"$f":"COLUMNS(Rec_Detail[#All])","v":20}]
[null,{"$f":"IF(ROW()-ROW(Rec_Detail[[#Headers],[Branch Code]])>ItemRows_New,\"\",Branch)","v":""},{"$f":"IF(ROW()-ROW(Rec_Detail[[#Headers],[Branch Code]])>ItemRows_New,\"\",Sales)","v":""},{"$f":"IF(ROW()-ROW(Rec_Detail[[#Headers],[Branch Code]])>ItemRows_New,\"\",StoreCode)","v":""},{"$f":"IF(Rec_Detail[[#This Row],[Store Code]]=\"\",\"\",Rec_Detail[[#This Row],[Store Code]]&\" - \"&IFERROR(INDEX(INDIRECT(DbTable&\"[StoreName]\"),MATCH(Rec_Detail[[#This Row],[Store Code]],INDIRECT(DbTable&\"[StoreCode]\"),0)),\"\"))","v":""},{"$f":"IFERROR(MID(Rec_Detail[[#This Row],[Store Code]],5,1)&\" - \"&INDEX(dCustType[Customer],MATCH(MID(Rec_Detail[[#This Row],[Store Code]],5,1),dCustType[Code],0)),\"-\")","v":"-"},{"$f":"IF(ROW()-ROW(Rec_Detail[[#Headers],[Branch Code]])>ItemRows_New,\"\",Issue_Date)","v":""},{"$f":"IF(ROW()-ROW(Rec_Detail[[#Headers],[Branch Code]])>ItemRows_New,\"\",IF(Time=\"\",NOW(),Time))","v":""},{"$f":"IF(ROW()-ROW(Rec_Detail[[#Headers],[Branch Code]])>ItemRows_New,\"\",IF(Billing_Date=\"\",TODAY(),Billing_Date))","v":""},{"$f":"IF(ROW()-ROW(Rec_Detail[[#Headers],[Branch Code]])>ItemRows_New,\"\",IF(BillType=1,TEXT(INV,\"IC\"&\"0000000000\"),TEXT(INV,\"0000000000\")))","v":""},{"$f":"IF(ROW()-ROW(Rec_Detail[[#Headers],[Branch Code]])>ItemRows_New,\"\",PO)","v":""},{"$f":"IF(ROW()-ROW(Rec_Detail[[#Headers],[Branch Code]])>ItemRows_New,\"\",IF(SelectCase<>1,OFFSET(FORM!$C24,,-1),FORM!$C24))","v":""},{"$f":"IF(ROW()-ROW(Rec_Detail[[#Headers],[Branch Code]])>ItemRows_New,\"\",FORM!$G24)","v":""},{"$f":"IFERROR(INDEX(dProduct[NameTH],MATCH(Rec_Detail[[#This Row],[Product_Code]],dProduct[BarCode],0)),\"\")","v":""},{"$f":"IF(ROW()-ROW(Rec_Detail[[#Headers],[Branch Code]])>ItemRows_New,\"\",FORM!$I24)","v":""},{"$f":"IF(ROW()-ROW(Rec_Detail[[#Headers],[Branch Code]])>ItemRows_New,\"\",FORM!$K24)","v":""},{"$f":"IF(ROW()-ROW(Rec_Detail[[#Headers],[Branch Code]])>ItemRows_New,\"\",FORM!$O24)","v":""},{"$f":"IF(ROW()-ROW(Rec_Detail[[#Headers],[Sales]])>ItemRows_New,\"\",TotalAmt.Ex.Vat)","v":""},{"$f":"IF(ROW()-ROW(Rec_Detail[[#Headers],[Store Code]])>ItemRows_New,\"\",Vat)","v":""},{"$f":"IF(ROW()-ROW(Rec_Detail[[#Headers],[Store Code]])>ItemRows_New,\"\",Total.Vat)","v":""},{"$f":"IF(ROW()-(ROW(Rec_Detail[#Headers])+ItemRows_New+1)=0,\"-End-\",IF(AND(Rec_Detail[[#This Row],[Product_Code]]<>\"\",Rec_Detail[[#This Row],[Items]]=\"\"),\"#N/A\",\"\"))","v":""},null,"Trc_Data",{"$f":"ROWS(Rec_Trc[])","v":1}]
[null,{"$f":"IF(ROW()-ROW(Rec_Detail[[#Headers],[Branch Code]])>ItemRows_New,\"\",Branch)","v":""},{"$f":"IF(ROW()-ROW(Rec_Detail[[#Headers],[Branch Code]])>ItemRows_New,\"\",Sales)","v":""},{"$f":"IF(ROW()-ROW(Rec_Detail[[#Headers],[Branch Code]])>ItemRows_New,\"\",StoreCode)","v":""},{"$f":"IF(Rec_Detail[[#This Row],[Store Code]]=\"\",\"\",Rec_Detail[[#This Row],[Store Code]]&\" - \"&IFERROR(INDEX(INDIRECT(DbTable&\"[StoreName]\"),MATCH(Rec_Detail[[#This Row],[Store Code]],INDIRECT(DbTable&\"[StoreCode]\"),0)),\"\"))","v":""},{"$f":"IFERROR(MID(Rec_Detail[[#This Row],[Store Code]],5,1)&\" - \"&INDEX(dCustType[Customer],MATCH(MID(Rec_Detail[[#This Row],[Store Code]],5,1),dCustType[Code],0)),\"-\")","v":"-"},{"$f":"IF(ROW()-ROW(Rec_Detail[[#Headers],[Branch Code]])>ItemRows_New,\"\",Issue_Date)","v":""},{"$f":"IF(ROW()-ROW(Rec_Detail[[#Headers],[Branch Code]])>ItemRows_New,\"\",IF(Time=\"\",NOW(),Time))","v":""},{"$f":"IF(ROW()-ROW(Rec_Detail[[#Headers],[Branch Code]])>ItemRows_New,\"\",IF(Billing_Date=\"\",TODAY(),Billing_Date))","v":""},{"$f":"IF(ROW()-ROW(Rec_Detail[[#Headers],[Branch Code]])>ItemRows_New,\"\",IF(BillType=1,TEXT(INV,\"IC\"&\"0000000000\"),TEXT(INV,\"0000000000\")))","v":""},{"$f":"IF(ROW()-ROW(Rec_Detail[[#Headers],[Branch Code]])>ItemRows_New,\"\",PO)","v":""},{"$f":"IF(ROW()-ROW(Rec_Detail[[#Headers],[Branch Code]])>ItemRows_New,\"\",IF(SelectCase<>1,OFFSET(FORM!$C25,,-1),FORM!$C25))","v":""},{"$f":"IF(ROW()-ROW(Rec_Detail[[#Headers],[Branch Code]])>ItemRows_New,\"\",FORM!$G25)","v":""},{"$f":"IFERROR(INDEX(dProduct[NameTH],MATCH(Rec_Detail[[#This Row],[Product_Code]],dProduct[BarCode],0)),\"\")","v":""},{"$f":"IF(ROW()-ROW(Rec_Detail[[#Headers],[Branch Code]])>ItemRows_New,\"\",FORM!$I25)","v":""},{"$f":"IF(ROW()-ROW(Rec_Detail[[#Headers],[Branch Code]])>ItemRows_New,\"\",FORM!$K25)","v":""},{"$f":"IF(ROW()-ROW(Rec_Detail[[#Headers],[Branch Code]])>ItemRows_New,\"\",FORM!$O25)","v":""},{"$f":"IF(ROW()-ROW(Rec_Detail[[#Headers],[Sales]])>ItemRows_New,\"\",TotalAmt.Ex.Vat)","v":""},{"$f":"IF(ROW()-ROW(Rec_Detail[[#Headers],[Store Code]])>ItemRows_New,\"\",Vat)","v":""},{"$f":"IF(ROW()-ROW(Rec_Detail[[#Headers],[Store Code]])>ItemRows_New,\"\",Total.Vat)","v":""},{"$f":"IF(ROW()-(ROW(Rec_Detail[#Headers])+ItemRows_New+1)=0,\"-End-\",IF(AND(Rec_Detail[[#This Row],[Product_Code]]<>\"\",Rec_Detail[[#This Row],[Items]]=\"\"),\"#N/A\",\"\"))","v":""}]
[null,{"$f":"IF(ROW()-ROW(Rec_Detail[[#Headers],[Branch Code]])>ItemRows_New,\"\",Branch)","v":""},{"$f":"IF(ROW()-ROW(Rec_Detail[[#Headers],[Branch Code]])>ItemRows_New,\"\",Sales)","v":""},{"$f":"IF(ROW()-ROW(Rec_Detail[[#Headers],[Branch Code]])>ItemRows_New,\"\",StoreCode)","v":""},{"$f":"IF(Rec_Detail[[#This Row],[Store Code]]=\"\",\"\",Rec_Detail[[#This Row],[Store Code]]&\" - \"&IFERROR(INDEX(INDIRECT(DbTable&\"[StoreName]\"),MATCH(Rec_Detail[[#This Row],[Store Code]],INDIRECT(DbTable&\"[StoreCode]\"),0)),\"\"))","v":""},{"$f":"IFERROR(MID(Rec_Detail[[#This Row],[Store Code]],5,1)&\" - \"&INDEX(dCustType[Customer],MATCH(MID(Rec_Detail[[#This Row],[Store Code]],5,1),dCustType[Code],0)),\"-\")","v":"-"},{"$f":"IF(ROW()-ROW(Rec_Detail[[#Headers],[Branch Code]])>ItemRows_New,\"\",Issue_Date)","v":""},{"$f":"IF(ROW()-ROW(Rec_Detail[[#Headers],[Branch Code]])>ItemRows_New,\"\",IF(Time=\"\",NOW(),Time))","v":""},{"$f":"IF(ROW()-ROW(Rec_Detail[[#Headers],[Branch Code]])>ItemRows_New,\"\",IF(Billing_Date=\"\",TODAY(),Billing_Date))","v":""},{"$f":"IF(ROW()-ROW(Rec_Detail[[#Headers],[Branch Code]])>ItemRows_New,\"\",IF(BillType=1,TEXT(INV,\"IC\"&\"0000000000\"),TEXT(INV,\"0000000000\")))","v":""},{"$f":"IF(ROW()-ROW(Rec_Detail[[#Headers],[Branch Code]])>ItemRows_New,\"\",PO)","v":""},{"$f":"IF(ROW()-ROW(Rec_Detail[[#Headers],[Branch Code]])>ItemRows_New,\"\",IF(SelectCase<>1,OFFSET(FORM!$C26,,-1),FORM!$C26))","v":""},{"$f":"IF(ROW()-ROW(Rec_Detail[[#Headers],[Branch Code]])>ItemRows_New,\"\",FORM!$G26)","v":""},{"$f":"IFERROR(INDEX(dProduct[NameTH],MATCH(Rec_Detail[[#This Row],[Product_Code]],dProduct[BarCode],0)),\"\")","v":""},{"$f":"IF(ROW()-ROW(Rec_Detail[[#Headers],[Branch Code]])>ItemRows_New,\"\",FORM!$I26)","v":""},{"$f":"IF(ROW()-ROW(Rec_Detail[[#Headers],[Branch Code]])>ItemRows_New,\"\",FORM!$K26)","v":""},{"$f":"IF(ROW()-ROW(Rec_Detail[[#Headers],[Branch Code]])>ItemRows_New,\"\",FORM!$O26)","v":""},{"$f":"IF(ROW()-ROW(Rec_Detail[[#Headers],[Sales]])>ItemRows_New,\"\",TotalAmt.Ex.Vat)","v":""},{"$f":"IF(ROW()-ROW(Rec_Detail[[#Headers],[Store Code]])>ItemRows_New,\"\",Vat)","v":""},{"$f":"IF(ROW()-ROW(Rec_Detail[[#Headers],[Store Code]])>ItemRows_New,\"\",Total.Vat)","v":""},{"$f":"IF(ROW()-(ROW(Rec_Detail[#Headers])+ItemRows_New+1)=0,\"-End-\",IF(AND(Rec_Detail[[#This Row],[Product_Code]]<>\"\",Rec_Detail[[#This Row],[Items]]=\"\"),\"#N/A\",\"\"))","v":""}]
[null,{"$f":"IF(ROW()-ROW(Rec_Detail[[#Headers],[Branch Code]])>ItemRows_New,\"\",Branch)","v":""},{"$f":"IF(ROW()-ROW(Rec_Detail[[#Headers],[Branch Code]])>ItemRows_New,\"\",Sales)","v":""},{"$f":"IF(ROW()-ROW(Rec_Detail[[#Headers],[Branch Code]])>ItemRows_New,\"\",StoreCode)","v":""},{"$f":"IF(Rec_Detail[[#This Row],[Store Code]]=\"\",\"\",Rec_Detail[[#This Row],[Store Code]]&\" - \"&IFERROR(INDEX(INDIRECT(DbTable&\"[StoreName]\"),MATCH(Rec_Detail[[#This Row],[Store Code]],INDIRECT(DbTable&\"[StoreCode]\"),0)),\"\"))","v":""},{"$f":"IFERROR(MID(Rec_Detail[[#This Row],[Store Code]],5,1)&\" - \"&INDEX(dCustType[Customer],MATCH(MID(Rec_Detail[[#This Row],[Store Code]],5,1),dCustType[Code],0)),\"-\")","v":"-"},{"$f":"IF(ROW()-ROW(Rec_Detail[[#Headers],[Branch Code]])>ItemRows_New,\"\",Issue_Date)","v":""},{"$f":"IF(ROW()-ROW(Rec_Detail[[#Headers],[Branch Code]])>ItemRows_New,\"\",IF(Time=\"\",NOW(),Time))","v":""},{"$f":"IF(ROW()-ROW(Rec_Detail[[#Headers],[Branch Code]])>ItemRows_New,\"\",IF(Billing_Date=\"\",TODAY(),Billing_Date))","v":""},{"$f":"IF(ROW()-ROW(Rec_Detail[[#Headers],[Branch Code]])>ItemRows_New,\"\",IF(BillType=1,TEXT(INV,\"IC\"&\"0000000000\"),TEXT(INV,\"0000000000\")))","v":""},{"$f":"IF(ROW()-ROW(Rec_Detail[[#Headers],[Branch Code]])>ItemRows_New,\"\",PO)","v":""},{"$f":"IF(ROW()-ROW(Rec_Detail[[#Headers],[Branch Code]])>ItemRows_New,\"\",IF(SelectCase<>1,OFFSET(FORM!$C27,,-1),FORM!$C27))","v":""},{"$f":"IF(ROW()-ROW(Rec_Detail[[#Headers],[Branch Code]])>ItemRows_New,\"\",FORM!$G27)","v":""},{"$f":"IFERROR(INDEX(dProduct[NameTH],MATCH(Rec_Detail[[#This Row],[Product_Code]],dProduct[BarCode],0)),\"\")","v":""},{"$f":"IF(ROW()-ROW(Rec_Detail[[#Headers],[Branch Code]])>ItemRows_New,\"\",FORM!$I27)","v":""},{"$f":"IF(ROW()-ROW(Rec_Detail[[#Headers],[Branch Code]])>ItemRows_New,\"\",FORM!$K27)","v":""},{"$f":"IF(ROW()-ROW(Rec_Detail[[#Headers],[Branch Code]])>ItemRows_New,\"\",FORM!$O27)","v":""},{"$f":"IF(ROW()-ROW(Rec_Detail[[#Headers],[Sales]])>ItemRows_New,\"\",TotalAmt.Ex.Vat)","v":""},{"$f":"IF(ROW()-ROW(Rec_Detail[[#Headers],[Store Code]])>ItemRows_New,\"\",Vat)","v":""},{"$f":"IF(ROW()-ROW(Rec_Detail[[#Headers],[Store Code]])>ItemRows_New,\"\",Total.Vat)","v":""},{"$f":"IF(ROW()-(ROW(Rec_Detail[#Headers])+ItemRows_New+1)=0,\"-End-\",IF(AND(Rec_Detail[[#This Row],[Product_Code]]<>\"\",Rec_Detail[[#This Row],[Items]]=\"\"),\"#N/A\",\"\"))","v":""}]
[null,{"$f":"IF(ROW()-ROW(Rec_Detail[[#Headers],[Branch Code]])>ItemRows_New,\"\",Branch)","v":""},{"$f":"IF(ROW()-ROW(Rec_Detail[[#Headers],[Branch Code]])>ItemRows_New,\"\",Sales)","v":""},{"$f":"IF(ROW()-ROW(Rec_Detail[[#Headers],[Branch Code]])>ItemRows_New,\"\",StoreCode)","v":""},{"$f":"IF(Rec_Detail[[#This Row],[Store Code]]=\"\",\"\",Rec_Detail[[#This Row],[Store Code]]&\" - \"&IFERROR(INDEX(INDIRECT(DbTable&\"[StoreName]\"),MATCH(Rec_Detail[[#This Row],[Store Code]],INDIRECT(DbTable&\"[StoreCode]\"),0)),\"\"))","v":""},{"$f":"IFERROR(MID(Rec_Detail[[#This Row],[Store Code]],5,1)&\" - \"&INDEX(dCustType[Customer],MATCH(MID(Rec_Detail[[#This Row],[Store Code]],5,1),dCustType[Code],0)),\"-\")","v":"-"},{"$f":"IF(ROW()-ROW(Rec_Detail[[#Headers],[Branch Code]])>ItemRows_New,\"\",Issue_Date)","v":""},{"$f":"IF(ROW()-ROW(Rec_Detail[[#Headers],[Branch Code]])>ItemRows_New,\"\",IF(Time=\"\",NOW(),Time))","v":""},{"$f":"IF(ROW()-ROW(Rec_Detail[[#Headers],[Branch Code]])>ItemRows_New,\"\",IF(Billing_Date=\"\",TODAY(),Billing_Date))","v":""},{"$f":"IF(ROW()-ROW(Rec_Detail[[#Headers],[Branch Code]])>ItemRows_New,\"\",IF(BillType=1,TEXT(INV,\"IC\"&\"0000000000\"),TEXT(INV,\"0000000000\")))","v":""},{"$f":"IF(ROW()-ROW(Rec_Detail[[#Headers],[Branch Code]])>ItemRows_New,\"\",PO)","v":""},{"$f":"IF(ROW()-ROW(Rec_Detail[[#Headers],[Branch Code]])>ItemRows_New,\"\",IF(SelectCase<>1,OFFSET(FORM!$C28,,-1),FORM!$C28))","v":""},{"$f":"IF(ROW()-ROW(Rec_Detail[[#Headers],[Branch Code]])>ItemRows_New,\"\",FORM!$G28)","v":""},{"$f":"IFERROR(INDEX(dProduct[NameTH],MATCH(Rec_Detail[[#This Row],[Product_Code]],dProduct[BarCode],0)),\"\")","v":""},{"$f":"IF(ROW()-ROW(Rec_Detail[[#Headers],[Branch Code]])>ItemRows_New,\"\",FORM!$I28)","v":""},{"$f":"IF(ROW()-ROW(Rec_Detail[[#Headers],[Branch Code]])>ItemRows_New,\"\",FORM!$K28)","v":""},{"$f":"IF(ROW()-ROW(Rec_Detail[[#Headers],[Branch Code]])>ItemRows_New,\"\",FORM!$O28)","v":""},{"$f":"IF(ROW()-ROW(Rec_Detail[[#Headers],[Sales]])>ItemRows_New,\"\",TotalAmt.Ex.Vat)","v":""},{"$f":"IF(ROW()-ROW(Rec_Detail[[#Headers],[Store Code]])>ItemRows_New,\"\",Vat)","v":""},{"$f":"IF(ROW()-ROW(Rec_Detail[[#Headers],[Store Code]])>ItemRows_New,\"\",Total.Vat)","v":""},{"$f":"IF(ROW()-(ROW(Rec_Detail[#Headers])+ItemRows_New+1)=0,\"-End-\",IF(AND(Rec_Detail[[#This Row],[Product_Code]]<>\"\",Rec_Detail[[#This Row],[Items]]=\"\"),\"#N/A\",\"\"))","v":""}]
[null,{"$f":"IF(ROW()-ROW(Rec_Detail[[#Headers],[Branch Code]])>ItemRows_New,\"\",Branch)","v":""},{"$f":"IF(ROW()-ROW(Rec_Detail[[#Headers],[Branch Code]])>ItemRows_New,\"\",Sales)","v":""},{"$f":"IF(ROW()-ROW(Rec_Detail[[#Headers],[Branch Code]])>ItemRows_New,\"\",StoreCode)","v":""},{"$f":"IF(Rec_Detail[[#This Row],[Store Code]]=\"\",\"\",Rec_Detail[[#This Row],[Store Code]]&\" - \"&IFERROR(INDEX(INDIRECT(DbTable&\"[StoreName]\"),MATCH(Rec_Detail[[#This Row],[Store Code]],INDIRECT(DbTable&\"[StoreCode]\"),0)),\"\"))","v":""},{"$f":"IFERROR(MID(Rec_Detail[[#This Row],[Store Code]],5,1)&\" - \"&INDEX(dCustType[Customer],MATCH(MID(Rec_Detail[[#This Row],[Store Code]],5,1),dCustType[Code],0)),\"-\")","v":"-"},{"$f":"IF(ROW()-ROW(Rec_Detail[[#Headers],[Branch Code]])>ItemRows_New,\"\",Issue_Date)","v":""},{"$f":"IF(ROW()-ROW(Rec_Detail[[#Headers],[Branch Code]])>ItemRows_New,\"\",IF(Time=\"\",NOW(),Time))","v":""},{"$f":"IF(ROW()-ROW(Rec_Detail[[#Headers],[Branch Code]])>ItemRows_New,\"\",IF(Billing_Date=\"\",TODAY(),Billing_Date))","v":""},{"$f":"IF(ROW()-ROW(Rec_Detail[[#Headers],[Branch Code]])>ItemRows_New,\"\",IF(BillType=1,TEXT(INV,\"IC\"&\"0000000000\"),TEXT(INV,\"0000000000\")))","v":""},{"$f":"IF(ROW()-ROW(Rec_Detail[[#Headers],[Branch Code]])>ItemRows_New,\"\",PO)","v":""},{"$f":"IF(ROW()-ROW(Rec_Detail[[#Headers],[Branch Code]])>ItemRows_New,\"\",IF(SelectCase<>1,OFFSET(FORM!$C29,,-1),FORM!$C29))","v":""},{"$f":"IF(ROW()-ROW(Rec_Detail[[#Headers],[Branch Code]])>ItemRows_New,\"\",FORM!$G29)","v":""},{"$f":"IFERROR(INDEX(dProduct[NameTH],MATCH(Rec_Detail[[#This Row],[Product_Code]],dProduct[BarCode],0)),\"\")","v":""},{"$f":"IF(ROW()-ROW(Rec_Detail[[#Headers],[Branch Code]])>ItemRows_New,\"\",FORM!$I29)","v":""},{"$f":"IF(ROW()-ROW(Rec_Detail[[#Headers],[Branch Code]])>ItemRows_New,\"\",FORM!$K29)","v":""},{"$f":"IF(ROW()-ROW(Rec_Detail[[#Headers],[Branch Code]])>ItemRows_New,\"\",FORM!$O29)","v":""},{"$f":"IF(ROW()-ROW(Rec_Detail[[#Headers],[Sales]])>ItemRows_New,\"\",TotalAmt.Ex.Vat)","v":""},{"$f":"IF(ROW()-ROW(Rec_Detail[[#Headers],[Store Code]])>ItemRows_New,\"\",Vat)","v":""},{"$f":"IF(ROW()-ROW(Rec_Detail[[#Headers],[Store Code]])>ItemRows_New,\"\",Total.Vat)","v":""},{"$f":"IF(ROW()-(ROW(Rec_Detail[#Headers])+ItemRows_New+1)=0,\"-End-\",IF(AND(Rec_Detail[[#This Row],[Product_Code]]<>\"\",Rec_Detail[[#This Row],[Items]]=\"\"),\"#N/A\",\"\"))","v":""}]
[null,{"$f":"IF(ROW()-ROW(Rec_Detail[[#Headers],[Branch Code]])>ItemRows_New,\"\",Branch)","v":""},{"$f":"IF(ROW()-ROW(Rec_Detail[[#Headers],[Branch Code]])>ItemRows_New,\"\",Sales)","v":""},{"$f":"IF(ROW()-ROW(Rec_Detail[[#Headers],[Branch Code]])>ItemRows_New,\"\",StoreCode)","v":""},{"$f":"IF(Rec_Detail[[#This Row],[Store Code]]=\"\",\"\",Rec_Detail[[#This Row],[Store Code]]&\" - \"&IFERROR(INDEX(INDIRECT(DbTable&\"[StoreName]\"),MATCH(Rec_Detail[[#This Row],[Store Code]],INDIRECT(DbTable&\"[StoreCode]\"),0)),\"\"))","v":""},{"$f":"IFERROR(MID(Rec_Detail[[#This Row],[Store Code]],5,1)&\" - \"&INDEX(dCustType[Customer],MATCH(MID(Rec_Detail[[#This Row],[Store Code]],5,1),dCustType[Code],0)),\"-\")","v":"-"},{"$f":"IF(ROW()-ROW(Rec_Detail[[#Headers],[Branch Code]])>ItemRows_New,\"\",Issue_Date)","v":""},{"$f":"IF(ROW()-ROW(Rec_Detail[[#Headers],[Branch Code]])>ItemRows_New,\"\",IF(Time=\"\",NOW(),Time))","v":""},{"$f":"IF(ROW()-ROW(Rec_Detail[[#Headers],[Branch Code]])>ItemRows_New,\"\",IF(Billing_Date=\"\",TODAY(),Billing_Date))","v":""},{"$f":"IF(ROW()-ROW(Rec_Detail[[#Headers],[Branch Code]])>ItemRows_New,\"\",IF(BillType=1,TEXT(INV,\"IC\"&\"0000000000\"),TEXT(INV,\"0000000000\")))","v":""},{"$f":"IF(ROW()-ROW(Rec_Detail[[#Headers],[Branch Code]])>ItemRows_New,\"\",PO)","v":""},{"$f":"IF(ROW()-ROW(Rec_Detail[[#Headers],[Branch Code]])>ItemRows_New,\"\",IF(SelectCase<>1,OFFSET(FORM!$C30,,-1),FORM!$C30))","v":""},{"$f":"IF(ROW()-ROW(Rec_Detail[[#Headers],[Branch Code]])>ItemRows_New,\"\",FORM!$G30)","v":""},{"$f":"IFERROR(INDEX(dProduct[NameTH],MATCH(Rec_Detail[[#This Row],[Product_Code]],dProduct[BarCode],0)),\"\")","v":""},{"$f":"IF(ROW()-ROW(Rec_Detail[[#Headers],[Branch Code]])>ItemRows_New,\"\",FORM!$I30)","v":""},{"$f":"IF(ROW()-ROW(Rec_Detail[[#Headers],[Branch Code]])>ItemRows_New,\"\",FORM!$K30)","v":""},{"$f":"IF(ROW()-ROW(Rec_Detail[[#Headers],[Branch Code]])>ItemRows_New,\"\",FORM!$O30)","v":""},{"$f":"IF(ROW()-ROW(Rec_Detail[[#Headers],[Sales]])>ItemRows_New,\"\",TotalAmt.Ex.Vat)","v":""},{"$f":"IF(ROW()-ROW(Rec_Detail[[#Headers],[Store Code]])>ItemRows_New,\"\",Vat)","v":""},{"$f":"IF(ROW()-ROW(Rec_Detail[[#Headers],[Store Code]])>ItemRows_New,\"\",Total.Vat)","v":""},{"$f":"IF(ROW()-(ROW(Rec_Detail[#Headers])+ItemRows_New+1)=0,\"-End-\",IF(AND(Rec_Detail[[#This Row],[Product_Code]]<>\"\",Rec_Detail[[#This Row],[Items]]=\"\"),\"#N/A\",\"\"))","v":""}]
[null,{"$f":"IF(ROW()-ROW(Rec_Detail[[#Headers],[Branch Code]])>ItemRows_New,\"\",Branch)","v":""},{"$f":"IF(ROW()-ROW(Rec_Detail[[#Headers],[Branch Code]])>ItemRows_New,\"\",Sales)","v":""},{"$f":"IF(ROW()-ROW(Rec_Detail[[#Headers],[Branch Code]])>ItemRows_New,\"\",StoreCode)","v":""},{"$f":"IF(Rec_Detail[[#This Row],[Store Code]]=\"\",\"\",Rec_Detail[[#This Row],[Store Code]]&\" - \"&IFERROR(INDEX(INDIRECT(DbTable&\"[StoreName]\"),MATCH(Rec_Detail[[#This Row],[Store Code]],INDIRECT(DbTable&\"[StoreCode]\"),0)),\"\"))","v":""},{"$f":"IFERROR(MID(Rec_Detail[[#This Row],[Store Code]],5,1)&\" - \"&INDEX(dCustType[Customer],MATCH(MID(Rec_Detail[[#This Row],[Store Code]],5,1),dCustType[Code],0)),\"-\")","v":"-"},{"$f":"IF(ROW()-ROW(Rec_Detail[[#Headers],[Branch Code]])>ItemRows_New,\"\",Issue_Date)","v":""},{"$f":"IF(ROW()-ROW(Rec_Detail[[#Headers],[Branch Code]])>ItemRows_New,\"\",IF(Time=\"\",NOW(),Time))","v":""},{"$f":"IF(ROW()-ROW(Rec_Detail[[#Headers],[Branch Code]])>ItemRows_New,\"\",IF(Billing_Date=\"\",TODAY(),Billing_Date))","v":""},{"$f":"IF(ROW()-ROW(Rec_Detail[[#Headers],[Branch Code]])>ItemRows_New,\"\",IF(BillType=1,TEXT(INV,\"IC\"&\"0000000000\"),TEXT(INV,\"0000000000\")))","v":""},{"$f":"IF(ROW()-ROW(Rec_Detail[[#Headers],[Branch Code]])>ItemRows_New,\"\",PO)","v":""},{"$f":"IF(ROW()-ROW(Rec_Detail[[#Headers],[Branch Code]])>ItemRows_New,\"\",IF(SelectCase<>1,OFFSET(FORM!$C31,,-1),FORM!$C31))","v":""},{"$f":"IF(ROW()-ROW(Rec_Detail[[#Headers],[Branch Code]])>ItemRows_New,\"\",FORM!$G31)","v":""},{"$f":"IFERROR(INDEX(dProduct[NameTH],MATCH(Rec_Detail[[#This Row],[Product_Code]],dProduct[BarCode],0)),\"\")","v":""},{"$f":"IF(ROW()-ROW(Rec_Detail[[#Headers],[Branch Code]])>ItemRows_New,\"\",FORM!$I31)","v":""},{"$f":"IF(ROW()-ROW(Rec_Detail[[#Headers],[Branch Code]])>ItemRows_New,\"\",FORM!$K31)","v":""},{"$f":"IF(ROW()-ROW(Rec_Detail[[#Headers],[Branch Code]])>ItemRows_New,\"\",FORM!$O31)","v":""},{"$f":"IF(ROW()-ROW(Rec_Detail[[#Headers],[Sales]])>ItemRows_New,\"\",TotalAmt.Ex.Vat)","v":""},{"$f":"IF(ROW()-ROW(Rec_Detail[[#Headers],[Store Code]])>ItemRows_New,\"\",Vat)","v":""},{"$f":"IF(ROW()-ROW(Rec_Detail[[#Headers],[Store Code]])>ItemRows_New,\"\",Total.Vat)","v":""},{"$f":"IF(ROW()-(ROW(Rec_Detail[#Headers])+ItemRows_New+1)=0,\"-End-\",IF(AND(Rec_Detail[[#This Row],[Product_Code]]<>\"\",Rec_Detail[[#This Row],[Items]]=\"\"),\"#N/A\",\"\"))","v":""}]
[null,{"$f":"IF(ROW()-ROW(Rec_Detail[[#Headers],[Branch Code]])>ItemRows_New,\"\",Branch)","v":""},{"$f":"IF(ROW()-ROW(Rec_Detail[[#Headers],[Branch Code]])>ItemRows_New,\"\",Sales)","v":""},{"$f":"IF(ROW()-ROW(Rec_Detail[[#Headers],[Branch Code]])>ItemRows_New,\"\",StoreCode)","v":""},{"$f":"IF(Rec_Detail[[#This Row],[Store Code]]=\"\",\"\",Rec_Detail[[#This Row],[Store Code]]&\" - \"&IFERROR(INDEX(INDIRECT(DbTable&\"[StoreName]\"),MATCH(Rec_Detail[[#This Row],[Store Code]],INDIRECT(DbTable&\"[StoreCode]\"),0)),\"\"))","v":""},{"$f":"IFERROR(MID(Rec_Detail[[#This Row],[Store Code]],5,1)&\" - \"&INDEX(dCustType[Customer],MATCH(MID(Rec_Detail[[#This Row],[Store Code]],5,1),dCustType[Code],0)),\"-\")","v":"-"},{"$f":"IF(ROW()-ROW(Rec_Detail[[#Headers],[Branch Code]])>ItemRows_New,\"\",Issue_Date)","v":""},{"$f":"IF(ROW()-ROW(Rec_Detail[[#Headers],[Branch Code]])>ItemRows_New,\"\",IF(Time=\"\",NOW(),Time))","v":""},{"$f":"IF(ROW()-ROW(Rec_Detail[[#Headers],[Branch Code]])>ItemRows_New,\"\",IF(Billing_Date=\"\",TODAY(),Billing_Date))","v":""},{"$f":"IF(ROW()-ROW(Rec_Detail[[#Headers],[Branch Code]])>ItemRows_New,\"\",IF(BillType=1,TEXT(INV,\"IC\"&\"0000000000\"),TEXT(INV,\"0000000000\")))","v":""},{"$f":"IF(ROW()-ROW(Rec_Detail[[#Headers],[Branch Code]])>ItemRows_New,\"\",PO)","v":""},{"$f":"IF(ROW()-ROW(Rec_Detail[[#Headers],[Branch Code]])>ItemRows_New,\"\",IF(SelectCase<>1,OFFSET(FORM!$C32,,-1),FORM!$C32))","v":""},{"$f":"IF(ROW()-ROW(Rec_Detail[[#Headers],[Branch Code]])>ItemRows_New,\"\",FORM!$G32)","v":""},{"$f":"IFERROR(INDEX(dProduct[NameTH],MATCH(Rec_Detail[[#This Row],[Product_Code]],dProduct[BarCode],0)),\"\")","v":""},{"$f":"IF(ROW()-ROW(Rec_Detail[[#Headers],[Branch Code]])>ItemRows_New,\"\",FORM!$I32)","v":""},{"$f":"IF(ROW()-ROW(Rec_Detail[[#Headers],[Branch Code]])>ItemRows_New,\"\",FORM!$K32)","v":""},{"$f":"IF(ROW()-ROW(Rec_Detail[[#Headers],[Branch Code]])>ItemRows_New,\"\",FORM!$O32)","v":""},{"$f":"IF(ROW()-ROW(Rec_Detail[[#Headers],[Sales]])>ItemRows_New,\"\",TotalAmt.Ex.Vat)","v":""},{"$f":"IF(ROW()-ROW(Rec_Detail[[#Headers],[Store Code]])>ItemRows_New,\"\",Vat)","v":""},{"$f":"IF(ROW()-ROW(Rec_Detail[[#Headers],[Store Code]])>ItemRows_New,\"\",Total.Vat)","v":""},{"$f":"IF(ROW()-(ROW(Rec_Detail[#Headers])+ItemRows_New+1)=0,\"-End-\",IF(AND(Rec_Detail[[#This Row],[Product_Code]]<>\"\",Rec_Detail[[#This Row],[Items]]=\"\"),\"#N/A\",\"\"))","v":""}]
[null,{"$f":"IF(ROW()-ROW(Rec_Detail[[#Headers],[Branch Code]])>ItemRows_New,\"\",Branch)","v":""},{"$f":"IF(ROW()-ROW(Rec_Detail[[#Headers],[Branch Code]])>ItemRows_New,\"\",Sales)","v":""},{"$f":"IF(ROW()-ROW(Rec_Detail[[#Headers],[Branch Code]])>ItemRows_New,\"\",StoreCode)","v":""},{"$f":"IF(Rec_Detail[[#This Row],[Store Code]]=\"\",\"\",Rec_Detail[[#This Row],[Store Code]]&\" - \"&IFERROR(INDEX(INDIRECT(DbTable&\"[StoreName]\"),MATCH(Rec_Detail[[#This Row],[Store Code]],INDIRECT(DbTable&\"[StoreCode]\"),0)),\"\"))","v":""},{"$f":"IFERROR(MID(Rec_Detail[[#This Row],[Store Code]],5,1)&\" - \"&INDEX(dCustType[Customer],MATCH(MID(Rec_Detail[[#This Row],[Store Code]],5,1),dCustType[Code],0)),\"-\")","v":"-"},{"$f":"IF(ROW()-ROW(Rec_Detail[[#Headers],[Branch Code]])>ItemRows_New,\"\",Issue_Date)","v":""},{"$f":"IF(ROW()-ROW(Rec_Detail[[#Headers],[Branch Code]])>ItemRows_New,\"\",IF(Time=\"\",NOW(),Time))","v":""},{"$f":"IF(ROW()-ROW(Rec_Detail[[#Headers],[Branch Code]])>ItemRows_New,\"\",IF(Billing_Date=\"\",TODAY(),Billing_Date))","v":""},{"$f":"IF(ROW()-ROW(Rec_Detail[[#Headers],[Branch Code]])>ItemRows_New,\"\",IF(BillType=1,TEXT(INV,\"IC\"&\"0000000000\"),TEXT(INV,\"0000000000\")))","v":""},{"$f":"IF(ROW()-ROW(Rec_Detail[[#Headers],[Branch Code]])>ItemRows_New,\"\",PO)","v":""},{"$f":"IF(ROW()-ROW(Rec_Detail[[#Headers],[Branch Code]])>ItemRows_New,\"\",IF(SelectCase<>1,OFFSET(FORM!$C33,,-1),FORM!$C33))","v":""},{"$f":"IF(ROW()-ROW(Rec_Detail[[#Headers],[Branch Code]])>ItemRows_New,\"\",FORM!$G33)","v":""},{"$f":"IFERROR(INDEX(dProduct[NameTH],MATCH(Rec_Detail[[#This Row],[Product_Code]],dProduct[BarCode],0)),\"\")","v":""},{"$f":"IF(ROW()-ROW(Rec_Detail[[#Headers],[Branch Code]])>ItemRows_New,\"\",FORM!$I33)","v":""},{"$f":"IF(ROW()-ROW(Rec_Detail[[#Headers],[Branch Code]])>ItemRows_New,\"\",FORM!$K33)","v":""},{"$f":"IF(ROW()-ROW(Rec_Detail[[#Headers],[Branch Code]])>ItemRows_New,\"\",FORM!$O33)","v":""},{"$f":"IF(ROW()-ROW(Rec_Detail[[#Headers],[Sales]])>ItemRows_New,\"\",TotalAmt.Ex.Vat)","v":""},{"$f":"IF(ROW()-ROW(Rec_Detail[[#Headers],[Store Code]])>ItemRows_New,\"\",Vat)","v":""},{"$f":"IF(ROW()-ROW(Rec_Detail[[#Headers],[Store Code]])>ItemRows_New,\"\",Total.Vat)","v":""},{"$f":"IF(ROW()-(ROW(Rec_Detail[#Headers])+ItemRows_New+1)=0,\"-End-\",IF(AND(Rec_Detail[[#This Row],[Product_Code]]<>\"\",Rec_Detail[[#This Row],[Items]]=\"\"),\"#N/A\",\"\"))","v":""}]
[null,{"$f":"IF(ROW()-ROW(Rec_Detail[[#Headers],[Branch Code]])>ItemRows_New,\"\",Branch)","v":""},{"$f":"IF(ROW()-ROW(Rec_Detail[[#Headers],[Branch Code]])>ItemRows_New,\"\",Sales)","v":""},{"$f":"IF(ROW()-ROW(Rec_Detail[[#Headers],[Branch Code]])>ItemRows_New,\"\",StoreCode)","v":""},{"$f":"IF(Rec_Detail[[#This Row],[Store Code]]=\"\",\"\",Rec_Detail[[#This Row],[Store Code]]&\" - \"&IFERROR(INDEX(INDIRECT(DbTable&\"[StoreName]\"),MATCH(Rec_Detail[[#This Row],[Store Code]],INDIRECT(DbTable&\"[StoreCode]\"),0)),\"\"))","v":""},{"$f":"IFERROR(MID(Rec_Detail[[#This Row],[Store Code]],5,1)&\" - \"&INDEX(dCustType[Customer],MATCH(MID(Rec_Detail[[#This Row],[Store Code]],5,1),dCustType[Code],0)),\"-\")","v":"-"},{"$f":"IF(ROW()-ROW(Rec_Detail[[#Headers],[Branch Code]])>ItemRows_New,\"\",Issue_Date)","v":""},{"$f":"IF(ROW()-ROW(Rec_Detail[[#Headers],[Branch Code]])>ItemRows_New,\"\",IF(Time=\"\",NOW(),Time))","v":""},{"$f":"IF(ROW()-ROW(Rec_Detail[[#Headers],[Branch Code]])>ItemRows_New,\"\",IF(Billing_Date=\"\",TODAY(),Billing_Date))","v":""},{"$f":"IF(ROW()-ROW(Rec_Detail[[#Headers],[Branch Code]])>ItemRows_New,\"\",IF(BillType=1,TEXT(INV,\"IC\"&\"0000000000\"),TEXT(INV,\"0000000000\")))","v":""},{"$f":"IF(ROW()-ROW(Rec_Detail[[#Headers],[Branch Code]])>ItemRows_New,\"\",PO)","v":""},{"$f":"IF(ROW()-ROW(Rec_Detail[[#Headers],[Branch Code]])>ItemRows_New,\"\",IF(SelectCase<>1,OFFSET(FORM!$C34,,-1),FORM!$C34))","v":""},{"$f":"IF(ROW()-ROW(Rec_Detail[[#Headers],[Branch Code]])>ItemRows_New,\"\",FORM!$G34)","v":""},{"$f":"IFERROR(INDEX(dProduct[NameTH],MATCH(Rec_Detail[[#This Row],[Product_Code]],dProduct[BarCode],0)),\"\")","v":""},{"$f":"IF(ROW()-ROW(Rec_Detail[[#Headers],[Branch Code]])>ItemRows_New,\"\",FORM!$I34)","v":""},{"$f":"IF(ROW()-ROW(Rec_Detail[[#Headers],[Branch Code]])>ItemRows_New,\"\",FORM!$K34)","v":""},{"$f":"IF(ROW()-ROW(Rec_Detail[[#Headers],[Branch Code]])>ItemRows_New,\"\",FORM!$O34)","v":""},{"$f":"IF(ROW()-ROW(Rec_Detail[[#Headers],[Sales]])>ItemRows_New,\"\",TotalAmt.Ex.Vat)","v":""},{"$f":"IF(ROW()-ROW(Rec_Detail[[#Headers],[Store Code]])>ItemRows_New,\"\",Vat)","v":""},{"$f":"IF(ROW()-ROW(Rec_Detail[[#Headers],[Store Code]])>ItemRows_New,\"\",Total.Vat)","v":""},{"$f":"IF(ROW()-(ROW(Rec_Detail[#Headers])+ItemRows_New+1)=0,\"-End-\",IF(AND(Rec_Detail[[#This Row],[Product_Code]]<>\"\",Rec_Detail[[#This Row],[Items]]=\"\"),\"#N/A\",\"\"))","v":""}]
[null,{"$f":"IF(ROW()-ROW(Rec_Detail[[#Headers],[Branch Code]])>ItemRows_New,\"\",Branch)","v":""},{"$f":"IF(ROW()-ROW(Rec_Detail[[#Headers],[Branch Code]])>ItemRows_New,\"\",Sales)","v":""},{"$f":"IF(ROW()-ROW(Rec_Detail[[#Headers],[Branch Code]])>ItemRows_New,\"\",StoreCode)","v":""},{"$f":"IF(Rec_Detail[[#This Row],[Store Code]]=\"\",\"\",Rec_Detail[[#This Row],[Store Code]]&\" - \"&IFERROR(INDEX(INDIRECT(DbTable&\"[StoreName]\"),MATCH(Rec_Detail[[#This Row],[Store Code]],INDIRECT(DbTable&\"[StoreCode]\"),0)),\"\"))","v":""},{"$f":"IFERROR(MID(Rec_Detail[[#This Row],[Store Code]],5,1)&\" - \"&INDEX(dCustType[Customer],MATCH(MID(Rec_Detail[[#This Row],[Store Code]],5,1),dCustType[Code],0)),\"-\")","v":"-"},{"$f":"IF(ROW()-ROW(Rec_Detail[[#Headers],[Branch Code]])>ItemRows_New,\"\",Issue_Date)","v":""},{"$f":"IF(ROW()-ROW(Rec_Detail[[#Headers],[Branch Code]])>ItemRows_New,\"\",IF(Time=\"\",NOW(),Time))","v":""},{"$f":"IF(ROW()-ROW(Rec_Detail[[#Headers],[Branch Code]])>ItemRows_New,\"\",IF(Billing_Date=\"\",TODAY(),Billing_Date))","v":""},{"$f":"IF(ROW()-ROW(Rec_Detail[[#Headers],[Branch Code]])>ItemRows_New,\"\",IF(BillType=1,TEXT(INV,\"IC\"&\"0000000000\"),TEXT(INV,\"0000000000\")))","v":""},{"$f":"IF(ROW()-ROW(Rec_Detail[[#Headers],[Branch Code]])>ItemRows_New,\"\",PO)","v":""},{"$f":"IF(ROW()-ROW(Rec_Detail[[#Headers],[Branch Code]])>ItemRows_New,\"\",IF(SelectCase<>1,OFFSET(FORM!$C35,,-1),FORM!$C35))","v":""},{"$f":"IF(ROW()-ROW(Rec_Detail[[#Headers],[Branch Code]])>ItemRows_New,\"\",FORM!$G35)","v":""},{"$f":"IFERROR(INDEX(dProduct[NameTH],MATCH(Rec_Detail[[#This Row],[Product_Code]],dProduct[BarCode],0)),\"\")","v":""},{"$f":"IF(ROW()-ROW(Rec_Detail[[#Headers],[Branch Code]])>ItemRows_New,\"\",FORM!$I35)","v":""},{"$f":"IF(ROW()-ROW(Rec_Detail[[#Headers],[Branch Code]])>ItemRows_New,\"\",FORM!$K35)","v":""},{"$f":"IF(ROW()-ROW(Rec_Detail[[#Headers],[Branch Code]])>ItemRows_New,\"\",FORM!$O35)","v":""},{"$f":"IF(ROW()-ROW(Rec_Detail[[#Headers],[Sales]])>ItemRows_New,\"\",TotalAmt.Ex.Vat)","v":""},{"$f":"IF(ROW()-ROW(Rec_Detail[[#Headers],[Store Code]])>ItemRows_New,\"\",Vat)","v":""},{"$f":"IF(ROW()-ROW(Rec_Detail[[#Headers],[Store Code]])>ItemRows_New,\"\",Total.Vat)","v":""},{"$f":"IF(ROW()-(ROW(Rec_Detail[#Headers])+ItemRows_New+1)=0,\"-End-\",IF(AND(Rec_Detail[[#This Row],[Product_Code]]<>\"\",Rec_Detail[[#This Row],[Items]]=\"\"),\"#N/A\",\"\"))","v":""}]
[null,{"$f":"IF(ROW()-ROW(Rec_Detail[[#Headers],[Branch Code]])>ItemRows_New,\"\",Branch)","v":""},{"$f":"IF(ROW()-ROW(Rec_Detail[[#Headers],[Branch Code]])>ItemRows_New,\"\",Sales)","v":""},{"$f":"IF(ROW()-ROW(Rec_Detail[[#Headers],[Branch Code]])>ItemRows_New,\"\",StoreCode)","v":""},{"$f":"IF(Rec_Detail[[#This Row],[Store Code]]=\"\",\"\",Rec_Detail[[#This Row],[Store Code]]&\" - \"&IFERROR(INDEX(INDIRECT(DbTable&\"[StoreName]\"),MATCH(Rec_Detail[[#This Row],[Store Code]],INDIRECT(DbTable&\"[StoreCode]\"),0)),\"\"))","v":""},{"$f":"IFERROR(MID(Rec_Detail[[#This Row],[Store Code]],5,1)&\" - \"&INDEX(dCustType[Customer],MATCH(MID(Rec_Detail[[#This Row],[Store Code]],5,1),dCustType[Code],0)),\"-\")","v":"-"},{"$f":"IF(ROW()-ROW(Rec_Detail[[#Headers],[Branch Code]])>ItemRows_New,\"\",Issue_Date)","v":""},{"$f":"IF(ROW()-ROW(Rec_Detail[[#Headers],[Branch Code]])>ItemRows_New,\"\",IF(Time=\"\",NOW(),Time))","v":""},{"$f":"IF(ROW()-ROW(Rec_Detail[[#Headers],[Branch Code]])>ItemRows_New,\"\",IF(Billing_Date=\"\",TODAY(),Billing_Date))","v":""},{"$f":"IF(ROW()-ROW(Rec_Detail[[#Headers],[Branch Code]])>ItemRows_New,\"\",IF(BillType=1,TEXT(INV,\"IC\"&\"0000000000\"),TEXT(INV,\"0000000000\")))","v":""},{"$f":"IF(ROW()-ROW(Rec_Detail[[#Headers],[Branch Code]])>ItemRows_New,\"\",PO)","v":""},{"$f":"IF(ROW()-ROW(Rec_Detail[[#Headers],[Branch Code]])>ItemRows_New,\"\",IF(SelectCase<>1,OFFSET(FORM!$C36,,-1),FORM!$C36))","v":""},{"$f":"IF(ROW()-ROW(Rec_Detail[[#Headers],[Branch Code]])>ItemRows_New,\"\",FORM!$G36)","v":""},{"$f":"IFERROR(INDEX(dProduct[NameTH],MATCH(Rec_Detail[[#This Row],[Product_Code]],dProduct[BarCode],0)),\"\")","v":""},{"$f":"IF(ROW()-ROW(Rec_Detail[[#Headers],[Branch Code]])>ItemRows_New,\"\",FORM!$I36)","v":""},{"$f":"IF(ROW()-ROW(Rec_Detail[[#Headers],[Branch Code]])>ItemRows_New,\"\",FORM!$K36)","v":""},{"$f":"IF(ROW()-ROW(Rec_Detail[[#Headers],[Branch Code]])>ItemRows_New,\"\",FORM!$O36)","v":""},{"$f":"IF(ROW()-ROW(Rec_Detail[[#Headers],[Sales]])>ItemRows_New,\"\",TotalAmt.Ex.Vat)","v":""},{"$f":"IF(ROW()-ROW(Rec_Detail[[#Headers],[Store Code]])>ItemRows_New,\"\",Vat)","v":""},{"$f":"IF(ROW()-ROW(Rec_Detail[[#Headers],[Store Code]])>ItemRows_New,\"\",Total.Vat)","v":""},{"$f":"IF(ROW()-(ROW(Rec_Detail[#Headers])+ItemRows_New+1)=0,\"-End-\",IF(AND(Rec_Detail[[#This Row],[Product_Code]]<>\"\",Rec_Detail[[#This Row],[Items]]=\"\"),\"#N/A\",\"\"))","v":""}]
[null,{"$f":"IF(ROW()-ROW(Rec_Detail[[#Headers],[Branch Code]])>ItemRows_New,\"\",Branch)","v":""},{"$f":"IF(ROW()-ROW(Rec_Detail[[#Headers],[Branch Code]])>ItemRows_New,\"\",Sales)","v":""},{"$f":"IF(ROW()-ROW(Rec_Detail[[#Headers],[Branch Code]])>ItemRows_New,\"\",StoreCode)","v":""},{"$f":"IF(Rec_Detail[[#This Row],[Store Code]]=\"\",\"\",Rec_Detail[[#This Row],[Store Code]]&\" - \"&IFERROR(INDEX(INDIRECT(DbTable&\"[StoreName]\"),MATCH(Rec_Detail[[#This Row],[Store Code]],INDIRECT(DbTable&\"[StoreCode]\"),0)),\"\"))","v":""},{"$f":"IFERROR(MID(Rec_Detail[[#This Row],[Store Code]],5,1)&\" - \"&INDEX(dCustType[Customer],MATCH(MID(Rec_Detail[[#This Row],[Store Code]],5,1),dCustType[Code],0)),\"-\")","v":"-"},{"$f":"IF(ROW()-ROW(Rec_Detail[[#Headers],[Branch Code]])>ItemRows_New,\"\",Issue_Date)","v":""},{"$f":"IF(ROW()-ROW(Rec_Detail[[#Headers],[Branch Code]])>ItemRows_New,\"\",IF(Time=\"\",NOW(),Time))","v":""},{"$f":"IF(ROW()-ROW(Rec_Detail[[#Headers],[Branch Code]])>ItemRows_New,\"\",IF(Billing_Date=\"\",TODAY(),Billing_Date))","v":""},{"$f":"IF(ROW()-ROW(Rec_Detail[[#Headers],[Branch Code]])>ItemRows_New,\"\",IF(BillType=1,TEXT(INV,\"IC\"&\"0000000000\"),TEXT(INV,\"0000000000\")))","v":""},{"$f":"IF(ROW()-ROW(Rec_Detail[[#Headers],[Branch Code]])>ItemRows_New,\"\",PO)","v":""},{"$f":"IF(ROW()-ROW(Rec_Detail[[#Headers],[Branch Code]])>ItemRows_New,\"\",IF(SelectCase<>1,OFFSET(FORM!$C37,,-1),FORM!$C37))","v":""},{"$f":"IF(ROW()-ROW(Rec_Detail[[#Headers],[Branch Code]])>ItemRows_New,\"\",FORM!$G37)","v":""},{"$f":"IFERROR(INDEX(dProduct[NameTH],MATCH(Rec_Detail[[#This Row],[Product_Code]],dProduct[BarCode],0)),\"\")","v":""},{"$f":"IF(ROW()-ROW(Rec_Detail[[#Headers],[Branch Code]])>ItemRows_New,\"\",FORM!$I37)","v":""},{"$f":"IF(ROW()-ROW(Rec_Detail[[#Headers],[Branch Code]])>ItemRows_New,\"\",FORM!$K37)","v":""},{"$f":"IF(ROW()-ROW(Rec_Detail[[#Headers],[Branch Code]])>ItemRows_New,\"\",FORM!$O37)","v":""},{"$f":"IF(ROW()-ROW(Rec_Detail[[#Headers],[Sales]])>ItemRows_New,\"\",TotalAmt.Ex.Vat)","v":""},{"$f":"IF(ROW()-ROW(Rec_Detail[[#Headers],[Store Code]])>ItemRows_New,\"\",Vat)","v":""},{"$f":"IF(ROW()-ROW(Rec_Detail[[#Headers],[Store Code]])>ItemRows_New,\"\",Total.Vat)","v":""},{"$f":"IF(ROW()-(ROW(Rec_Detail[#Headers])+ItemRows_New+1)=0,\"-End-\",IF(AND(Rec_Detail[[#This Row],[Product_Code]]<>\"\",Rec_Detail[[#This Row],[Items]]=\"\"),\"#N/A\",\"\"))","v":""}]
[null,{"$f":"IF(ROW()-ROW(Rec_Detail[[#Headers],[Branch Code]])>ItemRows_New,\"\",Branch)","v":""},{"$f":"IF(ROW()-ROW(Rec_Detail[[#Headers],[Branch Code]])>ItemRows_New,\"\",Sales)","v":""},{"$f":"IF(ROW()-ROW(Rec_Detail[[#Headers],[Branch Code]])>ItemRows_New,\"\",StoreCode)","v":""},{"$f":"IF(Rec_Detail[[#This Row],[Store Code]]=\"\",\"\",Rec_Detail[[#This Row],[Store Code]]&\" - \"&IFERROR(INDEX(INDIRECT(DbTable&\"[StoreName]\"),MATCH(Rec_Detail[[#This Row],[Store Code]],INDIRECT(DbTable&\"[StoreCode]\"),0)),\"\"))","v":""},{"$f":"IFERROR(MID(Rec_Detail[[#This Row],[Store Code]],5,1)&\" - \"&INDEX(dCustType[Customer],MATCH(MID(Rec_Detail[[#This Row],[Store Code]],5,1),dCustType[Code],0)),\"-\")","v":"-"},{"$f":"IF(ROW()-ROW(Rec_Detail[[#Headers],[Branch Code]])>ItemRows_New,\"\",Issue_Date)","v":""},{"$f":"IF(ROW()-ROW(Rec_Detail[[#Headers],[Branch Code]])>ItemRows_New,\"\",IF(Time=\"\",NOW(),Time))","v":""},{"$f":"IF(ROW()-ROW(Rec_Detail[[#Headers],[Branch Code]])>ItemRows_New,\"\",IF(Billing_Date=\"\",TODAY(),Billing_Date))","v":""},{"$f":"IF(ROW()-ROW(Rec_Detail[[#Headers],[Branch Code]])>ItemRows_New,\"\",IF(BillType=1,TEXT(INV,\"IC\"&\"0000000000\"),TEXT(INV,\"0000000000\")))","v":""},{"$f":"IF(ROW()-ROW(Rec_Detail[[#Headers],[Branch Code]])>ItemRows_New,\"\",PO)","v":""},{"$f":"IF(ROW()-ROW(Rec_Detail[[#Headers],[Branch Code]])>ItemRows_New,\"\",IF(SelectCase<>1,OFFSET(FORM!$C38,,-1),FORM!$C38))","v":""},{"$f":"IF(ROW()-ROW(Rec_Detail[[#Headers],[Branch Code]])>ItemRows_New,\"\",FORM!$G38)","v":""},{"$f":"IFERROR(INDEX(dProduct[NameTH],MATCH(Rec_Detail[[#This Row],[Product_Code]],dProduct[BarCode],0)),\"\")","v":""},{"$f":"IF(ROW()-ROW(Rec_Detail[[#Headers],[Branch Code]])>ItemRows_New,\"\",FORM!$I38)","v":""},{"$f":"IF(ROW()-ROW(Rec_Detail[[#Headers],[Branch Code]])>ItemRows_New,\"\",FORM!$K38)","v":""},{"$f":"IF(ROW()-ROW(Rec_Detail[[#Headers],[Branch Code]])>ItemRows_New,\"\",FORM!$O38)","v":""},{"$f":"IF(ROW()-ROW(Rec_Detail[[#Headers],[Sales]])>ItemRows_New,\"\",TotalAmt.Ex.Vat)","v":""},{"$f":"IF(ROW()-ROW(Rec_Detail[[#Headers],[Store Code]])>ItemRows_New,\"\",Vat)","v":""},{"$f":"IF(ROW()-ROW(Rec_Detail[[#Headers],[Store Code]])>ItemRows_New,\"\",Total.Vat)","v":""},{"$f":"IF(ROW()-(ROW(Rec_Detail[#Headers])+ItemRows_New+1)=0,\"-End-\",IF(AND(Rec_Detail[[#This Row],[Product_Code]]<>\"\",Rec_Detail[[#This Row],[Items]]=\"\"),\"#N/A\",\"\"))","v":""}]
[null,{"$f":"IF(ROW()-ROW(Rec_Detail[[#Headers],[Branch Code]])>ItemRows_New,\"\",Branch)","v":""},{"$f":"IF(ROW()-ROW(Rec_Detail[[#Headers],[Branch Code]])>ItemRows_New,\"\",Sales)","v":""},{"$f":"IF(ROW()-ROW(Rec_Detail[[#Headers],[Branch Code]])>ItemRows_New,\"\",StoreCode)","v":""},{"$f":"IF(Rec_Detail[[#This Row],[Store Code]]=\"\",\"\",Rec_Detail[[#This Row],[Store Code]]&\" - \"&IFERROR(INDEX(INDIRECT(DbTable&\"[StoreName]\"),MATCH(Rec_Detail[[#This Row],[Store Code]],INDIRECT(DbTable&\"[StoreCode]\"),0)),\"\"))","v":""},{"$f":"IFERROR(MID(Rec_Detail[[#This Row],[Store Code]],5,1)&\" - \"&INDEX(dCustType[Customer],MATCH(MID(Rec_Detail[[#This Row],[Store Code]],5,1),dCustType[Code],0)),\"-\")","v":"-"},{"$f":"IF(ROW()-ROW(Rec_Detail[[#Headers],[Branch Code]])>ItemRows_New,\"\",Issue_Date)","v":""},{"$f":"IF(ROW()-ROW(Rec_Detail[[#Headers],[Branch Code]])>ItemRows_New,\"\",IF(Time=\"\",NOW(),Time))","v":""},{"$f":"IF(ROW()-ROW(Rec_Detail[[#Headers],[Branch Code]])>ItemRows_New,\"\",IF(Billing_Date=\"\",TODAY(),Billing_Date))","v":""},{"$f":"IF(ROW()-ROW(Rec_Detail[[#Headers],[Branch Code]])>ItemRows_New,\"\",IF(BillType=1,TEXT(INV,\"IC\"&\"0000000000\"),TEXT(INV,\"0000000000\")))","v":""},{"$f":"IF(ROW()-ROW(Rec_Detail[[#Headers],[Branch Code]])>ItemRows_New,\"\",PO)","v":""},{"$f":"IF(ROW()-ROW(Rec_Detail[[#Headers],[Branch Code]])>ItemRows_New,\"\",IF(SelectCase<>1,OFFSET(FORM!$C39,,-1),FORM!$C39))","v":""},{"$f":"IF(ROW()-ROW(Rec_Detail[[#Headers],[Branch Code]])>ItemRows_New,\"\",FORM!$G39)","v":""},{"$f":"IFERROR(INDEX(dProduct[NameTH],MATCH(Rec_Detail[[#This Row],[Product_Code]],dProduct[BarCode],0)),\"\")","v":""},{"$f":"IF(ROW()-ROW(Rec_Detail[[#Headers],[Branch Code]])>ItemRows_New,\"\",FORM!$I39)","v":""},{"$f":"IF(ROW()-ROW(Rec_Detail[[#Headers],[Branch Code]])>ItemRows_New,\"\",FORM!$K39)","v":""},{"$f":"IF(ROW()-ROW(Rec_Detail[[#Headers],[Branch Code]])>ItemRows_New,\"\",FORM!$O39)","v":""},{"$f":"IF(ROW()-ROW(Rec_Detail[[#Headers],[Sales]])>ItemRows_New,\"\",TotalAmt.Ex.Vat)","v":""},{"$f":"IF(ROW()-ROW(Rec_Detail[[#Headers],[Store Code]])>ItemRows_New,\"\",Vat)","v":""},{"$f":"IF(ROW()-ROW(Rec_Detail[[#Headers],[Store Code]])>ItemRows_New,\"\",Total.Vat)","v":""},{"$f":"IF(ROW()-(ROW(Rec_Detail[#Headers])+ItemRows_New+1)=0,\"-End-\",IF(AND(Rec_Detail[[#This Row],[Product_Code]]<>\"\",Rec_Detail[[#This Row],[Items]]=\"\"),\"#N/A\",\"\"))","v":""}]
[null,{"$f":"IF(ROW()-ROW(Rec_Detail[[#Headers],[Branch Code]])>ItemRows_New,\"\",Branch)","v":""},{"$f":"IF(ROW()-ROW(Rec_Detail[[#Headers],[Branch Code]])>ItemRows_New,\"\",Sales)","v":""},{"$f":"IF(ROW()-ROW(Rec_Detail[[#Headers],[Branch Code]])>ItemRows_New,\"\",StoreCode)","v":""},{"$f":"IF(Rec_Detail[[#This Row],[Store Code]]=\"\",\"\",Rec_Detail[[#This Row],[Store Code]]&\" - \"&IFERROR(INDEX(INDIRECT(DbTable&\"[StoreName]\"),MATCH(Rec_Detail[[#This Row],[Store Code]],INDIRECT(DbTable&\"[StoreCode]\"),0)),\"\"))","v":""},{"$f":"IFERROR(MID(Rec_Detail[[#This Row],[Store Code]],5,1)&\" - \"&INDEX(dCustType[Customer],MATCH(MID(Rec_Detail[[#This Row],[Store Code]],5,1),dCustType[Code],0)),\"-\")","v":"-"},{"$f":"IF(ROW()-ROW(Rec_Detail[[#Headers],[Branch Code]])>ItemRows_New,\"\",Issue_Date)","v":""},{"$f":"IF(ROW()-ROW(Rec_Detail[[#Headers],[Branch Code]])>ItemRows_New,\"\",IF(Time=\"\",NOW(),Time))","v":""},{"$f":"IF(ROW()-ROW(Rec_Detail[[#Headers],[Branch Code]])>ItemRows_New,\"\",IF(Billing_Date=\"\",TODAY(),Billing_Date))","v":""},{"$f":"IF(ROW()-ROW(Rec_Detail[[#Headers],[Branch Code]])>ItemRows_New,\"\",IF(BillType=1,TEXT(INV,\"IC\"&\"0000000000\"),TEXT(INV,\"0000000000\")))","v":""},{"$f":"IF(ROW()-ROW(Rec_Detail[[#Headers],[Branch Code]])>ItemRows_New,\"\",PO)","v":""},{"$f":"IF(ROW()-ROW(Rec_Detail[[#Headers],[Branch Code]])>ItemRows_New,\"\",IF(SelectCase<>1,OFFSET(FORM!$C40,,-1),FORM!$C40))","v":""},{"$f":"IF(ROW()-ROW(Rec_Detail[[#Headers],[Branch Code]])>ItemRows_New,\"\",FORM!$G40)","v":""},{"$f":"IFERROR(INDEX(dProduct[NameTH],MATCH(Rec_Detail[[#This Row],[Product_Code]],dProduct[BarCode],0)),\"\")","v":""},{"$f":"IF(ROW()-ROW(Rec_Detail[[#Headers],[Branch Code]])>ItemRows_New,\"\",FORM!$I40)","v":""},{"$f":"IF(ROW()-ROW(Rec_Detail[[#Headers],[Branch Code]])>ItemRows_New,\"\",FORM!$K40)","v":""},{"$f":"IF(ROW()-ROW(Rec_Detail[[#Headers],[Branch Code]])>ItemRows_New,\"\",FORM!$O40)","v":""},{"$f":"IF(ROW()-ROW(Rec_Detail[[#Headers],[Sales]])>ItemRows_New,\"\",TotalAmt.Ex.Vat)","v":""},{"$f":"IF(ROW()-ROW(Rec_Detail[[#Headers],[Store Code]])>ItemRows_New,\"\",Vat)","v":""},{"$f":"IF(ROW()-ROW(Rec_Detail[[#Headers],[Store Code]])>ItemRows_New,\"\",Total.Vat)","v":""},{"$f":"IF(ROW()-(ROW(Rec_Detail[#Headers])+ItemRows_New+1)=0,\"-End-\",IF(AND(Rec_Detail[[#This Row],[Product_Code]]<>\"\",Rec_Detail[[#This Row],[Items]]=\"\"),\"#N/A\",\"\"))","v":""}]
[null,{"$f":"IF(ROW()-ROW(Rec_Detail[[#Headers],[Branch Code]])>ItemRows_New,\"\",Branch)","v":""},{"$f":"IF(ROW()-ROW(Rec_Detail[[#Headers],[Branch Code]])>ItemRows_New,\"\",Sales)","v":""},{"$f":"IF(ROW()-ROW(Rec_Detail[[#Headers],[Branch Code]])>ItemRows_New,\"\",StoreCode)","v":""},{"$f":"IF(Rec_Detail[[#This Row],[Store Code]]=\"\",\"\",Rec_Detail[[#This Row],[Store Code]]&\" - \"&IFERROR(INDEX(INDIRECT(DbTable&\"[StoreName]\"),MATCH(Rec_Detail[[#This Row],[Store Code]],INDIRECT(DbTable&\"[StoreCode]\"),0)),\"\"))","v":""},{"$f":"IFERROR(MID(Rec_Detail[[#This Row],[Store Code]],5,1)&\" - \"&INDEX(dCustType[Customer],MATCH(MID(Rec_Detail[[#This Row],[Store Code]],5,1),dCustType[Code],0)),\"-\")","v":"-"},{"$f":"IF(ROW()-ROW(Rec_Detail[[#Headers],[Branch Code]])>ItemRows_New,\"\",Issue_Date)","v":""},{"$f":"IF(ROW()-ROW(Rec_Detail[[#Headers],[Branch Code]])>ItemRows_New,\"\",IF(Time=\"\",NOW(),Time))","v":""},{"$f":"IF(ROW()-ROW(Rec_Detail[[#Headers],[Branch Code]])>ItemRows_New,\"\",IF(Billing_Date=\"\",TODAY(),Billing_Date))","v":""},{"$f":"IF(ROW()-ROW(Rec_Detail[[#Headers],[Branch Code]])>ItemRows_New,\"\",IF(BillType=1,TEXT(INV,\"IC\"&\"0000000000\"),TEXT(INV,\"0000000000\")))","v":""},{"$f":"IF(ROW()-ROW(Rec_Detail[[#Headers],[Branch Code]])>ItemRows_New,\"\",PO)","v":""},{"$f":"IF(ROW()-ROW(Rec_Detail[[#Headers],[Branch Code]])>ItemRows_New,\"\",IF(SelectCase<>1,OFFSET(FORM!$C41,,-1),FORM!$C41))","v":""},{"$f":"IF(ROW()-ROW(Rec_Detail[[#Headers],[Branch Code]])>ItemRows_New,\"\",FORM!$G41)","v":""},{"$f":"IFERROR(INDEX(dProduct[NameTH],MATCH(Rec_Detail[[#This Row],[Product_Code]],dProduct[BarCode],0)),\"\")","v":""},{"$f":"IF(ROW()-ROW(Rec_Detail[[#Headers],[Branch Code]])>ItemRows_New,\"\",FORM!$I41)","v":""},{"$f":"IF(ROW()-ROW(Rec_Detail[[#Headers],[Branch Code]])>ItemRows_New,\"\",FORM!$K41)","v":""},{"$f":"IF(ROW()-ROW(Rec_Detail[[#Headers],[Branch Code]])>ItemRows_New,\"\",FORM!$O41)","v":""},{"$f":"IF(ROW()-ROW(Rec_Detail[[#Headers],[Sales]])>ItemRows_New,\"\",TotalAmt.Ex.Vat)","v":""},{"$f":"IF(ROW()-ROW(Rec_Detail[[#Headers],[Store Code]])>ItemRows_New,\"\",Vat)","v":""},{"$f":"IF(ROW()-ROW(Rec_Detail[[#Headers],[Store Code]])>ItemRows_New,\"\",Total.Vat)","v":""},{"$f":"IF(ROW()-(ROW(Rec_Detail[#Headers])+ItemRows_New+1)=0,\"-End-\",IF(AND(Rec_Detail[[#This Row],[Product_Code]]<>\"\",Rec_Detail[[#This Row],[Items]]=\"\"),\"#N/A\",\"\"))","v":""}]
[null,{"$f":"IF(ROW()-ROW(Rec_Detail[[#Headers],[Branch Code]])>ItemRows_New,\"\",Branch)","v":""},{"$f":"IF(ROW()-ROW(Rec_Detail[[#Headers],[Branch Code]])>ItemRows_New,\"\",Sales)","v":""},{"$f":"IF(ROW()-ROW(Rec_Detail[[#Headers],[Branch Code]])>ItemRows_New,\"\",StoreCode)","v":""},{"$f":"IF(Rec_Detail[[#This Row],[Store Code]]=\"\",\"\",Rec_Detail[[#This Row],[Store Code]]&\" - \"&IFERROR(INDEX(INDIRECT(DbTable&\"[StoreName]\"),MATCH(Rec_Detail[[#This Row],[Store Code]],INDIRECT(DbTable&\"[StoreCode]\"),0)),\"\"))","v":""},{"$f":"IFERROR(MID(Rec_Detail[[#This Row],[Store Code]],5,1)&\" - \"&INDEX(dCustType[Customer],MATCH(MID(Rec_Detail[[#This Row],[Store Code]],5,1),dCustType[Code],0)),\"-\")","v":"-"},{"$f":"IF(ROW()-ROW(Rec_Detail[[#Headers],[Branch Code]])>ItemRows_New,\"\",Issue_Date)","v":""},{"$f":"IF(ROW()-ROW(Rec_Detail[[#Headers],[Branch Code]])>ItemRows_New,\"\",IF(Time=\"\",NOW(),Time))","v":""},{"$f":"IF(ROW()-ROW(Rec_Detail[[#Headers],[Branch Code]])>ItemRows_New,\"\",IF(Billing_Date=\"\",TODAY(),Billing_Date))","v":""},{"$f":"IF(ROW()-ROW(Rec_Detail[[#Headers],[Branch Code]])>ItemRows_New,\"\",IF(BillType=1,TEXT(INV,\"IC\"&\"0000000000\"),TEXT(INV,\"0000000000\")))","v":""},{"$f":"IF(ROW()-ROW(Rec_Detail[[#Headers],[Branch Code]])>ItemRows_New,\"\",PO)","v":""},{"$f":"IF(ROW()-ROW(Rec_Detail[[#Headers],[Branch Code]])>ItemRows_New,\"\",IF(SelectCase<>1,OFFSET(FORM!$C42,,-1),FORM!$C42))","v":""},{"$f":"IF(ROW()-ROW(Rec_Detail[[#Headers],[Branch Code]])>ItemRows_New,\"\",FORM!$G42)","v":""},{"$f":"IFERROR(INDEX(dProduct[NameTH],MATCH(Rec_Detail[[#This Row],[Product_Code]],dProduct[BarCode],0)),\"\")","v":""},{"$f":"IF(ROW()-ROW(Rec_Detail[[#Headers],[Branch Code]])>ItemRows_New,\"\",FORM!$I42)","v":""},{"$f":"IF(ROW()-ROW(Rec_Detail[[#Headers],[Branch Code]])>ItemRows_New,\"\",FORM!$K42)","v":""},{"$f":"IF(ROW()-ROW(Rec_Detail[[#Headers],[Branch Code]])>ItemRows_New,\"\",FORM!$O42)","v":""},{"$f":"IF(ROW()-ROW(Rec_Detail[[#Headers],[Sales]])>ItemRows_New,\"\",TotalAmt.Ex.Vat)","v":""},{"$f":"IF(ROW()-ROW(Rec_Detail[[#Headers],[Store Code]])>ItemRows_New,\"\",Vat)","v":""},{"$f":"IF(ROW()-ROW(Rec_Detail[[#Headers],[Store Code]])>ItemRows_New,\"\",Total.Vat)","v":""},{"$f":"IF(ROW()-(ROW(Rec_Detail[#Headers])+ItemRows_New+1)=0,\"-End-\",IF(AND(Rec_Detail[[#This Row],[Product_Code]]<>\"\",Rec_Detail[[#This Row],[Items]]=\"\"),\"#N/A\",\"\"))","v":""}]
[null,{"$f":"IF(ROW()-ROW(Rec_Detail[[#Headers],[Branch Code]])>ItemRows_New,\"\",Branch)","v":""},{"$f":"IF(ROW()-ROW(Rec_Detail[[#Headers],[Branch Code]])>ItemRows_New,\"\",Sales)","v":""},{"$f":"IF(ROW()-ROW(Rec_Detail[[#Headers],[Branch Code]])>ItemRows_New,\"\",StoreCode)","v":""},{"$f":"IF(Rec_Detail[[#This Row],[Store Code]]=\"\",\"\",Rec_Detail[[#This Row],[Store Code]]&\" - \"&IFERROR(INDEX(INDIRECT(DbTable&\"[StoreName]\"),MATCH(Rec_Detail[[#This Row],[Store Code]],INDIRECT(DbTable&\"[StoreCode]\"),0)),\"\"))","v":""},{"$f":"IFERROR(MID(Rec_Detail[[#This Row],[Store Code]],5,1)&\" - \"&INDEX(dCustType[Customer],MATCH(MID(Rec_Detail[[#This Row],[Store Code]],5,1),dCustType[Code],0)),\"-\")","v":"-"},{"$f":"IF(ROW()-ROW(Rec_Detail[[#Headers],[Branch Code]])>ItemRows_New,\"\",Issue_Date)","v":""},{"$f":"IF(ROW()-ROW(Rec_Detail[[#Headers],[Branch Code]])>ItemRows_New,\"\",IF(Time=\"\",NOW(),Time))","v":""},{"$f":"IF(ROW()-ROW(Rec_Detail[[#Headers],[Branch Code]])>ItemRows_New,\"\",IF(Billing_Date=\"\",TODAY(),Billing_Date))","v":""},{"$f":"IF(ROW()-ROW(Rec_Detail[[#Headers],[Branch Code]])>ItemRows_New,\"\",IF(BillType=1,TEXT(INV,\"IC\"&\"0000000000\"),TEXT(INV,\"0000000000\")))","v":""},{"$f":"IF(ROW()-ROW(Rec_Detail[[#Headers],[Branch Code]])>ItemRows_New,\"\",PO)","v":""},{"$f":"IF(ROW()-ROW(Rec_Detail[[#Headers],[Branch Code]])>ItemRows_New,\"\",IF(SelectCase<>1,OFFSET(FORM!$C43,,-1),FORM!$C43))","v":""},{"$f":"IF(ROW()-ROW(Rec_Detail[[#Headers],[Branch Code]])>ItemRows_New,\"\",FORM!$G43)","v":""},{"$f":"IFERROR(INDEX(dProduct[NameTH],MATCH(Rec_Detail[[#This Row],[Product_Code]],dProduct[BarCode],0)),\"\")","v":""},{"$f":"IF(ROW()-ROW(Rec_Detail[[#Headers],[Branch Code]])>ItemRows_New,\"\",FORM!$I43)","v":""},{"$f":"IF(ROW()-ROW(Rec_Detail[[#Headers],[Branch Code]])>ItemRows_New,\"\",FORM!$K43)","v":""},{"$f":"IF(ROW()-ROW(Rec_Detail[[#Headers],[Branch Code]])>ItemRows_New,\"\",FORM!$O43)","v":""},{"$f":"IF(ROW()-ROW(Rec_Detail[[#Headers],[Sales]])>ItemRows_New,\"\",TotalAmt.Ex.Vat)","v":""},{"$f":"IF(ROW()-ROW(Rec_Detail[[#Headers],[Store Code]])>ItemRows_New,\"\",Vat)","v":""},{"$f":"IF(ROW()-ROW(Rec_Detail[[#Headers],[Store Code]])>ItemRows_New,\"\",Total.Vat)","v":""},{"$f":"IF(ROW()-(ROW(Rec_Detail[#Headers])+ItemRows_New+1)=0,\"-End-\",IF(AND(Rec_Detail[[#This Row],[Product_Code]]<>\"\",Rec_Detail[[#This Row],[Items]]=\"\"),\"#N/A\",\"\"))","v":""}]
[null,{"$f":"IF(ROW()-ROW(Rec_Detail[[#Headers],[Branch Code]])>ItemRows_New,\"\",Branch)","v":""},{"$f":"IF(ROW()-ROW(Rec_Detail[[#Headers],[Branch Code]])>ItemRows_New,\"\",Sales)","v":""},{"$f":"IF(ROW()-ROW(Rec_Detail[[#Headers],[Branch Code]])>ItemRows_New,\"\",StoreCode)","v":""},{"$f":"IF(Rec_Detail[[#This Row],[Store Code]]=\"\",\"\",Rec_Detail[[#This Row],[Store Code]]&\" - \"&IFERROR(INDEX(INDIRECT(DbTable&\"[StoreName]\"),MATCH(Rec_Detail[[#This Row],[Store Code]],INDIRECT(DbTable&\"[StoreCode]\"),0)),\"\"))","v":""},{"$f":"IFERROR(MID(Rec_Detail[[#This Row],[Store Code]],5,1)&\" - \"&INDEX(dCustType[Customer],MATCH(MID(Rec_Detail[[#This Row],[Store Code]],5,1),dCustType[Code],0)),\"-\")","v":"-"},{"$f":"IF(ROW()-ROW(Rec_Detail[[#Headers],[Branch Code]])>ItemRows_New,\"\",Issue_Date)","v":""},{"$f":"IF(ROW()-ROW(Rec_Detail[[#Headers],[Branch Code]])>ItemRows_New,\"\",IF(Time=\"\",NOW(),Time))","v":""},{"$f":"IF(ROW()-ROW(Rec_Detail[[#Headers],[Branch Code]])>ItemRows_New,\"\",IF(Billing_Date=\"\",TODAY(),Billing_Date))","v":""},{"$f":"IF(ROW()-ROW(Rec_Detail[[#Headers],[Branch Code]])>ItemRows_New,\"\",IF(BillType=1,TEXT(INV,\"IC\"&\"0000000000\"),TEXT(INV,\"0000000000\")))","v":""},{"$f":"IF(ROW()-ROW(Rec_Detail[[#Headers],[Branch Code]])>ItemRows_New,\"\",PO)","v":""},{"$f":"IF(ROW()-ROW(Rec_Detail[[#Headers],[Branch Code]])>ItemRows_New,\"\",IF(SelectCase<>1,OFFSET(FORM!$C44,,-1),FORM!$C44))","v":""},{"$f":"IF(ROW()-ROW(Rec_Detail[[#Headers],[Branch Code]])>ItemRows_New,\"\",FORM!$G44)","v":""},{"$f":"IFERROR(INDEX(dProduct[NameTH],MATCH(Rec_Detail[[#This Row],[Product_Code]],dProduct[BarCode],0)),\"\")","v":""},{"$f":"IF(ROW()-ROW(Rec_Detail[[#Headers],[Branch Code]])>ItemRows_New,\"\",FORM!$I44)","v":""},{"$f":"IF(ROW()-ROW(Rec_Detail[[#Headers],[Branch Code]])>ItemRows_New,\"\",FORM!$K44)","v":""},{"$f":"IF(ROW()-ROW(Rec_Detail[[#Headers],[Branch Code]])>ItemRows_New,\"\",FORM!$O44)","v":""},{"$f":"IF(ROW()-ROW(Rec_Detail[[#Headers],[Sales]])>ItemRows_New,\"\",TotalAmt.Ex.Vat)","v":""},{"$f":"IF(ROW()-ROW(Rec_Detail[[#Headers],[Store Code]])>ItemRows_New,\"\",Vat)","v":""},{"$f":"IF(ROW()-ROW(Rec_Detail[[#Headers],[Store Code]])>ItemRows_New,\"\",Total.Vat)","v":""},{"$f":"IF(ROW()-(ROW(Rec_Detail[#Headers])+ItemRows_New+1)=0,\"-End-\",IF(AND(Rec_Detail[[#This Row],[Product_Code]]<>\"\",Rec_Detail[[#This Row],[Items]]=\"\"),\"#N/A\",\"\"))","v":""}]
[null,{"$f":"IF(ROW()-ROW(Rec_Detail[[#Headers],[Branch Code]])>ItemRows_New,\"\",Branch)","v":""},{"$f":"IF(ROW()-ROW(Rec_Detail[[#Headers],[Branch Code]])>ItemRows_New,\"\",Sales)","v":""},{"$f":"IF(ROW()-ROW(Rec_Detail[[#Headers],[Branch Code]])>ItemRows_New,\"\",StoreCode)","v":""},{"$f":"IF(Rec_Detail[[#This Row],[Store Code]]=\"\",\"\",Rec_Detail[[#This Row],[Store Code]]&\" - \"&IFERROR(INDEX(INDIRECT(DbTable&\"[StoreName]\"),MATCH(Rec_Detail[[#This Row],[Store Code]],INDIRECT(DbTable&\"[StoreCode]\"),0)),\"\"))","v":""},{"$f":"IFERROR(MID(Rec_Detail[[#This Row],[Store Code]],5,1)&\" - \"&INDEX(dCustType[Customer],MATCH(MID(Rec_Detail[[#This Row],[Store Code]],5,1),dCustType[Code],0)),\"-\")","v":"-"},{"$f":"IF(ROW()-ROW(Rec_Detail[[#Headers],[Branch Code]])>ItemRows_New,\"\",Issue_Date)","v":""},{"$f":"IF(ROW()-ROW(Rec_Detail[[#Headers],[Branch Code]])>ItemRows_New,\"\",IF(Time=\"\",NOW(),Time))","v":""},{"$f":"IF(ROW()-ROW(Rec_Detail[[#Headers],[Branch Code]])>ItemRows_New,\"\",IF(Billing_Date=\"\",TODAY(),Billing_Date))","v":""},{"$f":"IF(ROW()-ROW(Rec_Detail[[#Headers],[Branch Code]])>ItemRows_New,\"\",IF(BillType=1,TEXT(INV,\"IC\"&\"0000000000\"),TEXT(INV,\"0000000000\")))","v":""},{"$f":"IF(ROW()-ROW(Rec_Detail[[#Headers],[Branch Code]])>ItemRows_New,\"\",PO)","v":""},{"$f":"IF(ROW()-ROW(Rec_Detail[[#Headers],[Branch Code]])>ItemRows_New,\"\",IF(SelectCase<>1,OFFSET(FORM!$C45,,-1),FORM!$C45))","v":""},{"$f":"IF(ROW()-ROW(Rec_Detail[[#Headers],[Branch Code]])>ItemRows_New,\"\",FORM!$G45)","v":""},{"$f":"IFERROR(INDEX(dProduct[NameTH],MATCH(Rec_Detail[[#This Row],[Product_Code]],dProduct[BarCode],0)),\"\")","v":""},{"$f":"IF(ROW()-ROW(Rec_Detail[[#Headers],[Branch Code]])>ItemRows_New,\"\",FORM!$I45)","v":""},{"$f":"IF(ROW()-ROW(Rec_Detail[[#Headers],[Branch Code]])>ItemRows_New,\"\",FORM!$K45)","v":""},{"$f":"IF(ROW()-ROW(Rec_Detail[[#Headers],[Branch Code]])>ItemRows_New,\"\",FORM!$O45)","v":""},{"$f":"IF(ROW()-ROW(Rec_Detail[[#Headers],[Sales]])>ItemRows_New,\"\",TotalAmt.Ex.Vat)","v":""},{"$f":"IF(ROW()-ROW(Rec_Detail[[#Headers],[Store Code]])>ItemRows_New,\"\",Vat)","v":""},{"$f":"IF(ROW()-ROW(Rec_Detail[[#Headers],[Store Code]])>ItemRows_New,\"\",Total.Vat)","v":""},{"$f":"IF(ROW()-(ROW(Rec_Detail[#Headers])+ItemRows_New+1)=0,\"-End-\",IF(AND(Rec_Detail[[#This Row],[Product_Code]]<>\"\",Rec_Detail[[#This Row],[Items]]=\"\"),\"#N/A\",\"\"))","v":""}]
[null,{"$f":"IF(ROW()-ROW(Rec_Detail[[#Headers],[Branch Code]])>ItemRows_New,\"\",Branch)","v":""},{"$f":"IF(ROW()-ROW(Rec_Detail[[#Headers],[Branch Code]])>ItemRows_New,\"\",Sales)","v":""},{"$f":"IF(ROW()-ROW(Rec_Detail[[#Headers],[Branch Code]])>ItemRows_New,\"\",StoreCode)","v":""},{"$f":"IF(Rec_Detail[[#This Row],[Store Code]]=\"\",\"\",Rec_Detail[[#This Row],[Store Code]]&\" - \"&IFERROR(INDEX(INDIRECT(DbTable&\"[StoreName]\"),MATCH(Rec_Detail[[#This Row],[Store Code]],INDIRECT(DbTable&\"[StoreCode]\"),0)),\"\"))","v":""},{"$f":"IFERROR(MID(Rec_Detail[[#This Row],[Store Code]],5,1)&\" - \"&INDEX(dCustType[Customer],MATCH(MID(Rec_Detail[[#This Row],[Store Code]],5,1),dCustType[Code],0)),\"-\")","v":"-"},{"$f":"IF(ROW()-ROW(Rec_Detail[[#Headers],[Branch Code]])>ItemRows_New,\"\",Issue_Date)","v":""},{"$f":"IF(ROW()-ROW(Rec_Detail[[#Headers],[Branch Code]])>ItemRows_New,\"\",IF(Time=\"\",NOW(),Time))","v":""},{"$f":"IF(ROW()-ROW(Rec_Detail[[#Headers],[Branch Code]])>ItemRows_New,\"\",IF(Billing_Date=\"\",TODAY(),Billing_Date))","v":""},{"$f":"IF(ROW()-ROW(Rec_Detail[[#Headers],[Branch Code]])>ItemRows_New,\"\",IF(BillType=1,TEXT(INV,\"IC\"&\"0000000000\"),TEXT(INV,\"0000000000\")))","v":""},{"$f":"IF(ROW()-ROW(Rec_Detail[[#Headers],[Branch Code]])>ItemRows_New,\"\",PO)","v":""},{"$f":"IF(ROW()-ROW(Rec_Detail[[#Headers],[Branch Code]])>ItemRows_New,\"\",IF(SelectCase<>1,OFFSET(FORM!$C46,,-1),FORM!$C46))","v":""},{"$f":"IF(ROW()-ROW(Rec_Detail[[#Headers],[Branch Code]])>ItemRows_New,\"\",FORM!$G46)","v":""},{"$f":"IFERROR(INDEX(dProduct[NameTH],MATCH(Rec_Detail[[#This Row],[Product_Code]],dProduct[BarCode],0)),\"\")","v":""},{"$f":"IF(ROW()-ROW(Rec_Detail[[#Headers],[Branch Code]])>ItemRows_New,\"\",FORM!$I46)","v":""},{"$f":"IF(ROW()-ROW(Rec_Detail[[#Headers],[Branch Code]])>ItemRows_New,\"\",FORM!$K46)","v":""},{"$f":"IF(ROW()-ROW(Rec_Detail[[#Headers],[Branch Code]])>ItemRows_New,\"\",FORM!$O46)","v":""},{"$f":"IF(ROW()-ROW(Rec_Detail[[#Headers],[Sales]])>ItemRows_New,\"\",TotalAmt.Ex.Vat)","v":""},{"$f":"IF(ROW()-ROW(Rec_Detail[[#Headers],[Store Code]])>ItemRows_New,\"\",Vat)","v":""},{"$f":"IF(ROW()-ROW(Rec_Detail[[#Headers],[Store Code]])>ItemRows_New,\"\",Total.Vat)","v":""},{"$f":"IF(ROW()-(ROW(Rec_Detail[#Headers])+ItemRows_New+1)=0,\"-End-\",IF(AND(Rec_Detail[[#This Row],[Product_Code]]<>\"\",Rec_Detail[[#This Row],[Items]]=\"\"),\"#N/A\",\"\"))","v":""}]
[null,{"$f":"IF(ROW()-ROW(Rec_Detail[[#Headers],[Branch Code]])>ItemRows_New,\"\",Branch)","v":""},{"$f":"IF(ROW()-ROW(Rec_Detail[[#Headers],[Branch Code]])>ItemRows_New,\"\",Sales)","v":""},{"$f":"IF(ROW()-ROW(Rec_Detail[[#Headers],[Branch Code]])>ItemRows_New,\"\",StoreCode)","v":""},{"$f":"IF(Rec_Detail[[#This Row],[Store Code]]=\"\",\"\",Rec_Detail[[#This Row],[Store Code]]&\" - \"&IFERROR(INDEX(INDIRECT(DbTable&\"[StoreName]\"),MATCH(Rec_Detail[[#This Row],[Store Code]],INDIRECT(DbTable&\"[StoreCode]\"),0)),\"\"))","v":""},{"$f":"IFERROR(MID(Rec_Detail[[#This Row],[Store Code]],5,1)&\" - \"&INDEX(dCustType[Customer],MATCH(MID(Rec_Detail[[#This Row],[Store Code]],5,1),dCustType[Code],0)),\"-\")","v":"-"},{"$f":"IF(ROW()-ROW(Rec_Detail[[#Headers],[Branch Code]])>ItemRows_New,\"\",Issue_Date)","v":""},{"$f":"IF(ROW()-ROW(Rec_Detail[[#Headers],[Branch Code]])>ItemRows_New,\"\",IF(Time=\"\",NOW(),Time))","v":""},{"$f":"IF(ROW()-ROW(Rec_Detail[[#Headers],[Branch Code]])>ItemRows_New,\"\",IF(Billing_Date=\"\",TODAY(),Billing_Date))","v":""},{"$f":"IF(ROW()-ROW(Rec_Detail[[#Headers],[Branch Code]])>ItemRows_New,\"\",IF(BillType=1,TEXT(INV,\"IC\"&\"0000000000\"),TEXT(INV,\"0000000000\")))","v":""},{"$f":"IF(ROW()-ROW(Rec_Detail[[#Headers],[Branch Code]])>ItemRows_New,\"\",PO)","v":""},{"$f":"IF(ROW()-ROW(Rec_Detail[[#Headers],[Branch Code]])>ItemRows_New,\"\",IF(SelectCase<>1,OFFSET(FORM!$C47,,-1),FORM!$C47))","v":""},{"$f":"IF(ROW()-ROW(Rec_Detail[[#Headers],[Branch Code]])>ItemRows_New,\"\",FORM!$G47)","v":""},{"$f":"IFERROR(INDEX(dProduct[NameTH],MATCH(Rec_Detail[[#This Row],[Product_Code]],dProduct[BarCode],0)),\"\")","v":""},{"$f":"IF(ROW()-ROW(Rec_Detail[[#Headers],[Branch Code]])>ItemRows_New,\"\",FORM!$I47)","v":""},{"$f":"IF(ROW()-ROW(Rec_Detail[[#Headers],[Branch Code]])>ItemRows_New,\"\",FORM!$K47)","v":""},{"$f":"IF(ROW()-ROW(Rec_Detail[[#Headers],[Branch Code]])>ItemRows_New,\"\",FORM!$O47)","v":""},{"$f":"IF(ROW()-ROW(Rec_Detail[[#Headers],[Sales]])>ItemRows_New,\"\",TotalAmt.Ex.Vat)","v":""},{"$f":"IF(ROW()-ROW(Rec_Detail[[#Headers],[Store Code]])>ItemRows_New,\"\",Vat)","v":""},{"$f":"IF(ROW()-ROW(Rec_Detail[[#Headers],[Store Code]])>ItemRows_New,\"\",Total.Vat)","v":""},{"$f":"IF(ROW()-(ROW(Rec_Detail[#Headers])+ItemRows_New+1)=0,\"-End-\",IF(AND(Rec_Detail[[#This Row],[Product_Code]]<>\"\",Rec_Detail[[#This Row],[Items]]=\"\"),\"#N/A\",\"\"))","v":""}]
[null,{"$f":"IF(ROW()-ROW(Rec_Detail[[#Headers],[Branch Code]])>ItemRows_New,\"\",Branch)","v":""},{"$f":"IF(ROW()-ROW(Rec_Detail[[#Headers],[Branch Code]])>ItemRows_New,\"\",Sales)","v":""},{"$f":"IF(ROW()-ROW(Rec_Detail[[#Headers],[Branch Code]])>ItemRows_New,\"\",StoreCode)","v":""},{"$f":"IF(Rec_Detail[[#This Row],[Store Code]]=\"\",\"\",Rec_Detail[[#This Row],[Store Code]]&\" - \"&IFERROR(INDEX(INDIRECT(DbTable&\"[StoreName]\"),MATCH(Rec_Detail[[#This Row],[Store Code]],INDIRECT(DbTable&\"[StoreCode]\"),0)),\"\"))","v":""},{"$f":"IFERROR(MID(Rec_Detail[[#This Row],[Store Code]],5,1)&\" - \"&INDEX(dCustType[Customer],MATCH(MID(Rec_Detail[[#This Row],[Store Code]],5,1),dCustType[Code],0)),\"-\")","v":"-"},{"$f":"IF(ROW()-ROW(Rec_Detail[[#Headers],[Branch Code]])>ItemRows_New,\"\",Issue_Date)","v":""},{"$f":"IF(ROW()-ROW(Rec_Detail[[#Headers],[Branch Code]])>ItemRows_New,\"\",IF(Time=\"\",NOW(),Time))","v":""},{"$f":"IF(ROW()-ROW(Rec_Detail[[#Headers],[Branch Code]])>ItemRows_New,\"\",IF(Billing_Date=\"\",TODAY(),Billing_Date))","v":""},{"$f":"IF(ROW()-ROW(Rec_Detail[[#Headers],[Branch Code]])>ItemRows_New,\"\",IF(BillType=1,TEXT(INV,\"IC\"&\"0000000000\"),TEXT(INV,\"0000000000\")))","v":""},{"$f":"IF(ROW()-ROW(Rec_Detail[[#Headers],[Branch Code]])>ItemRows_New,\"\",PO)","v":""},{"$f":"IF(ROW()-ROW(Rec_Detail[[#Headers],[Branch Code]])>ItemRows_New,\"\",IF(SelectCase<>1,OFFSET(FORM!$C48,,-1),FORM!$C48))","v":""},{"$f":"IF(ROW()-ROW(Rec_Detail[[#Headers],[Branch Code]])>ItemRows_New,\"\",FORM!$G48)","v":""},{"$f":"IFERROR(INDEX(dProduct[NameTH],MATCH(Rec_Detail[[#This Row],[Product_Code]],dProduct[BarCode],0)),\"\")","v":""},{"$f":"IF(ROW()-ROW(Rec_Detail[[#Headers],[Branch Code]])>ItemRows_New,\"\",FORM!$I48)","v":""},{"$f":"IF(ROW()-ROW(Rec_Detail[[#Headers],[Branch Code]])>ItemRows_New,\"\",FORM!$K48)","v":""},{"$f":"IF(ROW()-ROW(Rec_Detail[[#Headers],[Branch Code]])>ItemRows_New,\"\",FORM!$O48)","v":""},{"$f":"IF(ROW()-ROW(Rec_Detail[[#Headers],[Sales]])>ItemRows_New,\"\",TotalAmt.Ex.Vat)","v":""},{"$f":"IF(ROW()-ROW(Rec_Detail[[#Headers],[Store Code]])>ItemRows_New,\"\",Vat)","v":""},{"$f":"IF(ROW()-ROW(Rec_Detail[[#Headers],[Store Code]])>ItemRows_New,\"\",Total.Vat)","v":""},{"$f":"IF(ROW()-(ROW(Rec_Detail[#Headers])+ItemRows_New+1)=0,\"-End-\",IF(AND(Rec_Detail[[#This Row],[Product_Code]]<>\"\",Rec_Detail[[#This Row],[Items]]=\"\"),\"#N/A\",\"\"))","v":""}]
[null,{"$f":"IF(ROW()-ROW(Rec_Detail[[#Headers],[Branch Code]])>ItemRows_New,\"\",Branch)","v":""},{"$f":"IF(ROW()-ROW(Rec_Detail[[#Headers],[Branch Code]])>ItemRows_New,\"\",Sales)","v":""},{"$f":"IF(ROW()-ROW(Rec_Detail[[#Headers],[Branch Code]])>ItemRows_New,\"\",StoreCode)","v":""},{"$f":"IF(Rec_Detail[[#This Row],[Store Code]]=\"\",\"\",Rec_Detail[[#This Row],[Store Code]]&\" - \"&IFERROR(INDEX(INDIRECT(DbTable&\"[StoreName]\"),MATCH(Rec_Detail[[#This Row],[Store Code]],INDIRECT(DbTable&\"[StoreCode]\"),0)),\"\"))","v":""},{"$f":"IFERROR(MID(Rec_Detail[[#This Row],[Store Code]],5,1)&\" - \"&INDEX(dCustType[Customer],MATCH(MID(Rec_Detail[[#This Row],[Store Code]],5,1),dCustType[Code],0)),\"-\")","v":"-"},{"$f":"IF(ROW()-ROW(Rec_Detail[[#Headers],[Branch Code]])>ItemRows_New,\"\",Issue_Date)","v":""},{"$f":"IF(ROW()-ROW(Rec_Detail[[#Headers],[Branch Code]])>ItemRows_New,\"\",IF(Time=\"\",NOW(),Time))","v":""},{"$f":"IF(ROW()-ROW(Rec_Detail[[#Headers],[Branch Code]])>ItemRows_New,\"\",IF(Billing_Date=\"\",TODAY(),Billing_Date))","v":""},{"$f":"IF(ROW()-ROW(Rec_Detail[[#Headers],[Branch Code]])>ItemRows_New,\"\",IF(BillType=1,TEXT(INV,\"IC\"&\"0000000000\"),TEXT(INV,\"0000000000\")))","v":""},{"$f":"IF(ROW()-ROW(Rec_Detail[[#Headers],[Branch Code]])>ItemRows_New,\"\",PO)","v":""},{"$f":"IF(ROW()-ROW(Rec_Detail[[#Headers],[Branch Code]])>ItemRows_New,\"\",IF(SelectCase<>1,OFFSET(FORM!$C49,,-1),FORM!$C49))","v":""},{"$f":"IF(ROW()-ROW(Rec_Detail[[#Headers],[Branch Code]])>ItemRows_New,\"\",FORM!$G49)","v":""},{"$f":"IFERROR(INDEX(dProduct[NameTH],MATCH(Rec_Detail[[#This Row],[Product_Code]],dProduct[BarCode],0)),\"\")","v":""},{"$f":"IF(ROW()-ROW(Rec_Detail[[#Headers],[Branch Code]])>ItemRows_New,\"\",FORM!$I49)","v":""},{"$f":"IF(ROW()-ROW(Rec_Detail[[#Headers],[Branch Code]])>ItemRows_New,\"\",FORM!$K49)","v":""},{"$f":"IF(ROW()-ROW(Rec_Detail[[#Headers],[Branch Code]])>ItemRows_New,\"\",FORM!$O49)","v":""},{"$f":"IF(ROW()-ROW(Rec_Detail[[#Headers],[Sales]])>ItemRows_New,\"\",TotalAmt.Ex.Vat)","v":""},{"$f":"IF(ROW()-ROW(Rec_Detail[[#Headers],[Store Code]])>ItemRows_New,\"\",Vat)","v":""},{"$f":"IF(ROW()-ROW(Rec_Detail[[#Headers],[Store Code]])>ItemRows_New,\"\",Total.Vat)","v":""},{"$f":"IF(ROW()-(ROW(Rec_Detail[#Headers])+ItemRows_New+1)=0,\"-End-\",IF(AND(Rec_Detail[[#This Row],[Product_Code]]<>\"\",Rec_Detail[[#This Row],[Items]]=\"\"),\"#N/A\",\"\"))","v":""}]
[null,{"$f":"IF(ROW()-ROW(Rec_Detail[[#Headers],[Branch Code]])>ItemRows_New,\"\",Branch)","v":""},{"$f":"IF(ROW()-ROW(Rec_Detail[[#Headers],[Branch Code]])>ItemRows_New,\"\",Sales)","v":""},{"$f":"IF(ROW()-ROW(Rec_Detail[[#Headers],[Branch Code]])>ItemRows_New,\"\",StoreCode)","v":""},{"$f":"IF(Rec_Detail[[#This Row],[Store Code]]=\"\",\"\",Rec_Detail[[#This Row],[Store Code]]&\" - \"&IFERROR(INDEX(INDIRECT(DbTable&\"[StoreName]\"),MATCH(Rec_Detail[[#This Row],[Store Code]],INDIRECT(DbTable&\"[StoreCode]\"),0)),\"\"))","v":""},{"$f":"IFERROR(MID(Rec_Detail[[#This Row],[Store Code]],5,1)&\" - \"&INDEX(dCustType[Customer],MATCH(MID(Rec_Detail[[#This Row],[Store Code]],5,1),dCustType[Code],0)),\"-\")","v":"-"},{"$f":"IF(ROW()-ROW(Rec_Detail[[#Headers],[Branch Code]])>ItemRows_New,\"\",Issue_Date)","v":""},{"$f":"IF(ROW()-ROW(Rec_Detail[[#Headers],[Branch Code]])>ItemRows_New,\"\",IF(Time=\"\",NOW(),Time))","v":""},{"$f":"IF(ROW()-ROW(Rec_Detail[[#Headers],[Branch Code]])>ItemRows_New,\"\",IF(Billing_Date=\"\",TODAY(),Billing_Date))","v":""},{"$f":"IF(ROW()-ROW(Rec_Detail[[#Headers],[Branch Code]])>ItemRows_New,\"\",IF(BillType=1,TEXT(INV,\"IC\"&\"0000000000\"),TEXT(INV,\"0000000000\")))","v":""},{"$f":"IF(ROW()-ROW(Rec_Detail[[#Headers],[Branch Code]])>ItemRows_New,\"\",PO)","v":""},{"$f":"IF(ROW()-ROW(Rec_Detail[[#Headers],[Branch Code]])>ItemRows_New,\"\",IF(SelectCase<>1,OFFSET(FORM!$C50,,-1),FORM!$C50))","v":""},{"$f":"IF(ROW()-ROW(Rec_Detail[[#Headers],[Branch Code]])>ItemRows_New,\"\",FORM!$G50)","v":""},{"$f":"IFERROR(INDEX(dProduct[NameTH],MATCH(Rec_Detail[[#This Row],[Product_Code]],dProduct[BarCode],0)),\"\")","v":""},{"$f":"IF(ROW()-ROW(Rec_Detail[[#Headers],[Branch Code]])>ItemRows_New,\"\",FORM!$I50)","v":""},{"$f":"IF(ROW()-ROW(Rec_Detail[[#Headers],[Branch Code]])>ItemRows_New,\"\",FORM!$K50)","v":""},{"$f":"IF(ROW()-ROW(Rec_Detail[[#Headers],[Branch Code]])>ItemRows_New,\"\",FORM!$O50)","v":""},{"$f":"IF(ROW()-ROW(Rec_Detail[[#Headers],[Sales]])>ItemRows_New,\"\",TotalAmt.Ex.Vat)","v":""},{"$f":"IF(ROW()-ROW(Rec_Detail[[#Headers],[Store Code]])>ItemRows_New,\"\",Vat)","v":""},{"$f":"IF(ROW()-ROW(Rec_Detail[[#Headers],[Store Code]])>ItemRows_New,\"\",Total.Vat)","v":""},{"$f":"IF(ROW()-(ROW(Rec_Detail[#Headers])+ItemRows_New+1)=0,\"-End-\",IF(AND(Rec_Detail[[#This Row],[Product_Code]]<>\"\",Rec_Detail[[#This Row],[Items]]=\"\"),\"#N/A\",\"\"))","v":""}]
[null,{"$f":"IF(ROW()-ROW(Rec_Detail[[#Headers],[Branch Code]])>ItemRows_New,\"\",Branch)","v":""},{"$f":"IF(ROW()-ROW(Rec_Detail[[#Headers],[Branch Code]])>ItemRows_New,\"\",Sales)","v":""},{"$f":"IF(ROW()-ROW(Rec_Detail[[#Headers],[Branch Code]])>ItemRows_New,\"\",StoreCode)","v":""},{"$f":"IF(Rec_Detail[[#This Row],[Store Code]]=\"\",\"\",Rec_Detail[[#This Row],[Store Code]]&\" - \"&IFERROR(INDEX(INDIRECT(DbTable&\"[StoreName]\"),MATCH(Rec_Detail[[#This Row],[Store Code]],INDIRECT(DbTable&\"[StoreCode]\"),0)),\"\"))","v":""},{"$f":"IFERROR(MID(Rec_Detail[[#This Row],[Store Code]],5,1)&\" - \"&INDEX(dCustType[Customer],MATCH(MID(Rec_Detail[[#This Row],[Store Code]],5,1),dCustType[Code],0)),\"-\")","v":"-"},{"$f":"IF(ROW()-ROW(Rec_Detail[[#Headers],[Branch Code]])>ItemRows_New,\"\",Issue_Date)","v":""},{"$f":"IF(ROW()-ROW(Rec_Detail[[#Headers],[Branch Code]])>ItemRows_New,\"\",IF(Time=\"\",NOW(),Time))","v":""},{"$f":"IF(ROW()-ROW(Rec_Detail[[#Headers],[Branch Code]])>ItemRows_New,\"\",IF(Billing_Date=\"\",TODAY(),Billing_Date))","v":""},{"$f":"IF(ROW()-ROW(Rec_Detail[[#Headers],[Branch Code]])>ItemRows_New,\"\",IF(BillType=1,TEXT(INV,\"IC\"&\"0000000000\"),TEXT(INV,\"0000000000\")))","v":""},{"$f":"IF(ROW()-ROW(Rec_Detail[[#Headers],[Branch Code]])>ItemRows_New,\"\",PO)","v":""},{"$f":"IF(ROW()-ROW(Rec_Detail[[#Headers],[Branch Code]])>ItemRows_New,\"\",IF(SelectCase<>1,OFFSET(FORM!$C51,,-1),FORM!$C51))","v":""},{"$f":"IF(ROW()-ROW(Rec_Detail[[#Headers],[Branch Code]])>ItemRows_New,\"\",FORM!$G51)","v":""},{"$f":"IFERROR(INDEX(dProduct[NameTH],MATCH(Rec_Detail[[#This Row],[Product_Code]],dProduct[BarCode],0)),\"\")","v":""},{"$f":"IF(ROW()-ROW(Rec_Detail[[#Headers],[Branch Code]])>ItemRows_New,\"\",FORM!$I51)","v":""},{"$f":"IF(ROW()-ROW(Rec_Detail[[#Headers],[Branch Code]])>ItemRows_New,\"\",FORM!$K51)","v":""},{"$f":"IF(ROW()-ROW(Rec_Detail[[#Headers],[Branch Code]])>ItemRows_New,\"\",FORM!$O51)","v":""},{"$f":"IF(ROW()-ROW(Rec_Detail[[#Headers],[Sales]])>ItemRows_New,\"\",TotalAmt.Ex.Vat)","v":""},{"$f":"IF(ROW()-ROW(Rec_Detail[[#Headers],[Store Code]])>ItemRows_New,\"\",Vat)","v":""},{"$f":"IF(ROW()-ROW(Rec_Detail[[#Headers],[Store Code]])>ItemRows_New,\"\",Total.Vat)","v":""},{"$f":"IF(ROW()-(ROW(Rec_Detail[#Headers])+ItemRows_New+1)=0,\"-End-\",IF(AND(Rec_Detail[[#This Row],[Product_Code]]<>\"\",Rec_Detail[[#This Row],[Items]]=\"\"),\"#N/A\",\"\"))","v":""}]
[null,{"$f":"IF(ROW()-ROW(Rec_Detail[[#Headers],[Branch Code]])>ItemRows_New,\"\",Branch)","v":""},{"$f":"IF(ROW()-ROW(Rec_Detail[[#Headers],[Branch Code]])>ItemRows_New,\"\",Sales)","v":""},{"$f":"IF(ROW()-ROW(Rec_Detail[[#Headers],[Branch Code]])>ItemRows_New,\"\",StoreCode)","v":""},{"$f":"IF(Rec_Detail[[#This Row],[Store Code]]=\"\",\"\",Rec_Detail[[#This Row],[Store Code]]&\" - \"&IFERROR(INDEX(INDIRECT(DbTable&\"[StoreName]\"),MATCH(Rec_Detail[[#This Row],[Store Code]],INDIRECT(DbTable&\"[StoreCode]\"),0)),\"\"))","v":""},{"$f":"IFERROR(MID(Rec_Detail[[#This Row],[Store Code]],5,1)&\" - \"&INDEX(dCustType[Customer],MATCH(MID(Rec_Detail[[#This Row],[Store Code]],5,1),dCustType[Code],0)),\"-\")","v":"-"},{"$f":"IF(ROW()-ROW(Rec_Detail[[#Headers],[Branch Code]])>ItemRows_New,\"\",Issue_Date)","v":""},{"$f":"IF(ROW()-ROW(Rec_Detail[[#Headers],[Branch Code]])>ItemRows_New,\"\",IF(Time=\"\",NOW(),Time))","v":""},{"$f":"IF(ROW()-ROW(Rec_Detail[[#Headers],[Branch Code]])>ItemRows_New,\"\",IF(Billing_Date=\"\",TODAY(),Billing_Date))","v":""},{"$f":"IF(ROW()-ROW(Rec_Detail[[#Headers],[Branch Code]])>ItemRows_New,\"\",IF(BillType=1,TEXT(INV,\"IC\"&\"0000000000\"),TEXT(INV,\"0000000000\")))","v":""},{"$f":"IF(ROW()-ROW(Rec_Detail[[#Headers],[Branch Code]])>ItemRows_New,\"\",PO)","v":""},{"$f":"IF(ROW()-ROW(Rec_Detail[[#Headers],[Branch Code]])>ItemRows_New,\"\",IF(SelectCase<>1,OFFSET(FORM!$C52,,-1),FORM!$C52))","v":""},{"$f":"IF(ROW()-ROW(Rec_Detail[[#Headers],[Branch Code]])>ItemRows_New,\"\",FORM!$G52)","v":""},{"$f":"IFERROR(INDEX(dProduct[NameTH],MATCH(Rec_Detail[[#This Row],[Product_Code]],dProduct[BarCode],0)),\"\")","v":""},{"$f":"IF(ROW()-ROW(Rec_Detail[[#Headers],[Branch Code]])>ItemRows_New,\"\",FORM!$I52)","v":""},{"$f":"IF(ROW()-ROW(Rec_Detail[[#Headers],[Branch Code]])>ItemRows_New,\"\",FORM!$K52)","v":""},{"$f":"IF(ROW()-ROW(Rec_Detail[[#Headers],[Branch Code]])>ItemRows_New,\"\",FORM!$O52)","v":""},{"$f":"IF(ROW()-ROW(Rec_Detail[[#Headers],[Sales]])>ItemRows_New,\"\",TotalAmt.Ex.Vat)","v":""},{"$f":"IF(ROW()-ROW(Rec_Detail[[#Headers],[Store Code]])>ItemRows_New,\"\",Vat)","v":""},{"$f":"IF(ROW()-ROW(Rec_Detail[[#Headers],[Store Code]])>ItemRows_New,\"\",Total.Vat)","v":""},{"$f":"IF(ROW()-(ROW(Rec_Detail[#Headers])+ItemRows_New+1)=0,\"-End-\",IF(AND(Rec_Detail[[#This Row],[Product_Code]]<>\"\",Rec_Detail[[#This Row],[Items]]=\"\"),\"#N/A\",\"\"))","v":""}]
[null,{"$f":"IF(ROW()-ROW(Rec_Detail[[#Headers],[Branch Code]])>ItemRows_New,\"\",Branch)","v":""},{"$f":"IF(ROW()-ROW(Rec_Detail[[#Headers],[Branch Code]])>ItemRows_New,\"\",Sales)","v":""},{"$f":"IF(ROW()-ROW(Rec_Detail[[#Headers],[Branch Code]])>ItemRows_New,\"\",StoreCode)","v":""},{"$f":"IF(Rec_Detail[[#This Row],[Store Code]]=\"\",\"\",Rec_Detail[[#This Row],[Store Code]]&\" - \"&IFERROR(INDEX(INDIRECT(DbTable&\"[StoreName]\"),MATCH(Rec_Detail[[#This Row],[Store Code]],INDIRECT(DbTable&\"[StoreCode]\"),0)),\"\"))","v":""},{"$f":"IFERROR(MID(Rec_Detail[[#This Row],[Store Code]],5,1)&\" - \"&INDEX(dCustType[Customer],MATCH(MID(Rec_Detail[[#This Row],[Store Code]],5,1),dCustType[Code],0)),\"-\")","v":"-"},{"$f":"IF(ROW()-ROW(Rec_Detail[[#Headers],[Branch Code]])>ItemRows_New,\"\",Issue_Date)","v":""},{"$f":"IF(ROW()-ROW(Rec_Detail[[#Headers],[Branch Code]])>ItemRows_New,\"\",IF(Time=\"\",NOW(),Time))","v":""},{"$f":"IF(ROW()-ROW(Rec_Detail[[#Headers],[Branch Code]])>ItemRows_New,\"\",IF(Billing_Date=\"\",TODAY(),Billing_Date))","v":""},{"$f":"IF(ROW()-ROW(Rec_Detail[[#Headers],[Branch Code]])>ItemRows_New,\"\",IF(BillType=1,TEXT(INV,\"IC\"&\"0000000000\"),TEXT(INV,\"0000000000\")))","v":""},{"$f":"IF(ROW()-ROW(Rec_Detail[[#Headers],[Branch Code]])>ItemRows_New,\"\",PO)","v":""},{"$f":"IF(ROW()-ROW(Rec_Detail[[#Headers],[Branch Code]])>ItemRows_New,\"\",IF(SelectCase<>1,OFFSET(FORM!$C53,,-1),FORM!$C53))","v":""},{"$f":"IF(ROW()-ROW(Rec_Detail[[#Headers],[Branch Code]])>ItemRows_New,\"\",FORM!$G53)","v":""},{"$f":"IFERROR(INDEX(dProduct[NameTH],MATCH(Rec_Detail[[#This Row],[Product_Code]],dProduct[BarCode],0)),\"\")","v":""},{"$f":"IF(ROW()-ROW(Rec_Detail[[#Headers],[Branch Code]])>ItemRows_New,\"\",FORM!$I53)","v":""},{"$f":"IF(ROW()-ROW(Rec_Detail[[#Headers],[Branch Code]])>ItemRows_New,\"\",FORM!$K53)","v":""},{"$f":"IF(ROW()-ROW(Rec_Detail[[#Headers],[Branch Code]])>ItemRows_New,\"\",FORM!$O53)","v":""},{"$f":"IF(ROW()-ROW(Rec_Detail[[#Headers],[Sales]])>ItemRows_New,\"\",TotalAmt.Ex.Vat)","v":""},{"$f":"IF(ROW()-ROW(Rec_Detail[[#Headers],[Store Code]])>ItemRows_New,\"\",Vat)","v":""},{"$f":"IF(ROW()-ROW(Rec_Detail[[#Headers],[Store Code]])>ItemRows_New,\"\",Total.Vat)","v":""},{"$f":"IF(ROW()-(ROW(Rec_Detail[#Headers])+ItemRows_New+1)=0,\"-End-\",IF(AND(Rec_Detail[[#This Row],[Product_Code]]<>\"\",Rec_Detail[[#This Row],[Items]]=\"\"),\"#N/A\",\"\"))","v":""}]
[null,{"$f":"IF(ROW()-ROW(Rec_Detail[[#Headers],[Branch Code]])>ItemRows_New,\"\",Branch)","v":""},{"$f":"IF(ROW()-ROW(Rec_Detail[[#Headers],[Branch Code]])>ItemRows_New,\"\",Sales)","v":""},{"$f":"IF(ROW()-ROW(Rec_Detail[[#Headers],[Branch Code]])>ItemRows_New,\"\",StoreCode)","v":""},{"$f":"IF(Rec_Detail[[#This Row],[Store Code]]=\"\",\"\",Rec_Detail[[#This Row],[Store Code]]&\" - \"&IFERROR(INDEX(INDIRECT(DbTable&\"[StoreName]\"),MATCH(Rec_Detail[[#This Row],[Store Code]],INDIRECT(DbTable&\"[StoreCode]\"),0)),\"\"))","v":""},{"$f":"IFERROR(MID(Rec_Detail[[#This Row],[Store Code]],5,1)&\" - \"&INDEX(dCustType[Customer],MATCH(MID(Rec_Detail[[#This Row],[Store Code]],5,1),dCustType[Code],0)),\"-\")","v":"-"},{"$f":"IF(ROW()-ROW(Rec_Detail[[#Headers],[Branch Code]])>ItemRows_New,\"\",Issue_Date)","v":""},{"$f":"IF(ROW()-ROW(Rec_Detail[[#Headers],[Branch Code]])>ItemRows_New,\"\",IF(Time=\"\",NOW(),Time))","v":""},{"$f":"IF(ROW()-ROW(Rec_Detail[[#Headers],[Branch Code]])>ItemRows_New,\"\",IF(Billing_Date=\"\",TODAY(),Billing_Date))","v":""},{"$f":"IF(ROW()-ROW(Rec_Detail[[#Headers],[Branch Code]])>ItemRows_New,\"\",IF(BillType=1,TEXT(INV,\"IC\"&\"0000000000\"),TEXT(INV,\"0000000000\")))","v":""},{"$f":"IF(ROW()-ROW(Rec_Detail[[#Headers],[Branch Code]])>ItemRows_New,\"\",PO)","v":""},{"$f":"IF(ROW()-ROW(Rec_Detail[[#Headers],[Branch Code]])>ItemRows_New,\"\",IF(SelectCase<>1,OFFSET(FORM!$C54,,-1),FORM!$C54))","v":""},{"$f":"IF(ROW()-ROW(Rec_Detail[[#Headers],[Branch Code]])>ItemRows_New,\"\",FORM!$G54)","v":""},{"$f":"IFERROR(INDEX(dProduct[NameTH],MATCH(Rec_Detail[[#This Row],[Product_Code]],dProduct[BarCode],0)),\"\")","v":""},{"$f":"IF(ROW()-ROW(Rec_Detail[[#Headers],[Branch Code]])>ItemRows_New,\"\",FORM!$I54)","v":""},{"$f":"IF(ROW()-ROW(Rec_Detail[[#Headers],[Branch Code]])>ItemRows_New,\"\",FORM!$K54)","v":""},{"$f":"IF(ROW()-ROW(Rec_Detail[[#Headers],[Branch Code]])>ItemRows_New,\"\",FORM!$O54)","v":""},{"$f":"IF(ROW()-ROW(Rec_Detail[[#Headers],[Sales]])>ItemRows_New,\"\",TotalAmt.Ex.Vat)","v":""},{"$f":"IF(ROW()-ROW(Rec_Detail[[#Headers],[Store Code]])>ItemRows_New,\"\",Vat)","v":""},{"$f":"IF(ROW()-ROW(Rec_Detail[[#Headers],[Store Code]])>ItemRows_New,\"\",Total.Vat)","v":""},{"$f":"IF(ROW()-(ROW(Rec_Detail[#Headers])+ItemRows_New+1)=0,\"-End-\",IF(AND(Rec_Detail[[#This Row],[Product_Code]]<>\"\",Rec_Detail[[#This Row],[Items]]=\"\"),\"#N/A\",\"\"))","v":""}]
[null,{"$f":"IF(ROW()-ROW(Rec_Detail[[#Headers],[Branch Code]])>ItemRows_New,\"\",Branch)","v":""},{"$f":"IF(ROW()-ROW(Rec_Detail[[#Headers],[Branch Code]])>ItemRows_New,\"\",Sales)","v":""},{"$f":"IF(ROW()-ROW(Rec_Detail[[#Headers],[Branch Code]])>ItemRows_New,\"\",StoreCode)","v":""},{"$f":"IF(Rec_Detail[[#This Row],[Store Code]]=\"\",\"\",Rec_Detail[[#This Row],[Store Code]]&\" - \"&IFERROR(INDEX(INDIRECT(DbTable&\"[StoreName]\"),MATCH(Rec_Detail[[#This Row],[Store Code]],INDIRECT(DbTable&\"[StoreCode]\"),0)),\"\"))","v":""},{"$f":"IFERROR(MID(Rec_Detail[[#This Row],[Store Code]],5,1)&\" - \"&INDEX(dCustType[Customer],MATCH(MID(Rec_Detail[[#This Row],[Store Code]],5,1),dCustType[Code],0)),\"-\")","v":"-"},{"$f":"IF(ROW()-ROW(Rec_Detail[[#Headers],[Branch Code]])>ItemRows_New,\"\",Issue_Date)","v":""},{"$f":"IF(ROW()-ROW(Rec_Detail[[#Headers],[Branch Code]])>ItemRows_New,\"\",IF(Time=\"\",NOW(),Time))","v":""},{"$f":"IF(ROW()-ROW(Rec_Detail[[#Headers],[Branch Code]])>ItemRows_New,\"\",IF(Billing_Date=\"\",TODAY(),Billing_Date))","v":""},{"$f":"IF(ROW()-ROW(Rec_Detail[[#Headers],[Branch Code]])>ItemRows_New,\"\",IF(BillType=1,TEXT(INV,\"IC\"&\"0000000000\"),TEXT(INV,\"0000000000\")))","v":""},{"$f":"IF(ROW()-ROW(Rec_Detail[[#Headers],[Branch Code]])>ItemRows_New,\"\",PO)","v":""},{"$f":"IF(ROW()-ROW(Rec_Detail[[#Headers],[Branch Code]])>ItemRows_New,\"\",IF(SelectCase<>1,OFFSET(FORM!$C55,,-1),FORM!$C55))","v":""},{"$f":"IF(ROW()-ROW(Rec_Detail[[#Headers],[Branch Code]])>ItemRows_New,\"\",FORM!$G55)","v":""},{"$f":"IFERROR(INDEX(dProduct[NameTH],MATCH(Rec_Detail[[#This Row],[Product_Code]],dProduct[BarCode],0)),\"\")","v":""},{"$f":"IF(ROW()-ROW(Rec_Detail[[#Headers],[Branch Code]])>ItemRows_New,\"\",FORM!$I55)","v":""},{"$f":"IF(ROW()-ROW(Rec_Detail[[#Headers],[Branch Code]])>ItemRows_New,\"\",FORM!$K55)","v":""},{"$f":"IF(ROW()-ROW(Rec_Detail[[#Headers],[Branch Code]])>ItemRows_New,\"\",FORM!$O55)","v":""},{"$f":"IF(ROW()-ROW(Rec_Detail[[#Headers],[Sales]])>ItemRows_New,\"\",TotalAmt.Ex.Vat)","v":""},{"$f":"IF(ROW()-ROW(Rec_Detail[[#Headers],[Store Code]])>ItemRows_New,\"\",Vat)","v":""},{"$f":"IF(ROW()-ROW(Rec_Detail[[#Headers],[Store Code]])>ItemRows_New,\"\",Total.Vat)","v":""},{"$f":"IF(ROW()-(ROW(Rec_Detail[#Headers])+ItemRows_New+1)=0,\"-End-\",IF(AND(Rec_Detail[[#This Row],[Product_Code]]<>\"\",Rec_Detail[[#This Row],[Items]]=\"\"),\"#N/A\",\"\"))","v":""}]
[null,{"$f":"IF(ROW()-ROW(Rec_Detail[[#Headers],[Branch Code]])>ItemRows_New,\"\",Branch)","v":""},{"$f":"IF(ROW()-ROW(Rec_Detail[[#Headers],[Branch Code]])>ItemRows_New,\"\",Sales)","v":""},{"$f":"IF(ROW()-ROW(Rec_Detail[[#Headers],[Branch Code]])>ItemRows_New,\"\",StoreCode)","v":""},{"$f":"IF(Rec_Detail[[#This Row],[Store Code]]=\"\",\"\",Rec_Detail[[#This Row],[Store Code]]&\" - \"&IFERROR(INDEX(INDIRECT(DbTable&\"[StoreName]\"),MATCH(Rec_Detail[[#This Row],[Store Code]],INDIRECT(DbTable&\"[StoreCode]\"),0)),\"\"))","v":""},{"$f":"IFERROR(MID(Rec_Detail[[#This Row],[Store Code]],5,1)&\" - \"&INDEX(dCustType[Customer],MATCH(MID(Rec_Detail[[#This Row],[Store Code]],5,1),dCustType[Code],0)),\"-\")","v":"-"},{"$f":"IF(ROW()-ROW(Rec_Detail[[#Headers],[Branch Code]])>ItemRows_New,\"\",Issue_Date)","v":""},{"$f":"IF(ROW()-ROW(Rec_Detail[[#Headers],[Branch Code]])>ItemRows_New,\"\",IF(Time=\"\",NOW(),Time))","v":""},{"$f":"IF(ROW()-ROW(Rec_Detail[[#Headers],[Branch Code]])>ItemRows_New,\"\",IF(Billing_Date=\"\",TODAY(),Billing_Date))","v":""},{"$f":"IF(ROW()-ROW(Rec_Detail[[#Headers],[Branch Code]])>ItemRows_New,\"\",IF(BillType=1,TEXT(INV,\"IC\"&\"0000000000\"),TEXT(INV,\"0000000000\")))","v":""},{"$f":"IF(ROW()-ROW(Rec_Detail[[#Headers],[Branch Code]])>ItemRows_New,\"\",PO)","v":""},{"$f":"IF(ROW()-ROW(Rec_Detail[[#Headers],[Branch Code]])>ItemRows_New,\"\",IF(SelectCase<>1,OFFSET(FORM!$C56,,-1),FORM!$C56))","v":""},{"$f":"IF(ROW()-ROW(Rec_Detail[[#Headers],[Branch Code]])>ItemRows_New,\"\",FORM!$G56)","v":""},{"$f":"IFERROR(INDEX(dProduct[NameTH],MATCH(Rec_Detail[[#This Row],[Product_Code]],dProduct[BarCode],0)),\"\")","v":""},{"$f":"IF(ROW()-ROW(Rec_Detail[[#Headers],[Branch Code]])>ItemRows_New,\"\",FORM!$I56)","v":""},{"$f":"IF(ROW()-ROW(Rec_Detail[[#Headers],[Branch Code]])>ItemRows_New,\"\",FORM!$K56)","v":""},{"$f":"IF(ROW()-ROW(Rec_Detail[[#Headers],[Branch Code]])>ItemRows_New,\"\",FORM!$O56)","v":""},{"$f":"IF(ROW()-ROW(Rec_Detail[[#Headers],[Sales]])>ItemRows_New,\"\",TotalAmt.Ex.Vat)","v":""},{"$f":"IF(ROW()-ROW(Rec_Detail[[#Headers],[Store Code]])>ItemRows_New,\"\",Vat)","v":""},{"$f":"IF(ROW()-ROW(Rec_Detail[[#Headers],[Store Code]])>ItemRows_New,\"\",Total.Vat)","v":""},{"$f":"IF(ROW()-(ROW(Rec_Detail[#Headers])+ItemRows_New+1)=0,\"-End-\",IF(AND(Rec_Detail[[#This Row],[Product_Code]]<>\"\",Rec_Detail[[#This Row],[Items]]=\"\"),\"#N/A\",\"\"))","v":""}]
[]
[null,"||  Record Transections"]
[]
[null,"Branch Code","Sales","Store Code","Store Name","CustomType","Issue_Date","Time","Billing_Date","INV No.","PO","Items","Product_Code","Product_Name","Unit","Exchange","Total Ex.Vat","Total Amt","Vat","Total","Remark"]

{"sheet":"MasterExp_Detail","index":7,"n_rows":995,"n_cols":16,"rows_kept":995,"cut":false,"hidden":true,"merged":[]}
["01-Branch Code","02-Sales","03-Cust Name","04-Date","05-INV No.","Time","ลำดับ","06-ชื่อสินค้า","07-Unit","08-Exchange","09-Total","10-Ex.Vat","11-CustomType","12-ส่งของวันที่","13-รอบเข้าร้าน","14-RowsDelete"]
[{"$f":"IFERROR(IF(INDEX(Rec_Trc[[#Data],[Branch Code]],ROW()-1)=\"\",\"\",INDEX(Rec_Trc[[#Data],[Branch Code]],ROW()-1)),\"\")","v":""},{"$f":"IF($A2=\"\",\"\",INDEX(Rec_Trc[[#Data],[Sales]],ROW()-1))","v":""},{"$f":"IF($A2=\"\",\"\",INDEX(Rec_Trc[[#Data],[Store Name]],ROW()-1))","v":""},{"$f":"IF($A2=\"\",\"\",INDEX(Rec_Trc[[#Data],[Issue_Date]],ROW()-1))","v":""},{"$f":"IF($A2=\"\",\"\",INDEX(Rec_Trc[[#Data],[INV No.]],ROW()-1))","v":""},{"$f":"IF($A2=\"\",\"\",INDEX(Rec_Trc[[#Data],[Time]],ROW()-1))","v":""},{"$f":"IF($A2=\"\",\"\",INDEX(Rec_Trc[[#Data],[Items]],ROW()-1))","v":""},{"$f":"IF($A2=\"\",\"\",INDEX(Rec_Trc[[#Data],[Product_Name]],ROW()-1))","v":""},{"$f":"IF($A2=\"\",\"\",INDEX(Rec_Trc[[#Data],[Unit]],ROW()-1))","v":""},{"$f":"IF($A2=\"\",\"\",INDEX(Rec_Trc[[#Data],[Exchange]],ROW()-1))","v":""},{"$f":"IF(L2=\"\",\"\",L2*1.07)","v":""},{"$f":"IF($A2=\"\",\"\",INDEX(Rec_Trc[[#Data],[Total Ex.Vat]],ROW()-1))","v":""},{"$f":"IF($A2=\"\",\"\",INDEX(Rec_Trc[[#Data],[CustomType]],ROW()-1))","v":""},{"$f":"IF($A2=\"\",\"\",INDEX(Rec_Trc[[#Data],[Issue_Date]],ROW()-1))","v":""},{"$f":"IF(G2=1,1,\"\")","v":""},{"$f":"IF($A2<>\"\",\"\",INDEX(Rec_Trc[[#Data],[Remark]],ROW()-1))","v":0}]
[]
[]
[]
[]
[]
[]
[]
[]
[]
[]
[]
[]
[]
[]
[]
[]
[]
[]
[]
[]
[]
[]
[]
[]
[]
[]
[]
[]
[]
[]
[]
[]
[]
[]
[]
[]
[]
[]
[]
[]
[]
[]
[]
[]
[]
[]
[]
[]
[]
[]
[]
[]
[]
[]
[]
[]
[]
[]
[]
[]
[]
[]
[null,null,null,null,null,null,null,null,null,null,null,null,null,null,{"$f":"IF(N65=\"\",\"\",COUNTIF($G$2:$G65,1))","v":""}]
[null,null,null,null,null,null,null,null,null,null,null,null,null,null,{"$f":"IF(N66=\"\",\"\",COUNTIF($G$2:$G66,1))","v":""}]
[null,null,null,null,null,null,null,null,null,null,null,null,null,null,{"$f":"IF(N67=\"\",\"\",COUNTIF($G$2:$G67,1))","v":""}]
[null,null,null,null,null,null,null,null,null,null,null,null,null,null,{"$f":"IF(N68=\"\",\"\",COUNTIF($G$2:$G68,1))","v":""}]
[null,null,null,null,null,null,null,null,null,null,null,null,null,null,{"$f":"IF(N69=\"\",\"\",COUNTIF($G$2:$G69,1))","v":""}]
[null,null,null,null,null,null,null,null,null,null,null,null,null,null,{"$f":"IF(N70=\"\",\"\",COUNTIF($G$2:$G70,1))","v":""}]
[null,null,null,null,null,null,null,null,null,null,null,null,null,null,{"$f":"IF(N71=\"\",\"\",COUNTIF($G$2:$G71,1))","v":""}]
[null,null,null,null,null,null,null,null,null,null,null,null,null,null,{"$f":"IF(N72=\"\",\"\",COUNTIF($G$2:$G72,1))","v":""}]
[null,null,null,null,null,null,null,null,null,null,null,null,null,null,{"$f":"IF(N73=\"\",\"\",COUNTIF($G$2:$G73,1))","v":""}]
[null,null,null,null,null,null,null,null,null,null,null,null,null,null,{"$f":"IF(N74=\"\",\"\",COUNTIF($G$2:$G74,1))","v":""}]
[null,null,null,null,null,null,null,null,null,null,null,null,null,null,{"$f":"IF(N75=\"\",\"\",COUNTIF($G$2:$G75,1))","v":""}]
[null,null,null,null,null,null,null,null,null,null,null,null,null,null,{"$f":"IF(N76=\"\",\"\",COUNTIF($G$2:$G76,1))","v":""}]
[null,null,null,null,null,null,null,null,null,null,null,null,null,null,{"$f":"IF(N77=\"\",\"\",COUNTIF($G$2:$G77,1))","v":""}]
[null,null,null,null,null,null,null,null,null,null,null,null,null,null,{"$f":"IF(N78=\"\",\"\",COUNTIF($G$2:$G78,1))","v":""}]
[null,null,null,null,null,null,null,null,null,null,null,null,null,null,{"$f":"IF(N79=\"\",\"\",COUNTIF($G$2:$G79,1))","v":""}]
[null,null,null,null,null,null,null,null,null,null,null,null,null,null,{"$f":"IF(N80=\"\",\"\",COUNTIF($G$2:$G80,1))","v":""}]
[null,null,null,null,null,null,null,null,null,null,null,null,null,null,{"$f":"IF(N81=\"\",\"\",COUNTIF($G$2:$G81,1))","v":""}]
[null,null,null,null,null,null,null,null,null,null,null,null,null,null,{"$f":"IF(N82=\"\",\"\",COUNTIF($G$2:$G82,1))","v":""}]
[null,null,null,null,null,null,null,null,null,null,null,null,null,null,{"$f":"IF(N83=\"\",\"\",COUNTIF($G$2:$G83,1))","v":""}]
[null,null,null,null,null,null,null,null,null,null,null,null,null,null,{"$f":"IF(N84=\"\",\"\",COUNTIF($G$2:$G84,1))","v":""}]
[null,null,null,null,null,null,null,null,null,null,null,null,null,null,{"$f":"IF(N85=\"\",\"\",COUNTIF($G$2:$G85,1))","v":""}]
[null,null,null,null,null,null,null,null,null,null,null,null,null,null,{"$f":"IF(N86=\"\",\"\",COUNTIF($G$2:$G86,1))","v":""}]
[null,null,null,null,null,null,null,null,null,null,null,null,null,null,{"$f":"IF(N87=\"\",\"\",COUNTIF($G$2:$G87,1))","v":""}]
[null,null,null,null,null,null,null,null,null,null,null,null,null,null,{"$f":"IF(N88=\"\",\"\",COUNTIF($G$2:$G88,1))","v":""}]
[null,null,null,null,null,null,null,null,null,null,null,null,null,null,{"$f":"IF(N89=\"\",\"\",COUNTIF($G$2:$G89,1))","v":""}]
[null,null,null,null,null,null,null,null,null,null,null,null,null,null,{"$f":"IF(N90=\"\",\"\",COUNTIF($G$2:$G90,1))","v":""}]
[null,null,null,null,null,null,null,null,null,null,null,null,null,null,{"$f":"IF(N91=\"\",\"\",COUNTIF($G$2:$G91,1))","v":""}]
[null,null,null,null,null,null,null,null,null,null,null,null,null,null,{"$f":"IF(N92=\"\",\"\",COUNTIF($G$2:$G92,1))","v":""}]
[null,null,null,null,null,null,null,null,null,null,null,null,null,null,{"$f":"IF(N93=\"\",\"\",COUNTIF($G$2:$G93,1))","v":""}]
[null,null,null,null,null,null,null,null,null,null,null,null,null,null,{"$f":"IF(N94=\"\",\"\",COUNTIF($G$2:$G94,1))","v":""}]
[null,null,null,null,null,null,null,null,null,null,null,null,null,null,{"$f":"IF(N95=\"\",\"\",COUNTIF($G$2:$G95,1))","v":""}]
[null,null,null,null,null,null,null,null,null,null,null,null,null,null,{"$f":"IF(N96=\"\",\"\",COUNTIF($G$2:$G96,1))","v":""}]
[null,null,null,null,null,null,null,null,null,null,null,null,null,null,{"$f":"IF(N97=\"\",\"\",COUNTIF($G$2:$G97,1))","v":""}]
[null,null,null,null,null,null,null,null,null,null,null,null,null,null,{"$f":"IF(N98=\"\",\"\",COUNTIF($G$2:$G98,1))","v":""}]
[null,null,null,null,null,null,null,null,null,null,null,null,null,null,{"$f":"IF(N99=\"\",\"\",COUNTIF($G$2:$G99,1))","v":""}]
[null,null,null,null,null,null,null,null,null,null,null,null,null,null,{"$f":"IF(N100=\"\",\"\",COUNTIF($G$2:$G100,1))","v":""}]
[null,null,null,null,null,null,null,null,null,null,null,null,null,null,{"$f":"IF(N101=\"\",\"\",COUNTIF($G$2:$G101,1))","v":""}]
[null,null,null,null,null,null,null,null,null,null,null,null,null,null,{"$f":"IF(N102=\"\",\"\",COUNTIF($G$2:$G102,1))","v":""}]
[null,null,null,null,null,null,null,null,null,null,null,null,null,null,{"$f":"IF(N103=\"\",\"\",COUNTIF($G$2:$G103,1))","v":""}]
[null,null,null,null,null,null,null,null,null,null,null,null,null,null,{"$f":"IF(N104=\"\",\"\",COUNTIF($G$2:$G104,1))","v":""}]
[null,null,null,null,null,null,null,null,null,null,null,null,null,null,{"$f":"IF(N105=\"\",\"\",COUNTIF($G$2:$G105,1))","v":""}]
[null,null,null,null,null,null,null,null,null,null,null,null,null,null,{"$f":"IF(N106=\"\",\"\",COUNTIF($G$2:$G106,1))","v":""}]
[null,null,null,null,null,null,null,null,null,null,null,null,null,null,{"$f":"IF(N107=\"\",\"\",COUNTIF($G$2:$G107,1))","v":""}]
[null,null,null,null,null,null,null,null,null,null,null,null,null,null,{"$f":"IF(N108=\"\",\"\",COUNTIF($G$2:$G108,1))","v":""}]
[null,null,null,null,null,null,null,null,null,null,null,null,null,null,{"$f":"IF(N109=\"\",\"\",COUNTIF($G$2:$G109,1))","v":""}]
[null,null,null,null,null,null,null,null,null,null,null,null,null,null,{"$f":"IF(N110=\"\",\"\",COUNTIF($G$2:$G110,1))","v":""}]
[null,null,null,null,null,null,null,null,null,null,null,null,null,null,{"$f":"IF(N111=\"\",\"\",COUNTIF($G$2:$G111,1))","v":""}]
[null,null,null,null,null,null,null,null,null,null,null,null,null,null,{"$f":"IF(N112=\"\",\"\",COUNTIF($G$2:$G112,1))","v":""}]
[null,null,null,null,null,null,null,null,null,null,null,null,null,null,{"$f":"IF(N113=\"\",\"\",COUNTIF($G$2:$G113,1))","v":""}]
[null,null,null,null,null,null,null,null,null,null,null,null,null,null,{"$f":"IF(N114=\"\",\"\",COUNTIF($G$2:$G114,1))","v":""}]
[null,null,null,null,null,null,null,null,null,null,null,null,null,null,{"$f":"IF(N115=\"\",\"\",COUNTIF($G$2:$G115,1))","v":""}]
[null,null,null,null,null,null,null,null,null,null,null,null,null,null,{"$f":"IF(N116=\"\",\"\",COUNTIF($G$2:$G116,1))","v":""}]
[null,null,null,null,null,null,null,null,null,null,null,null,null,null,{"$f":"IF(N117=\"\",\"\",COUNTIF($G$2:$G117,1))","v":""}]
[null,null,null,null,null,null,null,null,null,null,null,null,null,null,{"$f":"IF(N118=\"\",\"\",COUNTIF($G$2:$G118,1))","v":""}]
[null,null,null,null,null,null,null,null,null,null,null,null,null,null,{"$f":"IF(N119=\"\",\"\",COUNTIF($G$2:$G119,1))","v":""}]
[null,null,null,null,null,null,null,null,null,null,null,null,null,null,{"$f":"IF(N120=\"\",\"\",COUNTIF($G$2:$G120,1))","v":""}]
[null,null,null,null,null,null,null,null,null,null,null,null,null,null,{"$f":"IF(N121=\"\",\"\",COUNTIF($G$2:$G121,1))","v":""}]
[null,null,null,null,null,null,null,null,null,null,null,null,null,null,{"$f":"IF(N122=\"\",\"\",COUNTIF($G$2:$G122,1))","v":""}]
[null,null,null,null,null,null,null,null,null,null,null,null,null,null,{"$f":"IF(N123=\"\",\"\",COUNTIF($G$2:$G123,1))","v":""}]
[null,null,null,null,null,null,null,null,null,null,null,null,null,null,{"$f":"IF(N124=\"\",\"\",COUNTIF($G$2:$G124,1))","v":""}]
[null,null,null,null,null,null,null,null,null,null,null,null,null,null,{"$f":"IF(N125=\"\",\"\",COUNTIF($G$2:$G125,1))","v":""}]
[null,null,null,null,null,null,null,null,null,null,null,null,null,null,{"$f":"IF(N126=\"\",\"\",COUNTIF($G$2:$G126,1))","v":""}]
[null,null,null,null,null,null,null,null,null,null,null,null,null,null,{"$f":"IF(N127=\"\",\"\",COUNTIF($G$2:$G127,1))","v":""}]
[null,null,null,null,null,null,null,null,null,null,null,null,null,null,{"$f":"IF(N128=\"\",\"\",COUNTIF($G$2:$G128,1))","v":""}]
[null,null,null,null,null,null,null,null,null,null,null,null,null,null,{"$f":"IF(N129=\"\",\"\",COUNTIF($G$2:$G129,1))","v":""}]
[null,null,null,null,null,null,null,null,null,null,null,null,null,null,{"$f":"IF(N130=\"\",\"\",COUNTIF($G$2:$G130,1))","v":""}]
[null,null,null,null,null,null,null,null,null,null,null,null,null,null,{"$f":"IF(N131=\"\",\"\",COUNTIF($G$2:$G131,1))","v":""}]
[null,null,null,null,null,null,null,null,null,null,null,null,null,null,{"$f":"IF(N132=\"\",\"\",COUNTIF($G$2:$G132,1))","v":""}]
[null,null,null,null,null,null,null,null,null,null,null,null,null,null,{"$f":"IF(N133=\"\",\"\",COUNTIF($G$2:$G133,1))","v":""}]
[null,null,null,null,null,null,null,null,null,null,null,null,null,null,{"$f":"IF(N134=\"\",\"\",COUNTIF($G$2:$G134,1))","v":""}]
[null,null,null,null,null,null,null,null,null,null,null,null,null,null,{"$f":"IF(N135=\"\",\"\",COUNTIF($G$2:$G135,1))","v":""}]
[null,null,null,null,null,null,null,null,null,null,null,null,null,null,{"$f":"IF(N136=\"\",\"\",COUNTIF($G$2:$G136,1))","v":""}]
[null,null,null,null,null,null,null,null,null,null,null,null,null,null,{"$f":"IF(N137=\"\",\"\",COUNTIF($G$2:$G137,1))","v":""}]
[null,null,null,null,null,null,null,null,null,null,null,null,null,null,{"$f":"IF(N138=\"\",\"\",COUNTIF($G$2:$G138,1))","v":""}]
[null,null,null,null,null,null,null,null,null,null,null,null,null,null,{"$f":"IF(N139=\"\",\"\",COUNTIF($G$2:$G139,1))","v":""}]
[null,null,null,null,null,null,null,null,null,null,null,null,null,null,{"$f":"IF(N140=\"\",\"\",COUNTIF($G$2:$G140,1))","v":""}]
[null,null,null,null,null,null,null,null,null,null,null,null,null,null,{"$f":"IF(N141=\"\",\"\",COUNTIF($G$2:$G141,1))","v":""}]
[null,null,null,null,null,null,null,null,null,null,null,null,null,null,{"$f":"IF(N142=\"\",\"\",COUNTIF($G$2:$G142,1))","v":""}]
[null,null,null,null,null,null,null,null,null,null,null,null,null,null,{"$f":"IF(N143=\"\",\"\",COUNTIF($G$2:$G143,1))","v":""}]
[null,null,null,null,null,null,null,null,null,null,null,null,null,null,{"$f":"IF(N144=\"\",\"\",COUNTIF($G$2:$G144,1))","v":""}]
[null,null,null,null,null,null,null,null,null,null,null,null,null,null,{"$f":"IF(N145=\"\",\"\",COUNTIF($G$2:$G145,1))","v":""}]
[null,null,null,null,null,null,null,null,null,null,null,null,null,null,{"$f":"IF(N146=\"\",\"\",COUNTIF($G$2:$G146,1))","v":""}]
[null,null,null,null,null,null,null,null,null,null,null,null,null,null,{"$f":"IF(N147=\"\",\"\",COUNTIF($G$2:$G147,1))","v":""}]
[null,null,null,null,null,null,null,null,null,null,null,null,null,null,{"$f":"IF(N148=\"\",\"\",COUNTIF($G$2:$G148,1))","v":""}]
[null,null,null,null,null,null,null,null,null,null,null,null,null,null,{"$f":"IF(N149=\"\",\"\",COUNTIF($G$2:$G149,1))","v":""}]
[null,null,null,null,null,null,null,null,null,null,null,null,null,null,{"$f":"IF(N150=\"\",\"\",COUNTIF($G$2:$G150,1))","v":""}]
[null,null,null,null,null,null,null,null,null,null,null,null,null,null,{"$f":"IF(N151=\"\",\"\",COUNTIF($G$2:$G151,1))","v":""}]
[null,null,null,null,null,null,null,null,null,null,null,null,null,null,{"$f":"IF(N152=\"\",\"\",COUNTIF($G$2:$G152,1))","v":""}]
[null,null,null,null,null,null,null,null,null,null,null,null,null,null,{"$f":"IF(N153=\"\",\"\",COUNTIF($G$2:$G153,1))","v":""}]
[null,null,null,null,null,null,null,null,null,null,null,null,null,null,{"$f":"IF(N154=\"\",\"\",COUNTIF($G$2:$G154,1))","v":""}]
[null,null,null,null,null,null,null,null,null,null,null,null,null,null,{"$f":"IF(N155=\"\",\"\",COUNTIF($G$2:$G155,1))","v":""}]
[null,null,null,null,null,null,null,null,null,null,null,null,null,null,{"$f":"IF(N156=\"\",\"\",COUNTIF($G$2:$G156,1))","v":""}]
[null,null,null,null,null,null,null,null,null,null,null,null,null,null,{"$f":"IF(N157=\"\",\"\",COUNTIF($G$2:$G157,1))","v":""}]
[null,null,null,null,null,null,null,null,null,null,null,null,null,null,{"$f":"IF(N158=\"\",\"\",COUNTIF($G$2:$G158,1))","v":""}]
[null,null,null,null,null,null,null,null,null,null,null,null,null,null,{"$f":"IF(N159=\"\",\"\",COUNTIF($G$2:$G159,1))","v":""}]
[null,null,null,null,null,null,null,null,null,null,null,null,null,null,{"$f":"IF(N160=\"\",\"\",COUNTIF($G$2:$G160,1))","v":""}]
[null,null,null,null,null,null,null,null,null,null,null,null,null,null,{"$f":"IF(N161=\"\",\"\",COUNTIF($G$2:$G161,1))","v":""}]
[null,null,null,null,null,null,null,null,null,null,null,null,null,null,{"$f":"IF(N162=\"\",\"\",COUNTIF($G$2:$G162,1))","v":""}]
[null,null,null,null,null,null,null,null,null,null,null,null,null,null,{"$f":"IF(N163=\"\",\"\",COUNTIF($G$2:$G163,1))","v":""}]
[null,null,null,null,null,null,null,null,null,null,null,null,null,null,{"$f":"IF(N164=\"\",\"\",COUNTIF($G$2:$G164,1))","v":""}]
[null,null,null,null,null,null,null,null,null,null,null,null,null,null,{"$f":"IF(N165=\"\",\"\",COUNTIF($G$2:$G165,1))","v":""}]
[null,null,null,null,null,null,null,null,null,null,null,null,null,null,{"$f":"IF(N166=\"\",\"\",COUNTIF($G$2:$G166,1))","v":""}]
[null,null,null,null,null,null,null,null,null,null,null,null,null,null,{"$f":"IF(N167=\"\",\"\",COUNTIF($G$2:$G167,1))","v":""}]
[null,null,null,null,null,null,null,null,null,null,null,null,null,null,{"$f":"IF(N168=\"\",\"\",COUNTIF($G$2:$G168,1))","v":""}]
[null,null,null,null,null,null,null,null,null,null,null,null,null,null,{"$f":"IF(N169=\"\",\"\",COUNTIF($G$2:$G169,1))","v":""}]
[null,null,null,null,null,null,null,null,null,null,null,null,null,null,{"$f":"IF(N170=\"\",\"\",COUNTIF($G$2:$G170,1))","v":""}]
[null,null,null,null,null,null,null,null,null,null,null,null,null,null,{"$f":"IF(N171=\"\",\"\",COUNTIF($G$2:$G171,1))","v":""}]
[null,null,null,null,null,null,null,null,null,null,null,null,null,null,{"$f":"IF(N172=\"\",\"\",COUNTIF($G$2:$G172,1))","v":""}]
[null,null,null,null,null,null,null,null,null,null,null,null,null,null,{"$f":"IF(N173=\"\",\"\",COUNTIF($G$2:$G173,1))","v":""}]
[null,null,null,null,null,null,null,null,null,null,null,null,null,null,{"$f":"IF(N174=\"\",\"\",COUNTIF($G$2:$G174,1))","v":""}]
[null,null,null,null,null,null,null,null,null,null,null,null,null,null,{"$f":"IF(N175=\"\",\"\",COUNTIF($G$2:$G175,1))","v":""}]
[null,null,null,null,null,null,null,null,null,null,null,null,null,null,{"$f":"IF(N176=\"\",\"\",COUNTIF($G$2:$G176,1))","v":""}]
[null,null,null,null,null,null,null,null,null,null,null,null,null,null,{"$f":"IF(N177=\"\",\"\",COUNTIF($G$2:$G177,1))","v":""}]
[null,null,null,null,null,null,null,null,null,null,null,null,null,null,{"$f":"IF(N178=\"\",\"\",COUNTIF($G$2:$G178,1))","v":""}]
[null,null,null,null,null,null,null,null,null,null,null,null,null,null,{"$f":"IF(N179=\"\",\"\",COUNTIF($G$2:$G179,1))","v":""}]
[null,null,null,null,null,null,null,null,null,null,null,null,null,null,{"$f":"IF(N180=\"\",\"\",COUNTIF($G$2:$G180,1))","v":""}]
[null,null,null,null,null,null,null,null,null,null,null,null,null,null,{"$f":"IF(N181=\"\",\"\",COUNTIF($G$2:$G181,1))","v":""}]
[null,null,null,null,null,null,null,null,null,null,null,null,null,null,{"$f":"IF(N182=\"\",\"\",COUNTIF($G$2:$G182,1))","v":""}]
[null,null,null,null,null,null,null,null,null,null,null,null,null,null,{"$f":"IF(N183=\"\",\"\",COUNTIF($G$2:$G183,1))","v":""}]
[null,null,null,null,null,null,null,null,null,null,null,null,null,null,{"$f":"IF(N184=\"\",\"\",COUNTIF($G$2:$G184,1))","v":""}]
[null,null,null,null,null,null,null,null,null,null,null,null,null,null,{"$f":"IF(N185=\"\",\"\",COUNTIF($G$2:$G185,1))","v":""}]
[null,null,null,null,null,null,null,null,null,null,null,null,null,null,{"$f":"IF(N186=\"\",\"\",COUNTIF($G$2:$G186,1))","v":""}]
[null,null,null,null,null,null,null,null,null,null,null,null,null,null,{"$f":"IF(N187=\"\",\"\",COUNTIF($G$2:$G187,1))","v":""}]
[null,null,null,null,null,null,null,null,null,null,null,null,null,null,{"$f":"IF(N188=\"\",\"\",COUNTIF($G$2:$G188,1))","v":""}]
[null,null,null,null,null,null,null,null,null,null,null,null,null,null,{"$f":"IF(N189=\"\",\"\",COUNTIF($G$2:$G189,1))","v":""}]
[null,null,null,null,null,null,null,null,null,null,null,null,null,null,{"$f":"IF(N190=\"\",\"\",COUNTIF($G$2:$G190,1))","v":""}]
[null,null,null,null,null,null,null,null,null,null,null,null,null,null,{"$f":"IF(N191=\"\",\"\",COUNTIF($G$2:$G191,1))","v":""}]
[null,null,null,null,null,null,null,null,null,null,null,null,null,null,{"$f":"IF(N192=\"\",\"\",COUNTIF($G$2:$G192,1))","v":""}]
[null,null,null,null,null,null,null,null,null,null,null,null,null,null,{"$f":"IF(N193=\"\",\"\",COUNTIF($G$2:$G193,1))","v":""}]
[null,null,null,null,null,null,null,null,null,null,null,null,null,null,{"$f":"IF(N194=\"\",\"\",COUNTIF($G$2:$G194,1))","v":""}]
[null,null,null,null,null,null,null,null,null,null,null,null,null,null,{"$f":"IF(N195=\"\",\"\",COUNTIF($G$2:$G195,1))","v":""}]
[null,null,null,null,null,null,null,null,null,null,null,null,null,null,{"$f":"IF(N196=\"\",\"\",COUNTIF($G$2:$G196,1))","v":""}]
[null,null,null,null,null,null,null,null,null,null,null,null,null,null,{"$f":"IF(N197=\"\",\"\",COUNTIF($G$2:$G197,1))","v":""}]
[null,null,null,null,null,null,null,null,null,null,null,null,null,null,{"$f":"IF(N198=\"\",\"\",COUNTIF($G$2:$G198,1))","v":""}]
[null,null,null,null,null,null,null,null,null,null,null,null,null,null,{"$f":"IF(N199=\"\",\"\",COUNTIF($G$2:$G199,1))","v":""}]
[null,null,null,null,null,null,null,null,null,null,null,null,null,null,{"$f":"IF(N200=\"\",\"\",COUNTIF($G$2:$G200,1))","v":""}]
[null,null,null,null,null,null,null,null,null,null,null,null,null,null,{"$f":"IF(N201=\"\",\"\",COUNTIF($G$2:$G201,1))","v":""}]
[null,null,null,null,null,null,null,null,null,null,null,null,null,null,{"$f":"IF(N202=\"\",\"\",COUNTIF($G$2:$G202,1))","v":""}]
[null,null,null,null,null,null,null,null,null,null,null,null,null,null,{"$f":"IF(N203=\"\",\"\",COUNTIF($G$2:$G203,1))","v":""}]
[null,null,null,null,null,null,null,null,null,null,null,null,null,null,{"$f":"IF(N204=\"\",\"\",COUNTIF($G$2:$G204,1))","v":""}]
[null,null,null,null,null,null,null,null,null,null,null,null,null,null,{"$f":"IF(N205=\"\",\"\",COUNTIF($G$2:$G205,1))","v":""}]
[null,null,null,null,null,null,null,null,null,null,null,null,null,null,{"$f":"IF(N206=\"\",\"\",COUNTIF($G$2:$G206,1))","v":""}]
[null,null,null,null,null,null,null,null,null,null,null,null,null,null,{"$f":"IF(N207=\"\",\"\",COUNTIF($G$2:$G207,1))","v":""}]
[null,null,null,null,null,null,null,null,null,null,null,null,null,null,{"$f":"IF(N208=\"\",\"\",COUNTIF($G$2:$G208,1))","v":""}]
[null,null,null,null,null,null,null,null,null,null,null,null,null,null,{"$f":"IF(N209=\"\",\"\",COUNTIF($G$2:$G209,1))","v":""}]
[null,null,null,null,null,null,null,null,null,null,null,null,null,null,{"$f":"IF(N210=\"\",\"\",COUNTIF($G$2:$G210,1))","v":""}]
[null,null,null,null,null,null,null,null,null,null,null,null,null,null,{"$f":"IF(N211=\"\",\"\",COUNTIF($G$2:$G211,1))","v":""}]
[null,null,null,null,null,null,null,null,null,null,null,null,null,null,{"$f":"IF(N212=\"\",\"\",COUNTIF($G$2:$G212,1))","v":""}]
[null,null,null,null,null,null,null,null,null,null,null,null,null,null,{"$f":"IF(N213=\"\",\"\",COUNTIF($G$2:$G213,1))","v":""}]
[null,null,null,null,null,null,null,null,null,null,null,null,null,null,{"$f":"IF(N214=\"\",\"\",COUNTIF($G$2:$G214,1))","v":""}]
[null,null,null,null,null,null,null,null,null,null,null,null,null,null,{"$f":"IF(N215=\"\",\"\",COUNTIF($G$2:$G215,1))","v":""}]
[null,null,null,null,null,null,null,null,null,null,null,null,null,null,{"$f":"IF(N216=\"\",\"\",COUNTIF($G$2:$G216,1))","v":""}]
[null,null,null,null,null,null,null,null,null,null,null,null,null,null,{"$f":"IF(N217=\"\",\"\",COUNTIF($G$2:$G217,1))","v":""}]
[null,null,null,null,null,null,null,null,null,null,null,null,null,null,{"$f":"IF(N218=\"\",\"\",COUNTIF($G$2:$G218,1))","v":""}]
[null,null,null,null,null,null,null,null,null,null,null,null,null,null,{"$f":"IF(N219=\"\",\"\",COUNTIF($G$2:$G219,1))","v":""}]
[null,null,null,null,null,null,null,null,null,null,null,null,null,null,{"$f":"IF(N220=\"\",\"\",COUNTIF($G$2:$G220,1))","v":""}]
[null,null,null,null,null,null,null,null,null,null,null,null,null,null,{"$f":"IF(N221=\"\",\"\",COUNTIF($G$2:$G221,1))","v":""}]
[null,null,null,null,null,null,null,null,null,null,null,null,null,null,{"$f":"IF(N222=\"\",\"\",COUNTIF($G$2:$G222,1))","v":""}]
[null,null,null,null,null,null,null,null,null,null,null,null,null,null,{"$f":"IF(N223=\"\",\"\",COUNTIF($G$2:$G223,1))","v":""}]
[null,null,null,null,null,null,null,null,null,null,null,null,null,null,{"$f":"IF(N224=\"\",\"\",COUNTIF($G$2:$G224,1))","v":""}]
[null,null,null,null,null,null,null,null,null,null,null,null,null,null,{"$f":"IF(N225=\"\",\"\",COUNTIF($G$2:$G225,1))","v":""}]
[null,null,null,null,null,null,null,null,null,null,null,null,null,null,{"$f":"IF(N226=\"\",\"\",COUNTIF($G$2:$G226,1))","v":""}]
[null,null,null,null,null,null,null,null,null,null,null,null,null,null,{"$f":"IF(N227=\"\",\"\",COUNTIF($G$2:$G227,1))","v":""}]
[null,null,null,null,null,null,null,null,null,null,null,null,null,null,{"$f":"IF(N228=\"\",\"\",COUNTIF($G$2:$G228,1))","v":""}]
[null,null,null,null,null,null,null,null,null,null,null,null,null,null,{"$f":"IF(N229=\"\",\"\",COUNTIF($G$2:$G229,1))","v":""}]
[null,null,null,null,null,null,null,null,null,null,null,null,null,null,{"$f":"IF(N230=\"\",\"\",COUNTIF($G$2:$G230,1))","v":""}]
[null,null,null,null,null,null,null,null,null,null,null,null,null,null,{"$f":"IF(N231=\"\",\"\",COUNTIF($G$2:$G231,1))","v":""}]
[null,null,null,null,null,null,null,null,null,null,null,null,null,null,{"$f":"IF(N232=\"\",\"\",COUNTIF($G$2:$G232,1))","v":""}]
[null,null,null,null,null,null,null,null,null,null,null,null,null,null,{"$f":"IF(N233=\"\",\"\",COUNTIF($G$2:$G233,1))","v":""}]
[null,null,null,null,null,null,null,null,null,null,null,null,null,null,{"$f":"IF(N234=\"\",\"\",COUNTIF($G$2:$G234,1))","v":""}]
[null,null,null,null,null,null,null,null,null,null,null,null,null,null,{"$f":"IF(N235=\"\",\"\",COUNTIF($G$2:$G235,1))","v":""}]
[null,null,null,null,null,null,null,null,null,null,null,null,null,null,{"$f":"IF(N236=\"\",\"\",COUNTIF($G$2:$G236,1))","v":""}]
[null,null,null,null,null,null,null,null,null,null,null,null,null,null,{"$f":"IF(N237=\"\",\"\",COUNTIF($G$2:$G237,1))","v":""}]
[null,null,null,null,null,null,null,null,null,null,null,null,null,null,{"$f":"IF(N238=\"\",\"\",COUNTIF($G$2:$G238,1))","v":""}]
[null,null,null,null,null,null,null,null,null,null,null,null,null,null,{"$f":"IF(N239=\"\",\"\",COUNTIF($G$2:$G239,1))","v":""}]
[null,null,null,null,null,null,null,null,null,null,null,null,null,null,{"$f":"IF(N240=\"\",\"\",COUNTIF($G$2:$G240,1))","v":""}]
[null,null,null,null,null,null,null,null,null,null,null,null,null,null,{"$f":"IF(N241=\"\",\"\",COUNTIF($G$2:$G241,1))","v":""}]
[null,null,null,null,null,null,null,null,null,null,null,null,null,null,{"$f":"IF(N242=\"\",\"\",COUNTIF($G$2:$G242,1))","v":""}]
[null,null,null,null,null,null,null,null,null,null,null,null,null,null,{"$f":"IF(N243=\"\",\"\",COUNTIF($G$2:$G243,1))","v":""}]
[null,null,null,null,null,null,null,null,null,null,null,null,null,null,{"$f":"IF(N244=\"\",\"\",COUNTIF($G$2:$G244,1))","v":""}]
[null,null,null,null,null,null,null,null,null,null,null,null,null,null,{"$f":"IF(N245=\"\",\"\",COUNTIF($G$2:$G245,1))","v":""}]
[null,null,null,null,null,null,null,null,null,null,null,null,null,null,{"$f":"IF(N246=\"\",\"\",COUNTIF($G$2:$G246,1))","v":""}]
[null,null,null,null,null,null,null,null,null,null,null,null,null,null,{"$f":"IF(N247=\"\",\"\",COUNTIF($G$2:$G247,1))","v":""}]
[null,null,null,null,null,null,null,null,null,null,null,null,null,null,{"$f":"IF(N248=\"\",\"\",COUNTIF($G$2:$G248,1))","v":""}]
[null,null,null,null,null,null,null,null,null,null,null,null,null,null,{"$f":"IF(N249=\"\",\"\",COUNTIF($G$2:$G249,1))","v":""}]
[null,null,null,null,null,null,null,null,null,null,null,null,null,null,{"$f":"IF(N250=\"\",\"\",COUNTIF($G$2:$G250,1))","v":""}]
[null,null,null,null,null,null,null,null,null,null,null,null,null,null,{"$f":"IF(N251=\"\",\"\",COUNTIF($G$2:$G251,1))","v":""}]
[null,null,null,null,null,null,null,null,null,null,null,null,null,null,{"$f":"IF(N252=\"\",\"\",COUNTIF($G$2:$G252,1))","v":""}]
[null,null,null,null,null,null,null,null,null,null,null,null,null,null,{"$f":"IF(N253=\"\",\"\",COUNTIF($G$2:$G253,1))","v":""}]
[null,null,null,null,null,null,null,null,null,null,null,null,null,null,{"$f":"IF(N254=\"\",\"\",COUNTIF($G$2:$G254,1))","v":""}]
[null,null,null,null,null,null,null,null,null,null,null,null,null,null,{"$f":"IF(N255=\"\",\"\",COUNTIF($G$2:$G255,1))","v":""}]
[null,null,null,null,null,null,null,null,null,null,null,null,null,null,{"$f":"IF(N256=\"\",\"\",COUNTIF($G$2:$G256,1))","v":""}]
[null,null,null,null,null,null,null,null,null,null,null,null,null,null,{"$f":"IF(N257=\"\",\"\",COUNTIF($G$2:$G257,1))","v":""}]
[null,null,null,null,null,null,null,null,null,null,null,null,null,null,{"$f":"IF(N258=\"\",\"\",COUNTIF($G$2:$G258,1))","v":""}]
[null,null,null,null,null,null,null,null,null,null,null,null,null,null,{"$f":"IF(N259=\"\",\"\",COUNTIF($G$2:$G259,1))","v":""}]
[null,null,null,null,null,null,null,null,null,null,null,null,null,null,{"$f":"IF(N260=\"\",\"\",COUNTIF($G$2:$G260,1))","v":""}]
[null,null,null,null,null,null,null,null,null,null,null,null,null,null,{"$f":"IF(N261=\"\",\"\",COUNTIF($G$2:$G261,1))","v":""}]
[null,null,null,null,null,null,null,null,null,null,null,null,null,null,{"$f":"IF(N262=\"\",\"\",COUNTIF($G$2:$G262,1))","v":""}]
[null,null,null,null,null,null,null,null,null,null,null,null,null,null,{"$f":"IF(N263=\"\",\"\",COUNTIF($G$2:$G263,1))","v":""}]
[null,null,null,null,null,null,null,null,null,null,null,null,null,null,{"$f":"IF(N264=\"\",\"\",COUNTIF($G$2:$G264,1))","v":""}]
[null,null,null,null,null,null,null,null,null,null,null,null,null,null,{"$f":"IF(N265=\"\",\"\",COUNTIF($G$2:$G265,1))","v":""}]
[null,null,null,null,null,null,null,null,null,null,null,null,null,null,{"$f":"IF(N266=\"\",\"\",COUNTIF($G$2:$G266,1))","v":""}]
[null,null,null,null,null,null,null,null,null,null,null,null,null,null,{"$f":"IF(N267=\"\",\"\",COUNTIF($G$2:$G267,1))","v":""}]
[null,null,null,null,null,null,null,null,null,null,null,null,null,null,{"$f":"IF(N268=\"\",\"\",COUNTIF($G$2:$G268,1))","v":""}]
[null,null,null,null,null,null,null,null,null,null,null,null,null,null,{"$f":"IF(N269=\"\",\"\",COUNTIF($G$2:$G269,1))","v":""}]
[null,null,null,null,null,null,null,null,null,null,null,null,null,null,{"$f":"IF(N270=\"\",\"\",COUNTIF($G$2:$G270,1))","v":""}]
[null,null,null,null,null,null,null,null,null,null,null,null,null,null,{"$f":"IF(N271=\"\",\"\",COUNTIF($G$2:$G271,1))","v":""}]
[null,null,null,null,null,null,null,null,null,null,null,null,null,null,{"$f":"IF(N272=\"\",\"\",COUNTIF($G$2:$G272,1))","v":""}]
[null,null,null,null,null,null,null,null,null,null,null,null,null,null,{"$f":"IF(N273=\"\",\"\",COUNTIF($G$2:$G273,1))","v":""}]
[null,null,null,null,null,null,null,null,null,null,null,null,null,null,{"$f":"IF(N274=\"\",\"\",COUNTIF($G$2:$G274,1))","v":""}]
[null,null,null,null,null,null,null,null,null,null,null,null,null,null,{"$f":"IF(N275=\"\",\"\",COUNTIF($G$2:$G275,1))","v":""}]
[null,null,null,null,null,null,null,null,null,null,null,null,null,null,{"$f":"IF(N276=\"\",\"\",COUNTIF($G$2:$G276,1))","v":""}]
[null,null,null,null,null,null,null,null,null,null,null,null,null,null,{"$f":"IF(N277=\"\",\"\",COUNTIF($G$2:$G277,1))","v":""}]
[null,null,null,null,null,null,null,null,null,null,null,null,null,null,{"$f":"IF(N278=\"\",\"\",COUNTIF($G$2:$G278,1))","v":""}]
[null,null,null,null,null,null,null,null,null,null,null,null,null,null,{"$f":"IF(N279=\"\",\"\",COUNTIF($G$2:$G279,1))","v":""}]
[null,null,null,null,null,null,null,null,null,null,null,null,null,null,{"$f":"IF(N280=\"\",\"\",COUNTIF($G$2:$G280,1))","v":""}]
[null,null,null,null,null,null,null,null,null,null,null,null,null,null,{"$f":"IF(N281=\"\",\"\",COUNTIF($G$2:$G281,1))","v":""}]
[null,null,null,null,null,null,null,null,null,null,null,null,null,null,{"$f":"IF(N282=\"\",\"\",COUNTIF($G$2:$G282,1))","v":""}]
[null,null,null,null,null,null,null,null,null,null,null,null,null,null,{"$f":"IF(N283=\"\",\"\",COUNTIF($G$2:$G283,1))","v":""}]
[null,null,null,null,null,null,null,null,null,null,null,null,null,null,{"$f":"IF(N284=\"\",\"\",COUNTIF($G$2:$G284,1))","v":""}]
[null,null,null,null,null,null,null,null,null,null,null,null,null,null,{"$f":"IF(N285=\"\",\"\",COUNTIF($G$2:$G285,1))","v":""}]
[null,null,null,null,null,null,null,null,null,null,null,null,null,null,{"$f":"IF(N286=\"\",\"\",COUNTIF($G$2:$G286,1))","v":""}]
[null,null,null,null,null,null,null,null,null,null,null,null,null,null,{"$f":"IF(N287=\"\",\"\",COUNTIF($G$2:$G287,1))","v":""}]
[null,null,null,null,null,null,null,null,null,null,null,null,null,null,{"$f":"IF(N288=\"\",\"\",COUNTIF($G$2:$G288,1))","v":""}]
[null,null,null,null,null,null,null,null,null,null,null,null,null,null,{"$f":"IF(N289=\"\",\"\",COUNTIF($G$2:$G289,1))","v":""}]
[null,null,null,null,null,null,null,null,null,null,null,null,null,null,{"$f":"IF(N290=\"\",\"\",COUNTIF($G$2:$G290,1))","v":""}]
[null,null,null,null,null,null,null,null,null,null,null,null,null,null,{"$f":"IF(N291=\"\",\"\",COUNTIF($G$2:$G291,1))","v":""}]
[null,null,null,null,null,null,null,null,null,null,null,null,null,null,{"$f":"IF(N292=\"\",\"\",COUNTIF($G$2:$G292,1))","v":""}]
[null,null,null,null,null,null,null,null,null,null,null,null,null,null,{"$f":"IF(N293=\"\",\"\",COUNTIF($G$2:$G293,1))","v":""}]
[null,null,null,null,null,null,null,null,null,null,null,null,null,null,{"$f":"IF(N294=\"\",\"\",COUNTIF($G$2:$G294,1))","v":""}]
[null,null,null,null,null,null,null,null,null,null,null,null,null,null,{"$f":"IF(N295=\"\",\"\",COUNTIF($G$2:$G295,1))","v":""}]
[null,null,null,null,null,null,null,null,null,null,null,null,null,null,{"$f":"IF(N296=\"\",\"\",COUNTIF($G$2:$G296,1))","v":""}]
[null,null,null,null,null,null,null,null,null,null,null,null,null,null,{"$f":"IF(N297=\"\",\"\",COUNTIF($G$2:$G297,1))","v":""}]
[null,null,null,null,null,null,null,null,null,null,null,null,null,null,{"$f":"IF(N298=\"\",\"\",COUNTIF($G$2:$G298,1))","v":""}]
[null,null,null,null,null,null,null,null,null,null,null,null,null,null,{"$f":"IF(N299=\"\",\"\",COUNTIF($G$2:$G299,1))","v":""}]
[null,null,null,null,null,null,null,null,null,null,null,null,null,null,{"$f":"IF(N300=\"\",\"\",COUNTIF($G$2:$G300,1))","v":""}]
[null,null,null,null,null,null,null,null,null,null,null,null,null,null,{"$f":"IF(N301=\"\",\"\",COUNTIF($G$2:$G301,1))","v":""}]
[null,null,null,null,null,null,null,null,null,null,null,null,null,null,{"$f":"IF(N302=\"\",\"\",COUNTIF($G$2:$G302,1))","v":""}]
[null,null,null,null,null,null,null,null,null,null,null,null,null,null,{"$f":"IF(N303=\"\",\"\",COUNTIF($G$2:$G303,1))","v":""}]
[null,null,null,null,null,null,null,null,null,null,null,null,null,null,{"$f":"IF(N304=\"\",\"\",COUNTIF($G$2:$G304,1))","v":""}]
[null,null,null,null,null,null,null,null,null,null,null,null,null,null,{"$f":"IF(N305=\"\",\"\",COUNTIF($G$2:$G305,1))","v":""}]
[null,null,null,null,null,null,null,null,null,null,null,null,null,null,{"$f":"IF(N306=\"\",\"\",COUNTIF($G$2:$G306,1))","v":""}]
[null,null,null,null,null,null,null,null,null,null,null,null,null,null,{"$f":"IF(N307=\"\",\"\",COUNTIF($G$2:$G307,1))","v":""}]
[null,null,null,null,null,null,null,null,null,null,null,null,null,null,{"$f":"IF(N308=\"\",\"\",COUNTIF($G$2:$G308,1))","v":""}]
[null,null,null,null,null,null,null,null,null,null,null,null,null,null,{"$f":"IF(N309=\"\",\"\",COUNTIF($G$2:$G309,1))","v":""}]
[null,null,null,null,null,null,null,null,null,null,null,null,null,null,{"$f":"IF(N310=\"\",\"\",COUNTIF($G$2:$G310,1))","v":""}]
[null,null,null,null,null,null,null,null,null,null,null,null,null,null,{"$f":"IF(N311=\"\",\"\",COUNTIF($G$2:$G311,1))","v":""}]
[null,null,null,null,null,null,null,null,null,null,null,null,null,null,{"$f":"IF(N312=\"\",\"\",COUNTIF($G$2:$G312,1))","v":""}]
[null,null,null,null,null,null,null,null,null,null,null,null,null,null,{"$f":"IF(N313=\"\",\"\",COUNTIF($G$2:$G313,1))","v":""}]
[null,null,null,null,null,null,null,null,null,null,null,null,null,null,{"$f":"IF(N314=\"\",\"\",COUNTIF($G$2:$G314,1))","v":""}]
[null,null,null,null,null,null,null,null,null,null,null,null,null,null,{"$f":"IF(N315=\"\",\"\",COUNTIF($G$2:$G315,1))","v":""}]
[null,null,null,null,null,null,null,null,null,null,null,null,null,null,{"$f":"IF(N316=\"\",\"\",COUNTIF($G$2:$G316,1))","v":""}]
[null,null,null,null,null,null,null,null,null,null,null,null,null,null,{"$f":"IF(N317=\"\",\"\",COUNTIF($G$2:$G317,1))","v":""}]
[null,null,null,null,null,null,null,null,null,null,null,null,null,null,{"$f":"IF(N318=\"\",\"\",COUNTIF($G$2:$G318,1))","v":""}]
[null,null,null,null,null,null,null,null,null,null,null,null,null,null,{"$f":"IF(N319=\"\",\"\",COUNTIF($G$2:$G319,1))","v":""}]
[null,null,null,null,null,null,null,null,null,null,null,null,null,null,{"$f":"IF(N320=\"\",\"\",COUNTIF($G$2:$G320,1))","v":""}]
[null,null,null,null,null,null,null,null,null,null,null,null,null,null,{"$f":"IF(N321=\"\",\"\",COUNTIF($G$2:$G321,1))","v":""}]
[null,null,null,null,null,null,null,null,null,null,null,null,null,null,{"$f":"IF(N322=\"\",\"\",COUNTIF($G$2:$G322,1))","v":""}]
[null,null,null,null,null,null,null,null,null,null,null,null,null,null,{"$f":"IF(N323=\"\",\"\",COUNTIF($G$2:$G323,1))","v":""}]
[null,null,null,null,null,null,null,null,null,null,null,null,null,null,{"$f":"IF(N324=\"\",\"\",COUNTIF($G$2:$G324,1))","v":""}]
[null,null,null,null,null,null,null,null,null,null,null,null,null,null,{"$f":"IF(N325=\"\",\"\",COUNTIF($G$2:$G325,1))","v":""}]
[null,null,null,null,null,null,null,null,null,null,null,null,null,null,{"$f":"IF(N326=\"\",\"\",COUNTIF($G$2:$G326,1))","v":""}]
[null,null,null,null,null,null,null,null,null,null,null,null,null,null,{"$f":"IF(N327=\"\",\"\",COUNTIF($G$2:$G327,1))","v":""}]
[null,null,null,null,null,null,null,null,null,null,null,null,null,null,{"$f":"IF(N328=\"\",\"\",COUNTIF($G$2:$G328,1))","v":""}]
[null,null,null,null,null,null,null,null,null,null,null,null,null,null,{"$f":"IF(N329=\"\",\"\",COUNTIF($G$2:$G329,1))","v":""}]
[null,null,null,null,null,null,null,null,null,null,null,null,null,null,{"$f":"IF(N330=\"\",\"\",COUNTIF($G$2:$G330,1))","v":""}]
[null,null,null,null,null,null,null,null,null,null,null,null,null,null,{"$f":"IF(N331=\"\",\"\",COUNTIF($G$2:$G331,1))","v":""}]
[null,null,null,null,null,null,null,null,null,null,null,null,null,null,{"$f":"IF(N332=\"\",\"\",COUNTIF($G$2:$G332,1))","v":""}]
[null,null,null,null,null,null,null,null,null,null,null,null,null,null,{"$f":"IF(N333=\"\",\"\",COUNTIF($G$2:$G333,1))","v":""}]
[null,null,null,null,null,null,null,null,null,null,null,null,null,null,{"$f":"IF(N334=\"\",\"\",COUNTIF($G$2:$G334,1))","v":""}]
[null,null,null,null,null,null,null,null,null,null,null,null,null,null,{"$f":"IF(N335=\"\",\"\",COUNTIF($G$2:$G335,1))","v":""}]
[null,null,null,null,null,null,null,null,null,null,null,null,null,null,{"$f":"IF(N336=\"\",\"\",COUNTIF($G$2:$G336,1))","v":""}]
[null,null,null,null,null,null,null,null,null,null,null,null,null,null,{"$f":"IF(N337=\"\",\"\",COUNTIF($G$2:$G337,1))","v":""}]
[null,null,null,null,null,null,null,null,null,null,null,null,null,null,{"$f":"IF(N338=\"\",\"\",COUNTIF($G$2:$G338,1))","v":""}]
[null,null,null,null,null,null,null,null,null,null,null,null,null,null,{"$f":"IF(N339=\"\",\"\",COUNTIF($G$2:$G339,1))","v":""}]
[null,null,null,null,null,null,null,null,null,null,null,null,null,null,{"$f":"IF(N340=\"\",\"\",COUNTIF($G$2:$G340,1))","v":""}]
[null,null,null,null,null,null,null,null,null,null,null,null,null,null,{"$f":"IF(N341=\"\",\"\",COUNTIF($G$2:$G341,1))","v":""}]
[null,null,null,null,null,null,null,null,null,null,null,null,null,null,{"$f":"IF(N342=\"\",\"\",COUNTIF($G$2:$G342,1))","v":""}]
[null,null,null,null,null,null,null,null,null,null,null,null,null,null,{"$f":"IF(N343=\"\",\"\",COUNTIF($G$2:$G343,1))","v":""}]
[null,null,null,null,null,null,null,null,null,null,null,null,null,null,{"$f":"IF(N344=\"\",\"\",COUNTIF($G$2:$G344,1))","v":""}]
[null,null,null,null,null,null,null,null,null,null,null,null,null,null,{"$f":"IF(N345=\"\",\"\",COUNTIF($G$2:$G345,1))","v":""}]
[null,null,null,null,null,null,null,null,null,null,null,null,null,null,{"$f":"IF(N346=\"\",\"\",COUNTIF($G$2:$G346,1))","v":""}]
[null,null,null,null,null,null,null,null,null,null,null,null,null,null,{"$f":"IF(N347=\"\",\"\",COUNTIF($G$2:$G347,1))","v":""}]
[null,null,null,null,null,null,null,null,null,null,null,null,null,null,{"$f":"IF(N348=\"\",\"\",COUNTIF($G$2:$G348,1))","v":""}]
[null,null,null,null,null,null,null,null,null,null,null,null,null,null,{"$f":"IF(N349=\"\",\"\",COUNTIF($G$2:$G349,1))","v":""}]
[null,null,null,null,null,null,null,null,null,null,null,null,null,null,{"$f":"IF(N350=\"\",\"\",COUNTIF($G$2:$G350,1))","v":""}]
[null,null,null,null,null,null,null,null,null,null,null,null,null,null,{"$f":"IF(N351=\"\",\"\",COUNTIF($G$2:$G351,1))","v":""}]
[null,null,null,null,null,null,null,null,null,null,null,null,null,null,{"$f":"IF(N352=\"\",\"\",COUNTIF($G$2:$G352,1))","v":""}]
[null,null,null,null,null,null,null,null,null,null,null,null,null,null,{"$f":"IF(N353=\"\",\"\",COUNTIF($G$2:$G353,1))","v":""}]
[null,null,null,null,null,null,null,null,null,null,null,null,null,null,{"$f":"IF(N354=\"\",\"\",COUNTIF($G$2:$G354,1))","v":""}]
[null,null,null,null,null,null,null,null,null,null,null,null,null,null,{"$f":"IF(N355=\"\",\"\",COUNTIF($G$2:$G355,1))","v":""}]
[null,null,null,null,null,null,null,null,null,null,null,null,null,null,{"$f":"IF(N356=\"\",\"\",COUNTIF($G$2:$G356,1))","v":""}]
[null,null,null,null,null,null,null,null,null,null,null,null,null,null,{"$f":"IF(N357=\"\",\"\",COUNTIF($G$2:$G357,1))","v":""}]
[null,null,null,null,null,null,null,null,null,null,null,null,null,null,{"$f":"IF(N358=\"\",\"\",COUNTIF($G$2:$G358,1))","v":""}]
[null,null,null,null,null,null,null,null,null,null,null,null,null,null,{"$f":"IF(N359=\"\",\"\",COUNTIF($G$2:$G359,1))","v":""}]
[null,null,null,null,null,null,null,null,null,null,null,null,null,null,{"$f":"IF(N360=\"\",\"\",COUNTIF($G$2:$G360,1))","v":""}]
[null,null,null,null,null,null,null,null,null,null,null,null,null,null,{"$f":"IF(N361=\"\",\"\",COUNTIF($G$2:$G361,1))","v":""}]
[null,null,null,null,null,null,null,null,null,null,null,null,null,null,{"$f":"IF(N362=\"\",\"\",COUNTIF($G$2:$G362,1))","v":""}]
[null,null,null,null,null,null,null,null,null,null,null,null,null,null,{"$f":"IF(N363=\"\",\"\",COUNTIF($G$2:$G363,1))","v":""}]
[null,null,null,null,null,null,null,null,null,null,null,null,null,null,{"$f":"IF(N364=\"\",\"\",COUNTIF($G$2:$G364,1))","v":""}]
[null,null,null,null,null,null,null,null,null,null,null,null,null,null,{"$f":"IF(N365=\"\",\"\",COUNTIF($G$2:$G365,1))","v":""}]
[null,null,null,null,null,null,null,null,null,null,null,null,null,null,{"$f":"IF(N366=\"\",\"\",COUNTIF($G$2:$G366,1))","v":""}]
[null,null,null,null,null,null,null,null,null,null,null,null,null,null,{"$f":"IF(N367=\"\",\"\",COUNTIF($G$2:$G367,1))","v":""}]
[null,null,null,null,null,null,null,null,null,null,null,null,null,null,{"$f":"IF(N368=\"\",\"\",COUNTIF($G$2:$G368,1))","v":""}]
[null,null,null,null,null,null,null,null,null,null,null,null,null,null,{"$f":"IF(N369=\"\",\"\",COUNTIF($G$2:$G369,1))","v":""}]
[null,null,null,null,null,null,null,null,null,null,null,null,null,null,{"$f":"IF(N370=\"\",\"\",COUNTIF($G$2:$G370,1))","v":""}]
[null,null,null,null,null,null,null,null,null,null,null,null,null,null,{"$f":"IF(N371=\"\",\"\",COUNTIF($G$2:$G371,1))","v":""}]
[null,null,null,null,null,null,null,null,null,null,null,null,null,null,{"$f":"IF(N372=\"\",\"\",COUNTIF($G$2:$G372,1))","v":""}]
[null,null,null,null,null,null,null,null,null,null,null,null,null,null,{"$f":"IF(N373=\"\",\"\",COUNTIF($G$2:$G373,1))","v":""}]
[null,null,null,null,null,null,null,null,null,null,null,null,null,null,{"$f":"IF(N374=\"\",\"\",COUNTIF($G$2:$G374,1))","v":""}]
[null,null,null,null,null,null,null,null,null,null,null,null,null,null,{"$f":"IF(N375=\"\",\"\",COUNTIF($G$2:$G375,1))","v":""}]
[null,null,null,null,null,null,null,null,null,null,null,null,null,null,{"$f":"IF(N376=\"\",\"\",COUNTIF($G$2:$G376,1))","v":""}]
[null,null,null,null,null,null,null,null,null,null,null,null,null,null,{"$f":"IF(N377=\"\",\"\",COUNTIF($G$2:$G377,1))","v":""}]
[null,null,null,null,null,null,null,null,null,null,null,null,null,null,{"$f":"IF(N378=\"\",\"\",COUNTIF($G$2:$G378,1))","v":""}]
[null,null,null,null,null,null,null,null,null,null,null,null,null,null,{"$f":"IF(N379=\"\",\"\",COUNTIF($G$2:$G379,1))","v":""}]
[null,null,null,null,null,null,null,null,null,null,null,null,null,null,{"$f":"IF(N380=\"\",\"\",COUNTIF($G$2:$G380,1))","v":""}]
[null,null,null,null,null,null,null,null,null,null,null,null,null,null,{"$f":"IF(N381=\"\",\"\",COUNTIF($G$2:$G381,1))","v":""}]
[null,null,null,null,null,null,null,null,null,null,null,null,null,null,{"$f":"IF(N382=\"\",\"\",COUNTIF($G$2:$G382,1))","v":""}]
[null,null,null,null,null,null,null,null,null,null,null,null,null,null,{"$f":"IF(N383=\"\",\"\",COUNTIF($G$2:$G383,1))","v":""}]
[null,null,null,null,null,null,null,null,null,null,null,null,null,null,{"$f":"IF(N384=\"\",\"\",COUNTIF($G$2:$G384,1))","v":""}]
[null,null,null,null,null,null,null,null,null,null,null,null,null,null,{"$f":"IF(N385=\"\",\"\",COUNTIF($G$2:$G385,1))","v":""}]
[null,null,null,null,null,null,null,null,null,null,null,null,null,null,{"$f":"IF(N386=\"\",\"\",COUNTIF($G$2:$G386,1))","v":""}]
[null,null,null,null,null,null,null,null,null,null,null,null,null,null,{"$f":"IF(N387=\"\",\"\",COUNTIF($G$2:$G387,1))","v":""}]
[null,null,null,null,null,null,null,null,null,null,null,null,null,null,{"$f":"IF(N388=\"\",\"\",COUNTIF($G$2:$G388,1))","v":""}]
[null,null,null,null,null,null,null,null,null,null,null,null,null,null,{"$f":"IF(N389=\"\",\"\",COUNTIF($G$2:$G389,1))","v":""}]
[null,null,null,null,null,null,null,null,null,null,null,null,null,null,{"$f":"IF(N390=\"\",\"\",COUNTIF($G$2:$G390,1))","v":""}]
[null,null,null,null,null,null,null,null,null,null,null,null,null,null,{"$f":"IF(N391=\"\",\"\",COUNTIF($G$2:$G391,1))","v":""}]
[null,null,null,null,null,null,null,null,null,null,null,null,null,null,{"$f":"IF(N392=\"\",\"\",COUNTIF($G$2:$G392,1))","v":""}]
[null,null,null,null,null,null,null,null,null,null,null,null,null,null,{"$f":"IF(N393=\"\",\"\",COUNTIF($G$2:$G393,1))","v":""}]
[null,null,null,null,null,null,null,null,null,null,null,null,null,null,{"$f":"IF(N394=\"\",\"\",COUNTIF($G$2:$G394,1))","v":""}]
[null,null,null,null,null,null,null,null,null,null,null,null,null,null,{"$f":"IF(N395=\"\",\"\",COUNTIF($G$2:$G395,1))","v":""}]
[null,null,null,null,null,null,null,null,null,null,null,null,null,null,{"$f":"IF(N396=\"\",\"\",COUNTIF($G$2:$G396,1))","v":""}]
[null,null,null,null,null,null,null,null,null,null,null,null,null,null,{"$f":"IF(N397=\"\",\"\",COUNTIF($G$2:$G397,1))","v":""}]
[null,null,null,null,null,null,null,null,null,null,null,null,null,null,{"$f":"IF(N398=\"\",\"\",COUNTIF($G$2:$G398,1))","v":""}]
[null,null,null,null,null,null,null,null,null,null,null,null,null,null,{"$f":"IF(N399=\"\",\"\",COUNTIF($G$2:$G399,1))","v":""}]
[null,null,null,null,null,null,null,null,null,null,null,null,null,null,{"$f":"IF(N400=\"\",\"\",COUNTIF($G$2:$G400,1))","v":""}]
[null,null,null,null,null,null,null,null,null,null,null,null,null,null,{"$f":"IF(N401=\"\",\"\",COUNTIF($G$2:$G401,1))","v":""}]
[null,null,null,null,null,null,null,null,null,null,null,null,null,null,{"$f":"IF(N402=\"\",\"\",COUNTIF($G$2:$G402,1))","v":""}]
[null,null,null,null,null,null,null,null,null,null,null,null,null,null,{"$f":"IF(N403=\"\",\"\",COUNTIF($G$2:$G403,1))","v":""}]
[null,null,null,null,null,null,null,null,null,null,null,null,null,null,{"$f":"IF(N404=\"\",\"\",COUNTIF($G$2:$G404,1))","v":""}]
[null,null,null,null,null,null,null,null,null,null,null,null,null,null,{"$f":"IF(N405=\"\",\"\",COUNTIF($G$2:$G405,1))","v":""}]
[null,null,null,null,null,null,null,null,null,null,null,null,null,null,{"$f":"IF(N406=\"\",\"\",COUNTIF($G$2:$G406,1))","v":""}]
[null,null,null,null,null,null,null,null,null,null,null,null,null,null,{"$f":"IF(N407=\"\",\"\",COUNTIF($G$2:$G407,1))","v":""}]
[null,null,null,null,null,null,null,null,null,null,null,null,null,null,{"$f":"IF(N408=\"\",\"\",COUNTIF($G$2:$G408,1))","v":""}]
[null,null,null,null,null,null,null,null,null,null,null,null,null,null,{"$f":"IF(N409=\"\",\"\",COUNTIF($G$2:$G409,1))","v":""}]
[null,null,null,null,null,null,null,null,null,null,null,null,null,null,{"$f":"IF(N410=\"\",\"\",COUNTIF($G$2:$G410,1))","v":""}]
[null,null,null,null,null,null,null,null,null,null,null,null,null,null,{"$f":"IF(N411=\"\",\"\",COUNTIF($G$2:$G411,1))","v":""}]
[null,null,null,null,null,null,null,null,null,null,null,null,null,null,{"$f":"IF(N412=\"\",\"\",COUNTIF($G$2:$G412,1))","v":""}]
[null,null,null,null,null,null,null,null,null,null,null,null,null,null,{"$f":"IF(N413=\"\",\"\",COUNTIF($G$2:$G413,1))","v":""}]
[null,null,null,null,null,null,null,null,null,null,null,null,null,null,{"$f":"IF(N414=\"\",\"\",COUNTIF($G$2:$G414,1))","v":""}]
[null,null,null,null,null,null,null,null,null,null,null,null,null,null,{"$f":"IF(N415=\"\",\"\",COUNTIF($G$2:$G415,1))","v":""}]
[null,null,null,null,null,null,null,null,null,null,null,null,null,null,{"$f":"IF(N416=\"\",\"\",COUNTIF($G$2:$G416,1))","v":""}]
[null,null,null,null,null,null,null,null,null,null,null,null,null,null,{"$f":"IF(N417=\"\",\"\",COUNTIF($G$2:$G417,1))","v":""}]
[null,null,null,null,null,null,null,null,null,null,null,null,null,null,{"$f":"IF(N418=\"\",\"\",COUNTIF($G$2:$G418,1))","v":""}]
[null,null,null,null,null,null,null,null,null,null,null,null,null,null,{"$f":"IF(N419=\"\",\"\",COUNTIF($G$2:$G419,1))","v":""}]
[null,null,null,null,null,null,null,null,null,null,null,null,null,null,{"$f":"IF(N420=\"\",\"\",COUNTIF($G$2:$G420,1))","v":""}]
[null,null,null,null,null,null,null,null,null,null,null,null,null,null,{"$f":"IF(N421=\"\",\"\",COUNTIF($G$2:$G421,1))","v":""}]
[null,null,null,null,null,null,null,null,null,null,null,null,null,null,{"$f":"IF(N422=\"\",\"\",COUNTIF($G$2:$G422,1))","v":""}]
[null,null,null,null,null,null,null,null,null,null,null,null,null,null,{"$f":"IF(N423=\"\",\"\",COUNTIF($G$2:$G423,1))","v":""}]
[null,null,null,null,null,null,null,null,null,null,null,null,null,null,{"$f":"IF(N424=\"\",\"\",COUNTIF($G$2:$G424,1))","v":""}]
[null,null,null,null,null,null,null,null,null,null,null,null,null,null,{"$f":"IF(N425=\"\",\"\",COUNTIF($G$2:$G425,1))","v":""}]
[null,null,null,null,null,null,null,null,null,null,null,null,null,null,{"$f":"IF(N426=\"\",\"\",COUNTIF($G$2:$G426,1))","v":""}]
[null,null,null,null,null,null,null,null,null,null,null,null,null,null,{"$f":"IF(N427=\"\",\"\",COUNTIF($G$2:$G427,1))","v":""}]
[null,null,null,null,null,null,null,null,null,null,null,null,null,null,{"$f":"IF(N428=\"\",\"\",COUNTIF($G$2:$G428,1))","v":""}]
[null,null,null,null,null,null,null,null,null,null,null,null,null,null,{"$f":"IF(N429=\"\",\"\",COUNTIF($G$2:$G429,1))","v":""}]
[null,null,null,null,null,null,null,null,null,null,null,null,null,null,{"$f":"IF(N430=\"\",\"\",COUNTIF($G$2:$G430,1))","v":""}]
[null,null,null,null,null,null,null,null,null,null,null,null,null,null,{"$f":"IF(N431=\"\",\"\",COUNTIF($G$2:$G431,1))","v":""}]
[null,null,null,null,null,null,null,null,null,null,null,null,null,null,{"$f":"IF(N432=\"\",\"\",COUNTIF($G$2:$G432,1))","v":""}]
[null,null,null,null,null,null,null,null,null,null,null,null,null,null,{"$f":"IF(N433=\"\",\"\",COUNTIF($G$2:$G433,1))","v":""}]
[null,null,null,null,null,null,null,null,null,null,null,null,null,null,{"$f":"IF(N434=\"\",\"\",COUNTIF($G$2:$G434,1))","v":""}]
[null,null,null,null,null,null,null,null,null,null,null,null,null,null,{"$f":"IF(N435=\"\",\"\",COUNTIF($G$2:$G435,1))","v":""}]
[null,null,null,null,null,null,null,null,null,null,null,null,null,null,{"$f":"IF(N436=\"\",\"\",COUNTIF($G$2:$G436,1))","v":""}]
[null,null,null,null,null,null,null,null,null,null,null,null,null,null,{"$f":"IF(N437=\"\",\"\",COUNTIF($G$2:$G437,1))","v":""}]
[null,null,null,null,null,null,null,null,null,null,null,null,null,null,{"$f":"IF(N438=\"\",\"\",COUNTIF($G$2:$G438,1))","v":""}]
[null,null,null,null,null,null,null,null,null,null,null,null,null,null,{"$f":"IF(N439=\"\",\"\",COUNTIF($G$2:$G439,1))","v":""}]
[null,null,null,null,null,null,null,null,null,null,null,null,null,null,{"$f":"IF(N440=\"\",\"\",COUNTIF($G$2:$G440,1))","v":""}]
[null,null,null,null,null,null,null,null,null,null,null,null,null,null,{"$f":"IF(N441=\"\",\"\",COUNTIF($G$2:$G441,1))","v":""}]
[null,null,null,null,null,null,null,null,null,null,null,null,null,null,{"$f":"IF(N442=\"\",\"\",COUNTIF($G$2:$G442,1))","v":""}]
[null,null,null,null,null,null,null,null,null,null,null,null,null,null,{"$f":"IF(N443=\"\",\"\",COUNTIF($G$2:$G443,1))","v":""}]
[null,null,null,null,null,null,null,null,null,null,null,null,null,null,{"$f":"IF(N444=\"\",\"\",COUNTIF($G$2:$G444,1))","v":""}]
[null,null,null,null,null,null,null,null,null,null,null,null,null,null,{"$f":"IF(N445=\"\",\"\",COUNTIF($G$2:$G445,1))","v":""}]
[null,null,null,null,null,null,null,null,null,null,null,null,null,null,{"$f":"IF(N446=\"\",\"\",COUNTIF($G$2:$G446,1))","v":""}]
[null,null,null,null,null,null,null,null,null,null,null,null,null,null,{"$f":"IF(N447=\"\",\"\",COUNTIF($G$2:$G447,1))","v":""}]
[null,null,null,null,null,null,null,null,null,null,null,null,null,null,{"$f":"IF(N448=\"\",\"\",COUNTIF($G$2:$G448,1))","v":""}]
[null,null,null,null,null,null,null,null,null,null,null,null,null,null,{"$f":"IF(N449=\"\",\"\",COUNTIF($G$2:$G449,1))","v":""}]
[null,null,null,null,null,null,null,null,null,null,null,null,null,null,{"$f":"IF(N450=\"\",\"\",COUNTIF($G$2:$G450,1))","v":""}]
[null,null,null,null,null,null,null,null,null,null,null,null,null,null,{"$f":"IF(N451=\"\",\"\",COUNTIF($G$2:$G451,1))","v":""}]
[null,null,null,null,null,null,null,null,null,null,null,null,null,null,{"$f":"IF(N452=\"\",\"\",COUNTIF($G$2:$G452,1))","v":""}]
[null,null,null,null,null,null,null,null,null,null,null,null,null,null,{"$f":"IF(N453=\"\",\"\",COUNTIF($G$2:$G453,1))","v":""}]
[null,null,null,null,null,null,null,null,null,null,null,null,null,null,{"$f":"IF(N454=\"\",\"\",COUNTIF($G$2:$G454,1))","v":""}]
[null,null,null,null,null,null,null,null,null,null,null,null,null,null,{"$f":"IF(N455=\"\",\"\",COUNTIF($G$2:$G455,1))","v":""}]
[null,null,null,null,null,null,null,null,null,null,null,null,null,null,{"$f":"IF(N456=\"\",\"\",COUNTIF($G$2:$G456,1))","v":""}]
[null,null,null,null,null,null,null,null,null,null,null,null,null,null,{"$f":"IF(N457=\"\",\"\",COUNTIF($G$2:$G457,1))","v":""}]
[null,null,null,null,null,null,null,null,null,null,null,null,null,null,{"$f":"IF(N458=\"\",\"\",COUNTIF($G$2:$G458,1))","v":""}]
[null,null,null,null,null,null,null,null,null,null,null,null,null,null,{"$f":"IF(N459=\"\",\"\",COUNTIF($G$2:$G459,1))","v":""}]
[null,null,null,null,null,null,null,null,null,null,null,null,null,null,{"$f":"IF(N460=\"\",\"\",COUNTIF($G$2:$G460,1))","v":""}]
[null,null,null,null,null,null,null,null,null,null,null,null,null,null,{"$f":"IF(N461=\"\",\"\",COUNTIF($G$2:$G461,1))","v":""}]
[null,null,null,null,null,null,null,null,null,null,null,null,null,null,{"$f":"IF(N462=\"\",\"\",COUNTIF($G$2:$G462,1))","v":""}]
[null,null,null,null,null,null,null,null,null,null,null,null,null,null,{"$f":"IF(N463=\"\",\"\",COUNTIF($G$2:$G463,1))","v":""}]
[null,null,null,null,null,null,null,null,null,null,null,null,null,null,{"$f":"IF(N464=\"\",\"\",COUNTIF($G$2:$G464,1))","v":""}]
[null,null,null,null,null,null,null,null,null,null,null,null,null,null,{"$f":"IF(N465=\"\",\"\",COUNTIF($G$2:$G465,1))","v":""}]
[null,null,null,null,null,null,null,null,null,null,null,null,null,null,{"$f":"IF(N466=\"\",\"\",COUNTIF($G$2:$G466,1))","v":""}]
[null,null,null,null,null,null,null,null,null,null,null,null,null,null,{"$f":"IF(N467=\"\",\"\",COUNTIF($G$2:$G467,1))","v":""}]
[null,null,null,null,null,null,null,null,null,null,null,null,null,null,{"$f":"IF(N468=\"\",\"\",COUNTIF($G$2:$G468,1))","v":""}]
[null,null,null,null,null,null,null,null,null,null,null,null,null,null,{"$f":"IF(N469=\"\",\"\",COUNTIF($G$2:$G469,1))","v":""}]
[null,null,null,null,null,null,null,null,null,null,null,null,null,null,{"$f":"IF(N470=\"\",\"\",COUNTIF($G$2:$G470,1))","v":""}]
[null,null,null,null,null,null,null,null,null,null,null,null,null,null,{"$f":"IF(N471=\"\",\"\",COUNTIF($G$2:$G471,1))","v":""}]
[null,null,null,null,null,null,null,null,null,null,null,null,null,null,{"$f":"IF(N472=\"\",\"\",COUNTIF($G$2:$G472,1))","v":""}]
[null,null,null,null,null,null,null,null,null,null,null,null,null,null,{"$f":"IF(N473=\"\",\"\",COUNTIF($G$2:$G473,1))","v":""}]
[null,null,null,null,null,null,null,null,null,null,null,null,null,null,{"$f":"IF(N474=\"\",\"\",COUNTIF($G$2:$G474,1))","v":""}]
[null,null,null,null,null,null,null,null,null,null,null,null,null,null,{"$f":"IF(N475=\"\",\"\",COUNTIF($G$2:$G475,1))","v":""}]
[null,null,null,null,null,null,null,null,null,null,null,null,null,null,{"$f":"IF(N476=\"\",\"\",COUNTIF($G$2:$G476,1))","v":""}]
[null,null,null,null,null,null,null,null,null,null,null,null,null,null,{"$f":"IF(N477=\"\",\"\",COUNTIF($G$2:$G477,1))","v":""}]
[null,null,null,null,null,null,null,null,null,null,null,null,null,null,{"$f":"IF(N478=\"\",\"\",COUNTIF($G$2:$G478,1))","v":""}]
[null,null,null,null,null,null,null,null,null,null,null,null,null,null,{"$f":"IF(N479=\"\",\"\",COUNTIF($G$2:$G479,1))","v":""}]
[null,null,null,null,null,null,null,null,null,null,null,null,null,null,{"$f":"IF(N480=\"\",\"\",COUNTIF($G$2:$G480,1))","v":""}]
[null,null,null,null,null,null,null,null,null,null,null,null,null,null,{"$f":"IF(N481=\"\",\"\",COUNTIF($G$2:$G481,1))","v":""}]
[null,null,null,null,null,null,null,null,null,null,null,null,null,null,{"$f":"IF(N482=\"\",\"\",COUNTIF($G$2:$G482,1))","v":""}]
[null,null,null,null,null,null,null,null,null,null,null,null,null,null,{"$f":"IF(N483=\"\",\"\",COUNTIF($G$2:$G483,1))","v":""}]
[null,null,null,null,null,null,null,null,null,null,null,null,null,null,{"$f":"IF(N484=\"\",\"\",COUNTIF($G$2:$G484,1))","v":""}]
[null,null,null,null,null,null,null,null,null,null,null,null,null,null,{"$f":"IF(N485=\"\",\"\",COUNTIF($G$2:$G485,1))","v":""}]
[null,null,null,null,null,null,null,null,null,null,null,null,null,null,{"$f":"IF(N486=\"\",\"\",COUNTIF($G$2:$G486,1))","v":""}]
[null,null,null,null,null,null,null,null,null,null,null,null,null,null,{"$f":"IF(N487=\"\",\"\",COUNTIF($G$2:$G487,1))","v":""}]
[null,null,null,null,null,null,null,null,null,null,null,null,null,null,{"$f":"IF(N488=\"\",\"\",COUNTIF($G$2:$G488,1))","v":""}]
[null,null,null,null,null,null,null,null,null,null,null,null,null,null,{"$f":"IF(N489=\"\",\"\",COUNTIF($G$2:$G489,1))","v":""}]
[null,null,null,null,null,null,null,null,null,null,null,null,null,null,{"$f":"IF(N490=\"\",\"\",COUNTIF($G$2:$G490,1))","v":""}]
[null,null,null,null,null,null,null,null,null,null,null,null,null,null,{"$f":"IF(N491=\"\",\"\",COUNTIF($G$2:$G491,1))","v":""}]
[null,null,null,null,null,null,null,null,null,null,null,null,null,null,{"$f":"IF(N492=\"\",\"\",COUNTIF($G$2:$G492,1))","v":""}]
[null,null,null,null,null,null,null,null,null,null,null,null,null,null,{"$f":"IF(N493=\"\",\"\",COUNTIF($G$2:$G493,1))","v":""}]
[null,null,null,null,null,null,null,null,null,null,null,null,null,null,{"$f":"IF(N494=\"\",\"\",COUNTIF($G$2:$G494,1))","v":""}]
[null,null,null,null,null,null,null,null,null,null,null,null,null,null,{"$f":"IF(N495=\"\",\"\",COUNTIF($G$2:$G495,1))","v":""}]
[null,null,null,null,null,null,null,null,null,null,null,null,null,null,{"$f":"IF(N496=\"\",\"\",COUNTIF($G$2:$G496,1))","v":""}]
[null,null,null,null,null,null,null,null,null,null,null,null,null,null,{"$f":"IF(N497=\"\",\"\",COUNTIF($G$2:$G497,1))","v":""}]
[null,null,null,null,null,null,null,null,null,null,null,null,null,null,{"$f":"IF(N498=\"\",\"\",COUNTIF($G$2:$G498,1))","v":""}]
[null,null,null,null,null,null,null,null,null,null,null,null,null,null,{"$f":"IF(N499=\"\",\"\",COUNTIF($G$2:$G499,1))","v":""}]
[null,null,null,null,null,null,null,null,null,null,null,null,null,null,{"$f":"IF(N500=\"\",\"\",COUNTIF($G$2:$G500,1))","v":""}]
[null,null,null,null,null,null,null,null,null,null,null,null,null,null,{"$f":"IF(N501=\"\",\"\",COUNTIF($G$2:$G501,1))","v":""}]
[null,null,null,null,null,null,null,null,null,null,null,null,null,null,{"$f":"IF(N502=\"\",\"\",COUNTIF($G$2:$G502,1))","v":""}]
[null,null,null,null,null,null,null,null,null,null,null,null,null,null,{"$f":"IF(N503=\"\",\"\",COUNTIF($G$2:$G503,1))","v":""}]
[null,null,null,null,null,null,null,null,null,null,null,null,null,null,{"$f":"IF(N504=\"\",\"\",COUNTIF($G$2:$G504,1))","v":""}]
[null,null,null,null,null,null,null,null,null,null,null,null,null,null,{"$f":"IF(N505=\"\",\"\",COUNTIF($G$2:$G505,1))","v":""}]
[null,null,null,null,null,null,null,null,null,null,null,null,null,null,{"$f":"IF(N506=\"\",\"\",COUNTIF($G$2:$G506,1))","v":""}]
[null,null,null,null,null,null,null,null,null,null,null,null,null,null,{"$f":"IF(N507=\"\",\"\",COUNTIF($G$2:$G507,1))","v":""}]
[null,null,null,null,null,null,null,null,null,null,null,null,null,null,{"$f":"IF(N508=\"\",\"\",COUNTIF($G$2:$G508,1))","v":""}]
[null,null,null,null,null,null,null,null,null,null,null,null,null,null,{"$f":"IF(N509=\"\",\"\",COUNTIF($G$2:$G509,1))","v":""}]
[null,null,null,null,null,null,null,null,null,null,null,null,null,null,{"$f":"IF(N510=\"\",\"\",COUNTIF($G$2:$G510,1))","v":""}]
[null,null,null,null,null,null,null,null,null,null,null,null,null,null,{"$f":"IF(N511=\"\",\"\",COUNTIF($G$2:$G511,1))","v":""}]
[null,null,null,null,null,null,null,null,null,null,null,null,null,null,{"$f":"IF(N512=\"\",\"\",COUNTIF($G$2:$G512,1))","v":""}]
[null,null,null,null,null,null,null,null,null,null,null,null,null,null,{"$f":"IF(N513=\"\",\"\",COUNTIF($G$2:$G513,1))","v":""}]
[null,null,null,null,null,null,null,null,null,null,null,null,null,null,{"$f":"IF(N514=\"\",\"\",COUNTIF($G$2:$G514,1))","v":""}]
[null,null,null,null,null,null,null,null,null,null,null,null,null,null,{"$f":"IF(N515=\"\",\"\",COUNTIF($G$2:$G515,1))","v":""}]
[null,null,null,null,null,null,null,null,null,null,null,null,null,null,{"$f":"IF(N516=\"\",\"\",COUNTIF($G$2:$G516,1))","v":""}]
[null,null,null,null,null,null,null,null,null,null,null,null,null,null,{"$f":"IF(N517=\"\",\"\",COUNTIF($G$2:$G517,1))","v":""}]
[null,null,null,null,null,null,null,null,null,null,null,null,null,null,{"$f":"IF(N518=\"\",\"\",COUNTIF($G$2:$G518,1))","v":""}]
[null,null,null,null,null,null,null,null,null,null,null,null,null,null,{"$f":"IF(N519=\"\",\"\",COUNTIF($G$2:$G519,1))","v":""}]
[null,null,null,null,null,null,null,null,null,null,null,null,null,null,{"$f":"IF(N520=\"\",\"\",COUNTIF($G$2:$G520,1))","v":""}]
[null,null,null,null,null,null,null,null,null,null,null,null,null,null,{"$f":"IF(N521=\"\",\"\",COUNTIF($G$2:$G521,1))","v":""}]
[null,null,null,null,null,null,null,null,null,null,null,null,null,null,{"$f":"IF(N522=\"\",\"\",COUNTIF($G$2:$G522,1))","v":""}]
[null,null,null,null,null,null,null,null,null,null,null,null,null,null,{"$f":"IF(N523=\"\",\"\",COUNTIF($G$2:$G523,1))","v":""}]
[null,null,null,null,null,null,null,null,null,null,null,null,null,null,{"$f":"IF(N524=\"\",\"\",COUNTIF($G$2:$G524,1))","v":""}]
[null,null,null,null,null,null,null,null,null,null,null,null,null,null,{"$f":"IF(N525=\"\",\"\",COUNTIF($G$2:$G525,1))","v":""}]
[null,null,null,null,null,null,null,null,null,null,null,null,null,null,{"$f":"IF(N526=\"\",\"\",COUNTIF($G$2:$G526,1))","v":""}]
[null,null,null,null,null,null,null,null,null,null,null,null,null,null,{"$f":"IF(N527=\"\",\"\",COUNTIF($G$2:$G527,1))","v":""}]
[null,null,null,null,null,null,null,null,null,null,null,null,null,null,{"$f":"IF(N528=\"\",\"\",COUNTIF($G$2:$G528,1))","v":""}]
[null,null,null,null,null,null,null,null,null,null,null,null,null,null,{"$f":"IF(N529=\"\",\"\",COUNTIF($G$2:$G529,1))","v":""}]
[null,null,null,null,null,null,null,null,null,null,null,null,null,null,{"$f":"IF(N530=\"\",\"\",COUNTIF($G$2:$G530,1))","v":""}]
[null,null,null,null,null,null,null,null,null,null,null,null,null,null,{"$f":"IF(N531=\"\",\"\",COUNTIF($G$2:$G531,1))","v":""}]
[null,null,null,null,null,null,null,null,null,null,null,null,null,null,{"$f":"IF(N532=\"\",\"\",COUNTIF($G$2:$G532,1))","v":""}]
[null,null,null,null,null,null,null,null,null,null,null,null,null,null,{"$f":"IF(N533=\"\",\"\",COUNTIF($G$2:$G533,1))","v":""}]
[null,null,null,null,null,null,null,null,null,null,null,null,null,null,{"$f":"IF(N534=\"\",\"\",COUNTIF($G$2:$G534,1))","v":""}]
[null,null,null,null,null,null,null,null,null,null,null,null,null,null,{"$f":"IF(N535=\"\",\"\",COUNTIF($G$2:$G535,1))","v":""}]
[null,null,null,null,null,null,null,null,null,null,null,null,null,null,{"$f":"IF(N536=\"\",\"\",COUNTIF($G$2:$G536,1))","v":""}]
[null,null,null,null,null,null,null,null,null,null,null,null,null,null,{"$f":"IF(N537=\"\",\"\",COUNTIF($G$2:$G537,1))","v":""}]
[null,null,null,null,null,null,null,null,null,null,null,null,null,null,{"$f":"IF(N538=\"\",\"\",COUNTIF($G$2:$G538,1))","v":""}]
[null,null,null,null,null,null,null,null,null,null,null,null,null,null,{"$f":"IF(N539=\"\",\"\",COUNTIF($G$2:$G539,1))","v":""}]
[null,null,null,null,null,null,null,null,null,null,null,null,null,null,{"$f":"IF(N540=\"\",\"\",COUNTIF($G$2:$G540,1))","v":""}]
[null,null,null,null,null,null,null,null,null,null,null,null,null,null,{"$f":"IF(N541=\"\",\"\",COUNTIF($G$2:$G541,1))","v":""}]
[null,null,null,null,null,null,null,null,null,null,null,null,null,null,{"$f":"IF(N542=\"\",\"\",COUNTIF($G$2:$G542,1))","v":""}]
[null,null,null,null,null,null,null,null,null,null,null,null,null,null,{"$f":"IF(N543=\"\",\"\",COUNTIF($G$2:$G543,1))","v":""}]
[null,null,null,null,null,null,null,null,null,null,null,null,null,null,{"$f":"IF(N544=\"\",\"\",COUNTIF($G$2:$G544,1))","v":""}]
[null,null,null,null,null,null,null,null,null,null,null,null,null,null,{"$f":"IF(N545=\"\",\"\",COUNTIF($G$2:$G545,1))","v":""}]
[null,null,null,null,null,null,null,null,null,null,null,null,null,null,{"$f":"IF(N546=\"\",\"\",COUNTIF($G$2:$G546,1))","v":""}]
[null,null,null,null,null,null,null,null,null,null,null,null,null,null,{"$f":"IF(N547=\"\",\"\",COUNTIF($G$2:$G547,1))","v":""}]
[null,null,null,null,null,null,null,null,null,null,null,null,null,null,{"$f":"IF(N548=\"\",\"\",COUNTIF($G$2:$G548,1))","v":""}]
[null,null,null,null,null,null,null,null,null,null,null,null,null,null,{"$f":"IF(N549=\"\",\"\",COUNTIF($G$2:$G549,1))","v":""}]
[null,null,null,null,null,null,null,null,null,null,null,null,null,null,{"$f":"IF(N550=\"\",\"\",COUNTIF($G$2:$G550,1))","v":""}]
[null,null,null,null,null,null,null,null,null,null,null,null,null,null,{"$f":"IF(N551=\"\",\"\",COUNTIF($G$2:$G551,1))","v":""}]
[null,null,null,null,null,null,null,null,null,null,null,null,null,null,{"$f":"IF(N552=\"\",\"\",COUNTIF($G$2:$G552,1))","v":""}]
[null,null,null,null,null,null,null,null,null,null,null,null,null,null,{"$f":"IF(N553=\"\",\"\",COUNTIF($G$2:$G553,1))","v":""}]
[null,null,null,null,null,null,null,null,null,null,null,null,null,null,{"$f":"IF(N554=\"\",\"\",COUNTIF($G$2:$G554,1))","v":""}]
[null,null,null,null,null,null,null,null,null,null,null,null,null,null,{"$f":"IF(N555=\"\",\"\",COUNTIF($G$2:$G555,1))","v":""}]
[null,null,null,null,null,null,null,null,null,null,null,null,null,null,{"$f":"IF(N556=\"\",\"\",COUNTIF($G$2:$G556,1))","v":""}]
[null,null,null,null,null,null,null,null,null,null,null,null,null,null,{"$f":"IF(N557=\"\",\"\",COUNTIF($G$2:$G557,1))","v":""}]
[null,null,null,null,null,null,null,null,null,null,null,null,null,null,{"$f":"IF(N558=\"\",\"\",COUNTIF($G$2:$G558,1))","v":""}]
[null,null,null,null,null,null,null,null,null,null,null,null,null,null,{"$f":"IF(N559=\"\",\"\",COUNTIF($G$2:$G559,1))","v":""}]
[null,null,null,null,null,null,null,null,null,null,null,null,null,null,{"$f":"IF(N560=\"\",\"\",COUNTIF($G$2:$G560,1))","v":""}]
[null,null,null,null,null,null,null,null,null,null,null,null,null,null,{"$f":"IF(N561=\"\",\"\",COUNTIF($G$2:$G561,1))","v":""}]
[null,null,null,null,null,null,null,null,null,null,null,null,null,null,{"$f":"IF(N562=\"\",\"\",COUNTIF($G$2:$G562,1))","v":""}]
[null,null,null,null,null,null,null,null,null,null,null,null,null,null,{"$f":"IF(N563=\"\",\"\",COUNTIF($G$2:$G563,1))","v":""}]
[null,null,null,null,null,null,null,null,null,null,null,null,null,null,{"$f":"IF(N564=\"\",\"\",COUNTIF($G$2:$G564,1))","v":""}]
[null,null,null,null,null,null,null,null,null,null,null,null,null,null,{"$f":"IF(N565=\"\",\"\",COUNTIF($G$2:$G565,1))","v":""}]
[null,null,null,null,null,null,null,null,null,null,null,null,null,null,{"$f":"IF(N566=\"\",\"\",COUNTIF($G$2:$G566,1))","v":""}]
[null,null,null,null,null,null,null,null,null,null,null,null,null,null,{"$f":"IF(N567=\"\",\"\",COUNTIF($G$2:$G567,1))","v":""}]
[null,null,null,null,null,null,null,null,null,null,null,null,null,null,{"$f":"IF(N568=\"\",\"\",COUNTIF($G$2:$G568,1))","v":""}]
[null,null,null,null,null,null,null,null,null,null,null,null,null,null,{"$f":"IF(N569=\"\",\"\",COUNTIF($G$2:$G569,1))","v":""}]
[null,null,null,null,null,null,null,null,null,null,null,null,null,null,{"$f":"IF(N570=\"\",\"\",COUNTIF($G$2:$G570,1))","v":""}]
[null,null,null,null,null,null,null,null,null,null,null,null,null,null,{"$f":"IF(N571=\"\",\"\",COUNTIF($G$2:$G571,1))","v":""}]
[null,null,null,null,null,null,null,null,null,null,null,null,null,null,{"$f":"IF(N572=\"\",\"\",COUNTIF($G$2:$G572,1))","v":""}]
[null,null,null,null,null,null,null,null,null,null,null,null,null,null,{"$f":"IF(N573=\"\",\"\",COUNTIF($G$2:$G573,1))","v":""}]
[null,null,null,null,null,null,null,null,null,null,null,null,null,null,{"$f":"IF(N574=\"\",\"\",COUNTIF($G$2:$G574,1))","v":""}]
[null,null,null,null,null,null,null,null,null,null,null,null,null,null,{"$f":"IF(N575=\"\",\"\",COUNTIF($G$2:$G575,1))","v":""}]
[null,null,null,null,null,null,null,null,null,null,null,null,null,null,{"$f":"IF(N576=\"\",\"\",COUNTIF($G$2:$G576,1))","v":""}]
[null,null,null,null,null,null,null,null,null,null,null,null,null,null,{"$f":"IF(N577=\"\",\"\",COUNTIF($G$2:$G577,1))","v":""}]
[null,null,null,null,null,null,null,null,null,null,null,null,null,null,{"$f":"IF(N578=\"\",\"\",COUNTIF($G$2:$G578,1))","v":""}]
[null,null,null,null,null,null,null,null,null,null,null,null,null,null,{"$f":"IF(N579=\"\",\"\",COUNTIF($G$2:$G579,1))","v":""}]
[null,null,null,null,null,null,null,null,null,null,null,null,null,null,{"$f":"IF(N580=\"\",\"\",COUNTIF($G$2:$G580,1))","v":""}]
[null,null,null,null,null,null,null,null,null,null,null,null,null,null,{"$f":"IF(N581=\"\",\"\",COUNTIF($G$2:$G581,1))","v":""}]
[null,null,null,null,null,null,null,null,null,null,null,null,null,null,{"$f":"IF(N582=\"\",\"\",COUNTIF($G$2:$G582,1))","v":""}]
[null,null,null,null,null,null,null,null,null,null,null,null,null,null,{"$f":"IF(N583=\"\",\"\",COUNTIF($G$2:$G583,1))","v":""}]
[null,null,null,null,null,null,null,null,null,null,null,null,null,null,{"$f":"IF(N584=\"\",\"\",COUNTIF($G$2:$G584,1))","v":""}]
[null,null,null,null,null,null,null,null,null,null,null,null,null,null,{"$f":"IF(N585=\"\",\"\",COUNTIF($G$2:$G585,1))","v":""}]
[null,null,null,null,null,null,null,null,null,null,null,null,null,null,{"$f":"IF(N586=\"\",\"\",COUNTIF($G$2:$G586,1))","v":""}]
[null,null,null,null,null,null,null,null,null,null,null,null,null,null,{"$f":"IF(N587=\"\",\"\",COUNTIF($G$2:$G587,1))","v":""}]
[null,null,null,null,null,null,null,null,null,null,null,null,null,null,{"$f":"IF(N588=\"\",\"\",COUNTIF($G$2:$G588,1))","v":""}]
[null,null,null,null,null,null,null,null,null,null,null,null,null,null,{"$f":"IF(N589=\"\",\"\",COUNTIF($G$2:$G589,1))","v":""}]
[null,null,null,null,null,null,null,null,null,null,null,null,null,null,{"$f":"IF(N590=\"\",\"\",COUNTIF($G$2:$G590,1))","v":""}]
[null,null,null,null,null,null,null,null,null,null,null,null,null,null,{"$f":"IF(N591=\"\",\"\",COUNTIF($G$2:$G591,1))","v":""}]
[null,null,null,null,null,null,null,null,null,null,null,null,null,null,{"$f":"IF(N592=\"\",\"\",COUNTIF($G$2:$G592,1))","v":""}]
[null,null,null,null,null,null,null,null,null,null,null,null,null,null,{"$f":"IF(N593=\"\",\"\",COUNTIF($G$2:$G593,1))","v":""}]
[null,null,null,null,null,null,null,null,null,null,null,null,null,null,{"$f":"IF(N594=\"\",\"\",COUNTIF($G$2:$G594,1))","v":""}]
[null,null,null,null,null,null,null,null,null,null,null,null,null,null,{"$f":"IF(N595=\"\",\"\",COUNTIF($G$2:$G595,1))","v":""}]
[null,null,null,null,null,null,null,null,null,null,null,null,null,null,{"$f":"IF(N596=\"\",\"\",COUNTIF($G$2:$G596,1))","v":""}]
[null,null,null,null,null,null,null,null,null,null,null,null,null,null,{"$f":"IF(N597=\"\",\"\",COUNTIF($G$2:$G597,1))","v":""}]
[null,null,null,null,null,null,null,null,null,null,null,null,null,null,{"$f":"IF(N598=\"\",\"\",COUNTIF($G$2:$G598,1))","v":""}]
[null,null,null,null,null,null,null,null,null,null,null,null,null,null,{"$f":"IF(N599=\"\",\"\",COUNTIF($G$2:$G599,1))","v":""}]
[null,null,null,null,null,null,null,null,null,null,null,null,null,null,{"$f":"IF(N600=\"\",\"\",COUNTIF($G$2:$G600,1))","v":""}]
[null,null,null,null,null,null,null,null,null,null,null,null,null,null,{"$f":"IF(N601=\"\",\"\",COUNTIF($G$2:$G601,1))","v":""}]
[null,null,null,null,null,null,null,null,null,null,null,null,null,null,{"$f":"IF(N602=\"\",\"\",COUNTIF($G$2:$G602,1))","v":""}]
[null,null,null,null,null,null,null,null,null,null,null,null,null,null,{"$f":"IF(N603=\"\",\"\",COUNTIF($G$2:$G603,1))","v":""}]
[null,null,null,null,null,null,null,null,null,null,null,null,null,null,{"$f":"IF(N604=\"\",\"\",COUNTIF($G$2:$G604,1))","v":""}]
[null,null,null,null,null,null,null,null,null,null,null,null,null,null,{"$f":"IF(N605=\"\",\"\",COUNTIF($G$2:$G605,1))","v":""}]
[null,null,null,null,null,null,null,null,null,null,null,null,null,null,{"$f":"IF(N606=\"\",\"\",COUNTIF($G$2:$G606,1))","v":""}]
[null,null,null,null,null,null,null,null,null,null,null,null,null,null,{"$f":"IF(N607=\"\",\"\",COUNTIF($G$2:$G607,1))","v":""}]
[null,null,null,null,null,null,null,null,null,null,null,null,null,null,{"$f":"IF(N608=\"\",\"\",COUNTIF($G$2:$G608,1))","v":""}]
[null,null,null,null,null,null,null,null,null,null,null,null,null,null,{"$f":"IF(N609=\"\",\"\",COUNTIF($G$2:$G609,1))","v":""}]
[null,null,null,null,null,null,null,null,null,null,null,null,null,null,{"$f":"IF(N610=\"\",\"\",COUNTIF($G$2:$G610,1))","v":""}]
[null,null,null,null,null,null,null,null,null,null,null,null,null,null,{"$f":"IF(N611=\"\",\"\",COUNTIF($G$2:$G611,1))","v":""}]
[null,null,null,null,null,null,null,null,null,null,null,null,null,null,{"$f":"IF(N612=\"\",\"\",COUNTIF($G$2:$G612,1))","v":""}]
[null,null,null,null,null,null,null,null,null,null,null,null,null,null,{"$f":"IF(N613=\"\",\"\",COUNTIF($G$2:$G613,1))","v":""}]
[null,null,null,null,null,null,null,null,null,null,null,null,null,null,{"$f":"IF(N614=\"\",\"\",COUNTIF($G$2:$G614,1))","v":""}]
[null,null,null,null,null,null,null,null,null,null,null,null,null,null,{"$f":"IF(N615=\"\",\"\",COUNTIF($G$2:$G615,1))","v":""}]
[null,null,null,null,null,null,null,null,null,null,null,null,null,null,{"$f":"IF(N616=\"\",\"\",COUNTIF($G$2:$G616,1))","v":""}]
[null,null,null,null,null,null,null,null,null,null,null,null,null,null,{"$f":"IF(N617=\"\",\"\",COUNTIF($G$2:$G617,1))","v":""}]
[null,null,null,null,null,null,null,null,null,null,null,null,null,null,{"$f":"IF(N618=\"\",\"\",COUNTIF($G$2:$G618,1))","v":""}]
[null,null,null,null,null,null,null,null,null,null,null,null,null,null,{"$f":"IF(N619=\"\",\"\",COUNTIF($G$2:$G619,1))","v":""}]
[null,null,null,null,null,null,null,null,null,null,null,null,null,null,{"$f":"IF(N620=\"\",\"\",COUNTIF($G$2:$G620,1))","v":""}]
[null,null,null,null,null,null,null,null,null,null,null,null,null,null,{"$f":"IF(N621=\"\",\"\",COUNTIF($G$2:$G621,1))","v":""}]
[null,null,null,null,null,null,null,null,null,null,null,null,null,null,{"$f":"IF(N622=\"\",\"\",COUNTIF($G$2:$G622,1))","v":""}]
[null,null,null,null,null,null,null,null,null,null,null,null,null,null,{"$f":"IF(N623=\"\",\"\",COUNTIF($G$2:$G623,1))","v":""}]
[null,null,null,null,null,null,null,null,null,null,null,null,null,null,{"$f":"IF(N624=\"\",\"\",COUNTIF($G$2:$G624,1))","v":""}]
[null,null,null,null,null,null,null,null,null,null,null,null,null,null,{"$f":"IF(N625=\"\",\"\",COUNTIF($G$2:$G625,1))","v":""}]
[null,null,null,null,null,null,null,null,null,null,null,null,null,null,{"$f":"IF(N626=\"\",\"\",COUNTIF($G$2:$G626,1))","v":""}]
[null,null,null,null,null,null,null,null,null,null,null,null,null,null,{"$f":"IF(N627=\"\",\"\",COUNTIF($G$2:$G627,1))","v":""}]
[null,null,null,null,null,null,null,null,null,null,null,null,null,null,{"$f":"IF(N628=\"\",\"\",COUNTIF($G$2:$G628,1))","v":""}]
[null,null,null,null,null,null,null,null,null,null,null,null,null,null,{"$f":"IF(N629=\"\",\"\",COUNTIF($G$2:$G629,1))","v":""}]
[null,null,null,null,null,null,null,null,null,null,null,null,null,null,{"$f":"IF(N630=\"\",\"\",COUNTIF($G$2:$G630,1))","v":""}]
[null,null,null,null,null,null,null,null,null,null,null,null,null,null,{"$f":"IF(N631=\"\",\"\",COUNTIF($G$2:$G631,1))","v":""}]
[null,null,null,null,null,null,null,null,null,null,null,null,null,null,{"$f":"IF(N632=\"\",\"\",COUNTIF($G$2:$G632,1))","v":""}]
[null,null,null,null,null,null,null,null,null,null,null,null,null,null,{"$f":"IF(N633=\"\",\"\",COUNTIF($G$2:$G633,1))","v":""}]
[null,null,null,null,null,null,null,null,null,null,null,null,null,null,{"$f":"IF(N634=\"\",\"\",COUNTIF($G$2:$G634,1))","v":""}]
[null,null,null,null,null,null,null,null,null,null,null,null,null,null,{"$f":"IF(N635=\"\",\"\",COUNTIF($G$2:$G635,1))","v":""}]
[null,null,null,null,null,null,null,null,null,null,null,null,null,null,{"$f":"IF(N636=\"\",\"\",COUNTIF($G$2:$G636,1))","v":""}]
[null,null,null,null,null,null,null,null,null,null,null,null,null,null,{"$f":"IF(N637=\"\",\"\",COUNTIF($G$2:$G637,1))","v":""}]
[null,null,null,null,null,null,null,null,null,null,null,null,null,null,{"$f":"IF(N638=\"\",\"\",COUNTIF($G$2:$G638,1))","v":""}]
[null,null,null,null,null,null,null,null,null,null,null,null,null,null,{"$f":"IF(N639=\"\",\"\",COUNTIF($G$2:$G639,1))","v":""}]
[null,null,null,null,null,null,null,null,null,null,null,null,null,null,{"$f":"IF(N640=\"\",\"\",COUNTIF($G$2:$G640,1))","v":""}]
[null,null,null,null,null,null,null,null,null,null,null,null,null,null,{"$f":"IF(N641=\"\",\"\",COUNTIF($G$2:$G641,1))","v":""}]
[null,null,null,null,null,null,null,null,null,null,null,null,null,null,{"$f":"IF(N642=\"\",\"\",COUNTIF($G$2:$G642,1))","v":""}]
[null,null,null,null,null,null,null,null,null,null,null,null,null,null,{"$f":"IF(N643=\"\",\"\",COUNTIF($G$2:$G643,1))","v":""}]
[null,null,null,null,null,null,null,null,null,null,null,null,null,null,{"$f":"IF(N644=\"\",\"\",COUNTIF($G$2:$G644,1))","v":""}]
[null,null,null,null,null,null,null,null,null,null,null,null,null,null,{"$f":"IF(N645=\"\",\"\",COUNTIF($G$2:$G645,1))","v":""}]
[null,null,null,null,null,null,null,null,null,null,null,null,null,null,{"$f":"IF(N646=\"\",\"\",COUNTIF($G$2:$G646,1))","v":""}]
[null,null,null,null,null,null,null,null,null,null,null,null,null,null,{"$f":"IF(N647=\"\",\"\",COUNTIF($G$2:$G647,1))","v":""}]
[null,null,null,null,null,null,null,null,null,null,null,null,null,null,{"$f":"IF(N648=\"\",\"\",COUNTIF($G$2:$G648,1))","v":""}]
[null,null,null,null,null,null,null,null,null,null,null,null,null,null,{"$f":"IF(N649=\"\",\"\",COUNTIF($G$2:$G649,1))","v":""}]
[null,null,null,null,null,null,null,null,null,null,null,null,null,null,{"$f":"IF(N650=\"\",\"\",COUNTIF($G$2:$G650,1))","v":""}]
[null,null,null,null,null,null,null,null,null,null,null,null,null,null,{"$f":"IF(N651=\"\",\"\",COUNTIF($G$2:$G651,1))","v":""}]
[null,null,null,null,null,null,null,null,null,null,null,null,null,null,{"$f":"IF(N652=\"\",\"\",COUNTIF($G$2:$G652,1))","v":""}]
[null,null,null,null,null,null,null,null,null,null,null,null,null,null,{"$f":"IF(N653=\"\",\"\",COUNTIF($G$2:$G653,1))","v":""}]
[null,null,null,null,null,null,null,null,null,null,null,null,null,null,{"$f":"IF(N654=\"\",\"\",COUNTIF($G$2:$G654,1))","v":""}]
[null,null,null,null,null,null,null,null,null,null,null,null,null,null,{"$f":"IF(N655=\"\",\"\",COUNTIF($G$2:$G655,1))","v":""}]
[null,null,null,null,null,null,null,null,null,null,null,null,null,null,{"$f":"IF(N656=\"\",\"\",COUNTIF($G$2:$G656,1))","v":""}]
[null,null,null,null,null,null,null,null,null,null,null,null,null,null,{"$f":"IF(N657=\"\",\"\",COUNTIF($G$2:$G657,1))","v":""}]
[null,null,null,null,null,null,null,null,null,null,null,null,null,null,{"$f":"IF(N658=\"\",\"\",COUNTIF($G$2:$G658,1))","v":""}]
[null,null,null,null,null,null,null,null,null,null,null,null,null,null,{"$f":"IF(N659=\"\",\"\",COUNTIF($G$2:$G659,1))","v":""}]
[null,null,null,null,null,null,null,null,null,null,null,null,null,null,{"$f":"IF(N660=\"\",\"\",COUNTIF($G$2:$G660,1))","v":""}]
[null,null,null,null,null,null,null,null,null,null,null,null,null,null,{"$f":"IF(N661=\"\",\"\",COUNTIF($G$2:$G661,1))","v":""}]
[null,null,null,null,null,null,null,null,null,null,null,null,null,null,{"$f":"IF(N662=\"\",\"\",COUNTIF($G$2:$G662,1))","v":""}]
[null,null,null,null,null,null,null,null,null,null,null,null,null,null,{"$f":"IF(N663=\"\",\"\",COUNTIF($G$2:$G663,1))","v":""}]
[null,null,null,null,null,null,null,null,null,null,null,null,null,null,{"$f":"IF(N664=\"\",\"\",COUNTIF($G$2:$G664,1))","v":""}]
[null,null,null,null,null,null,null,null,null,null,null,null,null,null,{"$f":"IF(N665=\"\",\"\",COUNTIF($G$2:$G665,1))","v":""}]
[null,null,null,null,null,null,null,null,null,null,null,null,null,null,{"$f":"IF(N666=\"\",\"\",COUNTIF($G$2:$G666,1))","v":""}]
[null,null,null,null,null,null,null,null,null,null,null,null,null,null,{"$f":"IF(N667=\"\",\"\",COUNTIF($G$2:$G667,1))","v":""}]
[null,null,null,null,null,null,null,null,null,null,null,null,null,null,{"$f":"IF(N668=\"\",\"\",COUNTIF($G$2:$G668,1))","v":""}]
[null,null,null,null,null,null,null,null,null,null,null,null,null,null,{"$f":"IF(N669=\"\",\"\",COUNTIF($G$2:$G669,1))","v":""}]
[null,null,null,null,null,null,null,null,null,null,null,null,null,null,{"$f":"IF(N670=\"\",\"\",COUNTIF($G$2:$G670,1))","v":""}]
[null,null,null,null,null,null,null,null,null,null,null,null,null,null,{"$f":"IF(N671=\"\",\"\",COUNTIF($G$2:$G671,1))","v":""}]
[null,null,null,null,null,null,null,null,null,null,null,null,null,null,{"$f":"IF(N672=\"\",\"\",COUNTIF($G$2:$G672,1))","v":""}]
[null,null,null,null,null,null,null,null,null,null,null,null,null,null,{"$f":"IF(N673=\"\",\"\",COUNTIF($G$2:$G673,1))","v":""}]
[null,null,null,null,null,null,null,null,null,null,null,null,null,null,{"$f":"IF(N674=\"\",\"\",COUNTIF($G$2:$G674,1))","v":""}]
[null,null,null,null,null,null,null,null,null,null,null,null,null,null,{"$f":"IF(N675=\"\",\"\",COUNTIF($G$2:$G675,1))","v":""}]
[null,null,null,null,null,null,null,null,null,null,null,null,null,null,{"$f":"IF(N676=\"\",\"\",COUNTIF($G$2:$G676,1))","v":""}]
[null,null,null,null,null,null,null,null,null,null,null,null,null,null,{"$f":"IF(N677=\"\",\"\",COUNTIF($G$2:$G677,1))","v":""}]
[null,null,null,null,null,null,null,null,null,null,null,null,null,null,{"$f":"IF(N678=\"\",\"\",COUNTIF($G$2:$G678,1))","v":""}]
[null,null,null,null,null,null,null,null,null,null,null,null,null,null,{"$f":"IF(N679=\"\",\"\",COUNTIF($G$2:$G679,1))","v":""}]
[null,null,null,null,null,null,null,null,null,null,null,null,null,null,{"$f":"IF(N680=\"\",\"\",COUNTIF($G$2:$G680,1))","v":""}]
[null,null,null,null,null,null,null,null,null,null,null,null,null,null,{"$f":"IF(N681=\"\",\"\",COUNTIF($G$2:$G681,1))","v":""}]
[null,null,null,null,null,null,null,null,null,null,null,null,null,null,{"$f":"IF(N682=\"\",\"\",COUNTIF($G$2:$G682,1))","v":""}]
[null,null,null,null,null,null,null,null,null,null,null,null,null,null,{"$f":"IF(N683=\"\",\"\",COUNTIF($G$2:$G683,1))","v":""}]
[null,null,null,null,null,null,null,null,null,null,null,null,null,null,{"$f":"IF(N684=\"\",\"\",COUNTIF($G$2:$G684,1))","v":""}]
[null,null,null,null,null,null,null,null,null,null,null,null,null,null,{"$f":"IF(N685=\"\",\"\",COUNTIF($G$2:$G685,1))","v":""}]
[null,null,null,null,null,null,null,null,null,null,null,null,null,null,{"$f":"IF(N686=\"\",\"\",COUNTIF($G$2:$G686,1))","v":""}]
[null,null,null,null,null,null,null,null,null,null,null,null,null,null,{"$f":"IF(N687=\"\",\"\",COUNTIF($G$2:$G687,1))","v":""}]
[null,null,null,null,null,null,null,null,null,null,null,null,null,null,{"$f":"IF(N688=\"\",\"\",COUNTIF($G$2:$G688,1))","v":""}]
[null,null,null,null,null,null,null,null,null,null,null,null,null,null,{"$f":"IF(N689=\"\",\"\",COUNTIF($G$2:$G689,1))","v":""}]
[null,null,null,null,null,null,null,null,null,null,null,null,null,null,{"$f":"IF(N690=\"\",\"\",COUNTIF($G$2:$G690,1))","v":""}]
[null,null,null,null,null,null,null,null,null,null,null,null,null,null,{"$f":"IF(N691=\"\",\"\",COUNTIF($G$2:$G691,1))","v":""}]
[null,null,null,null,null,null,null,null,null,null,null,null,null,null,{"$f":"IF(N692=\"\",\"\",COUNTIF($G$2:$G692,1))","v":""}]
[null,null,null,null,null,null,null,null,null,null,null,null,null,null,{"$f":"IF(N693=\"\",\"\",COUNTIF($G$2:$G693,1))","v":""}]
[null,null,null,null,null,null,null,null,null,null,null,null,null,null,{"$f":"IF(N694=\"\",\"\",COUNTIF($G$2:$G694,1))","v":""}]
[null,null,null,null,null,null,null,null,null,null,null,null,null,null,{"$f":"IF(N695=\"\",\"\",COUNTIF($G$2:$G695,1))","v":""}]
[null,null,null,null,null,null,null,null,null,null,null,null,null,null,{"$f":"IF(N696=\"\",\"\",COUNTIF($G$2:$G696,1))","v":""}]
[null,null,null,null,null,null,null,null,null,null,null,null,null,null,{"$f":"IF(N697=\"\",\"\",COUNTIF($G$2:$G697,1))","v":""}]
[null,null,null,null,null,null,null,null,null,null,null,null,null,null,{"$f":"IF(N698=\"\",\"\",COUNTIF($G$2:$G698,1))","v":""}]
[null,null,null,null,null,null,null,null,null,null,null,null,null,null,{"$f":"IF(N699=\"\",\"\",COUNTIF($G$2:$G699,1))","v":""}]
[null,null,null,null,null,null,null,null,null,null,null,null,null,null,{"$f":"IF(N700=\"\",\"\",COUNTIF($G$2:$G700,1))","v":""}]
[null,null,null,null,null,null,null,null,null,null,null,null,null,null,{"$f":"IF(N701=\"\",\"\",COUNTIF($G$2:$G701,1))","v":""}]
[null,null,null,null,null,null,null,null,null,null,null,null,null,null,{"$f":"IF(N702=\"\",\"\",COUNTIF($G$2:$G702,1))","v":""}]
[null,null,null,null,null,null,null,null,null,null,null,null,null,null,{"$f":"IF(N703=\"\",\"\",COUNTIF($G$2:$G703,1))","v":""}]
[null,null,null,null,null,null,null,null,null,null,null,null,null,null,{"$f":"IF(N704=\"\",\"\",COUNTIF($G$2:$G704,1))","v":""}]
[null,null,null,null,null,null,null,null,null,null,null,null,null,null,{"$f":"IF(N705=\"\",\"\",COUNTIF($G$2:$G705,1))","v":""}]
[null,null,null,null,null,null,null,null,null,null,null,null,null,null,{"$f":"IF(N706=\"\",\"\",COUNTIF($G$2:$G706,1))","v":""}]
[null,null,null,null,null,null,null,null,null,null,null,null,null,null,{"$f":"IF(N707=\"\",\"\",COUNTIF($G$2:$G707,1))","v":""}]
[null,null,null,null,null,null,null,null,null,null,null,null,null,null,{"$f":"IF(N708=\"\",\"\",COUNTIF($G$2:$G708,1))","v":""}]
[null,null,null,null,null,null,null,null,null,null,null,null,null,null,{"$f":"IF(N709=\"\",\"\",COUNTIF($G$2:$G709,1))","v":""}]
[null,null,null,null,null,null,null,null,null,null,null,null,null,null,{"$f":"IF(N710=\"\",\"\",COUNTIF($G$2:$G710,1))","v":""}]
[null,null,null,null,null,null,null,null,null,null,null,null,null,null,{"$f":"IF(N711=\"\",\"\",COUNTIF($G$2:$G711,1))","v":""}]
[null,null,null,null,null,null,null,null,null,null,null,null,null,null,{"$f":"IF(N712=\"\",\"\",COUNTIF($G$2:$G712,1))","v":""}]
[null,null,null,null,null,null,null,null,null,null,null,null,null,null,{"$f":"IF(N713=\"\",\"\",COUNTIF($G$2:$G713,1))","v":""}]
[null,null,null,null,null,null,null,null,null,null,null,null,null,null,{"$f":"IF(N714=\"\",\"\",COUNTIF($G$2:$G714,1))","v":""}]
[null,null,null,null,null,null,null,null,null,null,null,null,null,null,{"$f":"IF(N715=\"\",\"\",COUNTIF($G$2:$G715,1))","v":""}]
[null,null,null,null,null,null,null,null,null,null,null,null,null,null,{"$f":"IF(N716=\"\",\"\",COUNTIF($G$2:$G716,1))","v":""}]
[null,null,null,null,null,null,null,null,null,null,null,null,null,null,{"$f":"IF(N717=\"\",\"\",COUNTIF($G$2:$G717,1))","v":""}]
[null,null,null,null,null,null,null,null,null,null,null,null,null,null,{"$f":"IF(N718=\"\",\"\",COUNTIF($G$2:$G718,1))","v":""}]
[null,null,null,null,null,null,null,null,null,null,null,null,null,null,{"$f":"IF(N719=\"\",\"\",COUNTIF($G$2:$G719,1))","v":""}]
[null,null,null,null,null,null,null,null,null,null,null,null,null,null,{"$f":"IF(N720=\"\",\"\",COUNTIF($G$2:$G720,1))","v":""}]
[null,null,null,null,null,null,null,null,null,null,null,null,null,null,{"$f":"IF(N721=\"\",\"\",COUNTIF($G$2:$G721,1))","v":""}]
[null,null,null,null,null,null,null,null,null,null,null,null,null,null,{"$f":"IF(N722=\"\",\"\",COUNTIF($G$2:$G722,1))","v":""}]
[null,null,null,null,null,null,null,null,null,null,null,null,null,null,{"$f":"IF(N723=\"\",\"\",COUNTIF($G$2:$G723,1))","v":""}]
[null,null,null,null,null,null,null,null,null,null,null,null,null,null,{"$f":"IF(N724=\"\",\"\",COUNTIF($G$2:$G724,1))","v":""}]
[null,null,null,null,null,null,null,null,null,null,null,null,null,null,{"$f":"IF(N725=\"\",\"\",COUNTIF($G$2:$G725,1))","v":""}]
[null,null,null,null,null,null,null,null,null,null,null,null,null,null,{"$f":"IF(N726=\"\",\"\",COUNTIF($G$2:$G726,1))","v":""}]
[null,null,null,null,null,null,null,null,null,null,null,null,null,null,{"$f":"IF(N727=\"\",\"\",COUNTIF($G$2:$G727,1))","v":""}]
[null,null,null,null,null,null,null,null,null,null,null,null,null,null,{"$f":"IF(N728=\"\",\"\",COUNTIF($G$2:$G728,1))","v":""}]
[null,null,null,null,null,null,null,null,null,null,null,null,null,null,{"$f":"IF(N729=\"\",\"\",COUNTIF($G$2:$G729,1))","v":""}]
[null,null,null,null,null,null,null,null,null,null,null,null,null,null,{"$f":"IF(N730=\"\",\"\",COUNTIF($G$2:$G730,1))","v":""}]
[null,null,null,null,null,null,null,null,null,null,null,null,null,null,{"$f":"IF(N731=\"\",\"\",COUNTIF($G$2:$G731,1))","v":""}]
[null,null,null,null,null,null,null,null,null,null,null,null,null,null,{"$f":"IF(N732=\"\",\"\",COUNTIF($G$2:$G732,1))","v":""}]
[null,null,null,null,null,null,null,null,null,null,null,null,null,null,{"$f":"IF(N733=\"\",\"\",COUNTIF($G$2:$G733,1))","v":""}]
[null,null,null,null,null,null,null,null,null,null,null,null,null,null,{"$f":"IF(N734=\"\",\"\",COUNTIF($G$2:$G734,1))","v":""}]
[null,null,null,null,null,null,null,null,null,null,null,null,null,null,{"$f":"IF(N735=\"\",\"\",COUNTIF($G$2:$G735,1))","v":""}]
[null,null,null,null,null,null,null,null,null,null,null,null,null,null,{"$f":"IF(N736=\"\",\"\",COUNTIF($G$2:$G736,1))","v":""}]
[null,null,null,null,null,null,null,null,null,null,null,null,null,null,{"$f":"IF(N737=\"\",\"\",COUNTIF($G$2:$G737,1))","v":""}]
[null,null,null,null,null,null,null,null,null,null,null,null,null,null,{"$f":"IF(N738=\"\",\"\",COUNTIF($G$2:$G738,1))","v":""}]
[null,null,null,null,null,null,null,null,null,null,null,null,null,null,{"$f":"IF(N739=\"\",\"\",COUNTIF($G$2:$G739,1))","v":""}]
[null,null,null,null,null,null,null,null,null,null,null,null,null,null,{"$f":"IF(N740=\"\",\"\",COUNTIF($G$2:$G740,1))","v":""}]
[null,null,null,null,null,null,null,null,null,null,null,null,null,null,{"$f":"IF(N741=\"\",\"\",COUNTIF($G$2:$G741,1))","v":""}]
[null,null,null,null,null,null,null,null,null,null,null,null,null,null,{"$f":"IF(N742=\"\",\"\",COUNTIF($G$2:$G742,1))","v":""}]
[null,null,null,null,null,null,null,null,null,null,null,null,null,null,{"$f":"IF(N743=\"\",\"\",COUNTIF($G$2:$G743,1))","v":""}]
[null,null,null,null,null,null,null,null,null,null,null,null,null,null,{"$f":"IF(N744=\"\",\"\",COUNTIF($G$2:$G744,1))","v":""}]
[null,null,null,null,null,null,null,null,null,null,null,null,null,null,{"$f":"IF(N745=\"\",\"\",COUNTIF($G$2:$G745,1))","v":""}]
[null,null,null,null,null,null,null,null,null,null,null,null,null,null,{"$f":"IF(N746=\"\",\"\",COUNTIF($G$2:$G746,1))","v":""}]
[null,null,null,null,null,null,null,null,null,null,null,null,null,null,{"$f":"IF(N747=\"\",\"\",COUNTIF($G$2:$G747,1))","v":""}]
[null,null,null,null,null,null,null,null,null,null,null,null,null,null,{"$f":"IF(N748=\"\",\"\",COUNTIF($G$2:$G748,1))","v":""}]
[null,null,null,null,null,null,null,null,null,null,null,null,null,null,{"$f":"IF(N749=\"\",\"\",COUNTIF($G$2:$G749,1))","v":""}]
[null,null,null,null,null,null,null,null,null,null,null,null,null,null,{"$f":"IF(N750=\"\",\"\",COUNTIF($G$2:$G750,1))","v":""}]
[null,null,null,null,null,null,null,null,null,null,null,null,null,null,{"$f":"IF(N751=\"\",\"\",COUNTIF($G$2:$G751,1))","v":""}]
[null,null,null,null,null,null,null,null,null,null,null,null,null,null,{"$f":"IF(N752=\"\",\"\",COUNTIF($G$2:$G752,1))","v":""}]
[null,null,null,null,null,null,null,null,null,null,null,null,null,null,{"$f":"IF(N753=\"\",\"\",COUNTIF($G$2:$G753,1))","v":""}]
[null,null,null,null,null,null,null,null,null,null,null,null,null,null,{"$f":"IF(N754=\"\",\"\",COUNTIF($G$2:$G754,1))","v":""}]
[null,null,null,null,null,null,null,null,null,null,null,null,null,null,{"$f":"IF(N755=\"\",\"\",COUNTIF($G$2:$G755,1))","v":""}]
[null,null,null,null,null,null,null,null,null,null,null,null,null,null,{"$f":"IF(N756=\"\",\"\",COUNTIF($G$2:$G756,1))","v":""}]
[null,null,null,null,null,null,null,null,null,null,null,null,null,null,{"$f":"IF(N757=\"\",\"\",COUNTIF($G$2:$G757,1))","v":""}]
[null,null,null,null,null,null,null,null,null,null,null,null,null,null,{"$f":"IF(N758=\"\",\"\",COUNTIF($G$2:$G758,1))","v":""}]
[null,null,null,null,null,null,null,null,null,null,null,null,null,null,{"$f":"IF(N759=\"\",\"\",COUNTIF($G$2:$G759,1))","v":""}]
[null,null,null,null,null,null,null,null,null,null,null,null,null,null,{"$f":"IF(N760=\"\",\"\",COUNTIF($G$2:$G760,1))","v":""}]
[null,null,null,null,null,null,null,null,null,null,null,null,null,null,{"$f":"IF(N761=\"\",\"\",COUNTIF($G$2:$G761,1))","v":""}]
[null,null,null,null,null,null,null,null,null,null,null,null,null,null,{"$f":"IF(N762=\"\",\"\",COUNTIF($G$2:$G762,1))","v":""}]
[null,null,null,null,null,null,null,null,null,null,null,null,null,null,{"$f":"IF(N763=\"\",\"\",COUNTIF($G$2:$G763,1))","v":""}]
[null,null,null,null,null,null,null,null,null,null,null,null,null,null,{"$f":"IF(N764=\"\",\"\",COUNTIF($G$2:$G764,1))","v":""}]
[null,null,null,null,null,null,null,null,null,null,null,null,null,null,{"$f":"IF(N765=\"\",\"\",COUNTIF($G$2:$G765,1))","v":""}]
[null,null,null,null,null,null,null,null,null,null,null,null,null,null,{"$f":"IF(N766=\"\",\"\",COUNTIF($G$2:$G766,1))","v":""}]
[null,null,null,null,null,null,null,null,null,null,null,null,null,null,{"$f":"IF(N767=\"\",\"\",COUNTIF($G$2:$G767,1))","v":""}]
[null,null,null,null,null,null,null,null,null,null,null,null,null,null,{"$f":"IF(N768=\"\",\"\",COUNTIF($G$2:$G768,1))","v":""}]
[null,null,null,null,null,null,null,null,null,null,null,null,null,null,{"$f":"IF(N769=\"\",\"\",COUNTIF($G$2:$G769,1))","v":""}]
[null,null,null,null,null,null,null,null,null,null,null,null,null,null,{"$f":"IF(N770=\"\",\"\",COUNTIF($G$2:$G770,1))","v":""}]
[null,null,null,null,null,null,null,null,null,null,null,null,null,null,{"$f":"IF(N771=\"\",\"\",COUNTIF($G$2:$G771,1))","v":""}]
[null,null,null,null,null,null,null,null,null,null,null,null,null,null,{"$f":"IF(N772=\"\",\"\",COUNTIF($G$2:$G772,1))","v":""}]
[null,null,null,null,null,null,null,null,null,null,null,null,null,null,{"$f":"IF(N773=\"\",\"\",COUNTIF($G$2:$G773,1))","v":""}]
[null,null,null,null,null,null,null,null,null,null,null,null,null,null,{"$f":"IF(N774=\"\",\"\",COUNTIF($G$2:$G774,1))","v":""}]
[null,null,null,null,null,null,null,null,null,null,null,null,null,null,{"$f":"IF(N775=\"\",\"\",COUNTIF($G$2:$G775,1))","v":""}]
[null,null,null,null,null,null,null,null,null,null,null,null,null,null,{"$f":"IF(N776=\"\",\"\",COUNTIF($G$2:$G776,1))","v":""}]
[null,null,null,null,null,null,null,null,null,null,null,null,null,null,{"$f":"IF(N777=\"\",\"\",COUNTIF($G$2:$G777,1))","v":""}]
[null,null,null,null,null,null,null,null,null,null,null,null,null,null,{"$f":"IF(N778=\"\",\"\",COUNTIF($G$2:$G778,1))","v":""}]
[null,null,null,null,null,null,null,null,null,null,null,null,null,null,{"$f":"IF(N779=\"\",\"\",COUNTIF($G$2:$G779,1))","v":""}]
[null,null,null,null,null,null,null,null,null,null,null,null,null,null,{"$f":"IF(N780=\"\",\"\",COUNTIF($G$2:$G780,1))","v":""}]
[null,null,null,null,null,null,null,null,null,null,null,null,null,null,{"$f":"IF(N781=\"\",\"\",COUNTIF($G$2:$G781,1))","v":""}]
[null,null,null,null,null,null,null,null,null,null,null,null,null,null,{"$f":"IF(N782=\"\",\"\",COUNTIF($G$2:$G782,1))","v":""}]
[null,null,null,null,null,null,null,null,null,null,null,null,null,null,{"$f":"IF(N783=\"\",\"\",COUNTIF($G$2:$G783,1))","v":""}]
[null,null,null,null,null,null,null,null,null,null,null,null,null,null,{"$f":"IF(N784=\"\",\"\",COUNTIF($G$2:$G784,1))","v":""}]
[null,null,null,null,null,null,null,null,null,null,null,null,null,null,{"$f":"IF(N785=\"\",\"\",COUNTIF($G$2:$G785,1))","v":""}]
[null,null,null,null,null,null,null,null,null,null,null,null,null,null,{"$f":"IF(N786=\"\",\"\",COUNTIF($G$2:$G786,1))","v":""}]
[null,null,null,null,null,null,null,null,null,null,null,null,null,null,{"$f":"IF(N787=\"\",\"\",COUNTIF($G$2:$G787,1))","v":""}]
[null,null,null,null,null,null,null,null,null,null,null,null,null,null,{"$f":"IF(N788=\"\",\"\",COUNTIF($G$2:$G788,1))","v":""}]
[null,null,null,null,null,null,null,null,null,null,null,null,null,null,{"$f":"IF(N789=\"\",\"\",COUNTIF($G$2:$G789,1))","v":""}]
[null,null,null,null,null,null,null,null,null,null,null,null,null,null,{"$f":"IF(N790=\"\",\"\",COUNTIF($G$2:$G790,1))","v":""}]
[null,null,null,null,null,null,null,null,null,null,null,null,null,null,{"$f":"IF(N791=\"\",\"\",COUNTIF($G$2:$G791,1))","v":""}]
[null,null,null,null,null,null,null,null,null,null,null,null,null,null,{"$f":"IF(N792=\"\",\"\",COUNTIF($G$2:$G792,1))","v":""}]
[null,null,null,null,null,null,null,null,null,null,null,null,null,null,{"$f":"IF(N793=\"\",\"\",COUNTIF($G$2:$G793,1))","v":""}]
[null,null,null,null,null,null,null,null,null,null,null,null,null,null,{"$f":"IF(N794=\"\",\"\",COUNTIF($G$2:$G794,1))","v":""}]
[null,null,null,null,null,null,null,null,null,null,null,null,null,null,{"$f":"IF(N795=\"\",\"\",COUNTIF($G$2:$G795,1))","v":""}]
[null,null,null,null,null,null,null,null,null,null,null,null,null,null,{"$f":"IF(N796=\"\",\"\",COUNTIF($G$2:$G796,1))","v":""}]
[null,null,null,null,null,null,null,null,null,null,null,null,null,null,{"$f":"IF(N797=\"\",\"\",COUNTIF($G$2:$G797,1))","v":""}]
[null,null,null,null,null,null,null,null,null,null,null,null,null,null,{"$f":"IF(N798=\"\",\"\",COUNTIF($G$2:$G798,1))","v":""}]
[null,null,null,null,null,null,null,null,null,null,null,null,null,null,{"$f":"IF(N799=\"\",\"\",COUNTIF($G$2:$G799,1))","v":""}]
[null,null,null,null,null,null,null,null,null,null,null,null,null,null,{"$f":"IF(N800=\"\",\"\",COUNTIF($G$2:$G800,1))","v":""}]
[null,null,null,null,null,null,null,null,null,null,null,null,null,null,{"$f":"IF(N801=\"\",\"\",COUNTIF($G$2:$G801,1))","v":""}]
[null,null,null,null,null,null,null,null,null,null,null,null,null,null,{"$f":"IF(N802=\"\",\"\",COUNTIF($G$2:$G802,1))","v":""}]
[null,null,null,null,null,null,null,null,null,null,null,null,null,null,{"$f":"IF(N803=\"\",\"\",COUNTIF($G$2:$G803,1))","v":""}]
[null,null,null,null,null,null,null,null,null,null,null,null,null,null,{"$f":"IF(N804=\"\",\"\",COUNTIF($G$2:$G804,1))","v":""}]
[null,null,null,null,null,null,null,null,null,null,null,null,null,null,{"$f":"IF(N805=\"\",\"\",COUNTIF($G$2:$G805,1))","v":""}]
[null,null,null,null,null,null,null,null,null,null,null,null,null,null,{"$f":"IF(N806=\"\",\"\",COUNTIF($G$2:$G806,1))","v":""}]
[null,null,null,null,null,null,null,null,null,null,null,null,null,null,{"$f":"IF(N807=\"\",\"\",COUNTIF($G$2:$G807,1))","v":""}]
[null,null,null,null,null,null,null,null,null,null,null,null,null,null,{"$f":"IF(N808=\"\",\"\",COUNTIF($G$2:$G808,1))","v":""}]
[null,null,null,null,null,null,null,null,null,null,null,null,null,null,{"$f":"IF(N809=\"\",\"\",COUNTIF($G$2:$G809,1))","v":""}]
[null,null,null,null,null,null,null,null,null,null,null,null,null,null,{"$f":"IF(N810=\"\",\"\",COUNTIF($G$2:$G810,1))","v":""}]
[null,null,null,null,null,null,null,null,null,null,null,null,null,null,{"$f":"IF(N811=\"\",\"\",COUNTIF($G$2:$G811,1))","v":""}]
[null,null,null,null,null,null,null,null,null,null,null,null,null,null,{"$f":"IF(N812=\"\",\"\",COUNTIF($G$2:$G812,1))","v":""}]
[null,null,null,null,null,null,null,null,null,null,null,null,null,null,{"$f":"IF(N813=\"\",\"\",COUNTIF($G$2:$G813,1))","v":""}]
[null,null,null,null,null,null,null,null,null,null,null,null,null,null,{"$f":"IF(N814=\"\",\"\",COUNTIF($G$2:$G814,1))","v":""}]
[null,null,null,null,null,null,null,null,null,null,null,null,null,null,{"$f":"IF(N815=\"\",\"\",COUNTIF($G$2:$G815,1))","v":""}]
[null,null,null,null,null,null,null,null,null,null,null,null,null,null,{"$f":"IF(N816=\"\",\"\",COUNTIF($G$2:$G816,1))","v":""}]
[null,null,null,null,null,null,null,null,null,null,null,null,null,null,{"$f":"IF(N817=\"\",\"\",COUNTIF($G$2:$G817,1))","v":""}]
[null,null,null,null,null,null,null,null,null,null,null,null,null,null,{"$f":"IF(N818=\"\",\"\",COUNTIF($G$2:$G818,1))","v":""}]
[null,null,null,null,null,null,null,null,null,null,null,null,null,null,{"$f":"IF(N819=\"\",\"\",COUNTIF($G$2:$G819,1))","v":""}]
[null,null,null,null,null,null,null,null,null,null,null,null,null,null,{"$f":"IF(N820=\"\",\"\",COUNTIF($G$2:$G820,1))","v":""}]
[null,null,null,null,null,null,null,null,null,null,null,null,null,null,{"$f":"IF(N821=\"\",\"\",COUNTIF($G$2:$G821,1))","v":""}]
[null,null,null,null,null,null,null,null,null,null,null,null,null,null,{"$f":"IF(N822=\"\",\"\",COUNTIF($G$2:$G822,1))","v":""}]
[null,null,null,null,null,null,null,null,null,null,null,null,null,null,{"$f":"IF(N823=\"\",\"\",COUNTIF($G$2:$G823,1))","v":""}]
[null,null,null,null,null,null,null,null,null,null,null,null,null,null,{"$f":"IF(N824=\"\",\"\",COUNTIF($G$2:$G824,1))","v":""}]
[null,null,null,null,null,null,null,null,null,null,null,null,null,null,{"$f":"IF(N825=\"\",\"\",COUNTIF($G$2:$G825,1))","v":""}]
[null,null,null,null,null,null,null,null,null,null,null,null,null,null,{"$f":"IF(N826=\"\",\"\",COUNTIF($G$2:$G826,1))","v":""}]
[null,null,null,null,null,null,null,null,null,null,null,null,null,null,{"$f":"IF(N827=\"\",\"\",COUNTIF($G$2:$G827,1))","v":""}]
[null,null,null,null,null,null,null,null,null,null,null,null,null,null,{"$f":"IF(N828=\"\",\"\",COUNTIF($G$2:$G828,1))","v":""}]
[null,null,null,null,null,null,null,null,null,null,null,null,null,null,{"$f":"IF(N829=\"\",\"\",COUNTIF($G$2:$G829,1))","v":""}]
[null,null,null,null,null,null,null,null,null,null,null,null,null,null,{"$f":"IF(N830=\"\",\"\",COUNTIF($G$2:$G830,1))","v":""}]
[null,null,null,null,null,null,null,null,null,null,null,null,null,null,{"$f":"IF(N831=\"\",\"\",COUNTIF($G$2:$G831,1))","v":""}]
[null,null,null,null,null,null,null,null,null,null,null,null,null,null,{"$f":"IF(N832=\"\",\"\",COUNTIF($G$2:$G832,1))","v":""}]
[null,null,null,null,null,null,null,null,null,null,null,null,null,null,{"$f":"IF(N833=\"\",\"\",COUNTIF($G$2:$G833,1))","v":""}]
[null,null,null,null,null,null,null,null,null,null,null,null,null,null,{"$f":"IF(N834=\"\",\"\",COUNTIF($G$2:$G834,1))","v":""}]
[null,null,null,null,null,null,null,null,null,null,null,null,null,null,{"$f":"IF(N835=\"\",\"\",COUNTIF($G$2:$G835,1))","v":""}]
[null,null,null,null,null,null,null,null,null,null,null,null,null,null,{"$f":"IF(N836=\"\",\"\",COUNTIF($G$2:$G836,1))","v":""}]
[null,null,null,null,null,null,null,null,null,null,null,null,null,null,{"$f":"IF(N837=\"\",\"\",COUNTIF($G$2:$G837,1))","v":""}]
[null,null,null,null,null,null,null,null,null,null,null,null,null,null,{"$f":"IF(N838=\"\",\"\",COUNTIF($G$2:$G838,1))","v":""}]
[null,null,null,null,null,null,null,null,null,null,null,null,null,null,{"$f":"IF(N839=\"\",\"\",COUNTIF($G$2:$G839,1))","v":""}]
[null,null,null,null,null,null,null,null,null,null,null,null,null,null,{"$f":"IF(N840=\"\",\"\",COUNTIF($G$2:$G840,1))","v":""}]
[null,null,null,null,null,null,null,null,null,null,null,null,null,null,{"$f":"IF(N841=\"\",\"\",COUNTIF($G$2:$G841,1))","v":""}]
[null,null,null,null,null,null,null,null,null,null,null,null,null,null,{"$f":"IF(N842=\"\",\"\",COUNTIF($G$2:$G842,1))","v":""}]
[null,null,null,null,null,null,null,null,null,null,null,null,null,null,{"$f":"IF(N843=\"\",\"\",COUNTIF($G$2:$G843,1))","v":""}]
[null,null,null,null,null,null,null,null,null,null,null,null,null,null,{"$f":"IF(N844=\"\",\"\",COUNTIF($G$2:$G844,1))","v":""}]
[null,null,null,null,null,null,null,null,null,null,null,null,null,null,{"$f":"IF(N845=\"\",\"\",COUNTIF($G$2:$G845,1))","v":""}]
[null,null,null,null,null,null,null,null,null,null,null,null,null,null,{"$f":"IF(N846=\"\",\"\",COUNTIF($G$2:$G846,1))","v":""}]
[null,null,null,null,null,null,null,null,null,null,null,null,null,null,{"$f":"IF(N847=\"\",\"\",COUNTIF($G$2:$G847,1))","v":""}]
[null,null,null,null,null,null,null,null,null,null,null,null,null,null,{"$f":"IF(N848=\"\",\"\",COUNTIF($G$2:$G848,1))","v":""}]
[null,null,null,null,null,null,null,null,null,null,null,null,null,null,{"$f":"IF(N849=\"\",\"\",COUNTIF($G$2:$G849,1))","v":""}]
[null,null,null,null,null,null,null,null,null,null,null,null,null,null,{"$f":"IF(N850=\"\",\"\",COUNTIF($G$2:$G850,1))","v":""}]
[null,null,null,null,null,null,null,null,null,null,null,null,null,null,{"$f":"IF(N851=\"\",\"\",COUNTIF($G$2:$G851,1))","v":""}]
[null,null,null,null,null,null,null,null,null,null,null,null,null,null,{"$f":"IF(N852=\"\",\"\",COUNTIF($G$2:$G852,1))","v":""}]
[null,null,null,null,null,null,null,null,null,null,null,null,null,null,{"$f":"IF(N853=\"\",\"\",COUNTIF($G$2:$G853,1))","v":""}]
[null,null,null,null,null,null,null,null,null,null,null,null,null,null,{"$f":"IF(N854=\"\",\"\",COUNTIF($G$2:$G854,1))","v":""}]
[null,null,null,null,null,null,null,null,null,null,null,null,null,null,{"$f":"IF(N855=\"\",\"\",COUNTIF($G$2:$G855,1))","v":""}]
[null,null,null,null,null,null,null,null,null,null,null,null,null,null,{"$f":"IF(N856=\"\",\"\",COUNTIF($G$2:$G856,1))","v":""}]
[null,null,null,null,null,null,null,null,null,null,null,null,null,null,{"$f":"IF(N857=\"\",\"\",COUNTIF($G$2:$G857,1))","v":""}]
[null,null,null,null,null,null,null,null,null,null,null,null,null,null,{"$f":"IF(N858=\"\",\"\",COUNTIF($G$2:$G858,1))","v":""}]
[null,null,null,null,null,null,null,null,null,null,null,null,null,null,{"$f":"IF(N859=\"\",\"\",COUNTIF($G$2:$G859,1))","v":""}]
[null,null,null,null,null,null,null,null,null,null,null,null,null,null,{"$f":"IF(N860=\"\",\"\",COUNTIF($G$2:$G860,1))","v":""}]
[null,null,null,null,null,null,null,null,null,null,null,null,null,null,{"$f":"IF(N861=\"\",\"\",COUNTIF($G$2:$G861,1))","v":""}]
[null,null,null,null,null,null,null,null,null,null,null,null,null,null,{"$f":"IF(N862=\"\",\"\",COUNTIF($G$2:$G862,1))","v":""}]
[null,null,null,null,null,null,null,null,null,null,null,null,null,null,{"$f":"IF(N863=\"\",\"\",COUNTIF($G$2:$G863,1))","v":""}]
[null,null,null,null,null,null,null,null,null,null,null,null,null,null,{"$f":"IF(N864=\"\",\"\",COUNTIF($G$2:$G864,1))","v":""}]
[null,null,null,null,null,null,null,null,null,null,null,null,null,null,{"$f":"IF(N865=\"\",\"\",COUNTIF($G$2:$G865,1))","v":""}]
[null,null,null,null,null,null,null,null,null,null,null,null,null,null,{"$f":"IF(N866=\"\",\"\",COUNTIF($G$2:$G866,1))","v":""}]
[null,null,null,null,null,null,null,null,null,null,null,null,null,null,{"$f":"IF(N867=\"\",\"\",COUNTIF($G$2:$G867,1))","v":""}]
[null,null,null,null,null,null,null,null,null,null,null,null,null,null,{"$f":"IF(N868=\"\",\"\",COUNTIF($G$2:$G868,1))","v":""}]
[null,null,null,null,null,null,null,null,null,null,null,null,null,null,{"$f":"IF(N869=\"\",\"\",COUNTIF($G$2:$G869,1))","v":""}]
[null,null,null,null,null,null,null,null,null,null,null,null,null,null,{"$f":"IF(N870=\"\",\"\",COUNTIF($G$2:$G870,1))","v":""}]
[null,null,null,null,null,null,null,null,null,null,null,null,null,null,{"$f":"IF(N871=\"\",\"\",COUNTIF($G$2:$G871,1))","v":""}]
[null,null,null,null,null,null,null,null,null,null,null,null,null,null,{"$f":"IF(N872=\"\",\"\",COUNTIF($G$2:$G872,1))","v":""}]
[null,null,null,null,null,null,null,null,null,null,null,null,null,null,{"$f":"IF(N873=\"\",\"\",COUNTIF($G$2:$G873,1))","v":""}]
[null,null,null,null,null,null,null,null,null,null,null,null,null,null,{"$f":"IF(N874=\"\",\"\",COUNTIF($G$2:$G874,1))","v":""}]
[null,null,null,null,null,null,null,null,null,null,null,null,null,null,{"$f":"IF(N875=\"\",\"\",COUNTIF($G$2:$G875,1))","v":""}]
[null,null,null,null,null,null,null,null,null,null,null,null,null,null,{"$f":"IF(N876=\"\",\"\",COUNTIF($G$2:$G876,1))","v":""}]
[null,null,null,null,null,null,null,null,null,null,null,null,null,null,{"$f":"IF(N877=\"\",\"\",COUNTIF($G$2:$G877,1))","v":""}]
[null,null,null,null,null,null,null,null,null,null,null,null,null,null,{"$f":"IF(N878=\"\",\"\",COUNTIF($G$2:$G878,1))","v":""}]
[null,null,null,null,null,null,null,null,null,null,null,null,null,null,{"$f":"IF(N879=\"\",\"\",COUNTIF($G$2:$G879,1))","v":""}]
[null,null,null,null,null,null,null,null,null,null,null,null,null,null,{"$f":"IF(N880=\"\",\"\",COUNTIF($G$2:$G880,1))","v":""}]
[null,null,null,null,null,null,null,null,null,null,null,null,null,null,{"$f":"IF(N881=\"\",\"\",COUNTIF($G$2:$G881,1))","v":""}]
[null,null,null,null,null,null,null,null,null,null,null,null,null,null,{"$f":"IF(N882=\"\",\"\",COUNTIF($G$2:$G882,1))","v":""}]
[null,null,null,null,null,null,null,null,null,null,null,null,null,null,{"$f":"IF(N883=\"\",\"\",COUNTIF($G$2:$G883,1))","v":""}]
[null,null,null,null,null,null,null,null,null,null,null,null,null,null,{"$f":"IF(N884=\"\",\"\",COUNTIF($G$2:$G884,1))","v":""}]
[null,null,null,null,null,null,null,null,null,null,null,null,null,null,{"$f":"IF(N885=\"\",\"\",COUNTIF($G$2:$G885,1))","v":""}]
[null,null,null,null,null,null,null,null,null,null,null,null,null,null,{"$f":"IF(N886=\"\",\"\",COUNTIF($G$2:$G886,1))","v":""}]
[null,null,null,null,null,null,null,null,null,null,null,null,null,null,{"$f":"IF(N887=\"\",\"\",COUNTIF($G$2:$G887,1))","v":""}]
[null,null,null,null,null,null,null,null,null,null,null,null,null,null,{"$f":"IF(N888=\"\",\"\",COUNTIF($G$2:$G888,1))","v":""}]
[null,null,null,null,null,null,null,null,null,null,null,null,null,null,{"$f":"IF(N889=\"\",\"\",COUNTIF($G$2:$G889,1))","v":""}]
[null,null,null,null,null,null,null,null,null,null,null,null,null,null,{"$f":"IF(N890=\"\",\"\",COUNTIF($G$2:$G890,1))","v":""}]
[null,null,null,null,null,null,null,null,null,null,null,null,null,null,{"$f":"IF(N891=\"\",\"\",COUNTIF($G$2:$G891,1))","v":""}]
[null,null,null,null,null,null,null,null,null,null,null,null,null,null,{"$f":"IF(N892=\"\",\"\",COUNTIF($G$2:$G892,1))","v":""}]
[null,null,null,null,null,null,null,null,null,null,null,null,null,null,{"$f":"IF(N893=\"\",\"\",COUNTIF($G$2:$G893,1))","v":""}]
[null,null,null,null,null,null,null,null,null,null,null,null,null,null,{"$f":"IF(N894=\"\",\"\",COUNTIF($G$2:$G894,1))","v":""}]
[null,null,null,null,null,null,null,null,null,null,null,null,null,null,{"$f":"IF(N895=\"\",\"\",COUNTIF($G$2:$G895,1))","v":""}]
[null,null,null,null,null,null,null,null,null,null,null,null,null,null,{"$f":"IF(N896=\"\",\"\",COUNTIF($G$2:$G896,1))","v":""}]
[null,null,null,null,null,null,null,null,null,null,null,null,null,null,{"$f":"IF(N897=\"\",\"\",COUNTIF($G$2:$G897,1))","v":""}]
[null,null,null,null,null,null,null,null,null,null,null,null,null,null,{"$f":"IF(N898=\"\",\"\",COUNTIF($G$2:$G898,1))","v":""}]
[null,null,null,null,null,null,null,null,null,null,null,null,null,null,{"$f":"IF(N899=\"\",\"\",COUNTIF($G$2:$G899,1))","v":""}]
[null,null,null,null,null,null,null,null,null,null,null,null,null,null,{"$f":"IF(N900=\"\",\"\",COUNTIF($G$2:$G900,1))","v":""}]
[null,null,null,null,null,null,null,null,null,null,null,null,null,null,{"$f":"IF(N901=\"\",\"\",COUNTIF($G$2:$G901,1))","v":""}]
[null,null,null,null,null,null,null,null,null,null,null,null,null,null,{"$f":"IF(N902=\"\",\"\",COUNTIF($G$2:$G902,1))","v":""}]
[null,null,null,null,null,null,null,null,null,null,null,null,null,null,{"$f":"IF(N903=\"\",\"\",COUNTIF($G$2:$G903,1))","v":""}]
[null,null,null,null,null,null,null,null,null,null,null,null,null,null,{"$f":"IF(N904=\"\",\"\",COUNTIF($G$2:$G904,1))","v":""}]
[null,null,null,null,null,null,null,null,null,null,null,null,null,null,{"$f":"IF(N905=\"\",\"\",COUNTIF($G$2:$G905,1))","v":""}]
[null,null,null,null,null,null,null,null,null,null,null,null,null,null,{"$f":"IF(N906=\"\",\"\",COUNTIF($G$2:$G906,1))","v":""}]
[null,null,null,null,null,null,null,null,null,null,null,null,null,null,{"$f":"IF(N907=\"\",\"\",COUNTIF($G$2:$G907,1))","v":""}]
[null,null,null,null,null,null,null,null,null,null,null,null,null,null,{"$f":"IF(N908=\"\",\"\",COUNTIF($G$2:$G908,1))","v":""}]
[null,null,null,null,null,null,null,null,null,null,null,null,null,null,{"$f":"IF(N909=\"\",\"\",COUNTIF($G$2:$G909,1))","v":""}]
[null,null,null,null,null,null,null,null,null,null,null,null,null,null,{"$f":"IF(N910=\"\",\"\",COUNTIF($G$2:$G910,1))","v":""}]
[null,null,null,null,null,null,null,null,null,null,null,null,null,null,{"$f":"IF(N911=\"\",\"\",COUNTIF($G$2:$G911,1))","v":""}]
[null,null,null,null,null,null,null,null,null,null,null,null,null,null,{"$f":"IF(N912=\"\",\"\",COUNTIF($G$2:$G912,1))","v":""}]
[null,null,null,null,null,null,null,null,null,null,null,null,null,null,{"$f":"IF(N913=\"\",\"\",COUNTIF($G$2:$G913,1))","v":""}]
[null,null,null,null,null,null,null,null,null,null,null,null,null,null,{"$f":"IF(N914=\"\",\"\",COUNTIF($G$2:$G914,1))","v":""}]
[null,null,null,null,null,null,null,null,null,null,null,null,null,null,{"$f":"IF(N915=\"\",\"\",COUNTIF($G$2:$G915,1))","v":""}]
[null,null,null,null,null,null,null,null,null,null,null,null,null,null,{"$f":"IF(N916=\"\",\"\",COUNTIF($G$2:$G916,1))","v":""}]
[null,null,null,null,null,null,null,null,null,null,null,null,null,null,{"$f":"IF(N917=\"\",\"\",COUNTIF($G$2:$G917,1))","v":""}]
[null,null,null,null,null,null,null,null,null,null,null,null,null,null,{"$f":"IF(N918=\"\",\"\",COUNTIF($G$2:$G918,1))","v":""}]
[null,null,null,null,null,null,null,null,null,null,null,null,null,null,{"$f":"IF(N919=\"\",\"\",COUNTIF($G$2:$G919,1))","v":""}]
[null,null,null,null,null,null,null,null,null,null,null,null,null,null,{"$f":"IF(N920=\"\",\"\",COUNTIF($G$2:$G920,1))","v":""}]
[null,null,null,null,null,null,null,null,null,null,null,null,null,null,{"$f":"IF(N921=\"\",\"\",COUNTIF($G$2:$G921,1))","v":""}]
[null,null,null,null,null,null,null,null,null,null,null,null,null,null,{"$f":"IF(N922=\"\",\"\",COUNTIF($G$2:$G922,1))","v":""}]
[null,null,null,null,null,null,null,null,null,null,null,null,null,null,{"$f":"IF(N923=\"\",\"\",COUNTIF($G$2:$G923,1))","v":""}]
[null,null,null,null,null,null,null,null,null,null,null,null,null,null,{"$f":"IF(N924=\"\",\"\",COUNTIF($G$2:$G924,1))","v":""}]
[null,null,null,null,null,null,null,null,null,null,null,null,null,null,{"$f":"IF(N925=\"\",\"\",COUNTIF($G$2:$G925,1))","v":""}]
[null,null,null,null,null,null,null,null,null,null,null,null,null,null,{"$f":"IF(N926=\"\",\"\",COUNTIF($G$2:$G926,1))","v":""}]
[null,null,null,null,null,null,null,null,null,null,null,null,null,null,{"$f":"IF(N927=\"\",\"\",COUNTIF($G$2:$G927,1))","v":""}]
[null,null,null,null,null,null,null,null,null,null,null,null,null,null,{"$f":"IF(N928=\"\",\"\",COUNTIF($G$2:$G928,1))","v":""}]
[null,null,null,null,null,null,null,null,null,null,null,null,null,null,{"$f":"IF(N929=\"\",\"\",COUNTIF($G$2:$G929,1))","v":""}]
[null,null,null,null,null,null,null,null,null,null,null,null,null,null,{"$f":"IF(N930=\"\",\"\",COUNTIF($G$2:$G930,1))","v":""}]
[null,null,null,null,null,null,null,null,null,null,null,null,null,null,{"$f":"IF(N931=\"\",\"\",COUNTIF($G$2:$G931,1))","v":""}]
[null,null,null,null,null,null,null,null,null,null,null,null,null,null,{"$f":"IF(N932=\"\",\"\",COUNTIF($G$2:$G932,1))","v":""}]
[null,null,null,null,null,null,null,null,null,null,null,null,null,null,{"$f":"IF(N933=\"\",\"\",COUNTIF($G$2:$G933,1))","v":""}]
[null,null,null,null,null,null,null,null,null,null,null,null,null,null,{"$f":"IF(N934=\"\",\"\",COUNTIF($G$2:$G934,1))","v":""}]
[null,null,null,null,null,null,null,null,null,null,null,null,null,null,{"$f":"IF(N935=\"\",\"\",COUNTIF($G$2:$G935,1))","v":""}]
[null,null,null,null,null,null,null,null,null,null,null,null,null,null,{"$f":"IF(N936=\"\",\"\",COUNTIF($G$2:$G936,1))","v":""}]
[null,null,null,null,null,null,null,null,null,null,null,null,null,null,{"$f":"IF(N937=\"\",\"\",COUNTIF($G$2:$G937,1))","v":""}]
[null,null,null,null,null,null,null,null,null,null,null,null,null,null,{"$f":"IF(N938=\"\",\"\",COUNTIF($G$2:$G938,1))","v":""}]
[null,null,null,null,null,null,null,null,null,null,null,null,null,null,{"$f":"IF(N939=\"\",\"\",COUNTIF($G$2:$G939,1))","v":""}]
[null,null,null,null,null,null,null,null,null,null,null,null,null,null,{"$f":"IF(N940=\"\",\"\",COUNTIF($G$2:$G940,1))","v":""}]
[null,null,null,null,null,null,null,null,null,null,null,null,null,null,{"$f":"IF(N941=\"\",\"\",COUNTIF($G$2:$G941,1))","v":""}]
[null,null,null,null,null,null,null,null,null,null,null,null,null,null,{"$f":"IF(N942=\"\",\"\",COUNTIF($G$2:$G942,1))","v":""}]
[null,null,null,null,null,null,null,null,null,null,null,null,null,null,{"$f":"IF(N943=\"\",\"\",COUNTIF($G$2:$G943,1))","v":""}]
[null,null,null,null,null,null,null,null,null,null,null,null,null,null,{"$f":"IF(N944=\"\",\"\",COUNTIF($G$2:$G944,1))","v":""}]
[null,null,null,null,null,null,null,null,null,null,null,null,null,null,{"$f":"IF(N945=\"\",\"\",COUNTIF($G$2:$G945,1))","v":""}]
[null,null,null,null,null,null,null,null,null,null,null,null,null,null,{"$f":"IF(N946=\"\",\"\",COUNTIF($G$2:$G946,1))","v":""}]
[null,null,null,null,null,null,null,null,null,null,null,null,null,null,{"$f":"IF(N947=\"\",\"\",COUNTIF($G$2:$G947,1))","v":""}]
[null,null,null,null,null,null,null,null,null,null,null,null,null,null,{"$f":"IF(N948=\"\",\"\",COUNTIF($G$2:$G948,1))","v":""}]
[null,null,null,null,null,null,null,null,null,null,null,null,null,null,{"$f":"IF(N949=\"\",\"\",COUNTIF($G$2:$G949,1))","v":""}]
[null,null,null,null,null,null,null,null,null,null,null,null,null,null,{"$f":"IF(N950=\"\",\"\",COUNTIF($G$2:$G950,1))","v":""}]
[null,null,null,null,null,null,null,null,null,null,null,null,null,null,{"$f":"IF(N951=\"\",\"\",COUNTIF($G$2:$G951,1))","v":""}]
[null,null,null,null,null,null,null,null,null,null,null,null,null,null,{"$f":"IF(N952=\"\",\"\",COUNTIF($G$2:$G952,1))","v":""}]
[null,null,null,null,null,null,null,null,null,null,null,null,null,null,{"$f":"IF(N953=\"\",\"\",COUNTIF($G$2:$G953,1))","v":""}]
[null,null,null,null,null,null,null,null,null,null,null,null,null,null,{"$f":"IF(N954=\"\",\"\",COUNTIF($G$2:$G954,1))","v":""}]
[null,null,null,null,null,null,null,null,null,null,null,null,null,null,{"$f":"IF(N955=\"\",\"\",COUNTIF($G$2:$G955,1))","v":""}]
[null,null,null,null,null,null,null,null,null,null,null,null,null,null,{"$f":"IF(N956=\"\",\"\",COUNTIF($G$2:$G956,1))","v":""}]
[null,null,null,null,null,null,null,null,null,null,null,null,null,null,{"$f":"IF(N957=\"\",\"\",COUNTIF($G$2:$G957,1))","v":""}]
[null,null,null,null,null,null,null,null,null,null,null,null,null,null,{"$f":"IF(N958=\"\",\"\",COUNTIF($G$2:$G958,1))","v":""}]
[null,null,null,null,null,null,null,null,null,null,null,null,null,null,{"$f":"IF(N959=\"\",\"\",COUNTIF($G$2:$G959,1))","v":""}]
[null,null,null,null,null,null,null,null,null,null,null,null,null,null,{"$f":"IF(N960=\"\",\"\",COUNTIF($G$2:$G960,1))","v":""}]
[null,null,null,null,null,null,null,null,null,null,null,null,null,null,{"$f":"IF(N961=\"\",\"\",COUNTIF($G$2:$G961,1))","v":""}]
[null,null,null,null,null,null,null,null,null,null,null,null,null,null,{"$f":"IF(N962=\"\",\"\",COUNTIF($G$2:$G962,1))","v":""}]
[null,null,null,null,null,null,null,null,null,null,null,null,null,null,{"$f":"IF(N963=\"\",\"\",COUNTIF($G$2:$G963,1))","v":""}]
[null,null,null,null,null,null,null,null,null,null,null,null,null,null,{"$f":"IF(N964=\"\",\"\",COUNTIF($G$2:$G964,1))","v":""}]
[null,null,null,null,null,null,null,null,null,null,null,null,null,null,{"$f":"IF(N965=\"\",\"\",COUNTIF($G$2:$G965,1))","v":""}]
[null,null,null,null,null,null,null,null,null,null,null,null,null,null,{"$f":"IF(N966=\"\",\"\",COUNTIF($G$2:$G966,1))","v":""}]
[null,null,null,null,null,null,null,null,null,null,null,null,null,null,{"$f":"IF(N967=\"\",\"\",COUNTIF($G$2:$G967,1))","v":""}]
[null,null,null,null,null,null,null,null,null,null,null,null,null,null,{"$f":"IF(N968=\"\",\"\",COUNTIF($G$2:$G968,1))","v":""}]
[null,null,null,null,null,null,null,null,null,null,null,null,null,null,{"$f":"IF(N969=\"\",\"\",COUNTIF($G$2:$G969,1))","v":""}]
[null,null,null,null,null,null,null,null,null,null,null,null,null,null,{"$f":"IF(N970=\"\",\"\",COUNTIF($G$2:$G970,1))","v":""}]
[null,null,null,null,null,null,null,null,null,null,null,null,null,null,{"$f":"IF(N971=\"\",\"\",COUNTIF($G$2:$G971,1))","v":""}]
[null,null,null,null,null,null,null,null,null,null,null,null,null,null,{"$f":"IF(N972=\"\",\"\",COUNTIF($G$2:$G972,1))","v":""}]
[null,null,null,null,null,null,null,null,null,null,null,null,null,null,{"$f":"IF(N973=\"\",\"\",COUNTIF($G$2:$G973,1))","v":""}]
[null,null,null,null,null,null,null,null,null,null,null,null,null,null,{"$f":"IF(N974=\"\",\"\",COUNTIF($G$2:$G974,1))","v":""}]
[null,null,null,null,null,null,null,null,null,null,null,null,null,null,{"$f":"IF(N975=\"\",\"\",COUNTIF($G$2:$G975,1))","v":""}]
[null,null,null,null,null,null,null,null,null,null,null,null,null,null,{"$f":"IF(N976=\"\",\"\",COUNTIF($G$2:$G976,1))","v":""}]
[null,null,null,null,null,null,null,null,null,null,null,null,null,null,{"$f":"IF(N977=\"\",\"\",COUNTIF($G$2:$G977,1))","v":""}]
[null,null,null,null,null,null,null,null,null,null,null,null,null,null,{"$f":"IF(N978=\"\",\"\",COUNTIF($G$2:$G978,1))","v":""}]
[null,null,null,null,null,null,null,null,null,null,null,null,null,null,{"$f":"IF(N979=\"\",\"\",COUNTIF($G$2:$G979,1))","v":""}]
[null,null,null,null,null,null,null,null,null,null,null,null,null,null,{"$f":"IF(N980=\"\",\"\",COUNTIF($G$2:$G980,1))","v":""}]
[null,null,null,null,null,null,null,null,null,null,null,null,null,null,{"$f":"IF(N981=\"\",\"\",COUNTIF($G$2:$G981,1))","v":""}]
[null,null,null,null,null,null,null,null,null,null,null,null,null,null,{"$f":"IF(N982=\"\",\"\",COUNTIF($G$2:$G982,1))","v":""}]
[null,null,null,null,null,null,null,null,null,null,null,null,null,null,{"$f":"IF(N983=\"\",\"\",COUNTIF($G$2:$G983,1))","v":""}]
[null,null,null,null,null,null,null,null,null,null,null,null,null,null,{"$f":"IF(N984=\"\",\"\",COUNTIF($G$2:$G984,1))","v":""}]
[null,null,null,null,null,null,null,null,null,null,null,null,null,null,{"$f":"IF(N985=\"\",\"\",COUNTIF($G$2:$G985,1))","v":""}]
[null,null,null,null,null,null,null,null,null,null,null,null,null,null,{"$f":"IF(N986=\"\",\"\",COUNTIF($G$2:$G986,1))","v":""}]
[null,null,null,null,null,null,null,null,null,null,null,null,null,null,{"$f":"IF(N987=\"\",\"\",COUNTIF($G$2:$G987,1))","v":""}]
[null,null,null,null,null,null,null,null,null,null,null,null,null,null,{"$f":"IF(N988=\"\",\"\",COUNTIF($G$2:$G988,1))","v":""}]
[null,null,null,null,null,null,null,null,null,null,null,null,null,null,{"$f":"IF(N989=\"\",\"\",COUNTIF($G$2:$G989,1))","v":""}]
[null,null,null,null,null,null,null,null,null,null,null,null,null,null,{"$f":"IF(N990=\"\",\"\",COUNTIF($G$2:$G990,1))","v":""}]
[null,null,null,null,null,null,null,null,null,null,null,null,null,null,{"$f":"IF(N991=\"\",\"\",COUNTIF($G$2:$G991,1))","v":""}]
[null,null,null,null,null,null,null,null,null,null,null,null,null,null,{"$f":"IF(N992=\"\",\"\",COUNTIF($G$2:$G992,1))","v":""}]
[null,null,null,null,null,null,null,null,null,null,null,null,null,null,{"$f":"IF(N993=\"\",\"\",COUNTIF($G$2:$G993,1))","v":""}]
[null,null,null,null,null,null,null,null,null,null,null,null,null,null,{"$f":"IF(N994=\"\",\"\",COUNTIF($G$2:$G994,1))","v":""}]
[null,null,null,null,null,null,null,null,null,null,null,null,null,null,{"$f":"IF(N995=\"\",\"\",COUNTIF($G$2:$G995,1))","v":""}]

{"sheet":"MasterExp_TESCO","index":8,"n_rows":2,"n_cols":28,"rows_kept":2,"cut":false,"hidden":true,"merged":[]}
["Doc Type","Vendor","PO no.","RTV no.","RFC no.","Site","VAT Branch number","Invoice Date","Invoice No.","PO Discount","Total Amt. before VAT","Taxable Amt.","VAT","Total","Line no.","Style no.","UPC","SKU","Qty Case","Price Case","Qty Unit","Price Unit","Multiplied Price","PO Item Discount","Total Net","VAT Rate","VAT amount","Total"]
[{"$f":"IFERROR(IF(INDEX(Rec_Trc[[#Data],[Branch Code]],ROW()-1)=\"\",\"\",\"INV\"),\"\")","v":""},{"$f":"IF($A2=\"\",\"\",\"10593\")","v":""},{"$f":"IF($A2=\"\",\"\",INDEX(Rec_Trc[[#Data],[PO]],ROW()-1))","v":""},null,null,{"$f":"IF($A2=\"\",\"\",INDEX(Rec_Trc[[#Data],[Store Code]],ROW()-1))","v":""},{"$f":"IF($A2=\"\",\"\",\"00000\")","v":""},{"$f":"IF($A2=\"\",\"\",INDEX(Rec_Trc[[#Data],[Issue_Date]],ROW()-1))","v":""},{"$f":"IF($A2=\"\",\"\",INDEX(Rec_Trc[[#Data],[INV No.]],ROW()-1))","v":""},"",{"$f":"IF($A2=\"\",\"\",INDEX(Rec_Trc[[#Data],[Total Amt]],ROW()-1))","v":""},{"$f":"IF($A2=\"\",\"\",INDEX(Rec_Trc[[#Data],[Total Amt]],ROW()-1))","v":""},{"$f":"IF($A2=\"\",\"\",INDEX(Rec_Trc[[#Data],[Vat]],ROW()-1))","v":""},{"$f":"IF($A2=\"\",\"\",INDEX(Rec_Trc[[#Data],[Total]],ROW()-1))","v":""},{"$f":"IF($A2=\"\",\"\",INDEX(Rec_Trc[[#Data],[Items]],ROW()-1))","v":""},null,{"$f":"IF($A2=\"\",\"\",INDEX(Rec_Trc[[#Data],[Product_Code]],ROW()-1))","v":""},null,null,{"$f":"IF($A2=\"\",\"\",INDEX(dProduct[PriceCase],MATCH(MasterExp_TESCO!Q2,dProduct[BarCode],0)))","v":""},{"$f":"IF($A2=\"\",\"\",INDEX(Rec_Trc[[#Data],[Unit]],ROW()-1))","v":""},{"$f":"IF($A2=\"\",\"\",ROUND(T2-T2*0.26-7*(T2-T2*0.26)/107,2))","v":""},{"$f":"IF($A2=\"\",\"\",U2*V2)","v":""},null,{"$f":"W2","v":""},{"$f":"IF($A2=\"\",\"\",7)","v":""},{"$f":"IF($A2=\"\",\"\",ROUND(Y2*Z2*0.01,2))","v":""},{"$f":"IF($A2=\"\",\"\",Y2+AA2)","v":""}]

{"sheet":"MasterExp_TWK","index":9,"n_rows":2,"n_cols":15,"rows_kept":2,"cut":false,"hidden":true,"merged":[]}
["วันที่วางบิล","เลขที่เอกสาร(เว้นว่าง)","วันที่ใบกำกับภาษี","เลขใบกำกับภาษี","รหัสลูกหนี้(ทวีกิจ)","รหัสซื้อขายสินค้า","จำนวนสินค้า","จำนวนแถม","ราคาต่อหน่วย","ส่วนลดต่อรายการ","รหัสสาขา","ตำแหน่งเก็บโอนย้าย","ส่วนลดท้ายบิล","หมายเหตุท้ายบิล","ItemNo"]
[{"$f":"IFERROR(IF(INDEX(Rec_Trc[[#Data],[Branch Code]],ROW()-1)=\"\",\"\",DATE(YEAR(INDEX(Rec_Trc[[#Data],[Billing_Date]],ROW()-1))+543,MONTH(INDEX(Rec_Trc[[#Data],[Billing_Date]],ROW()-1)),DAY(INDEX(Rec_Trc[[#Data],[Billing_Date]],ROW()-1)))),\"\")","v":""},null,{"$f":"IF($A2=\"\",\"\",DATE(YEAR(INDEX(Rec_Trc[[#Data],[Issue_Date]],ROW()-1))+543,MONTH(INDEX(Rec_Trc[[#Data],[Issue_Date]],ROW()-1)),DAY(INDEX(Rec_Trc[[#Data],[Issue_Date]],ROW()-1))))","v":""},{"$f":"IF($A2=\"\",\"\",INDEX(Rec_Trc[[#Data],[INV No.]],ROW()-1))","v":""},{"$f":"IF($A2=\"\",\"\",\"10888\")","v":""},{"$f":"IF($A2=\"\",\"\",INDEX(Rec_Trc[[#Data],[Product_Code]],ROW()-1))","v":""},{"$f":"IF($A2=\"\",\"\",INDEX(Rec_Trc[[#Data],[Unit]],ROW()-1))","v":""},null,{"$f":"IF($A2=\"\",\"\",INDEX(dProduct[PriceCase],MATCH($F2,dProduct[BarCode],0))*0.75)","v":""},null,{"$f":"IF($A2=\"\",\"\",INDEX(Rec_Trc[[#Data],[Store Code]],ROW()-1))","v":""},null,null,null,{"$f":"IF($A2=\"\",\"-\",INDEX(Rec_Trc[[#Data],[Items]],ROW()-1))","v":"-"}]