{"text_format":"1","workbook":"xlsx","n_sheets":5,"sheets":["DataBase","BackPay","Employee","TimeScanAtt","Report"],"not_rendered":{"charts":0,"images":1,"macros":1,"external_links":0,"defined_names":61,"comments":2,"pivot_tables":0},"unopened":[],"bounds":{"document_bytes":16777216,"sheet_cells":100000,"rows_first":2000,"rows_last":500,"rows_between":2000,"halvings":0,"cell_chars":16384,"cell_head_chars":4096},"cells_cut":0,"cells_raw":0,"read":"whole","date_system":"1900"}

{"sheet":"DataBase","index":0,"n_rows":44,"n_cols":15,"rows_kept":44,"cut":false,"hidden":true,"merged":[[1,1,1,5]]}
[]
[null,"::: Branches :::",null,null,null,null,null,"Date Range",null,"Date_End",null,"IT Web Base",null,"Select Bank :","BBL"]
[null,null,null,null,null,null,null,null,null,null,null,null,null,"Bank Name","BankCode"]
[null,null,null,null,null,null,null,{"$f":"TODAY()-10+ROWS($4:4)","v":"2025-04-10"},null,{"$f":"StartDate+ROWS($4:4)","v":"2025-04-17"},null,"Employee >>",{"$f":"HYPERLINK(\"https://ncsgb.com/HR/EmployeeWebExcel.php\",\"Employee\")","v":"Employee"},"ธนาคารกรุงเทพ (BBL)","BBL"]
[null,"Select :","23-NS",null,null,null,null,{"$f":"TODAY()-10+ROWS($4:5)","v":"2025-04-11"},null,{"$f":"StartDate+ROWS($4:5)","v":"2025-04-18"},null,"TimeScan >>",{"$f":"HYPERLINK(Web_TimeScan,\"TimeScan\")","v":"TimeScan"},"ธนาคารธนชาต (TNB)","TNB"]
[null,null,null,null,null,null,null,{"$f":"TODAY()-10+ROWS($4:6)","v":"2025-04-12"},null,{"$f":"StartDate+ROWS($4:6)","v":"2025-04-19"}]
[null,"Code","Thai_Name","Scanner","AlwRate","SunRate",null,{"$f":"TODAY()-10+ROWS($4:7)","v":"2025-04-13"},null,{"$f":"StartDate+ROWS($4:7)","v":"2025-04-20"}]
[null,"03-KB","กบินทร์บุรี","KB","1","5",null,{"$f":"TODAY()-10+ROWS($4:8)","v":"2025-04-14"},null,{"$f":"StartDate+ROWS($4:8)","v":"2025-04-21"},null,"กรณีพิเศษ",null,"Position","Alw Rate"]
[null,"04-KR","โคราช","KR","1","5",null,{"$f":"TODAY()-10+ROWS($4:9)","v":"2025-04-15"},null,{"$f":"StartDate+ROWS($4:9)","v":"2025-04-22"},null,"1) ขึ้นสายคนเดียว",null,"ตำแหน่งขาย",100]
[null,"05-NP","นครปฐม","NP","1","5",null,{"$f":"TODAY()-10+ROWS($4:10)","v":"2025-04-16"},null,null,null,"2) ช่วยต่างสาขา",null,"พนักงานขับรถ",150]
[null,"06-KK","ขอนแก่น","KK","1","5",null,{"$f":"TODAY()-10+ROWS($4:11)","v":"2025-04-17"},null,null,null,"3) ทำงานวันหยุดประจำปี"]
[null,"07-AY","อยุธยา","AY","1","5",null,{"$f":"TODAY()-10+ROWS($4:12)","v":"2025-04-18"},null,null,null,"4) กรณีพิเศษอื่นๆ"]
[null,"08-BK","กรุงเทพฯ","BK","1","5",null,{"$f":"TODAY()-10+ROWS($4:13)","v":"2025-04-19"},null,null,null,"5) ระงับการจ่าย"]
[null,"09-RY","ระยอง","FRY1","1","5",null,{"$f":"TODAY()-10+ROWS($4:14)","v":"2025-04-20"},null,null,null,"6) เคลียร์ยอดตกเบิก"]
[null,"10-SK","สมุทรปราการ","SK","1.3","5",null,{"$f":"TODAY()-10+ROWS($4:15)","v":"2025-04-21"}]
[null,"12-PY","พัทยา","PY","1","5",null,{"$f":"TODAY()-10+ROWS($4:16)","v":"2025-04-22"}]
[null,"13-SR","สุรินทร์","SR","1","5",null,{"$f":"TODAY()-10+ROWS($4:17)","v":"2025-04-23"}]
[null,"14-CB","จันทบุรี","CB","1","5",null,{"$f":"TODAY()-10+ROWS($4:18)","v":"2025-04-24"}]
[null,"15-UB","อุบลราชธานี","UB","1","5",null,{"$f":"TODAY()-10+ROWS($4:19)","v":"2025-04-25"}]
[null,"16-KL","คลองหลวง","KL","1","5",null,{"$f":"TODAY()-10+ROWS($4:20)","v":"2025-04-26"}]
[null,"17-LA","ร้อยเอ็ด","LA","1","5",null,{"$f":"TODAY()-10+ROWS($4:21)","v":"2025-04-27"}]
[null,"18-SN","สกลนคร","SN","1.5","5",null,{"$f":"TODAY()-10+ROWS($4:22)","v":"2025-04-28"}]
[null,"19-UD","อุดรธานี","UD","1","5",null,{"$f":"TODAY()-10+ROWS($4:23)","v":"2025-04-29"}]
[null,"20-PC","ปากช่อง","PC","1","5",null,{"$f":"TODAY()-10+ROWS($4:24)","v":"2025-04-30"}]
[null,"21-BR","บุรีรัมย์","BR","1","5",null,{"$f":"TODAY()-10+ROWS($4:25)","v":"2025-05-01"}]
[null,"22-LB","ลพบุรี","LB","1","5",null,{"$f":"TODAY()-10+ROWS($4:26)","v":"2025-05-02"}]
[null,"23-NS","นครสวรรค์","NS","1","5",null,{"$f":"TODAY()-10+ROWS($4:27)","v":"2025-05-03"}]
[null,"24-CY","ชัยภูมิ","CY","1","5",null,{"$f":"TODAY()-10+ROWS($4:28)","v":"2025-05-04"}]
[null,"25-RB","ราษฎร์บูรณะ","RB","1","5",null,{"$f":"TODAY()-10+ROWS($4:29)","v":"2025-05-05"}]
[null,"26-LE","เลย","LE","1.5","5",null,{"$f":"TODAY()-10+ROWS($4:30)","v":"2025-05-06"}]
[null,"27-PL","พิษณุโลก","PL","1.5","5",null,{"$f":"TODAY()-10+ROWS($4:31)","v":"2025-05-07"}]
[null,"28-PN","เพชรบูรณ์","PN","1","5",null,{"$f":"TODAY()-10+ROWS($4:32)","v":"2025-05-08"}]
[null,"29-SG","ศรีสะเกษ","SG","1","5",null,{"$f":"TODAY()-10+ROWS($4:33)","v":"2025-05-09"}]
[null,"31-KS","กาฬสินธุ์","KS","1","5",null,{"$f":"TODAY()-10+ROWS($4:34)","v":"2025-05-10"}]
[null,"32-YT","ยโสธร","YT","1","5"]
[null,"33-PK","พนัสนิคม","PK","1","5"]
[null,"84-TYT","Toyota","BK","1","5"]
[null,"90-HO","สำนักงานใหญ่","HO","1","5"]
[null,"90-SAL","HO ฝ่ายขาย","HO","1.5","5"]
[null,"99-NCM","NC-Machinery","NCM","1","5"]
[null,"92-FRK","โรงงานร่มเกล้า","FRK","1","5"]
[null,"93-NCB","NC-Bakery","NCB","1","5"]
[null,"82-BBK","BDC-กรุงเทพฯ","BK","1","1"]
[null,"83-BRY","BDC-ระยอง","FRY1","1","1"]

{"sheet":"BackPay","index":1,"n_rows":12,"n_cols":5,"rows_kept":12,"cut":false,"hidden":true,"merged":[[1,2,1,4]]}
[]
[null,"FilePath :",{"$f":"LEFT(CELL(\"filename\",A1),FIND(\"[\",CELL(\"filename\",A1))-1)&\"HR Report\"","v":"C:\\Users\\User\\Desktop\\Gold Bread\\AJ\\HR\\HR Report"}]
[]
[null,"Date","Branch","EmpID","BackPay"]
[null,"2023-03-01","-","44986",100]
[null,"2023-03-01","05-NP","104305",100]
[null,"2023-03-01","-","44986",1050]
[null,"2023-03-01","26-LE","104296",1050]
[null,"2023-03-01","-","44986",500]
[null,"2023-03-01","31-KS","104291",500]
[null,"2023-03-01","-","44986",600]
[null,"2023-03-01","83-BRY","104297",600]

{"sheet":"Employee","index":2,"n_rows":672,"n_cols":21,"rows_kept":672,"cut":false,"hidden":true,"merged":[[1,1,1,4]]}
[]
[null,">> ฐานข้อมูลพนักงานฝ่ายขาย NCS-GOLDBREAD",null,null,null,{"$f":"COUNTA(Employee_Sales[Primary_ID])","v":668}]
[]
[null,"Primary_ID","Branch","ID Card","Employee Name","BBL_ACC","PosType","Starting Date","PosNum","Position",null,"Branch",null,"Branch","Employee Name","Position","PosNum"]
[null,"100184","03-KB","1801400005346","วัฒนา ใจห้าว","7227222796","ขาย","2008-04-19","5","พนักงานขาย",null,"03-KB",null,"03-KB","สุนทรีย์ โอสถานนท์","พนักงานบัญชี","3"]
[null,"101126","03-KB","3250200240695","นายศราวุธ ป่าไม้ทอง","7227222911","ขาย","2021-02-01","5","พนักงานขาย",null,"04-KR",null,"03-KB","เอมอร ลบศรี","พนักงานการเงิน","4",null,null,null,{"$f":"IFERROR(INDEX(Employee_Office[Employee Name],_xlfn.AGGREGATE(15,6,(ROW(Employee_Office[Branch])-ROW(Employee_Office[[#Headers],[Branch]]))/((Employee_Office[Branch]=SLBranch)*(Employee_Office[PosNum]=\"3\")),ROWS($5:6))),\"\")","v":""}]
[null,"102428","03-KB","3250300165679","นายวัชรพล สิงห์ถา","7220087816","ขาย","2022-01-10","5","พนักงานขาย",null,"05-NP",null,"03-KB","นางสาวแสงตะวัน พรมภูผา","พนักงานการเงิน","4",null,null,null,{"$f":"IFERROR(INDEX(Employee_Office[Employee Name],_xlfn.AGGREGATE(15,6,(ROW(Employee_Office[Branch])-ROW(Employee_Office[[#Headers],[Branch]]))/((Employee_Office[Branch]=SLBranch)*(Employee_Office[PosNum]=\"3\")),ROWS($5:7))),\"\")","v":""}]
[null,"102458","03-KB","1250200301981","นางสาวรัชฎา ทับไทร","7227119364","ขาย","2025-01-15","5","พนักงานขาย",null,"06-KK",null,"04-KR","นางสาวดวงพร กว้างนอก","พนักงานบัญชี","3",null,null,null,{"$f":"IFERROR(INDEX(Employee_Office[Employee Name],_xlfn.AGGREGATE(15,6,(ROW(Employee_Office[Branch])-ROW(Employee_Office[[#Headers],[Branch]]))/((Employee_Office[Branch]=SLBranch)*(Employee_Office[PosNum]=\"3\")),ROWS($5:8))),\"\")","v":""}]
[null,"104447","03-KB","1149900052649","นางสาวอรุณี จันทร์สมโภชน์","7220423839","ขาย","2024-04-24","5","พนักงานขาย",null,"07-AY",null,"04-KR","นางสาวสุคนธ์ เกิดมงคล","พนักงานการเงิน","4"]
[null,"104836","03-KB","1250200186481","นายจิโรจน์ งานไพโรจน์","7227260598","ขาย","2024-11-11","5","พนักงานขาย",null,"08-BK",null,"04-KR","นางสาวพนิดา วรรณทอง","พนักงานการเงิน","4"]
[null,"105251","03-KB","1102001276548","นายศรีวิชัย วงษ์มิตร","7227264319","ขาย","2023-09-18","5","พนักงานขาย",null,"09-RY",null,"05-NP","เบญจวรรณ พันยุโดด","พนักงานบัญชี","3"]
[null,"105741","03-KB","5250200040081","นายบุญช่วย พรายโกยม","9808321633","ขาย","2024-01-25","5","พนักงานขาย",null,"10-SK",null,"05-NP","จรีพร พรหมศีรี","พนักงานการเงิน","4"]
[null,"105774","03-KB","1269900406067","นายทิวาภรณ์ คำไข","2865224782","ขาย","2025-01-08","5","พนักงานขาย",null,"12-PY",null,"05-NP","นางสาวปวันนา เสร็จกิจ","พนักงานการเงิน","4"]
[null,"106295","03-KB","3250200233265","นางสาวรจนา เพียรดี","2865205245","ขาย","2024-05-27","5","พนักงานขาย",null,"13-SR",null,"06-KK","นางสาวสิรินยา สีถาพล","พนักงานบัญชี","3"]
[null,"106478","03-KB","1300901240473","นางสาวขวัญธิดา คงค้างพลู","9808319785","ขาย","2024-07-04","5","พนักงานขาย",null,"14-CB",null,"06-KK","นางสาวสุชาดา จันทร์เจริญ","พนักงานการเงิน","4"]
[null,"106821","03-KB","3250700244916","นายธนกฤต เพ็ชรคง","2865241067","ขาย","2025-03-31","5","พนักงานขาย",null,"15-UB",null,"06-KK","นางสาวสุภาพร เหลี่ยมบาง","พนักงานการเงิน","4"]
[null,"107072","03-KB","1319800247896","นายจานุวัฒน์ จันทร์นพคุณ","9770613066","ขาย","2024-12-20","5","พนักงานขาย",null,"16-KL",null,"07-AY","ภัทราภรณ์ เสือคง","พนักงานบัญชี","3"]
[null,"107088","03-KB","1739300018983","นางสาวมาริสา หงษ์สำโรง","9047234183","ขาย","2025-01-02","5","พนักงานขาย",null,"17-LA",null,"07-AY","พนิดา ราชปละ","พนักงานการเงิน","4"]
[null,"107175","03-KB","1361200156281","นายศุภชัย ใจเกษม","2865228593","ขาย","2025-01-28","5","พนักงานขาย",null,"18-SN",null,"07-AY","นางสาววทันยา อินทโชติ","พนักงานการเงิน","4"]
[null,"107178","03-KB","1259500106562","นายเนติพงศ์ อาสารอด","7220460401","ขาย","2025-01-30","5","พนักงานขาย",null,"19-UD",null,"08-BK","นางสาวเกศรินทร์ อุทัยบาล","พนักงานบัญชี","3"]
[null,"107185","03-KB","1250200302911","นายวัชระ เหลืองห่อ","9770884600","ขาย","2025-02-03","5","พนักงานขาย",null,"20-PC",null,"08-BK","น.ส.ศศิภรณ์ เสริฐศรี","พนักงานการเงิน","4"]
[null,"107267","03-KB","1309900380741","นางสาวสุภาภรณ์ งากิ่ง","9774066501","ขาย","2025-02-24","5","พนักงานขาย",null,"21-BR",null,"08-BK","นางสาวปาริชาติ ศรีกุล","พนักงานการเงิน","4"]
[null,"107297","03-KB","1320600147202","นางสาวจรรยา บุญทะลา","2865239525","ขาย","2025-03-10","5","พนักงานขาย",null,"22-LB",null,"09-RY","นางสาวเกศกนก ฆะวีวงษ์","พนักงานบัญชี","3"]
[null,"107315","03-KB","1302800000151","นายสรศักดิ์ เอี้ยงสูงเนิน","7220461698","ขาย","2025-03-13","5","พนักงานขาย",null,"23-NS",null,"09-RY","นางสาวปรีดาพร กุระสุนทร","พนักงานการเงิน","4"]
[null,"107378","03-KB","1250101563171","นางพงศกร แก้วคุณ","9774398060","ขาย","2025-04-02","5","พนักงานขาย",null,"24-CY",null,"09-RY","นางสาวเรืองลดา ธารพันธุ์","พนักงานการเงิน","4"]
[null,"100215","03-KB","3440800506414","สมพร จันทะนัน","7227222945","ขาย","2007-10-19","6","พนักงานช่วยขาย",null,"25-RB",null,"10-SK","นางชุติมา ณ ป้อมเพชร","พนักงานบัญชี","3"]
[null,"100461","03-KB","3100502195928","นายอดุลย์ พงศ์พื้น","7227223166","ขาย","2019-05-22","6","พนักงานช่วยขาย",null,"26-LE",null,"10-SK","นางสาวแพรวไพลิน โพธิ์สุวรรณ","พนักงานการเงิน","4"]
[null,"106701","03-KB","1250299002426","นายจักรพันธ์ สายันต์","9809848162","ขาย","2025-03-10","6","พนักงานช่วยขาย",null,"27-PL",null,"10-SK","นางสาวจุฑามาส ใยยั่งยืน","พนักงานการเงิน","4"]
[null,"107268","03-KB","1350800188603","นายวิวัฒน์ กาลบุญ","5260658595","ขาย","2025-02-25","6","พนักงานช่วยขาย",null,"28-PN",null,"12-PY","นางสาวกัญญารัตน์ ยามวัน","พนักงานบัญชี","3"]
[null,"100206","04-KR","3300600301470","ฉกรรจ์ ชวนงูเหลือม","7490501546","ขาย","2010-07-03","5","พนักงานขาย",null,"29-SG",null,"12-PY","นางสาวปภาวดี ทองคำ","พนักงานการเงิน","4"]
[null,"100392","04-KR","3309900303441","นายบัญชา ทองประเสริฐ","7490501629","ขาย","2019-01-02","5","พนักงานขาย",null,"31-KS",null,"13-SR","นางสาวราณี เงางาม","พนักงานบัญชี","3"]
[null,"100668","04-KR","1309902887291","นายธรรมศักดิ์ วิชัยศึก","7490501389","ขาย","2023-08-03","5","พนักงานขาย",null,"32-YT",null,"13-SR","น.ส. จุฑามาศ จิตเย็น","พนักงานการเงิน","4"]
[null,"102645","04-KR","1309901130854","นายณัฐพงษ์ สว่างตะคุ","5954271184","ขาย","2022-03-07","5","พนักงานขาย",null,"33-PK",null,"14-CB","นางสาวเสาวลักษณ์ พ่วงพี","พนักงานบัญชี","3"]
[null,"103859","04-KR","1300900097332","ทองคูณ มุ่งพันกลาง","7490536427",null,"2022-11-07","5","พนักงานขาย",null,"82-BBK",null,"14-CB","น.ส.จุฑาภรณ์ ปลายเนิน","พนักงานการเงิน","4"]
[null,"105156","04-KR","1309900958476","นายกิตติศักดิ์ แก้วพะลัก","7490550014","ขาย","2023-08-26","5","พนักงานขาย",null,"83-BRY",null,"15-UB","นางสาวกรสุดา ไชยศรี","พนักงานบัญชี","3"]
[null,"106262","04-KR","1310500207319","นายสุขสันต์ จำปาง","7490559619","ขาย","2024-05-20","5","พนักงานขาย",null,"84-TYT",null,"15-UB","นางสาวขนิษฐา วรรณวัตร","พนักงานการเงิน","4"]
[null,"106746","04-KR","1309902770130","นายธรรมพร สงนอก","5954342084","ขาย","2024-09-18","5","พนักงานขาย",null,"90-ACC",null,"15-UB","นางสาววิไลพร มิ่งสอน","พนักงานการเงิน","4"]
[null,"106903","04-KR","1309701228923","นายศักดิ์สิทธิ์ แย้มดงพลอง","7490565764","ขาย","2024-10-28","5","พนักงานขาย",null,"92-FRK",null,"16-KL","นางสาวนงนาฎ หวั่นซ่วน","พนักงานบัญชี","3"]
[null,"106927","04-KR","1769900024518","นายเพิ่มศักดิ์ ศรีประภา","5950813575","ขาย","2024-11-04","5","พนักงานขาย",null,"93-NCB",null,"16-KL","นางสาวน้ำฝน สาระธรรม","พนักงานการเงิน","4"]
[null,"107076","04-KR","1309901389203","นายชุติพงษ์ ดอนไพรวัลย์","7490567323","ขาย","2024-12-24","5","พนักงานขาย",null,null,null,"17-LA","กิ่งแก้ว สวัสแวงควง","พนักงานบัญชี","3"]
[null,"107239","04-KR","3342100031301","นายวิเศษ พิมพ์พรมมา","7490569055","ขาย","2025-02-17","5","พนักงานขาย",null,null,null,"17-LA","สุนีรัตน์ หาญอาษา","พนักงานการเงิน","4"]
[null,"107266","04-KR","1160101744932","นายกฤษติบุตร เจริญสุข","7490569584","ขาย","2025-02-25","5","พนักงานขาย",null,null,null,"17-LA","นางสาวกฤติมา จงกลรัตน์","พนักงานการเงิน","4"]
[null,"107314","04-KR","1309900401021","นายทัยธวัช เพ็งหมื่นไวย","7490570442","ขาย","2025-03-14","5","พนักงานขาย",null,null,null,"18-SN","นางสาวจิราภรณ์ สอนคำ","พนักงานบัญชี","3"]
[null,"107360","04-KR","1301700163847","นายยุทธการ คิดที","7490570707","ขาย","2025-03-31","5","พนักงานขาย",null,null,null,"18-SN","นางสาวพรประภา เคนพิทักษ์","พนักงานการเงิน","4"]
[null,"107376","04-KR","1309900003948","นายธนดล ชัยช้าง","7490505265","ขาย","2025-04-04","5","พนักงานขาย",null,null,null,"18-SN","นางสาวแคทรียา เถิงนำมา","พนักงานการเงิน","4"]
[null,"107380","04-KR","1309700134046","น.ส.จุรีรัตน์ มัตถิตานัง","5030806581","ขาย","2025-04-07","5","พนักงานขาย",null,null,null,"19-UD","นางสาวอภิญญา โพธิ์สิงห์","พนักงานบัญชี","3"]
[null,"100205","04-KR","3480200094742","วินิตย์ ผาสุข","7490501538","ขาย","2007-07-03","6","พนักงานช่วยขาย",null,null,null,"19-UD","นางสาวพัชริน เสนาะวาที","พนักงานการเงิน","4"]
[null,"100296","04-KR","3301400643157","นายไพโรจน์ รัตนะตะคุ","7490501579","ขาย","2017-04-04","6","พนักงานช่วยขาย",null,null,null,"19-UD","นางสาวกัญญรัตน์ คำมุงคุณ","พนักงานการเงิน","4"]
[null,"100298","04-KR","3300100422642","นายสุริยันต์ ศิริเมฆา","7490501405","ขาย","2019-10-20","6","พนักงานช่วยขาย",null,null,null,"20-PC","นางสาวกมลเนตร ศรีโพธิ์","พนักงานบัญชี","3"]
[null,"100460","04-KR","3360700129121","นายเรวัต บุญมา","7490501462","ขาย","2019-05-20","6","พนักงานช่วยขาย",null,null,null,"20-PC","นาวสาวสวรินทร์ สนิทวงศ์ ณ.อยุธยา","พนักงานการเงิน","4"]
[null,"100468","04-KR","1301400153692","นายบุญธรรม วิเชียรชัย","7490501470","ขาย","2019-06-03","6","พนักงานช่วยขาย",null,null,null,"21-BR","โสภิตา พรภิญโญยิ่ง","พนักงานบัญชี","3"]
[null,"100469","04-KR","1301900034862","นายจตุรงค์ แขกระโทก","7490501496","ขาย","2024-08-09","6","พนักงานช่วยขาย",null,null,null,"21-BR","นางสาวจิตตินันท์ ครึกรัมยื","พนักงานการเงิน","4"]
[null,"104702","04-KR","3330400845905","นายบุญมี วงษ์แก้ว","7490546038","ขาย","2023-05-22","6","พนักงานช่วยขาย",null,null,null,"21-BR","นางสาวพรทิพา เพช็รสมบัติ","พนักงานการเงิน","4"]
[null,"105023","04-KR","1103701711175","นายกตัญญู เขตนิมิตร","7490548943","ขาย","2023-07-24","6","พนักงานช่วยขาย",null,null,null,"22-LB","น.ส.อนงค์นาฎ คำสัตย์","พนักงานบัญชี","3"]
[null,"105961","04-KR","2309901061974","นายศิวกร แผ้วสูงเนิน","5954336375","ขาย","2024-03-18","6","พนักงานช่วยขาย",null,null,null,"22-LB","นางสาวณัฐธยาน์ หัสดี","พนักงานการเงิน","4"]
[null,"106089","04-KR","1309902767589","นายสราวุฒิ หร่องบุตรศรี","7490558405","ขาย","2024-04-18","6","พนักงานช่วยขาย",null,null,null,"23-NS","นางสาวอลิศรา กุลชา","พนักงานบัญชี","3"]
[null,"106108","04-KR","1129900374531","นายวิษณุ ภมรจิตตรารมย์","7140240743","ขาย","2024-04-22","6","พนักงานช่วยขาย",null,null,null,"23-NS","นางสาวธัญญาภรณ์ ประไพ","พนักงานการเงิน","4"]
[null,"106442","04-KR","1329900578762","นายกิตตินันท์ งามจบ","7490561201","ขาย","2024-06-26","6","พนักงานช่วยขาย",null,null,null,"23-NS","นางสาวนันทิยา แก้วพเนา","พนักงานการเงิน","4"]
[null,"106774","04-KR","1102002664631","น.ส.วิสาพร ดียิ่ง","2855951246","ขาย","2024-09-30","6","พนักงานช่วยขาย",null,null,null,"24-CY","นางสาวขนิษฐา พิทักษ์พล","พนักงานบัญชี","3"]
[null,"106973","04-KR","1309901114905","นายธีรพงศ์ ทองประเสริฐ","7490566200","ขาย","2024-11-12","6","พนักงานช่วยขาย",null,null,null,"24-CY","นางสาววรัญญา พันธ์จำรูญ","พนักงานการเงิน","4"]
[null,"107265","04-KR","1309901190822","นายกิตติวุฒิ เพ็งหมื่นไหว","7490569568","ขาย","2025-02-25","6","พนักงานช่วยขาย",null,null,null,"25-RB","นางสาวสุชานาฎ ใจบุญ","พนักงานบัญชี","3"]
[null,"100229","05-NP","3100905295467","สุวดล กาลศรณ์","0620442210","ขาย","2021-12-20","5","พนักงานขาย",null,null,null,"25-RB","นางสาวปาลิตา มะยะเฉียว","พนักงานการเงิน","4"]
[null,"101384","05-NP","3100202940270","สาธิต กล่ำจันทร์","0620443283","ขาย","2024-11-26","5","พนักงานขาย",null,null,null,"26-LE","ว่าที่ ร.ต.หญิง สุธาทิพย์ มีดวง","พนักงานบัญชี","3"]
[null,"101469","05-NP","1609800002246","อารยา ศรีวอน","9040210123","ขาย","2023-01-04","5","พนักงานขาย",null,null,null,"26-LE","นางสาววรัญญา นามวงษ์","พนักงานการเงิน","4"]
[null,"104908","05-NP","1738700048692","นายสุพกิจ มณีกรรม","1664030408","ขาย","2025-01-07","5","พนักงานขาย",null,null,null,"27-PL","นางสาวศรัญญา โตสุข","พนักงานบัญชี","3"]
[null,"104909","05-NP","1738700048684","นายสินชัย มณีกรรม","1664030416","ขาย","2025-01-07","5","พนักงานขาย",null,null,null,"27-PL","นางสาวลลิตา ศรีวรรณา","พนักงานการเงิน","4"]
[null,"104934","05-NP","1730600014012","นายฉัตรชัย เพียวสามพราน","9040171242","ขาย","2025-03-10","5","พนักงานขาย",null,null,null,"27-PL","นางสาวนิตยา สีทองดี","พนักงานการเงิน","4"]
[null,"106234","05-NP","1609900308606","นางสาวนฤมล สุขยิ่งนัก","0620475996","ขาย","2025-03-13","5","พนักงานขาย",null,null,null,"28-PN","นางสาวนารีรัตน์ สิงห์พา","พนักงานบัญชี","3"]
[null,"106378","05-NP","1103701420898","นายกฤษฎา สุขเจริญ","5200483625","ขาย","2025-02-13","5","พนักงานขาย",null,null,null,"28-PN","นางสาวพิมพ์ชนก พระสอน","พนักงานการเงิน","4"]
[null,"106839","05-NP","1730601249943","นาย กัณตะวัน ยังถิน","6077721295","ขาย","2024-10-09","5","พนักงานขาย",null,null,null,"29-SG","นางสาววรารักษ์ เพิ่มทอง","พนักงานบัญชี","3"]
[null,"107132","05-NP","1640600333305","นาย จักรกริช ลาปะ","9770818228","ขาย","2025-01-16","5","พนักงานขาย",null,null,null,"29-SG","นางสาววงค์เพ็ญ มาลา","พนักงานการเงิน","4"]
[null,"107255","05-NP","1739902146769","นายอภิสิทธิ์ แสงอัคคี","9774054374","ขาย","2025-02-22","5","พนักงานขาย",null,null,null,"31-KS","นางสาวหทัยชนก แตงบุญรอด","พนักงานบัญชี","3"]
[null,"107256","05-NP","1739902134175","นายเสกสรรค์ สังข์แก้ว","9774057070","ขาย","2025-02-22","5","พนักงานขาย",null,null,null,"31-KS","นางสาวสุพัตรา ระวิวรรณ","พนักงานการเงิน","4"]
[null,"107278","05-NP","1739901984451","นายวณิชชา เต็กจำลอง","6020326689","ขาย","2025-02-28","5","พนักงานขาย",null,null,null,"32-YT","นางสาวภัชชนัน วิลัยหล้า","พนักงานบัญชี","3"]
[null,"107287","05-NP","3102200699151","นาย เปรมสัณห์ ฮ่มป่า","1664044391","ขาย","2025-03-03","5","พนักงานขาย",null,null,null,"32-YT","น.ส.มัณฑนา แสงใสแก้ว","พนักงานการเงิน","4"]
[null,"107312","05-NP","1739901810533","นางสาวชญานี ขาวพันธุ์","6027006508","ขาย","2025-03-13","5","พนักงานขาย",null,null,null,"33-PK","นางสาวสุภาพร เสียดขุนทด","พนักงานบัญชี","3"]
[null,"107341","05-NP","1739902282956","นายรชต มะโนหาญ","2754828602","ขาย","2025-03-21","5","พนักงานขาย",null,null,null,"33-PK","นางสาวอมรรัตน์ แซ่น้า","พนักงานการเงิน","4"]
[null,"100225","05-NP","3480600006434","กิตติพงษ์ ขจรเดช","0620442202","ขาย","2015-04-22","6","พนักงานช่วยขาย",null,null,null,"90-ACC","นางสาวชิดชไม มหาโคตร","พนักงานบัญชี","3"]
[null,"100306","05-NP","3730600557594","สายฝน สวัสดิแพทย์","0620442251","ขาย","2017-12-15","6","พนักงานช่วยขาย",null,null,null,"90-FIN","นางสาวจันทร์จิรา สังข์ขาว","พนักงานการเงิน","4"]
[null,"100314","05-NP","2730600018539","เกรียงไกร ชัยพันธ์","5300602967","ขาย","2025-02-20","6","พนักงานช่วยขาย",null,null,null,"92-FRK","นางสาวสรินยา เทียมเมฆ","พนักงานบัญชี","3"]
[null,"100367","05-NP","1739900006919","สุรชัย สุจจริตจูล","0620481366","ขาย","2025-01-20","6","พนักงานช่วยขาย"]
[null,"100650","05-NP","3341100451970","เอ็มไหร พันธ์แก้ว","0620442301","ขาย","2020-05-07","6","พนักงานช่วยขาย"]
[null,"101298","05-NP","3341901098763","รัฐศาสตร์ สายมณี","0620442962","ขาย","2022-02-07","6","พนักงานช่วยขาย"]
[null,"105767","05-NP","1739901916579","นาย สมพงษ์ ซุ่นขวัญ","2754812127","ขาย","2024-02-01","6","พนักงานช่วยขาย"]
[null,"106068","05-NP","3110101380325","นาย สุพล โอสถอินทร์","0620453878","ขาย","2024-04-11","6","พนักงานช่วยขาย"]
[null,"106286","05-NP","3730300323296","นายพงษ์ศักดิ์ แก้วชิงดวง","3590737429","ขาย","2024-05-24","6","พนักงานช่วยขาย"]
[null,"106924","05-NP","1200100045380","นาย ศรีสุวรรณ ขุนนากลัด","2754825186","ขาย","2024-11-02","6","พนักงานช่วยขาย"]
[null,"107063","05-NP","1709900547740","นายชาติชาย เครือชะเอม","9770630524","ขาย","2024-12-17","6","พนักงานช่วยขาย"]
[null,"107136","05-NP","3730101027786","นาย เฉลิมวัฒน์ สงวนพานิช","1184947735","ขาย","2025-01-18","6","พนักงานช่วยขาย"]
[null,"102568","06-KK","1301600128845","นายศราวุธ ทองขาว","7490522120","ขาย","2024-02-03","5","พนักงานขาย"]
[null,"103298","06-KK","1350400105239","นายสิทธิโชค พวงศรี","7460405512","ขาย","2022-07-14","5","พนักงานขาย"]
[null,"105882","06-KK","3400700549642","นายศุภชัย หีดขุนทด","5214452996","ขาย","2024-01-21","5","พนักงานขาย"]
[null,"106850","06-KK","1119501083290","นายยุทธศักดิ์ คู่โนรัมย์","9770220375","ขาย","2024-10-11","5","พนักงานขาย"]
[null,"106898","06-KK","1460900089231","นายวีระพล สุวรรณคำ","4290988536","ขาย","2024-10-28","5","พนักงานขาย"]
[null,"106966","06-KK","1101800567275","นางสาวจันทร์เพ็ญ โพธิ์ทอง","3767332764","ขาย","2024-11-08","5","พนักงานขาย"]
[null,"107176","06-KK","1409901506772","นายชลทิศ จันทร์เทพ","5214458936","ขาย","2025-01-29","5","พนักงานขาย"]
[null,"107331","06-KK","5301600020907","นายเกียรติศักดิ์ ตุ่นหสิงห์","7680216392","ขาย","2025-03-19","5","พนักงานขาย"]
[null,"107332","06-KK","2410100024168","นางสาวหอมจันทร์ จันทร์พันธ์","5174014331","ขาย","2025-03-19","5","พนักงานขาย"]
[null,"107346","06-KK","1102003688096","นายณัฐพล ทองคำ","5467623095","ขาย","2025-03-24","5","พนักงานขาย"]
[null,"107353","06-KK","1100703581802","นายอภิสิทธิ์ ไตรพรม","4630652883","ขาย","2025-03-25","5","พนักงานขาย"]
[null,"107370","06-KK","1720200133740","นายประวิทย์ พรมเย็น","5467409230","ขาย","2025-04-01","5","พนักงานขาย"]
[null,"107371","06-KK","1470200111447","นายสิทธิชัย ชีดวง",null,"ขาย","2025-04-01","5","พนักงานขาย"]
[null,"100383","06-KK","3410100895931","นายธีระพงษ์ พรหมกุล","5214397969","ขาย","2018-11-28","6","พนักงานช่วยขาย"]
[null,"100470","06-KK","1370700002168","นายไกรสรณ์ คำบุญ","5214398009","ขาย","2019-06-03","6","พนักงานช่วยขาย"]
[null,"100577","06-KK","1480600114877","นายชัยมงคล จิตมาตย์","5214398421",null,"2023-06-09","6","พนักงานช่วยขาย"]
[null,"100726","06-KK","1560100132611","นายสุทธิพงษ์ จอมแปง","5214500091","ขาย","2024-08-06","6","พนักงานช่วยขาย"]
[null,"101797","06-KK","1401700202388","นายจรัญ เจริญรุ่ง","5214404641","ขาย","2024-10-10","6","พนักงานช่วยขาย"]
[null,"101933","06-KK","1540790003256","นายเถลิงศักดิ์ ใจมี","6330417731","ขาย","2024-07-09","6","พนักงานช่วยขาย"]
[null,"103412","06-KK","1409900478708","นายพร้อมพงศ์ วัยเจริญ","5467536586",null,"2022-08-01","6","พนักงานช่วยขาย"]
[null,"103966","06-KK","3400700208144","นายไพบูรณ์ พรมโสภา","5467547542","ขาย","2022-12-06","6","พนักงานช่วยขาย"]
[null,"106155","06-KK","1410500091271","นายจักรพงษ์ สุบุญพงษ์","6870274856","ขาย","2025-02-27","6","พนักงานช่วยขาย"]
[null,"107084","06-KK","1339600097157","นายวัชโรทัย บุญสิม","9809379580","ขาย","2025-01-02","6","พนักงานช่วยขาย"]
[null,"101214","07-AY","1140100054231","นายอนุชิต ขันธชัย","0735475980","ขาย","2021-08-09","5","พนักงานขาย"]
[null,"102203","07-AY","1340400031201","นส.จันทรา ถินมา","0735511289","ขาย","2021-11-01","5","พนักงานขาย"]
[null,"103590","07-AY","3190400305601","น.ส. ศิปุญพัชร์ เรืองธณัชเลิศ","1784878496","ขาย","2023-01-31","5","พนักงานขาย"]
[null,"104700","07-AY","1160101788867","นางสาวอภิชญา เหมือนเมือง","0130844566","ขาย","2025-01-02","5","พนักงานขาย"]
[null,"104701","07-AY","1120600155924","นางสาวหนึ่งฤทัย โพธิ์พระ","1735088369","ขาย","2025-01-30","5","พนักงานขาย"]
[null,"106236","07-AY","1311300066992","นางสาวทิวาทิพย์ เศษไธสง","0270489826","ขาย","2024-05-08","5","พนักงานขาย"]
[null,"106744","07-AY","1609900616084","นางสาวกัญญา ใจเสือ","9808996731","ขาย","2024-09-13","5","พนักงานขาย"]
[null,"107120","07-AY","1149900659055","นายธีรวัฒน์ ศรีโชติ","9770742659","ขาย","2025-01-10","5","พนักงานขาย"]
[null,"107354","07-AY","1150601160174","นายสุวิทย์ ตรีหิรัญ","9774277074","ขาย","2025-03-24","5","พนักงานขาย"]
[null,"107365","07-AY","1140600112168","นายนพดล อยู่สิน","9774387758","ขาย","2025-03-31","5","พนักงานขาย"]
[null,"100317","07-AY","1909800303154","นายอนุโชค บุญโชค","0735476012",null,"2018-05-07","6","พนักงานช่วยขาย"]
[null,"100389","07-AY","1149900401457","นายกฤษฎา งามสมโสตร","0137034047",null,"2025-04-03","6","พนักงานช่วยขาย"]
[null,"101485","07-AY","1100701566792","เฉลิมเกียรติ ปินะกาเส","0735480345","ขาย","2021-04-21","6","พนักงานช่วยขาย"]
[null,"102001","07-AY","3901100493022","นายประชา สังขกูล","4944034794","ขาย","2023-01-31","6","พนักงานช่วยขาย"]
[null,"106060","07-AY","1229900887651","นายสิทธิชัย เศษไธสง","0980882823","ขาย","2024-04-06","6","พนักงานช่วยขาย"]
[null,"106061","07-AY","1340700375452","นายชัชวาล วิลามาศ","0985458199","ขาย","2024-04-06","6","พนักงานช่วยขาย"]
[null,"106742","07-AY","1629900642786","นางสาวสุชาดา รัตนวิชัย","0130917107","ขาย","2024-09-13","6","พนักงานช่วยขาย"]
[null,"107146","07-AY","1140700094447","นายวรากร โพธิ์บุญ","9770863695","ขาย","2025-01-21","6","พนักงานช่วยขาย"]
[null,"107245","07-AY","1150601166849","นายนภัสกร พวงใย","9774029509","ขาย","2025-02-18","6","พนักงานช่วยขาย"]
[null,"107302","07-AY","3149900200768","นายธีระวัฒน์ พิกุลทอง",null,"ขาย","2025-03-06","6","พนักงานช่วยขาย"]
[null,"107303","07-AY","3100602976107","นายนิพนธ์ สำราญ","0264637505","ขาย","2025-03-07","6","พนักงานช่วยขาย"]
[null,"107385","07-AY","3149900153778","นายสุรศักดิ์ กลิ่นสุคนธ์",null,"ขาย","2025-04-08","6","พนักงานช่วยขาย"]
[null,"100348","08-BK","3801200389589","สุชาติ ปรางอ่อน","0560603375",null,"2008-03-17","5","พนักงานขาย"]
[null,"100433","08-BK","1670600189204","นายนิวัติ คำพันธ์","0560602906","ขาย","2023-05-26","5","พนักงานขาย"]
[null,"100643","08-BK","3520500087709","นายสุริยัณห์ กันทิพย์","2954907248",null,"2024-08-24","5","พนักงานขาย"]
[null,"100816","08-BK","1411300143074","น.ส.ฉันทนา มีเบ้า","0560603003","ขาย","2020-08-18","5","พนักงานขาย"]
[null,"102308","08-BK","1104300117141","นายพงศกร อินลี","0040370629","ขาย","2024-11-18","5","พนักงานขาย"]
[null,"104047","08-BK","1800600156991","นายสุเทพ มีสุข","9187166518","ขาย","2023-01-06","5","พนักงานขาย"]
[null,"106136","08-BK","1800700125150","นายอนุสรณ์ คงเอียด","0985509884","ขาย","2024-04-26","5","พนักงานขาย"]
[null,"106596","08-BK","3101000089979","นายทรงพล มั่นคง","0190393595","ขาย","2024-07-30","5","พนักงานขาย"]
[null,"106768","08-BK","3100904656342","นายอดุลย์ แสงเล็ก","1455683092","บริหาร","2024-09-23","5","พนักงานขาย"]
[null,"107247","08-BK","1102700088155","นายพรชัย ประสพ","2174342648","ขาย","2025-02-18","5","พนักงานขาย"]
[null,"100232","08-BK","1809900758456","นายดนุสรณ์ แก้วเสน","0560602898","ขาย","2016-05-09","6","พนักงานช่วยขาย"]
[null,"100827","08-BK","1101000055831","นายกิตติพงษ์ นิลบวร","0560603011","ขาย","2024-07-31","6","พนักงานช่วยขาย"]
[null,"104940","08-BK","1250400126563","นายสมยศ สมพงศ์","0984682807","ขาย","2023-07-01","6","พนักงานช่วยขาย"]
[null,"105126","08-BK","3330800468751","นายประเสริฐ แถมบุญ","9187177671","ขาย","2023-08-15","6","พนักงานช่วยขาย"]
[null,"106953","08-BK","3809800140376","นายสัมพันธ์ ศิริวัฒน์","9187197000","ขาย","2024-11-06","6","พนักงานช่วยขาย"]
[null,"107010","08-BK","1100701337131","นายไพรัตน์ อินทร์ภิรมย์","8607061374","ขาย","2024-11-28","6","พนักงานช่วยขาย"]
[null,"107242","08-BK","1103701375116","นายสตางค์ ครุฑาพันธ์","2440614432","ขาย","2025-02-17","6","พนักงานช่วยขาย"]
[null,"100212","08-BK","5450700025003","ไพชยนต์ คุณหงษ์","0560602963","ขาย","2016-08-08","","ซุปเก่า"]
[null,"100340","08-BK","3259900195534","นายต่อพงษ์ โนนลือชา","0560602914","ขาย","2016-05-25","","ซุปเก่า"]
[null,"100166","09-RY","3510100542905","นายอรุณ สามารถ","6530712733","บริหาร","2003-09-01","2","ซุปเปอร์ไวเซอร์"]
[null,"100287","09-RY","1570400182827","น.ส สุมิตรา อุ่นเอ้ย","6530713012",null,"2023-04-20","5","พนักงานขาย"]
[null,"100351","09-RY","1210500062117","นางสาวนงนุช มูลน้ำอ่าง","6530713129","ขาย","2018-08-17","5","พนักงานขาย"]
[null,"100371","09-RY","1210500072562","น.ส.ชวนพิศ จิ๋วหุ่น","6530713111",null,"2024-07-25","5","พนักงานขาย"]
[null,"100893","09-RY","1219900848361","นางสาวชนากานต์ สอนดี","6530713681","ขาย","2020-10-05","5","พนักงานขาย"]
[null,"103897","09-RY","5720700062496","นางสาวกุลจิรา สร้อยสุมาลี","6530749222","ขาย","2024-05-03","5","พนักงานขาย"]
[null,"104241","09-RY","2179900011932","นายวรัญญู มัติพงษ์","2774882241","ขาย","2023-02-21","5","พนักงานขาย"]
[null,"105135","09-RY","1310300101584","นายอดิพงษ์ พิศเพ่ง","6530758348","ขาย","2025-02-24","5","พนักงานขาย"]
[null,"105434","09-RY","1210500088141","นางสาวสุชัญญา ศิลารัตน์","6530766853","ขาย","2023-11-02","5","พนักงานขาย"]
[null,"106399","09-RY","1439900283711","นางสาวดวงกมล พรมมิตร","6480183885","ขาย","2024-06-12","5","พนักงานขาย"]
[null,"106756","09-RY","1219900704041","นางสาวอาภัสรา วิเวกกิ่ง","5727318411","ขาย","2024-10-07","5","พนักงานขาย"]
[null,"106841","09-RY","1219901051114","นางสาวจิดาภา บุญประจวบ","5727319740","ขาย","2024-10-08","5","พนักงานขาย"]
[null,"107019","09-RY","1219901030869","นางสาวกัญญารัตน์ น้ำใจ","9808748181","ขาย","2024-11-29","5","พนักงานขาย"]
[null,"107316","09-RY","1909802593567","นางสาวนภาพรรณ ขวัญทองยิ้ม","5727332636","ขาย","2025-03-13","5","พนักงานขาย"]
[null,"107327","09-RY","1439900577749","นางสาวศิริวรรณ พรมมิตร","5750502444","ขาย","2025-03-18","5","พนักงานขาย"]
[null,"107328","09-RY","1219900564673","นายณัฐพล แสนเกษม","9774108568","ขาย","2025-03-18","5","พนักงานขาย"]
[null,"100250","09-RY","3210500174574","นายปวริศ บำรุงจันทร์","6530712964",null,"2024-05-03","6","พนักงานช่วยขาย"]
[null,"100420","09-RY","1341600215918","นายเจษฎา ช่างทองคำ","6530713079",null,"2019-02-21","6","พนักงานช่วยขาย"]
[null,"102999","09-RY","3460500891908","นายวชิรัตน์ โชติประเสริฐ","5727226895","ขาย","2022-05-24","6","พนักงานช่วยขาย"]
[null,"103297","09-RY","1949900446313","นายมูฮัมหมัด ผ่องพรรณ์","4435144797","ขาย","2025-03-01","6","พนักงานช่วยขาย"]
[null,"103785","09-RY","3210500687482","นายอนันต์ วงศ์จิราษฎร์","6530747606","ขาย","2023-12-09","6","พนักงานช่วยขาย"]
[null,"105492","09-RY","1210500098324","นางสาวกานต์รวี บุญศรี","6530767877","ขาย","2024-07-15","6","พนักงานช่วยขาย"]
[null,"106163","09-RY","1209702065085","นายมาโนช คงศิริ","5727302225","ขาย","2024-04-29","6","พนักงานช่วยขาย"]
[null,"106644","09-RY","1210500063482","นางสาวอัญชลี ประทุมเพ็ชร","5727314048","ขาย","2024-08-08","6","พนักงานช่วยขาย"]
[null,"106652","09-RY","3301501080573","นายศรายุทธ โสแก้ว","5727314725","ขาย","2025-01-20","6","พนักงานช่วยขาย"]
[null,"106956","09-RY","1219900561259","นางสาวดารารัตน์ หุ่นทอง","4980470225","ขาย","2024-11-07","6","พนักงานช่วยขาย"]
[null,"107039","09-RY","1739900308168","นยายภาณุพงศ์ พุ่มทอง","5727325671","ขาย","2024-12-04","6","พนักงานช่วยขาย"]
[null,"107171","09-RY","1219900072738","นายอนุรัฐ ก้อนทอง","5727319682","ขาย","2025-01-27","6","พนักงานช่วยขาย"]
[null,"107233","09-RY","1440500129091","นายยุทธนา ช่างพละดิษ","5727325598","ขาย","2025-02-13","6","พนักงานช่วยขาย"]
[null,"100231","09-RY","3250600122487","นายเกรียงศักดิ์ ภักดี","0560605396","ขาย","2006-08-01","","ซุปเก่า"]
[null,"100258","10-SK","3930100719640","นายสุธน มากพิบาล","0560605115",null,"2017-03-27","5","พนักงานขาย"]
[null,"100623","10-SK","2200100022663","นางสาวกาญจนา ฉันทะ","0560605040",null,"2020-03-21","5","พนักงานขาย"]
[null,"102417","10-SK","1801400152705","นายวีรยุทธ รุ่งเรือง","0560610750","ขาย","2022-01-04","5","พนักงานขาย"]
[null,"103935","10-SK","3240300120764","นาย ปัญญาดี ศรีอุไร","1834400143","ขาย","2022-11-23","5","พนักงานขาย"]
[null,"104332","10-SK","1720900127017","นายพิษณุ แจ้งใจดี","9805436152","ขาย","2023-03-07","5","พนักงานขาย"]
[null,"104636","10-SK","1209601310882","นายพิทักษ์ จันคำเข้ม","3424743270","ขาย","2024-11-16","5","พนักงานขาย"]
[null,"106600","10-SK","1249900378918","นายศราวุฒิ เลิกสวัสดิ์","5807279301","บริหาร","2024-07-30","5","พนักงานขาย"]
[null,"106715","10-SK","1100201507061","นายณัฐกาล เนตรจุ้ย","5130305435","ขาย","2024-09-02","5","พนักงานขาย"]
[null,"106998","10-SK","1807800058230","นายสิทธินนท์ จันทร์กลับ","0987298114","ขาย","2024-11-18","5","พนักงานขาย"]
[null,"107296","10-SK","1250300051529","นางสาวราตรี เจริญผล","8680921510","ขาย","2025-03-04","5","พนักงานขาย"]
[null,"100182","10-SK","3410300269413","นายมณฑล จำปา","0560605081",null,"2010-11-11","6","พนักงานช่วยขาย"]
[null,"103339","10-SK","1440800151997","นายเอนก พรมลี","9804094929","ขาย","2024-11-16","6","พนักงานช่วยขาย"]
[null,"106985","10-SK","1550400084256","นายสุทธิพงษ์ รัตน์เรืองศิลป์","6077860614","ขาย","2024-11-13","6","พนักงานช่วยขาย"]
[null,"100353","12-PY","1331200099864","นายราเชนทร์ แพทย์มด","9830108933","ขาย","2018-08-13","5","พนักงานขาย"]
[null,"104252","12-PY","1331200103110","นายสุทัศน์ แพทย์มด","6280442408","ขาย","2023-02-27","5","พนักงานขาย"]
[null,"105598","12-PY","1629900195046","นายกิตติกร ยามวัน","9808101738","ขาย","2024-11-06","5","พนักงานขาย"]
[null,"105646","12-PY","1678700039082","นายนภดน ทนีวัน","9808210687","ขาย","2024-01-06","5","พนักงานขาย"]
[null,"105663","12-PY","1310800150436","นางสาวนงนุช เตียกประโคน","9808247853","ขาย","2024-10-30","5","พนักงานขาย"]
[null,"106101","12-PY","3250400250571","นางสาวรัชนก นามวงศ์","9808765102","ขาย","2024-04-20","5","พนักงานขาย"]
[null,"106626","12-PY","1449900773831","นางสาวทิพยวรรณ โง่นสา","9809670681","ขาย","2024-08-02","5","พนักงานขาย"]
[null,"101075","12-PY","1331000297221","นายวิโรจน์ แพทย์มด","9830108990","ขาย","2021-01-12","6","พนักงานช่วยขาย"]
[null,"101541","12-PY","1339000010450","นายสุริยา จำปาหอม","9830109923","ขาย","2024-08-28","6","พนักงานช่วยขาย"]
[null,"103531","12-PY","1209700198118","นายพงษ์เดช ปิ่นยกูล","9830109030","ขาย","2022-08-25","6","พนักงานช่วยขาย"]
[null,"105456","12-PY","1338800027852","นายณัฐวัฒน์ แพทย์มด","9807975322","ขาย","2023-11-10","6","พนักงานช่วยขาย"]
[null,"106431","12-PY","1620200094842","นายเพชรอนันท์ วงษ์กระจ่าง","9808254719","ขาย","2024-06-18","6","พนักงานช่วยขาย"]
[null,"107071","12-PY","3331300142075","นายเสวย จุลแดง","4870683879","ขาย","2024-12-17","6","พนักงานช่วยขาย"]
[null,"107134","12-PY","1459900164100","นายธนะรัตน์ ใจทัด","7030806272","ขาย","2025-01-06","6","พนักงานช่วยขาย"]
[null,"100361","13-SR","1240600104717","นายเดชอุดม ลบไธสง","6640202211","ขาย","2018-09-18","5","พนักงานขาย"]
[null,"100495","13-SR","1480600138512","นายจีรวัฒน์ จิตมาตย์","6640202138","ขาย","2025-01-27","5","พนักงานขาย"]
[null,"102983","13-SR","1329900418927","นายสัญญา พวงพี่","6710349033","ขาย","2024-10-02","5","พนักงานขาย"]
[null,"103551","13-SR","3340700077814","นายสุทิน เจริญชัย","6710352383","บริหาร","2022-09-01","5","พนักงานขาย"]
[null,"105423","13-SR","1329901224239","นายธนภัทร สมานสวน","3015333630","ขาย","2023-11-01","5","พนักงานขาย"]
[null,"105896","13-SR","1430600164521","นายณรงค์ฤทธิ์ พิมสิทธิ์","3015252376","บริหาร","2024-03-01","5","พนักงานขาย"]
[null,"106327","13-SR","1139900253229","นายอธิชาติ ล้ำเลิศ","6440630769","ขาย","2024-06-04","5","พนักงานขาย"]
[null,"106699","13-SR","1209401036434","นายศิรัสพล อ่อนวรรณะ","9809881635","ขาย","2024-09-02","5","พนักงานขาย"]
[null,"107109","13-SR","1329901030337","นายสิทธิชัย ถูกจิต","6440553557","ขาย","2025-01-07","5","พนักงานขาย"]
[null,"107140","13-SR","1329900056278","นายวัชรพงษ์ กลิ่นสุคนธ์","4060790054","ขาย","2025-01-17","5","พนักงานขาย"]
[null,"107141","13-SR","1329901079018","นายอนุรักษ์ สมานสวน","5457229838","ขาย","2025-01-20","5","พนักงานขาย"]
[null,"107342","13-SR","1310500190173","นายปริวัฒน์ อาจหาญ","9774283197","ขาย","2025-03-20","5","พนักงานขาย"]
[null,"107349","13-SR","1329900498807","นายอภิสิทธิ์ ประกอบดี","9774316179","ขาย","2025-03-22","5","พนักงานขาย"]
[null,"107350","13-SR","1320100225719","นายศราวุธ ภูมิไสว","9804111061","ขาย","2025-03-22","5","พนักงานขาย"]
[null,"107361","13-SR","1329901100548","นายวรเมธ เป็นสำราญ","6147954348","ขาย","2025-03-28","5","พนักงานขาย"]
[null,"107362","13-SR","1329900663212","นายเอกพันธ์ ผลเกิด",null,"ขาย","2025-03-27","5","พนักงานขาย"]
[null,"107377","13-SR","1100200485161","น.ส. รัณลณา แสนสุข",null,"ขาย","2025-04-04","5","พนักงานขาย"]
[null,"100300","13-SR","1450900002390","นายปวีณ์กร ประเสริฐสังข์","6640202252","ขาย","2018-02-12","6","พนักงานช่วยขาย"]
[null,"102290","13-SR","3321000362100","นายเดชา กันนิดา","6890295873","ขาย","2021-11-29","6","พนักงานช่วยขาย"]
[null,"106355","13-SR","1329901183605","นายมนชัย จันทร์หอม","5457217502","ขาย","2024-06-07","6","พนักงานช่วยขาย"]
[null,"107151","13-SR","1460700135434","นายวีระพงษ์ ปาวาลย์","5457212271","ขาย","2025-01-24","6","พนักงานช่วยขาย"]
[null,"107169","13-SR","3321300012431","นายธนโชติ ศิริมา","5457230117","ขาย","2025-01-28","6","พนักงานช่วยขาย"]
[null,"107310","13-SR","1329900407038","นายชัยชาญ ยอดเพชร","4084007105","ขาย","2025-03-11","6","พนักงานช่วยขาย"]
[null,"107358","13-SR","5320100055239","นายวิมาน กล้วยสุก","4794277022","ขาย","2025-03-26","6","พนักงานช่วยขาย"]
[null,"100201","13-SR","3310300622769","นายสิทธิศักดิ์ จบไตรเภท","6640202088","ขาย","2015-01-05","","ซุปเก่า"]
[null,"107295","13-SR","3320100278533","นายสุธรรม สุขล้อม","5457231271","บริหาร","2025-03-07","","พนักงงานช่วยขาย"]
[null,"100384","14-CB","1219900182576","นายเมธี มานะเวช","6530712931","ขาย","2018-12-07","5","พนักงานขาย"]
[null,"100533","14-CB","1229800071411","นาย อภิชัย ทองทวี","6420279231","ขาย","2019-08-11","5","พนักงานขาย"]
[null,"101877","14-CB","1220800015378","นายบารมี ใบทอง","7760098355","ขาย","2024-06-11","5","พนักงานขาย"]
[null,"105002","14-CB","1229901005198","นายฐิติพงศ์ กลมเกลี้ยง","5197015927","ขาย","2024-07-26","5","พนักงานขาย"]
[null,"105888","14-CB","1200200007897","นางสาวมุกดา ล้อมประโคน","9808496120","ขาย","2024-02-26","5","พนักงานขาย"]
[null,"106298","14-CB","1730301175901","นายณัฐวุฒิ จุลเดช","9808997960","ขาย","2024-05-27","5","พนักงานขาย"]
[null,"106969","14-CB","1150601174094","นายรังสิมันต์ ศรีภิรมย์","4760641797","ขาย","2024-11-11","5","พนักงานขาย"]
[null,"106971","14-CB","1239900353176","นายสิทธิพงษ์ ธรรมโภชน์","9770385251","ขาย","2024-11-11","5","พนักงานขาย"]
[null,"107105","14-CB","1229900886743","นายสหรัฐ บัวทอง","5197034969",null,"2025-01-06","5","พนักงานขาย"]
[null,"107116","14-CB","1219900917754","นายจิราวุฒิ อาญาเมือง","9804813054","ขาย","2025-01-10","5","พนักงานขาย"]
[null,"107277","14-CB","1229900880516","นายรัชพล คงรอด","4760602385","ขาย","2025-03-01","5","พนักงานขาย"]
[null,"102175","14-CB","1509900661307","นาย ประพัฒน์ คงประดิษฐ์","6420279264","ขาย","2024-08-27","6","พนักงานช่วยขาย"]
[null,"104158","14-CB","5120600040666","นายชาติชาย จูแจ้ง","5190385442","ขาย","2024-06-14","6","พนักงานช่วยขาย"]
[null,"106383","14-CB","1209700369915","นายวิรัตน์ ยะก๊บ","7450304352","ขาย","2024-09-02","6","พนักงานช่วยขาย"]
[null,"107104","14-CB","1229900071014","นายพิรุณ รุ่งสว่าง","9770703420","ขาย","2025-01-06","6","พนักงานช่วยขาย"]
[null,"107248","14-CB","1229900866700","นางพงษ์พิพัฒน์ ใจสะอาด","9774029681","ขาย","2025-02-19","6","พนักงานช่วยขาย"]
[null,"100194","14-CB","1210500096437","นาย ธนพงษ์ สมรมิตร","6420279124","ขาย","2011-11-18","","ซุปเก่า"]
[null,"100567","14-CB","1210500079605","นายพิพัฒน์ จันทร์ทอง","6530712998","ขาย","2020-01-13","","ซุปเก่า"]
[null,"100284","15-UB","3341500758380","นายสุวิทย์ อัคบุตร","9740253746","ขาย","2017-11-08","5","พนักงานขาย"]
[null,"100330","15-UB","1341500213891","นายพิพัฒน์ จำปารัตน์","9740253803","ขาย","2018-06-20","5","พนักงานขาย"]
[null,"100797","15-UB","1349901026194","นายกิตติศักดิ์ โสชะดา","9740253860","ขาย","2023-05-05","5","พนักงานขาย"]
[null,"101377","15-UB","3341500358675","นายถวัล ฉันไชย","9740144762","ขาย","2021-04-05","5","พนักงานขาย"]
[null,"101910","15-UB","1349901077261","นายณัฐกิตติ์ จุลทัศน์","9740258448","ขาย","2021-07-22","5","พนักงานขาย"]
[null,"101947","15-UB","1349990001079","นายตะวัน วิเวกวรณ์","9740258836","ขาย","2021-08-09","5","พนักงานขาย"]
[null,"102950","15-UB","1341500316658","นายวันชัย เพ็งอ่อนเนตร","9740266946","ขาย","2022-05-17","5","พนักงานขาย"]
[null,"104697","15-UB","1129701335527","นายชานนท์ พวงเพชร","9740278487","บริหาร","2023-05-19","5","พนักงานขาย"]
[null,"104715","15-UB","1250200017990","นายบุญนำ จันสมดี","7220356799","ขาย","2023-05-22","5","พนักงานขาย"]
[null,"106635","15-UB","1349900779288","นายธีรภัทร์ พันธ์เถื่อน","9809594733","ขาย","2024-08-09","5","พนักงานขาย"]
[null,"106860","15-UB","1339900071048","นายนัฐกร วงศ์กรกิจกุล","3334333535","บริหาร","2024-10-14","5","พนักงานขาย"]
[null,"107329","15-UB","1330700150191","นายวราพล ศรีเลิศ","4795013152","ขาย","2025-03-18","5","พนักงานขาย"]
[null,"100230","15-UB","3310200542399","นายสมเดช ลาบรัมย์","9740253530","ขาย","2018-02-21","6","พนักงานช่วยขาย"]
[null,"100260","15-UB","1331300058272","นายนพรัตน์ สุขอ้วน","9740253522","ขาย","2017-05-05","6","พนักงานช่วยขาย"]
[null,"101096","15-UB","1349900434841","นายทวนทน แย้มกลีบ","9740253886","ขาย","2021-01-19","6","พนักงานช่วยขาย"]
[null,"102538","15-UB","1349900666131","นายจารุวัตร คูณสมบัติ","9740263968","ขาย","2022-02-10","6","พนักงานช่วยขาย"]
[null,"102602","15-UB","1349700153415","นายวัชรินทร์ ลายประจักษ์","9740264750","ขาย","2022-03-01","6","พนักงานช่วยขาย"]
[null,"103464","15-UB","1331300071635","นายสถาพร พวงจำปา","9740270013","ขาย","2022-08-15","6","พนักงานช่วยขาย"]
[null,"103674","15-UB","1349900988839","นายศุภชัย หม่องคำธิ","9740271227","บริหาร","2022-09-26","6","พนักงานช่วยขาย"]
[null,"104334","15-UB","1349800082633","นายเจษฎา ก้อนคำบา","9740276192","ขาย","2023-03-11","6","พนักงานช่วยขาย"]
[null,"104533","15-UB","1341500268912","นายอภิสิทธิ์ กาคำผุย","9740277570","บริหาร","2023-04-24","6","พนักงานช่วยขาย"]
[null,"106735","15-UB","1319700002441","นายกวิน ลาบรัมย์","9809962328","ขาย","2024-09-14","6","พนักงานช่วยขาย"]
[null,"102269","16-KL","5571300044353","น.ส.จันทร์ จันทะวงศ์","9350331295","ขาย","2021-11-09","5","พนักงานขาย"]
[null,"104336","16-KL","1129700030234","นายอัษฎาวุธ โคมน้อย","1784860544","ขาย","2025-02-17","5","พนักงานขาย"]
[null,"106243","16-KL","1779900276657","นายทินกร ระหว่างทัพ","0985591817","ขาย","2024-05-13","5","พนักงานขาย"]
[null,"107064","16-KL","3450700247964","นายรัตนพล พลเอี่ยม","0280639436","ขาย","2024-12-16","5","พนักงานขาย"]
[null,"107375","16-KL","1219800288992","นายปรัชญา วรรณศิริ","0987751989","ขาย","2025-03-28","5","พนักงานขาย"]
[null,"101364","16-KL","3570300622082","นายบุญแก้ว วงศ์ชัย","9350322930","ขาย","2021-03-29","6","พนักงานช่วยขาย"]
[null,"103430","16-KL","3800110124251","นายอมรเทพ คันธิก","0560605107","ขาย","2022-08-08","6","พนักงานช่วยขาย"]
[null,"104248","16-KL","1649000019217","นาย สุริวงศ์ พาดี","4310773785","ขาย","2023-02-21","6","พนักงานช่วยขาย"]
[null,"106534","16-KL","3740100079324","นายวิชาญ สุดประเสริฐ","0985816933","ขาย","2025-01-06","6","พนักงานช่วยขาย"]
[null,"107089","16-KL","1103703069977","นายธนวัฒน์ อิ่มสกุล","0917220261","ขาย","2025-01-02","6","พนักงานช่วยขาย"]
[null,"107100","16-KL","1601500000585","นายณัฐพงษ์ แหยมโอ๊ก","0917576779","ขาย","2025-01-04","6","พนักงานช่วยขาย"]
[null,"104262","17-LA","1459900574561","นางสาวกาญจนา รูปสูง","7350438565","ขาย","2023-02-23","5","พนักงานขาย"]
[null,"104357","17-LA","1459900226971","น.ส.ฉัตรเงิน สังฆะคาม","9800660921","ขาย","2023-03-13","5","พนักงานขาย"]
[null,"104933","17-LA","1459100014600","น.ส.สงกรานต์ ท่าไคร้กลาง","2695112116","ขาย","2023-07-01","5","พนักงานขาย"]
[null,"104959","17-LA","1450500099639","นายพีระยุทธ สังฆะคาม","9957124598","ขาย","2023-07-06","5","พนักงานขาย"]
[null,"105639","17-LA","1450100119489","น.ส.สุกัญญา ภาวะลี","9958217110","ขาย","2024-01-04","5","พนักงานขาย"]
[null,"106147","17-LA","1459900698481","นายกิตติชัย ใจภักดี","2695156782","ขาย","2024-04-26","5","พนักงานขาย"]
[null,"106209","17-LA","1459901142266","นางสาวสุทามาศ วิเชียรศาสตร์","9808865373","ขาย","2025-03-01","5","พนักงานขาย"]
[null,"106307","17-LA","1459901111174","นายสุธิพงษ์ เหลานาคำ","9958231590","ขาย","2024-05-24","5","พนักงานขาย"]
[null,"107179","17-LA","1459901066861","นายอภิรักษ์ วรรณสิงห์","9770945666","ขาย","2025-01-30","5","พนักงานขาย"]
[null,"107192","17-LA","1451800001520","นายนพรัตน์ นุแสน","9950155573","ขาย","2025-02-03","5","พนักงานขาย"]
[null,"107347","17-LA","1459900980667","นายภูวดล ไชยจะรา","9774286216","ขาย","2025-03-24","5","พนักงานขาย"]
[null,"107348","17-LA","1103702953164","นายกฤษณพงศ์ โพธิชาราช","9958242548","ขาย","2025-03-24","5","พนักงานขาย"]
[null,"101960","17-LA","1459900977577","นายพรหมรินท์ เพชรศรี","5360655061","ขาย","2023-05-22","6","พนักงานช่วยขาย"]
[null,"103993","17-LA","3460300405538","นายชูชาติ คำสะอาด","2695146544","ขาย","2022-12-12","6","พนักงานช่วยขาย"]
[null,"104472","17-LA","1450700281970","นายคมจิตร เศษลือ","9804394139","ขาย","2023-04-10","6","พนักงานช่วยขาย"]
[null,"104686","17-LA","1459900198594","นายณัฐพล สังฆะมณี","6327056757","ขาย","2023-05-15","6","พนักงานช่วยขาย"]
[null,"104709","17-LA","1450800141118","นางสาวเปรมวดี โพธิ์หนองโคก","9805772937","ขาย","2023-05-22","6","พนักงานช่วยขาย"]
[null,"104845","17-LA","3450100803599","นายเทียนชัย ลือไพบูลย์","9807109641","ขาย","2023-06-12","6","พนักงานช่วยขาย"]
[null,"105245","17-LA","2459900020696","นายวทัญญู รู้ยืนยง","9958219728","ขาย","2023-09-11","6","พนักงานช่วยขาย"]
[null,"105483","17-LA","1459900001944","นายวราวุธ ศิริเกตุ","5360670326","ขาย","2024-11-11","6","พนักงานช่วยขาย"]
[null,"106127","17-LA","1459900987696","นายภูวดล สรรพวุธ","9958229677","ขาย","2024-04-19","6","พนักงานช่วยขาย"]
[null,"106999","17-LA","3451000709214","นายสุริยา สุรำไพ","2695201240","บริหาร","2024-11-23","6","พนักงานช่วยขาย"]
[null,"107232","17-LA","1400200113211","นายธีรเดช ทองเดือน","9958241144","ขาย","2025-02-13","6","พนักงานช่วยขาย"]
[null,"107254","17-LA","3450101464925","นายกิตติศักดิ์ จันทร์โฮม","9958052145","ขาย","2025-02-18","6","พนักงานช่วยขาย"]
[null,"107334","17-LA","3450100853413","นายสุรชาติ แวดอุดม","9774244678","ขาย","2025-03-19","6","พนักงานช่วยขาย"]
[null,"107335","17-LA","1450100100010","นายจรายุทธ สมสวัสดิ์","5360673791","ขาย","2025-03-19","6","พนักงานช่วยขาย"]
[null,"107336","17-LA","3750300232835","นายพรหมชาติ ตันติภัณฑรักษ์","5360673809","ขาย","2025-03-19","6","พนักงานช่วยขาย"]
[null,"100724","18-SN","3471500045498","นายสิทธิชัย หารธงไชย","3164800645",null,"2020-06-22","5","พนักงานขาย"]
[null,"101008","18-SN","3480600141129","นายชำนาญ จันทร์ภิรมย์","3164800520",null,"2025-03-04","5","พนักงานขาย"]
[null,"102704","18-SN","1479900149160","นายสมนิมิตร เสาร์ทอง","6900223873","ขาย","2023-09-04","5","พนักงานขาย"]
[null,"103460","18-SN","1411900187633","นายอาทิตย์ วิชัยภูมิ","3164819058","ขาย","2022-08-13","5","พนักงานขาย"]
[null,"103484","18-SN","1479900348740","นายการันต์ พันธุ์วุฒิ","3164818647","ขาย","2022-08-17","5","พนักงานขาย"]
[null,"104536","18-SN","1470801344713","นายบำรุง โสภา","3164815437","ขาย","2024-10-03","5","พนักงานขาย"]
[null,"104774","18-SN","1479900309299","นายพุทธินันท์ บัวทะราช","3164828208","ขาย","2023-06-05","5","พนักงานขาย"]
[null,"105445","18-SN","1479900447713","นายฤทธิชัย กวานเจ้าจันทร์","9807250049","ขาย","2023-11-09","5","พนักงานขาย"]
[null,"105566","18-SN","1479900309621","นายธนะยศ ชาคุณ","3164833521","ขาย","2024-02-22","5","พนักงานขาย"]
[null,"105600","18-SN","1470300116203","นายแสนสุข แก้วบุรมย์","6900311322","ขาย","2024-01-02","5","พนักงานขาย"]
[null,"105637","18-SN","1471400056297","นายโฆษิต วงค์ประชา","0264628777","ขาย","2024-01-09","5","พนักงานขาย"]
[null,"105778","18-SN","1409700193921","นายธนพล หมั่นเพียร","3164834537","ขาย","2024-02-03","5","พนักงานขาย"]
[null,"106388","18-SN","3470800389582","นายณรงค์ศักดิ์ ถาวร","4104156742","ขาย","2024-06-12","5","พนักงานขาย"]
[null,"106729","18-SN","1149900644953","นายจีระวัส คุ้มพ่วงมี","3164841821","บริหาร","2024-09-16","5","พนักงานขาย"]
[null,"106773","18-SN","1609700112961","นายอาทิตย์ บุตรพรม","3164842340","ขาย","2024-09-26","5","พนักงานขาย"]
[null,"107090","18-SN","1479900122059","นายแทนคุณ บอนสิทธิ์","6700145888","ขาย","2025-01-03","5","พนักงานขาย"]
[null,"107091","18-SN","1471400046836","นายธนพร ดงภูยาว","0290312180","ขาย","2025-01-03","5","พนักงานขาย"]
[null,"107223","18-SN","1470401264101","นายอลงกรณ์ พิทักษ์กุล","3164845491","ขาย","2025-02-05","5","พนักงานขาย"]
[null,"100508","18-SN","3471500044882","นายประสงค์ หารธงไชย","3164800595",null,"2019-09-16","6","พนักงานช่วยขาย"]
[null,"100522","18-SN","3410400650348","นายสุชิน สรสิทธิ์","3164800579",null,"2019-10-05","6","พนักงานช่วยขาย"]
[null,"100656","18-SN","1411900183654","นายวิทูรย์ ยางดอน","3164800710",null,"2024-08-25","6","พนักงานช่วยขาย"]
[null,"100933","18-SN","2119400001156","นายหนึ่ง วัฒนะนาวินรัตน์","5717019581","ขาย","2020-10-26","6","พนักงานช่วยขาย"]
[null,"101114","18-SN","1361300084788","นายอำนาจ เครือเค้","3164800678",null,"2021-01-26","6","พนักงานช่วยขาย"]
[null,"103023","18-SN","3470100498176","นายจักราวุธ คึ้มยะราช","6900252724","ขาย","2022-05-30","6","พนักงานช่วยขาย"]
[null,"103693","18-SN","3470100546235","นายประทิน ประทาพันธ์","3164820908","ขาย","2022-09-28","6","พนักงานช่วยขาย"]
[null,"104272","18-SN","1479900177708","นายธนากร พลไตร","9804738244","ขาย","2023-03-02","6","พนักงานช่วยขาย"]
[null,"106080","18-SN","1430300290998","นายวิทวัส วรรณรักษา","9808464722","บริหาร","2024-04-17","6","พนักงานช่วยขาย"]
[null,"100555","19-UD","1390100030934","นางสาวเจนจิรา แก้วสาลาภูมิ","3697049736","ขาย","2023-02-23","5","พนักงานขาย"]
[null,"105083","19-UD","1419900121958","นางสาวศุภิสราย์ จักขุลี","4125190498","ขาย","2023-08-02","5","พนักงานขาย"]
[null,"105334","19-UD","1419902067039","นางสาวสุจิตตรา คำเวียงคำ","9800762701","ขาย","2023-10-04","5","พนักงานขาย"]
[null,"105377","19-UD","1419902224924","นางสาวไพลิน อุ้ยปะโค","9807802302","ขาย","2023-10-09","5","พนักงานขาย"]
[null,"105584","19-UD","1419901719393","นางสาวรุ่งรัตน์ นาครทรรพ","3697077414","ขาย","2025-02-25","5","พนักงานขาย"]
[null,"105749","19-UD","5410690015183","นายอัคเดช สุเมธีเนติคุณ","6167464434","ขาย","2024-01-25","5","พนักงานขาย"]
[null,"105845","19-UD","1419900439648","นายพนา ดอนเปตง","7680192122","ขาย","2025-03-03","5","พนักงานขาย"]
[null,"106036","19-UD","1439600001299","นางสาวอัญติยา โสณายะ","9807673976","ขาย","2024-03-29","5","พนักงานขาย"]
[null,"106038","19-UD","1410100176237","นางสาวอาทิตยา พันธ์เหลา","6167470969","ขาย","2024-03-26","5","พนักงานขาย"]
[null,"106515","19-UD","1103702706531","นายตรีทเศศ พรมชัย","6147787698","ขาย","2024-07-03","5","พนักงานขาย"]
[null,"106548","19-UD","2412001019974","นายสุวิจักขณ์ เสมอสาย","9809416143","ขาย","2024-07-17","5","พนักงานขาย"]
[null,"107079","19-UD","1438900001935","นางสาวรุ่งนภา กุลวงษ์","9190289554","ขาย","2024-12-23","5","พนักงานขาย"]
[null,"107191","19-UD","1411200050813","นายสุริยัน หาทรัพย์","9770881374","ขาย","2025-02-03","5","พนักงานขาย"]
[null,"107258","19-UD","1310600145340","นายพรเจริญ จริงประโคน","3697081705","ขาย","2025-02-18","5","พนักงานขาย"]
[null,"107288","19-UD","1410800103291","นายลภัสวัฒน์ พัฒนโซติกิตติธาดา","9774113998","ขาย","2025-02-27","5","พนักงานขาย"]
[null,"107304","19-UD","1419902195813","นางสาว นลิตา สีกาแกะ","9774173943","ขาย","2025-03-10","5","พนักงานขาย"]
[null,"107355","19-UD","1419900473552","นาย ธีระศักดิ์ ชารีโคตร","9774315460","ขาย","2025-03-21","5","พนักงานขาย"]
[null,"100272","19-UD","1410600273231","นายสุเมธ อย่างสวย","3697049843","ขาย","2017-07-01","6","พนักงานช่วยขาย"]
[null,"100551","19-UD","3412000198172","นายพิชิตชัย คลังทอง","3697049801","ขาย","2019-11-06","6","พนักงานช่วยขาย"]
[null,"100625","19-UD","1410300043397","นายสากล บุญตา","3697050064","ขาย","2024-04-29","6","พนักงานช่วยขาย"]
[null,"101177","19-UD","3411200680333","นางทิตย์วลา วรรณปะถา","0735475816","ขาย","2021-02-11","6","พนักงานช่วยขาย"]
[null,"101897","19-UD","1419900267642","นางสาวสุนิศา สีทอง","3697055311","ขาย","2021-07-19","6","พนักงานช่วยขาย"]
[null,"103480","19-UD","1419901806351","นางสาวชลิตา ซุยเสนา","6167367892","ขาย","2022-08-11","6","พนักงานช่วยขาย"]
[null,"103929","19-UD","1411900228011","ว่าที่ร.ต.ภูมิพัฒน์ เมืองหมี","9950090473","ขาย","2024-08-01","6","พนักงานช่วยขาย"]
[null,"105248","19-UD","1430201348360","นายภานุเดช หุ่นเที่ยง","4125129629","ขาย","2023-09-14","6","พนักงานช่วยขาย"]
[null,"105329","19-UD","1250200083658","นายศักดิ์ชัย จันสุกใส","9805400208","ขาย","2023-10-02","6","พนักงานช่วยขาย"]
[null,"105941","19-UD","2411701025615","นาย พัฒน์พงษ์ รินรัมย์","9807802732","ขาย","2024-03-06","6","พนักงานช่วยขาย"]
[null,"106466","19-UD","1430200122490","นายวีรยุทธ อักษร","6160690431","ขาย","2024-06-22","6","พนักงานช่วยขาย"]
[null,"106486","19-UD","3110200632055","นายศุภชัย บางอีเกรง","9809350318","ขาย","2024-07-02","6","พนักงานช่วยขาย"]
[null,"106514","19-UD","1410400023096","นายมนูญ พรมบัวคู","9809341085","ขาย","2024-07-08","6","พนักงานช่วยขาย"]
[null,"106764","19-UD","1419902054115","นายธนากร ศรีคูณ","6160629645","ขาย","2024-09-16","6","พนักงานช่วยขาย"]
[null,"103425","20-PC","1670800098229","นายอธิวัฒน์ ก้อนจันเทศ","3314864228","ขาย","2022-08-08","5","พนักงานขาย"]
[null,"103624","20-PC","1191100123889","นายเกียรติศักดิ์ อินอร่าม","7590533696","ขาย","2022-09-15","5","พนักงานขาย"]
[null,"105134","20-PC","1309801337937","นางสาวอรทัย โตจันทึก","7590561622","ขาย","2024-09-02","5","พนักงานขาย"]
[null,"105640","20-PC","1100201818164","นางสาววินันดา กล้าหาญ","7590528282","ขาย","2024-01-02","5","พนักงานขาย"]
[null,"105996","20-PC","1309801514316","นางสาวนันชิตา เประดา","7590579137","ขาย","2024-03-25","5","พนักงานขาย"]
[null,"106148","20-PC","3302100798458","นายณรงค์ โหจันทึก","7590582123","ขาย","2024-04-29","5","พนักงานขาย"]
[null,"106213","20-PC","1659900199548","นายภูบดินทร์ นิลเสถียร","7590582990","ขาย","2024-05-08","5","พนักงานขาย"]
[null,"106215","20-PC","1419900645833","นายภัทรภูมิ นิลเสถียร","7420280443","ขาย","2024-05-09","5","พนักงานขาย"]
[null,"106948","20-PC","2191100021456","นายพันธนเกียรติ พรมแก้วต่อ","1185443577","ขาย","2024-11-07","5","พนักงานขาย"]
[null,"107173","20-PC","1419900391564","นางสาวภัทรานิษฐ์ นิลเสถียร","7420167954","ขาย","2025-01-29","5","พนักงานขาย"]
[null,"107270","20-PC","1102700682839","นายสามารถ พิมายรัมย์","7590603721","ขาย","2025-02-24","5","พนักงานขาย"]
[null,"107281","20-PC","1309801393641","นายสกุลเกียรติ ฟองประสาท","9774113725","ขาย","2025-03-03","5","พนักงานขาย"]
[null,"107384","20-PC","1302201138155","นายพนธกร คำกลาง","9774350541","ขาย","2025-04-01","5","พนักงานขาย"]
[null,"100320","20-PC","1191100108553","นายอนุสรณ์ อินอร่าม","7590493388","ขาย","2018-05-28","6","พนักงานช่วยขาย"]
[null,"100539","20-PC","3341100136098","นายสาคร นามเขียว","7590493396","ขาย","2019-11-19","6","พนักงานช่วยขาย"]
[null,"100547","20-PC","3302100065817","นายสมเกียรติ พรมจันทึก","7590493297","ขาย","2019-12-09","6","พนักงานช่วยขาย"]
[null,"101993","20-PC","1191100113271","นายปฏิทัศน์ จันทสาร","3314934260","ขาย","2021-08-25","6","พนักงานช่วยขาย"]
[null,"104450","20-PC","1309801501974","นายรัฐภูมิ นามเขียว","7590550674","ขาย","2023-04-07","6","พนักงานช่วยขาย"]
[null,"105110","20-PC","1309800228816","นายกิตติพันธ์ โพสุนทร","7590561077","ขาย","2023-08-16","6","พนักงานช่วยขาย"]
[null,"105244","20-PC","1302100070504","นายธวัชชัย วงษายาน","7590563529","ขาย","2024-10-09","6","พนักงานช่วยขาย"]
[null,"100375","21-BR","1310100226359","นายชล โกรัมย์","6770255153",null,"2024-04-02","5","พนักงานขาย"]
[null,"100376","21-BR","1310100226341","นายฉัตร โกรัมย์","6770255146","ขาย","2018-11-09","5","พนักงานขาย"]
[null,"100538","21-BR","1310100051265","นายสมควร เรืองรัมย์","6770255179","ขาย","2019-11-18","5","พนักงานขาย"]
[null,"100955","21-BR","1319900578860","นายชาตรี พนมรัมย์","6770255195","ขาย","2022-10-21","5","พนักงานขาย"]
[null,"101950","21-BR","1319900329321","นายวีระชัย บุญคำ","7460408185","ขาย","2021-08-09","5","พนักงานขาย"]
[null,"103602","21-BR","1319900647110","นายสุริยา แกมรัมย์","7460426526","ขาย","2022-09-08","5","พนักงานขาย"]
[null,"104729","21-BR","1160100215871","นายวรวุฒิ เครือวงษา","6770271705","ขาย","2023-05-24","5","พนักงานขาย"]
[null,"104771","21-BR","1102002257741","นายนัฐวุฒิ สิงห์ป้อง","6770271945","ขาย","2023-06-02","5","พนักงานขาย"]
[null,"105271","21-BR","1360500083083","นายถิรเดช ไวประเสริฐ","6770273883","ขาย","2023-09-26","5","พนักงานขาย"]
[null,"105550","21-BR","1319900289752","นายธายุทธ พรหมบุตร","6357207502","บริหาร","2023-12-13","5","พนักงานขาย"]
[null,"105743","21-BR","1319900611204","นายอนาวิน หวังผล","7460446714","ขาย","2024-01-29","5","พนักงานขาย"]
[null,"105932","21-BR","1319900569003","นายเริงชัย คะนองพนาพร","6940623413","ขาย","2024-03-08","5","พนักงานขาย"]
[null,"106497","21-BR","1319900350168","นายอภิวิชญ์ รักษา","6770277397","ขาย","2024-07-10","5","พนักงานขาย"]
[null,"106502","21-BR","1311500038003","นายกิตติพงศ์ นิสสาวรรณ","2974936433","ขาย","2024-07-11","5","พนักงานขาย"]
[null,"107163","21-BR","2319900021570","นายธนพล บุษบงไพรวัลย์","2974948081","ขาย","2025-01-27","5","พนักงานขาย"]
[null,"100455","21-BR","1319900408697","นายอมรเทพ มากะเต","6770255112",null,"2023-02-13","6","พนักงานช่วยขาย"]
[null,"101805","21-BR","1310600007079","นายบุญส่ง ประสานรัมย์","6357157020","ขาย","2021-06-21","6","พนักงานช่วยขาย"]
[null,"102132","21-BR","1311600018101","นายกฤษฎา นุกิจรัมย์","8687437718","ขาย","2021-10-08","6","พนักงานช่วยขาย"]
[null,"102369","21-BR","1310100203057","นายรุ่งเพชร ดียิ่ง","2974879310","ขาย","2022-05-26","6","พนักงานช่วยขาย"]
[null,"103416","21-BR","1302000001659","นายจีรพงษ์ เปียนขุนทด","6770266788","ขาย","2023-08-07","6","พนักงานช่วยขาย"]
[null,"103707","21-BR","1100700664014","นายธีรวัฒน์ แสวงภพ","7460427797","บริหาร","2022-10-04","6","พนักงานช่วยขาย"]
[null,"104504","21-BR","1319900679747","นายฉัตรชัย ทองลอย","9805689586","ขาย","2023-04-20","6","พนักงานช่วยขาย"]
[null,"105519","21-BR","1420900111385","นายอภิเดช พรมทา","7460444149","ขาย","2023-12-06","6","พนักงานช่วยขาย"]
[null,"105687","21-BR","1319900792098","นายพนารินทร์ โสภาอุทก","9808259288","ขาย","2024-01-16","6","พนักงานช่วยขาย"]
[null,"100366","22-LB","1170200049248","นายวรายุส รอบรู้","2894617196","ขาย","2023-05-29","5","พนักงานขาย"]
[null,"100763","22-LB","2160100028930","นายณัฐพงษ์ อ่อนน่วม","2894617147","ขาย","2020-07-17","5","พนักงานขาย"]
[null,"101260","22-LB","1160100492638","นายนัฐวุฒิ จบดี","5887085206","ขาย","2021-03-08","5","พนักงานขาย"]
[null,"101883","22-LB","1160500034335","น.ส.กัญญาณี พุ่มพวง","2894621768","ขาย","2023-05-31","5","พนักงานขาย"]
[null,"102521","22-LB","1160700001660","นางสาวสุญาณิกา รัตนะทอง","2894627674","ขาย","2022-02-07","5","พนักงานขาย"]
[null,"104492","22-LB","1160100327050","นางสาวรัตน์ธิการณ์ นุ่นเกษร","9805644714","ขาย","2025-04-01","5","พนักงานขาย"]
[null,"106698","22-LB","1160101744282","นายชลกานต์ บุญชิต","3914201847","ขาย","2024-09-02","5","พนักงานขาย"]
[null,"106722","22-LB","1160100641986","นายจักรพงค์ เปิ้นวงค์","2894659628","ขาย","2024-09-09","5","พนักงานขาย"]
[null,"106817","22-LB","1620700054416","นายนพรัตน์ อ้นปาน","2894660345","ขาย","2024-10-07","5","พนักงานขาย"]
[null,"107180","22-LB","1319900807613","นายวาทิต เสียมศิริ","9809886121","ขาย","2025-02-01","5","พนักงานขาย"]
[null,"107181","22-LB","1770600202510","นายพันธ์ุเทพ เผื่อนพิทักษ์","9770919414","ขาย","2025-02-01","5","พนักงานขาย"]
[null,"107211","22-LB","1160500045345","นายฐนกร สังเกตุ","3914207331","ขาย","2025-02-11","5","พนักงานขาย"]
[null,"107293","22-LB","1160100352267","นายธานินทร์ กำแพงแก้ว","2894664610","ขาย","2025-03-08","5","พนักงานขาย"]
[null,"107330","22-LB","1160100573905","นายพรชัย ใจเจริญ","2894664198","ขาย","2025-03-19","5","พนักงานขาย"]
[null,"107366","22-LB","1160100601127","นายสุทธิราช จันทร์รอด","9774377270","ขาย","2025-04-01","5","พนักงานขาย"]
[null,"107367","22-LB","3341900891362","นายพรฉวี จำปาขาว","9774387683","ขาย","2025-04-01","5","พนักงานขาย"]
[null,"107368","22-LB","1179900201300","นายศรีวิศาล สำอางค์","0137071049","ขาย","2025-04-01","5","พนักงานขาย"]
[null,"107373","22-LB","1300401202670","นายไพศาล สีสุพรรณ์","2894653373","ขาย","2025-04-03","5","พนักงานขาย"]
[null,"107374","22-LB","1160100589712","นายเศรษฐกิจ ผ่องแผ้ว","2894631080","ขาย","2025-04-03","5","พนักงานขาย"]
[null,"100339","22-LB","1179900207618","นายทิวา ศรีนาค","2894617188","ขาย","2023-07-11","6","พนักงานช่วยขาย"]
[null,"100404","22-LB","3169900104408","นายกฤษณ์ ไข่หงษ์","2894617204","ขาย","2023-05-31","6","พนักงานช่วยขาย"]
[null,"100448","22-LB","1160500038233","นายมงคล สุขสำราญ","2894617238","ขาย","2023-04-10","6","พนักงานช่วยขาย"]
[null,"101948","22-LB","1169800016853","นายวิเชษฐ์ สอนมานะ","2894622543","ขาย","2021-08-06","6","พนักงานช่วยขาย"]
[null,"102023","22-LB","1160100180326","นายบันดล พันธ์สมตน","2894623558","ขาย","2021-09-01","6","พนักงานช่วยขาย"]
[null,"103954","22-LB","1749900160357","นายอัครเดช ทองเปรม","9804888346","ขาย","2022-12-01","6","พนักงานช่วยขาย"]
[null,"106088","22-LB","1160100465495","นายอนันต์ ปัญญาหลัก","2894651138","ขาย","2024-04-17","6","พนักงานช่วยขาย"]
[null,"103770","23-NS","1600600007629","นายคมเพชร คล้ายทอง","9804673912","ขาย","2024-08-08","5","พนักงานขาย"]
[null,"105157","23-NS","1609900182238","นายชัชนนท์ เสิมกลิ่น","6270495010","ขาย","2025-02-24","5","พนักงานขาย"]
[null,"106324","23-NS","1600100377001","นายชัชนันท์ พูลทอง","6270531038","ขาย","2024-06-03","5","พนักงานขาย"]
[null,"106543","23-NS","3130200403234","นายอร่าม รุจิฉาย","6270533083","ขาย","2024-07-22","5","พนักงานขาย"]
[null,"106544","23-NS","5600100039907","นายปัทวี สังข์ทรัพย์","6270533091","ขาย","2025-01-07","5","พนักงานขาย"]
[null,"106945","23-NS","1600100437403","นายเดชา เทียมเงิน","5760442227","ขาย","2025-02-10","5","พนักงานขาย"]
[null,"106954","23-NS","1609900745259","นายฐาปกรณ์ ทองจันทร์","9808950696","ขาย","2024-11-09","5","พนักงานขาย"]
[null,"107097","23-NS","1600101963214","นายชัยพัฒน์ ศรีอารยชาติ","9770721125","ขาย","2025-01-06","5","พนักงานขาย"]
[null,"107098","23-NS","1629400007143","นางสาวนภัทร มูลโมกข์","5580351673","ขาย","2025-01-06","5","พนักงานขาย"]
[null,"107143","23-NS","1660600083775","นางสาวศิริลักษณ์ คล้ายประเสริฐ","9770817303","ขาย","2025-01-20","5","พนักงานขาย"]
[null,"107165","23-NS","5600101071570","นายนคร จันทร์กระจร่าง","9770860212","ขาย","2025-01-27","5","พนักงานขาย"]
[null,"107274","23-NS","3180200209101","นายณัฐกฤต เกษสาคร","6270323600","ขาย","2025-03-01","5","พนักงานขาย"]
[null,"107313","23-NS","1600100097131","นายคมสันต์ บัวสำลี","0987691045","ขาย","2025-03-14","5","พนักงานขาย"]
[null,"107322","23-NS","1609900448521","นางสาวชาลิสา การะเกตุ","6277004963","ขาย","2025-03-17","5","พนักงานขาย"]
[null,"107369","23-NS","3620400903422","นายสมบัติ ศรีก้าน","5760445220","ขาย","2025-04-01","5","พนักงานขาย"]
[null,"102701","23-NS","1609900272784","นายอัฑฒกร แนบบุญ","6270483818","ขาย","2022-03-21","6","พนักงานช่วยขาย"]
[null,"103545","23-NS","3600100089479","นายมานพ สุ่นนิ่ม","6270493940","ขาย","2022-09-01","6","พนักงานช่วยขาย"]
[null,"105356","23-NS","1749900828684","นายศักดิ์ดา สว่างศรี","6270517797","ขาย","2024-05-02","6","พนักงานช่วยขาย"]
[null,"105788","23-NS","1600100244184","นายธีรภัทร พูลทอง","6270524405","ขาย","2024-02-05","6","พนักงานช่วยขาย"]
[null,"105837","23-NS","1601101357765","นายอติชาติ นรสิงห์","6270524991","ขาย","2024-02-12","6","พนักงานช่วยขาย"]
[null,"106323","23-NS","1103702922200","นายปรมัส หมอแจ่ม","3920936378","ขาย","2024-06-03","6","พนักงานช่วยขาย"]
[null,"106465","23-NS","1600100429702","นายกิตติ ปิ่นเกตุ","9809275507","ขาย","2024-07-01","6","พนักงานช่วยขาย"]
[null,"106606","23-NS","1739900235713","นายธาดา คณฑา","9809557029","ขาย","2024-08-01","6","พนักงานช่วยขาย"]
[null,"106864","23-NS","1629400016215","นายณัฐวุฒิ วาศรี","9770209337","ขาย","2024-10-12","6","พนักงานช่วยขาย"]
[null,"107110","23-NS","1620400085634","นายภาสวัฒน์ กิขุนทด","6277001936","ขาย","2025-01-08","6","พนักงานช่วยขาย"]
[null,"107323","23-NS","1600100706234","นายสุรศักดิ์ ลักษณะพรมราช","3920921149","ขาย","2025-03-17","6","พนักงานช่วยขาย"]
[null,"102720","24-CY","3100800812305","นายวรเดช งามรวยรื่น","7840268366","ขาย","2022-03-21","5","พนักงานขาย"]
[null,"103367","24-CY","1360600142359","น.ส.พัชรีวรรณ พลสาร","6800328244","ขาย","2022-07-26","5","พนักงานขาย"]
[null,"104449","24-CY","1360700068347","นายกิติกร ต่างสันเทียะ","2414286506","ขาย","2023-04-07","5","พนักงานขาย"]
[null,"104530","24-CY","1369900272540","นายณัฐวุฒิ คึขุนทด","9805710853","ขาย","2024-10-03","5","พนักงานขาย"]
[null,"105590","24-CY","1471200129967","น.ส.นิภาพันธ์ บุญดี","6800326313","ขาย","2023-12-26","5","พนักงานขาย"]
[null,"106282","24-CY","3360200100230","นายสัญญา ยังโนนตาด","5000648385","ขาย","2024-05-21","5","พนักงานขาย"]
[null,"107123","24-CY","1369900591688","น.ส.สุวันตา มาตา","9770771674","ขาย","2025-01-13","5","พนักงานขาย"]
[null,"107188","24-CY","5360200031013","นายสมพงษ์ ฝาไธสง","1655197810","ขาย","2025-02-01","5","พนักงานขาย"]
[null,"107205","24-CY","1129600002522","นายพลศิริ อยู่แสง","5000633833","ขาย","2025-02-06","5","พนักงานขาย"]
[null,"107206","24-CY","3360101498758","นายทวนทอง โคกม่วง","5000656693","ขาย","2025-02-06","5","พนักงานขาย"]
[null,"107240","24-CY","1369900277096","นายทวีศักดิ์ ไพรเขียว","5000644319","ขาย","2025-02-14","5","พนักงานขาย"]
[null,"107241","24-CY","1719900453036","น.ส.มณิภา กลิ่นเจริญ","4300948330","ขาย","2025-02-14","5","พนักงานขาย"]
[null,"107251","24-CY","1369900477524","นายสุทธิพงษ์ คลองสวนพลู","1295669574","ขาย","2025-02-20","5","พนักงานขาย"]
[null,"107301","24-CY","1360400164561","นายอนุชา เชื้อโนนแดง","6147973439","ขาย","2025-03-11","5","พนักงานขาย"]
[null,"100795","24-CY","3360600886516","นายบวร ตาอุด","6800301126","ขาย","2020-08-08","6","พนักงานช่วยขาย"]
[null,"100831","24-CY","1110300019847","นายกิตติศักดิ์ เกตุสุขำ","7840256262","ขาย","2020-08-27","6","พนักงานช่วยขาย"]
[null,"101421","24-CY","3360100876198","นายศราวุธ เหล่าสุภี","7840257310","ขาย","2022-12-01","6","พนักงานช่วยขาย"]
[null,"102690","24-CY","1369900015661","นายสุธีระ หงษ์เจริญ","7840268002","ขาย","2022-03-12","6","พนักงานช่วยขาย"]
[null,"104006","24-CY","1369900123340","นายศักดิ์ศิลป์ แย้มสัมพันธ์","8650603254","ขาย","2022-12-19","6","พนักงานช่วยขาย"]
[null,"106700","24-CY","3360600553193","นายณฏฐวรรธ บุญขุนทด","5000651470","ขาย","2024-08-30","6","พนักงานช่วยขาย"]
[null,"101881","25-RB","1101800497803","นางสาวธีนาถ ทิมครองธรรม","0400462388","ขาย","2024-02-14","5","พนักงานขาย"]
[null,"103144","25-RB","1100703424642","นางสาววิภาวรรณ ศิลาวงศ์","9407225474","ขาย","2024-01-29","5","พนักงานขาย"]
[null,"105660","25-RB","3800900801350","นางนฏพร เยาว์จุ้ย","6420279074",null,"2024-01-10","5","พนักงานขาย"]
[null,"106302","25-RB","1100400311302","นางสาวศศิชา ศรีเฉลา","1754243093","ขาย","2024-05-27","5","พนักงานขาย"]
[null,"106634","25-RB","1119701121225","นางสาวทิพย์สุดา วังอาษา","0985920933","ขาย","2024-08-06","5","พนักงานขาย"]
[null,"107177","25-RB","1103100685498","นายวัชรชัย ไชยฮัง","9407304683","ขาย","2025-01-27","5","พนักงานขาย"]
[null,"107305","25-RB","1101801451742","นางสาวนิภาพร รอยประเสริฐ","9407286450","ขาย","2025-03-11","5","พนักงานขาย"]
[null,"107307","25-RB","1101200064825","นายพิชิต พรหมทอง","1825103623","ขาย","2025-03-11","5","พนักงานขาย"]
[null,"100222","25-RB","3730600426783","นายสุชิน พันธ์ประชา","0620442236","บริหาร","2025-03-11","6","พนักงานช่วยขาย"]
[null,"100378","25-RB","3160500055703","นายอานนท์ แก้วงาม","0560605404","ขาย","2024-01-08","6","พนักงานช่วยขาย"]
[null,"106303","25-RB","1101500337801","นายอานนท์ หมัดสมบูรณ์","0400371241","ขาย","2024-05-27","6","พนักงานช่วยขาย"]
[null,"106633","25-RB","3100903177700","นายเขมพันธ์ ยิ้มประพันธ์","0985927912","ขาย","2024-08-07","6","พนักงานช่วยขาย"]
[null,"106707","25-RB","3302200195496","นายมานะ คงกระโทก","9407295022","ขาย","2024-09-02","6","พนักงานช่วยขาย"]
[null,"106901","25-RB","3260300345928","นายวชิระ ทรัพย์สมบัติ","9407298893","ขาย","2024-10-25","6","พนักงานช่วยขาย"]
[null,"100221","25-RB","3901100530122","นายสุรกิจ บุญรัตน์","6420279132","บริหาร","2013-05-08","","ซุปเก่า"]
[null,"102231","26-LE","1429900440697","นายปฏิภาณ ตันเจริญ","4160885218","ขาย","2024-01-15","5","พนักงานขาย"]
[null,"102334","26-LE","1420900293866","น.ส.จิรารัตน์ ตันแพง","4160886398","ขาย","2025-01-08","5","พนักงานขาย"]
[null,"102915","26-LE","1429900219541","นางสาวนพรัตน์ กองกลิ่น","4160893170","ขาย","2022-05-02","5","พนักงานขาย"]
[null,"105358","26-LE","1679800171544","นายอนุชิต ยอดช้าง","4160912020","ขาย","2023-10-10","5","พนักงานขาย"]
[null,"105482","26-LE","1420900286797","นายสุวิชชาญ ปานคำ","9808016837","ขาย","2023-11-20","5","พนักงานขาย"]
[null,"106296","26-LE","1429900386901","นายภาณุ นาทันเลิศ","4160919579","ขาย","2024-05-27","5","พนักงานขาย"]
[null,"106801","26-LE","1420901387848","นางสาวปรางทิพย์ พลซา","4160924520","ขาย","2024-10-01","5","พนักงานขาย"]
[null,"106802","26-LE","1420901401972","นายณัฐพร หมุนสี","4160925071","ขาย","2024-10-01","5","พนักงานขาย"]
[null,"107048","26-LE","1429900577846","นายจีระศักดิ์ ปทุมานนท์","9770611508","ขาย","2024-12-11","5","พนักงานขาย"]
[null,"107083","26-LE","1420900231011","นาย ธวัชชัย คูณเมือง","9770678804","ขาย","2025-01-02","5","พนักงานขาย"]
[null,"101107","26-LE","3421000549594","นายอรสิทธิ์ โพธิ์ศรี","4160876209","ขาย","2021-01-22","6","พนักงานช่วยขาย"]
[null,"103845","26-LE","3401500510093","นายชัยธนา ลาบุญ","4160900140","ขาย","2024-02-26","6","พนักงานช่วยขาย"]
[null,"104832","26-LE","1420900307255","นายบุตรพรหม บุญยะพรหม","4160835296","ขาย","2023-06-13","6","พนักงานช่วยขาย"]
[null,"105153","26-LE","1429900110247","นายจีระศักดิ์ อนุศรี","3327097865","ขาย","2023-08-24","6","พนักงานช่วยขาย"]
[null,"105856","26-LE","1429900403104","นายอานนท์ สมานมิตร","3324166077","ขาย","2024-02-19","6","พนักงานช่วยขาย"]
[null,"106437","26-LE","1421300010066","นายอัษฏาวุฒิ หงษา","4160920569","ขาย","2024-06-24","6","พนักงานช่วยขาย"]
[null,"106646","26-LE","1650400147907","นายชัยวัฒน์ ม่วงเนียม","7750120201","ขาย","2024-08-13","6","พนักงานช่วยขาย"]
[null,"107040","26-LE","1420900164659","นายชาญยุทธ หงษา","1735124073","ขาย","2024-12-09","6","พนักงานช่วยขาย"]
[null,"107162","26-LE","1420901376145","นายวัฒนา บัวระภา","3324152820","ขาย","2025-01-27","6","พนักงานช่วยขาย"]
[null,"102201","27-PL","1659902018231","นายนพพร เนตรุ่ง","6207095560","ขาย","2021-11-03","5","พนักงานขาย"]
[null,"103279","27-PL","1650700045778","นายอำนาจ มาอิ่ม","6207105849","บริหาร","2024-01-03","5","พนักงานขาย"]
[null,"103716","27-PL","1100400320034","นายชาญชัย โพธิ์สิงห์","4264349434","ขาย","2024-09-17","5","พนักงานขาย"]
[null,"104831","27-PL","1659902110340","นายสรอรรถ สิงห์โต","4264388721","ขาย","2024-10-28","5","พนักงานขาย"]
[null,"105572","27-PL","1102002642785","นายนุติพงษ์ ศรีรัตน์","6457007166","ขาย","2023-12-18","5","พนักงานขาย"]
[null,"106741","27-PL","1658900007761","นายจิณณวัตร แสนบุราณ","4707184612","ขาย","2025-04-01","5","พนักงานขาย"]
[null,"106872","27-PL","1139900147020","นายณัฐพล โฉมแดง","6457025853","ขาย","2024-10-17","5","พนักงานขาย"]
[null,"106957","27-PL","1640101407133","นายเทวราช บุญปอง","4600637856","ขาย","2024-11-11","5","พนักงานขาย"]
[null,"106958","27-PL","1749400028395","นายจิรวัฒน์ นารถเหนือ","6457027024","ขาย","2024-11-11","5","พนักงานขาย"]
[null,"107094","27-PL","1659902001095","นายปัณณวิชญ์ อนันต์ญณิชกุล","9770754290","ขาย","2025-01-06","5","พนักงานขาย"]
[null,"107103","27-PL","1659900817266","นายรักษ์สกุล พาพันธ์","4264371529","ขาย","2025-01-07","5","พนักงานขาย"]
[null,"107119","27-PL","1409900351139","นายณรงค์วัฒน์ สีชารี","5467514252","ขาย","2025-01-14","5","พนักงานขาย"]
[null,"107148","27-PL","1659900356856","นายสุเทพ สิงห์โต","6457029277","ขาย","2025-01-23","5","พนักงานขาย"]
[null,"107164","27-PL","1659900612216","นางสาวจีรมาศ ปุยฝ้าย","9770856442","ขาย","2025-01-27","5","พนักงานขาย"]
[null,"107216","27-PL","1650401163141","นางสาวอุษา อ้นอินทร์","4707193902","ขาย","2025-02-11","5","พนักงานขาย"]
[null,"107282","27-PL","1659902345096","นายนิธิ เพชรนิล","6457030713","ขาย","2025-03-03","5","พนักงานขาย"]
[null,"107308","27-PL","1401300078574","นางสาวภัทราพร สมหลง","6457030614","ขาย","2025-03-12","5","พนักงานขาย"]
[null,"107318","27-PL","1650500011861","นายยงยุทธิ์ เชาวรัตน์","9774223300","ขาย","2025-03-17","5","พนักงานขาย"]
[null,"107333","27-PL","1659901889700","นายอรุณษ์ จุ้ยแจ่มใส","6457030820","ขาย","2025-03-20","5","พนักงานขาย"]
[null,"102021","27-PL","1659900375800","นายภานุวัฒน์ เพ็งคุ้ม","6207092260","ขาย","2021-09-01","6","พนักงานช่วยขาย"]
[null,"102110","27-PL","1650800147891","นายธีรพงศ์ แสงทอง","6207094944","ขาย","2021-10-05","6","พนักงานช่วยขาย"]
[null,"104867","27-PL","1250100348331","นายศรัณย์ ไวมือ","4707223352","ขาย","2023-06-19","6","พนักงานช่วยขาย"]
[null,"105132","27-PL","1101800621385","นายพรพจน์ หารคุโน","4264375348","ขาย","2023-08-21","6","พนักงานช่วยขาย"]
[null,"105942","27-PL","1539900279836","นางสาววิลาสินี วงแหวว","6457013057","ขาย","2024-11-12","6","พนักงานช่วยขาย"]
[null,"106319","27-PL","1650800025043","นายมานิต นุชเฉย","9809050611","ขาย","2024-06-03","6","พนักงานช่วยขาย"]
[null,"107031","27-PL","3102200798711","นายศักดิ์ชัย กุลมา","6457027693","ขาย","2024-12-02","6","พนักงานช่วยขาย"]
[null,"107041","27-PL","1340300088162","นายทรงสิทธิ์ คำบุญเรือง","6457028485","ขาย","2024-12-09","6","พนักงานช่วยขาย"]
[null,"107042","27-PL","3521100129995","นายสัญญา เทพอุด","6457027974","ขาย","2024-12-09","6","พนักงานช่วยขาย"]
[null,"103037","28-PN","1103702215562","นายสมรัก พาสี","7820207137","ขาย","2023-03-17","5","พนักงานขาย"]
[null,"103506","28-PN","1679900306425","นายพงษ์ศักดิ์ พลชัยสุข","7820209794","ขาย","2024-09-02","5","พนักงานขาย"]
[null,"104007","28-PN","1608200001540","นายภาศุวัฒน์ วันจะนะ","7820213721","ขาย","2022-12-20","5","พนักงานขาย"]
[null,"104859","28-PN","1679200009231","นายปวรุตม์ คำภีร์","9807148920","ขาย","2023-06-16","5","พนักงานขาย"]
[null,"105631","28-PN","1560100475870","นายณัชพล มามี","3664267774","ขาย","2024-01-09","5","พนักงานขาย"]
[null,"106506","28-PN","1679900576881","นางสาวกนกพร เมืองแมน","3664276197","ขาย","2024-07-10","5","พนักงานขาย"]
[null,"106662","28-PN","1679900263718","นายณัฐชัย บุญมา","3664277294","ขาย","2024-08-20","5","พนักงานขาย"]
[null,"106871","28-PN","1729800269829","นายภาณุวิชญ์ หลักเพชร","3664254392","ขาย","2024-10-16","5","พนักงานขาย"]
[null,"107359","28-PN","1679900221136","นายณรงค์ จันปราชญ์",null,"ขาย","2025-03-27","5","พนักงานขาย"]
[null,"102874","28-PN","1670700276109","นายอนุชา ศิริกิจ","7820205792","ขาย","2022-04-29","6","พนักงานช่วยขาย"]
[null,"102901","28-PN","1670100118421","นายสมคิด ฤทธิ์เดช","7820205743","ขาย","2024-05-24","6","พนักงานช่วยขาย"]
[null,"103726","28-PN","2670200016190","นายณรงค์ บุญส่ง","7060149866","ขาย","2022-10-06","6","พนักงานช่วยขาย"]
[null,"105165","28-PN","1679900368803","นายอธิชล มูลแซ่ม","3664252040","ขาย","2023-08-29","6","พนักงานช่วยขาย"]
[null,"105916","28-PN","1670700210566","นายธนาวุธ บุญสะอาด","7220371178","ขาย","2024-03-05","6","พนักงานช่วยขาย"]
[null,"107065","28-PN","1679900279991","นายณัฐพล พานิพัฒน์","3664291238","ขาย","2024-12-18","6","พนักงานช่วยขาย"]
[null,"107289","28-PN","1539900171741","นายเอกชัย มีใจรุ่งเรือง","7820193592","ขาย","2025-03-05","6","พนักงานช่วยขาย"]
[null,"100198","29-SG","1300200182060","นายนัฐวุฒิ นนท์ตรี","9740253720","ขาย","2022-03-30","5","พนักงานขาย"]
[null,"100281","29-SG","1331300076335","นายโชคอำนวย พืชศรี","9740253738","ขาย","2017-09-27","5","พนักงานขาย"]
[null,"103041","29-SG","1339900421456","นายชาญณรงค์ ชมบุญ","3334333568","ขาย","2022-05-31","5","พนักงานขาย"]
[null,"103184","29-SG","1840600102247","นายวีระพงศ์ ประถมภาส","3334334590","ขาย","2022-06-22","5","พนักงานขาย"]
[null,"103294","29-SG","1339900447617","นายอภิศักดิ์ คำศรี","9510153308","ขาย","2022-07-14","5","พนักงานขาย"]
[null,"103586","29-SG","1410601366438","นายชินวัตร นนท์ตรี","3334338617",null,"2024-09-03","5","พนักงานขาย"]
[null,"103970","29-SG","1339900327450","นายปริญญา สมบัติ","9510199095","ขาย","2022-12-07","5","พนักงานขาย"]
[null,"104220","29-SG","1339900252859","นายอนุชิต พิมกรณ์","9804158740","ขาย","2023-02-22","5","พนักงานขาย"]
[null,"104535","29-SG","1102003605395","นายสิทธิชัย จบไตรเภท","7880266478","ขาย","2025-04-04","5","พนักงานขาย"]
[null,"104604","29-SG","1330901369549","นายกรชัย อินทรปพงศ์","9510216352","ขาย","2023-05-08","5","พนักงานขาย"]
[null,"105337","29-SG","1339900757241","นายอริญชัย ทองสาย","9807186979","ขาย","2023-10-09","5","พนักงานขาย"]
[null,"105474","29-SG","1102003435571","นายกิตติพงษ์ สุปัตติ","9807212452","ขาย","2023-11-14","5","พนักงานขาย"]
[null,"105883","29-SG","1331400143905","นายชญานนท์ ยศศิริ","3334334814","ขาย","2024-02-26","5","พนักงานขาย"]
[null,"105884","29-SG","1339900339971","นายกัมพล อรุณวิศวกุล","9808482781","ขาย","2024-02-26","5","พนักงานขาย"]
[null,"106193","29-SG","1339900653543","นายสิทธิชัย บุรกรณ์","9808861786","ขาย","2024-05-06","5","พนักงานขาย"]
[null,"106679","29-SG","2330400082814","นายพันธกานต์ พิมพ์พา","9809719165","ขาย","2024-08-26","5","พนักงานขาย"]
[null,"106908","29-SG","3570501279652","นายบุญผาง ตุ้ยพิมพ์","7900260105","บริหาร","2024-11-04","5","พนักงานขาย"]
[null,"106988","29-SG","1339900707783","นายรัชชานนท์ หลอมทอง","3334377250","ขาย","2024-11-19","5","พนักงานขาย"]
[null,"107294","29-SG","1339900649571","นายยศธนพนธ์ ชิดการ","9774201827","ขาย","2025-03-10","5","พนักงานขาย"]
[null,"100196","29-SG","1341500177658","นายอภินันต์ โพธิ์จันทร์","9740253696","ขาย","2016-01-01","6","พนักงานช่วยขาย"]
[null,"100328","29-SG","3341501236557","นายสกรรจ์ ทำมาเกตุ","9740253811","ขาย","2018-07-11","6","พนักงานช่วยขาย"]
[null,"104281","31-KS","1479900085528","นายปฏิญญา ดวงพินิจ","9140137960","ขาย","2023-02-28","5","พนักงานขาย"]
[null,"104285","31-KS","1469900358699","นางสาวอรัญญา ปาปะโม","7360538552","ขาย","2024-11-19","5","พนักงานขาย"]
[null,"106769","31-KS","1410901145097","นายสุรบดินทร์ ดวงจำปา","3225502610","ขาย","2024-09-23","5","พนักงานขาย"]
[null,"106834","31-KS","3460600600573","นายแสนพัน โกฐาคาน","4290988122","ขาย","2024-10-08","5","พนักงานขาย"]
[null,"107011","31-KS","3461300468328","นายวิเชียร โสดาโพธิ์","4940984182","ขาย","2024-12-02","5","พนักงานขาย"]
[null,"107024","31-KS","1461300152782","นางสาวแพรวพรรณ สุโสภา","4290989286","ขาย","2024-12-02","5","พนักงานขาย"]
[null,"107026","31-KS","1461300186725","นางสาวกานดา คุนาพรม","0687294728","ขาย","2025-03-26","5","พนักงานขาย"]
[null,"107027","31-KS","1461300172783","นางสาวรัชนีวรรณ ภูกิ่งหิน","4290989526","ขาย","2025-03-24","5","พนักงานขาย"]
[null,"107224","31-KS","1411001176329","นายอานนท์ บุราณเดช","8710374292","ขาย","2025-02-12","5","พนักงานขาย"]
[null,"107243","31-KS","1467800019637","นายปฏิภาน ขันอาสา","9774011747","ขาย","2025-02-15","5","พนักงานขาย"]
[null,"107352","31-KS","1619900233070","นายวโรภาส แก้วกัณหา","3154457646","ขาย","2025-03-25","5","พนักงานขาย"]
[null,"107363","31-KS","1461300157555","นายอรรถกร ชวติ","3154457703","ขาย","2025-03-27","5","พนักงานขาย"]
[null,"107382","31-KS","1350100351871","นายเทียนชัย เสนกาบ","9774403308","ขาย","2025-04-08","5","พนักงานขาย"]
[null,"107383","31-KS","1460100191309","นางสาวอรุณลักษณ์ พิลาแดง","7287275437","ขาย","2025-04-08","5","พนักงานขาย"]
[null,"104275","31-KS","1310500202139","นายคธาเทพ บุญธรรมมา","3154423796","ขาย","2024-11-19","6","พนักงานช่วยขาย"]
[null,"104278","31-KS","1467800010800","นายวรวัฒน์ ไชยตาแสง","9805443356","ขาย","2024-07-15","6","พนักงานช่วยขาย"]
[null,"104854","31-KS","3430900203090","นายศุภกิจ หาญธงชัย","8680864512","ขาย","2023-06-15","6","พนักงานช่วยขาย"]
[null,"104883","31-KS","1469900358818","นายคีรินทร์ โนนทิง","4290940727","ขาย","2025-03-24","6","พนักงานช่วยขาย"]
[null,"105806","31-KS","3301000095187","นายธีรศักดิ์ มุ่งอิงกลาง","4290980004","ขาย","2024-02-07","6","พนักงานช่วยขาย"]
[null,"106179","31-KS","1461300134351","นายอดินันท์ สงตลาด","8640621747","ขาย","2024-05-03","6","พนักงานช่วยขาย"]
[null,"106877","31-KS","1467700019970","นายธนวินท์ วงษ์ศรี","9770238021","ขาย","2024-10-17","6","พนักงานช่วยขาย"]
[null,"107381","31-KS","1560101532281","นายทิวากร บุญสุข",null,"ขาย","2025-04-05","6","พนักงานช่วยขาย"]
[null,"104333","32-YT","1301700129282","นายอรุณ พูลแช่ม","9958213820","ขาย","2025-02-12","5","พนักงานขาย"]
[null,"105222","32-YT","1449900549273","นายยุทธนา นะตะ","9807653473","ขาย","2025-03-21","5","พนักงานขาย"]
[null,"105723","32-YT","1102003845990","นายภูริภัทร มิ่งขวัญ","9808297783","บริหาร","2024-01-22","5","พนักงานขาย"]
[null,"105805","32-YT","1330300189210","นายวราวุธ อรชร","2714652498","ขาย","2024-02-07","5","พนักงานขาย"]
[null,"105809","32-YT","5350500032465","น.ส.บรรจง จันใด","9808369756","ขาย","2024-02-07","5","พนักงานขาย"]
[null,"106580","32-YT","1849901442771","น.ส.กุลกันญา คำหอม","4044324780","ขาย","2024-07-30","5","พนักงานขาย"]
[null,"107080","32-YT","1100401059950","นายเจษฎาภรณ์ ศรีกาสี","4044331090","ขาย","2024-12-26","5","พนักงานขาย"]
[null,"107144","32-YT","1100400404149","น.ส.เกวลิน วะนา","2714662778","ขาย","2025-01-21","5","พนักงานขาย"]
[null,"107189","32-YT","3450200658183","นางพรพรรณ ไชยมาลา","9770973015","ขาย","2025-02-04","5","พนักงานขาย"]
[null,"107252","32-YT","1350101702316","นายอภิชาติ ศรีเมือง","2714663305","ขาย","2025-02-22","5","พนักงานขาย"]
[null,"107253","32-YT","1320900292968","น.ส.อุษา แวนแสน","0340622430","ขาย","2025-02-22","5","พนักงานขาย"]
[null,"107260","32-YT","1429900091510","นายเอกชัย แก้วสุรรณ์","2714663727","ขาย","2025-02-24","5","พนักงานขาย"]
[null,"107280","32-YT","1350101592120","น.ส.ดุจสิตา ดาวเรือง","4044331082","ขาย","2025-03-03","5","พนักงานขาย"]
[null,"101853","32-YT","1349900753742","นายจิระศักดิ์ อุดมชิต","9774273792","ขาย","2024-07-15","6","พนักงานช่วยขาย"]
[null,"105117","32-YT","3341200180919","นายอิทธิพล สีทาป","9807496782","บริหาร","2023-08-16","6","พนักงานช่วยขาย"]
[null,"105181","32-YT","1350100242494","นายธณัฐชัย ส่วนเสน่ห์","9807577086","ขาย","2024-11-11","6","พนักงานช่วยขาย"]
[null,"105186","32-YT","1350100200279","นายยุทธพล จิตบาล","9807581930","ขาย","2023-08-31","6","พนักงานช่วยขาย"]
[null,"105811","32-YT","1100702337991","น.ส.จิราภรณ์ ศรีกาสี","2714652514","ขาย","2024-02-07","6","พนักงานช่วยขาย"]
[null,"106135","32-YT","1350100217783","นายประสาร อาจยาทา","9808815642","ขาย","2024-04-26","6","พนักงานช่วยขาย"]
[null,"106168","32-YT","3350100770489","นายมานัส อินทนนท์","2714655715","ขาย","2024-05-02","6","พนักงานช่วยขาย"]
[null,"106637","32-YT","3350100076876","นายอาทิตย์ ก้อนผา","9809570568","ขาย","2024-08-10","6","พนักงานช่วยขาย"]
[null,"105756","33-PK","3400600428860","นางสาวเสงี่ยม หลักแก้ว","6517235583","ขาย","2024-01-31","5","พนักงานขาย"]
[null,"106479","33-PK","1360500120124","นายณัฐวุฒิ ลาเหลา","6077848015","ขาย","2024-11-05","5","พนักงานขาย"]
[null,"106883","33-PK","1209301060350","นายจิรายุทธ เตียงไธสง","9770249606","ขาย","2024-10-19","5","พนักงานขาย"]
[null,"106946","33-PK","1200601359115","นางสาวพัชราภรณ์ จุ่นละอุ่น","3434514612","ขาย","2024-11-08","5","พนักงานขาย"]
[null,"106947","33-PK","1200601365565","นายสิทธิพร เทบำรุง","3434514620","ขาย","2024-11-08","5","พนักงานขาย"]
[null,"107161","33-PK","1209501164442","นางสาวสุภาวดี จุ่นละอุ่น","3535104719","ขาย","2025-01-27","5","พนักงานขาย"]
[null,"107262","33-PK","1248000004760","นางสาวสาธินี เลิศนา","9774140108","ขาย","2025-02-22","5","พนักงานขาย"]
[null,"107324","33-PK","1200601299902","นางสาววีรยา สุทธิจินดาญาโน","3434389684","ขาย","2025-03-18","5","พนักงานขาย"]
[null,"107337","33-PK","2200100070501","นายนิพนธ์ ครองรับ","6517257207","ขาย","2025-03-21","5","พนักงานขาย"]
[null,"107345","33-PK","1300800193160","นายบรรพต พิมพ์มาศ","9774288246","ขาย","2025-03-24","5","พนักงานขาย"]
[null,"107351","33-PK","1200600168448","นายณัฐพล ทองแพง","6077879663","ขาย","2025-03-25","5","พนักงานขาย"]
[null,"106529","33-PK","1219900553116","นายวริศร์ พลมณี","7360466416","ขาย","2024-07-18","6","พนักงานช่วยขาย"]
[null,"106747","33-PK","1169800156043","นางสาวขนิษฐา ฉลาดทำ","9809965644","ขาย","2024-09-18","6","พนักงานช่วยขาย"]
[null,"106859","33-PK","1103100353151","นายธนาคาร จันทร์พุดซา","4650825344","ขาย","2024-10-14","6","พนักงานช่วยขาย"]
[null,"107160","33-PK","1200601284166","นายทิพากร เกษมสุข","3434068262","ขาย","2025-01-23","6","พนักงานช่วยขาย"]
[null,"100390","82-BBK","1104300121858","อภิวัฒน์ แดงชาติ","0560603680",null,"2018-12-23","5","พนักงานขาย"]
[null,"100391","82-BBK","1100702425360","จิรยุทธ ซาหะมัน","0560603649",null,"2018-01-03","5","พนักงานขาย"]
[null,"100791","82-BBK","1100600213355","นายพิศมาท จิตจำเริญ","0560603631",null,"2020-08-01","5","พนักงานขาย"]
[null,"101280","82-BBK","1104300075546","วันบอล กองเซ็น","0560600892","ขาย","2021-03-08","5","พนักงานขาย"]
[null,"102245","82-BBK","1104300168684","เกตษณัย อามีนะ","0560609430","ขาย","2021-11-08","5","พนักงานขาย"]
[null,"104109","82-BBK","1104300675934","อภิมุข เซ๊ะวิเศษ","9187152971","ขาย","2023-01-26","5","พนักงานขาย"]
[null,"105824","82-BBK","1104300030348","พีรพล ศรีสุข","8640626167","ขาย","2024-02-08","5","พนักงานขาย"]
[null,"100176","82-BBK","1100300083341","ธนาธิป ยอดเวียน","0560603607",null,"2015-01-02","6","พนักงานช่วยขาย"]
[null,"100177","82-BBK","1100300093320","เอกชัย เซ๊ะวิเศษ","0560603615",null,"2015-08-28","6","พนักงานช่วยขาย"]
[null,"100257","82-BBK","3700101138375","นายไมตรี พรานพนัส","0560603755",null,"2016-11-16","6","พนักงานช่วยขาย"]
[null,"100423","82-BBK","3551000084955","สฤษฎ์ชัย แก้วธรรม","0560603748","ขาย","2019-03-01","6","พนักงานช่วยขาย"]
[null,"100581","82-BBK","1102700243380","นายอนุชา จิตจำเริญ","0560603656",null,"2020-01-22","6","พนักงานช่วยขาย"]
[null,"100790","82-BBK","1104300331411","พงศธร ยอดเวียน","0560603706",null,"2020-07-29","6","พนักงานช่วยขาย"]
[null,"104126","82-BBK","1559900268079","คณิศร บุตรแก้ว","9187167631","ขาย","2023-01-30","6","พนักงานช่วยขาย"]
[null,"100175","83-BRY","1219900341372","นายสมเกียรติ สุขเจริญ","6530713053",null,"2016-11-11","5","พนักงานขาย"]
[null,"104297","83-BRY","1219900441261","นายกฤษกร มุดวาลัย","6530713988","ขาย","2023-02-28","5","พนักงานขาย"]
[null,"104991","83-BRY","1219900383202","นายธีรพล รัตนบุรี","6530762092","ขาย","2023-07-13","5","พนักงานขาย"]
[null,"100549","84-TYT","1450100118652","นายพร้อมพงค์ อุทัยบาล","0560603359",null,"2025-02-04","5","พนักงานขาย"]
[null,"102050","84-TYT","1104300001518","นายจักรพรรณ วงศ์แก้ว","0937243814","ขาย","2021-09-13","5","พนักงานขาย"]
[null,"105671","84-TYT","1339900650498","นายเสถียรรัตน์ สิหะวงษ์","0985208594","บริหาร","2024-01-15","5","พนักงานขาย"]
[null,"100349","84-TYT","1461200058342","นายสุวัตร ทับธานี","0560603367","ขาย","2018-08-16","6","พนักงานช่วยขาย"]
[null,"101844","84-TYT","1100600388937","นายณัฐสิทธ์ ภูมิศรีแก้ว","0900593666","ขาย","2021-06-29","6","พนักงานช่วยขาย"]
[null,"102660","84-TYT","1250101518851","นายศุภกร เสือเพ็ชร","9187151445","ขาย","2024-03-11","6","พนักงานช่วยขาย"]
[null,"104258","92-FRK","1100702522420","นายกิจทาวุฒิ ศรีแก้ว","1924355223","ขาย","2023-02-22","","พนักงานขับรถ"]
[null,"107157","92-FRK","1330500171535","นายบัญชา อินธนู","0520586991","ขาย","2025-01-17","","พนักงานขับรถ"]
[null,"106685","93-NCB","3530400018853","นายสงกรานต์ ชญาน์วรวรรธน์",null,"ขาย","2024-08-05","5","พนักงานขาย"]
[null,"107145","93-NCB","1119900767915","นายอัษฎา ดีตลอด",null,"ขาย","2025-01-20","5","พนักงานขาย"]

{"sheet":"TimeScanAtt","index":3,"n_rows":8,"n_cols":12,"rows_kept":8,"cut":false,"hidden":true,"merged":[[4,2,4,3],[1,2,1,8]]}
[]
[null,null,">>>  ฐานข้อมูลประมวลผลการสแกนนิ้วมือ (Time Attandance)"]
[null,"Web >>",{"$f":"\"https://ncsgb.com/HR/Hr.php?date1=\"&$C$5&\"&date2=\"&$F$5","v":"https://ncsgb.com/HR/Hr.php?date1=2025-04-16&date2=2025-04-22"}]
[]
[null,"ระหว่างวันที่",{"$f":"TEXT(StartDate,\"[$-409]yyyy-mm-dd\")","v":"2025-04-16"},null,"ถึง",{"$f":"TEXT(StartDate+6,\"[$-409]yyyy-mm-dd\")","v":"2025-04-22"}]
[]
[null,"Primary_ID","Branch","Scan","วันที่","การลงเวลา (วัน)","PosNum","CheckIn","CheckIn_Branch",null,"CheckIn","Primary_ID"]
[null,null,null,null,null,null,null,null,null,null,"15-UB","104715"]

{"sheet":"Report","index":4,"n_rows":76,"n_cols":31,"rows_kept":76,"cut":false,"hidden":false,"merged":[[50,1,51,1],[50,2,51,2],[50,3,51,3],[50,4,51,4],[50,12,51,12],[5,20,5,21],[1,1,1,6],[5,15,6,15],[3,5,3,7],[3,9,3,11],[5,1,6,1],[5,12,6,12],[5,2,6,2],[1,7,1,11],[5,18,6,18],[5,3,6,3],[5,4,6,4],[5,16,6,16],[72,3,72,4],[75,3,75,4],[5,17,6,17],[71,3,71,4],[73,3,73,4],[74,3,74,4],[71,11,71,14],[72,11,72,14],[73,11,73,14],[50,15,51,15],[50,16,51,16],[50,17,51,17],[48,2,48,4],[48,5,48,6],[47,1,47,18],[50,18,51,18]]}
[]
[null,">>> รายงานการสรุปเบี้ยเลี้ยงประจำสัปดาห์ สาขา :",null,null,null,null,null,{"$f":"INDEX(Branches[Thai_Name],bIndex)","v":"นครสวรรค์"},null,null,null,null,{"$f":"MID(SLBranch,FIND(\"-\",SLBranch)+1,10)","v":"NS"}]
[]
[null,null,null,null,"ระหว่างวันที่ :","2025-04-16",null,null,"-","2025-04-22",null,null,null,"จำนวนพนักงาน :",{"$f":"MAX($B$8:$B$47)+COUNTIF($C$53:$C$58,\"*?\")","v":0},null,null,{"$f":"ROWS(EmpID_Bybranch)","v":26},null,null,null,null,null,"Export File :",{"$f":"SLBranch&\"_เบี้ยเลี้ยงสาขา\"&BranchName&\"_\"&TEXT(StartDate,\"[$-409]ddmmyyy\")","v":"23-NS_เบี้ยเลี้ยงสาขานครสวรรค์_16042025"}]
[]
[null,"ลำดับ","Emp.ID","ชื่อ - สกุล","เลขบัญชี BBL",{"$f":"TEXT(F$7,\"[$-107041E]ddd\")","v":"พ."},{"$f":"TEXT(G$7,\"[$-107041E]ddd\")","v":"พฤ."},"ศ.","ส.","อา.","จ.","อ.","รวม","ตกเบิกรอบเก่า","กรณีพิเศษ","เหตุผล","รวมทั้งสิน","ตำแหน่งงาน","หมายเหตุ",null,"รายชื่อพนักงานฝ่ายขายทั้งหมด",null,null,"Date_Index","Branch","Emp.ID","กรณีพิเศษ","เหตุผล","Total","หมายเหตุ","รอตกเบิก"]
[null,null,null,null,null,{"$f":"StartDate+COLUMNS($F:F)-1","v":"2025-04-16"},{"$f":"StartDate+COLUMNS($F:G)-1","v":"2025-04-17"},{"$f":"StartDate+COLUMNS($F:H)-1","v":"2025-04-18"},{"$f":"StartDate+COLUMNS($F:I)-1","v":"2025-04-19"},{"$f":"StartDate+COLUMNS($F:J)-1","v":"2025-04-20"},{"$f":"StartDate+COLUMNS($F:K)-1","v":"2025-04-21"},{"$f":"StartDate+COLUMNS($F:L)-1","v":"2025-04-22"},null,"2025-04-09","(บาท)",null,null,null,null,null,"ID","Name",null,{"$f":"IF($C8=\"\",\"\",StartDate&\"|\"&SLBranch)","v":""},"-",{"$f":"StartDate","v":45763},{"$f":"EndDate","v":"2025-04-22"},{"$f":"TEXT(NOW(),\"[$-107041E]d mmm yyyy  hh:mm;@\")","v":"19 เม.ย. 2568  10:41"},{"$f":"PreDate","v":"2025-04-09"},{"$f":"TRIM(SUBSTITUTE(SUBSTITUTE(D73&\"|\"&L73,\"(\",\"\"),\")\",\"\"))","v":"นางสาวอลิศรา กุลชา|"},{"$f":"SUM($AE$8:$AE$58)","v":0}]
[null,{"$f":"IF(C8<>\"\",ROWS($8:8),\"\")","v":""},{"$f":"IFERROR(IF(ROWS($8:8)>ROWS(Att_IndexList),\"\",INDEX(Att_IndexList,ROWS($8:8))),\"\")","v":""},{"$f":"IF($C8=\"\",\"\",INDEX(Employee_Sales[Employee Name],MATCH(Report!C8,Employee_Sales[Primary_ID],0)))","v":""},{"$f":"BankAccount","v":""},{"$f":"iCal","v":""},{"$f":"iCal","v":""},{"$f":"iCal","v":""},{"$f":"iCal","v":""},{"$f":"iCal","v":""},{"$f":"iCal","v":""},{"$f":"iCal","v":""},{"$f":"iTotal","v":""},{"$f":"iBackPay","v":""},null,null,{"$f":"iGrandTotal","v":""},{"$f":"iPosition","v":""},null,null,{"$f":"IFERROR(INDEX(Emp_DatabyBranch,ROWS($8:8),1),\"\")","v":"103770"},{"$f":"IFERROR(INDEX(Emp_DatabyBranch,ROWS($8:8),4),\"\")","v":"นายคมเพชร คล้ายทอง"},null,{"$f":"IF($Y8=\"\",\"\",StartDate&\"|\"&$Y8)","v":""},{"$f":"IF(OR($C8=\"\",NOT(ISNUMBER(--$C8))),\"\",SLBranch)","v":""},{"$f":"IF($Y8=\"\",\"\",$C8)","v":""},{"$f":"IF($Y8=\"\",\"\",$O8)","v":""},{"$f":"IF(OR($Y8=\"\",$P8=\"\"),\"\",$P8)","v":""},{"$f":"IF(AND(ISNUMBER($Q8),$AE8=\"\"),$Q8,\"\")","v":""},{"$f":"IF($Y8=\"\",\"\",\"\"&$S8&IF(AND(LEFT(P8,2)=\"2)\",SLBranch<>SelBranch),\" |\"&SLBranch,\"\"))","v":""},{"$f":"IF($Y8=\"\",\"\",IF(LEN(TRIM($E8))<>10,$Q8,\"\"))","v":""}]
[null,{"$f":"IF(C9<>\"\",ROWS($8:9),\"\")","v":""},{"$f":"IFERROR(IF(ROWS($8:9)>ROWS(Att_IndexList),\"\",INDEX(Att_IndexList,ROWS($8:9))),\"\")","v":""},{"$f":"IF($C9=\"\",\"\",INDEX(Employee_Sales[Employee Name],MATCH(Report!C9,Employee_Sales[Primary_ID],0)))","v":""},{"$f":"BankAccount","v":""},{"$f":"iCal","v":""},{"$f":"iCal","v":""},{"$f":"iCal","v":""},{"$f":"iCal","v":""},{"$f":"iCal","v":""},{"$f":"iCal","v":""},{"$f":"iCal","v":""},"",{"$f":"iBackPay","v":""},null,null,{"$f":"iGrandTotal","v":""},{"$f":"iPosition","v":""},null,null,{"$f":"IFERROR(INDEX(Emp_DatabyBranch,ROWS($8:9),1),\"\")","v":"105157"},{"$f":"IFERROR(INDEX(Emp_DatabyBranch,ROWS($8:9),4),\"\")","v":"นายชัชนนท์ เสิมกลิ่น"},null,"",{"$f":"IF(OR($C9=\"\",NOT(ISNUMBER(--$C9))),\"\",SLBranch)","v":""},"","","",{"$f":"IF(AND(ISNUMBER($Q9),$AE9=\"\"),$Q9,\"\")","v":""},{"$f":"IF($Y9=\"\",\"\",\"\"&$S9&IF(AND(LEFT(P9,2)=\"2)\",SLBranch<>SelBranch),\" |\"&SLBranch,\"\"))","v":""},""]
[null,{"$f":"IF(C10<>\"\",ROWS($8:10),\"\")","v":""},{"$f":"IFERROR(IF(ROWS($8:10)>ROWS(Att_IndexList),\"\",INDEX(Att_IndexList,ROWS($8:10))),\"\")","v":""},{"$f":"IF($C10=\"\",\"\",INDEX(Employee_Sales[Employee Name],MATCH(Report!C10,Employee_Sales[Primary_ID],0)))","v":""},{"$f":"BankAccount","v":""},{"$f":"iCal","v":""},{"$f":"iCal","v":""},{"$f":"iCal","v":""},{"$f":"iCal","v":""},{"$f":"iCal","v":""},{"$f":"iCal","v":""},{"$f":"iCal","v":""},"",{"$f":"iBackPay","v":""},null,null,{"$f":"iGrandTotal","v":""},{"$f":"iPosition","v":""},null,null,{"$f":"IFERROR(INDEX(Emp_DatabyBranch,ROWS($8:10),1),\"\")","v":"106324"},{"$f":"IFERROR(INDEX(Emp_DatabyBranch,ROWS($8:10),4),\"\")","v":"นายชัชนันท์ พูลทอง"},null,"",{"$f":"IF(OR($C10=\"\",NOT(ISNUMBER(--$C10))),\"\",SLBranch)","v":""},"","","","",{"$f":"IF($Y10=\"\",\"\",\"\"&$S10&IF(AND(LEFT(P10,2)=\"2)\",SLBranch<>SelBranch),\" |\"&SLBranch,\"\"))","v":""},""]
[null,{"$f":"IF(C11<>\"\",ROWS($8:11),\"\")","v":""},{"$f":"IFERROR(IF(ROWS($8:11)>ROWS(Att_IndexList),\"\",INDEX(Att_IndexList,ROWS($8:11))),\"\")","v":""},{"$f":"IF($C11=\"\",\"\",INDEX(Employee_Sales[Employee Name],MATCH(Report!C11,Employee_Sales[Primary_ID],0)))","v":""},{"$f":"BankAccount","v":""},{"$f":"iCal","v":""},{"$f":"iCal","v":""},{"$f":"iCal","v":""},{"$f":"iCal","v":""},{"$f":"iCal","v":""},{"$f":"iCal","v":""},{"$f":"iCal","v":""},"",{"$f":"iBackPay","v":""},null,null,{"$f":"iGrandTotal","v":""},{"$f":"iPosition","v":""},null,null,{"$f":"IFERROR(INDEX(Emp_DatabyBranch,ROWS($8:11),1),\"\")","v":"106543"},{"$f":"IFERROR(INDEX(Emp_DatabyBranch,ROWS($8:11),4),\"\")","v":"นายอร่าม รุจิฉาย"},null,"",{"$f":"IF(OR($C11=\"\",NOT(ISNUMBER(--$C11))),\"\",SLBranch)","v":""},"","","","",{"$f":"IF($Y11=\"\",\"\",\"\"&$S11&IF(AND(LEFT(P11,2)=\"2)\",SLBranch<>SelBranch),\" |\"&SLBranch,\"\"))","v":""},""]
[null,{"$f":"IF(C12<>\"\",ROWS($8:12),\"\")","v":""},{"$f":"IFERROR(IF(ROWS($8:12)>ROWS(Att_IndexList),\"\",INDEX(Att_IndexList,ROWS($8:12))),\"\")","v":""},{"$f":"IF($C12=\"\",\"\",INDEX(Employee_Sales[Employee Name],MATCH(Report!C12,Employee_Sales[Primary_ID],0)))","v":""},{"$f":"BankAccount","v":""},{"$f":"iCal","v":""},{"$f":"iCal","v":""},{"$f":"iCal","v":""},{"$f":"iCal","v":""},{"$f":"iCal","v":""},{"$f":"iCal","v":""},{"$f":"iCal","v":""},"",{"$f":"iBackPay","v":""},null,null,{"$f":"iGrandTotal","v":""},{"$f":"iPosition","v":""},null,null,{"$f":"IFERROR(INDEX(Emp_DatabyBranch,ROWS($8:12),1),\"\")","v":"106544"},{"$f":"IFERROR(INDEX(Emp_DatabyBranch,ROWS($8:12),4),\"\")","v":"นายปัทวี สังข์ทรัพย์"},null,"",{"$f":"IF(OR($C12=\"\",NOT(ISNUMBER(--$C12))),\"\",SLBranch)","v":""},"","","","",{"$f":"IF($Y12=\"\",\"\",\"\"&$S12&IF(AND(LEFT(P12,2)=\"2)\",SLBranch<>SelBranch),\" |\"&SLBranch,\"\"))","v":""},""]
[null,{"$f":"IF(C13<>\"\",ROWS($8:13),\"\")","v":""},{"$f":"IFERROR(IF(ROWS($8:13)>ROWS(Att_IndexList),\"\",INDEX(Att_IndexList,ROWS($8:13))),\"\")","v":""},{"$f":"IF($C13=\"\",\"\",INDEX(Employee_Sales[Employee Name],MATCH(Report!C13,Employee_Sales[Primary_ID],0)))","v":""},{"$f":"BankAccount","v":""},{"$f":"iCal","v":""},{"$f":"iCal","v":""},{"$f":"iCal","v":""},{"$f":"iCal","v":""},{"$f":"iCal","v":""},{"$f":"iCal","v":""},{"$f":"iCal","v":""},"",{"$f":"iBackPay","v":""},null,null,{"$f":"iGrandTotal","v":""},{"$f":"iPosition","v":""},null,null,{"$f":"IFERROR(INDEX(Emp_DatabyBranch,ROWS($8:13),1),\"\")","v":"106945"},{"$f":"IFERROR(INDEX(Emp_DatabyBranch,ROWS($8:13),4),\"\")","v":"นายเดชา เทียมเงิน"},null,"",{"$f":"IF(OR($C13=\"\",NOT(ISNUMBER(--$C13))),\"\",SLBranch)","v":""},"","","","",{"$f":"IF($Y13=\"\",\"\",\"\"&$S13&IF(AND(LEFT(P13,2)=\"2)\",SLBranch<>SelBranch),\" |\"&SLBranch,\"\"))","v":""},""]
[null,{"$f":"IF(C14<>\"\",ROWS($8:14),\"\")","v":""},{"$f":"IFERROR(IF(ROWS($8:14)>ROWS(Att_IndexList),\"\",INDEX(Att_IndexList,ROWS($8:14))),\"\")","v":""},{"$f":"IF($C14=\"\",\"\",INDEX(Employee_Sales[Employee Name],MATCH(Report!C14,Employee_Sales[Primary_ID],0)))","v":""},{"$f":"BankAccount","v":""},{"$f":"iCal","v":""},{"$f":"iCal","v":""},{"$f":"iCal","v":""},{"$f":"iCal","v":""},{"$f":"iCal","v":""},{"$f":"iCal","v":""},{"$f":"iCal","v":""},"",{"$f":"iBackPay","v":""},null,null,{"$f":"iGrandTotal","v":""},{"$f":"iPosition","v":""},null,null,{"$f":"IFERROR(INDEX(Emp_DatabyBranch,ROWS($8:14),1),\"\")","v":"106954"},{"$f":"IFERROR(INDEX(Emp_DatabyBranch,ROWS($8:14),4),\"\")","v":"นายฐาปกรณ์ ทองจันทร์"},null,"",{"$f":"IF(OR($C14=\"\",NOT(ISNUMBER(--$C14))),\"\",SLBranch)","v":""},"","","","",{"$f":"IF($Y14=\"\",\"\",\"\"&$S14&IF(AND(LEFT(P14,2)=\"2)\",SLBranch<>SelBranch),\" |\"&SLBranch,\"\"))","v":""},""]
[null,{"$f":"IF(C15<>\"\",ROWS($8:15),\"\")","v":""},{"$f":"IFERROR(IF(ROWS($8:15)>ROWS(Att_IndexList),\"\",INDEX(Att_IndexList,ROWS($8:15))),\"\")","v":""},{"$f":"IF($C15=\"\",\"\",INDEX(Employee_Sales[Employee Name],MATCH(Report!C15,Employee_Sales[Primary_ID],0)))","v":""},{"$f":"BankAccount","v":""},{"$f":"iCal","v":""},{"$f":"iCal","v":""},{"$f":"iCal","v":""},{"$f":"iCal","v":""},{"$f":"iCal","v":""},{"$f":"iCal","v":""},{"$f":"iCal","v":""},"",{"$f":"iBackPay","v":""},null,null,{"$f":"iGrandTotal","v":""},{"$f":"iPosition","v":""},null,null,{"$f":"IFERROR(INDEX(Emp_DatabyBranch,ROWS($8:15),1),\"\")","v":"107097"},{"$f":"IFERROR(INDEX(Emp_DatabyBranch,ROWS($8:15),4),\"\")","v":"นายชัยพัฒน์ ศรีอารยชาติ"},null,"",{"$f":"IF(OR($C15=\"\",NOT(ISNUMBER(--$C15))),\"\",SLBranch)","v":""},"","","","",{"$f":"IF($Y15=\"\",\"\",\"\"&$S15&IF(AND(LEFT(P15,2)=\"2)\",SLBranch<>SelBranch),\" |\"&SLBranch,\"\"))","v":""},""]
[null,{"$f":"IF(C16<>\"\",ROWS($8:16),\"\")","v":""},{"$f":"IFERROR(IF(ROWS($8:16)>ROWS(Att_IndexList),\"\",INDEX(Att_IndexList,ROWS($8:16))),\"\")","v":""},{"$f":"IF($C16=\"\",\"\",INDEX(Employee_Sales[Employee Name],MATCH(Report!C16,Employee_Sales[Primary_ID],0)))","v":""},{"$f":"BankAccount","v":""},{"$f":"iCal","v":""},{"$f":"iCal","v":""},{"$f":"iCal","v":""},{"$f":"iCal","v":""},{"$f":"iCal","v":""},{"$f":"iCal","v":""},{"$f":"iCal","v":""},"",{"$f":"iBackPay","v":""},null,null,{"$f":"iGrandTotal","v":""},{"$f":"iPosition","v":""},null,null,{"$f":"IFERROR(INDEX(Emp_DatabyBranch,ROWS($8:16),1),\"\")","v":"107098"},{"$f":"IFERROR(INDEX(Emp_DatabyBranch,ROWS($8:16),4),\"\")","v":"นางสาวนภัทร มูลโมกข์"},null,"",{"$f":"IF(OR($C16=\"\",NOT(ISNUMBER(--$C16))),\"\",SLBranch)","v":""},"","","","",{"$f":"IF($Y16=\"\",\"\",\"\"&$S16&IF(AND(LEFT(P16,2)=\"2)\",SLBranch<>SelBranch),\" |\"&SLBranch,\"\"))","v":""},""]
[null,{"$f":"IF(C17<>\"\",ROWS($8:17),\"\")","v":""},{"$f":"IFERROR(IF(ROWS($8:17)>ROWS(Att_IndexList),\"\",INDEX(Att_IndexList,ROWS($8:17))),\"\")","v":""},{"$f":"IF($C17=\"\",\"\",INDEX(Employee_Sales[Employee Name],MATCH(Report!C17,Employee_Sales[Primary_ID],0)))","v":""},{"$f":"BankAccount","v":""},{"$f":"iCal","v":""},{"$f":"iCal","v":""},{"$f":"iCal","v":""},{"$f":"iCal","v":""},{"$f":"iCal","v":""},{"$f":"iCal","v":""},{"$f":"iCal","v":""},"",{"$f":"iBackPay","v":""},null,null,{"$f":"iGrandTotal","v":""},{"$f":"iPosition","v":""},null,null,{"$f":"IFERROR(INDEX(Emp_DatabyBranch,ROWS($8:17),1),\"\")","v":"107143"},{"$f":"IFERROR(INDEX(Emp_DatabyBranch,ROWS($8:17),4),\"\")","v":"นางสาวศิริลักษณ์ คล้ายประเสริฐ"},null,"",{"$f":"IF(OR($C17=\"\",NOT(ISNUMBER(--$C17))),\"\",SLBranch)","v":""},"","","","",{"$f":"IF($Y17=\"\",\"\",\"\"&$S17&IF(AND(LEFT(P17,2)=\"2)\",SLBranch<>SelBranch),\" |\"&SLBranch,\"\"))","v":""},""]
[null,{"$f":"IF(C18<>\"\",ROWS($8:18),\"\")","v":""},{"$f":"IFERROR(IF(ROWS($8:18)>ROWS(Att_IndexList),\"\",INDEX(Att_IndexList,ROWS($8:18))),\"\")","v":""},{"$f":"IF($C18=\"\",\"\",INDEX(Employee_Sales[Employee Name],MATCH(Report!C18,Employee_Sales[Primary_ID],0)))","v":""},{"$f":"BankAccount","v":""},{"$f":"iCal","v":""},{"$f":"iCal","v":""},{"$f":"iCal","v":""},{"$f":"iCal","v":""},{"$f":"iCal","v":""},{"$f":"iCal","v":""},{"$f":"iCal","v":""},"",{"$f":"iBackPay","v":""},null,null,{"$f":"iGrandTotal","v":""},{"$f":"iPosition","v":""},null,null,{"$f":"IFERROR(INDEX(Emp_DatabyBranch,ROWS($8:18),1),\"\")","v":"107165"},{"$f":"IFERROR(INDEX(Emp_DatabyBranch,ROWS($8:18),4),\"\")","v":"นายนคร จันทร์กระจร่าง"},null,"",{"$f":"IF(OR($C18=\"\",NOT(ISNUMBER(--$C18))),\"\",SLBranch)","v":""},"","","","",{"$f":"IF($Y18=\"\",\"\",\"\"&$S18&IF(AND(LEFT(P18,2)=\"2)\",SLBranch<>SelBranch),\" |\"&SLBranch,\"\"))","v":""},""]
[null,{"$f":"IF(C19<>\"\",ROWS($8:19),\"\")","v":""},{"$f":"IFERROR(IF(ROWS($8:19)>ROWS(Att_IndexList),\"\",INDEX(Att_IndexList,ROWS($8:19))),\"\")","v":""},{"$f":"IF($C19=\"\",\"\",INDEX(Employee_Sales[Employee Name],MATCH(Report!C19,Employee_Sales[Primary_ID],0)))","v":""},{"$f":"BankAccount","v":""},{"$f":"iCal","v":""},{"$f":"iCal","v":""},{"$f":"iCal","v":""},{"$f":"iCal","v":""},{"$f":"iCal","v":""},{"$f":"iCal","v":""},{"$f":"iCal","v":""},"",{"$f":"iBackPay","v":""},null,null,{"$f":"iGrandTotal","v":""},{"$f":"iPosition","v":""},null,null,{"$f":"IFERROR(INDEX(Emp_DatabyBranch,ROWS($8:19),1),\"\")","v":"107274"},{"$f":"IFERROR(INDEX(Emp_DatabyBranch,ROWS($8:19),4),\"\")","v":"นายณัฐกฤต เกษสาคร"},null,"",{"$f":"IF(OR($C19=\"\",NOT(ISNUMBER(--$C19))),\"\",SLBranch)","v":""},"","","","",{"$f":"IF($Y19=\"\",\"\",\"\"&$S19&IF(AND(LEFT(P19,2)=\"2)\",SLBranch<>SelBranch),\" |\"&SLBranch,\"\"))","v":""},""]
[null,{"$f":"IF(C20<>\"\",ROWS($8:20),\"\")","v":""},{"$f":"IFERROR(IF(ROWS($8:20)>ROWS(Att_IndexList),\"\",INDEX(Att_IndexList,ROWS($8:20))),\"\")","v":""},{"$f":"IF($C20=\"\",\"\",INDEX(Employee_Sales[Employee Name],MATCH(Report!C20,Employee_Sales[Primary_ID],0)))","v":""},{"$f":"BankAccount","v":""},{"$f":"iCal","v":""},{"$f":"iCal","v":""},{"$f":"iCal","v":""},{"$f":"iCal","v":""},{"$f":"iCal","v":""},{"$f":"iCal","v":""},{"$f":"iCal","v":""},"",{"$f":"iBackPay","v":""},null,null,{"$f":"iGrandTotal","v":""},{"$f":"iPosition","v":""},null,null,{"$f":"IFERROR(INDEX(Emp_DatabyBranch,ROWS($8:20),1),\"\")","v":"107313"},{"$f":"IFERROR(INDEX(Emp_DatabyBranch,ROWS($8:20),4),\"\")","v":"นายคมสันต์ บัวสำลี"},null,"",{"$f":"IF(OR($C20=\"\",NOT(ISNUMBER(--$C20))),\"\",SLBranch)","v":""},"","","","",{"$f":"IF($Y20=\"\",\"\",\"\"&$S20&IF(AND(LEFT(P20,2)=\"2)\",SLBranch<>SelBranch),\" |\"&SLBranch,\"\"))","v":""},""]
[null,{"$f":"IF(C21<>\"\",ROWS($8:21),\"\")","v":""},{"$f":"IFERROR(IF(ROWS($8:21)>ROWS(Att_IndexList),\"\",INDEX(Att_IndexList,ROWS($8:21))),\"\")","v":""},{"$f":"IF($C21=\"\",\"\",INDEX(Employee_Sales[Employee Name],MATCH(Report!C21,Employee_Sales[Primary_ID],0)))","v":""},{"$f":"BankAccount","v":""},{"$f":"iCal","v":""},{"$f":"iCal","v":""},{"$f":"iCal","v":""},{"$f":"iCal","v":""},{"$f":"iCal","v":""},{"$f":"iCal","v":""},{"$f":"iCal","v":""},"",{"$f":"iBackPay","v":""},null,null,{"$f":"iGrandTotal","v":""},{"$f":"iPosition","v":""},null,null,{"$f":"IFERROR(INDEX(Emp_DatabyBranch,ROWS($8:21),1),\"\")","v":"107322"},{"$f":"IFERROR(INDEX(Emp_DatabyBranch,ROWS($8:21),4),\"\")","v":"นางสาวชาลิสา การะเกตุ"},null,"",{"$f":"IF(OR($C21=\"\",NOT(ISNUMBER(--$C21))),\"\",SLBranch)","v":""},"","","","",{"$f":"IF($Y21=\"\",\"\",\"\"&$S21&IF(AND(LEFT(P21,2)=\"2)\",SLBranch<>SelBranch),\" |\"&SLBranch,\"\"))","v":""},""]
[null,{"$f":"IF(C22<>\"\",ROWS($8:22),\"\")","v":""},{"$f":"IFERROR(IF(ROWS($8:22)>ROWS(Att_IndexList),\"\",INDEX(Att_IndexList,ROWS($8:22))),\"\")","v":""},{"$f":"IF($C22=\"\",\"\",INDEX(Employee_Sales[Employee Name],MATCH(Report!C22,Employee_Sales[Primary_ID],0)))","v":""},{"$f":"BankAccount","v":""},{"$f":"iCal","v":""},{"$f":"iCal","v":""},{"$f":"iCal","v":""},{"$f":"iCal","v":""},{"$f":"iCal","v":""},{"$f":"iCal","v":""},{"$f":"iCal","v":""},"",{"$f":"iBackPay","v":""},null,null,{"$f":"iGrandTotal","v":""},{"$f":"iPosition","v":""},null,null,{"$f":"IFERROR(INDEX(Emp_DatabyBranch,ROWS($8:22),1),\"\")","v":"107369"},{"$f":"IFERROR(INDEX(Emp_DatabyBranch,ROWS($8:22),4),\"\")","v":"นายสมบัติ ศรีก้าน"},null,"",{"$f":"IF(OR($C22=\"\",NOT(ISNUMBER(--$C22))),\"\",SLBranch)","v":""},"","","","",{"$f":"IF($Y22=\"\",\"\",\"\"&$S22&IF(AND(LEFT(P22,2)=\"2)\",SLBranch<>SelBranch),\" |\"&SLBranch,\"\"))","v":""},""]
[null,{"$f":"IF(C23<>\"\",ROWS($8:23),\"\")","v":""},{"$f":"IFERROR(IF(ROWS($8:23)>ROWS(Att_IndexList),\"\",INDEX(Att_IndexList,ROWS($8:23))),\"\")","v":""},{"$f":"IF($C23=\"\",\"\",INDEX(Employee_Sales[Employee Name],MATCH(Report!C23,Employee_Sales[Primary_ID],0)))","v":""},{"$f":"BankAccount","v":""},{"$f":"iCal","v":""},{"$f":"iCal","v":""},{"$f":"iCal","v":""},{"$f":"iCal","v":""},{"$f":"iCal","v":""},{"$f":"iCal","v":""},{"$f":"iCal","v":""},"",{"$f":"iBackPay","v":""},null,null,{"$f":"iGrandTotal","v":""},{"$f":"iPosition","v":""},null,null,{"$f":"IFERROR(INDEX(Emp_DatabyBranch,ROWS($8:23),1),\"\")","v":"102701"},{"$f":"IFERROR(INDEX(Emp_DatabyBranch,ROWS($8:23),4),\"\")","v":"นายอัฑฒกร แนบบุญ"},null,"",{"$f":"IF(OR($C23=\"\",NOT(ISNUMBER(--$C23))),\"\",SLBranch)","v":""},"","","","",{"$f":"IF($Y23=\"\",\"\",\"\"&$S23&IF(AND(LEFT(P23,2)=\"2)\",SLBranch<>SelBranch),\" |\"&SLBranch,\"\"))","v":""},""]
[null,{"$f":"IF(C24<>\"\",ROWS($8:24),\"\")","v":""},{"$f":"IFERROR(IF(ROWS($8:24)>ROWS(Att_IndexList),\"\",INDEX(Att_IndexList,ROWS($8:24))),\"\")","v":""},{"$f":"IF($C24=\"\",\"\",INDEX(Employee_Sales[Employee Name],MATCH(Report!C24,Employee_Sales[Primary_ID],0)))","v":""},{"$f":"BankAccount","v":""},{"$f":"iCal","v":""},{"$f":"iCal","v":""},{"$f":"iCal","v":""},{"$f":"iCal","v":""},{"$f":"iCal","v":""},{"$f":"iCal","v":""},{"$f":"iCal","v":""},"",{"$f":"iBackPay","v":""},null,null,{"$f":"iGrandTotal","v":""},{"$f":"iPosition","v":""},null,null,{"$f":"IFERROR(INDEX(Emp_DatabyBranch,ROWS($8:24),1),\"\")","v":"103545"},{"$f":"IFERROR(INDEX(Emp_DatabyBranch,ROWS($8:24),4),\"\")","v":"นายมานพ สุ่นนิ่ม"},null,"",{"$f":"IF(OR($C24=\"\",NOT(ISNUMBER(--$C24))),\"\",SLBranch)","v":""},"","","","",{"$f":"IF($Y24=\"\",\"\",\"\"&$S24&IF(AND(LEFT(P24,2)=\"2)\",SLBranch<>SelBranch),\" |\"&SLBranch,\"\"))","v":""},""]
[null,{"$f":"IF(C25<>\"\",ROWS($8:25),\"\")","v":""},{"$f":"IFERROR(IF(ROWS($8:25)>ROWS(Att_IndexList),\"\",INDEX(Att_IndexList,ROWS($8:25))),\"\")","v":""},{"$f":"IF($C25=\"\",\"\",INDEX(Employee_Sales[Employee Name],MATCH(Report!C25,Employee_Sales[Primary_ID],0)))","v":""},{"$f":"BankAccount","v":""},{"$f":"iCal","v":""},{"$f":"iCal","v":""},{"$f":"iCal","v":""},{"$f":"iCal","v":""},{"$f":"iCal","v":""},{"$f":"iCal","v":""},{"$f":"iCal","v":""},"",{"$f":"iBackPay","v":""},null,null,{"$f":"iGrandTotal","v":""},{"$f":"iPosition","v":""},null,null,{"$f":"IFERROR(INDEX(Emp_DatabyBranch,ROWS($8:25),1),\"\")","v":"105356"},{"$f":"IFERROR(INDEX(Emp_DatabyBranch,ROWS($8:25),4),\"\")","v":"นายศักดิ์ดา สว่างศรี"},null,"",{"$f":"IF(OR($C25=\"\",NOT(ISNUMBER(--$C25))),\"\",SLBranch)","v":""},"","","","",{"$f":"IF($Y25=\"\",\"\",\"\"&$S25&IF(AND(LEFT(P25,2)=\"2)\",SLBranch<>SelBranch),\" |\"&SLBranch,\"\"))","v":""},""]
[null,{"$f":"IF(C26<>\"\",ROWS($8:26),\"\")","v":""},{"$f":"IFERROR(IF(ROWS($8:26)>ROWS(Att_IndexList),\"\",INDEX(Att_IndexList,ROWS($8:26))),\"\")","v":""},{"$f":"IF($C26=\"\",\"\",INDEX(Employee_Sales[Employee Name],MATCH(Report!C26,Employee_Sales[Primary_ID],0)))","v":""},{"$f":"BankAccount","v":""},{"$f":"iCal","v":""},{"$f":"iCal","v":""},{"$f":"iCal","v":""},{"$f":"iCal","v":""},{"$f":"iCal","v":""},{"$f":"iCal","v":""},{"$f":"iCal","v":""},"",{"$f":"iBackPay","v":""},null,null,{"$f":"iGrandTotal","v":""},{"$f":"iPosition","v":""},null,null,{"$f":"IFERROR(INDEX(Emp_DatabyBranch,ROWS($8:26),1),\"\")","v":"105788"},{"$f":"IFERROR(INDEX(Emp_DatabyBranch,ROWS($8:26),4),\"\")","v":"นายธีรภัทร พูลทอง"},null,"",{"$f":"IF(OR($C26=\"\",NOT(ISNUMBER(--$C26))),\"\",SLBranch)","v":""},"","","","",{"$f":"IF($Y26=\"\",\"\",\"\"&$S26&IF(AND(LEFT(P26,2)=\"2)\",SLBranch<>SelBranch),\" |\"&SLBranch,\"\"))","v":""},""]
[null,{"$f":"IF(C27<>\"\",ROWS($8:27),\"\")","v":""},{"$f":"IFERROR(IF(ROWS($8:27)>ROWS(Att_IndexList),\"\",INDEX(Att_IndexList,ROWS($8:27))),\"\")","v":""},{"$f":"IF($C27=\"\",\"\",INDEX(Employee_Sales[Employee Name],MATCH(Report!C27,Employee_Sales[Primary_ID],0)))","v":""},{"$f":"BankAccount","v":""},{"$f":"iCal","v":""},{"$f":"iCal","v":""},{"$f":"iCal","v":""},{"$f":"iCal","v":""},{"$f":"iCal","v":""},{"$f":"iCal","v":""},{"$f":"iCal","v":""},"",{"$f":"iBackPay","v":""},null,null,{"$f":"iGrandTotal","v":""},{"$f":"iPosition","v":""},null,null,{"$f":"IFERROR(INDEX(Emp_DatabyBranch,ROWS($8:27),1),\"\")","v":"105837"},{"$f":"IFERROR(INDEX(Emp_DatabyBranch,ROWS($8:27),4),\"\")","v":"นายอติชาติ นรสิงห์"},null,"",{"$f":"IF(OR($C27=\"\",NOT(ISNUMBER(--$C27))),\"\",SLBranch)","v":""},"","","","",{"$f":"IF($Y27=\"\",\"\",\"\"&$S27&IF(AND(LEFT(P27,2)=\"2)\",SLBranch<>SelBranch),\" |\"&SLBranch,\"\"))","v":""},""]
[null,{"$f":"IF(C28<>\"\",ROWS($8:28),\"\")","v":""},{"$f":"IFERROR(IF(ROWS($8:28)>ROWS(Att_IndexList),\"\",INDEX(Att_IndexList,ROWS($8:28))),\"\")","v":""},{"$f":"IF($C28=\"\",\"\",INDEX(Employee_Sales[Employee Name],MATCH(Report!C28,Employee_Sales[Primary_ID],0)))","v":""},{"$f":"BankAccount","v":""},{"$f":"iCal","v":""},{"$f":"iCal","v":""},{"$f":"iCal","v":""},{"$f":"iCal","v":""},{"$f":"iCal","v":""},{"$f":"iCal","v":""},{"$f":"iCal","v":""},"",{"$f":"iBackPay","v":""},null,null,{"$f":"iGrandTotal","v":""},{"$f":"iPosition","v":""},null,null,{"$f":"IFERROR(INDEX(Emp_DatabyBranch,ROWS($8:28),1),\"\")","v":"106323"},{"$f":"IFERROR(INDEX(Emp_DatabyBranch,ROWS($8:28),4),\"\")","v":"นายปรมัส หมอแจ่ม"},null,"",{"$f":"IF(OR($C28=\"\",NOT(ISNUMBER(--$C28))),\"\",SLBranch)","v":""},"","","","",{"$f":"IF($Y28=\"\",\"\",\"\"&$S28&IF(AND(LEFT(P28,2)=\"2)\",SLBranch<>SelBranch),\" |\"&SLBranch,\"\"))","v":""},""]
[null,{"$f":"IF(C29<>\"\",ROWS($8:29),\"\")","v":""},{"$f":"IFERROR(IF(ROWS($8:29)>ROWS(Att_IndexList),\"\",INDEX(Att_IndexList,ROWS($8:29))),\"\")","v":""},{"$f":"IF($C29=\"\",\"\",INDEX(Employee_Sales[Employee Name],MATCH(Report!C29,Employee_Sales[Primary_ID],0)))","v":""},{"$f":"BankAccount","v":""},{"$f":"iCal","v":""},{"$f":"iCal","v":""},{"$f":"iCal","v":""},{"$f":"iCal","v":""},{"$f":"iCal","v":""},{"$f":"iCal","v":""},{"$f":"iCal","v":""},"",{"$f":"iBackPay","v":""},null,null,{"$f":"iGrandTotal","v":""},{"$f":"iPosition","v":""},null,null,{"$f":"IFERROR(INDEX(Emp_DatabyBranch,ROWS($8:29),1),\"\")","v":"106465"},{"$f":"IFERROR(INDEX(Emp_DatabyBranch,ROWS($8:29),4),\"\")","v":"นายกิตติ ปิ่นเกตุ"},null,"",{"$f":"IF(OR($C29=\"\",NOT(ISNUMBER(--$C29))),\"\",SLBranch)","v":""},"","","","",{"$f":"IF($Y29=\"\",\"\",\"\"&$S29&IF(AND(LEFT(P29,2)=\"2)\",SLBranch<>SelBranch),\" |\"&SLBranch,\"\"))","v":""},""]
[null,{"$f":"IF(C30<>\"\",ROWS($8:30),\"\")","v":""},{"$f":"IFERROR(IF(ROWS($8:30)>ROWS(Att_IndexList),\"\",INDEX(Att_IndexList,ROWS($8:30))),\"\")","v":""},{"$f":"IF($C30=\"\",\"\",INDEX(Employee_Sales[Employee Name],MATCH(Report!C30,Employee_Sales[Primary_ID],0)))","v":""},{"$f":"BankAccount","v":""},{"$f":"iCal","v":""},{"$f":"iCal","v":""},{"$f":"iCal","v":""},{"$f":"iCal","v":""},{"$f":"iCal","v":""},{"$f":"iCal","v":""},{"$f":"iCal","v":""},"",{"$f":"iBackPay","v":""},null,null,{"$f":"iGrandTotal","v":""},{"$f":"iPosition","v":""},null,null,{"$f":"IFERROR(INDEX(Emp_DatabyBranch,ROWS($8:30),1),\"\")","v":"106606"},{"$f":"IFERROR(INDEX(Emp_DatabyBranch,ROWS($8:30),4),\"\")","v":"นายธาดา คณฑา"},null,"",{"$f":"IF(OR($C30=\"\",NOT(ISNUMBER(--$C30))),\"\",SLBranch)","v":""},"","","","",{"$f":"IF($Y30=\"\",\"\",\"\"&$S30&IF(AND(LEFT(P30,2)=\"2)\",SLBranch<>SelBranch),\" |\"&SLBranch,\"\"))","v":""},""]
[null,{"$f":"IF(C31<>\"\",ROWS($8:31),\"\")","v":""},{"$f":"IFERROR(IF(ROWS($8:31)>ROWS(Att_IndexList),\"\",INDEX(Att_IndexList,ROWS($8:31))),\"\")","v":""},{"$f":"IF($C31=\"\",\"\",INDEX(Employee_Sales[Employee Name],MATCH(Report!C31,Employee_Sales[Primary_ID],0)))","v":""},{"$f":"BankAccount","v":""},{"$f":"iCal","v":""},{"$f":"iCal","v":""},{"$f":"iCal","v":""},{"$f":"iCal","v":""},{"$f":"iCal","v":""},{"$f":"iCal","v":""},{"$f":"iCal","v":""},"",{"$f":"iBackPay","v":""},null,null,{"$f":"iGrandTotal","v":""},{"$f":"iPosition","v":""},null,null,{"$f":"IFERROR(INDEX(Emp_DatabyBranch,ROWS($8:31),1),\"\")","v":"106864"},{"$f":"IFERROR(INDEX(Emp_DatabyBranch,ROWS($8:31),4),\"\")","v":"นายณัฐวุฒิ วาศรี"},null,"",{"$f":"IF(OR($C31=\"\",NOT(ISNUMBER(--$C31))),\"\",SLBranch)","v":""},"","","","",{"$f":"IF($Y31=\"\",\"\",\"\"&$S31&IF(AND(LEFT(P31,2)=\"2)\",SLBranch<>SelBranch),\" |\"&SLBranch,\"\"))","v":""},""]
[null,{"$f":"IF(C32<>\"\",ROWS($8:32),\"\")","v":""},{"$f":"IFERROR(IF(ROWS($8:32)>ROWS(Att_IndexList),\"\",INDEX(Att_IndexList,ROWS($8:32))),\"\")","v":""},{"$f":"IF($C32=\"\",\"\",INDEX(Employee_Sales[Employee Name],MATCH(Report!C32,Employee_Sales[Primary_ID],0)))","v":""},{"$f":"BankAccount","v":""},{"$f":"iCal","v":""},{"$f":"iCal","v":""},{"$f":"iCal","v":""},{"$f":"iCal","v":""},{"$f":"iCal","v":""},{"$f":"iCal","v":""},{"$f":"iCal","v":""},"",{"$f":"iBackPay","v":""},null,null,{"$f":"iGrandTotal","v":""},{"$f":"iPosition","v":""},null,null,{"$f":"IFERROR(INDEX(Emp_DatabyBranch,ROWS($8:32),1),\"\")","v":"107110"},{"$f":"IFERROR(INDEX(Emp_DatabyBranch,ROWS($8:32),4),\"\")","v":"นายภาสวัฒน์ กิขุนทด"},null,"",{"$f":"IF(OR($C32=\"\",NOT(ISNUMBER(--$C32))),\"\",SLBranch)","v":""},"","","","",{"$f":"IF($Y32=\"\",\"\",\"\"&$S32&IF(AND(LEFT(P32,2)=\"2)\",SLBranch<>SelBranch),\" |\"&SLBranch,\"\"))","v":""},""]
[null,{"$f":"IF(C33<>\"\",ROWS($8:33),\"\")","v":""},{"$f":"IFERROR(IF(ROWS($8:33)>ROWS(Att_IndexList),\"\",INDEX(Att_IndexList,ROWS($8:33))),\"\")","v":""},{"$f":"IF($C33=\"\",\"\",INDEX(Employee_Sales[Employee Name],MATCH(Report!C33,Employee_Sales[Primary_ID],0)))","v":""},{"$f":"BankAccount","v":""},{"$f":"iCal","v":""},{"$f":"iCal","v":""},{"$f":"iCal","v":""},{"$f":"iCal","v":""},{"$f":"iCal","v":""},{"$f":"iCal","v":""},{"$f":"iCal","v":""},"",{"$f":"iBackPay","v":""},null,null,{"$f":"iGrandTotal","v":""},{"$f":"iPosition","v":""},null,null,{"$f":"IFERROR(INDEX(Emp_DatabyBranch,ROWS($8:33),1),\"\")","v":"107323"},{"$f":"IFERROR(INDEX(Emp_DatabyBranch,ROWS($8:33),4),\"\")","v":"นายสุรศักดิ์ ลักษณะพรมราช"},null,"",{"$f":"IF(OR($C33=\"\",NOT(ISNUMBER(--$C33))),\"\",SLBranch)","v":""},"","","","",{"$f":"IF($Y33=\"\",\"\",\"\"&$S33&IF(AND(LEFT(P33,2)=\"2)\",SLBranch<>SelBranch),\" |\"&SLBranch,\"\"))","v":""},""]
[null,{"$f":"IF(C34<>\"\",ROWS($8:34),\"\")","v":""},{"$f":"IFERROR(IF(ROWS($8:34)>ROWS(Att_IndexList),\"\",INDEX(Att_IndexList,ROWS($8:34))),\"\")","v":""},{"$f":"IF($C34=\"\",\"\",INDEX(Employee_Sales[Employee Name],MATCH(Report!C34,Employee_Sales[Primary_ID],0)))","v":""},{"$f":"BankAccount","v":""},{"$f":"iCal","v":""},{"$f":"iCal","v":""},{"$f":"iCal","v":""},{"$f":"iCal","v":""},{"$f":"iCal","v":""},{"$f":"iCal","v":""},{"$f":"iCal","v":""},"",{"$f":"iBackPay","v":""},null,null,{"$f":"iGrandTotal","v":""},{"$f":"iPosition","v":""},null,null,{"$f":"IFERROR(INDEX(Emp_DatabyBranch,ROWS($8:34),1),\"\")","v":""},{"$f":"IFERROR(INDEX(Emp_DatabyBranch,ROWS($8:34),4),\"\")","v":""},null,"",{"$f":"IF(OR($C34=\"\",NOT(ISNUMBER(--$C34))),\"\",SLBranch)","v":""},"","","","",{"$f":"IF($Y34=\"\",\"\",\"\"&$S34&IF(AND(LEFT(P34,2)=\"2)\",SLBranch<>SelBranch),\" |\"&SLBranch,\"\"))","v":""},""]
[null,{"$f":"IF(C35<>\"\",ROWS($8:35),\"\")","v":""},{"$f":"IFERROR(IF(ROWS($8:35)>ROWS(Att_IndexList),\"\",INDEX(Att_IndexList,ROWS($8:35))),\"\")","v":""},{"$f":"IF($C35=\"\",\"\",INDEX(Employee_Sales[Employee Name],MATCH(Report!C35,Employee_Sales[Primary_ID],0)))","v":""},{"$f":"BankAccount","v":""},{"$f":"iCal","v":""},{"$f":"iCal","v":""},{"$f":"iCal","v":""},{"$f":"iCal","v":""},{"$f":"iCal","v":""},{"$f":"iCal","v":""},{"$f":"iCal","v":""},"",{"$f":"iBackPay","v":""},null,null,{"$f":"iGrandTotal","v":""},{"$f":"iPosition","v":""},null,null,{"$f":"IFERROR(INDEX(Emp_DatabyBranch,ROWS($8:35),1),\"\")","v":""},{"$f":"IFERROR(INDEX(Emp_DatabyBranch,ROWS($8:35),4),\"\")","v":""},null,"",{"$f":"IF(OR($C35=\"\",NOT(ISNUMBER(--$C35))),\"\",SLBranch)","v":""},"","","","",{"$f":"IF($Y35=\"\",\"\",\"\"&$S35&IF(AND(LEFT(P35,2)=\"2)\",SLBranch<>SelBranch),\" |\"&SLBranch,\"\"))","v":""},""]
[null,{"$f":"IF(C36<>\"\",ROWS($8:36),\"\")","v":""},{"$f":"IFERROR(IF(ROWS($8:36)>ROWS(Att_IndexList),\"\",INDEX(Att_IndexList,ROWS($8:36))),\"\")","v":""},{"$f":"IF($C36=\"\",\"\",INDEX(Employee_Sales[Employee Name],MATCH(Report!C36,Employee_Sales[Primary_ID],0)))","v":""},{"$f":"BankAccount","v":""},{"$f":"iCal","v":""},{"$f":"iCal","v":""},{"$f":"iCal","v":""},{"$f":"iCal","v":""},{"$f":"iCal","v":""},{"$f":"iCal","v":""},{"$f":"iCal","v":""},"",{"$f":"iBackPay","v":""},null,null,{"$f":"iGrandTotal","v":""},{"$f":"iPosition","v":""},null,null,{"$f":"IFERROR(INDEX(Emp_DatabyBranch,ROWS($8:36),1),\"\")","v":""},{"$f":"IFERROR(INDEX(Emp_DatabyBranch,ROWS($8:36),4),\"\")","v":""},null,"",{"$f":"IF(OR($C36=\"\",NOT(ISNUMBER(--$C36))),\"\",SLBranch)","v":""},"","","","",{"$f":"IF($Y36=\"\",\"\",\"\"&$S36&IF(AND(LEFT(P36,2)=\"2)\",SLBranch<>SelBranch),\" |\"&SLBranch,\"\"))","v":""},""]
[null,{"$f":"IF(C37<>\"\",ROWS($8:37),\"\")","v":""},{"$f":"IFERROR(IF(ROWS($8:37)>ROWS(Att_IndexList),\"\",INDEX(Att_IndexList,ROWS($8:37))),\"\")","v":""},{"$f":"IF($C37=\"\",\"\",INDEX(Employee_Sales[Employee Name],MATCH(Report!C37,Employee_Sales[Primary_ID],0)))","v":""},{"$f":"BankAccount","v":""},{"$f":"iCal","v":""},{"$f":"iCal","v":""},{"$f":"iCal","v":""},{"$f":"iCal","v":""},{"$f":"iCal","v":""},{"$f":"iCal","v":""},{"$f":"iCal","v":""},"",{"$f":"iBackPay","v":""},null,null,{"$f":"iGrandTotal","v":""},{"$f":"iPosition","v":""},null,null,{"$f":"IFERROR(INDEX(Emp_DatabyBranch,ROWS($8:37),1),\"\")","v":""},{"$f":"IFERROR(INDEX(Emp_DatabyBranch,ROWS($8:37),4),\"\")","v":""},null,"",{"$f":"IF(OR($C37=\"\",NOT(ISNUMBER(--$C37))),\"\",SLBranch)","v":""},"","","","",{"$f":"IF($Y37=\"\",\"\",\"\"&$S37&IF(AND(LEFT(P37,2)=\"2)\",SLBranch<>SelBranch),\" |\"&SLBranch,\"\"))","v":""},""]
[null,{"$f":"IF(C38<>\"\",ROWS($8:38),\"\")","v":""},{"$f":"IFERROR(IF(ROWS($8:38)>ROWS(Att_IndexList),\"\",INDEX(Att_IndexList,ROWS($8:38))),\"\")","v":""},{"$f":"IF($C38=\"\",\"\",INDEX(Employee_Sales[Employee Name],MATCH(Report!C38,Employee_Sales[Primary_ID],0)))","v":""},{"$f":"BankAccount","v":""},{"$f":"iCal","v":""},{"$f":"iCal","v":""},{"$f":"iCal","v":""},{"$f":"iCal","v":""},{"$f":"iCal","v":""},{"$f":"iCal","v":""},{"$f":"iCal","v":""},"",{"$f":"iBackPay","v":""},null,null,{"$f":"iGrandTotal","v":""},{"$f":"iPosition","v":""},null,null,{"$f":"IFERROR(INDEX(Emp_DatabyBranch,ROWS($8:38),1),\"\")","v":""},{"$f":"IFERROR(INDEX(Emp_DatabyBranch,ROWS($8:38),4),\"\")","v":""},null,"",{"$f":"IF(OR($C38=\"\",NOT(ISNUMBER(--$C38))),\"\",SLBranch)","v":""},"","","","",{"$f":"IF($Y38=\"\",\"\",\"\"&$S38&IF(AND(LEFT(P38,2)=\"2)\",SLBranch<>SelBranch),\" |\"&SLBranch,\"\"))","v":""},""]
[null,{"$f":"IF(C39<>\"\",ROWS($8:39),\"\")","v":""},{"$f":"IFERROR(IF(ROWS($8:39)>ROWS(Att_IndexList),\"\",INDEX(Att_IndexList,ROWS($8:39))),\"\")","v":""},{"$f":"IF($C39=\"\",\"\",INDEX(Employee_Sales[Employee Name],MATCH(Report!C39,Employee_Sales[Primary_ID],0)))","v":""},{"$f":"BankAccount","v":""},{"$f":"iCal","v":""},{"$f":"iCal","v":""},{"$f":"iCal","v":""},{"$f":"iCal","v":""},{"$f":"iCal","v":""},{"$f":"iCal","v":""},{"$f":"iCal","v":""},"",{"$f":"iBackPay","v":""},null,null,{"$f":"iGrandTotal","v":""},{"$f":"iPosition","v":""},null,null,{"$f":"IFERROR(INDEX(Emp_DatabyBranch,ROWS($8:39),1),\"\")","v":""},{"$f":"IFERROR(INDEX(Emp_DatabyBranch,ROWS($8:39),4),\"\")","v":""},null,"",{"$f":"IF(OR($C39=\"\",NOT(ISNUMBER(--$C39))),\"\",SLBranch)","v":""},"","","","",{"$f":"IF($Y39=\"\",\"\",\"\"&$S39&IF(AND(LEFT(P39,2)=\"2)\",SLBranch<>SelBranch),\" |\"&SLBranch,\"\"))","v":""},""]
[null,{"$f":"IF(C40<>\"\",ROWS($8:40),\"\")","v":""},{"$f":"IFERROR(IF(ROWS($8:40)>ROWS(Att_IndexList),\"\",INDEX(Att_IndexList,ROWS($8:40))),\"\")","v":""},{"$f":"IF($C40=\"\",\"\",INDEX(Employee_Sales[Employee Name],MATCH(Report!C40,Employee_Sales[Primary_ID],0)))","v":""},{"$f":"BankAccount","v":""},{"$f":"iCal","v":""},{"$f":"iCal","v":""},{"$f":"iCal","v":""},{"$f":"iCal","v":""},{"$f":"iCal","v":""},{"$f":"iCal","v":""},{"$f":"iCal","v":""},"",{"$f":"iBackPay","v":""},null,null,{"$f":"iGrandTotal","v":""},{"$f":"iPosition","v":""},null,null,{"$f":"IFERROR(INDEX(Emp_DatabyBranch,ROWS($8:40),1),\"\")","v":""},{"$f":"IFERROR(INDEX(Emp_DatabyBranch,ROWS($8:40),4),\"\")","v":""},null,{"$f":"IF($Y40=\"\",\"\",StartDate&\"|\"&$Y40)","v":""},{"$f":"IF(OR($C40=\"\",NOT(ISNUMBER(--$C40))),\"\",SLBranch)","v":""},{"$f":"IF($Y40=\"\",\"\",$C40)","v":""},{"$f":"IF($Y40=\"\",\"\",$O40)","v":""},{"$f":"IF(OR($Y40=\"\",$P40=\"\"),\"\",$P40)","v":""},"",{"$f":"IF($Y40=\"\",\"\",\"\"&$S40&IF(AND(LEFT(P40,2)=\"2)\",SLBranch<>SelBranch),\" |\"&SLBranch,\"\"))","v":""},{"$f":"IF($Y40=\"\",\"\",IF(LEN(TRIM($E40))<>10,$Q40,\"\"))","v":""}]
[null,{"$f":"IF(C41<>\"\",ROWS($8:41),\"\")","v":""},{"$f":"IFERROR(IF(ROWS($8:41)>ROWS(Att_IndexList),\"\",INDEX(Att_IndexList,ROWS($8:41))),\"\")","v":""},{"$f":"IF($C41=\"\",\"\",INDEX(Employee_Sales[Employee Name],MATCH(Report!C41,Employee_Sales[Primary_ID],0)))","v":""},{"$f":"BankAccount","v":""},{"$f":"iCal","v":""},{"$f":"iCal","v":""},{"$f":"iCal","v":""},{"$f":"iCal","v":""},{"$f":"iCal","v":""},{"$f":"iCal","v":""},{"$f":"iCal","v":""},"",{"$f":"iBackPay","v":""},null,null,{"$f":"iGrandTotal","v":""},{"$f":"iPosition","v":""},null,null,{"$f":"IFERROR(INDEX(Emp_DatabyBranch,ROWS($8:41),1),\"\")","v":""},{"$f":"IFERROR(INDEX(Emp_DatabyBranch,ROWS($8:41),4),\"\")","v":""},null,"",{"$f":"IF(OR($C41=\"\",NOT(ISNUMBER(--$C41))),\"\",SLBranch)","v":""},"","","","",{"$f":"IF($Y41=\"\",\"\",\"\"&$S41&IF(AND(LEFT(P41,2)=\"2)\",SLBranch<>SelBranch),\" |\"&SLBranch,\"\"))","v":""},""]
[null,{"$f":"IF(C42<>\"\",ROWS($8:42),\"\")","v":""},{"$f":"IFERROR(IF(ROWS($8:42)>ROWS(Att_IndexList),\"\",INDEX(Att_IndexList,ROWS($8:42))),\"\")","v":""},{"$f":"IF($C42=\"\",\"\",INDEX(Employee_Sales[Employee Name],MATCH(Report!C42,Employee_Sales[Primary_ID],0)))","v":""},{"$f":"BankAccount","v":""},{"$f":"iCal","v":""},{"$f":"iCal","v":""},{"$f":"iCal","v":""},{"$f":"iCal","v":""},{"$f":"iCal","v":""},{"$f":"iCal","v":""},{"$f":"iCal","v":""},"",{"$f":"iBackPay","v":""},null,null,{"$f":"iGrandTotal","v":""},{"$f":"iPosition","v":""},null,null,{"$f":"IFERROR(INDEX(Emp_DatabyBranch,ROWS($8:42),1),\"\")","v":""},{"$f":"IFERROR(INDEX(Emp_DatabyBranch,ROWS($8:42),4),\"\")","v":""},null,"",{"$f":"IF(OR($C42=\"\",NOT(ISNUMBER(--$C42))),\"\",SLBranch)","v":""},"","","","",{"$f":"IF($Y42=\"\",\"\",\"\"&$S42&IF(AND(LEFT(P42,2)=\"2)\",SLBranch<>SelBranch),\" |\"&SLBranch,\"\"))","v":""},""]
[null,{"$f":"IF(C43<>\"\",ROWS($8:43),\"\")","v":""},{"$f":"IFERROR(IF(ROWS($8:43)>ROWS(Att_IndexList),\"\",INDEX(Att_IndexList,ROWS($8:43))),\"\")","v":""},{"$f":"IF($C43=\"\",\"\",INDEX(Employee_Sales[Employee Name],MATCH(Report!C43,Employee_Sales[Primary_ID],0)))","v":""},{"$f":"BankAccount","v":""},{"$f":"iCal","v":""},{"$f":"iCal","v":""},{"$f":"iCal","v":""},{"$f":"iCal","v":""},{"$f":"iCal","v":""},{"$f":"iCal","v":""},{"$f":"iCal","v":""},"",{"$f":"iBackPay","v":""},null,null,{"$f":"iGrandTotal","v":""},{"$f":"iPosition","v":""},null,null,{"$f":"IFERROR(INDEX(Emp_DatabyBranch,ROWS($8:43),1),\"\")","v":""},{"$f":"IFERROR(INDEX(Emp_DatabyBranch,ROWS($8:43),4),\"\")","v":""},null,"",{"$f":"IF(OR($C43=\"\",NOT(ISNUMBER(--$C43))),\"\",SLBranch)","v":""},"","","","",{"$f":"IF($Y43=\"\",\"\",\"\"&$S43&IF(AND(LEFT(P43,2)=\"2)\",SLBranch<>SelBranch),\" |\"&SLBranch,\"\"))","v":""},""]
[null,{"$f":"IF(C44<>\"\",ROWS($8:44),\"\")","v":""},{"$f":"IFERROR(IF(ROWS($8:44)>ROWS(Att_IndexList),\"\",INDEX(Att_IndexList,ROWS($8:44))),\"\")","v":""},{"$f":"IF($C44=\"\",\"\",INDEX(Employee_Sales[Employee Name],MATCH(Report!C44,Employee_Sales[Primary_ID],0)))","v":""},{"$f":"BankAccount","v":""},{"$f":"iCal","v":""},{"$f":"iCal","v":""},{"$f":"iCal","v":""},{"$f":"iCal","v":""},{"$f":"iCal","v":""},{"$f":"iCal","v":""},{"$f":"iCal","v":""},"",{"$f":"iBackPay","v":""},null,null,{"$f":"iGrandTotal","v":""},{"$f":"iPosition","v":""},null,null,{"$f":"IFERROR(INDEX(Emp_DatabyBranch,ROWS($8:44),1),\"\")","v":""},{"$f":"IFERROR(INDEX(Emp_DatabyBranch,ROWS($8:44),4),\"\")","v":""},null,"",{"$f":"IF(OR($C44=\"\",NOT(ISNUMBER(--$C44))),\"\",SLBranch)","v":""},"","","","",{"$f":"IF($Y44=\"\",\"\",\"\"&$S44&IF(AND(LEFT(P44,2)=\"2)\",SLBranch<>SelBranch),\" |\"&SLBranch,\"\"))","v":""},""]
[null,{"$f":"IF(C45<>\"\",ROWS($8:45),\"\")","v":""},{"$f":"IFERROR(IF(ROWS($8:45)>ROWS(Att_IndexList),\"\",INDEX(Att_IndexList,ROWS($8:45))),\"\")","v":""},{"$f":"IF($C45=\"\",\"\",INDEX(Employee_Sales[Employee Name],MATCH(Report!C45,Employee_Sales[Primary_ID],0)))","v":""},{"$f":"BankAccount","v":""},{"$f":"iCal","v":""},{"$f":"iCal","v":""},{"$f":"iCal","v":""},{"$f":"iCal","v":""},{"$f":"iCal","v":""},{"$f":"iCal","v":""},{"$f":"iCal","v":""},"",{"$f":"iBackPay","v":""},null,null,{"$f":"iGrandTotal","v":""},{"$f":"iPosition","v":""},null,null,{"$f":"IFERROR(INDEX(Emp_DatabyBranch,ROWS($8:45),1),\"\")","v":""},{"$f":"IFERROR(INDEX(Emp_DatabyBranch,ROWS($8:45),4),\"\")","v":""},null,"",{"$f":"IF(OR($C45=\"\",NOT(ISNUMBER(--$C45))),\"\",SLBranch)","v":""},"","","","",{"$f":"IF($Y45=\"\",\"\",\"\"&$S45&IF(AND(LEFT(P45,2)=\"2)\",SLBranch<>SelBranch),\" |\"&SLBranch,\"\"))","v":""},""]
[null,{"$f":"IF(C46<>\"\",ROWS($8:46),\"\")","v":""},{"$f":"IFERROR(IF(ROWS($8:46)>ROWS(Att_IndexList),\"\",INDEX(Att_IndexList,ROWS($8:46))),\"\")","v":""},{"$f":"IF($C46=\"\",\"\",INDEX(Employee_Sales[Employee Name],MATCH(Report!C46,Employee_Sales[Primary_ID],0)))","v":""},{"$f":"BankAccount","v":""},{"$f":"iCal","v":""},{"$f":"iCal","v":""},{"$f":"iCal","v":""},{"$f":"iCal","v":""},{"$f":"iCal","v":""},{"$f":"iCal","v":""},{"$f":"iCal","v":""},"",{"$f":"iBackPay","v":""},null,null,{"$f":"iGrandTotal","v":""},{"$f":"iPosition","v":""},null,null,{"$f":"IFERROR(INDEX(Emp_DatabyBranch,ROWS($8:46),1),\"\")","v":""},{"$f":"IFERROR(INDEX(Emp_DatabyBranch,ROWS($8:46),4),\"\")","v":""},null,"",{"$f":"IF(OR($C46=\"\",NOT(ISNUMBER(--$C46))),\"\",SLBranch)","v":""},"","","","",{"$f":"IF($Y46=\"\",\"\",\"\"&$S46&IF(AND(LEFT(P46,2)=\"2)\",SLBranch<>SelBranch),\" |\"&SLBranch,\"\"))","v":""},""]
[null,{"$f":"IF(C47<>\"\",ROWS($8:47),\"\")","v":""},{"$f":"IFERROR(IF(ROWS($8:47)>ROWS(Att_IndexList),\"\",INDEX(Att_IndexList,ROWS($8:47))),\"\")","v":""},{"$f":"IF($C47=\"\",\"\",INDEX(Employee_Sales[Employee Name],MATCH(Report!C47,Employee_Sales[Primary_ID],0)))","v":""},{"$f":"BankAccount","v":""},{"$f":"iCal","v":""},{"$f":"iCal","v":""},{"$f":"iCal","v":""},{"$f":"iCal","v":""},{"$f":"iCal","v":""},{"$f":"iCal","v":""},{"$f":"iCal","v":""},"",{"$f":"iBackPay","v":""},null,null,{"$f":"iGrandTotal","v":""},{"$f":"iPosition","v":""},null,null,{"$f":"IFERROR(INDEX(Emp_DatabyBranch,ROWS($8:47),1),\"\")","v":""},{"$f":"IFERROR(INDEX(Emp_DatabyBranch,ROWS($8:47),4),\"\")","v":""},null,"",{"$f":"IF(OR($C47=\"\",NOT(ISNUMBER(--$C47))),\"\",SLBranch)","v":""},"","","","",{"$f":"IF($Y47=\"\",\"\",\"\"&$S47&IF(AND(LEFT(P47,2)=\"2)\",SLBranch<>SelBranch),\" |\"&SLBranch,\"\"))","v":""},""]
[null,null,null,null,null,null,null,null,null,null,null,null,null,null,null,null,null,null,null,null,{"$f":"IFERROR(INDEX(Emp_DatabyBranch,ROWS($8:48),1),\"\")","v":""},{"$f":"IFERROR(INDEX(Emp_DatabyBranch,ROWS($8:48),4),\"\")","v":""},null,"",{"$f":"IF(OR($C48=\"\",NOT(ISNUMBER(--$C48))),\"\",SLBranch)","v":""},"","","","",{"$f":"IF($Y48=\"\",\"\",\"\"&$S48&IF(AND(LEFT(P48,2)=\"2)\",SLBranch<>SelBranch),\" |\"&SLBranch,\"\"))","v":""},""]
[null,null,">>> พนักงานช่วยงานต่างสาขา/เคลียร์ยอดตกเบิก",null,null,{"$f":"SLBranch","v":"23-NS"},null,null,null,null,null,null,null,null,null,null,null,null,null,null,{"$f":"IFERROR(INDEX(Emp_DatabyBranch,ROWS($8:49),1),\"\")","v":""},{"$f":"IFERROR(INDEX(Emp_DatabyBranch,ROWS($8:49),4),\"\")","v":""},null,"",{"$f":"IF(OR($C49=\"\",NOT(ISNUMBER(--$C49))),\"\",SLBranch)","v":""},"","","","",{"$f":"IF($Y49=\"\",\"\",\"\"&$S49&IF(AND(LEFT(P49,2)=\"2)\",SLBranch<>SelBranch),\" |\"&SLBranch,\"\"))","v":""},""]
[null,null,null,"-กรุณาเลือกสาขาต้นสังกัด-",null,null,null,null,null,null,null,null,null,null,null,null,null,null,null,null,{"$f":"IFERROR(INDEX(Emp_DatabyBranch,ROWS($8:50),1),\"\")","v":""},{"$f":"IFERROR(INDEX(Emp_DatabyBranch,ROWS($8:50),4),\"\")","v":""},null,"",{"$f":"IF(OR($C50=\"\",NOT(ISNUMBER(--$C50))),\"\",SLBranch)","v":""},"","","","",{"$f":"IF($Y50=\"\",\"\",\"\"&$S50&IF(AND(LEFT(P50,2)=\"2)\",SLBranch<>SelBranch),\" |\"&SLBranch,\"\"))","v":""},""]
[null,"สาขา","Emp.ID","ชื่อ - สกุล","เลขบัญชี BBL",{"$f":"F$6","v":"พ."},{"$f":"G$6","v":"พฤ."},"ศ.","ส.","อา.","จ.","อ.","รวม","ตกเบิกรอบเก่า","กรณีพิเศษ","เหตุผล","รวมทั้งสิ้น","ตำแหน่งงาน","หมายเหตุ",null,{"$f":"IFERROR(INDEX(Emp_DatabyBranch,ROWS($8:51),1),\"\")","v":""},{"$f":"IFERROR(INDEX(Emp_DatabyBranch,ROWS($8:51),4),\"\")","v":""},null,"",{"$f":"IF(OR($C51=\"\",NOT(ISNUMBER(--$C51))),\"\",SLBranch)","v":""},"","","","",{"$f":"IF($Y51=\"\",\"\",\"\"&$S51&IF(AND(LEFT(P51,2)=\"2)\",SLBranch<>SelBranch),\" |\"&SLBranch,\"\"))","v":""},""]
[null,null,null,null,null,{"$f":"F$7","v":"2025-04-16"},{"$f":"G$7","v":"2025-04-17"},"2025-04-18","2025-04-19","2025-04-20","2025-04-21","2025-04-22",null,{"$f":"PreDate","v":"2025-04-09"},"(บาท)",null,null,null,null,null,{"$f":"IFERROR(INDEX(Emp_DatabyBranch,ROWS($8:52),1),\"\")","v":""},{"$f":"IFERROR(INDEX(Emp_DatabyBranch,ROWS($8:52),4),\"\")","v":""},null,"",{"$f":"IF(OR($C52=\"\",NOT(ISNUMBER(--$C52))),\"\",SLBranch)","v":""},"","","","",{"$f":"IF($Y52=\"\",\"\",\"\"&$S52&IF(AND(LEFT(P52,2)=\"2)\",SLBranch<>SelBranch),\" |\"&SLBranch,\"\"))","v":""},""]
[null,null,{"$f":"IFERROR(IF(OR($D53=\"\",$B53=SLBranch,COUNTIF($D$8:$D$47,$D53)>0),\"\",INDEX(OFFSET(NameListByBranch,,-3,),MATCH($D53,NameListByBranch,0))),\"\")","v":""},null,{"$f":"BankAccount","v":""},{"$f":"iCal_2","v":""},{"$f":"iCal_2","v":""},{"$f":"iCal_2","v":""},{"$f":"iCal_2","v":""},{"$f":"iCal_2","v":""},{"$f":"iCal_2","v":""},{"$f":"iCal_2","v":""},{"$f":"IF(LEFT($P53,1)=\"6\",0,iTotal)","v":""},{"$f":"iBackPay","v":""},null,null,{"$f":"iGrandTotal","v":""},{"$f":"iPosition","v":""},null,null,{"$f":"IFERROR(INDEX(Emp_DatabyBranch,ROWS($8:53),1),\"\")","v":""},{"$f":"IFERROR(INDEX(Emp_DatabyBranch,ROWS($8:53),4),\"\")","v":""},null,"",{"$f":"IF(OR($C53=\"\",NOT(ISNUMBER(--$C53))),\"\",SLBranch)","v":""},"","","","",{"$f":"IF($Y53=\"\",\"\",\"\"&$S53&IF(AND(LEFT(P53,2)=\"2)\",SLBranch<>SelBranch),\" |\"&SLBranch,\"\"))","v":""},""]
[null,null,{"$f":"IFERROR(IF(OR($D54=\"\",$B54=SLBranch,COUNTIF($D$8:$D$47,$D54)>0),\"\",INDEX(OFFSET(NameListByBranch,,-3,),MATCH($D54,NameListByBranch,0))),\"\")","v":""},null,{"$f":"BankAccount","v":""},{"$f":"iCal_2","v":""},{"$f":"iCal_2","v":""},{"$f":"iCal_2","v":""},{"$f":"iCal_2","v":""},{"$f":"iCal_2","v":""},{"$f":"iCal_2","v":""},{"$f":"iCal_2","v":""},{"$f":"IF(LEFT($P54,1)=\"6\",0,iTotal)","v":""},{"$f":"iBackPay","v":""},null,null,{"$f":"iGrandTotal","v":""},{"$f":"iPosition","v":""},null,null,{"$f":"IFERROR(INDEX(Emp_DatabyBranch,ROWS($8:54),1),\"\")","v":""},{"$f":"IFERROR(INDEX(Emp_DatabyBranch,ROWS($8:54),4),\"\")","v":""},null,"",{"$f":"IF(OR($C54=\"\",NOT(ISNUMBER(--$C54))),\"\",SLBranch)","v":""},"","","","",{"$f":"IF($Y54=\"\",\"\",\"\"&$S54&IF(AND(LEFT(P54,2)=\"2)\",SLBranch<>SelBranch),\" |\"&SLBranch,\"\"))","v":""},""]
[null,null,{"$f":"IFERROR(IF(OR($D55=\"\",$B55=SLBranch,COUNTIF($D$8:$D$47,$D55)>0),\"\",INDEX(OFFSET(NameListByBranch,,-3,),MATCH($D55,NameListByBranch,0))),\"\")","v":""},null,{"$f":"BankAccount","v":""},{"$f":"iCal_2","v":""},{"$f":"iCal_2","v":""},{"$f":"iCal_2","v":""},{"$f":"iCal_2","v":""},{"$f":"iCal_2","v":""},{"$f":"iCal_2","v":""},{"$f":"iCal_2","v":""},{"$f":"IF(LEFT($P55,1)=\"6\",0,iTotal)","v":""},{"$f":"iBackPay","v":""},null,null,{"$f":"iGrandTotal","v":""},{"$f":"iPosition","v":""},null,null,{"$f":"IFERROR(INDEX(Emp_DatabyBranch,ROWS($8:55),1),\"\")","v":""},{"$f":"IFERROR(INDEX(Emp_DatabyBranch,ROWS($8:55),4),\"\")","v":""},null,"",{"$f":"IF(OR($C55=\"\",NOT(ISNUMBER(--$C55))),\"\",SLBranch)","v":""},"","","","",{"$f":"IF($Y55=\"\",\"\",\"\"&$S55&IF(AND(LEFT(P55,2)=\"2)\",SLBranch<>SelBranch),\" |\"&SLBranch,\"\"))","v":""},""]
[null,null,{"$f":"IFERROR(IF(OR($D56=\"\",$B56=SLBranch,COUNTIF($D$8:$D$47,$D56)>0),\"\",INDEX(OFFSET(NameListByBranch,,-3,),MATCH($D56,NameListByBranch,0))),\"\")","v":""},null,{"$f":"BankAccount","v":""},{"$f":"iCal_2","v":""},{"$f":"iCal_2","v":""},{"$f":"iCal_2","v":""},{"$f":"iCal_2","v":""},{"$f":"iCal_2","v":""},{"$f":"iCal_2","v":""},{"$f":"iCal_2","v":""},{"$f":"IF(LEFT($P56,1)=\"6\",0,iTotal)","v":""},{"$f":"iBackPay","v":""},null,null,{"$f":"iGrandTotal","v":""},{"$f":"iPosition","v":""},null,null,{"$f":"IFERROR(INDEX(Emp_DatabyBranch,ROWS($8:56),1),\"\")","v":""},{"$f":"IFERROR(INDEX(Emp_DatabyBranch,ROWS($8:56),4),\"\")","v":""},null,"",{"$f":"IF(OR($C56=\"\",NOT(ISNUMBER(--$C56))),\"\",SLBranch)","v":""},"","","","",{"$f":"IF($Y56=\"\",\"\",\"\"&$S56&IF(AND(LEFT(P56,2)=\"2)\",SLBranch<>SelBranch),\" |\"&SLBranch,\"\"))","v":""},""]
[null,null,{"$f":"IFERROR(IF(OR($D57=\"\",$B57=SLBranch,COUNTIF($D$8:$D$47,$D57)>0),\"\",INDEX(OFFSET(NameListByBranch,,-3,),MATCH($D57,NameListByBranch,0))),\"\")","v":""},null,{"$f":"BankAccount","v":""},{"$f":"iCal_2","v":""},{"$f":"iCal_2","v":""},{"$f":"iCal_2","v":""},{"$f":"iCal_2","v":""},{"$f":"iCal_2","v":""},{"$f":"iCal_2","v":""},{"$f":"iCal_2","v":""},{"$f":"IF(LEFT($P57,1)=\"6\",0,iTotal)","v":""},{"$f":"iBackPay","v":""},null,null,{"$f":"iGrandTotal","v":""},{"$f":"iPosition","v":""},null,null,{"$f":"IFERROR(INDEX(Emp_DatabyBranch,ROWS($8:57),1),\"\")","v":""},{"$f":"IFERROR(INDEX(Emp_DatabyBranch,ROWS($8:57),4),\"\")","v":""},null,"",{"$f":"IF(OR($C57=\"\",NOT(ISNUMBER(--$C57))),\"\",SLBranch)","v":""},"","","","",{"$f":"IF($Y57=\"\",\"\",\"\"&$S57&IF(AND(LEFT(P57,2)=\"2)\",SLBranch<>SelBranch),\" |\"&SLBranch,\"\"))","v":""},""]
[null,null,{"$f":"IFERROR(IF(OR($D58=\"\",$B58=SLBranch,COUNTIF($D$8:$D$47,$D58)>0),\"\",INDEX(OFFSET(NameListByBranch,,-3,),MATCH($D58,NameListByBranch,0))),\"\")","v":""},null,{"$f":"BankAccount","v":""},{"$f":"iCal_2","v":""},{"$f":"iCal_2","v":""},{"$f":"iCal_2","v":""},{"$f":"iCal_2","v":""},{"$f":"iCal_2","v":""},{"$f":"iCal_2","v":""},{"$f":"iCal_2","v":""},{"$f":"IF(LEFT($P58,1)=\"6\",0,iTotal)","v":""},{"$f":"iBackPay","v":""},null,null,{"$f":"iGrandTotal","v":""},{"$f":"iPosition","v":""},null,null,{"$f":"IFERROR(INDEX(Emp_DatabyBranch,ROWS($8:58),1),\"\")","v":""},{"$f":"IFERROR(INDEX(Emp_DatabyBranch,ROWS($8:58),4),\"\")","v":""},null,"",{"$f":"IF(OR($C58=\"\",NOT(ISNUMBER(--$C58))),\"\",SLBranch)","v":""},"","","","",{"$f":"IF($Y58=\"\",\"\",\"\"&$S58&IF(AND(LEFT(P58,2)=\"2)\",SLBranch<>SelBranch),\" |\"&SLBranch,\"\"))","v":""},""]
[null,null,null,null,null,null,null,null,null,null,null,null,null,null,null,null,null,null,null,null,{"$f":"IFERROR(INDEX(Emp_DatabyBranch,ROWS($8:59),1),\"\")","v":""},{"$f":"IFERROR(INDEX(Emp_DatabyBranch,ROWS($8:59),4),\"\")","v":""}]
[null,null,null,"เบี้ยเลี้ยง เงินสด :",{"$f":"Cash_Alw","v":0},"*ระงับการจ่ายเงิน (ตกเบิกรอบหน้า)",null,null,null,null,null,null,null,null,null,null,null,null,null,null,{"$f":"IFERROR(INDEX(Emp_DatabyBranch,ROWS($8:60),1),\"\")","v":""},{"$f":"IFERROR(INDEX(Emp_DatabyBranch,ROWS($8:60),4),\"\")","v":""}]
[null,null,null,"เบี้ยเลี้ยง ธนาคาร :",{"$f":"Bank_Alw","v":0},null,null,null,null,null,null,null,null,null,null,null,null,null,null,null,{"$f":"IFERROR(INDEX(Emp_DatabyBranch,ROWS($8:61),1),\"\")","v":""},{"$f":"IFERROR(INDEX(Emp_DatabyBranch,ROWS($8:61),4),\"\")","v":""}]
[null,null,null,"บัญชี 083 - 2- 02854-1 :",null,null,null,null,null,null,null,null,null,null,null,null,null,null,null,null,{"$f":"IFERROR(INDEX(Emp_DatabyBranch,ROWS($8:62),1),\"\")","v":""},{"$f":"IFERROR(INDEX(Emp_DatabyBranch,ROWS($8:62),4),\"\")","v":""}]
[null,null,null,"รวมยอด :",{"$f":"SUM(E60:E62)","v":0},null,null,null,null,null,null,null,null,null,null,null,null,null,null,null,{"$f":"IFERROR(INDEX(Emp_DatabyBranch,ROWS($8:63),1),\"\")","v":""},{"$f":"IFERROR(INDEX(Emp_DatabyBranch,ROWS($8:63),4),\"\")","v":""}]
[null,null,null,null,null,null,null,null,null,null,null,null,null,null,null,null,null,null,null,null,{"$f":"IFERROR(INDEX(Emp_DatabyBranch,ROWS($8:64),1),\"\")","v":""},{"$f":"IFERROR(INDEX(Emp_DatabyBranch,ROWS($8:64),4),\"\")","v":""}]
[null,null,"หมายเหตุ",null,null,null,null,null,null,null,null,null,null,null,null,null,null,null,null,null,{"$f":"IFERROR(INDEX(Emp_DatabyBranch,ROWS($8:65),1),\"\")","v":""},{"$f":"IFERROR(INDEX(Emp_DatabyBranch,ROWS($8:65),4),\"\")","v":""}]
[null,1,"รถเช่า และรถบริษัท ให้ระบุสายวิ่ง รายชื่อพนักงานขับรถ เลขไมล์ล่าสุด และทะเบียน ให้ชัดเจน ใส่รายละเอียดให้ครบถ้วน",null,null,null,null,null,null,null,null,null,null,null,null,null,null,null,null,null,{"$f":"IFERROR(INDEX(Emp_DatabyBranch,ROWS($8:66),1),\"\")","v":""},{"$f":"IFERROR(INDEX(Emp_DatabyBranch,ROWS($8:66),4),\"\")","v":""}]
[null,2,"รถพนักงาน ให้ระบุสายวิ่ง รายชื่อพนักงานขับรถ  และทะเบียน ให้ชัดเจน ใส่รายละเอียดให้ครบถ้วน",null,null,null,null,null,null,null,null,null,null,null,null,null,null,null,null,null,{"$f":"IFERROR(INDEX(Emp_DatabyBranch,ROWS($8:67),1),\"\")","v":""},{"$f":"IFERROR(INDEX(Emp_DatabyBranch,ROWS($8:67),4),\"\")","v":""}]
[null,3,"เรียงสาย จับเป็นคู่ ๆ เรียงต่อกันมาเรื่อย จนครบทุกสาย",null,null,null,null,null,null,null,null,null,null,null,null,null,null,null,null,null,{"$f":"IFERROR(INDEX(Emp_DatabyBranch,ROWS($8:68),1),\"\")","v":""},{"$f":"IFERROR(INDEX(Emp_DatabyBranch,ROWS($8:68),4),\"\")","v":""}]
[null,4,"กรุณาใส่รายละเอียดให้ครบถ้วนและให้ถูกต้องนะคะ  ถ้าสาขาไหน ทำผิด หรือรายละเอียดไม่ครบ จะมีการระงับเบี้ยเลี้ยงในวันนั้นออกนะคะ",null,null,null,null,null,null,null,null,null,null,null,null,null,null,null,null,null,{"$f":"IFERROR(INDEX(Emp_DatabyBranch,ROWS($8:69),1),\"\")","v":""},{"$f":"IFERROR(INDEX(Emp_DatabyBranch,ROWS($8:69),4),\"\")","v":""}]
[null,null,null,null,null,null,null,null,null,null,null,null,null,null,null,null,null,null,null,null,{"$f":"IFERROR(INDEX(Emp_DatabyBranch,ROWS($8:70),1),\"\")","v":""},{"$f":"IFERROR(INDEX(Emp_DatabyBranch,ROWS($8:70),4),\"\")","v":""}]
[]
[null,null,null,".............................................................................",null,null,null,null,null,null,null,"............................................................................."]
[null,null,null,{"$f":"\"( \"&LEFT(Accountance&REPT(\" \",60),IF(LEN(Accountance)=0,60,LEN(Accountance)))&\")\"","v":"( นางสาวอลิศรา กุลชา)"},null,null,null,null,null,null,null,{"$f":"\"( \"&LEFT(Manager&REPT(\" \",60),IF(LEN(Manager)=0,60,LEN(Manager)))&\")\"","v":"(                                                             )"}]
[null,null,null,"สมุห์บัญชีสาขา",null,null,null,null,null,null,null,{"$f":"\"ผู้จัดการ สาขา\"&BranchName","v":"ผู้จัดการ สาขานครสวรรค์"}]
[null,null,null,"ผู้จัดทำ"]
[null,null,null,{"$f":"TEXT(NOW(),\"[$-107041E]d mmm yyyy  hh:mm;@\")","v":"19 เม.ย. 2568  10:41"}]