{"text_format":"1","workbook":"xlsx","n_sheets":7,"sheets":["Setting","Branches","Products","Stocks Inventory","Delivery_List","OrderFrm_Manual","Adjustment Order Frm"],"not_rendered":{"charts":0,"images":3,"macros":1,"external_links":0,"defined_names":51,"comments":3,"pivot_tables":0},"unopened":[],"bounds":{"document_bytes":16777216,"sheet_cells":100000,"rows_first":2000,"rows_last":500,"rows_between":2000,"halvings":0,"cell_chars":16384,"cell_head_chars":4096},"cells_cut":0,"cells_raw":0,"read":"whole","date_system":"1900"}

{"sheet":"Setting","index":0,"n_rows":17,"n_cols":7,"rows_kept":17,"cut":false,"hidden":false,"merged":[[3,2,3,4],[13,3,14,3],[6,6,7,6],[1,3,1,5],[1,6,1,7]]}
[]
[null,null,null,"::: GOLD BREAD INVENTORY SYSTEM Ver.01_2018",null,null,"Powered By IT-TEAM"]
[]
[null,null,"::: ENTER BUSINESS INFORMATION :::"]
[]
[]
[null,null,null,"ข้อมูลพื้นฐานประจำสาขา",null,null,"MENU"]
[]
[null,null,null,"รหัสสาขา"]
[null,null,null,"10-SK",null,null,"PRODUCTS"]
[null,null,null,"ชื่อสาขา",null,null,"TRANSACTION"]
[null,null,null,{"$f":"INDEX(GB_Branches[Thai_Name],MATCH(BranchCode,GB_Branches[Code],0))","v":"สมุทรปราการ"},null,null,"ORDER"]
[null,null,null,"ที่อยู่",null,null,"REPORT"]
[null,null,null,{"$f":"INDEX(GB_Branches[Address],MATCH(BranchCode,GB_Branches[Code],0))","v":"155/6 ม.1 ต.บางพลีน้อย อ.บางบ่อ จ.สมุทรปราการ 10560"},null,null,{"$f":"UPPER(\"Deliver List\")","v":"DELIVER LIST"}]
[]
[null,null,null,"Phone"]
[null,null,null,{"$f":"INDEX(GB_Branches[Tel],MATCH(BranchCode,GB_Branches[Code],0))","v":"065-9405210"}]

{"sheet":"Branches","index":1,"n_rows":46,"n_cols":17,"rows_kept":46,"cut":false,"hidden":false,"merged":[[2,1,2,8]]}
[]
[null,null,null,null,null,"SETTING","STOCK","PRODUCTS","TRANSACTION"]
[null,":: Branches ::   (Update : 24-12-2022)",null,null,null,null,null,null,null,null,null,"Van_Route",null,null,"Data","Google Sheet Url","Edit Url"]
[null,null,null,null,null,null,null,null,null,null,null,null,null,null,null,null,{"$f":"SUBSTITUTE($P4,\"edit#\",\"export?format=csv&\")","v":""}]
[null,"Code","Thai_Name","Address","Manager","Regional Manager","Tel","Latitude","Longtitude","Route",null,"Route_Code",null,null,"Branches","https://docs.google.com/spreadsheets/d/1I3ev80bppMdCSDw2pa7WeDeY4CGlOrJw25FuykTCmRo/edit#gid=0","https://docs.google.com/spreadsheets/d/1I3ev80bppMdCSDw2pa7WeDeY4CGlOrJw25FuykTCmRo/export?format=csv&gid=0"]
[null,"00-FRY","โรงงานระยอง","115/1 ม.8 ต.ชากบก อ.บ้านค่าย จ.ระยอง 21120","นรรฆวุฒิ จันทฤทธิ์","","089-201-7562","12.774569","101.326649","",null,"FRY",null,null,"Products","https://docs.google.com/spreadsheets/d/1I3ev80bppMdCSDw2pa7WeDeY4CGlOrJw25FuykTCmRo/edit#gid=885289288","https://docs.google.com/spreadsheets/d/1I3ev80bppMdCSDw2pa7WeDeY4CGlOrJw25FuykTCmRo/export?format=csv&gid=885289288"]
[null,"00-FRK","โรงงานร่มเกล้า","205/5 ถ.ร่มเกล้า แขวงคลองสามประเวศ เขตลาดกระบัง กรุงเทพมหานคร 10520","นุกูล ปัญญานาค","","084-132-1000","13.7406423","100.7469429","",null,"FRK"]
[null,"00-FPT","โรงงานปทุมธานี","ต.คลองสี่ อ.คลองหลวง จ.ปทุมธานี 12120","พชรพล สุขสำราญ","นายอรรคพล มุ่งรวยกลาง","","14.079286","100.696028","",null,"FPT"]
[null,"03-KB","กบินทร์บุรี","262-263 ต.เมืองเก่า อ.กบินทร์บุรี จ.ปราจีนบุรี 25240","นายเจร ดวงอุประ","นายวุฒิพงศ์ ชาตรี","065-9405203","14.014677","101.773387","10",null,{"$f":"RIGHT(BranchCode,LEN(BranchCode)-FIND(\"-\",BranchCode))&TEXT(ROW(A1),\"00\")","v":"SK01"}]
[null,"04-KR","โคราช","1216 ถ.มหาวิทยาลัย1 ต.หนองจะบก อ.เมือง จ.นครราชสีมา 30000","นายกิตติศักดิ์ แก้วพะลัก","นายประสาร รู้การนา","065-9405204","14.902849","102.056995","12",null,"SK02"]
[null,"05-NP","นครปฐม","156/3 ม.6 ต.คลองใหม่ อ.สามพราน จ.นครปฐม 7311","นายษานุ บุญทูล","นายศุกกิจ กุลพานิช","065-9405205","13.74494","100.208743","15",null,"SK03"]
[null,"06-KK","ขอนแก่น","670/94 มบ.พัฒนาสแควร์ ซ.กลางเมือง ถ.กลางเมือง ต.ในเมือง อ.เมือง จ.ขอนแก่น 40000","นายจักรพันธ์ บุตรเหลี้ยม","นายเกียรติยศ หมื่นสีพรม","065-9405206","16.402358","102.831718","10",null,"SK04"]
[null,"07-AY","อยุธยา","27/16-17 ม.2 ต.ธนู อ.อุทัย จ.พระนครศรีอยุธยา 13000","นายวรชาติ จันทร์ช่วง","นายเทพพร จบดี","065-9405207","14.348776","100.611989","10",null,"SK05"]
[null,"08-BK","กรุงเทพฯ","2/11-12 ถ.รามคำแหง แขวงมีนบุรี เขตมีนบุรี กรุงเทพฯ 10510","นายเกียรติศักดิ์ เมืองทรัพย์","นายศุกกิจ กุลพานิช","065-9405208","13.795611","100.708239","10",null,"SK06"]
[null,"09-RY","ระยอง","115/1 ม.8 ต.ชากบก อ.บ้านค่าย จ.ระยอง 21120","นายเกรียงศักดิ์ ภักดี","นายวุฒิพงศ์ ชาตรี","065-9405209","12.774405","101.326728","11",null,"SK07"]
[null,"10-SK","สมุทรปราการ","155/6 ม.1 ต.บางพลีน้อย อ.บางบ่อ จ.สมุทรปราการ 10560","นายภูริวัจน์ จันทร์กลับ","นายวุฒิพงศ์ ชาตรี","065-9405210","13.574224","100.899699","8",null,"SK08"]
[null,"12-PY","พัทยา","167/7 ม.8 ต.หนองปลาไหล อ.บางละมุง จ.ชลบุรี 20150","นายฤทธิชัย   ยอดกุล","นายวุฒิพงศ์ ชาตรี","065-9405212","12.967962","100.930473","9",null,"SK09"]
[null,"13-SR","สุรินทร์","606 ม.19 ต.นอกเมือง อ.เมือง จ.สุรินทร์ 32000","นายวิชิต  ผดุงสุข","นายบรรจบ ตระการจันทร์","065-9405213","14.860422","103.522018","7",null,"SK10"]
[null,"14-CB","จันทบุรี","90/92-93 ม.2 ต.ท่าช้าง อ.เมือง จ.จันทบุรี 22000","นายพิพัฒน์ จันทร์ทอง","นายวุฒิพงศ์ ชาตรี","065-9405214","12.665111","102.091187","8",null,"SK11"]
[null,"15-UB","อุบลราชธานี","144 ม.8 ต.แสนสุข อ.วารินชำราบ จ.อุบลฯ 34190","นายบริพัฒน์ สมบุญเปล่ง","นายบรรจบ ตระการจันทร์","065-9405215","15.160237","104.853526","9",null,"SK12"]
[null,"16-KL","คลองหลวง","220 ซอย รังสิต-นครนายก 37 ต.ประชาธิปัตย์ อ.ธัญบุรี จ.ปทุมธานี 12130","นายสุกัน ลำประเสริฐ","นายศุกกิจ กุลพานิช","065-9405216","13.995289","100.647051","7",null,"SK13"]
[null,"17-LA","ร้อยเอ็ด","141/6-7 ถ.ปัทมานนท์ ต.ในเมือง อ.เมือง จ.ร้อยเอ็ด 45000","นายศุภกร  ไตรสุทธิ","นายบรรจบ ตระการจันทร์","065-9405217","16.040889","103.646284","10",null,"SK14"]
[null,"18-SN","สกลนคร","191/1-2 ถ.สกลนคร-นาแก ต.ดงมะไฟ อ.เมือง จ.สกลนคร 47000","นายจีรศักดิ์  สาระจันทร์","นายเกียรติยศ หมื่นศรีพรม","065-9405218","17.132003","104.139584","14",null,"SK15"]
[null,"19-UD","อุดรธานี","9/8 ถ.รอบเมือง ต.หมากแข้ง อ.เมือง จ.อุดรธานี 41000","นายมนธิมา  ผาจวง","นายเกียรติยศ หมื่นศรีพรม","065-9405219","17.433212","102.799618","13",null,"SK16"]
[null,"20-PC","ปากช่อง","34 , 36 ถ.ธนะรัชต์ ต.ปากช่อง อ.ปากช่อง จ.นครราชสีมา 30130","นายภาคิน สุขมาก","นายประสาร รู้การนา","065-9405220","14.667007","101.399057","8",null,"SK17"]
[null,"21-BR","บุรีรัมย์","302/53-54 ต.เสม็ด อ.เมืองบุรีรัมย์ จ.บุรีรัมย์ 31000","นายสุริยา กุลมอญ","นายบรรจบ ตระการจันทร์","065-9405221","14.93111","103.084997","10",null,"SK18"]
[null,"22-LB","ลพบุรี","เลขที่ 144/4 หมู่ 4 ต.ท่าวุ้ง อ.ท่าวุ้ง จ.ลพบุรี 15150","นายสิรภพ บุญยัง","นายเทพพร จบดี","065-9405211","14.818951","100.504352","8",null,"SK19"]
[null,"23-NS","นครสวรรค์","117 ถ.ถนนพรหมนิมิต ต.วัดไทร อ.เมือง จ.นครสวรรค์ 60000","นายมานพ สุ่มนิ่ม","นายเทพพร จบดี","063-6473872","15.716459","100.096182","10"]
[null,"24-CY","ชัยภูมิ","144/15-16 ถนนชัยภูมิ-สีคิ้ว หนองนาแซง อำเภอเมือง จ.ชัยภูมิ","นายศุภชัย  ศรีทองเขียว","นายประสาร รู้การนา","065-9405224","15.755963","102.016474","8"]
[null,"25-RB","ราษฎร์บูรณะ","6 ซอยราษฎร์บูรณะ 4 แขวงบางปะกอก เขตราษฎร์บูรณะ กรุงเทพมหานคร 10140","นายศุกกิจ กุลพานิช","นายสุพล แย้มผล","065-9501070","13.6981232","100.527702","8"]
[null,"26-LE","เลย","340 ม.10 ต.วังสะพุง อ.วังสะพุง จ.เลย 42130","นางสาวเยาวลักษณ์ มหามาตร์","นายประสาร รู้การนา","065-9508971","","","8"]
[null,"27-PL","พิษณุโลก","บ้านเลขที 8888/94 ม.7 ต.สมอแข อ.เมือง จ.พิษณุโลก 65000","นายวีรเมธ ธนภูมิแก้ว","นายเทพพร จบดี","080-0657909","","","11"]
[null,"28-PN","เพชรบูรณ์","164 หมู่ 10 ต.ชอนไพร อ.เมืองเพชรบูรณ์ จ.เพชรบูรณ์ 67000","นายบัญชา พิมพา","นายประสาร รู้การนา","097-9192766","","","6"]
[null,"29-SG","ศรีสะเกษ","294 ต.หนองครก อ.เมือง จ.ศรีสะเกษ 33000","นายอรรคพล มุ่งรวยกลาง","นายบรรจบ ตระการจันทร์","063-0781206","","","8"]
[null,"30-BT","บางบัวทอง","200/1 ม.3 ต.บางรักพัฒนา อ.บางบัวทอง จ.นนทบุรี 11110","นายศุกกิจ กุลพานิช","นายศุกกิจ กุลพานิช","080-0515641","13.8858056","100.4328889",""]
[null,"31-KS","กาฬสินธุ์","429/3 หมู่ 4 ต.สมเด็จ อ.สมเด็จ จ.กาฬสินธุ์ 46150","นายจักรพงศ์ ปรีเลี่ยม","นายเกียรติยศ หมื่นศรีพรม","061-0294175","16.699935","103.7395113","6"]
[null,"32-YT","ยโสธร","254 ถ.วารีราชเดช ต.น้ำคำใหญ่ อ.เมือง จ.ยโสธร 35000","นายจำลอง ก้อนคำบา","นายบรรจบ ตระการจันทร์","065-5051639","15.822402","104.149374","8"]
[null,"33-PK","พนัสนิคม","601/75-6 หมู่ 4 ต.ท่าบุญมี อ.เกาะจันทร์ จ.ชลบุรี 20240","นายอ๊อด วงพันธ์","นายวุฒิพงศ์ ชาตรี","065-9405210","","","5"]
[null,"00-MT","Moguzto","205/5 ถ.ร่มเกล้า แขวงคลองสามประเวศ เขตลาดกระบัง กรุงเทพมหานคร 10520","นายนุกูล ปัญญานาค","","061-6810789","13.7406423","100.7469429",""]
[null,"90-HO","สำนักงานใหญ่","2/11-12 ถ.รามคำแหง แขวงมีนบุรี เขตมีนบุรี กรุงเทพฯ 10510","","","02-917-4028-9","13.795522","100.708145",""]
[null,"00-DM","วัดพระธรรมกาย","23/2 ม.7 ต.คลองสาม อ.คลองหลวง จ.ปทุมธานี 12120","","","","","",""]
[null,"84-TYT","Toyota","","","","","","",""]
[null,"01-MK","การตลาด","","","","","","",""]
[null,"82-BBK","BDC-กรุงเทพฯ","","","","","","",""]
[null,"83-BRY","BDC-ระยอง","","","","","","",""]
[null,"63-RDC","เซเวน","","","","","","",""]

{"sheet":"Products","index":2,"n_rows":55,"n_cols":29,"rows_kept":55,"cut":false,"hidden":false,"merged":[[3,1,3,8],[2,1,2,13],[2,22,2,23]]}
[]
[null,null,null,null,null,null,null,null,"SETTING","PRODUCTS","TRANSACTION","ORDER","REPORT",{"$f":"UPPER(\"Deliver List\")","v":"DELIVER LIST"}]
[null,"::: Product :::",null,null,null,null,null,null,null,null,null,null,null,null,null,null,"หน่วยนับสินค้า",null,"หมวดหมู่",null,"ประเภท",null,"Factory All Product List"]
[]
[null,"PD_Code","BarCode","NameTH","AccName","NameEng","Catagory","Waste_Option","Unit","Pcs/Unit","Case_Price","%Discount","Factory","Status",null,null,"Unit",null,"Catagories",null,"Type",null,"Order_Product_List","Adj_Product_List",null,"Month_List",null,null,"Calendar_List"]
[null,"9913","8852269400365","01-ขนมปังหมูหยองน้ำสลัด","ขนมปังหมูหยองน้ำสลัด","Shredded Pork Salad Cream Filled Bun 70g.","ของสด","YES","ชิ้น","40","20","45%","00-FRY","ปกติ",null,null,"ชิ้น",null,"ของสด",null,"รับ",null,{"$f":"IFERROR(INDEX($D$1:$D$70,_xlfn.AGGREGATE(15,6,ROW(GB_Product[NameTH])/((GB_Product[Status]=\"ปกติ\")*(GB_Product[Factory]=SL_Factory)),ROWS($6:6))),\"\")","v":"01-ขนมปังหมูหยองน้ำสลัด"},{"$f":"IFERROR(INDEX($D$1:$D$70,_xlfn.AGGREGATE(15,6,ROW(GB_Product[NameTH])/((GB_Product[Status]=\"ปกติ\")*(GB_Product[Factory]='Adjustment Order Frm'!SL_Factory)),ROWS($6:6))),\"\")","v":"01-ขนมปังหมูหยองน้ำสลัด"},null,"มกราคม","ม.ค.",null,{"$f":"DATE(YEAR(TODAY()),MONTH(TODAY()),ROWS($6:6)+DAY(TODAY())-8)","v":"2024-12-12"}]
[null,"99141","8852269590103","02-ขนมปังหมูหยองน้ำพริกเผา","ขนมปังหมูหยองน้ำพริกเผา","Shredded Pork Roasted Chili Paste Filled Bun 70g.","ของสด","YES","ชิ้น","40","20","45%","00-FRY","ปกติ",null,null,"ถาด",null,"ของแห้ง",null,"เบิก",null,{"$f":"IFERROR(INDEX($D$1:$D$70,_xlfn.AGGREGATE(15,6,ROW(GB_Product[NameTH])/((GB_Product[Status]=\"ปกติ\")*(GB_Product[Factory]=SL_Factory)),ROWS($6:7))),\"\")","v":"02-ขนมปังหมูหยองน้ำพริกเผา"},{"$f":"IFERROR(INDEX($D$1:$D$70,_xlfn.AGGREGATE(15,6,ROW(GB_Product[NameTH])/((GB_Product[Status]=\"ปกติ\")*(GB_Product[Factory]='Adjustment Order Frm'!SL_Factory)),ROWS($6:7))),\"\")","v":"02-ขนมปังหมูหยองน้ำพริกเผา"},null,"กุมภาพันธ์","ก.พ.",null,{"$f":"DATE(YEAR(TODAY()),MONTH(TODAY()),ROWS($6:7)+DAY(TODAY())-8)","v":"2024-12-13"}]
[null,"99126","8852269570013","03-ขนมปังไก่หยองน้ำสลัด","ขนมปังไก่หยองน้ำสลัด","Shredded Chicken Salad Cream Filled Bun 70g.","ของสด","YES","ชิ้น","40","20","45%","00-FRY","ปกติ",null,null,"กล่อง",null,null,null,"ยกมา",null,{"$f":"IFERROR(INDEX($D$1:$D$70,_xlfn.AGGREGATE(15,6,ROW(GB_Product[NameTH])/((GB_Product[Status]=\"ปกติ\")*(GB_Product[Factory]=SL_Factory)),ROWS($6:8))),\"\")","v":"03-ขนมปังไก่หยองน้ำสลัด"},{"$f":"IFERROR(INDEX($D$1:$D$70,_xlfn.AGGREGATE(15,6,ROW(GB_Product[NameTH])/((GB_Product[Status]=\"ปกติ\")*(GB_Product[Factory]='Adjustment Order Frm'!SL_Factory)),ROWS($6:8))),\"\")","v":"03-ขนมปังไก่หยองน้ำสลัด"},null,"มีนาคม","มี.ค.",null,{"$f":"DATE(YEAR(TODAY()),MONTH(TODAY()),ROWS($6:8)+DAY(TODAY())-8)","v":"2024-12-14"}]
[null,"99124","8852269401164","04-ขนมปังไส้ครีมสลัด","ขนมปังไส้ครีมสลัด","Salad Cream Filled Bun 70g.","ของสด","YES","ชิ้น","50","15","45%","00-FRY","ปกติ",null,null,"โหล",null,null,null,"เสีย",null,{"$f":"IFERROR(INDEX($D$1:$D$70,_xlfn.AGGREGATE(15,6,ROW(GB_Product[NameTH])/((GB_Product[Status]=\"ปกติ\")*(GB_Product[Factory]=SL_Factory)),ROWS($6:9))),\"\")","v":"04-ขนมปังไส้ครีมสลัด"},{"$f":"IFERROR(INDEX($D$1:$D$70,_xlfn.AGGREGATE(15,6,ROW(GB_Product[NameTH])/((GB_Product[Status]=\"ปกติ\")*(GB_Product[Factory]='Adjustment Order Frm'!SL_Factory)),ROWS($6:9))),\"\")","v":"04-ขนมปังไส้ครีมสลัด"},null,"เมษายน","เม.ย.",null,{"$f":"DATE(YEAR(TODAY()),MONTH(TODAY()),ROWS($6:9)+DAY(TODAY())-8)","v":"2024-12-15"}]
[null,"99142","8852269590110","05-ขนมปังเนยสด","ขนมปังเนยสด","Butter Cream Filled Bun 60g.","ของสด","YES","ชิ้น","40","15","45%","00-FRY","ปกติ",null,null,"แพ็ค",null,null,null,null,null,{"$f":"IFERROR(INDEX($D$1:$D$70,_xlfn.AGGREGATE(15,6,ROW(GB_Product[NameTH])/((GB_Product[Status]=\"ปกติ\")*(GB_Product[Factory]=SL_Factory)),ROWS($6:10))),\"\")","v":"05-ขนมปังเนยสด"},{"$f":"IFERROR(INDEX($D$1:$D$70,_xlfn.AGGREGATE(15,6,ROW(GB_Product[NameTH])/((GB_Product[Status]=\"ปกติ\")*(GB_Product[Factory]='Adjustment Order Frm'!SL_Factory)),ROWS($6:10))),\"\")","v":"05-ขนมปังเนยสด"},null,"พฤษภาคม","พ.ค.",null,{"$f":"DATE(YEAR(TODAY()),MONTH(TODAY()),ROWS($6:10)+DAY(TODAY())-8)","v":"2024-12-16"}]
[null,"9903","8852269400198","06-ขนมปังไส้สังขยาเล็ก","ขนมปังไส้สังขยาเล็ก","Pandan Custard Filled Bun 75g.","ของสด","YES","ชิ้น","50","10","45%","00-FRY","ปกติ",null,null,null,null,null,null,null,null,{"$f":"IFERROR(INDEX($D$1:$D$70,_xlfn.AGGREGATE(15,6,ROW(GB_Product[NameTH])/((GB_Product[Status]=\"ปกติ\")*(GB_Product[Factory]=SL_Factory)),ROWS($6:11))),\"\")","v":"06-ขนมปังไส้สังขยาเล็ก"},{"$f":"IFERROR(INDEX($D$1:$D$70,_xlfn.AGGREGATE(15,6,ROW(GB_Product[NameTH])/((GB_Product[Status]=\"ปกติ\")*(GB_Product[Factory]='Adjustment Order Frm'!SL_Factory)),ROWS($6:11))),\"\")","v":"06-ขนมปังไส้สังขยาเล็ก"},null,"มิถุนายน","มิ.ย.",null,{"$f":"DATE(YEAR(TODAY()),MONTH(TODAY()),ROWS($6:11)+DAY(TODAY())-8)","v":"2024-12-17"}]
[null,"9902","8852269400020","07-ขนมปังไส้เผือก","ขนมปังไส้เผือก","Taro Filled Bun 75g.","ของสด","YES","ชิ้น","50","10","45%","00-FRY","ปกติ",null,null,null,null,null,null,null,null,{"$f":"IFERROR(INDEX($D$1:$D$70,_xlfn.AGGREGATE(15,6,ROW(GB_Product[NameTH])/((GB_Product[Status]=\"ปกติ\")*(GB_Product[Factory]=SL_Factory)),ROWS($6:12))),\"\")","v":"07-ขนมปังไส้เผือก"},{"$f":"IFERROR(INDEX($D$1:$D$70,_xlfn.AGGREGATE(15,6,ROW(GB_Product[NameTH])/((GB_Product[Status]=\"ปกติ\")*(GB_Product[Factory]='Adjustment Order Frm'!SL_Factory)),ROWS($6:12))),\"\")","v":"07-ขนมปังไส้เผือก"},null,"กรกฎาคม","ก.ค.",null,{"$f":"DATE(YEAR(TODAY()),MONTH(TODAY()),ROWS($6:12)+DAY(TODAY())-8)","v":"2024-12-18"}]
[null,"9906","8852269400037","08-ขนมปังไส้ถั่วแดง","ขนมปังไส้ถั่วแดง","Red Beans Filled Bun 75g.","ของสด","YES","ชิ้น","50","10","45%","00-FRY","ปกติ",null,null,null,null,null,null,null,null,{"$f":"IFERROR(INDEX($D$1:$D$70,_xlfn.AGGREGATE(15,6,ROW(GB_Product[NameTH])/((GB_Product[Status]=\"ปกติ\")*(GB_Product[Factory]=SL_Factory)),ROWS($6:13))),\"\")","v":"08-ขนมปังไส้ถั่วแดง"},{"$f":"IFERROR(INDEX($D$1:$D$70,_xlfn.AGGREGATE(15,6,ROW(GB_Product[NameTH])/((GB_Product[Status]=\"ปกติ\")*(GB_Product[Factory]='Adjustment Order Frm'!SL_Factory)),ROWS($6:13))),\"\")","v":"08-ขนมปังไส้ถั่วแดง"},null,"สิงหาคม","ส.ค.",null,{"$f":"DATE(YEAR(TODAY()),MONTH(TODAY()),ROWS($6:13)+DAY(TODAY())-8)","v":"2024-12-19"}]
[null,"99171","8852269620046","09-ขนมปังไส้ถั่วดำ","ขนมปังไส้ถั่วดำ","Black Bean Filled Bun 75g.","ของสด","YES","ชิ้น","50","10","45%","00-FRY","ปกติ",null,null,null,null,null,null,null,null,{"$f":"IFERROR(INDEX($D$1:$D$70,_xlfn.AGGREGATE(15,6,ROW(GB_Product[NameTH])/((GB_Product[Status]=\"ปกติ\")*(GB_Product[Factory]=SL_Factory)),ROWS($6:14))),\"\")","v":"09-ขนมปังไส้ถั่วดำ"},{"$f":"IFERROR(INDEX($D$1:$D$70,_xlfn.AGGREGATE(15,6,ROW(GB_Product[NameTH])/((GB_Product[Status]=\"ปกติ\")*(GB_Product[Factory]='Adjustment Order Frm'!SL_Factory)),ROWS($6:14))),\"\")","v":"09-ขนมปังไส้ถั่วดำ"},null,"กันยายน","ก.ย.",null,{"$f":"DATE(YEAR(TODAY()),MONTH(TODAY()),ROWS($6:14)+DAY(TODAY())-8)","v":"2024-12-20"}]
[null,"99161","8852269610047","10-ขนมปังไส้มันม่วง","ขนมปังไส้มันม่วง","Purple Sweet Potato Filled Bun 75g.","ของสด","YES","ชิ้น","50","10","45%","00-FRY","ปกติ",null,null,null,null,null,null,null,null,{"$f":"IFERROR(INDEX($D$1:$D$70,_xlfn.AGGREGATE(15,6,ROW(GB_Product[NameTH])/((GB_Product[Status]=\"ปกติ\")*(GB_Product[Factory]=SL_Factory)),ROWS($6:15))),\"\")","v":"10-ขนมปังไส้มันม่วง"},{"$f":"IFERROR(INDEX($D$1:$D$70,_xlfn.AGGREGATE(15,6,ROW(GB_Product[NameTH])/((GB_Product[Status]=\"ปกติ\")*(GB_Product[Factory]='Adjustment Order Frm'!SL_Factory)),ROWS($6:15))),\"\")","v":"10-ขนมปังไส้มันม่วง"},null,"ตุลาคม","ต.ค.",null,{"$f":"DATE(YEAR(TODAY()),MONTH(TODAY()),ROWS($6:15)+DAY(TODAY())-8)","v":"2024-12-21"}]
[null,"9908","8852269400136","11-เค้กกล้วยหอม","เค้กกล้วยหอม","Banana Cake 70g.","ของสด","YES","ชิ้น","50","15","45%","00-FRY","ปกติ",null,null,null,null,null,null,null,null,{"$f":"IFERROR(INDEX($D$1:$D$70,_xlfn.AGGREGATE(15,6,ROW(GB_Product[NameTH])/((GB_Product[Status]=\"ปกติ\")*(GB_Product[Factory]=SL_Factory)),ROWS($6:16))),\"\")","v":"11-เค้กกล้วยหอม"},{"$f":"IFERROR(INDEX($D$1:$D$70,_xlfn.AGGREGATE(15,6,ROW(GB_Product[NameTH])/((GB_Product[Status]=\"ปกติ\")*(GB_Product[Factory]='Adjustment Order Frm'!SL_Factory)),ROWS($6:16))),\"\")","v":"11-เค้กกล้วยหอม"},null,"พฤศจิกายน","พ.ย.",null,{"$f":"DATE(YEAR(TODAY()),MONTH(TODAY()),ROWS($6:16)+DAY(TODAY())-8)","v":"2024-12-22"}]
[null,"9911","8852269400075","12-เค้กบัตเตอร์","เค้กบัตเตอร์","Butter Cake 60g.","ของสด","YES","ชิ้น","50","15","45%","00-FRY","ปกติ",null,null,null,null,null,null,null,null,{"$f":"IFERROR(INDEX($D$1:$D$70,_xlfn.AGGREGATE(15,6,ROW(GB_Product[NameTH])/((GB_Product[Status]=\"ปกติ\")*(GB_Product[Factory]=SL_Factory)),ROWS($6:17))),\"\")","v":"12-เค้กบัตเตอร์"},{"$f":"IFERROR(INDEX($D$1:$D$70,_xlfn.AGGREGATE(15,6,ROW(GB_Product[NameTH])/((GB_Product[Status]=\"ปกติ\")*(GB_Product[Factory]='Adjustment Order Frm'!SL_Factory)),ROWS($6:17))),\"\")","v":"12-เค้กบัตเตอร์"},null,"ธันวาคม","ธ.ค.",null,{"$f":"DATE(YEAR(TODAY()),MONTH(TODAY()),ROWS($6:17)+DAY(TODAY())-8)","v":"2024-12-23"}]
[null,"9922","8852269400259","13-ขนมปังโรลถั่วแดง","ขนมปังโรลถั่วแดง","Red Beans Roll Bread 80g.","ของสด","YES","ชิ้น","40","15","45%","00-FRY","ปกติ",null,null,null,null,null,null,null,null,{"$f":"IFERROR(INDEX($D$1:$D$70,_xlfn.AGGREGATE(15,6,ROW(GB_Product[NameTH])/((GB_Product[Status]=\"ปกติ\")*(GB_Product[Factory]=SL_Factory)),ROWS($6:18))),\"\")","v":"13-ขนมปังโรลถั่วแดง"},{"$f":"IFERROR(INDEX($D$1:$D$70,_xlfn.AGGREGATE(15,6,ROW(GB_Product[NameTH])/((GB_Product[Status]=\"ปกติ\")*(GB_Product[Factory]='Adjustment Order Frm'!SL_Factory)),ROWS($6:18))),\"\")","v":"13-ขนมปังโรลถั่วแดง"},null,null,null,null,{"$f":"DATE(YEAR(TODAY()),MONTH(TODAY()),ROWS($6:18)+DAY(TODAY())-8)","v":"2024-12-24"}]
[null,"9901","8852269400013","14-ขนมปังไส้สังขยาใหญ่","ขนมปังไส้สังขยาใหญ่","Thai Custard Filled Bun 80g.","ของสด","YES","ชิ้น","50","15","45%","00-FRY","ปกติ",null,null,null,null,null,null,null,null,{"$f":"IFERROR(INDEX($D$1:$D$70,_xlfn.AGGREGATE(15,6,ROW(GB_Product[NameTH])/((GB_Product[Status]=\"ปกติ\")*(GB_Product[Factory]=SL_Factory)),ROWS($6:19))),\"\")","v":"14-ขนมปังไส้สังขยาใหญ่"},{"$f":"IFERROR(INDEX($D$1:$D$70,_xlfn.AGGREGATE(15,6,ROW(GB_Product[NameTH])/((GB_Product[Status]=\"ปกติ\")*(GB_Product[Factory]='Adjustment Order Frm'!SL_Factory)),ROWS($6:19))),\"\")","v":"14-ขนมปังไส้สังขยาใหญ่"},null,null,null,null,{"$f":"DATE(YEAR(TODAY()),MONTH(TODAY()),ROWS($6:19)+DAY(TODAY())-8)","v":"2024-12-25"}]
[null,"99148","8852269400419","15-ขนมปังชนิดแผ่น(480กรัม)","ขนมปังชนิดแผ่น(480กรัม)","Sliced Bread (L) 480g.","ของสด","YES","ชิ้น","10","42","45%","00-FRY","ปกติ",null,null,null,null,null,null,null,null,{"$f":"IFERROR(INDEX($D$1:$D$70,_xlfn.AGGREGATE(15,6,ROW(GB_Product[NameTH])/((GB_Product[Status]=\"ปกติ\")*(GB_Product[Factory]=SL_Factory)),ROWS($6:20))),\"\")","v":"15-ขนมปังชนิดแผ่น(480กรัม)"},{"$f":"IFERROR(INDEX($D$1:$D$70,_xlfn.AGGREGATE(15,6,ROW(GB_Product[NameTH])/((GB_Product[Status]=\"ปกติ\")*(GB_Product[Factory]='Adjustment Order Frm'!SL_Factory)),ROWS($6:20))),\"\")","v":"15-ขนมปังชนิดแผ่น(480กรัม)"},null,"Year_List",null,null,{"$f":"DATE(YEAR(TODAY()),MONTH(TODAY()),ROWS($6:20)+DAY(TODAY())-8)","v":"2024-12-26"}]
[null,"9957","8852269400709","16-โมจิไส้ถั่ว","โมจิไส้ถั่ว","Twin Moji Bean 50g.","ของสด","YES","ชิ้น","50","13","45%","00-FRY","ปกติ",null,null,null,null,null,null,null,null,{"$f":"IFERROR(INDEX($D$1:$D$70,_xlfn.AGGREGATE(15,6,ROW(GB_Product[NameTH])/((GB_Product[Status]=\"ปกติ\")*(GB_Product[Factory]=SL_Factory)),ROWS($6:21))),\"\")","v":"16-โมจิไส้ถั่ว"},{"$f":"IFERROR(INDEX($D$1:$D$70,_xlfn.AGGREGATE(15,6,ROW(GB_Product[NameTH])/((GB_Product[Status]=\"ปกติ\")*(GB_Product[Factory]='Adjustment Order Frm'!SL_Factory)),ROWS($6:21))),\"\")","v":"16-โมจิไส้ถั่ว"},null,{"$f":"TODAY()","v":"2024-12-19"},null,null,{"$f":"DATE(YEAR(TODAY()),MONTH(TODAY()),ROWS($6:21)+DAY(TODAY())-8)","v":"2024-12-27"}]
[null,"99167","8852269620039","17-โมจิไส้เผือก","โมจิไส้เผือก","Moji Taro 55g.","ของสด","YES","ชิ้น","50","13","45%","00-FRY","ปกติ",null,null,null,null,null,null,null,null,{"$f":"IFERROR(INDEX($D$1:$D$70,_xlfn.AGGREGATE(15,6,ROW(GB_Product[NameTH])/((GB_Product[Status]=\"ปกติ\")*(GB_Product[Factory]=SL_Factory)),ROWS($6:22))),\"\")","v":"17-โมจิไส้เผือก"},{"$f":"IFERROR(INDEX($D$1:$D$70,_xlfn.AGGREGATE(15,6,ROW(GB_Product[NameTH])/((GB_Product[Status]=\"ปกติ\")*(GB_Product[Factory]='Adjustment Order Frm'!SL_Factory)),ROWS($6:22))),\"\")","v":"17-โมจิไส้เผือก"},null,{"$f":"IF(YEAR(TODAY()+30)=YEAR(TODAY()),\"\",TODAY()+30)","v":"2025-01-18"},null,null,{"$f":"DATE(YEAR(TODAY()),MONTH(TODAY()),ROWS($6:22)+DAY(TODAY())-8)","v":"2024-12-28"}]
[null,"99166","8852269610108","18-โมจิไส้ถั่วไข่เค็ม","โมจิไส้ถั่วไข่เค็ม","Moji with Bean Paste and Salted Egg Yolk 75g.","ของสด","YES","ชิ้น","50","18","45%","00-FRY","ปกติ",null,null,null,null,null,null,null,null,{"$f":"IFERROR(INDEX($D$1:$D$70,_xlfn.AGGREGATE(15,6,ROW(GB_Product[NameTH])/((GB_Product[Status]=\"ปกติ\")*(GB_Product[Factory]=SL_Factory)),ROWS($6:23))),\"\")","v":"18-โมจิไส้ถั่วไข่เค็ม"},{"$f":"IFERROR(INDEX($D$1:$D$70,_xlfn.AGGREGATE(15,6,ROW(GB_Product[NameTH])/((GB_Product[Status]=\"ปกติ\")*(GB_Product[Factory]='Adjustment Order Frm'!SL_Factory)),ROWS($6:23))),\"\")","v":"18-โมจิไส้ถั่วไข่เค็ม"},null,null,null,null,{"$f":"DATE(YEAR(TODAY()),MONTH(TODAY()),ROWS($6:23)+DAY(TODAY())-8)","v":"2024-12-29"}]
[null,"9912","8852269400181","19-ขนมปังพิซซ่า","ขนมปังพิซซ่า","Sausage Pizza 60g.","ของสด","YES","ชิ้น","50","20","45%","00-FRK","ปกติ",null,null,null,null,null,null,null,null,{"$f":"IFERROR(INDEX($D$1:$D$70,_xlfn.AGGREGATE(15,6,ROW(GB_Product[NameTH])/((GB_Product[Status]=\"ปกติ\")*(GB_Product[Factory]=SL_Factory)),ROWS($6:24))),\"\")","v":"21-ขนมปังไส้กรอก"},{"$f":"IFERROR(INDEX($D$1:$D$70,_xlfn.AGGREGATE(15,6,ROW(GB_Product[NameTH])/((GB_Product[Status]=\"ปกติ\")*(GB_Product[Factory]='Adjustment Order Frm'!SL_Factory)),ROWS($6:24))),\"\")","v":"21-ขนมปังไส้กรอก"}]
[null,"99158","8852269600093","20-ขนมปังพิซซ่าปูอัดแฮม","ขนมปังพิซซ่าปูอัดแฮม","Crab Stick With Ham Pizza 60g.","ของสด","YES","ชิ้น","50","20","45%","00-FRK","ปกติ",null,null,null,null,null,null,null,null,{"$f":"IFERROR(INDEX($D$1:$D$70,_xlfn.AGGREGATE(15,6,ROW(GB_Product[NameTH])/((GB_Product[Status]=\"ปกติ\")*(GB_Product[Factory]=SL_Factory)),ROWS($6:25))),\"\")","v":"22-ขนมก้านบัว"},{"$f":"IFERROR(INDEX($D$1:$D$70,_xlfn.AGGREGATE(15,6,ROW(GB_Product[NameTH])/((GB_Product[Status]=\"ปกติ\")*(GB_Product[Factory]='Adjustment Order Frm'!SL_Factory)),ROWS($6:25))),\"\")","v":"22-ขนมก้านบัว"}]
[null,"9953","8852269400068","21-ขนมปังไส้กรอก","ขนมปังไส้กรอก","Sausage Filled Bun 70g.","ของสด","YES","ชิ้น","50","20","45%","00-FRY","ปกติ",null,null,null,null,null,null,null,null,{"$f":"IFERROR(INDEX($D$1:$D$70,_xlfn.AGGREGATE(15,6,ROW(GB_Product[NameTH])/((GB_Product[Status]=\"ปกติ\")*(GB_Product[Factory]=SL_Factory)),ROWS($6:26))),\"\")","v":"25-ปังกรอบเนยสด"},{"$f":"IFERROR(INDEX($D$1:$D$70,_xlfn.AGGREGATE(15,6,ROW(GB_Product[NameTH])/((GB_Product[Status]=\"ปกติ\")*(GB_Product[Factory]='Adjustment Order Frm'!SL_Factory)),ROWS($6:26))),\"\")","v":"25-ปังกรอบเนยสด"}]
[null,"9909","8852269400105","22-ขนมก้านบัว","ขนมก้านบัว","Thai Sweet Fried Dough 80g.","ของแห้ง","NO","ชิ้น","40","15","45%","00-FRY","ปกติ",null,null,null,null,null,null,null,null,{"$f":"IFERROR(INDEX($D$1:$D$70,_xlfn.AGGREGATE(15,6,ROW(GB_Product[NameTH])/((GB_Product[Status]=\"ปกติ\")*(GB_Product[Factory]=SL_Factory)),ROWS($6:27))),\"\")","v":"26-ปังกรอบกระเทียม"},{"$f":"IFERROR(INDEX($D$1:$D$70,_xlfn.AGGREGATE(15,6,ROW(GB_Product[NameTH])/((GB_Product[Status]=\"ปกติ\")*(GB_Product[Factory]='Adjustment Order Frm'!SL_Factory)),ROWS($6:27))),\"\")","v":"26-ปังกรอบกระเทียม"}]
[null,"99176","8852269650012","23-ขนมปังกรอบเนยน้ำตาล","ขนมปังกรอบเนยน้ำตาล","Crispy sugar Buttered toast 60g.","ของแห้ง","NO","ชิ้น","40","20","45%","00-FRK","ปกติ",null,null,null,null,null,null,null,null,{"$f":"IFERROR(INDEX($D$1:$D$70,_xlfn.AGGREGATE(15,6,ROW(GB_Product[NameTH])/((GB_Product[Status]=\"ปกติ\")*(GB_Product[Factory]=SL_Factory)),ROWS($6:28))),\"\")","v":"30-ขนมปังโรลมันเทศ"},{"$f":"IFERROR(INDEX($D$1:$D$70,_xlfn.AGGREGATE(15,6,ROW(GB_Product[NameTH])/((GB_Product[Status]=\"ปกติ\")*(GB_Product[Factory]='Adjustment Order Frm'!SL_Factory)),ROWS($6:28))),\"\")","v":"30-ขนมปังโรลมันเทศ"}]
[null,"99177","8852269640044","24-พายสับปะรด","พายสับปะรด","Pineapple Filled Pie 60g.","ของสด","YES","ชิ้น","50","20","45%","00-FRK","ปกติ",null,null,null,null,null,null,null,null,{"$f":"IFERROR(INDEX($D$1:$D$70,_xlfn.AGGREGATE(15,6,ROW(GB_Product[NameTH])/((GB_Product[Status]=\"ปกติ\")*(GB_Product[Factory]=SL_Factory)),ROWS($6:29))),\"\")","v":"31-ขนมปังไส้ครีมสลัดน้ำพริกเผา"},{"$f":"IFERROR(INDEX($D$1:$D$70,_xlfn.AGGREGATE(15,6,ROW(GB_Product[NameTH])/((GB_Product[Status]=\"ปกติ\")*(GB_Product[Factory]='Adjustment Order Frm'!SL_Factory)),ROWS($6:29))),\"\")","v":"31-ขนมปังไส้ครีมสลัดน้ำพริกเผา"}]
[null,"99134","8852269580067","25-ปังกรอบเนยสด","ปังกรอบเนยสด","Crispy Butter Bread 60g.","ของแห้ง","NO","ชิ้น","40","25","45%","00-FRY","ปกติ",null,null,null,null,null,null,null,null,{"$f":"IFERROR(INDEX($D$1:$D$70,_xlfn.AGGREGATE(15,6,ROW(GB_Product[NameTH])/((GB_Product[Status]=\"ปกติ\")*(GB_Product[Factory]=SL_Factory)),ROWS($6:30))),\"\")","v":"32-ขนมปังไส้สังขยาไข่"},{"$f":"IFERROR(INDEX($D$1:$D$70,_xlfn.AGGREGATE(15,6,ROW(GB_Product[NameTH])/((GB_Product[Status]=\"ปกติ\")*(GB_Product[Factory]='Adjustment Order Frm'!SL_Factory)),ROWS($6:30))),\"\")","v":"32-ขนมปังไส้สังขยาไข่"}]
[null,"99135","8852269580074","26-ปังกรอบกระเทียม","ปังกรอบกระเทียม","Crispy Garlic Bread 60g.","ของแห้ง","NO","ชิ้น","40","25","45%","00-FRY","ปกติ",null,null,null,null,null,null,null,null,{"$f":"IFERROR(INDEX($D$1:$D$70,_xlfn.AGGREGATE(15,6,ROW(GB_Product[NameTH])/((GB_Product[Status]=\"ปกติ\")*(GB_Product[Factory]=SL_Factory)),ROWS($6:31))),\"\")","v":"33-ขนมปังไส้สังขยามะพร้าว"},{"$f":"IFERROR(INDEX($D$1:$D$70,_xlfn.AGGREGATE(15,6,ROW(GB_Product[NameTH])/((GB_Product[Status]=\"ปกติ\")*(GB_Product[Factory]='Adjustment Order Frm'!SL_Factory)),ROWS($6:31))),\"\")","v":"33-ขนมปังไส้สังขยามะพร้าว"}]
[null,"99136","8852269400419","15-ขนมปังชนิดแผ่น(480กรัม)","ขนมปังชนิดแผ่น(480กรัม)","Sliced Bread (L) 480g.","ของสด","YES","ชิ้น","10","42","45%","00-FPT","ปกติ",null,null,null,null,null,null,null,null,{"$f":"IFERROR(INDEX($D$1:$D$70,_xlfn.AGGREGATE(15,6,ROW(GB_Product[NameTH])/((GB_Product[Status]=\"ปกติ\")*(GB_Product[Factory]=SL_Factory)),ROWS($6:32))),\"\")","v":"34-ขนมปังไส้ครีมชาไทย"},{"$f":"IFERROR(INDEX($D$1:$D$70,_xlfn.AGGREGATE(15,6,ROW(GB_Product[NameTH])/((GB_Product[Status]=\"ปกติ\")*(GB_Product[Factory]='Adjustment Order Frm'!SL_Factory)),ROWS($6:32))),\"\")","v":"34-ขนมปังไส้ครีมชาไทย"}]
[null,"99178","8852269640051","27-พายไส้มะพร้าว","พายไส้มะพร้าว","Coconut Filled Pie 60g.","ของสด","YES","ชิ้น","50","20","45%","00-FRK","ปกติ",null,null,null,null,null,null,null,null,{"$f":"IFERROR(INDEX($D$1:$D$70,_xlfn.AGGREGATE(15,6,ROW(GB_Product[NameTH])/((GB_Product[Status]=\"ปกติ\")*(GB_Product[Factory]=SL_Factory)),ROWS($6:33))),\"\")","v":"36-ขนมปังโรลมันม่วง"},{"$f":"IFERROR(INDEX($D$1:$D$70,_xlfn.AGGREGATE(15,6,ROW(GB_Product[NameTH])/((GB_Product[Status]=\"ปกติ\")*(GB_Product[Factory]='Adjustment Order Frm'!SL_Factory)),ROWS($6:33))),\"\")","v":"36-ขนมปังโรลมันม่วง"}]
[null,"99179","8852269660011","28-ฟรุ๊ตพายสับปะรด","ฟรุ๊ตพายสับปะรด","Pineapple Fruit Pie 48g.","ของแห้ง","NO","ชิ้น","50","18","45%","00-FRK","ปกติ",null,null,null,null,null,null,null,null,{"$f":"IFERROR(INDEX($D$1:$D$70,_xlfn.AGGREGATE(15,6,ROW(GB_Product[NameTH])/((GB_Product[Status]=\"ปกติ\")*(GB_Product[Factory]=SL_Factory)),ROWS($6:34))),\"\")","v":"37-ขนมปังโรลช็อกโกแลต"},{"$f":"IFERROR(INDEX($D$1:$D$70,_xlfn.AGGREGATE(15,6,ROW(GB_Product[NameTH])/((GB_Product[Status]=\"ปกติ\")*(GB_Product[Factory]='Adjustment Order Frm'!SL_Factory)),ROWS($6:34))),\"\")","v":"37-ขนมปังโรลช็อกโกแลต"}]
[null,"99180","8852269660028","29-ฟรุ๊ตพายสตรอว์เบอร์รี","ฟรุ๊ตพายสตรอว์เบอร์รี","Strawberry Fruit Pie 48g.","ของแห้ง","NO","ชิ้น","50","18","45%","00-FRK","ปกติ",null,null,null,null,null,null,null,null,{"$f":"IFERROR(INDEX($D$1:$D$70,_xlfn.AGGREGATE(15,6,ROW(GB_Product[NameTH])/((GB_Product[Status]=\"ปกติ\")*(GB_Product[Factory]=SL_Factory)),ROWS($6:35))),\"\")","v":"38-ขนมปังชนิดแผ่น(155กรัม)"},{"$f":"IFERROR(INDEX($D$1:$D$70,_xlfn.AGGREGATE(15,6,ROW(GB_Product[NameTH])/((GB_Product[Status]=\"ปกติ\")*(GB_Product[Factory]='Adjustment Order Frm'!SL_Factory)),ROWS($6:35))),\"\")","v":"38-ขนมปังชนิดแผ่น(155กรัม)"}]
[null,"99181","8852269400242","30-ขนมปังโรลมันเทศ","ขนมปังโรลมันเทศ","Sweet Potato Roll Bun 80g.","ของสด","YES","ชิ้น","40","15","45%","00-FRY","ปกติ",null,null,null,null,null,null,null,null,{"$f":"IFERROR(INDEX($D$1:$D$70,_xlfn.AGGREGATE(15,6,ROW(GB_Product[NameTH])/((GB_Product[Status]=\"ปกติ\")*(GB_Product[Factory]=SL_Factory)),ROWS($6:36))),\"\")","v":"39-ขนมปังโรลเผือก"},{"$f":"IFERROR(INDEX($D$1:$D$70,_xlfn.AGGREGATE(15,6,ROW(GB_Product[NameTH])/((GB_Product[Status]=\"ปกติ\")*(GB_Product[Factory]='Adjustment Order Frm'!SL_Factory)),ROWS($6:36))),\"\")","v":"39-ขนมปังโรลเผือก"}]
[null,"99182","8852269660042","31-ขนมปังไส้ครีมสลัดน้ำพริกเผา","ขนมปังไส้ครีมสลัดน้ำพริกเผา","Salad Cream & Roasted Chili Paste Filled Bun","ของสด","YES","ชิ้น","50","15","45%","00-FRY","ปกติ",null,null,null,null,null,null,null,null,{"$f":"IFERROR(INDEX($D$1:$D$70,_xlfn.AGGREGATE(15,6,ROW(GB_Product[NameTH])/((GB_Product[Status]=\"ปกติ\")*(GB_Product[Factory]=SL_Factory)),ROWS($6:37))),\"\")","v":"40-ขนมปังไก่หยองน้ำสลัด Mini"},{"$f":"IFERROR(INDEX($D$1:$D$70,_xlfn.AGGREGATE(15,6,ROW(GB_Product[NameTH])/((GB_Product[Status]=\"ปกติ\")*(GB_Product[Factory]='Adjustment Order Frm'!SL_Factory)),ROWS($6:37))),\"\")","v":"40-ขนมปังไก่หยองน้ำสลัด Mini"}]
[null,"99183","8852269660066","32-ขนมปังไส้สังขยาไข่","ขนมปังไส้สังขยาไข่","Egg Custard Filled Bun","ของสด","YES","ชิ้น","50","20","45%","00-FRY","ปกติ",null,null,null,null,null,null,null,null,{"$f":"IFERROR(INDEX($D$1:$D$70,_xlfn.AGGREGATE(15,6,ROW(GB_Product[NameTH])/((GB_Product[Status]=\"ปกติ\")*(GB_Product[Factory]=SL_Factory)),ROWS($6:38))),\"\")","v":"41-ขนมปังไส้ช็อกโกแลต"},{"$f":"IFERROR(INDEX($D$1:$D$70,_xlfn.AGGREGATE(15,6,ROW(GB_Product[NameTH])/((GB_Product[Status]=\"ปกติ\")*(GB_Product[Factory]='Adjustment Order Frm'!SL_Factory)),ROWS($6:38))),\"\")","v":"41-ขนมปังไส้ช็อกโกแลต"}]
[null,"99184","8852269660059","33-ขนมปังไส้สังขยามะพร้าว","ขนมปังไส้สังขยามะพร้าว","Coconut Custard Filled Bun","ของสด","YES","ชิ้น","50","20","45%","00-FRY","ปกติ",null,null,null,null,null,null,null,null,{"$f":"IFERROR(INDEX($D$1:$D$70,_xlfn.AGGREGATE(15,6,ROW(GB_Product[NameTH])/((GB_Product[Status]=\"ปกติ\")*(GB_Product[Factory]=SL_Factory)),ROWS($6:39))),\"\")","v":"42-ขนมปังไส้ครีมสังขยาไข่"},{"$f":"IFERROR(INDEX($D$1:$D$70,_xlfn.AGGREGATE(15,6,ROW(GB_Product[NameTH])/((GB_Product[Status]=\"ปกติ\")*(GB_Product[Factory]='Adjustment Order Frm'!SL_Factory)),ROWS($6:39))),\"\")","v":"42-ขนมปังไส้ครีมสังขยาไข่"}]
[null,"99185","8852269670041","34-ขนมปังไส้ครีมชาไทย","ขนมปังไส้ครีมชาไทย","Thai Tea Custard Filled Bun","ของสด","YES","ชิ้น","50","10","45%","00-FRY","ปกติ",null,null,null,null,null,null,null,null,{"$f":"IFERROR(INDEX($D$1:$D$70,_xlfn.AGGREGATE(15,6,ROW(GB_Product[NameTH])/((GB_Product[Status]=\"ปกติ\")*(GB_Product[Factory]=SL_Factory)),ROWS($6:40))),\"\")","v":"48-ขนมปังชนิดแผ่นโฮลวีต"},{"$f":"IFERROR(INDEX($D$1:$D$70,_xlfn.AGGREGATE(15,6,ROW(GB_Product[NameTH])/((GB_Product[Status]=\"ปกติ\")*(GB_Product[Factory]='Adjustment Order Frm'!SL_Factory)),ROWS($6:40))),\"\")","v":"48-ขนมปังชนิดแผ่นโฮลวีต"}]
[null,"99186","8852269660035","35-พายไส้สตรอว์เบอร์รี่","พายไส้สตรอว์เบอร์รี่","Strawberry Filled Pie","ของสด","YES","ชิ้น","50","20","45%","00-FRK","ปกติ",null,null,null,null,null,null,null,null,{"$f":"IFERROR(INDEX($D$1:$D$70,_xlfn.AGGREGATE(15,6,ROW(GB_Product[NameTH])/((GB_Product[Status]=\"ปกติ\")*(GB_Product[Factory]=SL_Factory)),ROWS($6:41))),\"\")","v":"49-เค้กโรลใบเตย"},{"$f":"IFERROR(INDEX($D$1:$D$70,_xlfn.AGGREGATE(15,6,ROW(GB_Product[NameTH])/((GB_Product[Status]=\"ปกติ\")*(GB_Product[Factory]='Adjustment Order Frm'!SL_Factory)),ROWS($6:41))),\"\")","v":"49-เค้กโรลใบเตย"}]
[null,"99187","8852269640037","36-ขนมปังโรลมันม่วง","ขนมปังโรลมันม่วง","Purple Sweet Potato Roll Bun","ของสด","YES","ชิ้น","40","15","45%","00-FRY","ปกติ",null,null,null,null,null,null,null,null,{"$f":"IFERROR(INDEX($D$1:$D$70,_xlfn.AGGREGATE(15,6,ROW(GB_Product[NameTH])/((GB_Product[Status]=\"ปกติ\")*(GB_Product[Factory]=SL_Factory)),ROWS($6:42))),\"\")","v":""},{"$f":"IFERROR(INDEX($D$1:$D$70,_xlfn.AGGREGATE(15,6,ROW(GB_Product[NameTH])/((GB_Product[Status]=\"ปกติ\")*(GB_Product[Factory]='Adjustment Order Frm'!SL_Factory)),ROWS($6:42))),\"\")","v":""}]
[null,"99188","8852269660134","37-ขนมปังโรลช็อกโกแลต","ขนมปังโรลช็อกโกแลต","Chocolate Roll Bun","ของสด","YES","ชิ้น","40","15","45%","00-FRY","ปกติ",null,null,null,null,null,null,null,null,{"$f":"IFERROR(INDEX($D$1:$D$70,_xlfn.AGGREGATE(15,6,ROW(GB_Product[NameTH])/((GB_Product[Status]=\"ปกติ\")*(GB_Product[Factory]=SL_Factory)),ROWS($6:43))),\"\")","v":""},{"$f":"IFERROR(INDEX($D$1:$D$70,_xlfn.AGGREGATE(15,6,ROW(GB_Product[NameTH])/((GB_Product[Status]=\"ปกติ\")*(GB_Product[Factory]='Adjustment Order Frm'!SL_Factory)),ROWS($6:43))),\"\")","v":""}]
[null,"99189","8852269660141","38-ขนมปังชนิดแผ่น(155กรัม)","ขนมปังชนิดแผ่น(155กรัม)","Sliced Bread (M) 155g.","ของสด","YES","ชิ้น","30","16","45%","00-FRY","ปกติ",null,null,null,null,null,null,null,null,{"$f":"IFERROR(INDEX($D$1:$D$70,_xlfn.AGGREGATE(15,6,ROW(GB_Product[NameTH])/((GB_Product[Status]=\"ปกติ\")*(GB_Product[Factory]=SL_Factory)),ROWS($6:44))),\"\")","v":""},{"$f":"IFERROR(INDEX($D$1:$D$70,_xlfn.AGGREGATE(15,6,ROW(GB_Product[NameTH])/((GB_Product[Status]=\"ปกติ\")*(GB_Product[Factory]='Adjustment Order Frm'!SL_Factory)),ROWS($6:44))),\"\")","v":""}]
[null,"99190","8852269660127","39-ขนมปังโรลเผือก","ขนมปังโรลเผือก","Taro Roll Bun 80g.","ของสด","YES","ชิ้น","40","15","45%","00-FRY","ปกติ",null,null,null,null,null,null,null,null,{"$f":"IFERROR(INDEX($D$1:$D$70,_xlfn.AGGREGATE(15,6,ROW(GB_Product[NameTH])/((GB_Product[Status]=\"ปกติ\")*(GB_Product[Factory]=SL_Factory)),ROWS($6:45))),\"\")","v":""},{"$f":"IFERROR(INDEX($D$1:$D$70,_xlfn.AGGREGATE(15,6,ROW(GB_Product[NameTH])/((GB_Product[Status]=\"ปกติ\")*(GB_Product[Factory]='Adjustment Order Frm'!SL_Factory)),ROWS($6:45))),\"\")","v":""}]
[null,"99191","8852269670027","40-ขนมปังไก่หยองน้ำสลัด Mini","ขนมปังไก่หยองน้ำสลัด Mini","Mini Shredded Chicken Salad Cream Filled Bun 55g.","ของสด","YES","ชิ้น","50","15","45%","00-FRY","ปกติ",null,null,null,null,null,null,null,null,{"$f":"IFERROR(INDEX($D$1:$D$70,_xlfn.AGGREGATE(15,6,ROW(GB_Product[NameTH])/((GB_Product[Status]=\"ปกติ\")*(GB_Product[Factory]=SL_Factory)),ROWS($6:46))),\"\")","v":""},{"$f":"IFERROR(INDEX($D$1:$D$70,_xlfn.AGGREGATE(15,6,ROW(GB_Product[NameTH])/((GB_Product[Status]=\"ปกติ\")*(GB_Product[Factory]='Adjustment Order Frm'!SL_Factory)),ROWS($6:46))),\"\")","v":""}]
[null,"99192","8852269670034","41-ขนมปังไส้ช็อกโกแลต","ขนมปังไส้ช็อกโกแลต","Chocolate Filled Bun","ของสด","YES","ชิ้น","50","10","45%","00-FRY","ปกติ",null,null,null,null,null,null,null,null,{"$f":"IFERROR(INDEX($D$1:$D$70,_xlfn.AGGREGATE(15,6,ROW(GB_Product[NameTH])/((GB_Product[Status]=\"ปกติ\")*(GB_Product[Factory]=SL_Factory)),ROWS($6:47))),\"\")","v":""},{"$f":"IFERROR(INDEX($D$1:$D$70,_xlfn.AGGREGATE(15,6,ROW(GB_Product[NameTH])/((GB_Product[Status]=\"ปกติ\")*(GB_Product[Factory]='Adjustment Order Frm'!SL_Factory)),ROWS($6:47))),\"\")","v":""}]
[null,"99193","8852269670058","42-ขนมปังไส้ครีมสังขยาไข่","ขนมปังไส้ครีมสังขยาไข่","Egg Cream Custard Filled Bun","ของสด","YES","ชิ้น","50","10","45%","00-FRY","ปกติ",null,null,null,null,null,null,null,null,{"$f":"IFERROR(INDEX($D$1:$D$70,_xlfn.AGGREGATE(15,6,ROW(GB_Product[NameTH])/((GB_Product[Status]=\"ปกติ\")*(GB_Product[Factory]=SL_Factory)),ROWS($6:48))),\"\")","v":""},{"$f":"IFERROR(INDEX($D$1:$D$70,_xlfn.AGGREGATE(15,6,ROW(GB_Product[NameTH])/((GB_Product[Status]=\"ปกติ\")*(GB_Product[Factory]='Adjustment Order Frm'!SL_Factory)),ROWS($6:48))),\"\")","v":""}]
[null,"99194","8852269670065","43-ขนมปังพิซซ่าฮาวายเอี้ยน","ขนมปังพิซซ่าฮาวายเอี้ยน","Hawaiian Pizza Bread","ของสด","YES","ชิ้น","40","20","45%","00-FRK","ปกติ",null,null,null,null,null,null,null,null,{"$f":"IFERROR(INDEX($D$1:$D$70,_xlfn.AGGREGATE(15,6,ROW(GB_Product[NameTH])/((GB_Product[Status]=\"ปกติ\")*(GB_Product[Factory]=SL_Factory)),ROWS($6:49))),\"\")","v":""},{"$f":"IFERROR(INDEX($D$1:$D$70,_xlfn.AGGREGATE(15,6,ROW(GB_Product[NameTH])/((GB_Product[Status]=\"ปกติ\")*(GB_Product[Factory]='Adjustment Order Frm'!SL_Factory)),ROWS($6:49))),\"\")","v":""}]
[null,"99195","8852269670096","44-ครัวซองต์หมูหยองน้ำสลัด","ครัวซองต์หมูหยองน้ำสลัด","Shredded Pork With Salad Cream Croissant","ของสด","YES","ชิ้น","50","20","45%","00-FRK","ปกติ",null,null,null,null,null,null,null,null,{"$f":"IFERROR(INDEX($D$1:$D$70,_xlfn.AGGREGATE(15,6,ROW(GB_Product[NameTH])/((GB_Product[Status]=\"ปกติ\")*(GB_Product[Factory]=SL_Factory)),ROWS($6:50))),\"\")","v":""},{"$f":"IFERROR(INDEX($D$1:$D$70,_xlfn.AGGREGATE(15,6,ROW(GB_Product[NameTH])/((GB_Product[Status]=\"ปกติ\")*(GB_Product[Factory]='Adjustment Order Frm'!SL_Factory)),ROWS($6:50))),\"\")","v":""}]
[null,"99196","8852269670089","45-แพนเบรดไส้เผือก","แพนเบรดไส้เผือก","Taro Filled Panbread","ของสด","YES","ชิ้น","50","15","45%","00-FRK","ปกติ"]
[null,"99197","8852269670072","46-แพนเบรดไส้ถั่วแดง","แพนเบรดไส้ถั่วแดง","Red Bean Filled Panbread","ของสด","YES","ชิ้น","50","15","45%","00-FRK","ปกติ"]
[null,"99198","8852269670119","47-ขนมปังกรอบเนยน้ำตาล(30กรัม)","ขนมปังกรอบเนยน้ำตาล(30กรัม)","Crispy Sugar Buttered Toast","ของแห้ง","NO","ชิ้น","50","12","45%","00-FRK","ปกติ"]
[null,"99199","8852269670010","48-ขนมปังชนิดแผ่นโฮลวีต","ขนมปังชนิดแผ่นโฮลวีต","Whole Wheat Sliced Bread","ของสด","YES","ชิ้น","30","18","45%","00-FRY","ปกติ"]
[null,"99200","8852269670164","49-เค้กโรลใบเตย","เค้กโรลใบเตย","Cake Roll Pandan","ของสด","YES","ชิ้น","50","12","45%","00-FRY","ปกติ"]

{"sheet":"Stocks Inventory","index":3,"n_rows":55,"n_cols":14,"rows_kept":55,"cut":false,"hidden":true,"merged":[[1,1,1,3],[1,4,1,6],[3,4,3,6],[11,12,11,13],[1,9,1,10],[3,9,4,9],[3,10,4,10]]}
[]
[null,"CHECK AVAILABILITY",null,null,"CHOOSE PRODUCT",null,null,null,null,"TODAY"]
[]
[null,null,null,null,"03-ขนมปังไส้ถั่วแดง",null,null,null,null,{"$f":"UPPER(TEXT(K4,\"MMM\"))","v":"ธ.ค."},{"$f":"TODAY()","v":"2024-12-19"}]
[null,null,null,"สต๊อคคงเหลือ (CURRENT INVENTORY)",{"$f":"INDEX(Stock[Stocks On Hand],MATCH($E$4,Stock[Products Name],0))","v":{"$error":"#N/A"}},null,null,{"$f":"INDEX(Stock[Unit],MATCH($E$4,Stock[Products Name],0))","v":{"$error":"#N/A"}}]
[null,null,null,"สต๊อคขั้นต่ำ (RE-ORDER POINT)",{"$f":"INDEX(Stock[Re-Order Point],MATCH($E$4,Stock[Products Name],0))","v":{"$error":"#N/A"}},null,null,{"$f":"INDEX(Stock[Unit],MATCH($E$4,Stock[Products Name],0))","v":{"$error":"#N/A"}}]
[null,null,null,"ยอดรับเข้า (RECEIVED QUANTITY)",{"$f":"INDEX(Stock[Received],MATCH($E$4,Stock[Products Name],0))","v":{"$error":"#N/A"}},null,null,{"$f":"INDEX(Stock[Unit],MATCH($E$4,Stock[Products Name],0))","v":{"$error":"#N/A"}}]
[null,null,null,"ยอดเบิกออก (DELIVERY QUANTITY)",{"$f":"INDEX(Stock[Deliver],MATCH($E$4,Stock[Products Name],0))","v":{"$error":"#N/A"}},null,null,{"$f":"INDEX(Stock[Unit],MATCH($E$4,Stock[Products Name],0))","v":{"$error":"#N/A"}}]
[]
[]
[null,null,null,null,null,null,null,null,"SETTING","PRODUCTS","TRANSACTION","ORDER","REPORT",{"$f":"UPPER(\"Deliver List\")","v":"DELIVER LIST"}]
[null,null,"STOCKS INVENTORY SUMMARY"]
[null,null,"รหัส","รายการสินค้า","สต๊อคเริ่มต้น","หน่วยนับ","รับเข้า","เบิกออก","สต๊อคขั้นต่ำ(Unit)","สต๊อคในคลัง(Unit)","ราคา/ชิ้น","มูลค่า","ต้องสั่งเพิ่ม","หมายเหตุ"]
[null,"Index","Product Code","Products Name","Opening Stock","Unit","Received","Deliver","Re-Order Point","Stocks On Hand","Price","Total","To Oder","Remarks"]
[null,{"$f":"IFERROR(IF(Stock[[#This Row],[Product Code]]=\"\",\"\",MATCH(C15,#REF!,0)),\"\")","v":""},{"$f":"_xlfn.SINGLE(IF(ROW()-ROW(Stock[[#Headers],[Product Code]])>ROWS(#REF!),\"\",INDEX(#REF!,ROW()-ROW(Stock[[#Headers],[Product Code]]))))","v":{"$error":"#NAME?"}},{"$f":"IFERROR(_xlfn.SINGLE(INDEX(#REF!,Stock[[#This Row],[Index]],0)),\"\")","v":""},1500,{"$f":"_xlfn.SINGLE(IF(Stock[[#This Row],[Index]]=\"\",\"\",INDEX(#REF!,Stock[[#This Row],[Index]])))","v":{"$error":"#NAME?"}},{"$f":"SUMPRODUCT((#REF!=\"รับ\")*(#REF!=Stock[[#This Row],[Products Name]])*#REF!)","v":{"$error":"#REF!"}},{"$f":"SUMPRODUCT((#REF!=\"เบิก\")*(#REF!=Stock[[#This Row],[Products Name]])*#REF!)","v":{"$error":"#REF!"}},100,{"$f":"Stock[[#This Row],[Opening Stock]]+Stock[[#This Row],[Received]]-Stock[[#This Row],[Deliver]]","v":{"$error":"#REF!"}},{"$f":"IFERROR(_xlfn.SINGLE(INDEX(#REF!,Stock[[#This Row],[Index]]))*(1-_xlfn.SINGLE(INDEX(#REF!,Stock[[#This Row],[Index]]))),\"\")","v":""},{"$f":"IFERROR(Stock[[#This Row],[Stocks On Hand]]*Stock[[#This Row],[Price]],\"\")","v":""},{"$f":"IF(Stock[[#This Row],[Index]]=\"\",\"\",IF(Stock[[#This Row],[Stocks On Hand]]<Stock[[#This Row],[Re-Order Point]],\"Yes\",\"No\"))","v":""}]
[null,{"$f":"IFERROR(IF(Stock[[#This Row],[Product Code]]=\"\",\"\",MATCH(C16,#REF!,0)),\"\")","v":""},{"$f":"_xlfn.SINGLE(IF(ROW()-ROW(Stock[[#Headers],[Product Code]])>ROWS(#REF!),\"\",INDEX(#REF!,ROW()-ROW(Stock[[#Headers],[Product Code]]))))","v":{"$error":"#NAME?"}},{"$f":"IFERROR(_xlfn.SINGLE(INDEX(#REF!,Stock[[#This Row],[Index]],0)),\"\")","v":""},1500,{"$f":"_xlfn.SINGLE(IF(Stock[[#This Row],[Index]]=\"\",\"\",INDEX(#REF!,Stock[[#This Row],[Index]])))","v":{"$error":"#NAME?"}},{"$f":"SUMPRODUCT((#REF!=\"รับ\")*(#REF!=Stock[[#This Row],[Products Name]])*#REF!)","v":{"$error":"#REF!"}},{"$f":"SUMPRODUCT((#REF!=\"เบิก\")*(#REF!=Stock[[#This Row],[Products Name]])*#REF!)","v":{"$error":"#REF!"}},100,{"$f":"Stock[[#This Row],[Opening Stock]]+Stock[[#This Row],[Received]]-Stock[[#This Row],[Deliver]]","v":{"$error":"#REF!"}},{"$f":"IFERROR(_xlfn.SINGLE(INDEX(#REF!,Stock[[#This Row],[Index]]))*(1-_xlfn.SINGLE(INDEX(#REF!,Stock[[#This Row],[Index]]))),\"\")","v":""},{"$f":"IFERROR(Stock[[#This Row],[Stocks On Hand]]*Stock[[#This Row],[Price]],\"\")","v":""},{"$f":"IF(Stock[[#This Row],[Index]]=\"\",\"\",IF(Stock[[#This Row],[Stocks On Hand]]<Stock[[#This Row],[Re-Order Point]],\"Yes\",\"No\"))","v":""}]
[null,{"$f":"IFERROR(IF(Stock[[#This Row],[Product Code]]=\"\",\"\",MATCH(C17,#REF!,0)),\"\")","v":""},{"$f":"_xlfn.SINGLE(IF(ROW()-ROW(Stock[[#Headers],[Product Code]])>ROWS(#REF!),\"\",INDEX(#REF!,ROW()-ROW(Stock[[#Headers],[Product Code]]))))","v":{"$error":"#NAME?"}},{"$f":"IFERROR(_xlfn.SINGLE(INDEX(#REF!,Stock[[#This Row],[Index]],0)),\"\")","v":""},1500,{"$f":"_xlfn.SINGLE(IF(Stock[[#This Row],[Index]]=\"\",\"\",INDEX(#REF!,Stock[[#This Row],[Index]])))","v":{"$error":"#NAME?"}},{"$f":"SUMPRODUCT((#REF!=\"รับ\")*(#REF!=Stock[[#This Row],[Products Name]])*#REF!)","v":{"$error":"#REF!"}},{"$f":"SUMPRODUCT((#REF!=\"เบิก\")*(#REF!=Stock[[#This Row],[Products Name]])*#REF!)","v":{"$error":"#REF!"}},100,{"$f":"Stock[[#This Row],[Opening Stock]]+Stock[[#This Row],[Received]]-Stock[[#This Row],[Deliver]]","v":{"$error":"#REF!"}},{"$f":"IFERROR(_xlfn.SINGLE(INDEX(#REF!,Stock[[#This Row],[Index]]))*(1-_xlfn.SINGLE(INDEX(#REF!,Stock[[#This Row],[Index]]))),\"\")","v":""},{"$f":"IFERROR(Stock[[#This Row],[Stocks On Hand]]*Stock[[#This Row],[Price]],\"\")","v":""},{"$f":"IF(Stock[[#This Row],[Index]]=\"\",\"\",IF(Stock[[#This Row],[Stocks On Hand]]<Stock[[#This Row],[Re-Order Point]],\"Yes\",\"No\"))","v":""}]
[null,{"$f":"IFERROR(IF(Stock[[#This Row],[Product Code]]=\"\",\"\",MATCH(C18,#REF!,0)),\"\")","v":""},{"$f":"_xlfn.SINGLE(IF(ROW()-ROW(Stock[[#Headers],[Product Code]])>ROWS(#REF!),\"\",INDEX(#REF!,ROW()-ROW(Stock[[#Headers],[Product Code]]))))","v":{"$error":"#NAME?"}},{"$f":"IFERROR(_xlfn.SINGLE(INDEX(#REF!,Stock[[#This Row],[Index]],0)),\"\")","v":""},1500,{"$f":"_xlfn.SINGLE(IF(Stock[[#This Row],[Index]]=\"\",\"\",INDEX(#REF!,Stock[[#This Row],[Index]])))","v":{"$error":"#NAME?"}},{"$f":"SUMPRODUCT((#REF!=\"รับ\")*(#REF!=Stock[[#This Row],[Products Name]])*#REF!)","v":{"$error":"#REF!"}},{"$f":"SUMPRODUCT((#REF!=\"เบิก\")*(#REF!=Stock[[#This Row],[Products Name]])*#REF!)","v":{"$error":"#REF!"}},100,{"$f":"Stock[[#This Row],[Opening Stock]]+Stock[[#This Row],[Received]]-Stock[[#This Row],[Deliver]]","v":{"$error":"#REF!"}},{"$f":"IFERROR(_xlfn.SINGLE(INDEX(#REF!,Stock[[#This Row],[Index]]))*(1-_xlfn.SINGLE(INDEX(#REF!,Stock[[#This Row],[Index]]))),\"\")","v":""},{"$f":"IFERROR(Stock[[#This Row],[Stocks On Hand]]*Stock[[#This Row],[Price]],\"\")","v":""},{"$f":"IF(Stock[[#This Row],[Index]]=\"\",\"\",IF(Stock[[#This Row],[Stocks On Hand]]<Stock[[#This Row],[Re-Order Point]],\"Yes\",\"No\"))","v":""}]
[null,{"$f":"IFERROR(IF(Stock[[#This Row],[Product Code]]=\"\",\"\",MATCH(C19,#REF!,0)),\"\")","v":""},{"$f":"_xlfn.SINGLE(IF(ROW()-ROW(Stock[[#Headers],[Product Code]])>ROWS(#REF!),\"\",INDEX(#REF!,ROW()-ROW(Stock[[#Headers],[Product Code]]))))","v":{"$error":"#NAME?"}},{"$f":"IFERROR(_xlfn.SINGLE(INDEX(#REF!,Stock[[#This Row],[Index]],0)),\"\")","v":""},1500,{"$f":"_xlfn.SINGLE(IF(Stock[[#This Row],[Index]]=\"\",\"\",INDEX(#REF!,Stock[[#This Row],[Index]])))","v":{"$error":"#NAME?"}},{"$f":"SUMPRODUCT((#REF!=\"รับ\")*(#REF!=Stock[[#This Row],[Products Name]])*#REF!)","v":{"$error":"#REF!"}},{"$f":"SUMPRODUCT((#REF!=\"เบิก\")*(#REF!=Stock[[#This Row],[Products Name]])*#REF!)","v":{"$error":"#REF!"}},100,{"$f":"Stock[[#This Row],[Opening Stock]]+Stock[[#This Row],[Received]]-Stock[[#This Row],[Deliver]]","v":{"$error":"#REF!"}},{"$f":"IFERROR(_xlfn.SINGLE(INDEX(#REF!,Stock[[#This Row],[Index]]))*(1-_xlfn.SINGLE(INDEX(#REF!,Stock[[#This Row],[Index]]))),\"\")","v":""},{"$f":"IFERROR(Stock[[#This Row],[Stocks On Hand]]*Stock[[#This Row],[Price]],\"\")","v":""},{"$f":"IF(Stock[[#This Row],[Index]]=\"\",\"\",IF(Stock[[#This Row],[Stocks On Hand]]<Stock[[#This Row],[Re-Order Point]],\"Yes\",\"No\"))","v":""}]
[null,{"$f":"IFERROR(IF(Stock[[#This Row],[Product Code]]=\"\",\"\",MATCH(C20,#REF!,0)),\"\")","v":""},{"$f":"_xlfn.SINGLE(IF(ROW()-ROW(Stock[[#Headers],[Product Code]])>ROWS(#REF!),\"\",INDEX(#REF!,ROW()-ROW(Stock[[#Headers],[Product Code]]))))","v":{"$error":"#NAME?"}},{"$f":"IFERROR(_xlfn.SINGLE(INDEX(#REF!,Stock[[#This Row],[Index]],0)),\"\")","v":""},1500,{"$f":"_xlfn.SINGLE(IF(Stock[[#This Row],[Index]]=\"\",\"\",INDEX(#REF!,Stock[[#This Row],[Index]])))","v":{"$error":"#NAME?"}},{"$f":"SUMPRODUCT((#REF!=\"รับ\")*(#REF!=Stock[[#This Row],[Products Name]])*#REF!)","v":{"$error":"#REF!"}},{"$f":"SUMPRODUCT((#REF!=\"เบิก\")*(#REF!=Stock[[#This Row],[Products Name]])*#REF!)","v":{"$error":"#REF!"}},100,{"$f":"Stock[[#This Row],[Opening Stock]]+Stock[[#This Row],[Received]]-Stock[[#This Row],[Deliver]]","v":{"$error":"#REF!"}},{"$f":"IFERROR(_xlfn.SINGLE(INDEX(#REF!,Stock[[#This Row],[Index]]))*(1-_xlfn.SINGLE(INDEX(#REF!,Stock[[#This Row],[Index]]))),\"\")","v":""},{"$f":"IFERROR(Stock[[#This Row],[Stocks On Hand]]*Stock[[#This Row],[Price]],\"\")","v":""},{"$f":"IF(Stock[[#This Row],[Index]]=\"\",\"\",IF(Stock[[#This Row],[Stocks On Hand]]<Stock[[#This Row],[Re-Order Point]],\"Yes\",\"No\"))","v":""}]
[null,{"$f":"IFERROR(IF(Stock[[#This Row],[Product Code]]=\"\",\"\",MATCH(C21,#REF!,0)),\"\")","v":""},{"$f":"_xlfn.SINGLE(IF(ROW()-ROW(Stock[[#Headers],[Product Code]])>ROWS(#REF!),\"\",INDEX(#REF!,ROW()-ROW(Stock[[#Headers],[Product Code]]))))","v":{"$error":"#NAME?"}},{"$f":"IFERROR(_xlfn.SINGLE(INDEX(#REF!,Stock[[#This Row],[Index]],0)),\"\")","v":""},1500,{"$f":"_xlfn.SINGLE(IF(Stock[[#This Row],[Index]]=\"\",\"\",INDEX(#REF!,Stock[[#This Row],[Index]])))","v":{"$error":"#NAME?"}},{"$f":"SUMPRODUCT((#REF!=\"รับ\")*(#REF!=Stock[[#This Row],[Products Name]])*#REF!)","v":{"$error":"#REF!"}},{"$f":"SUMPRODUCT((#REF!=\"เบิก\")*(#REF!=Stock[[#This Row],[Products Name]])*#REF!)","v":{"$error":"#REF!"}},100,{"$f":"Stock[[#This Row],[Opening Stock]]+Stock[[#This Row],[Received]]-Stock[[#This Row],[Deliver]]","v":{"$error":"#REF!"}},{"$f":"IFERROR(_xlfn.SINGLE(INDEX(#REF!,Stock[[#This Row],[Index]]))*(1-_xlfn.SINGLE(INDEX(#REF!,Stock[[#This Row],[Index]]))),\"\")","v":""},{"$f":"IFERROR(Stock[[#This Row],[Stocks On Hand]]*Stock[[#This Row],[Price]],\"\")","v":""},{"$f":"IF(Stock[[#This Row],[Index]]=\"\",\"\",IF(Stock[[#This Row],[Stocks On Hand]]<Stock[[#This Row],[Re-Order Point]],\"Yes\",\"No\"))","v":""}]
[null,{"$f":"IFERROR(IF(Stock[[#This Row],[Product Code]]=\"\",\"\",MATCH(C22,#REF!,0)),\"\")","v":""},{"$f":"_xlfn.SINGLE(IF(ROW()-ROW(Stock[[#Headers],[Product Code]])>ROWS(#REF!),\"\",INDEX(#REF!,ROW()-ROW(Stock[[#Headers],[Product Code]]))))","v":{"$error":"#NAME?"}},{"$f":"IFERROR(_xlfn.SINGLE(INDEX(#REF!,Stock[[#This Row],[Index]],0)),\"\")","v":""},1500,{"$f":"_xlfn.SINGLE(IF(Stock[[#This Row],[Index]]=\"\",\"\",INDEX(#REF!,Stock[[#This Row],[Index]])))","v":{"$error":"#NAME?"}},{"$f":"SUMPRODUCT((#REF!=\"รับ\")*(#REF!=Stock[[#This Row],[Products Name]])*#REF!)","v":{"$error":"#REF!"}},{"$f":"SUMPRODUCT((#REF!=\"เบิก\")*(#REF!=Stock[[#This Row],[Products Name]])*#REF!)","v":{"$error":"#REF!"}},100,{"$f":"Stock[[#This Row],[Opening Stock]]+Stock[[#This Row],[Received]]-Stock[[#This Row],[Deliver]]","v":{"$error":"#REF!"}},{"$f":"IFERROR(_xlfn.SINGLE(INDEX(#REF!,Stock[[#This Row],[Index]]))*(1-_xlfn.SINGLE(INDEX(#REF!,Stock[[#This Row],[Index]]))),\"\")","v":""},{"$f":"IFERROR(Stock[[#This Row],[Stocks On Hand]]*Stock[[#This Row],[Price]],\"\")","v":""},{"$f":"IF(Stock[[#This Row],[Index]]=\"\",\"\",IF(Stock[[#This Row],[Stocks On Hand]]<Stock[[#This Row],[Re-Order Point]],\"Yes\",\"No\"))","v":""}]
[null,{"$f":"IFERROR(IF(Stock[[#This Row],[Product Code]]=\"\",\"\",MATCH(C23,#REF!,0)),\"\")","v":""},{"$f":"_xlfn.SINGLE(IF(ROW()-ROW(Stock[[#Headers],[Product Code]])>ROWS(#REF!),\"\",INDEX(#REF!,ROW()-ROW(Stock[[#Headers],[Product Code]]))))","v":{"$error":"#NAME?"}},{"$f":"IFERROR(_xlfn.SINGLE(INDEX(#REF!,Stock[[#This Row],[Index]],0)),\"\")","v":""},1500,{"$f":"_xlfn.SINGLE(IF(Stock[[#This Row],[Index]]=\"\",\"\",INDEX(#REF!,Stock[[#This Row],[Index]])))","v":{"$error":"#NAME?"}},{"$f":"SUMPRODUCT((#REF!=\"รับ\")*(#REF!=Stock[[#This Row],[Products Name]])*#REF!)","v":{"$error":"#REF!"}},{"$f":"SUMPRODUCT((#REF!=\"เบิก\")*(#REF!=Stock[[#This Row],[Products Name]])*#REF!)","v":{"$error":"#REF!"}},100,{"$f":"Stock[[#This Row],[Opening Stock]]+Stock[[#This Row],[Received]]-Stock[[#This Row],[Deliver]]","v":{"$error":"#REF!"}},{"$f":"IFERROR(_xlfn.SINGLE(INDEX(#REF!,Stock[[#This Row],[Index]]))*(1-_xlfn.SINGLE(INDEX(#REF!,Stock[[#This Row],[Index]]))),\"\")","v":""},{"$f":"IFERROR(Stock[[#This Row],[Stocks On Hand]]*Stock[[#This Row],[Price]],\"\")","v":""},{"$f":"IF(Stock[[#This Row],[Index]]=\"\",\"\",IF(Stock[[#This Row],[Stocks On Hand]]<Stock[[#This Row],[Re-Order Point]],\"Yes\",\"No\"))","v":""}]
[null,{"$f":"IFERROR(IF(Stock[[#This Row],[Product Code]]=\"\",\"\",MATCH(C24,#REF!,0)),\"\")","v":""},{"$f":"_xlfn.SINGLE(IF(ROW()-ROW(Stock[[#Headers],[Product Code]])>ROWS(#REF!),\"\",INDEX(#REF!,ROW()-ROW(Stock[[#Headers],[Product Code]]))))","v":{"$error":"#NAME?"}},{"$f":"IFERROR(_xlfn.SINGLE(INDEX(#REF!,Stock[[#This Row],[Index]],0)),\"\")","v":""},1500,{"$f":"_xlfn.SINGLE(IF(Stock[[#This Row],[Index]]=\"\",\"\",INDEX(#REF!,Stock[[#This Row],[Index]])))","v":{"$error":"#NAME?"}},{"$f":"SUMPRODUCT((#REF!=\"รับ\")*(#REF!=Stock[[#This Row],[Products Name]])*#REF!)","v":{"$error":"#REF!"}},{"$f":"SUMPRODUCT((#REF!=\"เบิก\")*(#REF!=Stock[[#This Row],[Products Name]])*#REF!)","v":{"$error":"#REF!"}},100,{"$f":"Stock[[#This Row],[Opening Stock]]+Stock[[#This Row],[Received]]-Stock[[#This Row],[Deliver]]","v":{"$error":"#REF!"}},{"$f":"IFERROR(_xlfn.SINGLE(INDEX(#REF!,Stock[[#This Row],[Index]]))*(1-_xlfn.SINGLE(INDEX(#REF!,Stock[[#This Row],[Index]]))),\"\")","v":""},{"$f":"IFERROR(Stock[[#This Row],[Stocks On Hand]]*Stock[[#This Row],[Price]],\"\")","v":""},{"$f":"IF(Stock[[#This Row],[Index]]=\"\",\"\",IF(Stock[[#This Row],[Stocks On Hand]]<Stock[[#This Row],[Re-Order Point]],\"Yes\",\"No\"))","v":""}]
[null,{"$f":"IFERROR(IF(Stock[[#This Row],[Product Code]]=\"\",\"\",MATCH(C25,#REF!,0)),\"\")","v":""},{"$f":"_xlfn.SINGLE(IF(ROW()-ROW(Stock[[#Headers],[Product Code]])>ROWS(#REF!),\"\",INDEX(#REF!,ROW()-ROW(Stock[[#Headers],[Product Code]]))))","v":{"$error":"#NAME?"}},{"$f":"IFERROR(_xlfn.SINGLE(INDEX(#REF!,Stock[[#This Row],[Index]],0)),\"\")","v":""},1500,{"$f":"_xlfn.SINGLE(IF(Stock[[#This Row],[Index]]=\"\",\"\",INDEX(#REF!,Stock[[#This Row],[Index]])))","v":{"$error":"#NAME?"}},{"$f":"SUMPRODUCT((#REF!=\"รับ\")*(#REF!=Stock[[#This Row],[Products Name]])*#REF!)","v":{"$error":"#REF!"}},{"$f":"SUMPRODUCT((#REF!=\"เบิก\")*(#REF!=Stock[[#This Row],[Products Name]])*#REF!)","v":{"$error":"#REF!"}},100,{"$f":"Stock[[#This Row],[Opening Stock]]+Stock[[#This Row],[Received]]-Stock[[#This Row],[Deliver]]","v":{"$error":"#REF!"}},{"$f":"IFERROR(_xlfn.SINGLE(INDEX(#REF!,Stock[[#This Row],[Index]]))*(1-_xlfn.SINGLE(INDEX(#REF!,Stock[[#This Row],[Index]]))),\"\")","v":""},{"$f":"IFERROR(Stock[[#This Row],[Stocks On Hand]]*Stock[[#This Row],[Price]],\"\")","v":""},{"$f":"IF(Stock[[#This Row],[Index]]=\"\",\"\",IF(Stock[[#This Row],[Stocks On Hand]]<Stock[[#This Row],[Re-Order Point]],\"Yes\",\"No\"))","v":""}]
[null,{"$f":"IFERROR(IF(Stock[[#This Row],[Product Code]]=\"\",\"\",MATCH(C26,#REF!,0)),\"\")","v":""},{"$f":"_xlfn.SINGLE(IF(ROW()-ROW(Stock[[#Headers],[Product Code]])>ROWS(#REF!),\"\",INDEX(#REF!,ROW()-ROW(Stock[[#Headers],[Product Code]]))))","v":{"$error":"#NAME?"}},{"$f":"IFERROR(_xlfn.SINGLE(INDEX(#REF!,Stock[[#This Row],[Index]],0)),\"\")","v":""},1500,{"$f":"_xlfn.SINGLE(IF(Stock[[#This Row],[Index]]=\"\",\"\",INDEX(#REF!,Stock[[#This Row],[Index]])))","v":{"$error":"#NAME?"}},{"$f":"SUMPRODUCT((#REF!=\"รับ\")*(#REF!=Stock[[#This Row],[Products Name]])*#REF!)","v":{"$error":"#REF!"}},{"$f":"SUMPRODUCT((#REF!=\"เบิก\")*(#REF!=Stock[[#This Row],[Products Name]])*#REF!)","v":{"$error":"#REF!"}},100,{"$f":"Stock[[#This Row],[Opening Stock]]+Stock[[#This Row],[Received]]-Stock[[#This Row],[Deliver]]","v":{"$error":"#REF!"}},{"$f":"IFERROR(_xlfn.SINGLE(INDEX(#REF!,Stock[[#This Row],[Index]]))*(1-_xlfn.SINGLE(INDEX(#REF!,Stock[[#This Row],[Index]]))),\"\")","v":""},{"$f":"IFERROR(Stock[[#This Row],[Stocks On Hand]]*Stock[[#This Row],[Price]],\"\")","v":""},{"$f":"IF(Stock[[#This Row],[Index]]=\"\",\"\",IF(Stock[[#This Row],[Stocks On Hand]]<Stock[[#This Row],[Re-Order Point]],\"Yes\",\"No\"))","v":""}]
[null,{"$f":"IFERROR(IF(Stock[[#This Row],[Product Code]]=\"\",\"\",MATCH(C27,#REF!,0)),\"\")","v":""},{"$f":"_xlfn.SINGLE(IF(ROW()-ROW(Stock[[#Headers],[Product Code]])>ROWS(#REF!),\"\",INDEX(#REF!,ROW()-ROW(Stock[[#Headers],[Product Code]]))))","v":{"$error":"#NAME?"}},{"$f":"IFERROR(_xlfn.SINGLE(INDEX(#REF!,Stock[[#This Row],[Index]],0)),\"\")","v":""},1500,{"$f":"_xlfn.SINGLE(IF(Stock[[#This Row],[Index]]=\"\",\"\",INDEX(#REF!,Stock[[#This Row],[Index]])))","v":{"$error":"#NAME?"}},{"$f":"SUMPRODUCT((#REF!=\"รับ\")*(#REF!=Stock[[#This Row],[Products Name]])*#REF!)","v":{"$error":"#REF!"}},{"$f":"SUMPRODUCT((#REF!=\"เบิก\")*(#REF!=Stock[[#This Row],[Products Name]])*#REF!)","v":{"$error":"#REF!"}},100,{"$f":"Stock[[#This Row],[Opening Stock]]+Stock[[#This Row],[Received]]-Stock[[#This Row],[Deliver]]","v":{"$error":"#REF!"}},{"$f":"IFERROR(_xlfn.SINGLE(INDEX(#REF!,Stock[[#This Row],[Index]]))*(1-_xlfn.SINGLE(INDEX(#REF!,Stock[[#This Row],[Index]]))),\"\")","v":""},{"$f":"IFERROR(Stock[[#This Row],[Stocks On Hand]]*Stock[[#This Row],[Price]],\"\")","v":""},{"$f":"IF(Stock[[#This Row],[Index]]=\"\",\"\",IF(Stock[[#This Row],[Stocks On Hand]]<Stock[[#This Row],[Re-Order Point]],\"Yes\",\"No\"))","v":""}]
[null,{"$f":"IFERROR(IF(Stock[[#This Row],[Product Code]]=\"\",\"\",MATCH(C28,#REF!,0)),\"\")","v":""},{"$f":"_xlfn.SINGLE(IF(ROW()-ROW(Stock[[#Headers],[Product Code]])>ROWS(#REF!),\"\",INDEX(#REF!,ROW()-ROW(Stock[[#Headers],[Product Code]]))))","v":{"$error":"#NAME?"}},{"$f":"IFERROR(_xlfn.SINGLE(INDEX(#REF!,Stock[[#This Row],[Index]],0)),\"\")","v":""},1500,{"$f":"_xlfn.SINGLE(IF(Stock[[#This Row],[Index]]=\"\",\"\",INDEX(#REF!,Stock[[#This Row],[Index]])))","v":{"$error":"#NAME?"}},{"$f":"SUMPRODUCT((#REF!=\"รับ\")*(#REF!=Stock[[#This Row],[Products Name]])*#REF!)","v":{"$error":"#REF!"}},{"$f":"SUMPRODUCT((#REF!=\"เบิก\")*(#REF!=Stock[[#This Row],[Products Name]])*#REF!)","v":{"$error":"#REF!"}},100,{"$f":"Stock[[#This Row],[Opening Stock]]+Stock[[#This Row],[Received]]-Stock[[#This Row],[Deliver]]","v":{"$error":"#REF!"}},{"$f":"IFERROR(_xlfn.SINGLE(INDEX(#REF!,Stock[[#This Row],[Index]]))*(1-_xlfn.SINGLE(INDEX(#REF!,Stock[[#This Row],[Index]]))),\"\")","v":""},{"$f":"IFERROR(Stock[[#This Row],[Stocks On Hand]]*Stock[[#This Row],[Price]],\"\")","v":""},{"$f":"IF(Stock[[#This Row],[Index]]=\"\",\"\",IF(Stock[[#This Row],[Stocks On Hand]]<Stock[[#This Row],[Re-Order Point]],\"Yes\",\"No\"))","v":""}]
[null,{"$f":"IFERROR(IF(Stock[[#This Row],[Product Code]]=\"\",\"\",MATCH(C29,#REF!,0)),\"\")","v":""},{"$f":"_xlfn.SINGLE(IF(ROW()-ROW(Stock[[#Headers],[Product Code]])>ROWS(#REF!),\"\",INDEX(#REF!,ROW()-ROW(Stock[[#Headers],[Product Code]]))))","v":{"$error":"#NAME?"}},{"$f":"IFERROR(_xlfn.SINGLE(INDEX(#REF!,Stock[[#This Row],[Index]],0)),\"\")","v":""},1500,{"$f":"_xlfn.SINGLE(IF(Stock[[#This Row],[Index]]=\"\",\"\",INDEX(#REF!,Stock[[#This Row],[Index]])))","v":{"$error":"#NAME?"}},{"$f":"SUMPRODUCT((#REF!=\"รับ\")*(#REF!=Stock[[#This Row],[Products Name]])*#REF!)","v":{"$error":"#REF!"}},{"$f":"SUMPRODUCT((#REF!=\"เบิก\")*(#REF!=Stock[[#This Row],[Products Name]])*#REF!)","v":{"$error":"#REF!"}},100,{"$f":"Stock[[#This Row],[Opening Stock]]+Stock[[#This Row],[Received]]-Stock[[#This Row],[Deliver]]","v":{"$error":"#REF!"}},{"$f":"IFERROR(_xlfn.SINGLE(INDEX(#REF!,Stock[[#This Row],[Index]]))*(1-_xlfn.SINGLE(INDEX(#REF!,Stock[[#This Row],[Index]]))),\"\")","v":""},{"$f":"IFERROR(Stock[[#This Row],[Stocks On Hand]]*Stock[[#This Row],[Price]],\"\")","v":""},{"$f":"IF(Stock[[#This Row],[Index]]=\"\",\"\",IF(Stock[[#This Row],[Stocks On Hand]]<Stock[[#This Row],[Re-Order Point]],\"Yes\",\"No\"))","v":""}]
[null,{"$f":"IFERROR(IF(Stock[[#This Row],[Product Code]]=\"\",\"\",MATCH(C30,#REF!,0)),\"\")","v":""},{"$f":"_xlfn.SINGLE(IF(ROW()-ROW(Stock[[#Headers],[Product Code]])>ROWS(#REF!),\"\",INDEX(#REF!,ROW()-ROW(Stock[[#Headers],[Product Code]]))))","v":{"$error":"#NAME?"}},{"$f":"IFERROR(_xlfn.SINGLE(INDEX(#REF!,Stock[[#This Row],[Index]],0)),\"\")","v":""},1500,{"$f":"_xlfn.SINGLE(IF(Stock[[#This Row],[Index]]=\"\",\"\",INDEX(#REF!,Stock[[#This Row],[Index]])))","v":{"$error":"#NAME?"}},{"$f":"SUMPRODUCT((#REF!=\"รับ\")*(#REF!=Stock[[#This Row],[Products Name]])*#REF!)","v":{"$error":"#REF!"}},{"$f":"SUMPRODUCT((#REF!=\"เบิก\")*(#REF!=Stock[[#This Row],[Products Name]])*#REF!)","v":{"$error":"#REF!"}},100,{"$f":"Stock[[#This Row],[Opening Stock]]+Stock[[#This Row],[Received]]-Stock[[#This Row],[Deliver]]","v":{"$error":"#REF!"}},{"$f":"IFERROR(_xlfn.SINGLE(INDEX(#REF!,Stock[[#This Row],[Index]]))*(1-_xlfn.SINGLE(INDEX(#REF!,Stock[[#This Row],[Index]]))),\"\")","v":""},{"$f":"IFERROR(Stock[[#This Row],[Stocks On Hand]]*Stock[[#This Row],[Price]],\"\")","v":""},{"$f":"IF(Stock[[#This Row],[Index]]=\"\",\"\",IF(Stock[[#This Row],[Stocks On Hand]]<Stock[[#This Row],[Re-Order Point]],\"Yes\",\"No\"))","v":""}]
[null,{"$f":"IFERROR(IF(Stock[[#This Row],[Product Code]]=\"\",\"\",MATCH(C31,#REF!,0)),\"\")","v":""},{"$f":"_xlfn.SINGLE(IF(ROW()-ROW(Stock[[#Headers],[Product Code]])>ROWS(#REF!),\"\",INDEX(#REF!,ROW()-ROW(Stock[[#Headers],[Product Code]]))))","v":{"$error":"#NAME?"}},{"$f":"IFERROR(_xlfn.SINGLE(INDEX(#REF!,Stock[[#This Row],[Index]],0)),\"\")","v":""},1500,{"$f":"_xlfn.SINGLE(IF(Stock[[#This Row],[Index]]=\"\",\"\",INDEX(#REF!,Stock[[#This Row],[Index]])))","v":{"$error":"#NAME?"}},{"$f":"SUMPRODUCT((#REF!=\"รับ\")*(#REF!=Stock[[#This Row],[Products Name]])*#REF!)","v":{"$error":"#REF!"}},{"$f":"SUMPRODUCT((#REF!=\"เบิก\")*(#REF!=Stock[[#This Row],[Products Name]])*#REF!)","v":{"$error":"#REF!"}},100,{"$f":"Stock[[#This Row],[Opening Stock]]+Stock[[#This Row],[Received]]-Stock[[#This Row],[Deliver]]","v":{"$error":"#REF!"}},{"$f":"IFERROR(_xlfn.SINGLE(INDEX(#REF!,Stock[[#This Row],[Index]]))*(1-_xlfn.SINGLE(INDEX(#REF!,Stock[[#This Row],[Index]]))),\"\")","v":""},{"$f":"IFERROR(Stock[[#This Row],[Stocks On Hand]]*Stock[[#This Row],[Price]],\"\")","v":""},{"$f":"IF(Stock[[#This Row],[Index]]=\"\",\"\",IF(Stock[[#This Row],[Stocks On Hand]]<Stock[[#This Row],[Re-Order Point]],\"Yes\",\"No\"))","v":""}]
[null,{"$f":"IFERROR(IF(Stock[[#This Row],[Product Code]]=\"\",\"\",MATCH(C32,#REF!,0)),\"\")","v":""},{"$f":"_xlfn.SINGLE(IF(ROW()-ROW(Stock[[#Headers],[Product Code]])>ROWS(#REF!),\"\",INDEX(#REF!,ROW()-ROW(Stock[[#Headers],[Product Code]]))))","v":{"$error":"#NAME?"}},{"$f":"IFERROR(_xlfn.SINGLE(INDEX(#REF!,Stock[[#This Row],[Index]],0)),\"\")","v":""},1500,{"$f":"_xlfn.SINGLE(IF(Stock[[#This Row],[Index]]=\"\",\"\",INDEX(#REF!,Stock[[#This Row],[Index]])))","v":{"$error":"#NAME?"}},{"$f":"SUMPRODUCT((#REF!=\"รับ\")*(#REF!=Stock[[#This Row],[Products Name]])*#REF!)","v":{"$error":"#REF!"}},{"$f":"SUMPRODUCT((#REF!=\"เบิก\")*(#REF!=Stock[[#This Row],[Products Name]])*#REF!)","v":{"$error":"#REF!"}},100,{"$f":"Stock[[#This Row],[Opening Stock]]+Stock[[#This Row],[Received]]-Stock[[#This Row],[Deliver]]","v":{"$error":"#REF!"}},{"$f":"IFERROR(_xlfn.SINGLE(INDEX(#REF!,Stock[[#This Row],[Index]]))*(1-_xlfn.SINGLE(INDEX(#REF!,Stock[[#This Row],[Index]]))),\"\")","v":""},{"$f":"IFERROR(Stock[[#This Row],[Stocks On Hand]]*Stock[[#This Row],[Price]],\"\")","v":""},{"$f":"IF(Stock[[#This Row],[Index]]=\"\",\"\",IF(Stock[[#This Row],[Stocks On Hand]]<Stock[[#This Row],[Re-Order Point]],\"Yes\",\"No\"))","v":""}]
[null,{"$f":"IFERROR(IF(Stock[[#This Row],[Product Code]]=\"\",\"\",MATCH(C33,#REF!,0)),\"\")","v":""},{"$f":"_xlfn.SINGLE(IF(ROW()-ROW(Stock[[#Headers],[Product Code]])>ROWS(#REF!),\"\",INDEX(#REF!,ROW()-ROW(Stock[[#Headers],[Product Code]]))))","v":{"$error":"#NAME?"}},{"$f":"IFERROR(_xlfn.SINGLE(INDEX(#REF!,Stock[[#This Row],[Index]],0)),\"\")","v":""},1500,{"$f":"_xlfn.SINGLE(IF(Stock[[#This Row],[Index]]=\"\",\"\",INDEX(#REF!,Stock[[#This Row],[Index]])))","v":{"$error":"#NAME?"}},{"$f":"SUMPRODUCT((#REF!=\"รับ\")*(#REF!=Stock[[#This Row],[Products Name]])*#REF!)","v":{"$error":"#REF!"}},{"$f":"SUMPRODUCT((#REF!=\"เบิก\")*(#REF!=Stock[[#This Row],[Products Name]])*#REF!)","v":{"$error":"#REF!"}},100,{"$f":"Stock[[#This Row],[Opening Stock]]+Stock[[#This Row],[Received]]-Stock[[#This Row],[Deliver]]","v":{"$error":"#REF!"}},{"$f":"IFERROR(_xlfn.SINGLE(INDEX(#REF!,Stock[[#This Row],[Index]]))*(1-_xlfn.SINGLE(INDEX(#REF!,Stock[[#This Row],[Index]]))),\"\")","v":""},{"$f":"IFERROR(Stock[[#This Row],[Stocks On Hand]]*Stock[[#This Row],[Price]],\"\")","v":""},{"$f":"IF(Stock[[#This Row],[Index]]=\"\",\"\",IF(Stock[[#This Row],[Stocks On Hand]]<Stock[[#This Row],[Re-Order Point]],\"Yes\",\"No\"))","v":""}]
[null,{"$f":"IFERROR(IF(Stock[[#This Row],[Product Code]]=\"\",\"\",MATCH(C34,#REF!,0)),\"\")","v":""},{"$f":"_xlfn.SINGLE(IF(ROW()-ROW(Stock[[#Headers],[Product Code]])>ROWS(#REF!),\"\",INDEX(#REF!,ROW()-ROW(Stock[[#Headers],[Product Code]]))))","v":{"$error":"#NAME?"}},{"$f":"IFERROR(_xlfn.SINGLE(INDEX(#REF!,Stock[[#This Row],[Index]],0)),\"\")","v":""},1500,{"$f":"_xlfn.SINGLE(IF(Stock[[#This Row],[Index]]=\"\",\"\",INDEX(#REF!,Stock[[#This Row],[Index]])))","v":{"$error":"#NAME?"}},{"$f":"SUMPRODUCT((#REF!=\"รับ\")*(#REF!=Stock[[#This Row],[Products Name]])*#REF!)","v":{"$error":"#REF!"}},{"$f":"SUMPRODUCT((#REF!=\"เบิก\")*(#REF!=Stock[[#This Row],[Products Name]])*#REF!)","v":{"$error":"#REF!"}},100,{"$f":"Stock[[#This Row],[Opening Stock]]+Stock[[#This Row],[Received]]-Stock[[#This Row],[Deliver]]","v":{"$error":"#REF!"}},{"$f":"IFERROR(_xlfn.SINGLE(INDEX(#REF!,Stock[[#This Row],[Index]]))*(1-_xlfn.SINGLE(INDEX(#REF!,Stock[[#This Row],[Index]]))),\"\")","v":""},{"$f":"IFERROR(Stock[[#This Row],[Stocks On Hand]]*Stock[[#This Row],[Price]],\"\")","v":""},{"$f":"IF(Stock[[#This Row],[Index]]=\"\",\"\",IF(Stock[[#This Row],[Stocks On Hand]]<Stock[[#This Row],[Re-Order Point]],\"Yes\",\"No\"))","v":""}]
[null,{"$f":"IFERROR(IF(Stock[[#This Row],[Product Code]]=\"\",\"\",MATCH(C35,#REF!,0)),\"\")","v":""},{"$f":"_xlfn.SINGLE(IF(ROW()-ROW(Stock[[#Headers],[Product Code]])>ROWS(#REF!),\"\",INDEX(#REF!,ROW()-ROW(Stock[[#Headers],[Product Code]]))))","v":{"$error":"#NAME?"}},{"$f":"IFERROR(_xlfn.SINGLE(INDEX(#REF!,Stock[[#This Row],[Index]],0)),\"\")","v":""},1500,{"$f":"_xlfn.SINGLE(IF(Stock[[#This Row],[Index]]=\"\",\"\",INDEX(#REF!,Stock[[#This Row],[Index]])))","v":{"$error":"#NAME?"}},{"$f":"SUMPRODUCT((#REF!=\"รับ\")*(#REF!=Stock[[#This Row],[Products Name]])*#REF!)","v":{"$error":"#REF!"}},{"$f":"SUMPRODUCT((#REF!=\"เบิก\")*(#REF!=Stock[[#This Row],[Products Name]])*#REF!)","v":{"$error":"#REF!"}},100,{"$f":"Stock[[#This Row],[Opening Stock]]+Stock[[#This Row],[Received]]-Stock[[#This Row],[Deliver]]","v":{"$error":"#REF!"}},{"$f":"IFERROR(_xlfn.SINGLE(INDEX(#REF!,Stock[[#This Row],[Index]]))*(1-_xlfn.SINGLE(INDEX(#REF!,Stock[[#This Row],[Index]]))),\"\")","v":""},{"$f":"IFERROR(Stock[[#This Row],[Stocks On Hand]]*Stock[[#This Row],[Price]],\"\")","v":""},{"$f":"IF(Stock[[#This Row],[Index]]=\"\",\"\",IF(Stock[[#This Row],[Stocks On Hand]]<Stock[[#This Row],[Re-Order Point]],\"Yes\",\"No\"))","v":""}]
[null,{"$f":"IFERROR(IF(Stock[[#This Row],[Product Code]]=\"\",\"\",MATCH(C36,#REF!,0)),\"\")","v":""},{"$f":"_xlfn.SINGLE(IF(ROW()-ROW(Stock[[#Headers],[Product Code]])>ROWS(#REF!),\"\",INDEX(#REF!,ROW()-ROW(Stock[[#Headers],[Product Code]]))))","v":{"$error":"#NAME?"}},{"$f":"IFERROR(_xlfn.SINGLE(INDEX(#REF!,Stock[[#This Row],[Index]],0)),\"\")","v":""},1500,{"$f":"_xlfn.SINGLE(IF(Stock[[#This Row],[Index]]=\"\",\"\",INDEX(#REF!,Stock[[#This Row],[Index]])))","v":{"$error":"#NAME?"}},{"$f":"SUMPRODUCT((#REF!=\"รับ\")*(#REF!=Stock[[#This Row],[Products Name]])*#REF!)","v":{"$error":"#REF!"}},{"$f":"SUMPRODUCT((#REF!=\"เบิก\")*(#REF!=Stock[[#This Row],[Products Name]])*#REF!)","v":{"$error":"#REF!"}},100,{"$f":"Stock[[#This Row],[Opening Stock]]+Stock[[#This Row],[Received]]-Stock[[#This Row],[Deliver]]","v":{"$error":"#REF!"}},{"$f":"IFERROR(_xlfn.SINGLE(INDEX(#REF!,Stock[[#This Row],[Index]]))*(1-_xlfn.SINGLE(INDEX(#REF!,Stock[[#This Row],[Index]]))),\"\")","v":""},{"$f":"IFERROR(Stock[[#This Row],[Stocks On Hand]]*Stock[[#This Row],[Price]],\"\")","v":""},{"$f":"IF(Stock[[#This Row],[Index]]=\"\",\"\",IF(Stock[[#This Row],[Stocks On Hand]]<Stock[[#This Row],[Re-Order Point]],\"Yes\",\"No\"))","v":""}]
[null,{"$f":"IFERROR(IF(Stock[[#This Row],[Product Code]]=\"\",\"\",MATCH(C37,#REF!,0)),\"\")","v":""},{"$f":"_xlfn.SINGLE(IF(ROW()-ROW(Stock[[#Headers],[Product Code]])>ROWS(#REF!),\"\",INDEX(#REF!,ROW()-ROW(Stock[[#Headers],[Product Code]]))))","v":{"$error":"#NAME?"}},{"$f":"IFERROR(_xlfn.SINGLE(INDEX(#REF!,Stock[[#This Row],[Index]],0)),\"\")","v":""},1500,{"$f":"_xlfn.SINGLE(IF(Stock[[#This Row],[Index]]=\"\",\"\",INDEX(#REF!,Stock[[#This Row],[Index]])))","v":{"$error":"#NAME?"}},{"$f":"SUMPRODUCT((#REF!=\"รับ\")*(#REF!=Stock[[#This Row],[Products Name]])*#REF!)","v":{"$error":"#REF!"}},{"$f":"SUMPRODUCT((#REF!=\"เบิก\")*(#REF!=Stock[[#This Row],[Products Name]])*#REF!)","v":{"$error":"#REF!"}},100,{"$f":"Stock[[#This Row],[Opening Stock]]+Stock[[#This Row],[Received]]-Stock[[#This Row],[Deliver]]","v":{"$error":"#REF!"}},{"$f":"IFERROR(_xlfn.SINGLE(INDEX(#REF!,Stock[[#This Row],[Index]]))*(1-_xlfn.SINGLE(INDEX(#REF!,Stock[[#This Row],[Index]]))),\"\")","v":""},{"$f":"IFERROR(Stock[[#This Row],[Stocks On Hand]]*Stock[[#This Row],[Price]],\"\")","v":""},{"$f":"IF(Stock[[#This Row],[Index]]=\"\",\"\",IF(Stock[[#This Row],[Stocks On Hand]]<Stock[[#This Row],[Re-Order Point]],\"Yes\",\"No\"))","v":""}]
[null,{"$f":"IFERROR(IF(Stock[[#This Row],[Product Code]]=\"\",\"\",MATCH(C38,#REF!,0)),\"\")","v":""},{"$f":"_xlfn.SINGLE(IF(ROW()-ROW(Stock[[#Headers],[Product Code]])>ROWS(#REF!),\"\",INDEX(#REF!,ROW()-ROW(Stock[[#Headers],[Product Code]]))))","v":{"$error":"#NAME?"}},{"$f":"IFERROR(_xlfn.SINGLE(INDEX(#REF!,Stock[[#This Row],[Index]],0)),\"\")","v":""},1500,{"$f":"_xlfn.SINGLE(IF(Stock[[#This Row],[Index]]=\"\",\"\",INDEX(#REF!,Stock[[#This Row],[Index]])))","v":{"$error":"#NAME?"}},{"$f":"SUMPRODUCT((#REF!=\"รับ\")*(#REF!=Stock[[#This Row],[Products Name]])*#REF!)","v":{"$error":"#REF!"}},{"$f":"SUMPRODUCT((#REF!=\"เบิก\")*(#REF!=Stock[[#This Row],[Products Name]])*#REF!)","v":{"$error":"#REF!"}},100,{"$f":"Stock[[#This Row],[Opening Stock]]+Stock[[#This Row],[Received]]-Stock[[#This Row],[Deliver]]","v":{"$error":"#REF!"}},{"$f":"IFERROR(_xlfn.SINGLE(INDEX(#REF!,Stock[[#This Row],[Index]]))*(1-_xlfn.SINGLE(INDEX(#REF!,Stock[[#This Row],[Index]]))),\"\")","v":""},{"$f":"IFERROR(Stock[[#This Row],[Stocks On Hand]]*Stock[[#This Row],[Price]],\"\")","v":""},{"$f":"IF(Stock[[#This Row],[Index]]=\"\",\"\",IF(Stock[[#This Row],[Stocks On Hand]]<Stock[[#This Row],[Re-Order Point]],\"Yes\",\"No\"))","v":""}]
[null,{"$f":"IFERROR(IF(Stock[[#This Row],[Product Code]]=\"\",\"\",MATCH(C39,#REF!,0)),\"\")","v":""},{"$f":"_xlfn.SINGLE(IF(ROW()-ROW(Stock[[#Headers],[Product Code]])>ROWS(#REF!),\"\",INDEX(#REF!,ROW()-ROW(Stock[[#Headers],[Product Code]]))))","v":{"$error":"#NAME?"}},{"$f":"IFERROR(_xlfn.SINGLE(INDEX(#REF!,Stock[[#This Row],[Index]],0)),\"\")","v":""},1500,{"$f":"_xlfn.SINGLE(IF(Stock[[#This Row],[Index]]=\"\",\"\",INDEX(#REF!,Stock[[#This Row],[Index]])))","v":{"$error":"#NAME?"}},{"$f":"SUMPRODUCT((#REF!=\"รับ\")*(#REF!=Stock[[#This Row],[Products Name]])*#REF!)","v":{"$error":"#REF!"}},{"$f":"SUMPRODUCT((#REF!=\"เบิก\")*(#REF!=Stock[[#This Row],[Products Name]])*#REF!)","v":{"$error":"#REF!"}},100,{"$f":"Stock[[#This Row],[Opening Stock]]+Stock[[#This Row],[Received]]-Stock[[#This Row],[Deliver]]","v":{"$error":"#REF!"}},{"$f":"IFERROR(_xlfn.SINGLE(INDEX(#REF!,Stock[[#This Row],[Index]]))*(1-_xlfn.SINGLE(INDEX(#REF!,Stock[[#This Row],[Index]]))),\"\")","v":""},{"$f":"IFERROR(Stock[[#This Row],[Stocks On Hand]]*Stock[[#This Row],[Price]],\"\")","v":""},{"$f":"IF(Stock[[#This Row],[Index]]=\"\",\"\",IF(Stock[[#This Row],[Stocks On Hand]]<Stock[[#This Row],[Re-Order Point]],\"Yes\",\"No\"))","v":""}]
[null,{"$f":"IFERROR(IF(Stock[[#This Row],[Product Code]]=\"\",\"\",MATCH(C40,#REF!,0)),\"\")","v":""},{"$f":"_xlfn.SINGLE(IF(ROW()-ROW(Stock[[#Headers],[Product Code]])>ROWS(#REF!),\"\",INDEX(#REF!,ROW()-ROW(Stock[[#Headers],[Product Code]]))))","v":{"$error":"#NAME?"}},{"$f":"IFERROR(_xlfn.SINGLE(INDEX(#REF!,Stock[[#This Row],[Index]],0)),\"\")","v":""},1500,{"$f":"_xlfn.SINGLE(IF(Stock[[#This Row],[Index]]=\"\",\"\",INDEX(#REF!,Stock[[#This Row],[Index]])))","v":{"$error":"#NAME?"}},{"$f":"SUMPRODUCT((#REF!=\"รับ\")*(#REF!=Stock[[#This Row],[Products Name]])*#REF!)","v":{"$error":"#REF!"}},{"$f":"SUMPRODUCT((#REF!=\"เบิก\")*(#REF!=Stock[[#This Row],[Products Name]])*#REF!)","v":{"$error":"#REF!"}},100,{"$f":"Stock[[#This Row],[Opening Stock]]+Stock[[#This Row],[Received]]-Stock[[#This Row],[Deliver]]","v":{"$error":"#REF!"}},{"$f":"IFERROR(_xlfn.SINGLE(INDEX(#REF!,Stock[[#This Row],[Index]]))*(1-_xlfn.SINGLE(INDEX(#REF!,Stock[[#This Row],[Index]]))),\"\")","v":""},{"$f":"IFERROR(Stock[[#This Row],[Stocks On Hand]]*Stock[[#This Row],[Price]],\"\")","v":""},{"$f":"IF(Stock[[#This Row],[Index]]=\"\",\"\",IF(Stock[[#This Row],[Stocks On Hand]]<Stock[[#This Row],[Re-Order Point]],\"Yes\",\"No\"))","v":""}]
[null,{"$f":"IFERROR(IF(Stock[[#This Row],[Product Code]]=\"\",\"\",MATCH(C41,#REF!,0)),\"\")","v":""},{"$f":"_xlfn.SINGLE(IF(ROW()-ROW(Stock[[#Headers],[Product Code]])>ROWS(#REF!),\"\",INDEX(#REF!,ROW()-ROW(Stock[[#Headers],[Product Code]]))))","v":{"$error":"#NAME?"}},{"$f":"IFERROR(_xlfn.SINGLE(INDEX(#REF!,Stock[[#This Row],[Index]],0)),\"\")","v":""},1500,{"$f":"_xlfn.SINGLE(IF(Stock[[#This Row],[Index]]=\"\",\"\",INDEX(#REF!,Stock[[#This Row],[Index]])))","v":{"$error":"#NAME?"}},{"$f":"SUMPRODUCT((#REF!=\"รับ\")*(#REF!=Stock[[#This Row],[Products Name]])*#REF!)","v":{"$error":"#REF!"}},{"$f":"SUMPRODUCT((#REF!=\"เบิก\")*(#REF!=Stock[[#This Row],[Products Name]])*#REF!)","v":{"$error":"#REF!"}},100,{"$f":"Stock[[#This Row],[Opening Stock]]+Stock[[#This Row],[Received]]-Stock[[#This Row],[Deliver]]","v":{"$error":"#REF!"}},{"$f":"IFERROR(_xlfn.SINGLE(INDEX(#REF!,Stock[[#This Row],[Index]]))*(1-_xlfn.SINGLE(INDEX(#REF!,Stock[[#This Row],[Index]]))),\"\")","v":""},{"$f":"IFERROR(Stock[[#This Row],[Stocks On Hand]]*Stock[[#This Row],[Price]],\"\")","v":""},{"$f":"IF(Stock[[#This Row],[Index]]=\"\",\"\",IF(Stock[[#This Row],[Stocks On Hand]]<Stock[[#This Row],[Re-Order Point]],\"Yes\",\"No\"))","v":""}]
[null,{"$f":"IFERROR(IF(Stock[[#This Row],[Product Code]]=\"\",\"\",MATCH(C42,#REF!,0)),\"\")","v":""},{"$f":"_xlfn.SINGLE(IF(ROW()-ROW(Stock[[#Headers],[Product Code]])>ROWS(#REF!),\"\",INDEX(#REF!,ROW()-ROW(Stock[[#Headers],[Product Code]]))))","v":{"$error":"#NAME?"}},{"$f":"IFERROR(_xlfn.SINGLE(INDEX(#REF!,Stock[[#This Row],[Index]],0)),\"\")","v":""},1500,{"$f":"_xlfn.SINGLE(IF(Stock[[#This Row],[Index]]=\"\",\"\",INDEX(#REF!,Stock[[#This Row],[Index]])))","v":{"$error":"#NAME?"}},{"$f":"SUMPRODUCT((#REF!=\"รับ\")*(#REF!=Stock[[#This Row],[Products Name]])*#REF!)","v":{"$error":"#REF!"}},{"$f":"SUMPRODUCT((#REF!=\"เบิก\")*(#REF!=Stock[[#This Row],[Products Name]])*#REF!)","v":{"$error":"#REF!"}},100,{"$f":"Stock[[#This Row],[Opening Stock]]+Stock[[#This Row],[Received]]-Stock[[#This Row],[Deliver]]","v":{"$error":"#REF!"}},{"$f":"IFERROR(_xlfn.SINGLE(INDEX(#REF!,Stock[[#This Row],[Index]]))*(1-_xlfn.SINGLE(INDEX(#REF!,Stock[[#This Row],[Index]]))),\"\")","v":""},{"$f":"IFERROR(Stock[[#This Row],[Stocks On Hand]]*Stock[[#This Row],[Price]],\"\")","v":""},{"$f":"IF(Stock[[#This Row],[Index]]=\"\",\"\",IF(Stock[[#This Row],[Stocks On Hand]]<Stock[[#This Row],[Re-Order Point]],\"Yes\",\"No\"))","v":""}]
[null,{"$f":"IFERROR(IF(Stock[[#This Row],[Product Code]]=\"\",\"\",MATCH(C43,#REF!,0)),\"\")","v":""},{"$f":"_xlfn.SINGLE(IF(ROW()-ROW(Stock[[#Headers],[Product Code]])>ROWS(#REF!),\"\",INDEX(#REF!,ROW()-ROW(Stock[[#Headers],[Product Code]]))))","v":{"$error":"#NAME?"}},{"$f":"IFERROR(_xlfn.SINGLE(INDEX(#REF!,Stock[[#This Row],[Index]],0)),\"\")","v":""},1500,{"$f":"_xlfn.SINGLE(IF(Stock[[#This Row],[Index]]=\"\",\"\",INDEX(#REF!,Stock[[#This Row],[Index]])))","v":{"$error":"#NAME?"}},{"$f":"SUMPRODUCT((#REF!=\"รับ\")*(#REF!=Stock[[#This Row],[Products Name]])*#REF!)","v":{"$error":"#REF!"}},{"$f":"SUMPRODUCT((#REF!=\"เบิก\")*(#REF!=Stock[[#This Row],[Products Name]])*#REF!)","v":{"$error":"#REF!"}},100,{"$f":"Stock[[#This Row],[Opening Stock]]+Stock[[#This Row],[Received]]-Stock[[#This Row],[Deliver]]","v":{"$error":"#REF!"}},{"$f":"IFERROR(_xlfn.SINGLE(INDEX(#REF!,Stock[[#This Row],[Index]]))*(1-_xlfn.SINGLE(INDEX(#REF!,Stock[[#This Row],[Index]]))),\"\")","v":""},{"$f":"IFERROR(Stock[[#This Row],[Stocks On Hand]]*Stock[[#This Row],[Price]],\"\")","v":""},{"$f":"IF(Stock[[#This Row],[Index]]=\"\",\"\",IF(Stock[[#This Row],[Stocks On Hand]]<Stock[[#This Row],[Re-Order Point]],\"Yes\",\"No\"))","v":""}]
[null,{"$f":"IFERROR(IF(Stock[[#This Row],[Product Code]]=\"\",\"\",MATCH(C44,#REF!,0)),\"\")","v":""},{"$f":"_xlfn.SINGLE(IF(ROW()-ROW(Stock[[#Headers],[Product Code]])>ROWS(#REF!),\"\",INDEX(#REF!,ROW()-ROW(Stock[[#Headers],[Product Code]]))))","v":{"$error":"#NAME?"}},{"$f":"IFERROR(_xlfn.SINGLE(INDEX(#REF!,Stock[[#This Row],[Index]],0)),\"\")","v":""},1500,{"$f":"_xlfn.SINGLE(IF(Stock[[#This Row],[Index]]=\"\",\"\",INDEX(#REF!,Stock[[#This Row],[Index]])))","v":{"$error":"#NAME?"}},{"$f":"SUMPRODUCT((#REF!=\"รับ\")*(#REF!=Stock[[#This Row],[Products Name]])*#REF!)","v":{"$error":"#REF!"}},{"$f":"SUMPRODUCT((#REF!=\"เบิก\")*(#REF!=Stock[[#This Row],[Products Name]])*#REF!)","v":{"$error":"#REF!"}},100,{"$f":"Stock[[#This Row],[Opening Stock]]+Stock[[#This Row],[Received]]-Stock[[#This Row],[Deliver]]","v":{"$error":"#REF!"}},{"$f":"IFERROR(_xlfn.SINGLE(INDEX(#REF!,Stock[[#This Row],[Index]]))*(1-_xlfn.SINGLE(INDEX(#REF!,Stock[[#This Row],[Index]]))),\"\")","v":""},{"$f":"IFERROR(Stock[[#This Row],[Stocks On Hand]]*Stock[[#This Row],[Price]],\"\")","v":""},{"$f":"IF(Stock[[#This Row],[Index]]=\"\",\"\",IF(Stock[[#This Row],[Stocks On Hand]]<Stock[[#This Row],[Re-Order Point]],\"Yes\",\"No\"))","v":""}]
[null,{"$f":"IFERROR(IF(Stock[[#This Row],[Product Code]]=\"\",\"\",MATCH(C45,#REF!,0)),\"\")","v":""},{"$f":"_xlfn.SINGLE(IF(ROW()-ROW(Stock[[#Headers],[Product Code]])>ROWS(#REF!),\"\",INDEX(#REF!,ROW()-ROW(Stock[[#Headers],[Product Code]]))))","v":{"$error":"#NAME?"}},{"$f":"IFERROR(_xlfn.SINGLE(INDEX(#REF!,Stock[[#This Row],[Index]],0)),\"\")","v":""},1500,{"$f":"_xlfn.SINGLE(IF(Stock[[#This Row],[Index]]=\"\",\"\",INDEX(#REF!,Stock[[#This Row],[Index]])))","v":{"$error":"#NAME?"}},{"$f":"SUMPRODUCT((#REF!=\"รับ\")*(#REF!=Stock[[#This Row],[Products Name]])*#REF!)","v":{"$error":"#REF!"}},{"$f":"SUMPRODUCT((#REF!=\"เบิก\")*(#REF!=Stock[[#This Row],[Products Name]])*#REF!)","v":{"$error":"#REF!"}},100,{"$f":"Stock[[#This Row],[Opening Stock]]+Stock[[#This Row],[Received]]-Stock[[#This Row],[Deliver]]","v":{"$error":"#REF!"}},{"$f":"IFERROR(_xlfn.SINGLE(INDEX(#REF!,Stock[[#This Row],[Index]]))*(1-_xlfn.SINGLE(INDEX(#REF!,Stock[[#This Row],[Index]]))),\"\")","v":""},{"$f":"IFERROR(Stock[[#This Row],[Stocks On Hand]]*Stock[[#This Row],[Price]],\"\")","v":""},{"$f":"IF(Stock[[#This Row],[Index]]=\"\",\"\",IF(Stock[[#This Row],[Stocks On Hand]]<Stock[[#This Row],[Re-Order Point]],\"Yes\",\"No\"))","v":""}]
[null,{"$f":"IFERROR(IF(Stock[[#This Row],[Product Code]]=\"\",\"\",MATCH(C46,#REF!,0)),\"\")","v":""},{"$f":"_xlfn.SINGLE(IF(ROW()-ROW(Stock[[#Headers],[Product Code]])>ROWS(#REF!),\"\",INDEX(#REF!,ROW()-ROW(Stock[[#Headers],[Product Code]]))))","v":{"$error":"#NAME?"}},{"$f":"IFERROR(_xlfn.SINGLE(INDEX(#REF!,Stock[[#This Row],[Index]],0)),\"\")","v":""},1500,{"$f":"_xlfn.SINGLE(IF(Stock[[#This Row],[Index]]=\"\",\"\",INDEX(#REF!,Stock[[#This Row],[Index]])))","v":{"$error":"#NAME?"}},{"$f":"SUMPRODUCT((#REF!=\"รับ\")*(#REF!=Stock[[#This Row],[Products Name]])*#REF!)","v":{"$error":"#REF!"}},{"$f":"SUMPRODUCT((#REF!=\"เบิก\")*(#REF!=Stock[[#This Row],[Products Name]])*#REF!)","v":{"$error":"#REF!"}},100,{"$f":"Stock[[#This Row],[Opening Stock]]+Stock[[#This Row],[Received]]-Stock[[#This Row],[Deliver]]","v":{"$error":"#REF!"}},{"$f":"IFERROR(_xlfn.SINGLE(INDEX(#REF!,Stock[[#This Row],[Index]]))*(1-_xlfn.SINGLE(INDEX(#REF!,Stock[[#This Row],[Index]]))),\"\")","v":""},{"$f":"IFERROR(Stock[[#This Row],[Stocks On Hand]]*Stock[[#This Row],[Price]],\"\")","v":""},{"$f":"IF(Stock[[#This Row],[Index]]=\"\",\"\",IF(Stock[[#This Row],[Stocks On Hand]]<Stock[[#This Row],[Re-Order Point]],\"Yes\",\"No\"))","v":""}]
[null,{"$f":"IFERROR(IF(Stock[[#This Row],[Product Code]]=\"\",\"\",MATCH(C47,#REF!,0)),\"\")","v":""},{"$f":"_xlfn.SINGLE(IF(ROW()-ROW(Stock[[#Headers],[Product Code]])>ROWS(#REF!),\"\",INDEX(#REF!,ROW()-ROW(Stock[[#Headers],[Product Code]]))))","v":{"$error":"#NAME?"}},{"$f":"IFERROR(_xlfn.SINGLE(INDEX(#REF!,Stock[[#This Row],[Index]],0)),\"\")","v":""},1500,{"$f":"_xlfn.SINGLE(IF(Stock[[#This Row],[Index]]=\"\",\"\",INDEX(#REF!,Stock[[#This Row],[Index]])))","v":{"$error":"#NAME?"}},{"$f":"SUMPRODUCT((#REF!=\"รับ\")*(#REF!=Stock[[#This Row],[Products Name]])*#REF!)","v":{"$error":"#REF!"}},{"$f":"SUMPRODUCT((#REF!=\"เบิก\")*(#REF!=Stock[[#This Row],[Products Name]])*#REF!)","v":{"$error":"#REF!"}},100,{"$f":"Stock[[#This Row],[Opening Stock]]+Stock[[#This Row],[Received]]-Stock[[#This Row],[Deliver]]","v":{"$error":"#REF!"}},{"$f":"IFERROR(_xlfn.SINGLE(INDEX(#REF!,Stock[[#This Row],[Index]]))*(1-_xlfn.SINGLE(INDEX(#REF!,Stock[[#This Row],[Index]]))),\"\")","v":""},{"$f":"IFERROR(Stock[[#This Row],[Stocks On Hand]]*Stock[[#This Row],[Price]],\"\")","v":""},{"$f":"IF(Stock[[#This Row],[Index]]=\"\",\"\",IF(Stock[[#This Row],[Stocks On Hand]]<Stock[[#This Row],[Re-Order Point]],\"Yes\",\"No\"))","v":""}]
[null,{"$f":"IFERROR(IF(Stock[[#This Row],[Product Code]]=\"\",\"\",MATCH(C48,#REF!,0)),\"\")","v":""},{"$f":"_xlfn.SINGLE(IF(ROW()-ROW(Stock[[#Headers],[Product Code]])>ROWS(#REF!),\"\",INDEX(#REF!,ROW()-ROW(Stock[[#Headers],[Product Code]]))))","v":{"$error":"#NAME?"}},{"$f":"IFERROR(_xlfn.SINGLE(INDEX(#REF!,Stock[[#This Row],[Index]],0)),\"\")","v":""},null,{"$f":"_xlfn.SINGLE(IF(Stock[[#This Row],[Index]]=\"\",\"\",INDEX(#REF!,Stock[[#This Row],[Index]])))","v":{"$error":"#NAME?"}},{"$f":"SUMPRODUCT((#REF!=\"รับ\")*(#REF!=Stock[[#This Row],[Products Name]])*#REF!)","v":{"$error":"#REF!"}},{"$f":"SUMPRODUCT((#REF!=\"เบิก\")*(#REF!=Stock[[#This Row],[Products Name]])*#REF!)","v":{"$error":"#REF!"}},null,{"$f":"Stock[[#This Row],[Opening Stock]]+Stock[[#This Row],[Received]]-Stock[[#This Row],[Deliver]]","v":{"$error":"#REF!"}},{"$f":"IFERROR(_xlfn.SINGLE(INDEX(#REF!,Stock[[#This Row],[Index]]))*(1-_xlfn.SINGLE(INDEX(#REF!,Stock[[#This Row],[Index]]))),\"\")","v":""},{"$f":"IFERROR(Stock[[#This Row],[Stocks On Hand]]*Stock[[#This Row],[Price]],\"\")","v":""},{"$f":"IF(Stock[[#This Row],[Index]]=\"\",\"\",IF(Stock[[#This Row],[Stocks On Hand]]<Stock[[#This Row],[Re-Order Point]],\"Yes\",\"No\"))","v":""}]
[null,{"$f":"IFERROR(IF(Stock[[#This Row],[Product Code]]=\"\",\"\",MATCH(C49,#REF!,0)),\"\")","v":""},{"$f":"_xlfn.SINGLE(IF(ROW()-ROW(Stock[[#Headers],[Product Code]])>ROWS(#REF!),\"\",INDEX(#REF!,ROW()-ROW(Stock[[#Headers],[Product Code]]))))","v":{"$error":"#NAME?"}},{"$f":"IFERROR(_xlfn.SINGLE(INDEX(#REF!,Stock[[#This Row],[Index]],0)),\"\")","v":""},null,{"$f":"_xlfn.SINGLE(IF(Stock[[#This Row],[Index]]=\"\",\"\",INDEX(#REF!,Stock[[#This Row],[Index]])))","v":{"$error":"#NAME?"}},{"$f":"SUMPRODUCT((#REF!=\"รับ\")*(#REF!=Stock[[#This Row],[Products Name]])*#REF!)","v":{"$error":"#REF!"}},{"$f":"SUMPRODUCT((#REF!=\"เบิก\")*(#REF!=Stock[[#This Row],[Products Name]])*#REF!)","v":{"$error":"#REF!"}},null,{"$f":"Stock[[#This Row],[Opening Stock]]+Stock[[#This Row],[Received]]-Stock[[#This Row],[Deliver]]","v":{"$error":"#REF!"}},{"$f":"IFERROR(_xlfn.SINGLE(INDEX(#REF!,Stock[[#This Row],[Index]]))*(1-_xlfn.SINGLE(INDEX(#REF!,Stock[[#This Row],[Index]]))),\"\")","v":""},{"$f":"IFERROR(Stock[[#This Row],[Stocks On Hand]]*Stock[[#This Row],[Price]],\"\")","v":""},{"$f":"IF(Stock[[#This Row],[Index]]=\"\",\"\",IF(Stock[[#This Row],[Stocks On Hand]]<Stock[[#This Row],[Re-Order Point]],\"Yes\",\"No\"))","v":""}]
[null,{"$f":"IFERROR(IF(Stock[[#This Row],[Product Code]]=\"\",\"\",MATCH(C50,#REF!,0)),\"\")","v":""},{"$f":"_xlfn.SINGLE(IF(ROW()-ROW(Stock[[#Headers],[Product Code]])>ROWS(#REF!),\"\",INDEX(#REF!,ROW()-ROW(Stock[[#Headers],[Product Code]]))))","v":{"$error":"#NAME?"}},{"$f":"IFERROR(_xlfn.SINGLE(INDEX(#REF!,Stock[[#This Row],[Index]],0)),\"\")","v":""},null,{"$f":"_xlfn.SINGLE(IF(Stock[[#This Row],[Index]]=\"\",\"\",INDEX(#REF!,Stock[[#This Row],[Index]])))","v":{"$error":"#NAME?"}},{"$f":"SUMPRODUCT((#REF!=\"รับ\")*(#REF!=Stock[[#This Row],[Products Name]])*#REF!)","v":{"$error":"#REF!"}},{"$f":"SUMPRODUCT((#REF!=\"เบิก\")*(#REF!=Stock[[#This Row],[Products Name]])*#REF!)","v":{"$error":"#REF!"}},null,{"$f":"Stock[[#This Row],[Opening Stock]]+Stock[[#This Row],[Received]]-Stock[[#This Row],[Deliver]]","v":{"$error":"#REF!"}},{"$f":"IFERROR(_xlfn.SINGLE(INDEX(#REF!,Stock[[#This Row],[Index]]))*(1-_xlfn.SINGLE(INDEX(#REF!,Stock[[#This Row],[Index]]))),\"\")","v":""},{"$f":"IFERROR(Stock[[#This Row],[Stocks On Hand]]*Stock[[#This Row],[Price]],\"\")","v":""},{"$f":"IF(Stock[[#This Row],[Index]]=\"\",\"\",IF(Stock[[#This Row],[Stocks On Hand]]<Stock[[#This Row],[Re-Order Point]],\"Yes\",\"No\"))","v":""}]
[null,{"$f":"IFERROR(IF(Stock[[#This Row],[Product Code]]=\"\",\"\",MATCH(C51,#REF!,0)),\"\")","v":""},{"$f":"_xlfn.SINGLE(IF(ROW()-ROW(Stock[[#Headers],[Product Code]])>ROWS(#REF!),\"\",INDEX(#REF!,ROW()-ROW(Stock[[#Headers],[Product Code]]))))","v":{"$error":"#NAME?"}},{"$f":"IFERROR(_xlfn.SINGLE(INDEX(#REF!,Stock[[#This Row],[Index]],0)),\"\")","v":""},null,{"$f":"_xlfn.SINGLE(IF(Stock[[#This Row],[Index]]=\"\",\"\",INDEX(#REF!,Stock[[#This Row],[Index]])))","v":{"$error":"#NAME?"}},{"$f":"SUMPRODUCT((#REF!=\"รับ\")*(#REF!=Stock[[#This Row],[Products Name]])*#REF!)","v":{"$error":"#REF!"}},{"$f":"SUMPRODUCT((#REF!=\"เบิก\")*(#REF!=Stock[[#This Row],[Products Name]])*#REF!)","v":{"$error":"#REF!"}},null,{"$f":"Stock[[#This Row],[Opening Stock]]+Stock[[#This Row],[Received]]-Stock[[#This Row],[Deliver]]","v":{"$error":"#REF!"}},{"$f":"IFERROR(_xlfn.SINGLE(INDEX(#REF!,Stock[[#This Row],[Index]]))*(1-_xlfn.SINGLE(INDEX(#REF!,Stock[[#This Row],[Index]]))),\"\")","v":""},{"$f":"IFERROR(Stock[[#This Row],[Stocks On Hand]]*Stock[[#This Row],[Price]],\"\")","v":""},{"$f":"IF(Stock[[#This Row],[Index]]=\"\",\"\",IF(Stock[[#This Row],[Stocks On Hand]]<Stock[[#This Row],[Re-Order Point]],\"Yes\",\"No\"))","v":""}]
[null,{"$f":"IFERROR(IF(Stock[[#This Row],[Product Code]]=\"\",\"\",MATCH(C52,#REF!,0)),\"\")","v":""},{"$f":"_xlfn.SINGLE(IF(ROW()-ROW(Stock[[#Headers],[Product Code]])>ROWS(#REF!),\"\",INDEX(#REF!,ROW()-ROW(Stock[[#Headers],[Product Code]]))))","v":{"$error":"#NAME?"}},{"$f":"IFERROR(_xlfn.SINGLE(INDEX(#REF!,Stock[[#This Row],[Index]],0)),\"\")","v":""},null,{"$f":"_xlfn.SINGLE(IF(Stock[[#This Row],[Index]]=\"\",\"\",INDEX(#REF!,Stock[[#This Row],[Index]])))","v":{"$error":"#NAME?"}},{"$f":"SUMPRODUCT((#REF!=\"รับ\")*(#REF!=Stock[[#This Row],[Products Name]])*#REF!)","v":{"$error":"#REF!"}},{"$f":"SUMPRODUCT((#REF!=\"เบิก\")*(#REF!=Stock[[#This Row],[Products Name]])*#REF!)","v":{"$error":"#REF!"}},null,{"$f":"Stock[[#This Row],[Opening Stock]]+Stock[[#This Row],[Received]]-Stock[[#This Row],[Deliver]]","v":{"$error":"#REF!"}},{"$f":"IFERROR(_xlfn.SINGLE(INDEX(#REF!,Stock[[#This Row],[Index]]))*(1-_xlfn.SINGLE(INDEX(#REF!,Stock[[#This Row],[Index]]))),\"\")","v":""},{"$f":"IFERROR(Stock[[#This Row],[Stocks On Hand]]*Stock[[#This Row],[Price]],\"\")","v":""},{"$f":"IF(Stock[[#This Row],[Index]]=\"\",\"\",IF(Stock[[#This Row],[Stocks On Hand]]<Stock[[#This Row],[Re-Order Point]],\"Yes\",\"No\"))","v":""}]
[null,{"$f":"IFERROR(IF(Stock[[#This Row],[Product Code]]=\"\",\"\",MATCH(C53,#REF!,0)),\"\")","v":""},{"$f":"_xlfn.SINGLE(IF(ROW()-ROW(Stock[[#Headers],[Product Code]])>ROWS(#REF!),\"\",INDEX(#REF!,ROW()-ROW(Stock[[#Headers],[Product Code]]))))","v":{"$error":"#NAME?"}},{"$f":"IFERROR(_xlfn.SINGLE(INDEX(#REF!,Stock[[#This Row],[Index]],0)),\"\")","v":""},null,{"$f":"_xlfn.SINGLE(IF(Stock[[#This Row],[Index]]=\"\",\"\",INDEX(#REF!,Stock[[#This Row],[Index]])))","v":{"$error":"#NAME?"}},{"$f":"SUMPRODUCT((#REF!=\"รับ\")*(#REF!=Stock[[#This Row],[Products Name]])*#REF!)","v":{"$error":"#REF!"}},{"$f":"SUMPRODUCT((#REF!=\"เบิก\")*(#REF!=Stock[[#This Row],[Products Name]])*#REF!)","v":{"$error":"#REF!"}},null,{"$f":"Stock[[#This Row],[Opening Stock]]+Stock[[#This Row],[Received]]-Stock[[#This Row],[Deliver]]","v":{"$error":"#REF!"}},{"$f":"IFERROR(_xlfn.SINGLE(INDEX(#REF!,Stock[[#This Row],[Index]]))*(1-_xlfn.SINGLE(INDEX(#REF!,Stock[[#This Row],[Index]]))),\"\")","v":""},{"$f":"IFERROR(Stock[[#This Row],[Stocks On Hand]]*Stock[[#This Row],[Price]],\"\")","v":""},{"$f":"IF(Stock[[#This Row],[Index]]=\"\",\"\",IF(Stock[[#This Row],[Stocks On Hand]]<Stock[[#This Row],[Re-Order Point]],\"Yes\",\"No\"))","v":""}]
[null,{"$f":"IFERROR(IF(Stock[[#This Row],[Product Code]]=\"\",\"\",MATCH(C54,#REF!,0)),\"\")","v":""},{"$f":"_xlfn.SINGLE(IF(ROW()-ROW(Stock[[#Headers],[Product Code]])>ROWS(#REF!),\"\",INDEX(#REF!,ROW()-ROW(Stock[[#Headers],[Product Code]]))))","v":{"$error":"#NAME?"}},{"$f":"IFERROR(_xlfn.SINGLE(INDEX(#REF!,Stock[[#This Row],[Index]],0)),\"\")","v":""},null,{"$f":"_xlfn.SINGLE(IF(Stock[[#This Row],[Index]]=\"\",\"\",INDEX(#REF!,Stock[[#This Row],[Index]])))","v":{"$error":"#NAME?"}},{"$f":"SUMPRODUCT((#REF!=\"รับ\")*(#REF!=Stock[[#This Row],[Products Name]])*#REF!)","v":{"$error":"#REF!"}},{"$f":"SUMPRODUCT((#REF!=\"เบิก\")*(#REF!=Stock[[#This Row],[Products Name]])*#REF!)","v":{"$error":"#REF!"}},null,{"$f":"Stock[[#This Row],[Opening Stock]]+Stock[[#This Row],[Received]]-Stock[[#This Row],[Deliver]]","v":{"$error":"#REF!"}},{"$f":"IFERROR(_xlfn.SINGLE(INDEX(#REF!,Stock[[#This Row],[Index]]))*(1-_xlfn.SINGLE(INDEX(#REF!,Stock[[#This Row],[Index]]))),\"\")","v":""},{"$f":"IFERROR(Stock[[#This Row],[Stocks On Hand]]*Stock[[#This Row],[Price]],\"\")","v":""},{"$f":"IF(Stock[[#This Row],[Index]]=\"\",\"\",IF(Stock[[#This Row],[Stocks On Hand]]<Stock[[#This Row],[Re-Order Point]],\"Yes\",\"No\"))","v":""}]
[null,{"$f":"IFERROR(IF(Stock[[#This Row],[Product Code]]=\"\",\"\",MATCH(C55,#REF!,0)),\"\")","v":""},{"$f":"_xlfn.SINGLE(IF(ROW()-ROW(Stock[[#Headers],[Product Code]])>ROWS(#REF!),\"\",INDEX(#REF!,ROW()-ROW(Stock[[#Headers],[Product Code]]))))","v":{"$error":"#NAME?"}},{"$f":"IFERROR(_xlfn.SINGLE(INDEX(#REF!,Stock[[#This Row],[Index]],0)),\"\")","v":""},null,{"$f":"_xlfn.SINGLE(IF(Stock[[#This Row],[Index]]=\"\",\"\",INDEX(#REF!,Stock[[#This Row],[Index]])))","v":{"$error":"#NAME?"}},{"$f":"SUMPRODUCT((#REF!=\"รับ\")*(#REF!=Stock[[#This Row],[Products Name]])*#REF!)","v":{"$error":"#REF!"}},{"$f":"SUMPRODUCT((#REF!=\"เบิก\")*(#REF!=Stock[[#This Row],[Products Name]])*#REF!)","v":{"$error":"#REF!"}},null,{"$f":"Stock[[#This Row],[Opening Stock]]+Stock[[#This Row],[Received]]-Stock[[#This Row],[Deliver]]","v":{"$error":"#REF!"}},{"$f":"IFERROR(_xlfn.SINGLE(INDEX(#REF!,Stock[[#This Row],[Index]]))*(1-_xlfn.SINGLE(INDEX(#REF!,Stock[[#This Row],[Index]]))),\"\")","v":""},{"$f":"IFERROR(Stock[[#This Row],[Stocks On Hand]]*Stock[[#This Row],[Price]],\"\")","v":""},{"$f":"IF(Stock[[#This Row],[Index]]=\"\",\"\",IF(Stock[[#This Row],[Stocks On Hand]]<Stock[[#This Row],[Re-Order Point]],\"Yes\",\"No\"))","v":""}]

{"sheet":"Delivery_List","index":4,"n_rows":52,"n_cols":45,"rows_kept":52,"cut":false,"hidden":true,"merged":[[50,39,50,40],[50,41,50,42],[4,8,5,9],[4,19,5,20],[4,30,5,31],[4,41,5,42],[47,39,47,40],[47,41,47,42],[48,35,48,36],[48,37,48,38],[49,35,49,36],[49,37,49,38],[49,41,49,42],[45,35,45,38],[46,35,46,38],[47,35,47,36],[47,37,47,38],[50,28,50,29],[50,30,50,31],[47,30,47,31],[48,24,48,25],[48,26,48,27],[49,24,49,25],[49,26,49,27],[2,35,2,40],[2,41,2,42],[4,35,4,36],[7,36,7,38],[7,40,7,42],[9,36,9,38],[10,36,10,38],[2,24,2,29],[2,30,2,31],[50,17,50,18],[50,19,50,20],[47,13,47,14],[47,15,47,16],[47,17,47,18],[47,19,47,20],[48,13,48,14],[48,15,48,16],[7,25,7,27],[9,25,9,27],[10,25,10,27],[45,13,45,16],[46,13,46,16],[2,19,2,20],[4,13,4,14],[49,30,49,31],[45,24,45,27],[46,24,46,27],[47,24,47,25],[47,26,47,27],[47,28,47,29],[4,24,4,25],[49,13,49,14],[49,15,49,16],[49,19,49,20],[7,29,7,31],[48,19,48,20],[7,3,7,5],[7,7,7,9],[49,2,49,3],[2,13,2,18],[7,14,7,16],[7,18,7,20],[9,14,9,16],[10,14,10,16],[47,6,47,7],[2,2,2,7],[2,8,2,9],[11,3,11,5],[4,2,4,3],[9,3,9,5],[10,3,10,5],[12,3,12,5],[13,3,13,5],[14,3,14,5],[15,3,15,5],[16,3,16,5],[17,3,17,5],[18,3,18,5],[19,3,19,5],[20,3,20,5],[50,6,50,7],[47,8,47,9],[50,8,50,9],[49,4,49,5],[46,2,46,5],[47,2,47,3],[48,2,48,3],[47,4,47,5],[48,4,48,5],[49,8,49,9],[48,8,48,9],[21,3,21,5],[22,3,22,5],[23,3,23,5],[24,3,24,5],[25,3,25,5],[26,3,26,5],[27,3,27,5],[28,3,28,5],[29,3,29,5],[48,41,48,42],[48,30,48,31],[45,2,45,5],[36,3,36,5],[41,3,41,5],[42,3,42,5],[43,3,43,5],[44,3,44,5],[30,3,30,5],[31,3,31,5],[32,3,32,5],[33,3,33,5],[34,3,34,5],[35,3,35,5],[37,3,37,5],[38,3,38,5],[39,3,39,5],[40,3,40,5]]}
[null,null,null,null,null,"SETTING","PRODUCTS","TRANSACTION","ORDER","REPORT"]
[null,null,null,null,null,null,null,null,null,null,null,null,null,null,null,null,null,null,null,null,null,null,null,null,null,null,null,null,null,null,null,null,null,null,null,null,null,null,null,null,null,null,null,null,{"$f":"\"\"","v":""}]
[null,null,"ใบเบิกสินค้าประจำสายวิ่งรายวัน\n(DAILY VAN ROUTE'S DELIVERY DETAILS)",null,null,null,null,null,"PC01",null,null,null,null,"ใบเบิกสินค้าประจำสายวิ่งรายวัน\n(DAILY VAN ROUTE'S DELIVERY DETAILS)",null,null,null,null,null,{"$f":"LEFT(Select_Route,FIND(\"0\",Select_Route))&RIGHT(Select_Route)+1","v":"PC02"},null,null,null,null,"ใบเบิกสินค้าประจำสายวิ่งรายวัน\n(DAILY VAN ROUTE'S DELIVERY DETAILS)",null,null,null,null,null,{"$f":"LEFT(Select_Route,FIND(\"0\",Select_Route))&RIGHT(Select_Route)+2","v":"PC03"},null,null,null,null,"ใบเบิกสินค้าประจำสายวิ่งรายวัน\n(DAILY VAN ROUTE'S DELIVERY DETAILS)",null,null,null,null,null,{"$f":"LEFT(Select_Route,FIND(\"0\",Select_Route))&RIGHT(Select_Route)+3","v":"PC04"},null,null,""]
[null,null,null,null,null,null,null,null,null,null,null,null,null,null,null,null,null,null,null,null,null,null,null,null,null,null,null,null,null,null,null,null,null,null,null,null,null,null,null,null,null,null,null,null,""]
[null,null,"วันที่ขอเบิก :",null,30,"ก.ค.",2018,null,{"$f":"TEXT(Delivery_List!Select_Date,\"[$-,107]dddd\")","v":"จันทร์"},null,null,null,null,"วันที่ขอเบิก :",null,{"$f":"$E$5","v":30},{"$f":"$F$5","v":"ก.ค."},{"$f":"$G$5","v":2018},null,{"$f":"$I$5","v":"จันทร์"},null,null,null,null,"วันที่ขอเบิก :",null,{"$f":"$E$5","v":30},{"$f":"$F$5","v":"ก.ค."},{"$f":"$G$5","v":2018},null,{"$f":"$I$5","v":"จันทร์"},null,null,null,null,"วันที่ขอเบิก :",null,{"$f":"$E$5","v":30},{"$f":"$F$5","v":"ก.ค."},{"$f":"$G$5","v":2018},null,{"$f":"$I$5","v":"จันทร์"},null,null,""]
[null,null,null,null,null,null,null,null,null,null,null,null,null,null,null,null,null,null,null,null,null,null,null,null,null,null,null,null,null,null,null,null,null,null,null,null,null,null,null,null,null,null,null,null,""]
[null,null,null,null,null,null,null,null,null,null,null,null,null,null,null,null,null,null,null,null,null,null,null,null,null,null,null,null,null,null,null,null,null,null,null,null,null,null,null,null,null,null,null,null,""]
[null,null,"พข.",null,null,null,"ผชข.",null,null,null,null,null,null,"พข.",null,null,null,"ผชข.",null,null,null,null,null,null,"พข.",null,null,null,"ผชข.",null,null,null,null,null,null,"พข.",null,null,null,"ผชข.",null,null,null,null,""]
[null,null,null,null,null,null,null,null,null,null,null,null,null,null,null,null,null,null,null,null,null,null,null,null,null,null,null,null,null,null,null,null,null,null,null,null,null,null,null,null,null,null,null,null,""]
[null,null,"ลำดับ","รายการ",null,null,"ยกมา","เบิก","เหลือ","เสีย",null,null,null,"ลำดับ","รายการ",null,null,"ยกมา","เบิก","เหลือ","เสีย",null,null,null,"ลำดับ","รายการ",null,null,"ยกมา","เบิก","เหลือ","เสีย",null,null,null,"ลำดับ","รายการ",null,null,"ยกมา","เบิก","เหลือ","เสีย",null,""]
[null,null,"No.","Products Name",null,null,"(ชิ้น)","(ชิ้น)","(ชิ้น)","(ชิ้น)",null,null,null,"No.","Products Name",null,null,"(ชิ้น)","(ชิ้น)","(ชิ้น)","(ชิ้น)",null,null,null,"No.","Products Name",null,null,"(ชิ้น)","(ชิ้น)","(ชิ้น)","(ชิ้น)",null,null,null,"No.","Products Name",null,null,"(ชิ้น)","(ชิ้น)","(ชิ้น)","(ชิ้น)",null,""]
[{"$f":"IFERROR(IF(COUNT($A$11:$A11)+1>COUNTIF(#REF!,I$3),\"\",_xlfn.AGGREGATE(15,6,(ROW(#REF!)-ROW(#REF!))/((#REF!=I$3)*(#REF!=Delivery_List!$D12)*(#REF!=Delivery_List!Select_Date)*(#REF!=\"เบิก\")),1)),\"\")","v":""},{"$f":"IF(D12=\"\",\"\",INDEX(#REF!,MATCH(Delivery_List!D12,#REF!,0)))","v":{"$error":"#REF!"}},{"$f":"IF(A12=\"\",\"\",COUNT(A$12:A12))","v":""},"01-ขนมปังไส้สังขยาเล็ก",null,null,{"$f":"IF(D12=\"\",\"\",SUMPRODUCT((#REF!=I$3)*(#REF!=D12)*(#REF!=\"ยกมา\")*(#REF!=Delivery_List!Select_Date)*#REF!))","v":{"$error":"#REF!"}},{"$f":"_xlfn.SINGLE(IF(A12=\"\",\"\",INDEX(#REF!,A12)))","v":{"$error":"#NAME?"}},null,null,{"$f":"IF(D12=\"\",\"\",INDEX(#REF!,MATCH(Delivery_List!D12,#REF!,0)))","v":{"$error":"#REF!"}},{"$f":"IFERROR(IF(COUNT($A$11:$A11)+1>COUNTIF(#REF!,T$3),\"\",_xlfn.AGGREGATE(15,6,(ROW(#REF!)-ROW(#REF!))/((#REF!=T$3)*(#REF!=Delivery_List!$D12)*(#REF!=Delivery_List!Select_Date)*(#REF!=\"เบิก\")),1)),\"\")","v":""},{"$f":"IF(O12=\"\",\"\",INDEX(#REF!,MATCH(Delivery_List!O12,#REF!,0)))","v":{"$error":"#REF!"}},{"$f":"IF(L12=\"\",\"\",COUNT(L$12:L12))","v":""},{"$f":"IF(D12=\"\",\"\",$D12)","v":"01-ขนมปังไส้สังขยาเล็ก"},null,null,{"$f":"IF(O12=\"\",\"\",SUMPRODUCT((#REF!=T$3)*(#REF!=O12)*(#REF!=\"ยกมา\")*(#REF!=Delivery_List!Select_Date)*#REF!))","v":{"$error":"#REF!"}},{"$f":"_xlfn.SINGLE(IF(L12=\"\",\"\",INDEX(#REF!,L12)))","v":{"$error":"#NAME?"}},null,null,{"$f":"IF(O12=\"\",\"\",INDEX(#REF!,MATCH(Delivery_List!O12,#REF!,0)))","v":{"$error":"#REF!"}},{"$f":"IFERROR(IF(COUNT($A$11:$A11)+1>COUNTIF(#REF!,AE$3),\"\",_xlfn.AGGREGATE(15,6,(ROW(#REF!)-ROW(#REF!))/((#REF!=AE$3)*(#REF!=Delivery_List!$D12)*(#REF!=Delivery_List!Select_Date)*(#REF!=\"เบิก\")),1)),\"\")","v":""},{"$f":"IF(Z12=\"\",\"\",INDEX(#REF!,MATCH(Delivery_List!Z12,#REF!,0)))","v":{"$error":"#REF!"}},{"$f":"IF(W12=\"\",\"\",COUNT(W$12:W12))","v":""},{"$f":"IF(O12=\"\",\"\",$D12)","v":"01-ขนมปังไส้สังขยาเล็ก"},null,null,{"$f":"IF(Z12=\"\",\"\",SUMPRODUCT((#REF!=AE$3)*(#REF!=Z12)*(#REF!=\"ยกมา\")*(#REF!=Delivery_List!Select_Date)*#REF!))","v":{"$error":"#REF!"}},{"$f":"_xlfn.SINGLE(IF(W12=\"\",\"\",INDEX(#REF!,W12)))","v":{"$error":"#NAME?"}},null,null,{"$f":"IF(Z12=\"\",\"\",INDEX(#REF!,MATCH(Delivery_List!Z12,#REF!,0)))","v":{"$error":"#REF!"}},{"$f":"IFERROR(IF(COUNT($A$11:$A11)+1>COUNTIF(#REF!,AP$3),\"\",_xlfn.AGGREGATE(15,6,(ROW(#REF!)-ROW(#REF!))/((#REF!=AP$3)*(#REF!=Delivery_List!$D12)*(#REF!=Delivery_List!Select_Date)*(#REF!=\"เบิก\")),1)),\"\")","v":""},{"$f":"IF(AK12=\"\",\"\",INDEX(#REF!,MATCH(Delivery_List!AK12,#REF!,0)))","v":{"$error":"#REF!"}},{"$f":"IF(AH12=\"\",\"\",COUNT(AH$12:AH12))","v":""},{"$f":"IF(Z12=\"\",\"\",$D12)","v":"01-ขนมปังไส้สังขยาเล็ก"},null,null,{"$f":"IF(AK12=\"\",\"\",SUMPRODUCT((#REF!=AP$3)*(#REF!=AK12)*(#REF!=\"ยกมา\")*(#REF!=Delivery_List!Select_Date)*#REF!))","v":{"$error":"#REF!"}},{"$f":"_xlfn.SINGLE(IF(AH12=\"\",\"\",INDEX(#REF!,AH12)))","v":{"$error":"#NAME?"}},null,null,{"$f":"IF(AK12=\"\",\"\",INDEX(#REF!,MATCH(Delivery_List!AK12,#REF!,0)))","v":{"$error":"#REF!"}},""]
[{"$f":"IFERROR(IF(COUNT($A$11:$A12)+1>COUNTIF(#REF!,I$3),\"\",_xlfn.AGGREGATE(15,6,(ROW(#REF!)-ROW(#REF!))/((#REF!=I$3)*(#REF!=Delivery_List!$D13)*(#REF!=Delivery_List!Select_Date)*(#REF!=\"เบิก\")),1)),\"\")","v":""},{"$f":"IF(D13=\"\",\"\",INDEX(#REF!,MATCH(Delivery_List!D13,#REF!,0)))","v":{"$error":"#REF!"}},{"$f":"IF(A13=\"\",\"\",COUNT(A$12:A13))","v":""},"02-ขนมปังไส้เผือก",null,null,{"$f":"IF(D13=\"\",\"\",SUMPRODUCT((#REF!=I$3)*(#REF!=D13)*(#REF!=\"ยกมา\")*(#REF!=Delivery_List!Select_Date)*#REF!))","v":{"$error":"#REF!"}},{"$f":"_xlfn.SINGLE(IF(A13=\"\",\"\",INDEX(#REF!,A13)))","v":{"$error":"#NAME?"}},null,null,{"$f":"IF(D13=\"\",\"\",INDEX(#REF!,MATCH(Delivery_List!D13,#REF!,0)))","v":{"$error":"#REF!"}},{"$f":"IFERROR(IF(COUNT($A$11:$A12)+1>COUNTIF(#REF!,T$3),\"\",_xlfn.AGGREGATE(15,6,(ROW(#REF!)-ROW(#REF!))/((#REF!=T$3)*(#REF!=Delivery_List!$D13)*(#REF!=Delivery_List!Select_Date)*(#REF!=\"เบิก\")),1)),\"\")","v":""},{"$f":"IF(O13=\"\",\"\",INDEX(#REF!,MATCH(Delivery_List!O13,#REF!,0)))","v":{"$error":"#REF!"}},{"$f":"IF(L13=\"\",\"\",COUNT(L$12:L13))","v":""},{"$f":"IF(D13=\"\",\"\",$D13)","v":"02-ขนมปังไส้เผือก"},null,null,{"$f":"IF(O13=\"\",\"\",SUMPRODUCT((#REF!=T$3)*(#REF!=O13)*(#REF!=\"ยกมา\")*(#REF!=Delivery_List!Select_Date)*#REF!))","v":{"$error":"#REF!"}},{"$f":"_xlfn.SINGLE(IF(L13=\"\",\"\",INDEX(#REF!,L13)))","v":{"$error":"#NAME?"}},null,null,{"$f":"IF(O13=\"\",\"\",INDEX(#REF!,MATCH(Delivery_List!O13,#REF!,0)))","v":{"$error":"#REF!"}},{"$f":"IFERROR(IF(COUNT($A$11:$A12)+1>COUNTIF(#REF!,AE$3),\"\",_xlfn.AGGREGATE(15,6,(ROW(#REF!)-ROW(#REF!))/((#REF!=AE$3)*(#REF!=Delivery_List!$D13)*(#REF!=Delivery_List!Select_Date)*(#REF!=\"เบิก\")),1)),\"\")","v":""},{"$f":"IF(Z13=\"\",\"\",INDEX(#REF!,MATCH(Delivery_List!Z13,#REF!,0)))","v":{"$error":"#REF!"}},{"$f":"IF(W13=\"\",\"\",COUNT(W$12:W13))","v":""},{"$f":"IF(O13=\"\",\"\",$D13)","v":"02-ขนมปังไส้เผือก"},null,null,{"$f":"IF(Z13=\"\",\"\",SUMPRODUCT((#REF!=AE$3)*(#REF!=Z13)*(#REF!=\"ยกมา\")*(#REF!=Delivery_List!Select_Date)*#REF!))","v":{"$error":"#REF!"}},{"$f":"_xlfn.SINGLE(IF(W13=\"\",\"\",INDEX(#REF!,W13)))","v":{"$error":"#NAME?"}},null,null,{"$f":"IF(Z13=\"\",\"\",INDEX(#REF!,MATCH(Delivery_List!Z13,#REF!,0)))","v":{"$error":"#REF!"}},{"$f":"IFERROR(IF(COUNT($A$11:$A12)+1>COUNTIF(#REF!,AP$3),\"\",_xlfn.AGGREGATE(15,6,(ROW(#REF!)-ROW(#REF!))/((#REF!=AP$3)*(#REF!=Delivery_List!$D13)*(#REF!=Delivery_List!Select_Date)*(#REF!=\"เบิก\")),1)),\"\")","v":""},{"$f":"IF(AK13=\"\",\"\",INDEX(#REF!,MATCH(Delivery_List!AK13,#REF!,0)))","v":{"$error":"#REF!"}},{"$f":"IF(AH13=\"\",\"\",COUNT(AH$12:AH13))","v":""},{"$f":"IF(Z13=\"\",\"\",$D13)","v":"02-ขนมปังไส้เผือก"},null,null,{"$f":"IF(AK13=\"\",\"\",SUMPRODUCT((#REF!=AP$3)*(#REF!=AK13)*(#REF!=\"ยกมา\")*(#REF!=Delivery_List!Select_Date)*#REF!))","v":{"$error":"#REF!"}},{"$f":"_xlfn.SINGLE(IF(AH13=\"\",\"\",INDEX(#REF!,AH13)))","v":{"$error":"#NAME?"}},null,null,{"$f":"IF(AK13=\"\",\"\",INDEX(#REF!,MATCH(Delivery_List!AK13,#REF!,0)))","v":{"$error":"#REF!"}},""]
[{"$f":"IFERROR(IF(COUNT($A$11:$A13)+1>COUNTIF(#REF!,I$3),\"\",_xlfn.AGGREGATE(15,6,(ROW(#REF!)-ROW(#REF!))/((#REF!=I$3)*(#REF!=Delivery_List!$D14)*(#REF!=Delivery_List!Select_Date)*(#REF!=\"เบิก\")),1)),\"\")","v":""},{"$f":"IF(D14=\"\",\"\",INDEX(#REF!,MATCH(Delivery_List!D14,#REF!,0)))","v":{"$error":"#REF!"}},{"$f":"IF(A14=\"\",\"\",COUNT(A$12:A14))","v":""},"03-ขนมปังไส้ถั่วแดง",null,null,{"$f":"IF(D14=\"\",\"\",SUMPRODUCT((#REF!=I$3)*(#REF!=D14)*(#REF!=\"ยกมา\")*(#REF!=Delivery_List!Select_Date)*#REF!))","v":{"$error":"#REF!"}},{"$f":"_xlfn.SINGLE(IF(A14=\"\",\"\",INDEX(#REF!,A14)))","v":{"$error":"#NAME?"}},null,null,{"$f":"IF(D14=\"\",\"\",INDEX(#REF!,MATCH(Delivery_List!D14,#REF!,0)))","v":{"$error":"#REF!"}},{"$f":"IFERROR(IF(COUNT($A$11:$A13)+1>COUNTIF(#REF!,T$3),\"\",_xlfn.AGGREGATE(15,6,(ROW(#REF!)-ROW(#REF!))/((#REF!=T$3)*(#REF!=Delivery_List!$D14)*(#REF!=Delivery_List!Select_Date)*(#REF!=\"เบิก\")),1)),\"\")","v":""},{"$f":"IF(O14=\"\",\"\",INDEX(#REF!,MATCH(Delivery_List!O14,#REF!,0)))","v":{"$error":"#REF!"}},{"$f":"IF(L14=\"\",\"\",COUNT(L$12:L14))","v":""},"03-ขนมปังไส้ถั่วแดง",null,null,{"$f":"IF(O14=\"\",\"\",SUMPRODUCT((#REF!=T$3)*(#REF!=O14)*(#REF!=\"ยกมา\")*(#REF!=Delivery_List!Select_Date)*#REF!))","v":{"$error":"#REF!"}},{"$f":"_xlfn.SINGLE(IF(L14=\"\",\"\",INDEX(#REF!,L14)))","v":{"$error":"#NAME?"}},null,null,{"$f":"IF(O14=\"\",\"\",INDEX(#REF!,MATCH(Delivery_List!O14,#REF!,0)))","v":{"$error":"#REF!"}},{"$f":"IFERROR(IF(COUNT($A$11:$A13)+1>COUNTIF(#REF!,AE$3),\"\",_xlfn.AGGREGATE(15,6,(ROW(#REF!)-ROW(#REF!))/((#REF!=AE$3)*(#REF!=Delivery_List!$D14)*(#REF!=Delivery_List!Select_Date)*(#REF!=\"เบิก\")),1)),\"\")","v":""},{"$f":"IF(Z14=\"\",\"\",INDEX(#REF!,MATCH(Delivery_List!Z14,#REF!,0)))","v":{"$error":"#REF!"}},{"$f":"IF(W14=\"\",\"\",COUNT(W$12:W14))","v":""},"03-ขนมปังไส้ถั่วแดง",null,null,{"$f":"IF(Z14=\"\",\"\",SUMPRODUCT((#REF!=AE$3)*(#REF!=Z14)*(#REF!=\"ยกมา\")*(#REF!=Delivery_List!Select_Date)*#REF!))","v":{"$error":"#REF!"}},{"$f":"_xlfn.SINGLE(IF(W14=\"\",\"\",INDEX(#REF!,W14)))","v":{"$error":"#NAME?"}},null,null,{"$f":"IF(Z14=\"\",\"\",INDEX(#REF!,MATCH(Delivery_List!Z14,#REF!,0)))","v":{"$error":"#REF!"}},{"$f":"IFERROR(IF(COUNT($A$11:$A13)+1>COUNTIF(#REF!,AP$3),\"\",_xlfn.AGGREGATE(15,6,(ROW(#REF!)-ROW(#REF!))/((#REF!=AP$3)*(#REF!=Delivery_List!$D14)*(#REF!=Delivery_List!Select_Date)*(#REF!=\"เบิก\")),1)),\"\")","v":""},{"$f":"IF(AK14=\"\",\"\",INDEX(#REF!,MATCH(Delivery_List!AK14,#REF!,0)))","v":{"$error":"#REF!"}},{"$f":"IF(AH14=\"\",\"\",COUNT(AH$12:AH14))","v":""},"03-ขนมปังไส้ถั่วแดง",null,null,{"$f":"IF(AK14=\"\",\"\",SUMPRODUCT((#REF!=AP$3)*(#REF!=AK14)*(#REF!=\"ยกมา\")*(#REF!=Delivery_List!Select_Date)*#REF!))","v":{"$error":"#REF!"}},{"$f":"_xlfn.SINGLE(IF(AH14=\"\",\"\",INDEX(#REF!,AH14)))","v":{"$error":"#NAME?"}},null,null,{"$f":"IF(AK14=\"\",\"\",INDEX(#REF!,MATCH(Delivery_List!AK14,#REF!,0)))","v":{"$error":"#REF!"}},""]
[{"$f":"IFERROR(IF(COUNT($A$11:$A14)+1>COUNTIF(#REF!,I$3),\"\",_xlfn.AGGREGATE(15,6,(ROW(#REF!)-ROW(#REF!))/((#REF!=I$3)*(#REF!=Delivery_List!$D15)*(#REF!=Delivery_List!Select_Date)*(#REF!=\"เบิก\")),1)),\"\")","v":""},{"$f":"IF(D15=\"\",\"\",INDEX(#REF!,MATCH(Delivery_List!D15,#REF!,0)))","v":{"$error":"#REF!"}},{"$f":"IF(A15=\"\",\"\",COUNT(A$12:A15))","v":""},"04-โมจิไส้ถั่ว",null,null,{"$f":"IF(D15=\"\",\"\",SUMPRODUCT((#REF!=I$3)*(#REF!=D15)*(#REF!=\"ยกมา\")*(#REF!=Delivery_List!Select_Date)*#REF!))","v":{"$error":"#REF!"}},{"$f":"_xlfn.SINGLE(IF(A15=\"\",\"\",INDEX(#REF!,A15)))","v":{"$error":"#NAME?"}},null,null,{"$f":"IF(D15=\"\",\"\",INDEX(#REF!,MATCH(Delivery_List!D15,#REF!,0)))","v":{"$error":"#REF!"}},{"$f":"IFERROR(IF(COUNT($A$11:$A14)+1>COUNTIF(#REF!,T$3),\"\",_xlfn.AGGREGATE(15,6,(ROW(#REF!)-ROW(#REF!))/((#REF!=T$3)*(#REF!=Delivery_List!$D15)*(#REF!=Delivery_List!Select_Date)*(#REF!=\"เบิก\")),1)),\"\")","v":""},{"$f":"IF(O15=\"\",\"\",INDEX(#REF!,MATCH(Delivery_List!O15,#REF!,0)))","v":{"$error":"#REF!"}},{"$f":"IF(L15=\"\",\"\",COUNT(L$12:L15))","v":""},"04-โมจิไส้ถั่ว",null,null,{"$f":"IF(O15=\"\",\"\",SUMPRODUCT((#REF!=T$3)*(#REF!=O15)*(#REF!=\"ยกมา\")*(#REF!=Delivery_List!Select_Date)*#REF!))","v":{"$error":"#REF!"}},{"$f":"_xlfn.SINGLE(IF(L15=\"\",\"\",INDEX(#REF!,L15)))","v":{"$error":"#NAME?"}},null,null,{"$f":"IF(O15=\"\",\"\",INDEX(#REF!,MATCH(Delivery_List!O15,#REF!,0)))","v":{"$error":"#REF!"}},{"$f":"IFERROR(IF(COUNT($A$11:$A14)+1>COUNTIF(#REF!,AE$3),\"\",_xlfn.AGGREGATE(15,6,(ROW(#REF!)-ROW(#REF!))/((#REF!=AE$3)*(#REF!=Delivery_List!$D15)*(#REF!=Delivery_List!Select_Date)*(#REF!=\"เบิก\")),1)),\"\")","v":""},{"$f":"IF(Z15=\"\",\"\",INDEX(#REF!,MATCH(Delivery_List!Z15,#REF!,0)))","v":{"$error":"#REF!"}},{"$f":"IF(W15=\"\",\"\",COUNT(W$12:W15))","v":""},"04-โมจิไส้ถั่ว",null,null,{"$f":"IF(Z15=\"\",\"\",SUMPRODUCT((#REF!=AE$3)*(#REF!=Z15)*(#REF!=\"ยกมา\")*(#REF!=Delivery_List!Select_Date)*#REF!))","v":{"$error":"#REF!"}},{"$f":"_xlfn.SINGLE(IF(W15=\"\",\"\",INDEX(#REF!,W15)))","v":{"$error":"#NAME?"}},null,null,{"$f":"IF(Z15=\"\",\"\",INDEX(#REF!,MATCH(Delivery_List!Z15,#REF!,0)))","v":{"$error":"#REF!"}},{"$f":"IFERROR(IF(COUNT($A$11:$A14)+1>COUNTIF(#REF!,AP$3),\"\",_xlfn.AGGREGATE(15,6,(ROW(#REF!)-ROW(#REF!))/((#REF!=AP$3)*(#REF!=Delivery_List!$D15)*(#REF!=Delivery_List!Select_Date)*(#REF!=\"เบิก\")),1)),\"\")","v":""},{"$f":"IF(AK15=\"\",\"\",INDEX(#REF!,MATCH(Delivery_List!AK15,#REF!,0)))","v":{"$error":"#REF!"}},{"$f":"IF(AH15=\"\",\"\",COUNT(AH$12:AH15))","v":""},"04-โมจิไส้ถั่ว",null,null,{"$f":"IF(AK15=\"\",\"\",SUMPRODUCT((#REF!=AP$3)*(#REF!=AK15)*(#REF!=\"ยกมา\")*(#REF!=Delivery_List!Select_Date)*#REF!))","v":{"$error":"#REF!"}},{"$f":"_xlfn.SINGLE(IF(AH15=\"\",\"\",INDEX(#REF!,AH15)))","v":{"$error":"#NAME?"}},null,null,{"$f":"IF(AK15=\"\",\"\",INDEX(#REF!,MATCH(Delivery_List!AK15,#REF!,0)))","v":{"$error":"#REF!"}},""]
[{"$f":"IFERROR(IF(COUNT($A$11:$A15)+1>COUNTIF(#REF!,I$3),\"\",_xlfn.AGGREGATE(15,6,(ROW(#REF!)-ROW(#REF!))/((#REF!=I$3)*(#REF!=Delivery_List!$D16)*(#REF!=Delivery_List!Select_Date)*(#REF!=\"เบิก\")),1)),\"\")","v":""},{"$f":"IF(D16=\"\",\"\",INDEX(#REF!,MATCH(Delivery_List!D16,#REF!,0)))","v":{"$error":"#REF!"}},{"$f":"IF(A16=\"\",\"\",COUNT(A$12:A16))","v":""},"05-ขนมปังไส้สังขยาใหญ่",null,null,{"$f":"IF(D16=\"\",\"\",SUMPRODUCT((#REF!=I$3)*(#REF!=D16)*(#REF!=\"ยกมา\")*(#REF!=Delivery_List!Select_Date)*#REF!))","v":{"$error":"#REF!"}},{"$f":"_xlfn.SINGLE(IF(A16=\"\",\"\",INDEX(#REF!,A16)))","v":{"$error":"#NAME?"}},null,null,{"$f":"IF(D16=\"\",\"\",INDEX(#REF!,MATCH(Delivery_List!D16,#REF!,0)))","v":{"$error":"#REF!"}},{"$f":"IFERROR(IF(COUNT($A$11:$A15)+1>COUNTIF(#REF!,T$3),\"\",_xlfn.AGGREGATE(15,6,(ROW(#REF!)-ROW(#REF!))/((#REF!=T$3)*(#REF!=Delivery_List!$D16)*(#REF!=Delivery_List!Select_Date)*(#REF!=\"เบิก\")),1)),\"\")","v":""},{"$f":"IF(O16=\"\",\"\",INDEX(#REF!,MATCH(Delivery_List!O16,#REF!,0)))","v":{"$error":"#REF!"}},{"$f":"IF(L16=\"\",\"\",COUNT(L$12:L16))","v":""},"05-ขนมปังไส้สังขยาใหญ่",null,null,{"$f":"IF(O16=\"\",\"\",SUMPRODUCT((#REF!=T$3)*(#REF!=O16)*(#REF!=\"ยกมา\")*(#REF!=Delivery_List!Select_Date)*#REF!))","v":{"$error":"#REF!"}},{"$f":"_xlfn.SINGLE(IF(L16=\"\",\"\",INDEX(#REF!,L16)))","v":{"$error":"#NAME?"}},null,null,{"$f":"IF(O16=\"\",\"\",INDEX(#REF!,MATCH(Delivery_List!O16,#REF!,0)))","v":{"$error":"#REF!"}},{"$f":"IFERROR(IF(COUNT($A$11:$A15)+1>COUNTIF(#REF!,AE$3),\"\",_xlfn.AGGREGATE(15,6,(ROW(#REF!)-ROW(#REF!))/((#REF!=AE$3)*(#REF!=Delivery_List!$D16)*(#REF!=Delivery_List!Select_Date)*(#REF!=\"เบิก\")),1)),\"\")","v":""},{"$f":"IF(Z16=\"\",\"\",INDEX(#REF!,MATCH(Delivery_List!Z16,#REF!,0)))","v":{"$error":"#REF!"}},{"$f":"IF(W16=\"\",\"\",COUNT(W$12:W16))","v":""},"05-ขนมปังไส้สังขยาใหญ่",null,null,{"$f":"IF(Z16=\"\",\"\",SUMPRODUCT((#REF!=AE$3)*(#REF!=Z16)*(#REF!=\"ยกมา\")*(#REF!=Delivery_List!Select_Date)*#REF!))","v":{"$error":"#REF!"}},{"$f":"_xlfn.SINGLE(IF(W16=\"\",\"\",INDEX(#REF!,W16)))","v":{"$error":"#NAME?"}},null,null,{"$f":"IF(Z16=\"\",\"\",INDEX(#REF!,MATCH(Delivery_List!Z16,#REF!,0)))","v":{"$error":"#REF!"}},{"$f":"IFERROR(IF(COUNT($A$11:$A15)+1>COUNTIF(#REF!,AP$3),\"\",_xlfn.AGGREGATE(15,6,(ROW(#REF!)-ROW(#REF!))/((#REF!=AP$3)*(#REF!=Delivery_List!$D16)*(#REF!=Delivery_List!Select_Date)*(#REF!=\"เบิก\")),1)),\"\")","v":""},{"$f":"IF(AK16=\"\",\"\",INDEX(#REF!,MATCH(Delivery_List!AK16,#REF!,0)))","v":{"$error":"#REF!"}},{"$f":"IF(AH16=\"\",\"\",COUNT(AH$12:AH16))","v":""},"05-ขนมปังไส้สังขยาใหญ่",null,null,{"$f":"IF(AK16=\"\",\"\",SUMPRODUCT((#REF!=AP$3)*(#REF!=AK16)*(#REF!=\"ยกมา\")*(#REF!=Delivery_List!Select_Date)*#REF!))","v":{"$error":"#REF!"}},{"$f":"_xlfn.SINGLE(IF(AH16=\"\",\"\",INDEX(#REF!,AH16)))","v":{"$error":"#NAME?"}},null,null,{"$f":"IF(AK16=\"\",\"\",INDEX(#REF!,MATCH(Delivery_List!AK16,#REF!,0)))","v":{"$error":"#REF!"}},""]
[{"$f":"IFERROR(IF(COUNT($A$11:$A16)+1>COUNTIF(#REF!,I$3),\"\",_xlfn.AGGREGATE(15,6,(ROW(#REF!)-ROW(#REF!))/((#REF!=I$3)*(#REF!=Delivery_List!$D17)*(#REF!=Delivery_List!Select_Date)*(#REF!=\"เบิก\")),1)),\"\")","v":""},{"$f":"IF(D17=\"\",\"\",INDEX(#REF!,MATCH(Delivery_List!D17,#REF!,0)))","v":{"$error":"#REF!"}},{"$f":"IF(A17=\"\",\"\",COUNT(A$12:A17))","v":""},"06-ขนมปังไส้หมูหยองเล็ก",null,null,{"$f":"IF(D17=\"\",\"\",SUMPRODUCT((#REF!=I$3)*(#REF!=D17)*(#REF!=\"ยกมา\")*(#REF!=Delivery_List!Select_Date)*#REF!))","v":{"$error":"#REF!"}},{"$f":"_xlfn.SINGLE(IF(A17=\"\",\"\",INDEX(#REF!,A17)))","v":{"$error":"#NAME?"}},null,null,{"$f":"IF(D17=\"\",\"\",INDEX(#REF!,MATCH(Delivery_List!D17,#REF!,0)))","v":{"$error":"#REF!"}},{"$f":"IFERROR(IF(COUNT($A$11:$A16)+1>COUNTIF(#REF!,T$3),\"\",_xlfn.AGGREGATE(15,6,(ROW(#REF!)-ROW(#REF!))/((#REF!=T$3)*(#REF!=Delivery_List!$D17)*(#REF!=Delivery_List!Select_Date)*(#REF!=\"เบิก\")),1)),\"\")","v":""},{"$f":"IF(O17=\"\",\"\",INDEX(#REF!,MATCH(Delivery_List!O17,#REF!,0)))","v":{"$error":"#REF!"}},{"$f":"IF(L17=\"\",\"\",COUNT(L$12:L17))","v":""},"06-ขนมปังไส้หมูหยองเล็ก",null,null,{"$f":"IF(O17=\"\",\"\",SUMPRODUCT((#REF!=T$3)*(#REF!=O17)*(#REF!=\"ยกมา\")*(#REF!=Delivery_List!Select_Date)*#REF!))","v":{"$error":"#REF!"}},{"$f":"_xlfn.SINGLE(IF(L17=\"\",\"\",INDEX(#REF!,L17)))","v":{"$error":"#NAME?"}},null,null,{"$f":"IF(O17=\"\",\"\",INDEX(#REF!,MATCH(Delivery_List!O17,#REF!,0)))","v":{"$error":"#REF!"}},{"$f":"IFERROR(IF(COUNT($A$11:$A16)+1>COUNTIF(#REF!,AE$3),\"\",_xlfn.AGGREGATE(15,6,(ROW(#REF!)-ROW(#REF!))/((#REF!=AE$3)*(#REF!=Delivery_List!$D17)*(#REF!=Delivery_List!Select_Date)*(#REF!=\"เบิก\")),1)),\"\")","v":""},{"$f":"IF(Z17=\"\",\"\",INDEX(#REF!,MATCH(Delivery_List!Z17,#REF!,0)))","v":{"$error":"#REF!"}},{"$f":"IF(W17=\"\",\"\",COUNT(W$12:W17))","v":""},"06-ขนมปังไส้หมูหยองเล็ก",null,null,{"$f":"IF(Z17=\"\",\"\",SUMPRODUCT((#REF!=AE$3)*(#REF!=Z17)*(#REF!=\"ยกมา\")*(#REF!=Delivery_List!Select_Date)*#REF!))","v":{"$error":"#REF!"}},{"$f":"_xlfn.SINGLE(IF(W17=\"\",\"\",INDEX(#REF!,W17)))","v":{"$error":"#NAME?"}},null,null,{"$f":"IF(Z17=\"\",\"\",INDEX(#REF!,MATCH(Delivery_List!Z17,#REF!,0)))","v":{"$error":"#REF!"}},{"$f":"IFERROR(IF(COUNT($A$11:$A16)+1>COUNTIF(#REF!,AP$3),\"\",_xlfn.AGGREGATE(15,6,(ROW(#REF!)-ROW(#REF!))/((#REF!=AP$3)*(#REF!=Delivery_List!$D17)*(#REF!=Delivery_List!Select_Date)*(#REF!=\"เบิก\")),1)),\"\")","v":""},{"$f":"IF(AK17=\"\",\"\",INDEX(#REF!,MATCH(Delivery_List!AK17,#REF!,0)))","v":{"$error":"#REF!"}},{"$f":"IF(AH17=\"\",\"\",COUNT(AH$12:AH17))","v":""},"06-ขนมปังไส้หมูหยองเล็ก",null,null,{"$f":"IF(AK17=\"\",\"\",SUMPRODUCT((#REF!=AP$3)*(#REF!=AK17)*(#REF!=\"ยกมา\")*(#REF!=Delivery_List!Select_Date)*#REF!))","v":{"$error":"#REF!"}},{"$f":"_xlfn.SINGLE(IF(AH17=\"\",\"\",INDEX(#REF!,AH17)))","v":{"$error":"#NAME?"}},null,null,{"$f":"IF(AK17=\"\",\"\",INDEX(#REF!,MATCH(Delivery_List!AK17,#REF!,0)))","v":{"$error":"#REF!"}},""]
[{"$f":"IFERROR(IF(COUNT($A$11:$A17)+1>COUNTIF(#REF!,I$3),\"\",_xlfn.AGGREGATE(15,6,(ROW(#REF!)-ROW(#REF!))/((#REF!=I$3)*(#REF!=Delivery_List!$D18)*(#REF!=Delivery_List!Select_Date)*(#REF!=\"เบิก\")),1)),\"\")","v":""},{"$f":"IF(D18=\"\",\"\",INDEX(#REF!,MATCH(Delivery_List!D18,#REF!,0)))","v":{"$error":"#REF!"}},{"$f":"IF(A18=\"\",\"\",COUNT(A$12:A18))","v":""},"07-เค้กกล้วยหอม",null,null,{"$f":"IF(D18=\"\",\"\",SUMPRODUCT((#REF!=I$3)*(#REF!=D18)*(#REF!=\"ยกมา\")*(#REF!=Delivery_List!Select_Date)*#REF!))","v":{"$error":"#REF!"}},{"$f":"_xlfn.SINGLE(IF(A18=\"\",\"\",INDEX(#REF!,A18)))","v":{"$error":"#NAME?"}},null,null,{"$f":"IF(D18=\"\",\"\",INDEX(#REF!,MATCH(Delivery_List!D18,#REF!,0)))","v":{"$error":"#REF!"}},{"$f":"IFERROR(IF(COUNT($A$11:$A17)+1>COUNTIF(#REF!,T$3),\"\",_xlfn.AGGREGATE(15,6,(ROW(#REF!)-ROW(#REF!))/((#REF!=T$3)*(#REF!=Delivery_List!$D18)*(#REF!=Delivery_List!Select_Date)*(#REF!=\"เบิก\")),1)),\"\")","v":""},{"$f":"IF(O18=\"\",\"\",INDEX(#REF!,MATCH(Delivery_List!O18,#REF!,0)))","v":{"$error":"#REF!"}},{"$f":"IF(L18=\"\",\"\",COUNT(L$12:L18))","v":""},"07-เค้กกล้วยหอม",null,null,{"$f":"IF(O18=\"\",\"\",SUMPRODUCT((#REF!=T$3)*(#REF!=O18)*(#REF!=\"ยกมา\")*(#REF!=Delivery_List!Select_Date)*#REF!))","v":{"$error":"#REF!"}},{"$f":"_xlfn.SINGLE(IF(L18=\"\",\"\",INDEX(#REF!,L18)))","v":{"$error":"#NAME?"}},null,null,{"$f":"IF(O18=\"\",\"\",INDEX(#REF!,MATCH(Delivery_List!O18,#REF!,0)))","v":{"$error":"#REF!"}},{"$f":"IFERROR(IF(COUNT($A$11:$A17)+1>COUNTIF(#REF!,AE$3),\"\",_xlfn.AGGREGATE(15,6,(ROW(#REF!)-ROW(#REF!))/((#REF!=AE$3)*(#REF!=Delivery_List!$D18)*(#REF!=Delivery_List!Select_Date)*(#REF!=\"เบิก\")),1)),\"\")","v":""},{"$f":"IF(Z18=\"\",\"\",INDEX(#REF!,MATCH(Delivery_List!Z18,#REF!,0)))","v":{"$error":"#REF!"}},{"$f":"IF(W18=\"\",\"\",COUNT(W$12:W18))","v":""},"07-เค้กกล้วยหอม",null,null,{"$f":"IF(Z18=\"\",\"\",SUMPRODUCT((#REF!=AE$3)*(#REF!=Z18)*(#REF!=\"ยกมา\")*(#REF!=Delivery_List!Select_Date)*#REF!))","v":{"$error":"#REF!"}},{"$f":"_xlfn.SINGLE(IF(W18=\"\",\"\",INDEX(#REF!,W18)))","v":{"$error":"#NAME?"}},null,null,{"$f":"IF(Z18=\"\",\"\",INDEX(#REF!,MATCH(Delivery_List!Z18,#REF!,0)))","v":{"$error":"#REF!"}},{"$f":"IFERROR(IF(COUNT($A$11:$A17)+1>COUNTIF(#REF!,AP$3),\"\",_xlfn.AGGREGATE(15,6,(ROW(#REF!)-ROW(#REF!))/((#REF!=AP$3)*(#REF!=Delivery_List!$D18)*(#REF!=Delivery_List!Select_Date)*(#REF!=\"เบิก\")),1)),\"\")","v":""},{"$f":"IF(AK18=\"\",\"\",INDEX(#REF!,MATCH(Delivery_List!AK18,#REF!,0)))","v":{"$error":"#REF!"}},{"$f":"IF(AH18=\"\",\"\",COUNT(AH$12:AH18))","v":""},"07-เค้กกล้วยหอม",null,null,{"$f":"IF(AK18=\"\",\"\",SUMPRODUCT((#REF!=AP$3)*(#REF!=AK18)*(#REF!=\"ยกมา\")*(#REF!=Delivery_List!Select_Date)*#REF!))","v":{"$error":"#REF!"}},{"$f":"_xlfn.SINGLE(IF(AH18=\"\",\"\",INDEX(#REF!,AH18)))","v":{"$error":"#NAME?"}},null,null,{"$f":"IF(AK18=\"\",\"\",INDEX(#REF!,MATCH(Delivery_List!AK18,#REF!,0)))","v":{"$error":"#REF!"}},""]
[{"$f":"IFERROR(IF(COUNT($A$11:$A18)+1>COUNTIF(#REF!,I$3),\"\",_xlfn.AGGREGATE(15,6,(ROW(#REF!)-ROW(#REF!))/((#REF!=I$3)*(#REF!=Delivery_List!$D19)*(#REF!=Delivery_List!Select_Date)*(#REF!=\"เบิก\")),1)),\"\")","v":""},{"$f":"IF(D19=\"\",\"\",INDEX(#REF!,MATCH(Delivery_List!D19,#REF!,0)))","v":{"$error":"#REF!"}},{"$f":"IF(A19=\"\",\"\",COUNT(A$12:A19))","v":""},"08-เค้กบัตเตอร์",null,null,{"$f":"IF(D19=\"\",\"\",SUMPRODUCT((#REF!=I$3)*(#REF!=D19)*(#REF!=\"ยกมา\")*(#REF!=Delivery_List!Select_Date)*#REF!))","v":{"$error":"#REF!"}},{"$f":"_xlfn.SINGLE(IF(A19=\"\",\"\",INDEX(#REF!,A19)))","v":{"$error":"#NAME?"}},null,null,{"$f":"IF(D19=\"\",\"\",INDEX(#REF!,MATCH(Delivery_List!D19,#REF!,0)))","v":{"$error":"#REF!"}},{"$f":"IFERROR(IF(COUNT($A$11:$A18)+1>COUNTIF(#REF!,T$3),\"\",_xlfn.AGGREGATE(15,6,(ROW(#REF!)-ROW(#REF!))/((#REF!=T$3)*(#REF!=Delivery_List!$D19)*(#REF!=Delivery_List!Select_Date)*(#REF!=\"เบิก\")),1)),\"\")","v":""},{"$f":"IF(O19=\"\",\"\",INDEX(#REF!,MATCH(Delivery_List!O19,#REF!,0)))","v":{"$error":"#REF!"}},{"$f":"IF(L19=\"\",\"\",COUNT(L$12:L19))","v":""},"08-เค้กบัตเตอร์",null,null,{"$f":"IF(O19=\"\",\"\",SUMPRODUCT((#REF!=T$3)*(#REF!=O19)*(#REF!=\"ยกมา\")*(#REF!=Delivery_List!Select_Date)*#REF!))","v":{"$error":"#REF!"}},{"$f":"_xlfn.SINGLE(IF(L19=\"\",\"\",INDEX(#REF!,L19)))","v":{"$error":"#NAME?"}},null,null,{"$f":"IF(O19=\"\",\"\",INDEX(#REF!,MATCH(Delivery_List!O19,#REF!,0)))","v":{"$error":"#REF!"}},{"$f":"IFERROR(IF(COUNT($A$11:$A18)+1>COUNTIF(#REF!,AE$3),\"\",_xlfn.AGGREGATE(15,6,(ROW(#REF!)-ROW(#REF!))/((#REF!=AE$3)*(#REF!=Delivery_List!$D19)*(#REF!=Delivery_List!Select_Date)*(#REF!=\"เบิก\")),1)),\"\")","v":""},{"$f":"IF(Z19=\"\",\"\",INDEX(#REF!,MATCH(Delivery_List!Z19,#REF!,0)))","v":{"$error":"#REF!"}},{"$f":"IF(W19=\"\",\"\",COUNT(W$12:W19))","v":""},"08-เค้กบัตเตอร์",null,null,{"$f":"IF(Z19=\"\",\"\",SUMPRODUCT((#REF!=AE$3)*(#REF!=Z19)*(#REF!=\"ยกมา\")*(#REF!=Delivery_List!Select_Date)*#REF!))","v":{"$error":"#REF!"}},{"$f":"_xlfn.SINGLE(IF(W19=\"\",\"\",INDEX(#REF!,W19)))","v":{"$error":"#NAME?"}},null,null,{"$f":"IF(Z19=\"\",\"\",INDEX(#REF!,MATCH(Delivery_List!Z19,#REF!,0)))","v":{"$error":"#REF!"}},{"$f":"IFERROR(IF(COUNT($A$11:$A18)+1>COUNTIF(#REF!,AP$3),\"\",_xlfn.AGGREGATE(15,6,(ROW(#REF!)-ROW(#REF!))/((#REF!=AP$3)*(#REF!=Delivery_List!$D19)*(#REF!=Delivery_List!Select_Date)*(#REF!=\"เบิก\")),1)),\"\")","v":""},{"$f":"IF(AK19=\"\",\"\",INDEX(#REF!,MATCH(Delivery_List!AK19,#REF!,0)))","v":{"$error":"#REF!"}},{"$f":"IF(AH19=\"\",\"\",COUNT(AH$12:AH19))","v":""},"08-เค้กบัตเตอร์",null,null,{"$f":"IF(AK19=\"\",\"\",SUMPRODUCT((#REF!=AP$3)*(#REF!=AK19)*(#REF!=\"ยกมา\")*(#REF!=Delivery_List!Select_Date)*#REF!))","v":{"$error":"#REF!"}},{"$f":"_xlfn.SINGLE(IF(AH19=\"\",\"\",INDEX(#REF!,AH19)))","v":{"$error":"#NAME?"}},null,null,{"$f":"IF(AK19=\"\",\"\",INDEX(#REF!,MATCH(Delivery_List!AK19,#REF!,0)))","v":{"$error":"#REF!"}},""]
[{"$f":"IFERROR(IF(COUNT($A$11:$A19)+1>COUNTIF(#REF!,I$3),\"\",_xlfn.AGGREGATE(15,6,(ROW(#REF!)-ROW(#REF!))/((#REF!=I$3)*(#REF!=Delivery_List!$D20)*(#REF!=Delivery_List!Select_Date)*(#REF!=\"เบิก\")),1)),\"\")","v":""},{"$f":"IF(D20=\"\",\"\",INDEX(#REF!,MATCH(Delivery_List!D20,#REF!,0)))","v":{"$error":"#REF!"}},{"$f":"IF(A20=\"\",\"\",COUNT(A$12:A20))","v":""},"09-ขนมปังโรลมันเทศ",null,null,{"$f":"IF(D20=\"\",\"\",SUMPRODUCT((#REF!=I$3)*(#REF!=D20)*(#REF!=\"ยกมา\")*(#REF!=Delivery_List!Select_Date)*#REF!))","v":{"$error":"#REF!"}},{"$f":"_xlfn.SINGLE(IF(A20=\"\",\"\",INDEX(#REF!,A20)))","v":{"$error":"#NAME?"}},null,null,{"$f":"IF(D20=\"\",\"\",INDEX(#REF!,MATCH(Delivery_List!D20,#REF!,0)))","v":{"$error":"#REF!"}},{"$f":"IFERROR(IF(COUNT($A$11:$A19)+1>COUNTIF(#REF!,T$3),\"\",_xlfn.AGGREGATE(15,6,(ROW(#REF!)-ROW(#REF!))/((#REF!=T$3)*(#REF!=Delivery_List!$D20)*(#REF!=Delivery_List!Select_Date)*(#REF!=\"เบิก\")),1)),\"\")","v":""},{"$f":"IF(O20=\"\",\"\",INDEX(#REF!,MATCH(Delivery_List!O20,#REF!,0)))","v":{"$error":"#REF!"}},{"$f":"IF(L20=\"\",\"\",COUNT(L$12:L20))","v":""},"09-ขนมปังโรลมันเทศ",null,null,{"$f":"IF(O20=\"\",\"\",SUMPRODUCT((#REF!=T$3)*(#REF!=O20)*(#REF!=\"ยกมา\")*(#REF!=Delivery_List!Select_Date)*#REF!))","v":{"$error":"#REF!"}},{"$f":"_xlfn.SINGLE(IF(L20=\"\",\"\",INDEX(#REF!,L20)))","v":{"$error":"#NAME?"}},null,null,{"$f":"IF(O20=\"\",\"\",INDEX(#REF!,MATCH(Delivery_List!O20,#REF!,0)))","v":{"$error":"#REF!"}},{"$f":"IFERROR(IF(COUNT($A$11:$A19)+1>COUNTIF(#REF!,AE$3),\"\",_xlfn.AGGREGATE(15,6,(ROW(#REF!)-ROW(#REF!))/((#REF!=AE$3)*(#REF!=Delivery_List!$D20)*(#REF!=Delivery_List!Select_Date)*(#REF!=\"เบิก\")),1)),\"\")","v":""},{"$f":"IF(Z20=\"\",\"\",INDEX(#REF!,MATCH(Delivery_List!Z20,#REF!,0)))","v":{"$error":"#REF!"}},{"$f":"IF(W20=\"\",\"\",COUNT(W$12:W20))","v":""},"09-ขนมปังโรลมันเทศ",null,null,{"$f":"IF(Z20=\"\",\"\",SUMPRODUCT((#REF!=AE$3)*(#REF!=Z20)*(#REF!=\"ยกมา\")*(#REF!=Delivery_List!Select_Date)*#REF!))","v":{"$error":"#REF!"}},{"$f":"_xlfn.SINGLE(IF(W20=\"\",\"\",INDEX(#REF!,W20)))","v":{"$error":"#NAME?"}},null,null,{"$f":"IF(Z20=\"\",\"\",INDEX(#REF!,MATCH(Delivery_List!Z20,#REF!,0)))","v":{"$error":"#REF!"}},{"$f":"IFERROR(IF(COUNT($A$11:$A19)+1>COUNTIF(#REF!,AP$3),\"\",_xlfn.AGGREGATE(15,6,(ROW(#REF!)-ROW(#REF!))/((#REF!=AP$3)*(#REF!=Delivery_List!$D20)*(#REF!=Delivery_List!Select_Date)*(#REF!=\"เบิก\")),1)),\"\")","v":""},{"$f":"IF(AK20=\"\",\"\",INDEX(#REF!,MATCH(Delivery_List!AK20,#REF!,0)))","v":{"$error":"#REF!"}},{"$f":"IF(AH20=\"\",\"\",COUNT(AH$12:AH20))","v":""},"09-ขนมปังโรลมันเทศ",null,null,{"$f":"IF(AK20=\"\",\"\",SUMPRODUCT((#REF!=AP$3)*(#REF!=AK20)*(#REF!=\"ยกมา\")*(#REF!=Delivery_List!Select_Date)*#REF!))","v":{"$error":"#REF!"}},{"$f":"_xlfn.SINGLE(IF(AH20=\"\",\"\",INDEX(#REF!,AH20)))","v":{"$error":"#NAME?"}},null,null,{"$f":"IF(AK20=\"\",\"\",INDEX(#REF!,MATCH(Delivery_List!AK20,#REF!,0)))","v":{"$error":"#REF!"}},""]
[{"$f":"IFERROR(IF(COUNT($A$11:$A20)+1>COUNTIF(#REF!,I$3),\"\",_xlfn.AGGREGATE(15,6,(ROW(#REF!)-ROW(#REF!))/((#REF!=I$3)*(#REF!=Delivery_List!$D21)*(#REF!=Delivery_List!Select_Date)*(#REF!=\"เบิก\")),1)),\"\")","v":""},{"$f":"IF(D21=\"\",\"\",INDEX(#REF!,MATCH(Delivery_List!D21,#REF!,0)))","v":{"$error":"#REF!"}},{"$f":"IF(A21=\"\",\"\",COUNT(A$12:A21))","v":""},"10-ขนมปังโรลถั่วแดง",null,null,{"$f":"IF(D21=\"\",\"\",SUMPRODUCT((#REF!=I$3)*(#REF!=D21)*(#REF!=\"ยกมา\")*(#REF!=Delivery_List!Select_Date)*#REF!))","v":{"$error":"#REF!"}},{"$f":"_xlfn.SINGLE(IF(A21=\"\",\"\",INDEX(#REF!,A21)))","v":{"$error":"#NAME?"}},null,null,{"$f":"IF(D21=\"\",\"\",INDEX(#REF!,MATCH(Delivery_List!D21,#REF!,0)))","v":{"$error":"#REF!"}},{"$f":"IFERROR(IF(COUNT($A$11:$A20)+1>COUNTIF(#REF!,T$3),\"\",_xlfn.AGGREGATE(15,6,(ROW(#REF!)-ROW(#REF!))/((#REF!=T$3)*(#REF!=Delivery_List!$D21)*(#REF!=Delivery_List!Select_Date)*(#REF!=\"เบิก\")),1)),\"\")","v":""},{"$f":"IF(O21=\"\",\"\",INDEX(#REF!,MATCH(Delivery_List!O21,#REF!,0)))","v":{"$error":"#REF!"}},{"$f":"IF(L21=\"\",\"\",COUNT(L$12:L21))","v":""},"10-ขนมปังโรลถั่วแดง",null,null,{"$f":"IF(O21=\"\",\"\",SUMPRODUCT((#REF!=T$3)*(#REF!=O21)*(#REF!=\"ยกมา\")*(#REF!=Delivery_List!Select_Date)*#REF!))","v":{"$error":"#REF!"}},{"$f":"_xlfn.SINGLE(IF(L21=\"\",\"\",INDEX(#REF!,L21)))","v":{"$error":"#NAME?"}},null,null,{"$f":"IF(O21=\"\",\"\",INDEX(#REF!,MATCH(Delivery_List!O21,#REF!,0)))","v":{"$error":"#REF!"}},{"$f":"IFERROR(IF(COUNT($A$11:$A20)+1>COUNTIF(#REF!,AE$3),\"\",_xlfn.AGGREGATE(15,6,(ROW(#REF!)-ROW(#REF!))/((#REF!=AE$3)*(#REF!=Delivery_List!$D21)*(#REF!=Delivery_List!Select_Date)*(#REF!=\"เบิก\")),1)),\"\")","v":""},{"$f":"IF(Z21=\"\",\"\",INDEX(#REF!,MATCH(Delivery_List!Z21,#REF!,0)))","v":{"$error":"#REF!"}},{"$f":"IF(W21=\"\",\"\",COUNT(W$12:W21))","v":""},"10-ขนมปังโรลถั่วแดง",null,null,{"$f":"IF(Z21=\"\",\"\",SUMPRODUCT((#REF!=AE$3)*(#REF!=Z21)*(#REF!=\"ยกมา\")*(#REF!=Delivery_List!Select_Date)*#REF!))","v":{"$error":"#REF!"}},{"$f":"_xlfn.SINGLE(IF(W21=\"\",\"\",INDEX(#REF!,W21)))","v":{"$error":"#NAME?"}},null,null,{"$f":"IF(Z21=\"\",\"\",INDEX(#REF!,MATCH(Delivery_List!Z21,#REF!,0)))","v":{"$error":"#REF!"}},{"$f":"IFERROR(IF(COUNT($A$11:$A20)+1>COUNTIF(#REF!,AP$3),\"\",_xlfn.AGGREGATE(15,6,(ROW(#REF!)-ROW(#REF!))/((#REF!=AP$3)*(#REF!=Delivery_List!$D21)*(#REF!=Delivery_List!Select_Date)*(#REF!=\"เบิก\")),1)),\"\")","v":""},{"$f":"IF(AK21=\"\",\"\",INDEX(#REF!,MATCH(Delivery_List!AK21,#REF!,0)))","v":{"$error":"#REF!"}},{"$f":"IF(AH21=\"\",\"\",COUNT(AH$12:AH21))","v":""},"10-ขนมปังโรลถั่วแดง",null,null,{"$f":"IF(AK21=\"\",\"\",SUMPRODUCT((#REF!=AP$3)*(#REF!=AK21)*(#REF!=\"ยกมา\")*(#REF!=Delivery_List!Select_Date)*#REF!))","v":{"$error":"#REF!"}},{"$f":"_xlfn.SINGLE(IF(AH21=\"\",\"\",INDEX(#REF!,AH21)))","v":{"$error":"#NAME?"}},null,null,{"$f":"IF(AK21=\"\",\"\",INDEX(#REF!,MATCH(Delivery_List!AK21,#REF!,0)))","v":{"$error":"#REF!"}},""]
[{"$f":"IFERROR(IF(COUNT($A$11:$A21)+1>COUNTIF(#REF!,I$3),\"\",_xlfn.AGGREGATE(15,6,(ROW(#REF!)-ROW(#REF!))/((#REF!=I$3)*(#REF!=Delivery_List!$D22)*(#REF!=Delivery_List!Select_Date)*(#REF!=\"เบิก\")),1)),\"\")","v":""},{"$f":"IF(D22=\"\",\"\",INDEX(#REF!,MATCH(Delivery_List!D22,#REF!,0)))","v":{"$error":"#REF!"}},{"$f":"IF(A22=\"\",\"\",COUNT(A$12:A22))","v":""},"11-ขนมปังหมูหยองมายองเนส",null,null,{"$f":"IF(D22=\"\",\"\",SUMPRODUCT((#REF!=I$3)*(#REF!=D22)*(#REF!=\"ยกมา\")*(#REF!=Delivery_List!Select_Date)*#REF!))","v":{"$error":"#REF!"}},{"$f":"_xlfn.SINGLE(IF(A22=\"\",\"\",INDEX(#REF!,A22)))","v":{"$error":"#NAME?"}},null,null,{"$f":"IF(D22=\"\",\"\",INDEX(#REF!,MATCH(Delivery_List!D22,#REF!,0)))","v":{"$error":"#REF!"}},{"$f":"IFERROR(IF(COUNT($A$11:$A21)+1>COUNTIF(#REF!,T$3),\"\",_xlfn.AGGREGATE(15,6,(ROW(#REF!)-ROW(#REF!))/((#REF!=T$3)*(#REF!=Delivery_List!$D22)*(#REF!=Delivery_List!Select_Date)*(#REF!=\"เบิก\")),1)),\"\")","v":""},{"$f":"IF(O22=\"\",\"\",INDEX(#REF!,MATCH(Delivery_List!O22,#REF!,0)))","v":{"$error":"#REF!"}},{"$f":"IF(L22=\"\",\"\",COUNT(L$12:L22))","v":""},"11-ขนมปังหมูหยองมายองเนส",null,null,{"$f":"IF(O22=\"\",\"\",SUMPRODUCT((#REF!=T$3)*(#REF!=O22)*(#REF!=\"ยกมา\")*(#REF!=Delivery_List!Select_Date)*#REF!))","v":{"$error":"#REF!"}},{"$f":"_xlfn.SINGLE(IF(L22=\"\",\"\",INDEX(#REF!,L22)))","v":{"$error":"#NAME?"}},null,null,{"$f":"IF(O22=\"\",\"\",INDEX(#REF!,MATCH(Delivery_List!O22,#REF!,0)))","v":{"$error":"#REF!"}},{"$f":"IFERROR(IF(COUNT($A$11:$A21)+1>COUNTIF(#REF!,AE$3),\"\",_xlfn.AGGREGATE(15,6,(ROW(#REF!)-ROW(#REF!))/((#REF!=AE$3)*(#REF!=Delivery_List!$D22)*(#REF!=Delivery_List!Select_Date)*(#REF!=\"เบิก\")),1)),\"\")","v":""},{"$f":"IF(Z22=\"\",\"\",INDEX(#REF!,MATCH(Delivery_List!Z22,#REF!,0)))","v":{"$error":"#REF!"}},{"$f":"IF(W22=\"\",\"\",COUNT(W$12:W22))","v":""},"11-ขนมปังหมูหยองมายองเนส",null,null,{"$f":"IF(Z22=\"\",\"\",SUMPRODUCT((#REF!=AE$3)*(#REF!=Z22)*(#REF!=\"ยกมา\")*(#REF!=Delivery_List!Select_Date)*#REF!))","v":{"$error":"#REF!"}},{"$f":"_xlfn.SINGLE(IF(W22=\"\",\"\",INDEX(#REF!,W22)))","v":{"$error":"#NAME?"}},null,null,{"$f":"IF(Z22=\"\",\"\",INDEX(#REF!,MATCH(Delivery_List!Z22,#REF!,0)))","v":{"$error":"#REF!"}},{"$f":"IFERROR(IF(COUNT($A$11:$A21)+1>COUNTIF(#REF!,AP$3),\"\",_xlfn.AGGREGATE(15,6,(ROW(#REF!)-ROW(#REF!))/((#REF!=AP$3)*(#REF!=Delivery_List!$D22)*(#REF!=Delivery_List!Select_Date)*(#REF!=\"เบิก\")),1)),\"\")","v":""},{"$f":"IF(AK22=\"\",\"\",INDEX(#REF!,MATCH(Delivery_List!AK22,#REF!,0)))","v":{"$error":"#REF!"}},{"$f":"IF(AH22=\"\",\"\",COUNT(AH$12:AH22))","v":""},"11-ขนมปังหมูหยองมายองเนส",null,null,{"$f":"IF(AK22=\"\",\"\",SUMPRODUCT((#REF!=AP$3)*(#REF!=AK22)*(#REF!=\"ยกมา\")*(#REF!=Delivery_List!Select_Date)*#REF!))","v":{"$error":"#REF!"}},{"$f":"_xlfn.SINGLE(IF(AH22=\"\",\"\",INDEX(#REF!,AH22)))","v":{"$error":"#NAME?"}},null,null,{"$f":"IF(AK22=\"\",\"\",INDEX(#REF!,MATCH(Delivery_List!AK22,#REF!,0)))","v":{"$error":"#REF!"}},""]
[{"$f":"IFERROR(IF(COUNT($A$11:$A22)+1>COUNTIF(#REF!,I$3),\"\",_xlfn.AGGREGATE(15,6,(ROW(#REF!)-ROW(#REF!))/((#REF!=I$3)*(#REF!=Delivery_List!$D23)*(#REF!=Delivery_List!Select_Date)*(#REF!=\"เบิก\")),1)),\"\")","v":""},{"$f":"IF(D23=\"\",\"\",INDEX(#REF!,MATCH(Delivery_List!D23,#REF!,0)))","v":{"$error":"#REF!"}},{"$f":"IF(A23=\"\",\"\",COUNT(A$12:A23))","v":""},"12-ขนมปังพิซซ่า",null,null,{"$f":"IF(D23=\"\",\"\",SUMPRODUCT((#REF!=I$3)*(#REF!=D23)*(#REF!=\"ยกมา\")*(#REF!=Delivery_List!Select_Date)*#REF!))","v":{"$error":"#REF!"}},{"$f":"_xlfn.SINGLE(IF(A23=\"\",\"\",INDEX(#REF!,A23)))","v":{"$error":"#NAME?"}},null,null,{"$f":"IF(D23=\"\",\"\",INDEX(#REF!,MATCH(Delivery_List!D23,#REF!,0)))","v":{"$error":"#REF!"}},{"$f":"IFERROR(IF(COUNT($A$11:$A22)+1>COUNTIF(#REF!,T$3),\"\",_xlfn.AGGREGATE(15,6,(ROW(#REF!)-ROW(#REF!))/((#REF!=T$3)*(#REF!=Delivery_List!$D23)*(#REF!=Delivery_List!Select_Date)*(#REF!=\"เบิก\")),1)),\"\")","v":""},{"$f":"IF(O23=\"\",\"\",INDEX(#REF!,MATCH(Delivery_List!O23,#REF!,0)))","v":{"$error":"#REF!"}},{"$f":"IF(L23=\"\",\"\",COUNT(L$12:L23))","v":""},"12-ขนมปังพิซซ่า",null,null,{"$f":"IF(O23=\"\",\"\",SUMPRODUCT((#REF!=T$3)*(#REF!=O23)*(#REF!=\"ยกมา\")*(#REF!=Delivery_List!Select_Date)*#REF!))","v":{"$error":"#REF!"}},{"$f":"_xlfn.SINGLE(IF(L23=\"\",\"\",INDEX(#REF!,L23)))","v":{"$error":"#NAME?"}},null,null,{"$f":"IF(O23=\"\",\"\",INDEX(#REF!,MATCH(Delivery_List!O23,#REF!,0)))","v":{"$error":"#REF!"}},{"$f":"IFERROR(IF(COUNT($A$11:$A22)+1>COUNTIF(#REF!,AE$3),\"\",_xlfn.AGGREGATE(15,6,(ROW(#REF!)-ROW(#REF!))/((#REF!=AE$3)*(#REF!=Delivery_List!$D23)*(#REF!=Delivery_List!Select_Date)*(#REF!=\"เบิก\")),1)),\"\")","v":""},{"$f":"IF(Z23=\"\",\"\",INDEX(#REF!,MATCH(Delivery_List!Z23,#REF!,0)))","v":{"$error":"#REF!"}},{"$f":"IF(W23=\"\",\"\",COUNT(W$12:W23))","v":""},"12-ขนมปังพิซซ่า",null,null,{"$f":"IF(Z23=\"\",\"\",SUMPRODUCT((#REF!=AE$3)*(#REF!=Z23)*(#REF!=\"ยกมา\")*(#REF!=Delivery_List!Select_Date)*#REF!))","v":{"$error":"#REF!"}},{"$f":"_xlfn.SINGLE(IF(W23=\"\",\"\",INDEX(#REF!,W23)))","v":{"$error":"#NAME?"}},null,null,{"$f":"IF(Z23=\"\",\"\",INDEX(#REF!,MATCH(Delivery_List!Z23,#REF!,0)))","v":{"$error":"#REF!"}},{"$f":"IFERROR(IF(COUNT($A$11:$A22)+1>COUNTIF(#REF!,AP$3),\"\",_xlfn.AGGREGATE(15,6,(ROW(#REF!)-ROW(#REF!))/((#REF!=AP$3)*(#REF!=Delivery_List!$D23)*(#REF!=Delivery_List!Select_Date)*(#REF!=\"เบิก\")),1)),\"\")","v":""},{"$f":"IF(AK23=\"\",\"\",INDEX(#REF!,MATCH(Delivery_List!AK23,#REF!,0)))","v":{"$error":"#REF!"}},{"$f":"IF(AH23=\"\",\"\",COUNT(AH$12:AH23))","v":""},"12-ขนมปังพิซซ่า",null,null,{"$f":"IF(AK23=\"\",\"\",SUMPRODUCT((#REF!=AP$3)*(#REF!=AK23)*(#REF!=\"ยกมา\")*(#REF!=Delivery_List!Select_Date)*#REF!))","v":{"$error":"#REF!"}},{"$f":"_xlfn.SINGLE(IF(AH23=\"\",\"\",INDEX(#REF!,AH23)))","v":{"$error":"#NAME?"}},null,null,{"$f":"IF(AK23=\"\",\"\",INDEX(#REF!,MATCH(Delivery_List!AK23,#REF!,0)))","v":{"$error":"#REF!"}},""]
[{"$f":"IFERROR(IF(COUNT($A$11:$A23)+1>COUNTIF(#REF!,I$3),\"\",_xlfn.AGGREGATE(15,6,(ROW(#REF!)-ROW(#REF!))/((#REF!=I$3)*(#REF!=Delivery_List!$D24)*(#REF!=Delivery_List!Select_Date)*(#REF!=\"เบิก\")),1)),\"\")","v":""},{"$f":"IF(D24=\"\",\"\",INDEX(#REF!,MATCH(Delivery_List!D24,#REF!,0)))","v":{"$error":"#REF!"}},{"$f":"IF(A24=\"\",\"\",COUNT(A$12:A24))","v":""},"13-ขนมปังหมูหยองน้ำสลัด",null,null,{"$f":"IF(D24=\"\",\"\",SUMPRODUCT((#REF!=I$3)*(#REF!=D24)*(#REF!=\"ยกมา\")*(#REF!=Delivery_List!Select_Date)*#REF!))","v":{"$error":"#REF!"}},{"$f":"_xlfn.SINGLE(IF(A24=\"\",\"\",INDEX(#REF!,A24)))","v":{"$error":"#NAME?"}},null,null,{"$f":"IF(D24=\"\",\"\",INDEX(#REF!,MATCH(Delivery_List!D24,#REF!,0)))","v":{"$error":"#REF!"}},{"$f":"IFERROR(IF(COUNT($A$11:$A23)+1>COUNTIF(#REF!,T$3),\"\",_xlfn.AGGREGATE(15,6,(ROW(#REF!)-ROW(#REF!))/((#REF!=T$3)*(#REF!=Delivery_List!$D24)*(#REF!=Delivery_List!Select_Date)*(#REF!=\"เบิก\")),1)),\"\")","v":""},{"$f":"IF(O24=\"\",\"\",INDEX(#REF!,MATCH(Delivery_List!O24,#REF!,0)))","v":{"$error":"#REF!"}},{"$f":"IF(L24=\"\",\"\",COUNT(L$12:L24))","v":""},"13-ขนมปังหมูหยองน้ำสลัด",null,null,{"$f":"IF(O24=\"\",\"\",SUMPRODUCT((#REF!=T$3)*(#REF!=O24)*(#REF!=\"ยกมา\")*(#REF!=Delivery_List!Select_Date)*#REF!))","v":{"$error":"#REF!"}},{"$f":"_xlfn.SINGLE(IF(L24=\"\",\"\",INDEX(#REF!,L24)))","v":{"$error":"#NAME?"}},null,null,{"$f":"IF(O24=\"\",\"\",INDEX(#REF!,MATCH(Delivery_List!O24,#REF!,0)))","v":{"$error":"#REF!"}},{"$f":"IFERROR(IF(COUNT($A$11:$A23)+1>COUNTIF(#REF!,AE$3),\"\",_xlfn.AGGREGATE(15,6,(ROW(#REF!)-ROW(#REF!))/((#REF!=AE$3)*(#REF!=Delivery_List!$D24)*(#REF!=Delivery_List!Select_Date)*(#REF!=\"เบิก\")),1)),\"\")","v":""},{"$f":"IF(Z24=\"\",\"\",INDEX(#REF!,MATCH(Delivery_List!Z24,#REF!,0)))","v":{"$error":"#REF!"}},{"$f":"IF(W24=\"\",\"\",COUNT(W$12:W24))","v":""},"13-ขนมปังหมูหยองน้ำสลัด",null,null,{"$f":"IF(Z24=\"\",\"\",SUMPRODUCT((#REF!=AE$3)*(#REF!=Z24)*(#REF!=\"ยกมา\")*(#REF!=Delivery_List!Select_Date)*#REF!))","v":{"$error":"#REF!"}},{"$f":"_xlfn.SINGLE(IF(W24=\"\",\"\",INDEX(#REF!,W24)))","v":{"$error":"#NAME?"}},null,null,{"$f":"IF(Z24=\"\",\"\",INDEX(#REF!,MATCH(Delivery_List!Z24,#REF!,0)))","v":{"$error":"#REF!"}},{"$f":"IFERROR(IF(COUNT($A$11:$A23)+1>COUNTIF(#REF!,AP$3),\"\",_xlfn.AGGREGATE(15,6,(ROW(#REF!)-ROW(#REF!))/((#REF!=AP$3)*(#REF!=Delivery_List!$D24)*(#REF!=Delivery_List!Select_Date)*(#REF!=\"เบิก\")),1)),\"\")","v":""},{"$f":"IF(AK24=\"\",\"\",INDEX(#REF!,MATCH(Delivery_List!AK24,#REF!,0)))","v":{"$error":"#REF!"}},{"$f":"IF(AH24=\"\",\"\",COUNT(AH$12:AH24))","v":""},"13-ขนมปังหมูหยองน้ำสลัด",null,null,{"$f":"IF(AK24=\"\",\"\",SUMPRODUCT((#REF!=AP$3)*(#REF!=AK24)*(#REF!=\"ยกมา\")*(#REF!=Delivery_List!Select_Date)*#REF!))","v":{"$error":"#REF!"}},{"$f":"_xlfn.SINGLE(IF(AH24=\"\",\"\",INDEX(#REF!,AH24)))","v":{"$error":"#NAME?"}},null,null,{"$f":"IF(AK24=\"\",\"\",INDEX(#REF!,MATCH(Delivery_List!AK24,#REF!,0)))","v":{"$error":"#REF!"}},""]
[{"$f":"IFERROR(IF(COUNT($A$11:$A24)+1>COUNTIF(#REF!,I$3),\"\",_xlfn.AGGREGATE(15,6,(ROW(#REF!)-ROW(#REF!))/((#REF!=I$3)*(#REF!=Delivery_List!$D25)*(#REF!=Delivery_List!Select_Date)*(#REF!=\"เบิก\")),1)),\"\")","v":""},{"$f":"IF(D25=\"\",\"\",INDEX(#REF!,MATCH(Delivery_List!D25,#REF!,0)))","v":{"$error":"#REF!"}},{"$f":"IF(A25=\"\",\"\",COUNT(A$12:A25))","v":""},"14-ขนมปังไส้กรอก",null,null,{"$f":"IF(D25=\"\",\"\",SUMPRODUCT((#REF!=I$3)*(#REF!=D25)*(#REF!=\"ยกมา\")*(#REF!=Delivery_List!Select_Date)*#REF!))","v":{"$error":"#REF!"}},{"$f":"_xlfn.SINGLE(IF(A25=\"\",\"\",INDEX(#REF!,A25)))","v":{"$error":"#NAME?"}},null,null,{"$f":"IF(D25=\"\",\"\",INDEX(#REF!,MATCH(Delivery_List!D25,#REF!,0)))","v":{"$error":"#REF!"}},{"$f":"IFERROR(IF(COUNT($A$11:$A24)+1>COUNTIF(#REF!,T$3),\"\",_xlfn.AGGREGATE(15,6,(ROW(#REF!)-ROW(#REF!))/((#REF!=T$3)*(#REF!=Delivery_List!$D25)*(#REF!=Delivery_List!Select_Date)*(#REF!=\"เบิก\")),1)),\"\")","v":""},{"$f":"IF(O25=\"\",\"\",INDEX(#REF!,MATCH(Delivery_List!O25,#REF!,0)))","v":{"$error":"#REF!"}},{"$f":"IF(L25=\"\",\"\",COUNT(L$12:L25))","v":""},"14-ขนมปังไส้กรอก",null,null,{"$f":"IF(O25=\"\",\"\",SUMPRODUCT((#REF!=T$3)*(#REF!=O25)*(#REF!=\"ยกมา\")*(#REF!=Delivery_List!Select_Date)*#REF!))","v":{"$error":"#REF!"}},{"$f":"_xlfn.SINGLE(IF(L25=\"\",\"\",INDEX(#REF!,L25)))","v":{"$error":"#NAME?"}},null,null,{"$f":"IF(O25=\"\",\"\",INDEX(#REF!,MATCH(Delivery_List!O25,#REF!,0)))","v":{"$error":"#REF!"}},{"$f":"IFERROR(IF(COUNT($A$11:$A24)+1>COUNTIF(#REF!,AE$3),\"\",_xlfn.AGGREGATE(15,6,(ROW(#REF!)-ROW(#REF!))/((#REF!=AE$3)*(#REF!=Delivery_List!$D25)*(#REF!=Delivery_List!Select_Date)*(#REF!=\"เบิก\")),1)),\"\")","v":""},{"$f":"IF(Z25=\"\",\"\",INDEX(#REF!,MATCH(Delivery_List!Z25,#REF!,0)))","v":{"$error":"#REF!"}},{"$f":"IF(W25=\"\",\"\",COUNT(W$12:W25))","v":""},"14-ขนมปังไส้กรอก",null,null,{"$f":"IF(Z25=\"\",\"\",SUMPRODUCT((#REF!=AE$3)*(#REF!=Z25)*(#REF!=\"ยกมา\")*(#REF!=Delivery_List!Select_Date)*#REF!))","v":{"$error":"#REF!"}},{"$f":"_xlfn.SINGLE(IF(W25=\"\",\"\",INDEX(#REF!,W25)))","v":{"$error":"#NAME?"}},null,null,{"$f":"IF(Z25=\"\",\"\",INDEX(#REF!,MATCH(Delivery_List!Z25,#REF!,0)))","v":{"$error":"#REF!"}},{"$f":"IFERROR(IF(COUNT($A$11:$A24)+1>COUNTIF(#REF!,AP$3),\"\",_xlfn.AGGREGATE(15,6,(ROW(#REF!)-ROW(#REF!))/((#REF!=AP$3)*(#REF!=Delivery_List!$D25)*(#REF!=Delivery_List!Select_Date)*(#REF!=\"เบิก\")),1)),\"\")","v":""},{"$f":"IF(AK25=\"\",\"\",INDEX(#REF!,MATCH(Delivery_List!AK25,#REF!,0)))","v":{"$error":"#REF!"}},{"$f":"IF(AH25=\"\",\"\",COUNT(AH$12:AH25))","v":""},"14-ขนมปังไส้กรอก",null,null,{"$f":"IF(AK25=\"\",\"\",SUMPRODUCT((#REF!=AP$3)*(#REF!=AK25)*(#REF!=\"ยกมา\")*(#REF!=Delivery_List!Select_Date)*#REF!))","v":{"$error":"#REF!"}},{"$f":"_xlfn.SINGLE(IF(AH25=\"\",\"\",INDEX(#REF!,AH25)))","v":{"$error":"#NAME?"}},null,null,{"$f":"IF(AK25=\"\",\"\",INDEX(#REF!,MATCH(Delivery_List!AK25,#REF!,0)))","v":{"$error":"#REF!"}},""]
[{"$f":"IFERROR(IF(COUNT($A$11:$A25)+1>COUNTIF(#REF!,I$3),\"\",_xlfn.AGGREGATE(15,6,(ROW(#REF!)-ROW(#REF!))/((#REF!=I$3)*(#REF!=Delivery_List!$D26)*(#REF!=Delivery_List!Select_Date)*(#REF!=\"เบิก\")),1)),\"\")","v":""},{"$f":"IF(D26=\"\",\"\",INDEX(#REF!,MATCH(Delivery_List!D26,#REF!,0)))","v":{"$error":"#REF!"}},{"$f":"IF(A26=\"\",\"\",COUNT(A$12:A26))","v":""},"15-ขนมก้านบัว",null,null,{"$f":"IF(D26=\"\",\"\",SUMPRODUCT((#REF!=I$3)*(#REF!=D26)*(#REF!=\"ยกมา\")*(#REF!=Delivery_List!Select_Date)*#REF!))","v":{"$error":"#REF!"}},{"$f":"_xlfn.SINGLE(IF(A26=\"\",\"\",INDEX(#REF!,A26)))","v":{"$error":"#NAME?"}},null,null,{"$f":"IF(D26=\"\",\"\",INDEX(#REF!,MATCH(Delivery_List!D26,#REF!,0)))","v":{"$error":"#REF!"}},{"$f":"IFERROR(IF(COUNT($A$11:$A25)+1>COUNTIF(#REF!,T$3),\"\",_xlfn.AGGREGATE(15,6,(ROW(#REF!)-ROW(#REF!))/((#REF!=T$3)*(#REF!=Delivery_List!$D26)*(#REF!=Delivery_List!Select_Date)*(#REF!=\"เบิก\")),1)),\"\")","v":""},{"$f":"IF(O26=\"\",\"\",INDEX(#REF!,MATCH(Delivery_List!O26,#REF!,0)))","v":{"$error":"#REF!"}},{"$f":"IF(L26=\"\",\"\",COUNT(L$12:L26))","v":""},"15-ขนมก้านบัว",null,null,{"$f":"IF(O26=\"\",\"\",SUMPRODUCT((#REF!=T$3)*(#REF!=O26)*(#REF!=\"ยกมา\")*(#REF!=Delivery_List!Select_Date)*#REF!))","v":{"$error":"#REF!"}},{"$f":"_xlfn.SINGLE(IF(L26=\"\",\"\",INDEX(#REF!,L26)))","v":{"$error":"#NAME?"}},null,null,{"$f":"IF(O26=\"\",\"\",INDEX(#REF!,MATCH(Delivery_List!O26,#REF!,0)))","v":{"$error":"#REF!"}},{"$f":"IFERROR(IF(COUNT($A$11:$A25)+1>COUNTIF(#REF!,AE$3),\"\",_xlfn.AGGREGATE(15,6,(ROW(#REF!)-ROW(#REF!))/((#REF!=AE$3)*(#REF!=Delivery_List!$D26)*(#REF!=Delivery_List!Select_Date)*(#REF!=\"เบิก\")),1)),\"\")","v":""},{"$f":"IF(Z26=\"\",\"\",INDEX(#REF!,MATCH(Delivery_List!Z26,#REF!,0)))","v":{"$error":"#REF!"}},{"$f":"IF(W26=\"\",\"\",COUNT(W$12:W26))","v":""},"15-ขนมก้านบัว",null,null,{"$f":"IF(Z26=\"\",\"\",SUMPRODUCT((#REF!=AE$3)*(#REF!=Z26)*(#REF!=\"ยกมา\")*(#REF!=Delivery_List!Select_Date)*#REF!))","v":{"$error":"#REF!"}},{"$f":"_xlfn.SINGLE(IF(W26=\"\",\"\",INDEX(#REF!,W26)))","v":{"$error":"#NAME?"}},null,null,{"$f":"IF(Z26=\"\",\"\",INDEX(#REF!,MATCH(Delivery_List!Z26,#REF!,0)))","v":{"$error":"#REF!"}},{"$f":"IFERROR(IF(COUNT($A$11:$A25)+1>COUNTIF(#REF!,AP$3),\"\",_xlfn.AGGREGATE(15,6,(ROW(#REF!)-ROW(#REF!))/((#REF!=AP$3)*(#REF!=Delivery_List!$D26)*(#REF!=Delivery_List!Select_Date)*(#REF!=\"เบิก\")),1)),\"\")","v":""},{"$f":"IF(AK26=\"\",\"\",INDEX(#REF!,MATCH(Delivery_List!AK26,#REF!,0)))","v":{"$error":"#REF!"}},{"$f":"IF(AH26=\"\",\"\",COUNT(AH$12:AH26))","v":""},"15-ขนมก้านบัว",null,null,{"$f":"IF(AK26=\"\",\"\",SUMPRODUCT((#REF!=AP$3)*(#REF!=AK26)*(#REF!=\"ยกมา\")*(#REF!=Delivery_List!Select_Date)*#REF!))","v":{"$error":"#REF!"}},{"$f":"_xlfn.SINGLE(IF(AH26=\"\",\"\",INDEX(#REF!,AH26)))","v":{"$error":"#NAME?"}},null,null,{"$f":"IF(AK26=\"\",\"\",INDEX(#REF!,MATCH(Delivery_List!AK26,#REF!,0)))","v":{"$error":"#REF!"}},""]
[{"$f":"IFERROR(IF(COUNT($A$11:$A26)+1>COUNTIF(#REF!,I$3),\"\",_xlfn.AGGREGATE(15,6,(ROW(#REF!)-ROW(#REF!))/((#REF!=I$3)*(#REF!=Delivery_List!$D27)*(#REF!=Delivery_List!Select_Date)*(#REF!=\"เบิก\")),1)),\"\")","v":""},{"$f":"IF(D27=\"\",\"\",INDEX(#REF!,MATCH(Delivery_List!D27,#REF!,0)))","v":{"$error":"#REF!"}},{"$f":"IF(A27=\"\",\"\",COUNT(A$12:A27))","v":""},"16-ขนมปังไส้หมูหยองใหญ่",null,null,{"$f":"IF(D27=\"\",\"\",SUMPRODUCT((#REF!=I$3)*(#REF!=D27)*(#REF!=\"ยกมา\")*(#REF!=Delivery_List!Select_Date)*#REF!))","v":{"$error":"#REF!"}},{"$f":"_xlfn.SINGLE(IF(A27=\"\",\"\",INDEX(#REF!,A27)))","v":{"$error":"#NAME?"}},null,null,{"$f":"IF(D27=\"\",\"\",INDEX(#REF!,MATCH(Delivery_List!D27,#REF!,0)))","v":{"$error":"#REF!"}},{"$f":"IFERROR(IF(COUNT($A$11:$A26)+1>COUNTIF(#REF!,T$3),\"\",_xlfn.AGGREGATE(15,6,(ROW(#REF!)-ROW(#REF!))/((#REF!=T$3)*(#REF!=Delivery_List!$D27)*(#REF!=Delivery_List!Select_Date)*(#REF!=\"เบิก\")),1)),\"\")","v":""},{"$f":"IF(O27=\"\",\"\",INDEX(#REF!,MATCH(Delivery_List!O27,#REF!,0)))","v":{"$error":"#REF!"}},{"$f":"IF(L27=\"\",\"\",COUNT(L$12:L27))","v":""},"16-ขนมปังไส้หมูหยองใหญ่",null,null,{"$f":"IF(O27=\"\",\"\",SUMPRODUCT((#REF!=T$3)*(#REF!=O27)*(#REF!=\"ยกมา\")*(#REF!=Delivery_List!Select_Date)*#REF!))","v":{"$error":"#REF!"}},{"$f":"_xlfn.SINGLE(IF(L27=\"\",\"\",INDEX(#REF!,L27)))","v":{"$error":"#NAME?"}},null,null,{"$f":"IF(O27=\"\",\"\",INDEX(#REF!,MATCH(Delivery_List!O27,#REF!,0)))","v":{"$error":"#REF!"}},{"$f":"IFERROR(IF(COUNT($A$11:$A26)+1>COUNTIF(#REF!,AE$3),\"\",_xlfn.AGGREGATE(15,6,(ROW(#REF!)-ROW(#REF!))/((#REF!=AE$3)*(#REF!=Delivery_List!$D27)*(#REF!=Delivery_List!Select_Date)*(#REF!=\"เบิก\")),1)),\"\")","v":""},{"$f":"IF(Z27=\"\",\"\",INDEX(#REF!,MATCH(Delivery_List!Z27,#REF!,0)))","v":{"$error":"#REF!"}},{"$f":"IF(W27=\"\",\"\",COUNT(W$12:W27))","v":""},"16-ขนมปังไส้หมูหยองใหญ่",null,null,{"$f":"IF(Z27=\"\",\"\",SUMPRODUCT((#REF!=AE$3)*(#REF!=Z27)*(#REF!=\"ยกมา\")*(#REF!=Delivery_List!Select_Date)*#REF!))","v":{"$error":"#REF!"}},{"$f":"_xlfn.SINGLE(IF(W27=\"\",\"\",INDEX(#REF!,W27)))","v":{"$error":"#NAME?"}},null,null,{"$f":"IF(Z27=\"\",\"\",INDEX(#REF!,MATCH(Delivery_List!Z27,#REF!,0)))","v":{"$error":"#REF!"}},{"$f":"IFERROR(IF(COUNT($A$11:$A26)+1>COUNTIF(#REF!,AP$3),\"\",_xlfn.AGGREGATE(15,6,(ROW(#REF!)-ROW(#REF!))/((#REF!=AP$3)*(#REF!=Delivery_List!$D27)*(#REF!=Delivery_List!Select_Date)*(#REF!=\"เบิก\")),1)),\"\")","v":""},{"$f":"IF(AK27=\"\",\"\",INDEX(#REF!,MATCH(Delivery_List!AK27,#REF!,0)))","v":{"$error":"#REF!"}},{"$f":"IF(AH27=\"\",\"\",COUNT(AH$12:AH27))","v":""},"16-ขนมปังไส้หมูหยองใหญ่",null,null,{"$f":"IF(AK27=\"\",\"\",SUMPRODUCT((#REF!=AP$3)*(#REF!=AK27)*(#REF!=\"ยกมา\")*(#REF!=Delivery_List!Select_Date)*#REF!))","v":{"$error":"#REF!"}},{"$f":"_xlfn.SINGLE(IF(AH27=\"\",\"\",INDEX(#REF!,AH27)))","v":{"$error":"#NAME?"}},null,null,{"$f":"IF(AK27=\"\",\"\",INDEX(#REF!,MATCH(Delivery_List!AK27,#REF!,0)))","v":{"$error":"#REF!"}},""]
[{"$f":"IFERROR(IF(COUNT($A$11:$A27)+1>COUNTIF(#REF!,I$3),\"\",_xlfn.AGGREGATE(15,6,(ROW(#REF!)-ROW(#REF!))/((#REF!=I$3)*(#REF!=Delivery_List!$D28)*(#REF!=Delivery_List!Select_Date)*(#REF!=\"เบิก\")),1)),\"\")","v":""},{"$f":"IF(D28=\"\",\"\",INDEX(#REF!,MATCH(Delivery_List!D28,#REF!,0)))","v":{"$error":"#REF!"}},{"$f":"IF(A28=\"\",\"\",COUNT(A$12:A28))","v":""},"17-ขนมปังไส้ครีมสลัด",null,null,{"$f":"IF(D28=\"\",\"\",SUMPRODUCT((#REF!=I$3)*(#REF!=D28)*(#REF!=\"ยกมา\")*(#REF!=Delivery_List!Select_Date)*#REF!))","v":{"$error":"#REF!"}},{"$f":"_xlfn.SINGLE(IF(A28=\"\",\"\",INDEX(#REF!,A28)))","v":{"$error":"#NAME?"}},null,null,{"$f":"IF(D28=\"\",\"\",INDEX(#REF!,MATCH(Delivery_List!D28,#REF!,0)))","v":{"$error":"#REF!"}},{"$f":"IFERROR(IF(COUNT($A$11:$A27)+1>COUNTIF(#REF!,T$3),\"\",_xlfn.AGGREGATE(15,6,(ROW(#REF!)-ROW(#REF!))/((#REF!=T$3)*(#REF!=Delivery_List!$D28)*(#REF!=Delivery_List!Select_Date)*(#REF!=\"เบิก\")),1)),\"\")","v":""},{"$f":"IF(O28=\"\",\"\",INDEX(#REF!,MATCH(Delivery_List!O28,#REF!,0)))","v":{"$error":"#REF!"}},{"$f":"IF(L28=\"\",\"\",COUNT(L$12:L28))","v":""},"17-ขนมปังไส้ครีมสลัด",null,null,{"$f":"IF(O28=\"\",\"\",SUMPRODUCT((#REF!=T$3)*(#REF!=O28)*(#REF!=\"ยกมา\")*(#REF!=Delivery_List!Select_Date)*#REF!))","v":{"$error":"#REF!"}},{"$f":"_xlfn.SINGLE(IF(L28=\"\",\"\",INDEX(#REF!,L28)))","v":{"$error":"#NAME?"}},null,null,{"$f":"IF(O28=\"\",\"\",INDEX(#REF!,MATCH(Delivery_List!O28,#REF!,0)))","v":{"$error":"#REF!"}},{"$f":"IFERROR(IF(COUNT($A$11:$A27)+1>COUNTIF(#REF!,AE$3),\"\",_xlfn.AGGREGATE(15,6,(ROW(#REF!)-ROW(#REF!))/((#REF!=AE$3)*(#REF!=Delivery_List!$D28)*(#REF!=Delivery_List!Select_Date)*(#REF!=\"เบิก\")),1)),\"\")","v":""},{"$f":"IF(Z28=\"\",\"\",INDEX(#REF!,MATCH(Delivery_List!Z28,#REF!,0)))","v":{"$error":"#REF!"}},{"$f":"IF(W28=\"\",\"\",COUNT(W$12:W28))","v":""},"17-ขนมปังไส้ครีมสลัด",null,null,{"$f":"IF(Z28=\"\",\"\",SUMPRODUCT((#REF!=AE$3)*(#REF!=Z28)*(#REF!=\"ยกมา\")*(#REF!=Delivery_List!Select_Date)*#REF!))","v":{"$error":"#REF!"}},{"$f":"_xlfn.SINGLE(IF(W28=\"\",\"\",INDEX(#REF!,W28)))","v":{"$error":"#NAME?"}},null,null,{"$f":"IF(Z28=\"\",\"\",INDEX(#REF!,MATCH(Delivery_List!Z28,#REF!,0)))","v":{"$error":"#REF!"}},{"$f":"IFERROR(IF(COUNT($A$11:$A27)+1>COUNTIF(#REF!,AP$3),\"\",_xlfn.AGGREGATE(15,6,(ROW(#REF!)-ROW(#REF!))/((#REF!=AP$3)*(#REF!=Delivery_List!$D28)*(#REF!=Delivery_List!Select_Date)*(#REF!=\"เบิก\")),1)),\"\")","v":""},{"$f":"IF(AK28=\"\",\"\",INDEX(#REF!,MATCH(Delivery_List!AK28,#REF!,0)))","v":{"$error":"#REF!"}},{"$f":"IF(AH28=\"\",\"\",COUNT(AH$12:AH28))","v":""},"17-ขนมปังไส้ครีมสลัด",null,null,{"$f":"IF(AK28=\"\",\"\",SUMPRODUCT((#REF!=AP$3)*(#REF!=AK28)*(#REF!=\"ยกมา\")*(#REF!=Delivery_List!Select_Date)*#REF!))","v":{"$error":"#REF!"}},{"$f":"_xlfn.SINGLE(IF(AH28=\"\",\"\",INDEX(#REF!,AH28)))","v":{"$error":"#NAME?"}},null,null,{"$f":"IF(AK28=\"\",\"\",INDEX(#REF!,MATCH(Delivery_List!AK28,#REF!,0)))","v":{"$error":"#REF!"}},""]
[{"$f":"IFERROR(IF(COUNT($A$11:$A28)+1>COUNTIF(#REF!,I$3),\"\",_xlfn.AGGREGATE(15,6,(ROW(#REF!)-ROW(#REF!))/((#REF!=I$3)*(#REF!=Delivery_List!$D29)*(#REF!=Delivery_List!Select_Date)*(#REF!=\"เบิก\")),1)),\"\")","v":""},{"$f":"IF(D29=\"\",\"\",INDEX(#REF!,MATCH(Delivery_List!D29,#REF!,0)))","v":{"$error":"#REF!"}},{"$f":"IF(A29=\"\",\"\",COUNT(A$12:A29))","v":""},"18-ขนมปังไก่หยองน้ำสลัด",null,null,{"$f":"IF(D29=\"\",\"\",SUMPRODUCT((#REF!=I$3)*(#REF!=D29)*(#REF!=\"ยกมา\")*(#REF!=Delivery_List!Select_Date)*#REF!))","v":{"$error":"#REF!"}},{"$f":"_xlfn.SINGLE(IF(A29=\"\",\"\",INDEX(#REF!,A29)))","v":{"$error":"#NAME?"}},null,null,{"$f":"IF(D29=\"\",\"\",INDEX(#REF!,MATCH(Delivery_List!D29,#REF!,0)))","v":{"$error":"#REF!"}},{"$f":"IFERROR(IF(COUNT($A$11:$A28)+1>COUNTIF(#REF!,T$3),\"\",_xlfn.AGGREGATE(15,6,(ROW(#REF!)-ROW(#REF!))/((#REF!=T$3)*(#REF!=Delivery_List!$D29)*(#REF!=Delivery_List!Select_Date)*(#REF!=\"เบิก\")),1)),\"\")","v":""},{"$f":"IF(O29=\"\",\"\",INDEX(#REF!,MATCH(Delivery_List!O29,#REF!,0)))","v":{"$error":"#REF!"}},{"$f":"IF(L29=\"\",\"\",COUNT(L$12:L29))","v":""},"18-ขนมปังไก่หยองน้ำสลัด",null,null,{"$f":"IF(O29=\"\",\"\",SUMPRODUCT((#REF!=T$3)*(#REF!=O29)*(#REF!=\"ยกมา\")*(#REF!=Delivery_List!Select_Date)*#REF!))","v":{"$error":"#REF!"}},{"$f":"_xlfn.SINGLE(IF(L29=\"\",\"\",INDEX(#REF!,L29)))","v":{"$error":"#NAME?"}},null,null,{"$f":"IF(O29=\"\",\"\",INDEX(#REF!,MATCH(Delivery_List!O29,#REF!,0)))","v":{"$error":"#REF!"}},{"$f":"IFERROR(IF(COUNT($A$11:$A28)+1>COUNTIF(#REF!,AE$3),\"\",_xlfn.AGGREGATE(15,6,(ROW(#REF!)-ROW(#REF!))/((#REF!=AE$3)*(#REF!=Delivery_List!$D29)*(#REF!=Delivery_List!Select_Date)*(#REF!=\"เบิก\")),1)),\"\")","v":""},{"$f":"IF(Z29=\"\",\"\",INDEX(#REF!,MATCH(Delivery_List!Z29,#REF!,0)))","v":{"$error":"#REF!"}},{"$f":"IF(W29=\"\",\"\",COUNT(W$12:W29))","v":""},"18-ขนมปังไก่หยองน้ำสลัด",null,null,{"$f":"IF(Z29=\"\",\"\",SUMPRODUCT((#REF!=AE$3)*(#REF!=Z29)*(#REF!=\"ยกมา\")*(#REF!=Delivery_List!Select_Date)*#REF!))","v":{"$error":"#REF!"}},{"$f":"_xlfn.SINGLE(IF(W29=\"\",\"\",INDEX(#REF!,W29)))","v":{"$error":"#NAME?"}},null,null,{"$f":"IF(Z29=\"\",\"\",INDEX(#REF!,MATCH(Delivery_List!Z29,#REF!,0)))","v":{"$error":"#REF!"}},{"$f":"IFERROR(IF(COUNT($A$11:$A28)+1>COUNTIF(#REF!,AP$3),\"\",_xlfn.AGGREGATE(15,6,(ROW(#REF!)-ROW(#REF!))/((#REF!=AP$3)*(#REF!=Delivery_List!$D29)*(#REF!=Delivery_List!Select_Date)*(#REF!=\"เบิก\")),1)),\"\")","v":""},{"$f":"IF(AK29=\"\",\"\",INDEX(#REF!,MATCH(Delivery_List!AK29,#REF!,0)))","v":{"$error":"#REF!"}},{"$f":"IF(AH29=\"\",\"\",COUNT(AH$12:AH29))","v":""},"18-ขนมปังไก่หยองน้ำสลัด",null,null,{"$f":"IF(AK29=\"\",\"\",SUMPRODUCT((#REF!=AP$3)*(#REF!=AK29)*(#REF!=\"ยกมา\")*(#REF!=Delivery_List!Select_Date)*#REF!))","v":{"$error":"#REF!"}},{"$f":"_xlfn.SINGLE(IF(AH29=\"\",\"\",INDEX(#REF!,AH29)))","v":{"$error":"#NAME?"}},null,null,{"$f":"IF(AK29=\"\",\"\",INDEX(#REF!,MATCH(Delivery_List!AK29,#REF!,0)))","v":{"$error":"#REF!"}},""]
[{"$f":"IFERROR(IF(COUNT($A$11:$A29)+1>COUNTIF(#REF!,I$3),\"\",_xlfn.AGGREGATE(15,6,(ROW(#REF!)-ROW(#REF!))/((#REF!=I$3)*(#REF!=Delivery_List!$D30)*(#REF!=Delivery_List!Select_Date)*(#REF!=\"เบิก\")),1)),\"\")","v":""},{"$f":"IF(D30=\"\",\"\",INDEX(#REF!,MATCH(Delivery_List!D30,#REF!,0)))","v":{"$error":"#REF!"}},{"$f":"IF(A30=\"\",\"\",COUNT(A$12:A30))","v":""},"20-ปังกรอบเนยสด",null,null,{"$f":"IF(D30=\"\",\"\",SUMPRODUCT((#REF!=I$3)*(#REF!=D30)*(#REF!=\"ยกมา\")*(#REF!=Delivery_List!Select_Date)*#REF!))","v":{"$error":"#REF!"}},{"$f":"_xlfn.SINGLE(IF(A30=\"\",\"\",INDEX(#REF!,A30)))","v":{"$error":"#NAME?"}},null,null,{"$f":"IF(D30=\"\",\"\",INDEX(#REF!,MATCH(Delivery_List!D30,#REF!,0)))","v":{"$error":"#REF!"}},{"$f":"IFERROR(IF(COUNT($A$11:$A29)+1>COUNTIF(#REF!,T$3),\"\",_xlfn.AGGREGATE(15,6,(ROW(#REF!)-ROW(#REF!))/((#REF!=T$3)*(#REF!=Delivery_List!$D30)*(#REF!=Delivery_List!Select_Date)*(#REF!=\"เบิก\")),1)),\"\")","v":""},{"$f":"IF(O30=\"\",\"\",INDEX(#REF!,MATCH(Delivery_List!O30,#REF!,0)))","v":{"$error":"#REF!"}},{"$f":"IF(L30=\"\",\"\",COUNT(L$12:L30))","v":""},"20-ปังกรอบเนยสด",null,null,{"$f":"IF(O30=\"\",\"\",SUMPRODUCT((#REF!=T$3)*(#REF!=O30)*(#REF!=\"ยกมา\")*(#REF!=Delivery_List!Select_Date)*#REF!))","v":{"$error":"#REF!"}},{"$f":"_xlfn.SINGLE(IF(L30=\"\",\"\",INDEX(#REF!,L30)))","v":{"$error":"#NAME?"}},null,null,{"$f":"IF(O30=\"\",\"\",INDEX(#REF!,MATCH(Delivery_List!O30,#REF!,0)))","v":{"$error":"#REF!"}},{"$f":"IFERROR(IF(COUNT($A$11:$A29)+1>COUNTIF(#REF!,AE$3),\"\",_xlfn.AGGREGATE(15,6,(ROW(#REF!)-ROW(#REF!))/((#REF!=AE$3)*(#REF!=Delivery_List!$D30)*(#REF!=Delivery_List!Select_Date)*(#REF!=\"เบิก\")),1)),\"\")","v":""},{"$f":"IF(Z30=\"\",\"\",INDEX(#REF!,MATCH(Delivery_List!Z30,#REF!,0)))","v":{"$error":"#REF!"}},{"$f":"IF(W30=\"\",\"\",COUNT(W$12:W30))","v":""},"20-ปังกรอบเนยสด",null,null,{"$f":"IF(Z30=\"\",\"\",SUMPRODUCT((#REF!=AE$3)*(#REF!=Z30)*(#REF!=\"ยกมา\")*(#REF!=Delivery_List!Select_Date)*#REF!))","v":{"$error":"#REF!"}},{"$f":"_xlfn.SINGLE(IF(W30=\"\",\"\",INDEX(#REF!,W30)))","v":{"$error":"#NAME?"}},null,null,{"$f":"IF(Z30=\"\",\"\",INDEX(#REF!,MATCH(Delivery_List!Z30,#REF!,0)))","v":{"$error":"#REF!"}},{"$f":"IFERROR(IF(COUNT($A$11:$A29)+1>COUNTIF(#REF!,AP$3),\"\",_xlfn.AGGREGATE(15,6,(ROW(#REF!)-ROW(#REF!))/((#REF!=AP$3)*(#REF!=Delivery_List!$D30)*(#REF!=Delivery_List!Select_Date)*(#REF!=\"เบิก\")),1)),\"\")","v":""},{"$f":"IF(AK30=\"\",\"\",INDEX(#REF!,MATCH(Delivery_List!AK30,#REF!,0)))","v":{"$error":"#REF!"}},{"$f":"IF(AH30=\"\",\"\",COUNT(AH$12:AH30))","v":""},"20-ปังกรอบเนยสด",null,null,{"$f":"IF(AK30=\"\",\"\",SUMPRODUCT((#REF!=AP$3)*(#REF!=AK30)*(#REF!=\"ยกมา\")*(#REF!=Delivery_List!Select_Date)*#REF!))","v":{"$error":"#REF!"}},{"$f":"_xlfn.SINGLE(IF(AH30=\"\",\"\",INDEX(#REF!,AH30)))","v":{"$error":"#NAME?"}},null,null,{"$f":"IF(AK30=\"\",\"\",INDEX(#REF!,MATCH(Delivery_List!AK30,#REF!,0)))","v":{"$error":"#REF!"}},""]
[{"$f":"IFERROR(IF(COUNT($A$11:$A30)+1>COUNTIF(#REF!,I$3),\"\",_xlfn.AGGREGATE(15,6,(ROW(#REF!)-ROW(#REF!))/((#REF!=I$3)*(#REF!=Delivery_List!$D31)*(#REF!=Delivery_List!Select_Date)*(#REF!=\"เบิก\")),1)),\"\")","v":""},{"$f":"IF(D31=\"\",\"\",INDEX(#REF!,MATCH(Delivery_List!D31,#REF!,0)))","v":{"$error":"#REF!"}},{"$f":"IF(A31=\"\",\"\",COUNT(A$12:A31))","v":""},"21-ปังกรอบกระเทียม",null,null,{"$f":"IF(D31=\"\",\"\",SUMPRODUCT((#REF!=I$3)*(#REF!=D31)*(#REF!=\"ยกมา\")*(#REF!=Delivery_List!Select_Date)*#REF!))","v":{"$error":"#REF!"}},{"$f":"_xlfn.SINGLE(IF(A31=\"\",\"\",INDEX(#REF!,A31)))","v":{"$error":"#NAME?"}},null,null,{"$f":"IF(D31=\"\",\"\",INDEX(#REF!,MATCH(Delivery_List!D31,#REF!,0)))","v":{"$error":"#REF!"}},{"$f":"IFERROR(IF(COUNT($A$11:$A30)+1>COUNTIF(#REF!,T$3),\"\",_xlfn.AGGREGATE(15,6,(ROW(#REF!)-ROW(#REF!))/((#REF!=T$3)*(#REF!=Delivery_List!$D31)*(#REF!=Delivery_List!Select_Date)*(#REF!=\"เบิก\")),1)),\"\")","v":""},{"$f":"IF(O31=\"\",\"\",INDEX(#REF!,MATCH(Delivery_List!O31,#REF!,0)))","v":{"$error":"#REF!"}},{"$f":"IF(L31=\"\",\"\",COUNT(L$12:L31))","v":""},"21-ปังกรอบกระเทียม",null,null,{"$f":"IF(O31=\"\",\"\",SUMPRODUCT((#REF!=T$3)*(#REF!=O31)*(#REF!=\"ยกมา\")*(#REF!=Delivery_List!Select_Date)*#REF!))","v":{"$error":"#REF!"}},{"$f":"_xlfn.SINGLE(IF(L31=\"\",\"\",INDEX(#REF!,L31)))","v":{"$error":"#NAME?"}},null,null,{"$f":"IF(O31=\"\",\"\",INDEX(#REF!,MATCH(Delivery_List!O31,#REF!,0)))","v":{"$error":"#REF!"}},{"$f":"IFERROR(IF(COUNT($A$11:$A30)+1>COUNTIF(#REF!,AE$3),\"\",_xlfn.AGGREGATE(15,6,(ROW(#REF!)-ROW(#REF!))/((#REF!=AE$3)*(#REF!=Delivery_List!$D31)*(#REF!=Delivery_List!Select_Date)*(#REF!=\"เบิก\")),1)),\"\")","v":""},{"$f":"IF(Z31=\"\",\"\",INDEX(#REF!,MATCH(Delivery_List!Z31,#REF!,0)))","v":{"$error":"#REF!"}},{"$f":"IF(W31=\"\",\"\",COUNT(W$12:W31))","v":""},"21-ปังกรอบกระเทียม",null,null,{"$f":"IF(Z31=\"\",\"\",SUMPRODUCT((#REF!=AE$3)*(#REF!=Z31)*(#REF!=\"ยกมา\")*(#REF!=Delivery_List!Select_Date)*#REF!))","v":{"$error":"#REF!"}},{"$f":"_xlfn.SINGLE(IF(W31=\"\",\"\",INDEX(#REF!,W31)))","v":{"$error":"#NAME?"}},null,null,{"$f":"IF(Z31=\"\",\"\",INDEX(#REF!,MATCH(Delivery_List!Z31,#REF!,0)))","v":{"$error":"#REF!"}},{"$f":"IFERROR(IF(COUNT($A$11:$A30)+1>COUNTIF(#REF!,AP$3),\"\",_xlfn.AGGREGATE(15,6,(ROW(#REF!)-ROW(#REF!))/((#REF!=AP$3)*(#REF!=Delivery_List!$D31)*(#REF!=Delivery_List!Select_Date)*(#REF!=\"เบิก\")),1)),\"\")","v":""},{"$f":"IF(AK31=\"\",\"\",INDEX(#REF!,MATCH(Delivery_List!AK31,#REF!,0)))","v":{"$error":"#REF!"}},{"$f":"IF(AH31=\"\",\"\",COUNT(AH$12:AH31))","v":""},"21-ปังกรอบกระเทียม",null,null,{"$f":"IF(AK31=\"\",\"\",SUMPRODUCT((#REF!=AP$3)*(#REF!=AK31)*(#REF!=\"ยกมา\")*(#REF!=Delivery_List!Select_Date)*#REF!))","v":{"$error":"#REF!"}},{"$f":"_xlfn.SINGLE(IF(AH31=\"\",\"\",INDEX(#REF!,AH31)))","v":{"$error":"#NAME?"}},null,null,{"$f":"IF(AK31=\"\",\"\",INDEX(#REF!,MATCH(Delivery_List!AK31,#REF!,0)))","v":{"$error":"#REF!"}},""]
[{"$f":"IFERROR(IF(COUNT($A$11:$A31)+1>COUNTIF(#REF!,I$3),\"\",_xlfn.AGGREGATE(15,6,(ROW(#REF!)-ROW(#REF!))/((#REF!=I$3)*(#REF!=Delivery_List!$D32)*(#REF!=Delivery_List!Select_Date)*(#REF!=\"เบิก\")),1)),\"\")","v":""},{"$f":"IF(D32=\"\",\"\",INDEX(#REF!,MATCH(Delivery_List!D32,#REF!,0)))","v":{"$error":"#REF!"}},{"$f":"IF(A32=\"\",\"\",COUNT(A$12:A32))","v":""},"23-ขนมปังหมูหยองน้ำพริกเผา",null,null,{"$f":"IF(D32=\"\",\"\",SUMPRODUCT((#REF!=I$3)*(#REF!=D32)*(#REF!=\"ยกมา\")*(#REF!=Delivery_List!Select_Date)*#REF!))","v":{"$error":"#REF!"}},{"$f":"_xlfn.SINGLE(IF(A32=\"\",\"\",INDEX(#REF!,A32)))","v":{"$error":"#NAME?"}},null,null,{"$f":"IF(D32=\"\",\"\",INDEX(#REF!,MATCH(Delivery_List!D32,#REF!,0)))","v":{"$error":"#REF!"}},{"$f":"IFERROR(IF(COUNT($A$11:$A31)+1>COUNTIF(#REF!,T$3),\"\",_xlfn.AGGREGATE(15,6,(ROW(#REF!)-ROW(#REF!))/((#REF!=T$3)*(#REF!=Delivery_List!$D32)*(#REF!=Delivery_List!Select_Date)*(#REF!=\"เบิก\")),1)),\"\")","v":""},{"$f":"IF(O32=\"\",\"\",INDEX(#REF!,MATCH(Delivery_List!O32,#REF!,0)))","v":{"$error":"#REF!"}},{"$f":"IF(L32=\"\",\"\",COUNT(L$12:L32))","v":""},"23-ขนมปังหมูหยองน้ำพริกเผา",null,null,{"$f":"IF(O32=\"\",\"\",SUMPRODUCT((#REF!=T$3)*(#REF!=O32)*(#REF!=\"ยกมา\")*(#REF!=Delivery_List!Select_Date)*#REF!))","v":{"$error":"#REF!"}},{"$f":"_xlfn.SINGLE(IF(L32=\"\",\"\",INDEX(#REF!,L32)))","v":{"$error":"#NAME?"}},null,null,{"$f":"IF(O32=\"\",\"\",INDEX(#REF!,MATCH(Delivery_List!O32,#REF!,0)))","v":{"$error":"#REF!"}},{"$f":"IFERROR(IF(COUNT($A$11:$A31)+1>COUNTIF(#REF!,AE$3),\"\",_xlfn.AGGREGATE(15,6,(ROW(#REF!)-ROW(#REF!))/((#REF!=AE$3)*(#REF!=Delivery_List!$D32)*(#REF!=Delivery_List!Select_Date)*(#REF!=\"เบิก\")),1)),\"\")","v":""},{"$f":"IF(Z32=\"\",\"\",INDEX(#REF!,MATCH(Delivery_List!Z32,#REF!,0)))","v":{"$error":"#REF!"}},{"$f":"IF(W32=\"\",\"\",COUNT(W$12:W32))","v":""},"23-ขนมปังหมูหยองน้ำพริกเผา",null,null,{"$f":"IF(Z32=\"\",\"\",SUMPRODUCT((#REF!=AE$3)*(#REF!=Z32)*(#REF!=\"ยกมา\")*(#REF!=Delivery_List!Select_Date)*#REF!))","v":{"$error":"#REF!"}},{"$f":"_xlfn.SINGLE(IF(W32=\"\",\"\",INDEX(#REF!,W32)))","v":{"$error":"#NAME?"}},null,null,{"$f":"IF(Z32=\"\",\"\",INDEX(#REF!,MATCH(Delivery_List!Z32,#REF!,0)))","v":{"$error":"#REF!"}},{"$f":"IFERROR(IF(COUNT($A$11:$A31)+1>COUNTIF(#REF!,AP$3),\"\",_xlfn.AGGREGATE(15,6,(ROW(#REF!)-ROW(#REF!))/((#REF!=AP$3)*(#REF!=Delivery_List!$D32)*(#REF!=Delivery_List!Select_Date)*(#REF!=\"เบิก\")),1)),\"\")","v":""},{"$f":"IF(AK32=\"\",\"\",INDEX(#REF!,MATCH(Delivery_List!AK32,#REF!,0)))","v":{"$error":"#REF!"}},{"$f":"IF(AH32=\"\",\"\",COUNT(AH$12:AH32))","v":""},"23-ขนมปังหมูหยองน้ำพริกเผา",null,null,{"$f":"IF(AK32=\"\",\"\",SUMPRODUCT((#REF!=AP$3)*(#REF!=AK32)*(#REF!=\"ยกมา\")*(#REF!=Delivery_List!Select_Date)*#REF!))","v":{"$error":"#REF!"}},{"$f":"_xlfn.SINGLE(IF(AH32=\"\",\"\",INDEX(#REF!,AH32)))","v":{"$error":"#NAME?"}},null,null,{"$f":"IF(AK32=\"\",\"\",INDEX(#REF!,MATCH(Delivery_List!AK32,#REF!,0)))","v":{"$error":"#REF!"}},""]
[{"$f":"IFERROR(IF(COUNT($A$11:$A32)+1>COUNTIF(#REF!,I$3),\"\",_xlfn.AGGREGATE(15,6,(ROW(#REF!)-ROW(#REF!))/((#REF!=I$3)*(#REF!=Delivery_List!$D33)*(#REF!=Delivery_List!Select_Date)*(#REF!=\"เบิก\")),1)),\"\")","v":""},{"$f":"IF(D33=\"\",\"\",INDEX(#REF!,MATCH(Delivery_List!D33,#REF!,0)))","v":{"$error":"#REF!"}},{"$f":"IF(A33=\"\",\"\",COUNT(A$12:A33))","v":""},"28-ขนมปังชนิดแผ่น (460 กรัม)",null,null,{"$f":"IF(D33=\"\",\"\",SUMPRODUCT((#REF!=I$3)*(#REF!=D33)*(#REF!=\"ยกมา\")*(#REF!=Delivery_List!Select_Date)*#REF!))","v":{"$error":"#REF!"}},{"$f":"_xlfn.SINGLE(IF(A33=\"\",\"\",INDEX(#REF!,A33)))","v":{"$error":"#NAME?"}},null,null,{"$f":"IF(D33=\"\",\"\",INDEX(#REF!,MATCH(Delivery_List!D33,#REF!,0)))","v":{"$error":"#REF!"}},{"$f":"IFERROR(IF(COUNT($A$11:$A32)+1>COUNTIF(#REF!,T$3),\"\",_xlfn.AGGREGATE(15,6,(ROW(#REF!)-ROW(#REF!))/((#REF!=T$3)*(#REF!=Delivery_List!$D33)*(#REF!=Delivery_List!Select_Date)*(#REF!=\"เบิก\")),1)),\"\")","v":""},{"$f":"IF(O33=\"\",\"\",INDEX(#REF!,MATCH(Delivery_List!O33,#REF!,0)))","v":{"$error":"#REF!"}},{"$f":"IF(L33=\"\",\"\",COUNT(L$12:L33))","v":""},"28-ขนมปังชนิดแผ่น (460 กรัม)",null,null,{"$f":"IF(O33=\"\",\"\",SUMPRODUCT((#REF!=T$3)*(#REF!=O33)*(#REF!=\"ยกมา\")*(#REF!=Delivery_List!Select_Date)*#REF!))","v":{"$error":"#REF!"}},{"$f":"_xlfn.SINGLE(IF(L33=\"\",\"\",INDEX(#REF!,L33)))","v":{"$error":"#NAME?"}},null,null,{"$f":"IF(O33=\"\",\"\",INDEX(#REF!,MATCH(Delivery_List!O33,#REF!,0)))","v":{"$error":"#REF!"}},{"$f":"IFERROR(IF(COUNT($A$11:$A32)+1>COUNTIF(#REF!,AE$3),\"\",_xlfn.AGGREGATE(15,6,(ROW(#REF!)-ROW(#REF!))/((#REF!=AE$3)*(#REF!=Delivery_List!$D33)*(#REF!=Delivery_List!Select_Date)*(#REF!=\"เบิก\")),1)),\"\")","v":""},{"$f":"IF(Z33=\"\",\"\",INDEX(#REF!,MATCH(Delivery_List!Z33,#REF!,0)))","v":{"$error":"#REF!"}},{"$f":"IF(W33=\"\",\"\",COUNT(W$12:W33))","v":""},"28-ขนมปังชนิดแผ่น (460 กรัม)",null,null,{"$f":"IF(Z33=\"\",\"\",SUMPRODUCT((#REF!=AE$3)*(#REF!=Z33)*(#REF!=\"ยกมา\")*(#REF!=Delivery_List!Select_Date)*#REF!))","v":{"$error":"#REF!"}},{"$f":"_xlfn.SINGLE(IF(W33=\"\",\"\",INDEX(#REF!,W33)))","v":{"$error":"#NAME?"}},null,null,{"$f":"IF(Z33=\"\",\"\",INDEX(#REF!,MATCH(Delivery_List!Z33,#REF!,0)))","v":{"$error":"#REF!"}},{"$f":"IFERROR(IF(COUNT($A$11:$A32)+1>COUNTIF(#REF!,AP$3),\"\",_xlfn.AGGREGATE(15,6,(ROW(#REF!)-ROW(#REF!))/((#REF!=AP$3)*(#REF!=Delivery_List!$D33)*(#REF!=Delivery_List!Select_Date)*(#REF!=\"เบิก\")),1)),\"\")","v":""},{"$f":"IF(AK33=\"\",\"\",INDEX(#REF!,MATCH(Delivery_List!AK33,#REF!,0)))","v":{"$error":"#REF!"}},{"$f":"IF(AH33=\"\",\"\",COUNT(AH$12:AH33))","v":""},"28-ขนมปังชนิดแผ่น (460 กรัม)",null,null,{"$f":"IF(AK33=\"\",\"\",SUMPRODUCT((#REF!=AP$3)*(#REF!=AK33)*(#REF!=\"ยกมา\")*(#REF!=Delivery_List!Select_Date)*#REF!))","v":{"$error":"#REF!"}},{"$f":"_xlfn.SINGLE(IF(AH33=\"\",\"\",INDEX(#REF!,AH33)))","v":{"$error":"#NAME?"}},null,null,{"$f":"IF(AK33=\"\",\"\",INDEX(#REF!,MATCH(Delivery_List!AK33,#REF!,0)))","v":{"$error":"#REF!"}},""]
[{"$f":"IFERROR(IF(COUNT($A$11:$A33)+1>COUNTIF(#REF!,I$3),\"\",_xlfn.AGGREGATE(15,6,(ROW(#REF!)-ROW(#REF!))/((#REF!=I$3)*(#REF!=Delivery_List!$D34)*(#REF!=Delivery_List!Select_Date)*(#REF!=\"เบิก\")),1)),\"\")","v":""},{"$f":"IF(D34=\"\",\"\",INDEX(#REF!,MATCH(Delivery_List!D34,#REF!,0)))","v":{"$error":"#REF!"}},{"$f":"IF(A34=\"\",\"\",COUNT(A$12:A34))","v":""},"31-ขนมปังแผ่นหน้าเนยสด",null,null,{"$f":"IF(D34=\"\",\"\",SUMPRODUCT((#REF!=I$3)*(#REF!=D34)*(#REF!=\"ยกมา\")*(#REF!=Delivery_List!Select_Date)*#REF!))","v":{"$error":"#REF!"}},{"$f":"_xlfn.SINGLE(IF(A34=\"\",\"\",INDEX(#REF!,A34)))","v":{"$error":"#NAME?"}},null,null,{"$f":"IF(D34=\"\",\"\",INDEX(#REF!,MATCH(Delivery_List!D34,#REF!,0)))","v":{"$error":"#REF!"}},{"$f":"IFERROR(IF(COUNT($A$11:$A33)+1>COUNTIF(#REF!,T$3),\"\",_xlfn.AGGREGATE(15,6,(ROW(#REF!)-ROW(#REF!))/((#REF!=T$3)*(#REF!=Delivery_List!$D34)*(#REF!=Delivery_List!Select_Date)*(#REF!=\"เบิก\")),1)),\"\")","v":""},{"$f":"IF(O34=\"\",\"\",INDEX(#REF!,MATCH(Delivery_List!O34,#REF!,0)))","v":{"$error":"#REF!"}},{"$f":"IF(L34=\"\",\"\",COUNT(L$12:L34))","v":""},"31-ขนมปังแผ่นหน้าเนยสด",null,null,{"$f":"IF(O34=\"\",\"\",SUMPRODUCT((#REF!=T$3)*(#REF!=O34)*(#REF!=\"ยกมา\")*(#REF!=Delivery_List!Select_Date)*#REF!))","v":{"$error":"#REF!"}},{"$f":"_xlfn.SINGLE(IF(L34=\"\",\"\",INDEX(#REF!,L34)))","v":{"$error":"#NAME?"}},null,null,{"$f":"IF(O34=\"\",\"\",INDEX(#REF!,MATCH(Delivery_List!O34,#REF!,0)))","v":{"$error":"#REF!"}},{"$f":"IFERROR(IF(COUNT($A$11:$A33)+1>COUNTIF(#REF!,AE$3),\"\",_xlfn.AGGREGATE(15,6,(ROW(#REF!)-ROW(#REF!))/((#REF!=AE$3)*(#REF!=Delivery_List!$D34)*(#REF!=Delivery_List!Select_Date)*(#REF!=\"เบิก\")),1)),\"\")","v":""},{"$f":"IF(Z34=\"\",\"\",INDEX(#REF!,MATCH(Delivery_List!Z34,#REF!,0)))","v":{"$error":"#REF!"}},{"$f":"IF(W34=\"\",\"\",COUNT(W$12:W34))","v":""},"31-ขนมปังแผ่นหน้าเนยสด",null,null,{"$f":"IF(Z34=\"\",\"\",SUMPRODUCT((#REF!=AE$3)*(#REF!=Z34)*(#REF!=\"ยกมา\")*(#REF!=Delivery_List!Select_Date)*#REF!))","v":{"$error":"#REF!"}},{"$f":"_xlfn.SINGLE(IF(W34=\"\",\"\",INDEX(#REF!,W34)))","v":{"$error":"#NAME?"}},null,null,{"$f":"IF(Z34=\"\",\"\",INDEX(#REF!,MATCH(Delivery_List!Z34,#REF!,0)))","v":{"$error":"#REF!"}},{"$f":"IFERROR(IF(COUNT($A$11:$A33)+1>COUNTIF(#REF!,AP$3),\"\",_xlfn.AGGREGATE(15,6,(ROW(#REF!)-ROW(#REF!))/((#REF!=AP$3)*(#REF!=Delivery_List!$D34)*(#REF!=Delivery_List!Select_Date)*(#REF!=\"เบิก\")),1)),\"\")","v":""},{"$f":"IF(AK34=\"\",\"\",INDEX(#REF!,MATCH(Delivery_List!AK34,#REF!,0)))","v":{"$error":"#REF!"}},{"$f":"IF(AH34=\"\",\"\",COUNT(AH$12:AH34))","v":""},"31-ขนมปังแผ่นหน้าเนยสด",null,null,{"$f":"IF(AK34=\"\",\"\",SUMPRODUCT((#REF!=AP$3)*(#REF!=AK34)*(#REF!=\"ยกมา\")*(#REF!=Delivery_List!Select_Date)*#REF!))","v":{"$error":"#REF!"}},{"$f":"_xlfn.SINGLE(IF(AH34=\"\",\"\",INDEX(#REF!,AH34)))","v":{"$error":"#NAME?"}},null,null,{"$f":"IF(AK34=\"\",\"\",INDEX(#REF!,MATCH(Delivery_List!AK34,#REF!,0)))","v":{"$error":"#REF!"}},""]
[{"$f":"IFERROR(IF(COUNT($A$11:$A34)+1>COUNTIF(#REF!,I$3),\"\",_xlfn.AGGREGATE(15,6,(ROW(#REF!)-ROW(#REF!))/((#REF!=I$3)*(#REF!=Delivery_List!$D35)*(#REF!=Delivery_List!Select_Date)*(#REF!=\"เบิก\")),1)),\"\")","v":""},{"$f":"IF(D35=\"\",\"\",INDEX(#REF!,MATCH(Delivery_List!D35,#REF!,0)))","v":{"$error":"#REF!"}},{"$f":"IF(A35=\"\",\"\",COUNT(A$12:A35))","v":""},"38-ขนมปังพิซซ่าปูอัดแฮม",null,null,{"$f":"IF(D35=\"\",\"\",SUMPRODUCT((#REF!=I$3)*(#REF!=D35)*(#REF!=\"ยกมา\")*(#REF!=Delivery_List!Select_Date)*#REF!))","v":{"$error":"#REF!"}},{"$f":"_xlfn.SINGLE(IF(A35=\"\",\"\",INDEX(#REF!,A35)))","v":{"$error":"#NAME?"}},null,null,{"$f":"IF(D35=\"\",\"\",INDEX(#REF!,MATCH(Delivery_List!D35,#REF!,0)))","v":{"$error":"#REF!"}},{"$f":"IFERROR(IF(COUNT($A$11:$A34)+1>COUNTIF(#REF!,T$3),\"\",_xlfn.AGGREGATE(15,6,(ROW(#REF!)-ROW(#REF!))/((#REF!=T$3)*(#REF!=Delivery_List!$D35)*(#REF!=Delivery_List!Select_Date)*(#REF!=\"เบิก\")),1)),\"\")","v":""},{"$f":"IF(O35=\"\",\"\",INDEX(#REF!,MATCH(Delivery_List!O35,#REF!,0)))","v":{"$error":"#REF!"}},{"$f":"IF(L35=\"\",\"\",COUNT(L$12:L35))","v":""},"38-ขนมปังพิซซ่าปูอัดแฮม",null,null,{"$f":"IF(O35=\"\",\"\",SUMPRODUCT((#REF!=T$3)*(#REF!=O35)*(#REF!=\"ยกมา\")*(#REF!=Delivery_List!Select_Date)*#REF!))","v":{"$error":"#REF!"}},{"$f":"_xlfn.SINGLE(IF(L35=\"\",\"\",INDEX(#REF!,L35)))","v":{"$error":"#NAME?"}},null,null,{"$f":"IF(O35=\"\",\"\",INDEX(#REF!,MATCH(Delivery_List!O35,#REF!,0)))","v":{"$error":"#REF!"}},{"$f":"IFERROR(IF(COUNT($A$11:$A34)+1>COUNTIF(#REF!,AE$3),\"\",_xlfn.AGGREGATE(15,6,(ROW(#REF!)-ROW(#REF!))/((#REF!=AE$3)*(#REF!=Delivery_List!$D35)*(#REF!=Delivery_List!Select_Date)*(#REF!=\"เบิก\")),1)),\"\")","v":""},{"$f":"IF(Z35=\"\",\"\",INDEX(#REF!,MATCH(Delivery_List!Z35,#REF!,0)))","v":{"$error":"#REF!"}},{"$f":"IF(W35=\"\",\"\",COUNT(W$12:W35))","v":""},"38-ขนมปังพิซซ่าปูอัดแฮม",null,null,{"$f":"IF(Z35=\"\",\"\",SUMPRODUCT((#REF!=AE$3)*(#REF!=Z35)*(#REF!=\"ยกมา\")*(#REF!=Delivery_List!Select_Date)*#REF!))","v":{"$error":"#REF!"}},{"$f":"_xlfn.SINGLE(IF(W35=\"\",\"\",INDEX(#REF!,W35)))","v":{"$error":"#NAME?"}},null,null,{"$f":"IF(Z35=\"\",\"\",INDEX(#REF!,MATCH(Delivery_List!Z35,#REF!,0)))","v":{"$error":"#REF!"}},{"$f":"IFERROR(IF(COUNT($A$11:$A34)+1>COUNTIF(#REF!,AP$3),\"\",_xlfn.AGGREGATE(15,6,(ROW(#REF!)-ROW(#REF!))/((#REF!=AP$3)*(#REF!=Delivery_List!$D35)*(#REF!=Delivery_List!Select_Date)*(#REF!=\"เบิก\")),1)),\"\")","v":""},{"$f":"IF(AK35=\"\",\"\",INDEX(#REF!,MATCH(Delivery_List!AK35,#REF!,0)))","v":{"$error":"#REF!"}},{"$f":"IF(AH35=\"\",\"\",COUNT(AH$12:AH35))","v":""},"38-ขนมปังพิซซ่าปูอัดแฮม",null,null,{"$f":"IF(AK35=\"\",\"\",SUMPRODUCT((#REF!=AP$3)*(#REF!=AK35)*(#REF!=\"ยกมา\")*(#REF!=Delivery_List!Select_Date)*#REF!))","v":{"$error":"#REF!"}},{"$f":"_xlfn.SINGLE(IF(AH35=\"\",\"\",INDEX(#REF!,AH35)))","v":{"$error":"#NAME?"}},null,null,{"$f":"IF(AK35=\"\",\"\",INDEX(#REF!,MATCH(Delivery_List!AK35,#REF!,0)))","v":{"$error":"#REF!"}},""]
[{"$f":"IFERROR(IF(COUNT($A$11:$A35)+1>COUNTIF(#REF!,I$3),\"\",_xlfn.AGGREGATE(15,6,(ROW(#REF!)-ROW(#REF!))/((#REF!=I$3)*(#REF!=Delivery_List!$D36)*(#REF!=Delivery_List!Select_Date)*(#REF!=\"เบิก\")),1)),\"\")","v":""},{"$f":"IF(D36=\"\",\"\",INDEX(#REF!,MATCH(Delivery_List!D36,#REF!,0)))","v":{"$error":"#REF!"}},{"$f":"IF(A36=\"\",\"\",COUNT(A$12:A36))","v":""},"39-ขนมปังไส้กรอกคอกเทลหมู",null,null,{"$f":"IF(D36=\"\",\"\",SUMPRODUCT((#REF!=I$3)*(#REF!=D36)*(#REF!=\"ยกมา\")*(#REF!=Delivery_List!Select_Date)*#REF!))","v":{"$error":"#REF!"}},{"$f":"_xlfn.SINGLE(IF(A36=\"\",\"\",INDEX(#REF!,A36)))","v":{"$error":"#NAME?"}},null,null,{"$f":"IF(D36=\"\",\"\",INDEX(#REF!,MATCH(Delivery_List!D36,#REF!,0)))","v":{"$error":"#REF!"}},{"$f":"IFERROR(IF(COUNT($A$11:$A35)+1>COUNTIF(#REF!,T$3),\"\",_xlfn.AGGREGATE(15,6,(ROW(#REF!)-ROW(#REF!))/((#REF!=T$3)*(#REF!=Delivery_List!$D36)*(#REF!=Delivery_List!Select_Date)*(#REF!=\"เบิก\")),1)),\"\")","v":""},{"$f":"IF(O36=\"\",\"\",INDEX(#REF!,MATCH(Delivery_List!O36,#REF!,0)))","v":{"$error":"#REF!"}},{"$f":"IF(L36=\"\",\"\",COUNT(L$12:L36))","v":""},"39-ขนมปังไส้กรอกคอกเทลหมู",null,null,{"$f":"IF(O36=\"\",\"\",SUMPRODUCT((#REF!=T$3)*(#REF!=O36)*(#REF!=\"ยกมา\")*(#REF!=Delivery_List!Select_Date)*#REF!))","v":{"$error":"#REF!"}},{"$f":"_xlfn.SINGLE(IF(L36=\"\",\"\",INDEX(#REF!,L36)))","v":{"$error":"#NAME?"}},null,null,{"$f":"IF(O36=\"\",\"\",INDEX(#REF!,MATCH(Delivery_List!O36,#REF!,0)))","v":{"$error":"#REF!"}},{"$f":"IFERROR(IF(COUNT($A$11:$A35)+1>COUNTIF(#REF!,AE$3),\"\",_xlfn.AGGREGATE(15,6,(ROW(#REF!)-ROW(#REF!))/((#REF!=AE$3)*(#REF!=Delivery_List!$D36)*(#REF!=Delivery_List!Select_Date)*(#REF!=\"เบิก\")),1)),\"\")","v":""},{"$f":"IF(Z36=\"\",\"\",INDEX(#REF!,MATCH(Delivery_List!Z36,#REF!,0)))","v":{"$error":"#REF!"}},{"$f":"IF(W36=\"\",\"\",COUNT(W$12:W36))","v":""},"39-ขนมปังไส้กรอกคอกเทลหมู",null,null,{"$f":"IF(Z36=\"\",\"\",SUMPRODUCT((#REF!=AE$3)*(#REF!=Z36)*(#REF!=\"ยกมา\")*(#REF!=Delivery_List!Select_Date)*#REF!))","v":{"$error":"#REF!"}},{"$f":"_xlfn.SINGLE(IF(W36=\"\",\"\",INDEX(#REF!,W36)))","v":{"$error":"#NAME?"}},null,null,{"$f":"IF(Z36=\"\",\"\",INDEX(#REF!,MATCH(Delivery_List!Z36,#REF!,0)))","v":{"$error":"#REF!"}},{"$f":"IFERROR(IF(COUNT($A$11:$A35)+1>COUNTIF(#REF!,AP$3),\"\",_xlfn.AGGREGATE(15,6,(ROW(#REF!)-ROW(#REF!))/((#REF!=AP$3)*(#REF!=Delivery_List!$D36)*(#REF!=Delivery_List!Select_Date)*(#REF!=\"เบิก\")),1)),\"\")","v":""},{"$f":"IF(AK36=\"\",\"\",INDEX(#REF!,MATCH(Delivery_List!AK36,#REF!,0)))","v":{"$error":"#REF!"}},{"$f":"IF(AH36=\"\",\"\",COUNT(AH$12:AH36))","v":""},"39-ขนมปังไส้กรอกคอกเทลหมู",null,null,{"$f":"IF(AK36=\"\",\"\",SUMPRODUCT((#REF!=AP$3)*(#REF!=AK36)*(#REF!=\"ยกมา\")*(#REF!=Delivery_List!Select_Date)*#REF!))","v":{"$error":"#REF!"}},{"$f":"_xlfn.SINGLE(IF(AH36=\"\",\"\",INDEX(#REF!,AH36)))","v":{"$error":"#NAME?"}},null,null,{"$f":"IF(AK36=\"\",\"\",INDEX(#REF!,MATCH(Delivery_List!AK36,#REF!,0)))","v":{"$error":"#REF!"}},""]
[{"$f":"IFERROR(IF(COUNT($A$11:$A36)+1>COUNTIF(#REF!,I$3),\"\",_xlfn.AGGREGATE(15,6,(ROW(#REF!)-ROW(#REF!))/((#REF!=I$3)*(#REF!=Delivery_List!$D37)*(#REF!=Delivery_List!Select_Date)*(#REF!=\"เบิก\")),1)),\"\")","v":""},{"$f":"IF(D37=\"\",\"\",INDEX(#REF!,MATCH(Delivery_List!D37,#REF!,0)))","v":""},{"$f":"IF(A37=\"\",\"\",COUNT(A$12:A37))","v":""},null,null,null,{"$f":"IF(D37=\"\",\"\",SUMPRODUCT((#REF!=I$3)*(#REF!=D37)*(#REF!=\"ยกมา\")*(#REF!=Delivery_List!Select_Date)*#REF!))","v":""},{"$f":"_xlfn.SINGLE(IF(A37=\"\",\"\",INDEX(#REF!,A37)))","v":{"$error":"#NAME?"}},null,null,{"$f":"IF(D37=\"\",\"\",INDEX(#REF!,MATCH(Delivery_List!D37,#REF!,0)))","v":""},{"$f":"IFERROR(IF(COUNT($A$11:$A36)+1>COUNTIF(#REF!,T$3),\"\",_xlfn.AGGREGATE(15,6,(ROW(#REF!)-ROW(#REF!))/((#REF!=T$3)*(#REF!=Delivery_List!$D37)*(#REF!=Delivery_List!Select_Date)*(#REF!=\"เบิก\")),1)),\"\")","v":""},{"$f":"IF(O37=\"\",\"\",INDEX(#REF!,MATCH(Delivery_List!O37,#REF!,0)))","v":""},{"$f":"IF(L37=\"\",\"\",COUNT(L$12:L37))","v":""},"",null,null,{"$f":"IF(O37=\"\",\"\",SUMPRODUCT((#REF!=T$3)*(#REF!=O37)*(#REF!=\"ยกมา\")*(#REF!=Delivery_List!Select_Date)*#REF!))","v":""},{"$f":"_xlfn.SINGLE(IF(L37=\"\",\"\",INDEX(#REF!,L37)))","v":{"$error":"#NAME?"}},null,null,{"$f":"IF(O37=\"\",\"\",INDEX(#REF!,MATCH(Delivery_List!O37,#REF!,0)))","v":""},{"$f":"IFERROR(IF(COUNT($A$11:$A36)+1>COUNTIF(#REF!,AE$3),\"\",_xlfn.AGGREGATE(15,6,(ROW(#REF!)-ROW(#REF!))/((#REF!=AE$3)*(#REF!=Delivery_List!$D37)*(#REF!=Delivery_List!Select_Date)*(#REF!=\"เบิก\")),1)),\"\")","v":""},{"$f":"IF(Z37=\"\",\"\",INDEX(#REF!,MATCH(Delivery_List!Z37,#REF!,0)))","v":""},{"$f":"IF(W37=\"\",\"\",COUNT(W$12:W37))","v":""},"",null,null,{"$f":"IF(Z37=\"\",\"\",SUMPRODUCT((#REF!=AE$3)*(#REF!=Z37)*(#REF!=\"ยกมา\")*(#REF!=Delivery_List!Select_Date)*#REF!))","v":""},{"$f":"_xlfn.SINGLE(IF(W37=\"\",\"\",INDEX(#REF!,W37)))","v":{"$error":"#NAME?"}},null,null,{"$f":"IF(Z37=\"\",\"\",INDEX(#REF!,MATCH(Delivery_List!Z37,#REF!,0)))","v":""},{"$f":"IFERROR(IF(COUNT($A$11:$A36)+1>COUNTIF(#REF!,AP$3),\"\",_xlfn.AGGREGATE(15,6,(ROW(#REF!)-ROW(#REF!))/((#REF!=AP$3)*(#REF!=Delivery_List!$D37)*(#REF!=Delivery_List!Select_Date)*(#REF!=\"เบิก\")),1)),\"\")","v":""},{"$f":"IF(AK37=\"\",\"\",INDEX(#REF!,MATCH(Delivery_List!AK37,#REF!,0)))","v":""},{"$f":"IF(AH37=\"\",\"\",COUNT(AH$12:AH37))","v":""},"",null,null,{"$f":"IF(AK37=\"\",\"\",SUMPRODUCT((#REF!=AP$3)*(#REF!=AK37)*(#REF!=\"ยกมา\")*(#REF!=Delivery_List!Select_Date)*#REF!))","v":""},{"$f":"_xlfn.SINGLE(IF(AH37=\"\",\"\",INDEX(#REF!,AH37)))","v":{"$error":"#NAME?"}},null,null,{"$f":"IF(AK37=\"\",\"\",INDEX(#REF!,MATCH(Delivery_List!AK37,#REF!,0)))","v":""},""]
[{"$f":"IFERROR(IF(COUNT($A$11:$A37)+1>COUNTIF(#REF!,I$3),\"\",_xlfn.AGGREGATE(15,6,(ROW(#REF!)-ROW(#REF!))/((#REF!=I$3)*(#REF!=Delivery_List!$D38)*(#REF!=Delivery_List!Select_Date)*(#REF!=\"เบิก\")),1)),\"\")","v":""},{"$f":"IF(D38=\"\",\"\",INDEX(#REF!,MATCH(Delivery_List!D38,#REF!,0)))","v":""},{"$f":"IF(A38=\"\",\"\",COUNT(A$12:A38))","v":""},null,null,null,{"$f":"IF(D38=\"\",\"\",SUMPRODUCT((#REF!=I$3)*(#REF!=D38)*(#REF!=\"ยกมา\")*(#REF!=Delivery_List!Select_Date)*#REF!))","v":""},{"$f":"_xlfn.SINGLE(IF(A38=\"\",\"\",INDEX(#REF!,A38)))","v":{"$error":"#NAME?"}},null,null,{"$f":"IF(D38=\"\",\"\",INDEX(#REF!,MATCH(Delivery_List!D38,#REF!,0)))","v":""},{"$f":"IFERROR(IF(COUNT($A$11:$A37)+1>COUNTIF(#REF!,T$3),\"\",_xlfn.AGGREGATE(15,6,(ROW(#REF!)-ROW(#REF!))/((#REF!=T$3)*(#REF!=Delivery_List!$D38)*(#REF!=Delivery_List!Select_Date)*(#REF!=\"เบิก\")),1)),\"\")","v":""},{"$f":"IF(O38=\"\",\"\",INDEX(#REF!,MATCH(Delivery_List!O38,#REF!,0)))","v":""},{"$f":"IF(L38=\"\",\"\",COUNT(L$12:L38))","v":""},"",null,null,{"$f":"IF(O38=\"\",\"\",SUMPRODUCT((#REF!=T$3)*(#REF!=O38)*(#REF!=\"ยกมา\")*(#REF!=Delivery_List!Select_Date)*#REF!))","v":""},{"$f":"_xlfn.SINGLE(IF(L38=\"\",\"\",INDEX(#REF!,L38)))","v":{"$error":"#NAME?"}},null,null,{"$f":"IF(O38=\"\",\"\",INDEX(#REF!,MATCH(Delivery_List!O38,#REF!,0)))","v":""},{"$f":"IFERROR(IF(COUNT($A$11:$A37)+1>COUNTIF(#REF!,AE$3),\"\",_xlfn.AGGREGATE(15,6,(ROW(#REF!)-ROW(#REF!))/((#REF!=AE$3)*(#REF!=Delivery_List!$D38)*(#REF!=Delivery_List!Select_Date)*(#REF!=\"เบิก\")),1)),\"\")","v":""},{"$f":"IF(Z38=\"\",\"\",INDEX(#REF!,MATCH(Delivery_List!Z38,#REF!,0)))","v":""},{"$f":"IF(W38=\"\",\"\",COUNT(W$12:W38))","v":""},"",null,null,{"$f":"IF(Z38=\"\",\"\",SUMPRODUCT((#REF!=AE$3)*(#REF!=Z38)*(#REF!=\"ยกมา\")*(#REF!=Delivery_List!Select_Date)*#REF!))","v":""},{"$f":"_xlfn.SINGLE(IF(W38=\"\",\"\",INDEX(#REF!,W38)))","v":{"$error":"#NAME?"}},null,null,{"$f":"IF(Z38=\"\",\"\",INDEX(#REF!,MATCH(Delivery_List!Z38,#REF!,0)))","v":""},{"$f":"IFERROR(IF(COUNT($A$11:$A37)+1>COUNTIF(#REF!,AP$3),\"\",_xlfn.AGGREGATE(15,6,(ROW(#REF!)-ROW(#REF!))/((#REF!=AP$3)*(#REF!=Delivery_List!$D38)*(#REF!=Delivery_List!Select_Date)*(#REF!=\"เบิก\")),1)),\"\")","v":""},{"$f":"IF(AK38=\"\",\"\",INDEX(#REF!,MATCH(Delivery_List!AK38,#REF!,0)))","v":""},{"$f":"IF(AH38=\"\",\"\",COUNT(AH$12:AH38))","v":""},"",null,null,{"$f":"IF(AK38=\"\",\"\",SUMPRODUCT((#REF!=AP$3)*(#REF!=AK38)*(#REF!=\"ยกมา\")*(#REF!=Delivery_List!Select_Date)*#REF!))","v":""},{"$f":"_xlfn.SINGLE(IF(AH38=\"\",\"\",INDEX(#REF!,AH38)))","v":{"$error":"#NAME?"}},null,null,{"$f":"IF(AK38=\"\",\"\",INDEX(#REF!,MATCH(Delivery_List!AK38,#REF!,0)))","v":""},""]
[{"$f":"IFERROR(IF(COUNT($A$11:$A38)+1>COUNTIF(#REF!,I$3),\"\",_xlfn.AGGREGATE(15,6,(ROW(#REF!)-ROW(#REF!))/((#REF!=I$3)*(#REF!=Delivery_List!$D39)*(#REF!=Delivery_List!Select_Date)*(#REF!=\"เบิก\")),1)),\"\")","v":""},{"$f":"IF(D39=\"\",\"\",INDEX(#REF!,MATCH(Delivery_List!D39,#REF!,0)))","v":""},{"$f":"IF(A39=\"\",\"\",COUNT(A$12:A39))","v":""},null,null,null,{"$f":"IF(D39=\"\",\"\",SUMPRODUCT((#REF!=I$3)*(#REF!=D39)*(#REF!=\"ยกมา\")*(#REF!=Delivery_List!Select_Date)*#REF!))","v":""},{"$f":"_xlfn.SINGLE(IF(A39=\"\",\"\",INDEX(#REF!,A39)))","v":{"$error":"#NAME?"}},null,null,{"$f":"IF(D39=\"\",\"\",INDEX(#REF!,MATCH(Delivery_List!D39,#REF!,0)))","v":""},{"$f":"IFERROR(IF(COUNT($A$11:$A38)+1>COUNTIF(#REF!,T$3),\"\",_xlfn.AGGREGATE(15,6,(ROW(#REF!)-ROW(#REF!))/((#REF!=T$3)*(#REF!=Delivery_List!$D39)*(#REF!=Delivery_List!Select_Date)*(#REF!=\"เบิก\")),1)),\"\")","v":""},{"$f":"IF(O39=\"\",\"\",INDEX(#REF!,MATCH(Delivery_List!O39,#REF!,0)))","v":""},{"$f":"IF(L39=\"\",\"\",COUNT(L$12:L39))","v":""},"",null,null,{"$f":"IF(O39=\"\",\"\",SUMPRODUCT((#REF!=T$3)*(#REF!=O39)*(#REF!=\"ยกมา\")*(#REF!=Delivery_List!Select_Date)*#REF!))","v":""},{"$f":"_xlfn.SINGLE(IF(L39=\"\",\"\",INDEX(#REF!,L39)))","v":{"$error":"#NAME?"}},null,null,{"$f":"IF(O39=\"\",\"\",INDEX(#REF!,MATCH(Delivery_List!O39,#REF!,0)))","v":""},{"$f":"IFERROR(IF(COUNT($A$11:$A38)+1>COUNTIF(#REF!,AE$3),\"\",_xlfn.AGGREGATE(15,6,(ROW(#REF!)-ROW(#REF!))/((#REF!=AE$3)*(#REF!=Delivery_List!$D39)*(#REF!=Delivery_List!Select_Date)*(#REF!=\"เบิก\")),1)),\"\")","v":""},{"$f":"IF(Z39=\"\",\"\",INDEX(#REF!,MATCH(Delivery_List!Z39,#REF!,0)))","v":""},{"$f":"IF(W39=\"\",\"\",COUNT(W$12:W39))","v":""},"",null,null,{"$f":"IF(Z39=\"\",\"\",SUMPRODUCT((#REF!=AE$3)*(#REF!=Z39)*(#REF!=\"ยกมา\")*(#REF!=Delivery_List!Select_Date)*#REF!))","v":""},{"$f":"_xlfn.SINGLE(IF(W39=\"\",\"\",INDEX(#REF!,W39)))","v":{"$error":"#NAME?"}},null,null,{"$f":"IF(Z39=\"\",\"\",INDEX(#REF!,MATCH(Delivery_List!Z39,#REF!,0)))","v":""},{"$f":"IFERROR(IF(COUNT($A$11:$A38)+1>COUNTIF(#REF!,AP$3),\"\",_xlfn.AGGREGATE(15,6,(ROW(#REF!)-ROW(#REF!))/((#REF!=AP$3)*(#REF!=Delivery_List!$D39)*(#REF!=Delivery_List!Select_Date)*(#REF!=\"เบิก\")),1)),\"\")","v":""},{"$f":"IF(AK39=\"\",\"\",INDEX(#REF!,MATCH(Delivery_List!AK39,#REF!,0)))","v":""},{"$f":"IF(AH39=\"\",\"\",COUNT(AH$12:AH39))","v":""},"",null,null,{"$f":"IF(AK39=\"\",\"\",SUMPRODUCT((#REF!=AP$3)*(#REF!=AK39)*(#REF!=\"ยกมา\")*(#REF!=Delivery_List!Select_Date)*#REF!))","v":""},{"$f":"_xlfn.SINGLE(IF(AH39=\"\",\"\",INDEX(#REF!,AH39)))","v":{"$error":"#NAME?"}},null,null,{"$f":"IF(AK39=\"\",\"\",INDEX(#REF!,MATCH(Delivery_List!AK39,#REF!,0)))","v":""},""]
[{"$f":"IFERROR(IF(COUNT($A$11:$A39)+1>COUNTIF(#REF!,I$3),\"\",_xlfn.AGGREGATE(15,6,(ROW(#REF!)-ROW(#REF!))/((#REF!=I$3)*(#REF!=Delivery_List!$D40)*(#REF!=Delivery_List!Select_Date)*(#REF!=\"เบิก\")),1)),\"\")","v":""},{"$f":"IF(D40=\"\",\"\",INDEX(#REF!,MATCH(Delivery_List!D40,#REF!,0)))","v":""},{"$f":"IF(A40=\"\",\"\",COUNT(A$12:A40))","v":""},null,null,null,{"$f":"IF(D40=\"\",\"\",SUMPRODUCT((#REF!=I$3)*(#REF!=D40)*(#REF!=\"ยกมา\")*(#REF!=Delivery_List!Select_Date)*#REF!))","v":""},{"$f":"_xlfn.SINGLE(IF(A40=\"\",\"\",INDEX(#REF!,A40)))","v":{"$error":"#NAME?"}},null,null,{"$f":"IF(D40=\"\",\"\",INDEX(#REF!,MATCH(Delivery_List!D40,#REF!,0)))","v":""},{"$f":"IFERROR(IF(COUNT($A$11:$A39)+1>COUNTIF(#REF!,T$3),\"\",_xlfn.AGGREGATE(15,6,(ROW(#REF!)-ROW(#REF!))/((#REF!=T$3)*(#REF!=Delivery_List!$D40)*(#REF!=Delivery_List!Select_Date)*(#REF!=\"เบิก\")),1)),\"\")","v":""},{"$f":"IF(O40=\"\",\"\",INDEX(#REF!,MATCH(Delivery_List!O40,#REF!,0)))","v":""},{"$f":"IF(L40=\"\",\"\",COUNT(L$12:L40))","v":""},"",null,null,{"$f":"IF(O40=\"\",\"\",SUMPRODUCT((#REF!=T$3)*(#REF!=O40)*(#REF!=\"ยกมา\")*(#REF!=Delivery_List!Select_Date)*#REF!))","v":""},{"$f":"_xlfn.SINGLE(IF(L40=\"\",\"\",INDEX(#REF!,L40)))","v":{"$error":"#NAME?"}},null,null,{"$f":"IF(O40=\"\",\"\",INDEX(#REF!,MATCH(Delivery_List!O40,#REF!,0)))","v":""},{"$f":"IFERROR(IF(COUNT($A$11:$A39)+1>COUNTIF(#REF!,AE$3),\"\",_xlfn.AGGREGATE(15,6,(ROW(#REF!)-ROW(#REF!))/((#REF!=AE$3)*(#REF!=Delivery_List!$D40)*(#REF!=Delivery_List!Select_Date)*(#REF!=\"เบิก\")),1)),\"\")","v":""},{"$f":"IF(Z40=\"\",\"\",INDEX(#REF!,MATCH(Delivery_List!Z40,#REF!,0)))","v":""},{"$f":"IF(W40=\"\",\"\",COUNT(W$12:W40))","v":""},"",null,null,{"$f":"IF(Z40=\"\",\"\",SUMPRODUCT((#REF!=AE$3)*(#REF!=Z40)*(#REF!=\"ยกมา\")*(#REF!=Delivery_List!Select_Date)*#REF!))","v":""},{"$f":"_xlfn.SINGLE(IF(W40=\"\",\"\",INDEX(#REF!,W40)))","v":{"$error":"#NAME?"}},null,null,{"$f":"IF(Z40=\"\",\"\",INDEX(#REF!,MATCH(Delivery_List!Z40,#REF!,0)))","v":""},{"$f":"IFERROR(IF(COUNT($A$11:$A39)+1>COUNTIF(#REF!,AP$3),\"\",_xlfn.AGGREGATE(15,6,(ROW(#REF!)-ROW(#REF!))/((#REF!=AP$3)*(#REF!=Delivery_List!$D40)*(#REF!=Delivery_List!Select_Date)*(#REF!=\"เบิก\")),1)),\"\")","v":""},{"$f":"IF(AK40=\"\",\"\",INDEX(#REF!,MATCH(Delivery_List!AK40,#REF!,0)))","v":""},{"$f":"IF(AH40=\"\",\"\",COUNT(AH$12:AH40))","v":""},"",null,null,{"$f":"IF(AK40=\"\",\"\",SUMPRODUCT((#REF!=AP$3)*(#REF!=AK40)*(#REF!=\"ยกมา\")*(#REF!=Delivery_List!Select_Date)*#REF!))","v":""},{"$f":"_xlfn.SINGLE(IF(AH40=\"\",\"\",INDEX(#REF!,AH40)))","v":{"$error":"#NAME?"}},null,null,{"$f":"IF(AK40=\"\",\"\",INDEX(#REF!,MATCH(Delivery_List!AK40,#REF!,0)))","v":""},""]
[{"$f":"IFERROR(IF(COUNT($A$11:$A40)+1>COUNTIF(#REF!,I$3),\"\",_xlfn.AGGREGATE(15,6,(ROW(#REF!)-ROW(#REF!))/((#REF!=I$3)*(#REF!=Delivery_List!$D41)*(#REF!=Delivery_List!Select_Date)*(#REF!=\"เบิก\")),1)),\"\")","v":""},{"$f":"IF(D41=\"\",\"\",INDEX(#REF!,MATCH(Delivery_List!D41,#REF!,0)))","v":""},{"$f":"IF(A41=\"\",\"\",COUNT(A$12:A41))","v":""},null,null,null,{"$f":"IF(D41=\"\",\"\",SUMPRODUCT((#REF!=I$3)*(#REF!=D41)*(#REF!=\"ยกมา\")*(#REF!=Delivery_List!Select_Date)*#REF!))","v":""},{"$f":"_xlfn.SINGLE(IF(A41=\"\",\"\",INDEX(#REF!,A41)))","v":{"$error":"#NAME?"}},null,null,{"$f":"IF(D41=\"\",\"\",INDEX(#REF!,MATCH(Delivery_List!D41,#REF!,0)))","v":""},{"$f":"IFERROR(IF(COUNT($A$11:$A40)+1>COUNTIF(#REF!,T$3),\"\",_xlfn.AGGREGATE(15,6,(ROW(#REF!)-ROW(#REF!))/((#REF!=T$3)*(#REF!=Delivery_List!$D41)*(#REF!=Delivery_List!Select_Date)*(#REF!=\"เบิก\")),1)),\"\")","v":""},{"$f":"IF(O41=\"\",\"\",INDEX(#REF!,MATCH(Delivery_List!O41,#REF!,0)))","v":""},{"$f":"IF(L41=\"\",\"\",COUNT(L$12:L41))","v":""},"",null,null,{"$f":"IF(O41=\"\",\"\",SUMPRODUCT((#REF!=T$3)*(#REF!=O41)*(#REF!=\"ยกมา\")*(#REF!=Delivery_List!Select_Date)*#REF!))","v":""},{"$f":"_xlfn.SINGLE(IF(L41=\"\",\"\",INDEX(#REF!,L41)))","v":{"$error":"#NAME?"}},null,null,{"$f":"IF(O41=\"\",\"\",INDEX(#REF!,MATCH(Delivery_List!O41,#REF!,0)))","v":""},{"$f":"IFERROR(IF(COUNT($A$11:$A40)+1>COUNTIF(#REF!,AE$3),\"\",_xlfn.AGGREGATE(15,6,(ROW(#REF!)-ROW(#REF!))/((#REF!=AE$3)*(#REF!=Delivery_List!$D41)*(#REF!=Delivery_List!Select_Date)*(#REF!=\"เบิก\")),1)),\"\")","v":""},{"$f":"IF(Z41=\"\",\"\",INDEX(#REF!,MATCH(Delivery_List!Z41,#REF!,0)))","v":""},{"$f":"IF(W41=\"\",\"\",COUNT(W$12:W41))","v":""},"",null,null,{"$f":"IF(Z41=\"\",\"\",SUMPRODUCT((#REF!=AE$3)*(#REF!=Z41)*(#REF!=\"ยกมา\")*(#REF!=Delivery_List!Select_Date)*#REF!))","v":""},{"$f":"_xlfn.SINGLE(IF(W41=\"\",\"\",INDEX(#REF!,W41)))","v":{"$error":"#NAME?"}},null,null,{"$f":"IF(Z41=\"\",\"\",INDEX(#REF!,MATCH(Delivery_List!Z41,#REF!,0)))","v":""},{"$f":"IFERROR(IF(COUNT($A$11:$A40)+1>COUNTIF(#REF!,AP$3),\"\",_xlfn.AGGREGATE(15,6,(ROW(#REF!)-ROW(#REF!))/((#REF!=AP$3)*(#REF!=Delivery_List!$D41)*(#REF!=Delivery_List!Select_Date)*(#REF!=\"เบิก\")),1)),\"\")","v":""},{"$f":"IF(AK41=\"\",\"\",INDEX(#REF!,MATCH(Delivery_List!AK41,#REF!,0)))","v":""},{"$f":"IF(AH41=\"\",\"\",COUNT(AH$12:AH41))","v":""},"",null,null,{"$f":"IF(AK41=\"\",\"\",SUMPRODUCT((#REF!=AP$3)*(#REF!=AK41)*(#REF!=\"ยกมา\")*(#REF!=Delivery_List!Select_Date)*#REF!))","v":""},{"$f":"_xlfn.SINGLE(IF(AH41=\"\",\"\",INDEX(#REF!,AH41)))","v":{"$error":"#NAME?"}},null,null,{"$f":"IF(AK41=\"\",\"\",INDEX(#REF!,MATCH(Delivery_List!AK41,#REF!,0)))","v":""},""]
[{"$f":"IFERROR(IF(COUNT($A$11:$A41)+1>COUNTIF(#REF!,I$3),\"\",_xlfn.AGGREGATE(15,6,(ROW(#REF!)-ROW(#REF!))/((#REF!=I$3)*(#REF!=Delivery_List!$D42)*(#REF!=Delivery_List!Select_Date)*(#REF!=\"เบิก\")),1)),\"\")","v":""},{"$f":"IF(D42=\"\",\"\",INDEX(#REF!,MATCH(Delivery_List!D42,#REF!,0)))","v":""},{"$f":"IF(A42=\"\",\"\",COUNT(A$12:A42))","v":""},null,null,null,{"$f":"IF(D42=\"\",\"\",SUMPRODUCT((#REF!=I$3)*(#REF!=D42)*(#REF!=\"ยกมา\")*(#REF!=Delivery_List!Select_Date)*#REF!))","v":""},{"$f":"_xlfn.SINGLE(IF(A42=\"\",\"\",INDEX(#REF!,A42)))","v":{"$error":"#NAME?"}},null,null,{"$f":"IF(D42=\"\",\"\",INDEX(#REF!,MATCH(Delivery_List!D42,#REF!,0)))","v":""},{"$f":"IFERROR(IF(COUNT($A$11:$A41)+1>COUNTIF(#REF!,T$3),\"\",_xlfn.AGGREGATE(15,6,(ROW(#REF!)-ROW(#REF!))/((#REF!=T$3)*(#REF!=Delivery_List!$D42)*(#REF!=Delivery_List!Select_Date)*(#REF!=\"เบิก\")),1)),\"\")","v":""},{"$f":"IF(O42=\"\",\"\",INDEX(#REF!,MATCH(Delivery_List!O42,#REF!,0)))","v":""},{"$f":"IF(L42=\"\",\"\",COUNT(L$12:L42))","v":""},"",null,null,{"$f":"IF(O42=\"\",\"\",SUMPRODUCT((#REF!=T$3)*(#REF!=O42)*(#REF!=\"ยกมา\")*(#REF!=Delivery_List!Select_Date)*#REF!))","v":""},{"$f":"_xlfn.SINGLE(IF(L42=\"\",\"\",INDEX(#REF!,L42)))","v":{"$error":"#NAME?"}},null,null,{"$f":"IF(O42=\"\",\"\",INDEX(#REF!,MATCH(Delivery_List!O42,#REF!,0)))","v":""},{"$f":"IFERROR(IF(COUNT($A$11:$A41)+1>COUNTIF(#REF!,AE$3),\"\",_xlfn.AGGREGATE(15,6,(ROW(#REF!)-ROW(#REF!))/((#REF!=AE$3)*(#REF!=Delivery_List!$D42)*(#REF!=Delivery_List!Select_Date)*(#REF!=\"เบิก\")),1)),\"\")","v":""},{"$f":"IF(Z42=\"\",\"\",INDEX(#REF!,MATCH(Delivery_List!Z42,#REF!,0)))","v":""},{"$f":"IF(W42=\"\",\"\",COUNT(W$12:W42))","v":""},"",null,null,{"$f":"IF(Z42=\"\",\"\",SUMPRODUCT((#REF!=AE$3)*(#REF!=Z42)*(#REF!=\"ยกมา\")*(#REF!=Delivery_List!Select_Date)*#REF!))","v":""},{"$f":"_xlfn.SINGLE(IF(W42=\"\",\"\",INDEX(#REF!,W42)))","v":{"$error":"#NAME?"}},null,null,{"$f":"IF(Z42=\"\",\"\",INDEX(#REF!,MATCH(Delivery_List!Z42,#REF!,0)))","v":""},{"$f":"IFERROR(IF(COUNT($A$11:$A41)+1>COUNTIF(#REF!,AP$3),\"\",_xlfn.AGGREGATE(15,6,(ROW(#REF!)-ROW(#REF!))/((#REF!=AP$3)*(#REF!=Delivery_List!$D42)*(#REF!=Delivery_List!Select_Date)*(#REF!=\"เบิก\")),1)),\"\")","v":""},{"$f":"IF(AK42=\"\",\"\",INDEX(#REF!,MATCH(Delivery_List!AK42,#REF!,0)))","v":""},{"$f":"IF(AH42=\"\",\"\",COUNT(AH$12:AH42))","v":""},"",null,null,{"$f":"IF(AK42=\"\",\"\",SUMPRODUCT((#REF!=AP$3)*(#REF!=AK42)*(#REF!=\"ยกมา\")*(#REF!=Delivery_List!Select_Date)*#REF!))","v":""},{"$f":"_xlfn.SINGLE(IF(AH42=\"\",\"\",INDEX(#REF!,AH42)))","v":{"$error":"#NAME?"}},null,null,{"$f":"IF(AK42=\"\",\"\",INDEX(#REF!,MATCH(Delivery_List!AK42,#REF!,0)))","v":""},""]
[{"$f":"IFERROR(IF(COUNT($A$11:$A42)+1>COUNTIF(#REF!,I$3),\"\",_xlfn.AGGREGATE(15,6,(ROW(#REF!)-ROW(#REF!))/((#REF!=I$3)*(#REF!=Delivery_List!$D43)*(#REF!=Delivery_List!Select_Date)*(#REF!=\"เบิก\")),1)),\"\")","v":""},{"$f":"IF(D43=\"\",\"\",INDEX(#REF!,MATCH(Delivery_List!D43,#REF!,0)))","v":""},{"$f":"IF(A43=\"\",\"\",COUNT(A$12:A43))","v":""},null,null,null,{"$f":"IF(D43=\"\",\"\",SUMPRODUCT((#REF!=I$3)*(#REF!=D43)*(#REF!=\"ยกมา\")*(#REF!=Delivery_List!Select_Date)*#REF!))","v":""},{"$f":"_xlfn.SINGLE(IF(A43=\"\",\"\",INDEX(#REF!,A43)))","v":{"$error":"#NAME?"}},null,null,{"$f":"IF(D43=\"\",\"\",INDEX(#REF!,MATCH(Delivery_List!D43,#REF!,0)))","v":""},{"$f":"IFERROR(IF(COUNT($A$11:$A42)+1>COUNTIF(#REF!,T$3),\"\",_xlfn.AGGREGATE(15,6,(ROW(#REF!)-ROW(#REF!))/((#REF!=T$3)*(#REF!=Delivery_List!$D43)*(#REF!=Delivery_List!Select_Date)*(#REF!=\"เบิก\")),1)),\"\")","v":""},{"$f":"IF(O43=\"\",\"\",INDEX(#REF!,MATCH(Delivery_List!O43,#REF!,0)))","v":""},{"$f":"IF(L43=\"\",\"\",COUNT(L$12:L43))","v":""},"",null,null,{"$f":"IF(O43=\"\",\"\",SUMPRODUCT((#REF!=T$3)*(#REF!=O43)*(#REF!=\"ยกมา\")*(#REF!=Delivery_List!Select_Date)*#REF!))","v":""},{"$f":"_xlfn.SINGLE(IF(L43=\"\",\"\",INDEX(#REF!,L43)))","v":{"$error":"#NAME?"}},null,null,{"$f":"IF(O43=\"\",\"\",INDEX(#REF!,MATCH(Delivery_List!O43,#REF!,0)))","v":""},{"$f":"IFERROR(IF(COUNT($A$11:$A42)+1>COUNTIF(#REF!,AE$3),\"\",_xlfn.AGGREGATE(15,6,(ROW(#REF!)-ROW(#REF!))/((#REF!=AE$3)*(#REF!=Delivery_List!$D43)*(#REF!=Delivery_List!Select_Date)*(#REF!=\"เบิก\")),1)),\"\")","v":""},{"$f":"IF(Z43=\"\",\"\",INDEX(#REF!,MATCH(Delivery_List!Z43,#REF!,0)))","v":""},{"$f":"IF(W43=\"\",\"\",COUNT(W$12:W43))","v":""},"",null,null,{"$f":"IF(Z43=\"\",\"\",SUMPRODUCT((#REF!=AE$3)*(#REF!=Z43)*(#REF!=\"ยกมา\")*(#REF!=Delivery_List!Select_Date)*#REF!))","v":""},{"$f":"_xlfn.SINGLE(IF(W43=\"\",\"\",INDEX(#REF!,W43)))","v":{"$error":"#NAME?"}},null,null,{"$f":"IF(Z43=\"\",\"\",INDEX(#REF!,MATCH(Delivery_List!Z43,#REF!,0)))","v":""},{"$f":"IFERROR(IF(COUNT($A$11:$A42)+1>COUNTIF(#REF!,AP$3),\"\",_xlfn.AGGREGATE(15,6,(ROW(#REF!)-ROW(#REF!))/((#REF!=AP$3)*(#REF!=Delivery_List!$D43)*(#REF!=Delivery_List!Select_Date)*(#REF!=\"เบิก\")),1)),\"\")","v":""},{"$f":"IF(AK43=\"\",\"\",INDEX(#REF!,MATCH(Delivery_List!AK43,#REF!,0)))","v":""},{"$f":"IF(AH43=\"\",\"\",COUNT(AH$12:AH43))","v":""},"",null,null,{"$f":"IF(AK43=\"\",\"\",SUMPRODUCT((#REF!=AP$3)*(#REF!=AK43)*(#REF!=\"ยกมา\")*(#REF!=Delivery_List!Select_Date)*#REF!))","v":""},{"$f":"_xlfn.SINGLE(IF(AH43=\"\",\"\",INDEX(#REF!,AH43)))","v":{"$error":"#NAME?"}},null,null,{"$f":"IF(AK43=\"\",\"\",INDEX(#REF!,MATCH(Delivery_List!AK43,#REF!,0)))","v":""},""]
[{"$f":"IFERROR(IF(COUNT($A$11:$A43)+1>COUNTIF(#REF!,I$3),\"\",_xlfn.AGGREGATE(15,6,(ROW(#REF!)-ROW(#REF!))/((#REF!=I$3)*(#REF!=Delivery_List!$D44)*(#REF!=Delivery_List!Select_Date)*(#REF!=\"เบิก\")),1)),\"\")","v":""},{"$f":"IF(D44=\"\",\"\",INDEX(#REF!,MATCH(Delivery_List!D44,#REF!,0)))","v":""},{"$f":"IF(A44=\"\",\"\",COUNT(A$12:A44))","v":""},null,null,null,{"$f":"IF(D44=\"\",\"\",SUMPRODUCT((#REF!=I$3)*(#REF!=D44)*(#REF!=\"ยกมา\")*(#REF!=Delivery_List!Select_Date)*#REF!))","v":""},{"$f":"_xlfn.SINGLE(IF(A44=\"\",\"\",INDEX(#REF!,A44)))","v":{"$error":"#NAME?"}},null,null,{"$f":"IF(D44=\"\",\"\",INDEX(#REF!,MATCH(Delivery_List!D44,#REF!,0)))","v":""},{"$f":"IFERROR(IF(COUNT($A$11:$A43)+1>COUNTIF(#REF!,T$3),\"\",_xlfn.AGGREGATE(15,6,(ROW(#REF!)-ROW(#REF!))/((#REF!=T$3)*(#REF!=Delivery_List!$D44)*(#REF!=Delivery_List!Select_Date)*(#REF!=\"เบิก\")),1)),\"\")","v":""},{"$f":"IF(O44=\"\",\"\",INDEX(#REF!,MATCH(Delivery_List!O44,#REF!,0)))","v":""},{"$f":"IF(L44=\"\",\"\",COUNT(L$12:L44))","v":""},"",null,null,{"$f":"IF(O44=\"\",\"\",SUMPRODUCT((#REF!=T$3)*(#REF!=O44)*(#REF!=\"ยกมา\")*(#REF!=Delivery_List!Select_Date)*#REF!))","v":""},{"$f":"_xlfn.SINGLE(IF(L44=\"\",\"\",INDEX(#REF!,L44)))","v":{"$error":"#NAME?"}},null,null,{"$f":"IF(O44=\"\",\"\",INDEX(#REF!,MATCH(Delivery_List!O44,#REF!,0)))","v":""},{"$f":"IFERROR(IF(COUNT($A$11:$A43)+1>COUNTIF(#REF!,AE$3),\"\",_xlfn.AGGREGATE(15,6,(ROW(#REF!)-ROW(#REF!))/((#REF!=AE$3)*(#REF!=Delivery_List!$D44)*(#REF!=Delivery_List!Select_Date)*(#REF!=\"เบิก\")),1)),\"\")","v":""},{"$f":"IF(Z44=\"\",\"\",INDEX(#REF!,MATCH(Delivery_List!Z44,#REF!,0)))","v":""},{"$f":"IF(W44=\"\",\"\",COUNT(W$12:W44))","v":""},"",null,null,{"$f":"IF(Z44=\"\",\"\",SUMPRODUCT((#REF!=AE$3)*(#REF!=Z44)*(#REF!=\"ยกมา\")*(#REF!=Delivery_List!Select_Date)*#REF!))","v":""},{"$f":"_xlfn.SINGLE(IF(W44=\"\",\"\",INDEX(#REF!,W44)))","v":{"$error":"#NAME?"}},null,null,{"$f":"IF(Z44=\"\",\"\",INDEX(#REF!,MATCH(Delivery_List!Z44,#REF!,0)))","v":""},{"$f":"IFERROR(IF(COUNT($A$11:$A43)+1>COUNTIF(#REF!,AP$3),\"\",_xlfn.AGGREGATE(15,6,(ROW(#REF!)-ROW(#REF!))/((#REF!=AP$3)*(#REF!=Delivery_List!$D44)*(#REF!=Delivery_List!Select_Date)*(#REF!=\"เบิก\")),1)),\"\")","v":""},{"$f":"IF(AK44=\"\",\"\",INDEX(#REF!,MATCH(Delivery_List!AK44,#REF!,0)))","v":""},{"$f":"IF(AH44=\"\",\"\",COUNT(AH$12:AH44))","v":""},"",null,null,{"$f":"IF(AK44=\"\",\"\",SUMPRODUCT((#REF!=AP$3)*(#REF!=AK44)*(#REF!=\"ยกมา\")*(#REF!=Delivery_List!Select_Date)*#REF!))","v":""},{"$f":"_xlfn.SINGLE(IF(AH44=\"\",\"\",INDEX(#REF!,AH44)))","v":{"$error":"#NAME?"}},null,null,{"$f":"IF(AK44=\"\",\"\",INDEX(#REF!,MATCH(Delivery_List!AK44,#REF!,0)))","v":""},""]
[{"$f":"IFERROR(IF(COUNT($A$11:$A44)+1>COUNTIF(#REF!,I$3),\"\",_xlfn.AGGREGATE(15,6,(ROW(#REF!)-ROW(#REF!))/((#REF!=I$3)*(#REF!=Delivery_List!$D45)*(#REF!=Delivery_List!Select_Date)*(#REF!=\"เบิก\")),1)),\"\")","v":""},{"$f":"IF(D45=\"\",\"\",INDEX(#REF!,MATCH(Delivery_List!D45,#REF!,0)))","v":""},{"$f":"IF(A45=\"\",\"\",COUNT(A$12:A45))","v":""},null,null,null,{"$f":"IF(D45=\"\",\"\",SUMPRODUCT((#REF!=I$3)*(#REF!=D45)*(#REF!=\"ยกมา\")*(#REF!=Delivery_List!Select_Date)*#REF!))","v":""},{"$f":"_xlfn.SINGLE(IF(A45=\"\",\"\",INDEX(#REF!,A45)))","v":{"$error":"#NAME?"}},null,null,{"$f":"IF(D45=\"\",\"\",INDEX(#REF!,MATCH(Delivery_List!D45,#REF!,0)))","v":""},{"$f":"IFERROR(IF(COUNT($A$11:$A44)+1>COUNTIF(#REF!,T$3),\"\",_xlfn.AGGREGATE(15,6,(ROW(#REF!)-ROW(#REF!))/((#REF!=T$3)*(#REF!=Delivery_List!$D45)*(#REF!=Delivery_List!Select_Date)*(#REF!=\"เบิก\")),1)),\"\")","v":""},{"$f":"IF(O45=\"\",\"\",INDEX(#REF!,MATCH(Delivery_List!O45,#REF!,0)))","v":""},{"$f":"IF(L45=\"\",\"\",COUNT(L$12:L45))","v":""},"",null,null,{"$f":"IF(O45=\"\",\"\",SUMPRODUCT((#REF!=T$3)*(#REF!=O45)*(#REF!=\"ยกมา\")*(#REF!=Delivery_List!Select_Date)*#REF!))","v":""},{"$f":"_xlfn.SINGLE(IF(L45=\"\",\"\",INDEX(#REF!,L45)))","v":{"$error":"#NAME?"}},null,null,{"$f":"IF(O45=\"\",\"\",INDEX(#REF!,MATCH(Delivery_List!O45,#REF!,0)))","v":""},{"$f":"IFERROR(IF(COUNT($A$11:$A44)+1>COUNTIF(#REF!,AE$3),\"\",_xlfn.AGGREGATE(15,6,(ROW(#REF!)-ROW(#REF!))/((#REF!=AE$3)*(#REF!=Delivery_List!$D45)*(#REF!=Delivery_List!Select_Date)*(#REF!=\"เบิก\")),1)),\"\")","v":""},{"$f":"IF(Z45=\"\",\"\",INDEX(#REF!,MATCH(Delivery_List!Z45,#REF!,0)))","v":""},{"$f":"IF(W45=\"\",\"\",COUNT(W$12:W45))","v":""},"",null,null,{"$f":"IF(Z45=\"\",\"\",SUMPRODUCT((#REF!=AE$3)*(#REF!=Z45)*(#REF!=\"ยกมา\")*(#REF!=Delivery_List!Select_Date)*#REF!))","v":""},{"$f":"_xlfn.SINGLE(IF(W45=\"\",\"\",INDEX(#REF!,W45)))","v":{"$error":"#NAME?"}},null,null,{"$f":"IF(Z45=\"\",\"\",INDEX(#REF!,MATCH(Delivery_List!Z45,#REF!,0)))","v":""},{"$f":"IFERROR(IF(COUNT($A$11:$A44)+1>COUNTIF(#REF!,AP$3),\"\",_xlfn.AGGREGATE(15,6,(ROW(#REF!)-ROW(#REF!))/((#REF!=AP$3)*(#REF!=Delivery_List!$D45)*(#REF!=Delivery_List!Select_Date)*(#REF!=\"เบิก\")),1)),\"\")","v":""},{"$f":"IF(AK45=\"\",\"\",INDEX(#REF!,MATCH(Delivery_List!AK45,#REF!,0)))","v":""},{"$f":"IF(AH45=\"\",\"\",COUNT(AH$12:AH45))","v":""},"",null,null,{"$f":"IF(AK45=\"\",\"\",SUMPRODUCT((#REF!=AP$3)*(#REF!=AK45)*(#REF!=\"ยกมา\")*(#REF!=Delivery_List!Select_Date)*#REF!))","v":""},{"$f":"_xlfn.SINGLE(IF(AH45=\"\",\"\",INDEX(#REF!,AH45)))","v":{"$error":"#NAME?"}},null,null,{"$f":"IF(AK45=\"\",\"\",INDEX(#REF!,MATCH(Delivery_List!AK45,#REF!,0)))","v":""},""]
[null,null,"รวมของแห้ง",null,null,null,{"$f":"SUM(G$12:G$45)","v":{"$error":"#REF!"}},{"$f":"SUM(H$12:H$45)","v":{"$error":"#NAME?"}},{"$f":"SUM(I$12:I$45)","v":0},0,null,null,null,"รวมของแห้ง",null,null,null,{"$f":"SUM(R$12:R$45)","v":{"$error":"#REF!"}},{"$f":"SUM(S$12:S$45)","v":{"$error":"#NAME?"}},{"$f":"SUM(T$12:T$45)","v":0},0,null,null,null,"รวมของแห้ง",null,null,null,{"$f":"SUM(AC$12:AC$45)","v":{"$error":"#REF!"}},{"$f":"SUM(AD$12:AD$45)","v":{"$error":"#NAME?"}},{"$f":"SUM(AE$12:AE$45)","v":0},0,null,null,null,"รวมของแห้ง",null,null,null,{"$f":"SUM(AN$12:AN$45)","v":{"$error":"#REF!"}},{"$f":"SUM(AO$12:AO$45)","v":{"$error":"#NAME?"}},{"$f":"SUM(AP$12:AP$45)","v":0},0,null,""]
[null,null,"ไม่รวมของแห้ง",null,null,null,{"$f":"SUMIF(K$12:K$45,\"ของสด\",G$12:G$45)","v":0},{"$f":"SUMIF(K$12:K$45,\"ของสด\",H$12:H$45)","v":0},{"$f":"SUMIF(K$12:K$45,\"ของสด\",I$12:I$45)","v":0},{"$f":"SUMIF(K$12:K$45,\"ของสด\",J$12:J$45)","v":0},null,null,null,"ไม่รวมของแห้ง",null,null,null,{"$f":"SUMIF(V$12:V$45,\"ของสด\",R$12:R$45)","v":0},{"$f":"SUMIF(V$12:V$45,\"ของสด\",S$12:S$45)","v":0},{"$f":"SUMIF(V$12:V$45,\"ของสด\",T$12:T$45)","v":0},{"$f":"SUMIF(V$12:V$45,\"ของสด\",U$12:U$45)","v":0},null,null,null,"ไม่รวมของแห้ง",null,null,null,{"$f":"SUMIF(AG$12:AG$45,\"ของสด\",AC$12:AC$45)","v":0},{"$f":"SUMIF(AG$12:AG$45,\"ของสด\",AD$12:AD$45)","v":0},{"$f":"SUMIF(AG$12:AG$45,\"ของสด\",AE$12:AE$45)","v":0},{"$f":"SUMIF(AG$12:AG$45,\"ของสด\",AF$12:AF$45)","v":0},null,null,null,"ไม่รวมของแห้ง",null,null,null,{"$f":"SUMIF(AR$12:AR$45,\"ของสด\",AN$12:AN$45)","v":0},{"$f":"SUMIF(AR$12:AR$45,\"ของสด\",AO$12:AO$45)","v":0},{"$f":"SUMIF(AR$12:AR$45,\"ของสด\",AP$12:AP$45)","v":0},{"$f":"SUMIF(AR$12:AR$45,\"ของสด\",AQ$12:AQ$45)","v":0},null,""]
[null,null,"ถาดขึ้น",null,null,null,"ผู้เบิก",null,null,null,null,null,null,"ถาดขึ้น",null,null,null,"ผู้เบิก",null,null,null,null,null,null,"ถาดขึ้น",null,null,null,"ผู้เบิก",null,null,null,null,null,null,"ถาดขึ้น",null,null,null,"ผู้เบิก",null,null,null,null,""]
[null,null,"ถาดกลับ",null,null,null,null,"เวลากลับ",null,null,null,null,null,"ถาดกลับ",null,null,null,null,"เวลากลับ",null,null,null,null,null,"ถาดกลับ",null,null,null,null,"เวลากลับ",null,null,null,null,null,"ถาดกลับ",null,null,null,null,"เวลากลับ",null,null,null,""]
[null,null,"ขนมเสีย",null,null,null,"กก.","ไมล์เข้า",null,null,null,null,null,"ขนมเสีย",null,null,null,"กก.","ไมล์เข้า",null,null,null,null,null,"ขนมเสีย",null,null,null,"กก.","ไมล์เข้า",null,null,null,null,null,"ขนมเสีย",null,null,null,"กก.","ไมล์เข้า",null,null,null,""]
[null,null,null,null,null,null,"ผู้ตรวจนับ",null,null,null,null,null,null,null,null,null,null,"ผู้ตรวจนับ",null,null,null,null,null,null,null,null,null,null,"ผู้ตรวจนับ",null,null,null,null,null,null,null,null,null,null,"ผู้ตรวจนับ",null,null,null,null,""]
[null,null,null,null,null,null,null,null,null,null,null,null,null,null,null,null,null,null,null,null,null,null,null,null,null,null,null,null,null,null,null,null,null,null,null,null,null,null,null,null,null,null,null,null,""]

{"sheet":"OrderFrm_Manual","index":5,"n_rows":299,"n_cols":20,"rows_kept":299,"cut":false,"hidden":false,"merged":[[2,2,2,7],[58,1,58,2],[16,3,16,8],[8,7,8,8],[5,7,6,9],[7,7,7,9],[4,7,4,9]]}
[]
[null,null,null,null,null,"SETTING","PRODUCTS","STOCK","REPORT"]
[null,null,{"$f":"\"แบบฟอร์มใบขอเบิกสินค้าประจำสาขา\"&B_Name&\" (Product Order Form)\"","v":"แบบฟอร์มใบขอเบิกสินค้าประจำสาขาสมุทรปราการ (Product Order Form)"},null,null,null,null,null,"โรงงาน:","00-FRY"]
[]
[null,"เลขที่",{"$f":"\"PO_\"&MID(SL_Factory,4,3)&\"_\"&RIGHT(BranchCode,2)&\"-\"&TEXT(OrderDate,\"[$-107041e]yymmdd;@\")","v":"PO_FRY_SK-660724"},null,null,null,null,{"$f":"\"สาขา \"&B_Name","v":"สาขา สมุทรปราการ"}]
[null,null,null,null,null,null,null,{"$f":"IFERROR(\"เลขที่ \"&IFERROR(LEFT(B_Address,FIND(\"จ.\",B_Address)-1),LEFT(B_Address,FIND(\"แขวง\",B_Address)-1)),\"\")","v":"เลขที่ 155/6 ม.1 ต.บางพลีน้อย อ.บางบ่อ "}]
[]
[null,null,null,null,null,null,null,{"$f":"IF(B_Address=0,\"\",IFERROR(RIGHT(B_Address,LEN(B_Address)-FIND(\"จ.\",B_Address)+1),MID(B_Address,FIND(\"แขวง\",B_Address),FIND(\"กรุง\",B_Address)-FIND(\"แขวง\",B_Address))))","v":"จ.สมุทรปราการ 10560"}]
[null,null,null,null,null,null,null,{"$f":"IFERROR(IF(ISERROR(FIND(\"จ.\",B_Address)),RIGHT(B_Address,LEN(B_Address)-FIND(\"กรุงเทพ\",B_Address)+1),\"\"),\"\")","v":""}]
[null,null,null,null,2,"สิงหาคม","2023-01-22"]
[null,"เรื่อง",{"$f":"\"ขอเบิกสินค้า เพื่อจัดจำหน่าย สาขา\"&B_Name &\" (\"&BranchCode&\")\"","v":"ขอเบิกสินค้า เพื่อจัดจำหน่าย สาขาสมุทรปราการ (10-SK)"}]
[null,"เรียน",{"$f":"\"ผู้จัดการ\"&INDEX(GB_Branches[Thai_Name],MATCH(SL_Factory,Factory_List,0))&\" (คุณ\"&INDEX(GB_Branches[Manager],MATCH(SL_Factory,Factory_List,0))&\" )\"","v":"ผู้จัดการโรงงานระยอง (คุณนรรฆวุฒิ จันทฤทธิ์ )"}]
[]
[null,null,{"$f":"\"เนื่องด้วย สาขา\"&B_Name&\" มีจำนวน \"&RouteNum&\" สายวิ่ง มีความประสงค์ขอเบิกสินค้า เพื่อจัดจำหน่าย ระหว่างวันที่  \"& TEXT($D$18,\"[$-107041E]d mmmm yyy\")","v":"เนื่องด้วย สาขาสมุทรปราการ มีจำนวน 8 สายวิ่ง มีความประสงค์ขอเบิกสินค้า เพื่อจัดจำหน่าย ระหว่างวันที่  24 กรกฎาคม 2566"}]
[null,{"$f":"\" ถึงวันที่ \"&TEXT($D$18+5,\"[$-107041E]d mmmm yyy\")&\"  จำนวนทั้งสิ้น \"&ROWS(OrderRange_Ref)-SUMPRODUCT((OFFSET(OrderRange_Ref,,1)=0)*(OFFSET(OrderRange_Ref,,2)=0)*(OFFSET(OrderRange_Ref,,3)=0)*(OFFSET(OrderRange_Ref,,4)=0)*(OFFSET(OrderRange_Ref,,5)=0)*(OFFSET(OrderRange_Ref,,6)=0))&\" รายการ \"&TEXT(SUM($D$59:$I$59),\"#,##0\")&\" ถาด โดยมีรายละเอียดดังนี้\"","v":" ถึงวันที่ 29 กรกฎาคม 2566  จำนวนทั้งสิ้น 0 รายการ 0 ถาด โดยมีรายละเอียดดังนี้"}]
[]
[null,null,null,"จำนวนสั่งซื้อ (ถาด)",null,null,null,null,null,null,"จำนวนสาย :",null,null,null,"** สูตรนี้กำหนดไว้ที่ประมาณ 280 รายการ"]
[null,"ลำดับ","รายการสินค้า","2023-07-24",{"$f":"D18+1","v":"2023-07-25"},{"$f":"E18+1","v":"2023-07-26"},"2023-07-27","2023-07-28","2023-07-29","รวมทั้งสิ้น",{"$f":"INDEX(GB_Branches[Route],MATCH(BranchCode,GB_Branches[Code],0))","v":"8"},null,null,null,"วันที่","สาขา","ประเภท","รายการสินค้า","จำนวนถาด","เกิน (ชิ้น)"]
[null,"No.","Items",2,3,4,5,6,7,"ถาด","Pcs/Tray",null,null,"Index","Date","Branch","Type","Products","Qty-Tray","Excess-Pcs"]
[null,{"$f":"IF($C20=\"\",\"\",ROWS($C$20:$C20))","v":1},{"$f":"IFERROR(INDEX(OD_Product_List,ROWS($20:20)),\"\")","v":"01-ขนมปังหมูหยองน้ำสลัด"},null,null,null,null,null,null,{"$f":"IF($C20=\"\",\"\",SUM(D20:I20))","v":0},{"$f":"IF(OrderFrm_Manual!$C20=\"\",\"\",INDEX(GB_Product[Pcs/Unit],MATCH(OrderFrm_Manual!$C20,GB_Product[NameTH],)))","v":"40"},null,null,{"$f":"IF(Cumulative>(ROW()-ROW($O$20)),_xlfn.AGGREGATE(15,6,(ROW(OrderRange_Ref)-ROW($L$19))/(OFFSET(OrderRange_Ref,,0)>0),ROWS($L$20:$L20)),IF(OFFSET(Cumulative,,1)>(ROW()-ROW($O$20)),_xlfn.AGGREGATE(15,6,(ROW(OrderRange_Ref)-ROW($L$19))/(OFFSET(OrderRange_Ref,,1)>0),ROWS($L$20:$L20)-OFFSET(Cumulative,,0)),IF(OFFSET(Cumulative,,2)>(ROW()-ROW($O$20)),_xlfn.AGGREGATE(15,6,(ROW(OrderRange_Ref)-ROW($L$19))/(OFFSET(OrderRange_Ref,,2)>0),ROWS($L$20:$L20)-OFFSET(Cumulative,,1)),IF(OFFSET(Cumulative,,3)>(ROW()-ROW($O$20)),_xlfn.AGGREGATE(15,6,(ROW(OrderRange_Ref)-ROW($L$19))/(OFFSET(OrderRange_Ref,,3)>0),ROWS($L$20:$L20)-OFFSET(Cumulative,,2)),IF(OFFSET(Cumulative,,4)>(ROW()-ROW($O$20)),_xlfn.AGGREGATE(15,6,(ROW(OrderRange_Ref)-ROW($L$19))/(OFFSET(OrderRange_Ref,,4)>0),ROWS($L$20:$L20)-OFFSET(Cumulative,,3)),IF(OFFSET(Cumulative,,5)>(ROW()-ROW($O$20)),_xlfn.AGGREGATE(15,6,(ROW(OrderRange_Ref)-ROW($L$19))/(OFFSET(OrderRange_Ref,,5)>0),ROWS($L$20:$L20)-OFFSET(Cumulative,,4)),\"\"))))))","v":""},{"$f":"IF(Cumulative>(ROW()-ROW($O$20)),OrderDate,IF(OFFSET(Cumulative,,1)>(ROW()-ROW($O$20)),OrderDate+1,IF(OFFSET(Cumulative,,2)>(ROW()-ROW($O$20)),OrderDate+2,IF(OFFSET(Cumulative,,3)>(ROW()-ROW($O$20)),OrderDate+3,IF(OFFSET(Cumulative,,4)>(ROW()-ROW($O$20)),OrderDate+4,IF(OFFSET(Cumulative,,5)>(ROW()-ROW($O$20)),OrderDate+5,\"\"))))))","v":""},{"$f":"IF($O20<>\"\",BranchCode,\"\")","v":""},{"$f":"IF($O20<>\"\",\"จ่าย\",\"\")","v":""},{"$f":"IFERROR(INDEX(Product_item,$N20),\"\")","v":""},{"$f":"IF($N20=\"\",\"\",ROUND(INDEX(Order_Data,$N20,MATCH($O20,$D$18:$I$18,0)),0))","v":""}]
[null,{"$f":"IF($C21=\"\",\"\",ROWS($C$20:$C21))","v":2},{"$f":"IFERROR(INDEX(OD_Product_List,ROWS($20:21)),\"\")","v":"02-ขนมปังหมูหยองน้ำพริกเผา"},null,null,null,null,null,null,{"$f":"IF($C21=\"\",\"\",SUM(D21:I21))","v":0},{"$f":"IF(OrderFrm_Manual!$C21=\"\",\"\",INDEX(GB_Product[Pcs/Unit],MATCH(OrderFrm_Manual!$C21,GB_Product[NameTH],)))","v":"40"},null,null,{"$f":"IF(Cumulative>(ROW()-ROW($O$20)),_xlfn.AGGREGATE(15,6,(ROW(OrderRange_Ref)-ROW($L$19))/(OFFSET(OrderRange_Ref,,0)>0),ROWS($L$20:$L21)),IF(OFFSET(Cumulative,,1)>(ROW()-ROW($O$20)),_xlfn.AGGREGATE(15,6,(ROW(OrderRange_Ref)-ROW($L$19))/(OFFSET(OrderRange_Ref,,1)>0),ROWS($L$20:$L21)-OFFSET(Cumulative,,0)),IF(OFFSET(Cumulative,,2)>(ROW()-ROW($O$20)),_xlfn.AGGREGATE(15,6,(ROW(OrderRange_Ref)-ROW($L$19))/(OFFSET(OrderRange_Ref,,2)>0),ROWS($L$20:$L21)-OFFSET(Cumulative,,1)),IF(OFFSET(Cumulative,,3)>(ROW()-ROW($O$20)),_xlfn.AGGREGATE(15,6,(ROW(OrderRange_Ref)-ROW($L$19))/(OFFSET(OrderRange_Ref,,3)>0),ROWS($L$20:$L21)-OFFSET(Cumulative,,2)),IF(OFFSET(Cumulative,,4)>(ROW()-ROW($O$20)),_xlfn.AGGREGATE(15,6,(ROW(OrderRange_Ref)-ROW($L$19))/(OFFSET(OrderRange_Ref,,4)>0),ROWS($L$20:$L21)-OFFSET(Cumulative,,3)),IF(OFFSET(Cumulative,,5)>(ROW()-ROW($O$20)),_xlfn.AGGREGATE(15,6,(ROW(OrderRange_Ref)-ROW($L$19))/(OFFSET(OrderRange_Ref,,5)>0),ROWS($L$20:$L21)-OFFSET(Cumulative,,4)),\"\"))))))","v":""},"","",{"$f":"IF($O21<>\"\",\"จ่าย\",\"\")","v":""},"",""]
[null,{"$f":"IF($C22=\"\",\"\",ROWS($C$20:$C22))","v":3},{"$f":"IFERROR(INDEX(OD_Product_List,ROWS($20:22)),\"\")","v":"03-ขนมปังไก่หยองน้ำสลัด"},null,null,null,null,null,null,0,{"$f":"IF(OrderFrm_Manual!$C22=\"\",\"\",INDEX(GB_Product[Pcs/Unit],MATCH(OrderFrm_Manual!$C22,GB_Product[NameTH],)))","v":"40"},null,null,{"$f":"IF(Cumulative>(ROW()-ROW($O$20)),_xlfn.AGGREGATE(15,6,(ROW(OrderRange_Ref)-ROW($L$19))/(OFFSET(OrderRange_Ref,,0)>0),ROWS($L$20:$L22)),IF(OFFSET(Cumulative,,1)>(ROW()-ROW($O$20)),_xlfn.AGGREGATE(15,6,(ROW(OrderRange_Ref)-ROW($L$19))/(OFFSET(OrderRange_Ref,,1)>0),ROWS($L$20:$L22)-OFFSET(Cumulative,,0)),IF(OFFSET(Cumulative,,2)>(ROW()-ROW($O$20)),_xlfn.AGGREGATE(15,6,(ROW(OrderRange_Ref)-ROW($L$19))/(OFFSET(OrderRange_Ref,,2)>0),ROWS($L$20:$L22)-OFFSET(Cumulative,,1)),IF(OFFSET(Cumulative,,3)>(ROW()-ROW($O$20)),_xlfn.AGGREGATE(15,6,(ROW(OrderRange_Ref)-ROW($L$19))/(OFFSET(OrderRange_Ref,,3)>0),ROWS($L$20:$L22)-OFFSET(Cumulative,,2)),IF(OFFSET(Cumulative,,4)>(ROW()-ROW($O$20)),_xlfn.AGGREGATE(15,6,(ROW(OrderRange_Ref)-ROW($L$19))/(OFFSET(OrderRange_Ref,,4)>0),ROWS($L$20:$L22)-OFFSET(Cumulative,,3)),IF(OFFSET(Cumulative,,5)>(ROW()-ROW($O$20)),_xlfn.AGGREGATE(15,6,(ROW(OrderRange_Ref)-ROW($L$19))/(OFFSET(OrderRange_Ref,,5)>0),ROWS($L$20:$L22)-OFFSET(Cumulative,,4)),\"\"))))))","v":""},"","","","",""]
[null,{"$f":"IF($C23=\"\",\"\",ROWS($C$20:$C23))","v":4},{"$f":"IFERROR(INDEX(OD_Product_List,ROWS($20:23)),\"\")","v":"04-ขนมปังไส้ครีมสลัด"},null,null,null,null,null,null,0,{"$f":"IF(OrderFrm_Manual!$C23=\"\",\"\",INDEX(GB_Product[Pcs/Unit],MATCH(OrderFrm_Manual!$C23,GB_Product[NameTH],)))","v":"50"},null,null,{"$f":"IF(Cumulative>(ROW()-ROW($O$20)),_xlfn.AGGREGATE(15,6,(ROW(OrderRange_Ref)-ROW($L$19))/(OFFSET(OrderRange_Ref,,0)>0),ROWS($L$20:$L23)),IF(OFFSET(Cumulative,,1)>(ROW()-ROW($O$20)),_xlfn.AGGREGATE(15,6,(ROW(OrderRange_Ref)-ROW($L$19))/(OFFSET(OrderRange_Ref,,1)>0),ROWS($L$20:$L23)-OFFSET(Cumulative,,0)),IF(OFFSET(Cumulative,,2)>(ROW()-ROW($O$20)),_xlfn.AGGREGATE(15,6,(ROW(OrderRange_Ref)-ROW($L$19))/(OFFSET(OrderRange_Ref,,2)>0),ROWS($L$20:$L23)-OFFSET(Cumulative,,1)),IF(OFFSET(Cumulative,,3)>(ROW()-ROW($O$20)),_xlfn.AGGREGATE(15,6,(ROW(OrderRange_Ref)-ROW($L$19))/(OFFSET(OrderRange_Ref,,3)>0),ROWS($L$20:$L23)-OFFSET(Cumulative,,2)),IF(OFFSET(Cumulative,,4)>(ROW()-ROW($O$20)),_xlfn.AGGREGATE(15,6,(ROW(OrderRange_Ref)-ROW($L$19))/(OFFSET(OrderRange_Ref,,4)>0),ROWS($L$20:$L23)-OFFSET(Cumulative,,3)),IF(OFFSET(Cumulative,,5)>(ROW()-ROW($O$20)),_xlfn.AGGREGATE(15,6,(ROW(OrderRange_Ref)-ROW($L$19))/(OFFSET(OrderRange_Ref,,5)>0),ROWS($L$20:$L23)-OFFSET(Cumulative,,4)),\"\"))))))","v":""},"","","","",""]
[null,{"$f":"IF($C24=\"\",\"\",ROWS($C$20:$C24))","v":5},{"$f":"IFERROR(INDEX(OD_Product_List,ROWS($20:24)),\"\")","v":"05-ขนมปังเนยสด"},null,null,null,null,null,null,0,{"$f":"IF(OrderFrm_Manual!$C24=\"\",\"\",INDEX(GB_Product[Pcs/Unit],MATCH(OrderFrm_Manual!$C24,GB_Product[NameTH],)))","v":"40"},null,null,{"$f":"IF(Cumulative>(ROW()-ROW($O$20)),_xlfn.AGGREGATE(15,6,(ROW(OrderRange_Ref)-ROW($L$19))/(OFFSET(OrderRange_Ref,,0)>0),ROWS($L$20:$L24)),IF(OFFSET(Cumulative,,1)>(ROW()-ROW($O$20)),_xlfn.AGGREGATE(15,6,(ROW(OrderRange_Ref)-ROW($L$19))/(OFFSET(OrderRange_Ref,,1)>0),ROWS($L$20:$L24)-OFFSET(Cumulative,,0)),IF(OFFSET(Cumulative,,2)>(ROW()-ROW($O$20)),_xlfn.AGGREGATE(15,6,(ROW(OrderRange_Ref)-ROW($L$19))/(OFFSET(OrderRange_Ref,,2)>0),ROWS($L$20:$L24)-OFFSET(Cumulative,,1)),IF(OFFSET(Cumulative,,3)>(ROW()-ROW($O$20)),_xlfn.AGGREGATE(15,6,(ROW(OrderRange_Ref)-ROW($L$19))/(OFFSET(OrderRange_Ref,,3)>0),ROWS($L$20:$L24)-OFFSET(Cumulative,,2)),IF(OFFSET(Cumulative,,4)>(ROW()-ROW($O$20)),_xlfn.AGGREGATE(15,6,(ROW(OrderRange_Ref)-ROW($L$19))/(OFFSET(OrderRange_Ref,,4)>0),ROWS($L$20:$L24)-OFFSET(Cumulative,,3)),IF(OFFSET(Cumulative,,5)>(ROW()-ROW($O$20)),_xlfn.AGGREGATE(15,6,(ROW(OrderRange_Ref)-ROW($L$19))/(OFFSET(OrderRange_Ref,,5)>0),ROWS($L$20:$L24)-OFFSET(Cumulative,,4)),\"\"))))))","v":""},"","","","",""]
[null,{"$f":"IF($C25=\"\",\"\",ROWS($C$20:$C25))","v":6},{"$f":"IFERROR(INDEX(OD_Product_List,ROWS($20:25)),\"\")","v":"06-ขนมปังไส้สังขยาเล็ก"},null,null,null,null,null,null,0,{"$f":"IF(OrderFrm_Manual!$C25=\"\",\"\",INDEX(GB_Product[Pcs/Unit],MATCH(OrderFrm_Manual!$C25,GB_Product[NameTH],)))","v":"50"},null,null,{"$f":"IF(Cumulative>(ROW()-ROW($O$20)),_xlfn.AGGREGATE(15,6,(ROW(OrderRange_Ref)-ROW($L$19))/(OFFSET(OrderRange_Ref,,0)>0),ROWS($L$20:$L25)),IF(OFFSET(Cumulative,,1)>(ROW()-ROW($O$20)),_xlfn.AGGREGATE(15,6,(ROW(OrderRange_Ref)-ROW($L$19))/(OFFSET(OrderRange_Ref,,1)>0),ROWS($L$20:$L25)-OFFSET(Cumulative,,0)),IF(OFFSET(Cumulative,,2)>(ROW()-ROW($O$20)),_xlfn.AGGREGATE(15,6,(ROW(OrderRange_Ref)-ROW($L$19))/(OFFSET(OrderRange_Ref,,2)>0),ROWS($L$20:$L25)-OFFSET(Cumulative,,1)),IF(OFFSET(Cumulative,,3)>(ROW()-ROW($O$20)),_xlfn.AGGREGATE(15,6,(ROW(OrderRange_Ref)-ROW($L$19))/(OFFSET(OrderRange_Ref,,3)>0),ROWS($L$20:$L25)-OFFSET(Cumulative,,2)),IF(OFFSET(Cumulative,,4)>(ROW()-ROW($O$20)),_xlfn.AGGREGATE(15,6,(ROW(OrderRange_Ref)-ROW($L$19))/(OFFSET(OrderRange_Ref,,4)>0),ROWS($L$20:$L25)-OFFSET(Cumulative,,3)),IF(OFFSET(Cumulative,,5)>(ROW()-ROW($O$20)),_xlfn.AGGREGATE(15,6,(ROW(OrderRange_Ref)-ROW($L$19))/(OFFSET(OrderRange_Ref,,5)>0),ROWS($L$20:$L25)-OFFSET(Cumulative,,4)),\"\"))))))","v":""},"","","","",""]
[null,{"$f":"IF($C26=\"\",\"\",ROWS($C$20:$C26))","v":7},{"$f":"IFERROR(INDEX(OD_Product_List,ROWS($20:26)),\"\")","v":"07-ขนมปังไส้เผือก"},null,null,null,null,null,null,0,{"$f":"IF(OrderFrm_Manual!$C26=\"\",\"\",INDEX(GB_Product[Pcs/Unit],MATCH(OrderFrm_Manual!$C26,GB_Product[NameTH],)))","v":"50"},null,null,{"$f":"IF(Cumulative>(ROW()-ROW($O$20)),_xlfn.AGGREGATE(15,6,(ROW(OrderRange_Ref)-ROW($L$19))/(OFFSET(OrderRange_Ref,,0)>0),ROWS($L$20:$L26)),IF(OFFSET(Cumulative,,1)>(ROW()-ROW($O$20)),_xlfn.AGGREGATE(15,6,(ROW(OrderRange_Ref)-ROW($L$19))/(OFFSET(OrderRange_Ref,,1)>0),ROWS($L$20:$L26)-OFFSET(Cumulative,,0)),IF(OFFSET(Cumulative,,2)>(ROW()-ROW($O$20)),_xlfn.AGGREGATE(15,6,(ROW(OrderRange_Ref)-ROW($L$19))/(OFFSET(OrderRange_Ref,,2)>0),ROWS($L$20:$L26)-OFFSET(Cumulative,,1)),IF(OFFSET(Cumulative,,3)>(ROW()-ROW($O$20)),_xlfn.AGGREGATE(15,6,(ROW(OrderRange_Ref)-ROW($L$19))/(OFFSET(OrderRange_Ref,,3)>0),ROWS($L$20:$L26)-OFFSET(Cumulative,,2)),IF(OFFSET(Cumulative,,4)>(ROW()-ROW($O$20)),_xlfn.AGGREGATE(15,6,(ROW(OrderRange_Ref)-ROW($L$19))/(OFFSET(OrderRange_Ref,,4)>0),ROWS($L$20:$L26)-OFFSET(Cumulative,,3)),IF(OFFSET(Cumulative,,5)>(ROW()-ROW($O$20)),_xlfn.AGGREGATE(15,6,(ROW(OrderRange_Ref)-ROW($L$19))/(OFFSET(OrderRange_Ref,,5)>0),ROWS($L$20:$L26)-OFFSET(Cumulative,,4)),\"\"))))))","v":""},"","","","",""]
[null,{"$f":"IF($C27=\"\",\"\",ROWS($C$20:$C27))","v":8},{"$f":"IFERROR(INDEX(OD_Product_List,ROWS($20:27)),\"\")","v":"08-ขนมปังไส้ถั่วแดง"},null,null,null,null,null,null,0,{"$f":"IF(OrderFrm_Manual!$C27=\"\",\"\",INDEX(GB_Product[Pcs/Unit],MATCH(OrderFrm_Manual!$C27,GB_Product[NameTH],)))","v":"50"},null,null,{"$f":"IF(Cumulative>(ROW()-ROW($O$20)),_xlfn.AGGREGATE(15,6,(ROW(OrderRange_Ref)-ROW($L$19))/(OFFSET(OrderRange_Ref,,0)>0),ROWS($L$20:$L27)),IF(OFFSET(Cumulative,,1)>(ROW()-ROW($O$20)),_xlfn.AGGREGATE(15,6,(ROW(OrderRange_Ref)-ROW($L$19))/(OFFSET(OrderRange_Ref,,1)>0),ROWS($L$20:$L27)-OFFSET(Cumulative,,0)),IF(OFFSET(Cumulative,,2)>(ROW()-ROW($O$20)),_xlfn.AGGREGATE(15,6,(ROW(OrderRange_Ref)-ROW($L$19))/(OFFSET(OrderRange_Ref,,2)>0),ROWS($L$20:$L27)-OFFSET(Cumulative,,1)),IF(OFFSET(Cumulative,,3)>(ROW()-ROW($O$20)),_xlfn.AGGREGATE(15,6,(ROW(OrderRange_Ref)-ROW($L$19))/(OFFSET(OrderRange_Ref,,3)>0),ROWS($L$20:$L27)-OFFSET(Cumulative,,2)),IF(OFFSET(Cumulative,,4)>(ROW()-ROW($O$20)),_xlfn.AGGREGATE(15,6,(ROW(OrderRange_Ref)-ROW($L$19))/(OFFSET(OrderRange_Ref,,4)>0),ROWS($L$20:$L27)-OFFSET(Cumulative,,3)),IF(OFFSET(Cumulative,,5)>(ROW()-ROW($O$20)),_xlfn.AGGREGATE(15,6,(ROW(OrderRange_Ref)-ROW($L$19))/(OFFSET(OrderRange_Ref,,5)>0),ROWS($L$20:$L27)-OFFSET(Cumulative,,4)),\"\"))))))","v":""},"","","","",""]
[null,{"$f":"IF($C28=\"\",\"\",ROWS($C$20:$C28))","v":9},{"$f":"IFERROR(INDEX(OD_Product_List,ROWS($20:28)),\"\")","v":"09-ขนมปังไส้ถั่วดำ"},null,null,null,null,null,null,0,{"$f":"IF(OrderFrm_Manual!$C28=\"\",\"\",INDEX(GB_Product[Pcs/Unit],MATCH(OrderFrm_Manual!$C28,GB_Product[NameTH],)))","v":"50"},null,null,{"$f":"IF(Cumulative>(ROW()-ROW($O$20)),_xlfn.AGGREGATE(15,6,(ROW(OrderRange_Ref)-ROW($L$19))/(OFFSET(OrderRange_Ref,,0)>0),ROWS($L$20:$L28)),IF(OFFSET(Cumulative,,1)>(ROW()-ROW($O$20)),_xlfn.AGGREGATE(15,6,(ROW(OrderRange_Ref)-ROW($L$19))/(OFFSET(OrderRange_Ref,,1)>0),ROWS($L$20:$L28)-OFFSET(Cumulative,,0)),IF(OFFSET(Cumulative,,2)>(ROW()-ROW($O$20)),_xlfn.AGGREGATE(15,6,(ROW(OrderRange_Ref)-ROW($L$19))/(OFFSET(OrderRange_Ref,,2)>0),ROWS($L$20:$L28)-OFFSET(Cumulative,,1)),IF(OFFSET(Cumulative,,3)>(ROW()-ROW($O$20)),_xlfn.AGGREGATE(15,6,(ROW(OrderRange_Ref)-ROW($L$19))/(OFFSET(OrderRange_Ref,,3)>0),ROWS($L$20:$L28)-OFFSET(Cumulative,,2)),IF(OFFSET(Cumulative,,4)>(ROW()-ROW($O$20)),_xlfn.AGGREGATE(15,6,(ROW(OrderRange_Ref)-ROW($L$19))/(OFFSET(OrderRange_Ref,,4)>0),ROWS($L$20:$L28)-OFFSET(Cumulative,,3)),IF(OFFSET(Cumulative,,5)>(ROW()-ROW($O$20)),_xlfn.AGGREGATE(15,6,(ROW(OrderRange_Ref)-ROW($L$19))/(OFFSET(OrderRange_Ref,,5)>0),ROWS($L$20:$L28)-OFFSET(Cumulative,,4)),\"\"))))))","v":""},"","","","",""]
[null,{"$f":"IF($C29=\"\",\"\",ROWS($C$20:$C29))","v":10},{"$f":"IFERROR(INDEX(OD_Product_List,ROWS($20:29)),\"\")","v":"10-ขนมปังไส้มันม่วง"},null,null,null,null,null,null,0,{"$f":"IF(OrderFrm_Manual!$C29=\"\",\"\",INDEX(GB_Product[Pcs/Unit],MATCH(OrderFrm_Manual!$C29,GB_Product[NameTH],)))","v":"50"},null,null,{"$f":"IF(Cumulative>(ROW()-ROW($O$20)),_xlfn.AGGREGATE(15,6,(ROW(OrderRange_Ref)-ROW($L$19))/(OFFSET(OrderRange_Ref,,0)>0),ROWS($L$20:$L29)),IF(OFFSET(Cumulative,,1)>(ROW()-ROW($O$20)),_xlfn.AGGREGATE(15,6,(ROW(OrderRange_Ref)-ROW($L$19))/(OFFSET(OrderRange_Ref,,1)>0),ROWS($L$20:$L29)-OFFSET(Cumulative,,0)),IF(OFFSET(Cumulative,,2)>(ROW()-ROW($O$20)),_xlfn.AGGREGATE(15,6,(ROW(OrderRange_Ref)-ROW($L$19))/(OFFSET(OrderRange_Ref,,2)>0),ROWS($L$20:$L29)-OFFSET(Cumulative,,1)),IF(OFFSET(Cumulative,,3)>(ROW()-ROW($O$20)),_xlfn.AGGREGATE(15,6,(ROW(OrderRange_Ref)-ROW($L$19))/(OFFSET(OrderRange_Ref,,3)>0),ROWS($L$20:$L29)-OFFSET(Cumulative,,2)),IF(OFFSET(Cumulative,,4)>(ROW()-ROW($O$20)),_xlfn.AGGREGATE(15,6,(ROW(OrderRange_Ref)-ROW($L$19))/(OFFSET(OrderRange_Ref,,4)>0),ROWS($L$20:$L29)-OFFSET(Cumulative,,3)),IF(OFFSET(Cumulative,,5)>(ROW()-ROW($O$20)),_xlfn.AGGREGATE(15,6,(ROW(OrderRange_Ref)-ROW($L$19))/(OFFSET(OrderRange_Ref,,5)>0),ROWS($L$20:$L29)-OFFSET(Cumulative,,4)),\"\"))))))","v":""},"","","","",""]
[null,{"$f":"IF($C30=\"\",\"\",ROWS($C$20:$C30))","v":11},{"$f":"IFERROR(INDEX(OD_Product_List,ROWS($20:30)),\"\")","v":"11-เค้กกล้วยหอม"},null,null,null,null,null,null,0,{"$f":"IF(OrderFrm_Manual!$C30=\"\",\"\",INDEX(GB_Product[Pcs/Unit],MATCH(OrderFrm_Manual!$C30,GB_Product[NameTH],)))","v":"50"},null,null,{"$f":"IF(Cumulative>(ROW()-ROW($O$20)),_xlfn.AGGREGATE(15,6,(ROW(OrderRange_Ref)-ROW($L$19))/(OFFSET(OrderRange_Ref,,0)>0),ROWS($L$20:$L30)),IF(OFFSET(Cumulative,,1)>(ROW()-ROW($O$20)),_xlfn.AGGREGATE(15,6,(ROW(OrderRange_Ref)-ROW($L$19))/(OFFSET(OrderRange_Ref,,1)>0),ROWS($L$20:$L30)-OFFSET(Cumulative,,0)),IF(OFFSET(Cumulative,,2)>(ROW()-ROW($O$20)),_xlfn.AGGREGATE(15,6,(ROW(OrderRange_Ref)-ROW($L$19))/(OFFSET(OrderRange_Ref,,2)>0),ROWS($L$20:$L30)-OFFSET(Cumulative,,1)),IF(OFFSET(Cumulative,,3)>(ROW()-ROW($O$20)),_xlfn.AGGREGATE(15,6,(ROW(OrderRange_Ref)-ROW($L$19))/(OFFSET(OrderRange_Ref,,3)>0),ROWS($L$20:$L30)-OFFSET(Cumulative,,2)),IF(OFFSET(Cumulative,,4)>(ROW()-ROW($O$20)),_xlfn.AGGREGATE(15,6,(ROW(OrderRange_Ref)-ROW($L$19))/(OFFSET(OrderRange_Ref,,4)>0),ROWS($L$20:$L30)-OFFSET(Cumulative,,3)),IF(OFFSET(Cumulative,,5)>(ROW()-ROW($O$20)),_xlfn.AGGREGATE(15,6,(ROW(OrderRange_Ref)-ROW($L$19))/(OFFSET(OrderRange_Ref,,5)>0),ROWS($L$20:$L30)-OFFSET(Cumulative,,4)),\"\"))))))","v":""},"","","","",""]
[null,{"$f":"IF($C31=\"\",\"\",ROWS($C$20:$C31))","v":12},{"$f":"IFERROR(INDEX(OD_Product_List,ROWS($20:31)),\"\")","v":"12-เค้กบัตเตอร์"},null,null,null,null,null,null,0,{"$f":"IF(OrderFrm_Manual!$C31=\"\",\"\",INDEX(GB_Product[Pcs/Unit],MATCH(OrderFrm_Manual!$C31,GB_Product[NameTH],)))","v":"50"},null,null,{"$f":"IF(Cumulative>(ROW()-ROW($O$20)),_xlfn.AGGREGATE(15,6,(ROW(OrderRange_Ref)-ROW($L$19))/(OFFSET(OrderRange_Ref,,0)>0),ROWS($L$20:$L31)),IF(OFFSET(Cumulative,,1)>(ROW()-ROW($O$20)),_xlfn.AGGREGATE(15,6,(ROW(OrderRange_Ref)-ROW($L$19))/(OFFSET(OrderRange_Ref,,1)>0),ROWS($L$20:$L31)-OFFSET(Cumulative,,0)),IF(OFFSET(Cumulative,,2)>(ROW()-ROW($O$20)),_xlfn.AGGREGATE(15,6,(ROW(OrderRange_Ref)-ROW($L$19))/(OFFSET(OrderRange_Ref,,2)>0),ROWS($L$20:$L31)-OFFSET(Cumulative,,1)),IF(OFFSET(Cumulative,,3)>(ROW()-ROW($O$20)),_xlfn.AGGREGATE(15,6,(ROW(OrderRange_Ref)-ROW($L$19))/(OFFSET(OrderRange_Ref,,3)>0),ROWS($L$20:$L31)-OFFSET(Cumulative,,2)),IF(OFFSET(Cumulative,,4)>(ROW()-ROW($O$20)),_xlfn.AGGREGATE(15,6,(ROW(OrderRange_Ref)-ROW($L$19))/(OFFSET(OrderRange_Ref,,4)>0),ROWS($L$20:$L31)-OFFSET(Cumulative,,3)),IF(OFFSET(Cumulative,,5)>(ROW()-ROW($O$20)),_xlfn.AGGREGATE(15,6,(ROW(OrderRange_Ref)-ROW($L$19))/(OFFSET(OrderRange_Ref,,5)>0),ROWS($L$20:$L31)-OFFSET(Cumulative,,4)),\"\"))))))","v":""},"","","","",""]
[null,{"$f":"IF($C32=\"\",\"\",ROWS($C$20:$C32))","v":13},{"$f":"IFERROR(INDEX(OD_Product_List,ROWS($20:32)),\"\")","v":"13-ขนมปังโรลถั่วแดง"},null,null,null,null,null,null,0,{"$f":"IF(OrderFrm_Manual!$C32=\"\",\"\",INDEX(GB_Product[Pcs/Unit],MATCH(OrderFrm_Manual!$C32,GB_Product[NameTH],)))","v":"40"},null,null,{"$f":"IF(Cumulative>(ROW()-ROW($O$20)),_xlfn.AGGREGATE(15,6,(ROW(OrderRange_Ref)-ROW($L$19))/(OFFSET(OrderRange_Ref,,0)>0),ROWS($L$20:$L32)),IF(OFFSET(Cumulative,,1)>(ROW()-ROW($O$20)),_xlfn.AGGREGATE(15,6,(ROW(OrderRange_Ref)-ROW($L$19))/(OFFSET(OrderRange_Ref,,1)>0),ROWS($L$20:$L32)-OFFSET(Cumulative,,0)),IF(OFFSET(Cumulative,,2)>(ROW()-ROW($O$20)),_xlfn.AGGREGATE(15,6,(ROW(OrderRange_Ref)-ROW($L$19))/(OFFSET(OrderRange_Ref,,2)>0),ROWS($L$20:$L32)-OFFSET(Cumulative,,1)),IF(OFFSET(Cumulative,,3)>(ROW()-ROW($O$20)),_xlfn.AGGREGATE(15,6,(ROW(OrderRange_Ref)-ROW($L$19))/(OFFSET(OrderRange_Ref,,3)>0),ROWS($L$20:$L32)-OFFSET(Cumulative,,2)),IF(OFFSET(Cumulative,,4)>(ROW()-ROW($O$20)),_xlfn.AGGREGATE(15,6,(ROW(OrderRange_Ref)-ROW($L$19))/(OFFSET(OrderRange_Ref,,4)>0),ROWS($L$20:$L32)-OFFSET(Cumulative,,3)),IF(OFFSET(Cumulative,,5)>(ROW()-ROW($O$20)),_xlfn.AGGREGATE(15,6,(ROW(OrderRange_Ref)-ROW($L$19))/(OFFSET(OrderRange_Ref,,5)>0),ROWS($L$20:$L32)-OFFSET(Cumulative,,4)),\"\"))))))","v":""},"","","","",""]
[null,{"$f":"IF($C33=\"\",\"\",ROWS($C$20:$C33))","v":14},{"$f":"IFERROR(INDEX(OD_Product_List,ROWS($20:33)),\"\")","v":"14-ขนมปังไส้สังขยาใหญ่"},null,null,null,null,null,null,0,{"$f":"IF(OrderFrm_Manual!$C33=\"\",\"\",INDEX(GB_Product[Pcs/Unit],MATCH(OrderFrm_Manual!$C33,GB_Product[NameTH],)))","v":"50"},null,null,{"$f":"IF(Cumulative>(ROW()-ROW($O$20)),_xlfn.AGGREGATE(15,6,(ROW(OrderRange_Ref)-ROW($L$19))/(OFFSET(OrderRange_Ref,,0)>0),ROWS($L$20:$L33)),IF(OFFSET(Cumulative,,1)>(ROW()-ROW($O$20)),_xlfn.AGGREGATE(15,6,(ROW(OrderRange_Ref)-ROW($L$19))/(OFFSET(OrderRange_Ref,,1)>0),ROWS($L$20:$L33)-OFFSET(Cumulative,,0)),IF(OFFSET(Cumulative,,2)>(ROW()-ROW($O$20)),_xlfn.AGGREGATE(15,6,(ROW(OrderRange_Ref)-ROW($L$19))/(OFFSET(OrderRange_Ref,,2)>0),ROWS($L$20:$L33)-OFFSET(Cumulative,,1)),IF(OFFSET(Cumulative,,3)>(ROW()-ROW($O$20)),_xlfn.AGGREGATE(15,6,(ROW(OrderRange_Ref)-ROW($L$19))/(OFFSET(OrderRange_Ref,,3)>0),ROWS($L$20:$L33)-OFFSET(Cumulative,,2)),IF(OFFSET(Cumulative,,4)>(ROW()-ROW($O$20)),_xlfn.AGGREGATE(15,6,(ROW(OrderRange_Ref)-ROW($L$19))/(OFFSET(OrderRange_Ref,,4)>0),ROWS($L$20:$L33)-OFFSET(Cumulative,,3)),IF(OFFSET(Cumulative,,5)>(ROW()-ROW($O$20)),_xlfn.AGGREGATE(15,6,(ROW(OrderRange_Ref)-ROW($L$19))/(OFFSET(OrderRange_Ref,,5)>0),ROWS($L$20:$L33)-OFFSET(Cumulative,,4)),\"\"))))))","v":""},"","","","",""]
[null,{"$f":"IF($C34=\"\",\"\",ROWS($C$20:$C34))","v":15},{"$f":"IFERROR(INDEX(OD_Product_List,ROWS($20:34)),\"\")","v":"15-ขนมปังชนิดแผ่น(480กรัม)"},null,null,null,null,null,null,0,{"$f":"IF(OrderFrm_Manual!$C34=\"\",\"\",INDEX(GB_Product[Pcs/Unit],MATCH(OrderFrm_Manual!$C34,GB_Product[NameTH],)))","v":"10"},null,null,{"$f":"IF(Cumulative>(ROW()-ROW($O$20)),_xlfn.AGGREGATE(15,6,(ROW(OrderRange_Ref)-ROW($L$19))/(OFFSET(OrderRange_Ref,,0)>0),ROWS($L$20:$L34)),IF(OFFSET(Cumulative,,1)>(ROW()-ROW($O$20)),_xlfn.AGGREGATE(15,6,(ROW(OrderRange_Ref)-ROW($L$19))/(OFFSET(OrderRange_Ref,,1)>0),ROWS($L$20:$L34)-OFFSET(Cumulative,,0)),IF(OFFSET(Cumulative,,2)>(ROW()-ROW($O$20)),_xlfn.AGGREGATE(15,6,(ROW(OrderRange_Ref)-ROW($L$19))/(OFFSET(OrderRange_Ref,,2)>0),ROWS($L$20:$L34)-OFFSET(Cumulative,,1)),IF(OFFSET(Cumulative,,3)>(ROW()-ROW($O$20)),_xlfn.AGGREGATE(15,6,(ROW(OrderRange_Ref)-ROW($L$19))/(OFFSET(OrderRange_Ref,,3)>0),ROWS($L$20:$L34)-OFFSET(Cumulative,,2)),IF(OFFSET(Cumulative,,4)>(ROW()-ROW($O$20)),_xlfn.AGGREGATE(15,6,(ROW(OrderRange_Ref)-ROW($L$19))/(OFFSET(OrderRange_Ref,,4)>0),ROWS($L$20:$L34)-OFFSET(Cumulative,,3)),IF(OFFSET(Cumulative,,5)>(ROW()-ROW($O$20)),_xlfn.AGGREGATE(15,6,(ROW(OrderRange_Ref)-ROW($L$19))/(OFFSET(OrderRange_Ref,,5)>0),ROWS($L$20:$L34)-OFFSET(Cumulative,,4)),\"\"))))))","v":""},"","","","",""]
[null,{"$f":"IF($C35=\"\",\"\",ROWS($C$20:$C35))","v":16},{"$f":"IFERROR(INDEX(OD_Product_List,ROWS($20:35)),\"\")","v":"16-โมจิไส้ถั่ว"},null,null,null,null,null,null,0,{"$f":"IF(OrderFrm_Manual!$C35=\"\",\"\",INDEX(GB_Product[Pcs/Unit],MATCH(OrderFrm_Manual!$C35,GB_Product[NameTH],)))","v":"50"},null,null,{"$f":"IF(Cumulative>(ROW()-ROW($O$20)),_xlfn.AGGREGATE(15,6,(ROW(OrderRange_Ref)-ROW($L$19))/(OFFSET(OrderRange_Ref,,0)>0),ROWS($L$20:$L35)),IF(OFFSET(Cumulative,,1)>(ROW()-ROW($O$20)),_xlfn.AGGREGATE(15,6,(ROW(OrderRange_Ref)-ROW($L$19))/(OFFSET(OrderRange_Ref,,1)>0),ROWS($L$20:$L35)-OFFSET(Cumulative,,0)),IF(OFFSET(Cumulative,,2)>(ROW()-ROW($O$20)),_xlfn.AGGREGATE(15,6,(ROW(OrderRange_Ref)-ROW($L$19))/(OFFSET(OrderRange_Ref,,2)>0),ROWS($L$20:$L35)-OFFSET(Cumulative,,1)),IF(OFFSET(Cumulative,,3)>(ROW()-ROW($O$20)),_xlfn.AGGREGATE(15,6,(ROW(OrderRange_Ref)-ROW($L$19))/(OFFSET(OrderRange_Ref,,3)>0),ROWS($L$20:$L35)-OFFSET(Cumulative,,2)),IF(OFFSET(Cumulative,,4)>(ROW()-ROW($O$20)),_xlfn.AGGREGATE(15,6,(ROW(OrderRange_Ref)-ROW($L$19))/(OFFSET(OrderRange_Ref,,4)>0),ROWS($L$20:$L35)-OFFSET(Cumulative,,3)),IF(OFFSET(Cumulative,,5)>(ROW()-ROW($O$20)),_xlfn.AGGREGATE(15,6,(ROW(OrderRange_Ref)-ROW($L$19))/(OFFSET(OrderRange_Ref,,5)>0),ROWS($L$20:$L35)-OFFSET(Cumulative,,4)),\"\"))))))","v":""},"","","","",""]
[null,{"$f":"IF($C36=\"\",\"\",ROWS($C$20:$C36))","v":17},{"$f":"IFERROR(INDEX(OD_Product_List,ROWS($20:36)),\"\")","v":"17-โมจิไส้เผือก"},null,null,null,null,null,null,0,{"$f":"IF(OrderFrm_Manual!$C36=\"\",\"\",INDEX(GB_Product[Pcs/Unit],MATCH(OrderFrm_Manual!$C36,GB_Product[NameTH],)))","v":"50"},null,null,{"$f":"IF(Cumulative>(ROW()-ROW($O$20)),_xlfn.AGGREGATE(15,6,(ROW(OrderRange_Ref)-ROW($L$19))/(OFFSET(OrderRange_Ref,,0)>0),ROWS($L$20:$L36)),IF(OFFSET(Cumulative,,1)>(ROW()-ROW($O$20)),_xlfn.AGGREGATE(15,6,(ROW(OrderRange_Ref)-ROW($L$19))/(OFFSET(OrderRange_Ref,,1)>0),ROWS($L$20:$L36)-OFFSET(Cumulative,,0)),IF(OFFSET(Cumulative,,2)>(ROW()-ROW($O$20)),_xlfn.AGGREGATE(15,6,(ROW(OrderRange_Ref)-ROW($L$19))/(OFFSET(OrderRange_Ref,,2)>0),ROWS($L$20:$L36)-OFFSET(Cumulative,,1)),IF(OFFSET(Cumulative,,3)>(ROW()-ROW($O$20)),_xlfn.AGGREGATE(15,6,(ROW(OrderRange_Ref)-ROW($L$19))/(OFFSET(OrderRange_Ref,,3)>0),ROWS($L$20:$L36)-OFFSET(Cumulative,,2)),IF(OFFSET(Cumulative,,4)>(ROW()-ROW($O$20)),_xlfn.AGGREGATE(15,6,(ROW(OrderRange_Ref)-ROW($L$19))/(OFFSET(OrderRange_Ref,,4)>0),ROWS($L$20:$L36)-OFFSET(Cumulative,,3)),IF(OFFSET(Cumulative,,5)>(ROW()-ROW($O$20)),_xlfn.AGGREGATE(15,6,(ROW(OrderRange_Ref)-ROW($L$19))/(OFFSET(OrderRange_Ref,,5)>0),ROWS($L$20:$L36)-OFFSET(Cumulative,,4)),\"\"))))))","v":""},"","","","",""]
[null,{"$f":"IF($C37=\"\",\"\",ROWS($C$20:$C37))","v":18},{"$f":"IFERROR(INDEX(OD_Product_List,ROWS($20:37)),\"\")","v":"18-โมจิไส้ถั่วไข่เค็ม"},null,null,null,null,null,null,0,{"$f":"IF(OrderFrm_Manual!$C37=\"\",\"\",INDEX(GB_Product[Pcs/Unit],MATCH(OrderFrm_Manual!$C37,GB_Product[NameTH],)))","v":"50"},null,null,{"$f":"IF(Cumulative>(ROW()-ROW($O$20)),_xlfn.AGGREGATE(15,6,(ROW(OrderRange_Ref)-ROW($L$19))/(OFFSET(OrderRange_Ref,,0)>0),ROWS($L$20:$L37)),IF(OFFSET(Cumulative,,1)>(ROW()-ROW($O$20)),_xlfn.AGGREGATE(15,6,(ROW(OrderRange_Ref)-ROW($L$19))/(OFFSET(OrderRange_Ref,,1)>0),ROWS($L$20:$L37)-OFFSET(Cumulative,,0)),IF(OFFSET(Cumulative,,2)>(ROW()-ROW($O$20)),_xlfn.AGGREGATE(15,6,(ROW(OrderRange_Ref)-ROW($L$19))/(OFFSET(OrderRange_Ref,,2)>0),ROWS($L$20:$L37)-OFFSET(Cumulative,,1)),IF(OFFSET(Cumulative,,3)>(ROW()-ROW($O$20)),_xlfn.AGGREGATE(15,6,(ROW(OrderRange_Ref)-ROW($L$19))/(OFFSET(OrderRange_Ref,,3)>0),ROWS($L$20:$L37)-OFFSET(Cumulative,,2)),IF(OFFSET(Cumulative,,4)>(ROW()-ROW($O$20)),_xlfn.AGGREGATE(15,6,(ROW(OrderRange_Ref)-ROW($L$19))/(OFFSET(OrderRange_Ref,,4)>0),ROWS($L$20:$L37)-OFFSET(Cumulative,,3)),IF(OFFSET(Cumulative,,5)>(ROW()-ROW($O$20)),_xlfn.AGGREGATE(15,6,(ROW(OrderRange_Ref)-ROW($L$19))/(OFFSET(OrderRange_Ref,,5)>0),ROWS($L$20:$L37)-OFFSET(Cumulative,,4)),\"\"))))))","v":""},"","","","",""]
[null,{"$f":"IF($C38=\"\",\"\",ROWS($C$20:$C38))","v":19},{"$f":"IFERROR(INDEX(OD_Product_List,ROWS($20:38)),\"\")","v":"21-ขนมปังไส้กรอก"},null,null,null,null,null,null,0,{"$f":"IF(OrderFrm_Manual!$C38=\"\",\"\",INDEX(GB_Product[Pcs/Unit],MATCH(OrderFrm_Manual!$C38,GB_Product[NameTH],)))","v":"50"},null,null,{"$f":"IF(Cumulative>(ROW()-ROW($O$20)),_xlfn.AGGREGATE(15,6,(ROW(OrderRange_Ref)-ROW($L$19))/(OFFSET(OrderRange_Ref,,0)>0),ROWS($L$20:$L38)),IF(OFFSET(Cumulative,,1)>(ROW()-ROW($O$20)),_xlfn.AGGREGATE(15,6,(ROW(OrderRange_Ref)-ROW($L$19))/(OFFSET(OrderRange_Ref,,1)>0),ROWS($L$20:$L38)-OFFSET(Cumulative,,0)),IF(OFFSET(Cumulative,,2)>(ROW()-ROW($O$20)),_xlfn.AGGREGATE(15,6,(ROW(OrderRange_Ref)-ROW($L$19))/(OFFSET(OrderRange_Ref,,2)>0),ROWS($L$20:$L38)-OFFSET(Cumulative,,1)),IF(OFFSET(Cumulative,,3)>(ROW()-ROW($O$20)),_xlfn.AGGREGATE(15,6,(ROW(OrderRange_Ref)-ROW($L$19))/(OFFSET(OrderRange_Ref,,3)>0),ROWS($L$20:$L38)-OFFSET(Cumulative,,2)),IF(OFFSET(Cumulative,,4)>(ROW()-ROW($O$20)),_xlfn.AGGREGATE(15,6,(ROW(OrderRange_Ref)-ROW($L$19))/(OFFSET(OrderRange_Ref,,4)>0),ROWS($L$20:$L38)-OFFSET(Cumulative,,3)),IF(OFFSET(Cumulative,,5)>(ROW()-ROW($O$20)),_xlfn.AGGREGATE(15,6,(ROW(OrderRange_Ref)-ROW($L$19))/(OFFSET(OrderRange_Ref,,5)>0),ROWS($L$20:$L38)-OFFSET(Cumulative,,4)),\"\"))))))","v":""},"","","","",""]
[null,{"$f":"IF($C39=\"\",\"\",ROWS($C$20:$C39))","v":20},{"$f":"IFERROR(INDEX(OD_Product_List,ROWS($20:39)),\"\")","v":"22-ขนมก้านบัว"},null,null,null,null,null,null,0,{"$f":"IF(OrderFrm_Manual!$C39=\"\",\"\",INDEX(GB_Product[Pcs/Unit],MATCH(OrderFrm_Manual!$C39,GB_Product[NameTH],)))","v":"40"},null,null,{"$f":"IF(Cumulative>(ROW()-ROW($O$20)),_xlfn.AGGREGATE(15,6,(ROW(OrderRange_Ref)-ROW($L$19))/(OFFSET(OrderRange_Ref,,0)>0),ROWS($L$20:$L39)),IF(OFFSET(Cumulative,,1)>(ROW()-ROW($O$20)),_xlfn.AGGREGATE(15,6,(ROW(OrderRange_Ref)-ROW($L$19))/(OFFSET(OrderRange_Ref,,1)>0),ROWS($L$20:$L39)-OFFSET(Cumulative,,0)),IF(OFFSET(Cumulative,,2)>(ROW()-ROW($O$20)),_xlfn.AGGREGATE(15,6,(ROW(OrderRange_Ref)-ROW($L$19))/(OFFSET(OrderRange_Ref,,2)>0),ROWS($L$20:$L39)-OFFSET(Cumulative,,1)),IF(OFFSET(Cumulative,,3)>(ROW()-ROW($O$20)),_xlfn.AGGREGATE(15,6,(ROW(OrderRange_Ref)-ROW($L$19))/(OFFSET(OrderRange_Ref,,3)>0),ROWS($L$20:$L39)-OFFSET(Cumulative,,2)),IF(OFFSET(Cumulative,,4)>(ROW()-ROW($O$20)),_xlfn.AGGREGATE(15,6,(ROW(OrderRange_Ref)-ROW($L$19))/(OFFSET(OrderRange_Ref,,4)>0),ROWS($L$20:$L39)-OFFSET(Cumulative,,3)),IF(OFFSET(Cumulative,,5)>(ROW()-ROW($O$20)),_xlfn.AGGREGATE(15,6,(ROW(OrderRange_Ref)-ROW($L$19))/(OFFSET(OrderRange_Ref,,5)>0),ROWS($L$20:$L39)-OFFSET(Cumulative,,4)),\"\"))))))","v":""},"","","","",""]
[null,{"$f":"IF($C40=\"\",\"\",ROWS($C$20:$C40))","v":21},{"$f":"IFERROR(INDEX(OD_Product_List,ROWS($20:40)),\"\")","v":"25-ปังกรอบเนยสด"},null,null,null,null,null,null,0,{"$f":"IF(OrderFrm_Manual!$C40=\"\",\"\",INDEX(GB_Product[Pcs/Unit],MATCH(OrderFrm_Manual!$C40,GB_Product[NameTH],)))","v":"40"},null,null,{"$f":"IF(Cumulative>(ROW()-ROW($O$20)),_xlfn.AGGREGATE(15,6,(ROW(OrderRange_Ref)-ROW($L$19))/(OFFSET(OrderRange_Ref,,0)>0),ROWS($L$20:$L40)),IF(OFFSET(Cumulative,,1)>(ROW()-ROW($O$20)),_xlfn.AGGREGATE(15,6,(ROW(OrderRange_Ref)-ROW($L$19))/(OFFSET(OrderRange_Ref,,1)>0),ROWS($L$20:$L40)-OFFSET(Cumulative,,0)),IF(OFFSET(Cumulative,,2)>(ROW()-ROW($O$20)),_xlfn.AGGREGATE(15,6,(ROW(OrderRange_Ref)-ROW($L$19))/(OFFSET(OrderRange_Ref,,2)>0),ROWS($L$20:$L40)-OFFSET(Cumulative,,1)),IF(OFFSET(Cumulative,,3)>(ROW()-ROW($O$20)),_xlfn.AGGREGATE(15,6,(ROW(OrderRange_Ref)-ROW($L$19))/(OFFSET(OrderRange_Ref,,3)>0),ROWS($L$20:$L40)-OFFSET(Cumulative,,2)),IF(OFFSET(Cumulative,,4)>(ROW()-ROW($O$20)),_xlfn.AGGREGATE(15,6,(ROW(OrderRange_Ref)-ROW($L$19))/(OFFSET(OrderRange_Ref,,4)>0),ROWS($L$20:$L40)-OFFSET(Cumulative,,3)),IF(OFFSET(Cumulative,,5)>(ROW()-ROW($O$20)),_xlfn.AGGREGATE(15,6,(ROW(OrderRange_Ref)-ROW($L$19))/(OFFSET(OrderRange_Ref,,5)>0),ROWS($L$20:$L40)-OFFSET(Cumulative,,4)),\"\"))))))","v":""},"","","","",""]
[null,{"$f":"IF($C41=\"\",\"\",ROWS($C$20:$C41))","v":22},{"$f":"IFERROR(INDEX(OD_Product_List,ROWS($20:41)),\"\")","v":"26-ปังกรอบกระเทียม"},null,null,null,null,null,null,0,{"$f":"IF(OrderFrm_Manual!$C41=\"\",\"\",INDEX(GB_Product[Pcs/Unit],MATCH(OrderFrm_Manual!$C41,GB_Product[NameTH],)))","v":"40"},null,null,{"$f":"IF(Cumulative>(ROW()-ROW($O$20)),_xlfn.AGGREGATE(15,6,(ROW(OrderRange_Ref)-ROW($L$19))/(OFFSET(OrderRange_Ref,,0)>0),ROWS($L$20:$L41)),IF(OFFSET(Cumulative,,1)>(ROW()-ROW($O$20)),_xlfn.AGGREGATE(15,6,(ROW(OrderRange_Ref)-ROW($L$19))/(OFFSET(OrderRange_Ref,,1)>0),ROWS($L$20:$L41)-OFFSET(Cumulative,,0)),IF(OFFSET(Cumulative,,2)>(ROW()-ROW($O$20)),_xlfn.AGGREGATE(15,6,(ROW(OrderRange_Ref)-ROW($L$19))/(OFFSET(OrderRange_Ref,,2)>0),ROWS($L$20:$L41)-OFFSET(Cumulative,,1)),IF(OFFSET(Cumulative,,3)>(ROW()-ROW($O$20)),_xlfn.AGGREGATE(15,6,(ROW(OrderRange_Ref)-ROW($L$19))/(OFFSET(OrderRange_Ref,,3)>0),ROWS($L$20:$L41)-OFFSET(Cumulative,,2)),IF(OFFSET(Cumulative,,4)>(ROW()-ROW($O$20)),_xlfn.AGGREGATE(15,6,(ROW(OrderRange_Ref)-ROW($L$19))/(OFFSET(OrderRange_Ref,,4)>0),ROWS($L$20:$L41)-OFFSET(Cumulative,,3)),IF(OFFSET(Cumulative,,5)>(ROW()-ROW($O$20)),_xlfn.AGGREGATE(15,6,(ROW(OrderRange_Ref)-ROW($L$19))/(OFFSET(OrderRange_Ref,,5)>0),ROWS($L$20:$L41)-OFFSET(Cumulative,,4)),\"\"))))))","v":""},"","","","",""]
[null,{"$f":"IF($C42=\"\",\"\",ROWS($C$20:$C42))","v":23},{"$f":"IFERROR(INDEX(OD_Product_List,ROWS($20:42)),\"\")","v":"30-ขนมปังโรลมันเทศ"},null,null,null,null,null,null,0,{"$f":"IF(OrderFrm_Manual!$C42=\"\",\"\",INDEX(GB_Product[Pcs/Unit],MATCH(OrderFrm_Manual!$C42,GB_Product[NameTH],)))","v":"40"},null,null,{"$f":"IF(Cumulative>(ROW()-ROW($O$20)),_xlfn.AGGREGATE(15,6,(ROW(OrderRange_Ref)-ROW($L$19))/(OFFSET(OrderRange_Ref,,0)>0),ROWS($L$20:$L42)),IF(OFFSET(Cumulative,,1)>(ROW()-ROW($O$20)),_xlfn.AGGREGATE(15,6,(ROW(OrderRange_Ref)-ROW($L$19))/(OFFSET(OrderRange_Ref,,1)>0),ROWS($L$20:$L42)-OFFSET(Cumulative,,0)),IF(OFFSET(Cumulative,,2)>(ROW()-ROW($O$20)),_xlfn.AGGREGATE(15,6,(ROW(OrderRange_Ref)-ROW($L$19))/(OFFSET(OrderRange_Ref,,2)>0),ROWS($L$20:$L42)-OFFSET(Cumulative,,1)),IF(OFFSET(Cumulative,,3)>(ROW()-ROW($O$20)),_xlfn.AGGREGATE(15,6,(ROW(OrderRange_Ref)-ROW($L$19))/(OFFSET(OrderRange_Ref,,3)>0),ROWS($L$20:$L42)-OFFSET(Cumulative,,2)),IF(OFFSET(Cumulative,,4)>(ROW()-ROW($O$20)),_xlfn.AGGREGATE(15,6,(ROW(OrderRange_Ref)-ROW($L$19))/(OFFSET(OrderRange_Ref,,4)>0),ROWS($L$20:$L42)-OFFSET(Cumulative,,3)),IF(OFFSET(Cumulative,,5)>(ROW()-ROW($O$20)),_xlfn.AGGREGATE(15,6,(ROW(OrderRange_Ref)-ROW($L$19))/(OFFSET(OrderRange_Ref,,5)>0),ROWS($L$20:$L42)-OFFSET(Cumulative,,4)),\"\"))))))","v":""},"","","","",""]
[null,{"$f":"IF($C43=\"\",\"\",ROWS($C$20:$C43))","v":24},{"$f":"IFERROR(INDEX(OD_Product_List,ROWS($20:43)),\"\")","v":"31-ขนมปังไส้ครีมสลัดน้ำพริกเผา"},null,null,null,null,null,null,0,{"$f":"IF(OrderFrm_Manual!$C43=\"\",\"\",INDEX(GB_Product[Pcs/Unit],MATCH(OrderFrm_Manual!$C43,GB_Product[NameTH],)))","v":"50"},null,null,{"$f":"IF(Cumulative>(ROW()-ROW($O$20)),_xlfn.AGGREGATE(15,6,(ROW(OrderRange_Ref)-ROW($L$19))/(OFFSET(OrderRange_Ref,,0)>0),ROWS($L$20:$L43)),IF(OFFSET(Cumulative,,1)>(ROW()-ROW($O$20)),_xlfn.AGGREGATE(15,6,(ROW(OrderRange_Ref)-ROW($L$19))/(OFFSET(OrderRange_Ref,,1)>0),ROWS($L$20:$L43)-OFFSET(Cumulative,,0)),IF(OFFSET(Cumulative,,2)>(ROW()-ROW($O$20)),_xlfn.AGGREGATE(15,6,(ROW(OrderRange_Ref)-ROW($L$19))/(OFFSET(OrderRange_Ref,,2)>0),ROWS($L$20:$L43)-OFFSET(Cumulative,,1)),IF(OFFSET(Cumulative,,3)>(ROW()-ROW($O$20)),_xlfn.AGGREGATE(15,6,(ROW(OrderRange_Ref)-ROW($L$19))/(OFFSET(OrderRange_Ref,,3)>0),ROWS($L$20:$L43)-OFFSET(Cumulative,,2)),IF(OFFSET(Cumulative,,4)>(ROW()-ROW($O$20)),_xlfn.AGGREGATE(15,6,(ROW(OrderRange_Ref)-ROW($L$19))/(OFFSET(OrderRange_Ref,,4)>0),ROWS($L$20:$L43)-OFFSET(Cumulative,,3)),IF(OFFSET(Cumulative,,5)>(ROW()-ROW($O$20)),_xlfn.AGGREGATE(15,6,(ROW(OrderRange_Ref)-ROW($L$19))/(OFFSET(OrderRange_Ref,,5)>0),ROWS($L$20:$L43)-OFFSET(Cumulative,,4)),\"\"))))))","v":""},"","","","",""]
[null,{"$f":"IF($C44=\"\",\"\",ROWS($C$20:$C44))","v":25},{"$f":"IFERROR(INDEX(OD_Product_List,ROWS($20:44)),\"\")","v":"32-ขนมปังไส้สังขยาไข่"},null,null,null,null,null,null,0,{"$f":"IF(OrderFrm_Manual!$C44=\"\",\"\",INDEX(GB_Product[Pcs/Unit],MATCH(OrderFrm_Manual!$C44,GB_Product[NameTH],)))","v":"50"},null,null,{"$f":"IF(Cumulative>(ROW()-ROW($O$20)),_xlfn.AGGREGATE(15,6,(ROW(OrderRange_Ref)-ROW($L$19))/(OFFSET(OrderRange_Ref,,0)>0),ROWS($L$20:$L44)),IF(OFFSET(Cumulative,,1)>(ROW()-ROW($O$20)),_xlfn.AGGREGATE(15,6,(ROW(OrderRange_Ref)-ROW($L$19))/(OFFSET(OrderRange_Ref,,1)>0),ROWS($L$20:$L44)-OFFSET(Cumulative,,0)),IF(OFFSET(Cumulative,,2)>(ROW()-ROW($O$20)),_xlfn.AGGREGATE(15,6,(ROW(OrderRange_Ref)-ROW($L$19))/(OFFSET(OrderRange_Ref,,2)>0),ROWS($L$20:$L44)-OFFSET(Cumulative,,1)),IF(OFFSET(Cumulative,,3)>(ROW()-ROW($O$20)),_xlfn.AGGREGATE(15,6,(ROW(OrderRange_Ref)-ROW($L$19))/(OFFSET(OrderRange_Ref,,3)>0),ROWS($L$20:$L44)-OFFSET(Cumulative,,2)),IF(OFFSET(Cumulative,,4)>(ROW()-ROW($O$20)),_xlfn.AGGREGATE(15,6,(ROW(OrderRange_Ref)-ROW($L$19))/(OFFSET(OrderRange_Ref,,4)>0),ROWS($L$20:$L44)-OFFSET(Cumulative,,3)),IF(OFFSET(Cumulative,,5)>(ROW()-ROW($O$20)),_xlfn.AGGREGATE(15,6,(ROW(OrderRange_Ref)-ROW($L$19))/(OFFSET(OrderRange_Ref,,5)>0),ROWS($L$20:$L44)-OFFSET(Cumulative,,4)),\"\"))))))","v":""},"","","","",""]
[null,{"$f":"IF($C45=\"\",\"\",ROWS($C$20:$C45))","v":26},{"$f":"IFERROR(INDEX(OD_Product_List,ROWS($20:45)),\"\")","v":"33-ขนมปังไส้สังขยามะพร้าว"},null,null,null,null,null,null,0,{"$f":"IF(OrderFrm_Manual!$C45=\"\",\"\",INDEX(GB_Product[Pcs/Unit],MATCH(OrderFrm_Manual!$C45,GB_Product[NameTH],)))","v":"50"},null,null,{"$f":"IF(Cumulative>(ROW()-ROW($O$20)),_xlfn.AGGREGATE(15,6,(ROW(OrderRange_Ref)-ROW($L$19))/(OFFSET(OrderRange_Ref,,0)>0),ROWS($L$20:$L45)),IF(OFFSET(Cumulative,,1)>(ROW()-ROW($O$20)),_xlfn.AGGREGATE(15,6,(ROW(OrderRange_Ref)-ROW($L$19))/(OFFSET(OrderRange_Ref,,1)>0),ROWS($L$20:$L45)-OFFSET(Cumulative,,0)),IF(OFFSET(Cumulative,,2)>(ROW()-ROW($O$20)),_xlfn.AGGREGATE(15,6,(ROW(OrderRange_Ref)-ROW($L$19))/(OFFSET(OrderRange_Ref,,2)>0),ROWS($L$20:$L45)-OFFSET(Cumulative,,1)),IF(OFFSET(Cumulative,,3)>(ROW()-ROW($O$20)),_xlfn.AGGREGATE(15,6,(ROW(OrderRange_Ref)-ROW($L$19))/(OFFSET(OrderRange_Ref,,3)>0),ROWS($L$20:$L45)-OFFSET(Cumulative,,2)),IF(OFFSET(Cumulative,,4)>(ROW()-ROW($O$20)),_xlfn.AGGREGATE(15,6,(ROW(OrderRange_Ref)-ROW($L$19))/(OFFSET(OrderRange_Ref,,4)>0),ROWS($L$20:$L45)-OFFSET(Cumulative,,3)),IF(OFFSET(Cumulative,,5)>(ROW()-ROW($O$20)),_xlfn.AGGREGATE(15,6,(ROW(OrderRange_Ref)-ROW($L$19))/(OFFSET(OrderRange_Ref,,5)>0),ROWS($L$20:$L45)-OFFSET(Cumulative,,4)),\"\"))))))","v":""},"","","","",""]
[null,{"$f":"IF($C46=\"\",\"\",ROWS($C$20:$C46))","v":27},{"$f":"IFERROR(INDEX(OD_Product_List,ROWS($20:46)),\"\")","v":"34-ขนมปังไส้ครีมชาไทย"},null,null,null,null,null,null,0,{"$f":"IF(OrderFrm_Manual!$C46=\"\",\"\",INDEX(GB_Product[Pcs/Unit],MATCH(OrderFrm_Manual!$C46,GB_Product[NameTH],)))","v":"50"},null,null,{"$f":"IF(Cumulative>(ROW()-ROW($O$20)),_xlfn.AGGREGATE(15,6,(ROW(OrderRange_Ref)-ROW($L$19))/(OFFSET(OrderRange_Ref,,0)>0),ROWS($L$20:$L46)),IF(OFFSET(Cumulative,,1)>(ROW()-ROW($O$20)),_xlfn.AGGREGATE(15,6,(ROW(OrderRange_Ref)-ROW($L$19))/(OFFSET(OrderRange_Ref,,1)>0),ROWS($L$20:$L46)-OFFSET(Cumulative,,0)),IF(OFFSET(Cumulative,,2)>(ROW()-ROW($O$20)),_xlfn.AGGREGATE(15,6,(ROW(OrderRange_Ref)-ROW($L$19))/(OFFSET(OrderRange_Ref,,2)>0),ROWS($L$20:$L46)-OFFSET(Cumulative,,1)),IF(OFFSET(Cumulative,,3)>(ROW()-ROW($O$20)),_xlfn.AGGREGATE(15,6,(ROW(OrderRange_Ref)-ROW($L$19))/(OFFSET(OrderRange_Ref,,3)>0),ROWS($L$20:$L46)-OFFSET(Cumulative,,2)),IF(OFFSET(Cumulative,,4)>(ROW()-ROW($O$20)),_xlfn.AGGREGATE(15,6,(ROW(OrderRange_Ref)-ROW($L$19))/(OFFSET(OrderRange_Ref,,4)>0),ROWS($L$20:$L46)-OFFSET(Cumulative,,3)),IF(OFFSET(Cumulative,,5)>(ROW()-ROW($O$20)),_xlfn.AGGREGATE(15,6,(ROW(OrderRange_Ref)-ROW($L$19))/(OFFSET(OrderRange_Ref,,5)>0),ROWS($L$20:$L46)-OFFSET(Cumulative,,4)),\"\"))))))","v":""},"","","","",""]
[null,{"$f":"IF($C47=\"\",\"\",ROWS($C$20:$C47))","v":28},{"$f":"IFERROR(INDEX(OD_Product_List,ROWS($20:47)),\"\")","v":"36-ขนมปังโรลมันม่วง"},null,null,null,null,null,null,0,{"$f":"IF(OrderFrm_Manual!$C47=\"\",\"\",INDEX(GB_Product[Pcs/Unit],MATCH(OrderFrm_Manual!$C47,GB_Product[NameTH],)))","v":"40"},null,null,{"$f":"IF(Cumulative>(ROW()-ROW($O$20)),_xlfn.AGGREGATE(15,6,(ROW(OrderRange_Ref)-ROW($L$19))/(OFFSET(OrderRange_Ref,,0)>0),ROWS($L$20:$L47)),IF(OFFSET(Cumulative,,1)>(ROW()-ROW($O$20)),_xlfn.AGGREGATE(15,6,(ROW(OrderRange_Ref)-ROW($L$19))/(OFFSET(OrderRange_Ref,,1)>0),ROWS($L$20:$L47)-OFFSET(Cumulative,,0)),IF(OFFSET(Cumulative,,2)>(ROW()-ROW($O$20)),_xlfn.AGGREGATE(15,6,(ROW(OrderRange_Ref)-ROW($L$19))/(OFFSET(OrderRange_Ref,,2)>0),ROWS($L$20:$L47)-OFFSET(Cumulative,,1)),IF(OFFSET(Cumulative,,3)>(ROW()-ROW($O$20)),_xlfn.AGGREGATE(15,6,(ROW(OrderRange_Ref)-ROW($L$19))/(OFFSET(OrderRange_Ref,,3)>0),ROWS($L$20:$L47)-OFFSET(Cumulative,,2)),IF(OFFSET(Cumulative,,4)>(ROW()-ROW($O$20)),_xlfn.AGGREGATE(15,6,(ROW(OrderRange_Ref)-ROW($L$19))/(OFFSET(OrderRange_Ref,,4)>0),ROWS($L$20:$L47)-OFFSET(Cumulative,,3)),IF(OFFSET(Cumulative,,5)>(ROW()-ROW($O$20)),_xlfn.AGGREGATE(15,6,(ROW(OrderRange_Ref)-ROW($L$19))/(OFFSET(OrderRange_Ref,,5)>0),ROWS($L$20:$L47)-OFFSET(Cumulative,,4)),\"\"))))))","v":""},"","","","",""]
[null,{"$f":"IF($C48=\"\",\"\",ROWS($C$20:$C48))","v":29},{"$f":"IFERROR(INDEX(OD_Product_List,ROWS($20:48)),\"\")","v":"37-ขนมปังโรลช็อกโกแลต"},null,null,null,null,null,null,0,{"$f":"IF(OrderFrm_Manual!$C48=\"\",\"\",INDEX(GB_Product[Pcs/Unit],MATCH(OrderFrm_Manual!$C48,GB_Product[NameTH],)))","v":"40"},null,null,{"$f":"IF(Cumulative>(ROW()-ROW($O$20)),_xlfn.AGGREGATE(15,6,(ROW(OrderRange_Ref)-ROW($L$19))/(OFFSET(OrderRange_Ref,,0)>0),ROWS($L$20:$L48)),IF(OFFSET(Cumulative,,1)>(ROW()-ROW($O$20)),_xlfn.AGGREGATE(15,6,(ROW(OrderRange_Ref)-ROW($L$19))/(OFFSET(OrderRange_Ref,,1)>0),ROWS($L$20:$L48)-OFFSET(Cumulative,,0)),IF(OFFSET(Cumulative,,2)>(ROW()-ROW($O$20)),_xlfn.AGGREGATE(15,6,(ROW(OrderRange_Ref)-ROW($L$19))/(OFFSET(OrderRange_Ref,,2)>0),ROWS($L$20:$L48)-OFFSET(Cumulative,,1)),IF(OFFSET(Cumulative,,3)>(ROW()-ROW($O$20)),_xlfn.AGGREGATE(15,6,(ROW(OrderRange_Ref)-ROW($L$19))/(OFFSET(OrderRange_Ref,,3)>0),ROWS($L$20:$L48)-OFFSET(Cumulative,,2)),IF(OFFSET(Cumulative,,4)>(ROW()-ROW($O$20)),_xlfn.AGGREGATE(15,6,(ROW(OrderRange_Ref)-ROW($L$19))/(OFFSET(OrderRange_Ref,,4)>0),ROWS($L$20:$L48)-OFFSET(Cumulative,,3)),IF(OFFSET(Cumulative,,5)>(ROW()-ROW($O$20)),_xlfn.AGGREGATE(15,6,(ROW(OrderRange_Ref)-ROW($L$19))/(OFFSET(OrderRange_Ref,,5)>0),ROWS($L$20:$L48)-OFFSET(Cumulative,,4)),\"\"))))))","v":""},"","","","",""]
[null,{"$f":"IF($C49=\"\",\"\",ROWS($C$20:$C49))","v":30},{"$f":"IFERROR(INDEX(OD_Product_List,ROWS($20:49)),\"\")","v":"38-ขนมปังชนิดแผ่น(155กรัม)"},null,null,null,null,null,null,0,{"$f":"IF(OrderFrm_Manual!$C49=\"\",\"\",INDEX(GB_Product[Pcs/Unit],MATCH(OrderFrm_Manual!$C49,GB_Product[NameTH],)))","v":"30"},null,null,{"$f":"IF(Cumulative>(ROW()-ROW($O$20)),_xlfn.AGGREGATE(15,6,(ROW(OrderRange_Ref)-ROW($L$19))/(OFFSET(OrderRange_Ref,,0)>0),ROWS($L$20:$L49)),IF(OFFSET(Cumulative,,1)>(ROW()-ROW($O$20)),_xlfn.AGGREGATE(15,6,(ROW(OrderRange_Ref)-ROW($L$19))/(OFFSET(OrderRange_Ref,,1)>0),ROWS($L$20:$L49)-OFFSET(Cumulative,,0)),IF(OFFSET(Cumulative,,2)>(ROW()-ROW($O$20)),_xlfn.AGGREGATE(15,6,(ROW(OrderRange_Ref)-ROW($L$19))/(OFFSET(OrderRange_Ref,,2)>0),ROWS($L$20:$L49)-OFFSET(Cumulative,,1)),IF(OFFSET(Cumulative,,3)>(ROW()-ROW($O$20)),_xlfn.AGGREGATE(15,6,(ROW(OrderRange_Ref)-ROW($L$19))/(OFFSET(OrderRange_Ref,,3)>0),ROWS($L$20:$L49)-OFFSET(Cumulative,,2)),IF(OFFSET(Cumulative,,4)>(ROW()-ROW($O$20)),_xlfn.AGGREGATE(15,6,(ROW(OrderRange_Ref)-ROW($L$19))/(OFFSET(OrderRange_Ref,,4)>0),ROWS($L$20:$L49)-OFFSET(Cumulative,,3)),IF(OFFSET(Cumulative,,5)>(ROW()-ROW($O$20)),_xlfn.AGGREGATE(15,6,(ROW(OrderRange_Ref)-ROW($L$19))/(OFFSET(OrderRange_Ref,,5)>0),ROWS($L$20:$L49)-OFFSET(Cumulative,,4)),\"\"))))))","v":""},"","","","",""]
[null,{"$f":"IF($C50=\"\",\"\",ROWS($C$20:$C50))","v":31},{"$f":"IFERROR(INDEX(OD_Product_List,ROWS($20:50)),\"\")","v":"39-ขนมปังโรลเผือก"},null,null,null,null,null,null,0,{"$f":"IF(OrderFrm_Manual!$C50=\"\",\"\",INDEX(GB_Product[Pcs/Unit],MATCH(OrderFrm_Manual!$C50,GB_Product[NameTH],)))","v":"40"},null,null,{"$f":"IF(Cumulative>(ROW()-ROW($O$20)),_xlfn.AGGREGATE(15,6,(ROW(OrderRange_Ref)-ROW($L$19))/(OFFSET(OrderRange_Ref,,0)>0),ROWS($L$20:$L50)),IF(OFFSET(Cumulative,,1)>(ROW()-ROW($O$20)),_xlfn.AGGREGATE(15,6,(ROW(OrderRange_Ref)-ROW($L$19))/(OFFSET(OrderRange_Ref,,1)>0),ROWS($L$20:$L50)-OFFSET(Cumulative,,0)),IF(OFFSET(Cumulative,,2)>(ROW()-ROW($O$20)),_xlfn.AGGREGATE(15,6,(ROW(OrderRange_Ref)-ROW($L$19))/(OFFSET(OrderRange_Ref,,2)>0),ROWS($L$20:$L50)-OFFSET(Cumulative,,1)),IF(OFFSET(Cumulative,,3)>(ROW()-ROW($O$20)),_xlfn.AGGREGATE(15,6,(ROW(OrderRange_Ref)-ROW($L$19))/(OFFSET(OrderRange_Ref,,3)>0),ROWS($L$20:$L50)-OFFSET(Cumulative,,2)),IF(OFFSET(Cumulative,,4)>(ROW()-ROW($O$20)),_xlfn.AGGREGATE(15,6,(ROW(OrderRange_Ref)-ROW($L$19))/(OFFSET(OrderRange_Ref,,4)>0),ROWS($L$20:$L50)-OFFSET(Cumulative,,3)),IF(OFFSET(Cumulative,,5)>(ROW()-ROW($O$20)),_xlfn.AGGREGATE(15,6,(ROW(OrderRange_Ref)-ROW($L$19))/(OFFSET(OrderRange_Ref,,5)>0),ROWS($L$20:$L50)-OFFSET(Cumulative,,4)),\"\"))))))","v":""},"","","","",""]
[null,{"$f":"IF($C51=\"\",\"\",ROWS($C$20:$C51))","v":32},{"$f":"IFERROR(INDEX(OD_Product_List,ROWS($20:51)),\"\")","v":"40-ขนมปังไก่หยองน้ำสลัด Mini"},null,null,null,null,null,null,0,{"$f":"IF(OrderFrm_Manual!$C51=\"\",\"\",INDEX(GB_Product[Pcs/Unit],MATCH(OrderFrm_Manual!$C51,GB_Product[NameTH],)))","v":"50"},null,null,{"$f":"IF(Cumulative>(ROW()-ROW($O$20)),_xlfn.AGGREGATE(15,6,(ROW(OrderRange_Ref)-ROW($L$19))/(OFFSET(OrderRange_Ref,,0)>0),ROWS($L$20:$L51)),IF(OFFSET(Cumulative,,1)>(ROW()-ROW($O$20)),_xlfn.AGGREGATE(15,6,(ROW(OrderRange_Ref)-ROW($L$19))/(OFFSET(OrderRange_Ref,,1)>0),ROWS($L$20:$L51)-OFFSET(Cumulative,,0)),IF(OFFSET(Cumulative,,2)>(ROW()-ROW($O$20)),_xlfn.AGGREGATE(15,6,(ROW(OrderRange_Ref)-ROW($L$19))/(OFFSET(OrderRange_Ref,,2)>0),ROWS($L$20:$L51)-OFFSET(Cumulative,,1)),IF(OFFSET(Cumulative,,3)>(ROW()-ROW($O$20)),_xlfn.AGGREGATE(15,6,(ROW(OrderRange_Ref)-ROW($L$19))/(OFFSET(OrderRange_Ref,,3)>0),ROWS($L$20:$L51)-OFFSET(Cumulative,,2)),IF(OFFSET(Cumulative,,4)>(ROW()-ROW($O$20)),_xlfn.AGGREGATE(15,6,(ROW(OrderRange_Ref)-ROW($L$19))/(OFFSET(OrderRange_Ref,,4)>0),ROWS($L$20:$L51)-OFFSET(Cumulative,,3)),IF(OFFSET(Cumulative,,5)>(ROW()-ROW($O$20)),_xlfn.AGGREGATE(15,6,(ROW(OrderRange_Ref)-ROW($L$19))/(OFFSET(OrderRange_Ref,,5)>0),ROWS($L$20:$L51)-OFFSET(Cumulative,,4)),\"\"))))))","v":""},"","","","",""]
[null,{"$f":"IF($C52=\"\",\"\",ROWS($C$20:$C52))","v":33},{"$f":"IFERROR(INDEX(OD_Product_List,ROWS($20:52)),\"\")","v":"41-ขนมปังไส้ช็อกโกแลต"},null,null,null,null,null,null,0,{"$f":"IF(OrderFrm_Manual!$C52=\"\",\"\",INDEX(GB_Product[Pcs/Unit],MATCH(OrderFrm_Manual!$C52,GB_Product[NameTH],)))","v":"50"},null,null,{"$f":"IF(Cumulative>(ROW()-ROW($O$20)),_xlfn.AGGREGATE(15,6,(ROW(OrderRange_Ref)-ROW($L$19))/(OFFSET(OrderRange_Ref,,0)>0),ROWS($L$20:$L52)),IF(OFFSET(Cumulative,,1)>(ROW()-ROW($O$20)),_xlfn.AGGREGATE(15,6,(ROW(OrderRange_Ref)-ROW($L$19))/(OFFSET(OrderRange_Ref,,1)>0),ROWS($L$20:$L52)-OFFSET(Cumulative,,0)),IF(OFFSET(Cumulative,,2)>(ROW()-ROW($O$20)),_xlfn.AGGREGATE(15,6,(ROW(OrderRange_Ref)-ROW($L$19))/(OFFSET(OrderRange_Ref,,2)>0),ROWS($L$20:$L52)-OFFSET(Cumulative,,1)),IF(OFFSET(Cumulative,,3)>(ROW()-ROW($O$20)),_xlfn.AGGREGATE(15,6,(ROW(OrderRange_Ref)-ROW($L$19))/(OFFSET(OrderRange_Ref,,3)>0),ROWS($L$20:$L52)-OFFSET(Cumulative,,2)),IF(OFFSET(Cumulative,,4)>(ROW()-ROW($O$20)),_xlfn.AGGREGATE(15,6,(ROW(OrderRange_Ref)-ROW($L$19))/(OFFSET(OrderRange_Ref,,4)>0),ROWS($L$20:$L52)-OFFSET(Cumulative,,3)),IF(OFFSET(Cumulative,,5)>(ROW()-ROW($O$20)),_xlfn.AGGREGATE(15,6,(ROW(OrderRange_Ref)-ROW($L$19))/(OFFSET(OrderRange_Ref,,5)>0),ROWS($L$20:$L52)-OFFSET(Cumulative,,4)),\"\"))))))","v":""},"","","","",""]
[null,{"$f":"IF($C53=\"\",\"\",ROWS($C$20:$C53))","v":34},{"$f":"IFERROR(INDEX(OD_Product_List,ROWS($20:53)),\"\")","v":"42-ขนมปังไส้ครีมสังขยาไข่"},null,null,null,null,null,null,0,{"$f":"IF(OrderFrm_Manual!$C53=\"\",\"\",INDEX(GB_Product[Pcs/Unit],MATCH(OrderFrm_Manual!$C53,GB_Product[NameTH],)))","v":"50"},null,null,{"$f":"IF(Cumulative>(ROW()-ROW($O$20)),_xlfn.AGGREGATE(15,6,(ROW(OrderRange_Ref)-ROW($L$19))/(OFFSET(OrderRange_Ref,,0)>0),ROWS($L$20:$L53)),IF(OFFSET(Cumulative,,1)>(ROW()-ROW($O$20)),_xlfn.AGGREGATE(15,6,(ROW(OrderRange_Ref)-ROW($L$19))/(OFFSET(OrderRange_Ref,,1)>0),ROWS($L$20:$L53)-OFFSET(Cumulative,,0)),IF(OFFSET(Cumulative,,2)>(ROW()-ROW($O$20)),_xlfn.AGGREGATE(15,6,(ROW(OrderRange_Ref)-ROW($L$19))/(OFFSET(OrderRange_Ref,,2)>0),ROWS($L$20:$L53)-OFFSET(Cumulative,,1)),IF(OFFSET(Cumulative,,3)>(ROW()-ROW($O$20)),_xlfn.AGGREGATE(15,6,(ROW(OrderRange_Ref)-ROW($L$19))/(OFFSET(OrderRange_Ref,,3)>0),ROWS($L$20:$L53)-OFFSET(Cumulative,,2)),IF(OFFSET(Cumulative,,4)>(ROW()-ROW($O$20)),_xlfn.AGGREGATE(15,6,(ROW(OrderRange_Ref)-ROW($L$19))/(OFFSET(OrderRange_Ref,,4)>0),ROWS($L$20:$L53)-OFFSET(Cumulative,,3)),IF(OFFSET(Cumulative,,5)>(ROW()-ROW($O$20)),_xlfn.AGGREGATE(15,6,(ROW(OrderRange_Ref)-ROW($L$19))/(OFFSET(OrderRange_Ref,,5)>0),ROWS($L$20:$L53)-OFFSET(Cumulative,,4)),\"\"))))))","v":""},"","","","",""]
[null,{"$f":"IF($C54=\"\",\"\",ROWS($C$20:$C54))","v":35},{"$f":"IFERROR(INDEX(OD_Product_List,ROWS($20:54)),\"\")","v":"48-ขนมปังชนิดแผ่นโฮลวีต"},null,null,null,null,null,null,0,{"$f":"IF(OrderFrm_Manual!$C54=\"\",\"\",INDEX(GB_Product[Pcs/Unit],MATCH(OrderFrm_Manual!$C54,GB_Product[NameTH],)))","v":"30"},null,null,{"$f":"IF(Cumulative>(ROW()-ROW($O$20)),_xlfn.AGGREGATE(15,6,(ROW(OrderRange_Ref)-ROW($L$19))/(OFFSET(OrderRange_Ref,,0)>0),ROWS($L$20:$L54)),IF(OFFSET(Cumulative,,1)>(ROW()-ROW($O$20)),_xlfn.AGGREGATE(15,6,(ROW(OrderRange_Ref)-ROW($L$19))/(OFFSET(OrderRange_Ref,,1)>0),ROWS($L$20:$L54)-OFFSET(Cumulative,,0)),IF(OFFSET(Cumulative,,2)>(ROW()-ROW($O$20)),_xlfn.AGGREGATE(15,6,(ROW(OrderRange_Ref)-ROW($L$19))/(OFFSET(OrderRange_Ref,,2)>0),ROWS($L$20:$L54)-OFFSET(Cumulative,,1)),IF(OFFSET(Cumulative,,3)>(ROW()-ROW($O$20)),_xlfn.AGGREGATE(15,6,(ROW(OrderRange_Ref)-ROW($L$19))/(OFFSET(OrderRange_Ref,,3)>0),ROWS($L$20:$L54)-OFFSET(Cumulative,,2)),IF(OFFSET(Cumulative,,4)>(ROW()-ROW($O$20)),_xlfn.AGGREGATE(15,6,(ROW(OrderRange_Ref)-ROW($L$19))/(OFFSET(OrderRange_Ref,,4)>0),ROWS($L$20:$L54)-OFFSET(Cumulative,,3)),IF(OFFSET(Cumulative,,5)>(ROW()-ROW($O$20)),_xlfn.AGGREGATE(15,6,(ROW(OrderRange_Ref)-ROW($L$19))/(OFFSET(OrderRange_Ref,,5)>0),ROWS($L$20:$L54)-OFFSET(Cumulative,,4)),\"\"))))))","v":""},"","","","",""]
[null,{"$f":"IF($C55=\"\",\"\",ROWS($C$20:$C55))","v":36},{"$f":"IFERROR(INDEX(OD_Product_List,ROWS($20:55)),\"\")","v":"49-เค้กโรลใบเตย"},null,null,null,null,null,null,0,{"$f":"IF(OrderFrm_Manual!$C55=\"\",\"\",INDEX(GB_Product[Pcs/Unit],MATCH(OrderFrm_Manual!$C55,GB_Product[NameTH],)))","v":"50"},null,null,{"$f":"IF(Cumulative>(ROW()-ROW($O$20)),_xlfn.AGGREGATE(15,6,(ROW(OrderRange_Ref)-ROW($L$19))/(OFFSET(OrderRange_Ref,,0)>0),ROWS($L$20:$L55)),IF(OFFSET(Cumulative,,1)>(ROW()-ROW($O$20)),_xlfn.AGGREGATE(15,6,(ROW(OrderRange_Ref)-ROW($L$19))/(OFFSET(OrderRange_Ref,,1)>0),ROWS($L$20:$L55)-OFFSET(Cumulative,,0)),IF(OFFSET(Cumulative,,2)>(ROW()-ROW($O$20)),_xlfn.AGGREGATE(15,6,(ROW(OrderRange_Ref)-ROW($L$19))/(OFFSET(OrderRange_Ref,,2)>0),ROWS($L$20:$L55)-OFFSET(Cumulative,,1)),IF(OFFSET(Cumulative,,3)>(ROW()-ROW($O$20)),_xlfn.AGGREGATE(15,6,(ROW(OrderRange_Ref)-ROW($L$19))/(OFFSET(OrderRange_Ref,,3)>0),ROWS($L$20:$L55)-OFFSET(Cumulative,,2)),IF(OFFSET(Cumulative,,4)>(ROW()-ROW($O$20)),_xlfn.AGGREGATE(15,6,(ROW(OrderRange_Ref)-ROW($L$19))/(OFFSET(OrderRange_Ref,,4)>0),ROWS($L$20:$L55)-OFFSET(Cumulative,,3)),IF(OFFSET(Cumulative,,5)>(ROW()-ROW($O$20)),_xlfn.AGGREGATE(15,6,(ROW(OrderRange_Ref)-ROW($L$19))/(OFFSET(OrderRange_Ref,,5)>0),ROWS($L$20:$L55)-OFFSET(Cumulative,,4)),\"\"))))))","v":""},"","","","",""]
[null,{"$f":"IF($C56=\"\",\"\",ROWS($C$20:$C56))","v":""},{"$f":"IFERROR(INDEX(OD_Product_List,ROWS($20:56)),\"\")","v":""},null,null,null,null,null,null,"",{"$f":"IF(OrderFrm_Manual!$C56=\"\",\"\",INDEX(GB_Product[Pcs/Unit],MATCH(OrderFrm_Manual!$C56,GB_Product[NameTH],)))","v":""},null,null,{"$f":"IF(Cumulative>(ROW()-ROW($O$20)),_xlfn.AGGREGATE(15,6,(ROW(OrderRange_Ref)-ROW($L$19))/(OFFSET(OrderRange_Ref,,0)>0),ROWS($L$20:$L56)),IF(OFFSET(Cumulative,,1)>(ROW()-ROW($O$20)),_xlfn.AGGREGATE(15,6,(ROW(OrderRange_Ref)-ROW($L$19))/(OFFSET(OrderRange_Ref,,1)>0),ROWS($L$20:$L56)-OFFSET(Cumulative,,0)),IF(OFFSET(Cumulative,,2)>(ROW()-ROW($O$20)),_xlfn.AGGREGATE(15,6,(ROW(OrderRange_Ref)-ROW($L$19))/(OFFSET(OrderRange_Ref,,2)>0),ROWS($L$20:$L56)-OFFSET(Cumulative,,1)),IF(OFFSET(Cumulative,,3)>(ROW()-ROW($O$20)),_xlfn.AGGREGATE(15,6,(ROW(OrderRange_Ref)-ROW($L$19))/(OFFSET(OrderRange_Ref,,3)>0),ROWS($L$20:$L56)-OFFSET(Cumulative,,2)),IF(OFFSET(Cumulative,,4)>(ROW()-ROW($O$20)),_xlfn.AGGREGATE(15,6,(ROW(OrderRange_Ref)-ROW($L$19))/(OFFSET(OrderRange_Ref,,4)>0),ROWS($L$20:$L56)-OFFSET(Cumulative,,3)),IF(OFFSET(Cumulative,,5)>(ROW()-ROW($O$20)),_xlfn.AGGREGATE(15,6,(ROW(OrderRange_Ref)-ROW($L$19))/(OFFSET(OrderRange_Ref,,5)>0),ROWS($L$20:$L56)-OFFSET(Cumulative,,4)),\"\"))))))","v":""},"","","","",""]
[null,{"$f":"IF($C57=\"\",\"\",ROWS($C$20:$C57))","v":""},{"$f":"IFERROR(INDEX(OD_Product_List,ROWS($20:57)),\"\")","v":""},null,null,null,null,null,null,"",{"$f":"IF(OrderFrm_Manual!$C57=\"\",\"\",INDEX(GB_Product[Pcs/Unit],MATCH(OrderFrm_Manual!$C57,GB_Product[NameTH],)))","v":""},null,null,{"$f":"IF(Cumulative>(ROW()-ROW($O$20)),_xlfn.AGGREGATE(15,6,(ROW(OrderRange_Ref)-ROW($L$19))/(OFFSET(OrderRange_Ref,,0)>0),ROWS($L$20:$L57)),IF(OFFSET(Cumulative,,1)>(ROW()-ROW($O$20)),_xlfn.AGGREGATE(15,6,(ROW(OrderRange_Ref)-ROW($L$19))/(OFFSET(OrderRange_Ref,,1)>0),ROWS($L$20:$L57)-OFFSET(Cumulative,,0)),IF(OFFSET(Cumulative,,2)>(ROW()-ROW($O$20)),_xlfn.AGGREGATE(15,6,(ROW(OrderRange_Ref)-ROW($L$19))/(OFFSET(OrderRange_Ref,,2)>0),ROWS($L$20:$L57)-OFFSET(Cumulative,,1)),IF(OFFSET(Cumulative,,3)>(ROW()-ROW($O$20)),_xlfn.AGGREGATE(15,6,(ROW(OrderRange_Ref)-ROW($L$19))/(OFFSET(OrderRange_Ref,,3)>0),ROWS($L$20:$L57)-OFFSET(Cumulative,,2)),IF(OFFSET(Cumulative,,4)>(ROW()-ROW($O$20)),_xlfn.AGGREGATE(15,6,(ROW(OrderRange_Ref)-ROW($L$19))/(OFFSET(OrderRange_Ref,,4)>0),ROWS($L$20:$L57)-OFFSET(Cumulative,,3)),IF(OFFSET(Cumulative,,5)>(ROW()-ROW($O$20)),_xlfn.AGGREGATE(15,6,(ROW(OrderRange_Ref)-ROW($L$19))/(OFFSET(OrderRange_Ref,,5)>0),ROWS($L$20:$L57)-OFFSET(Cumulative,,4)),\"\"))))))","v":""},"","","","",""]
[null,{"$f":"IF($C58=\"\",\"\",ROWS($C$20:$C58))","v":""},{"$f":"IFERROR(INDEX(OD_Product_List,ROWS($20:58)),\"\")","v":""},null,null,null,null,null,null,"",{"$f":"IF(OrderFrm_Manual!$C58=\"\",\"\",INDEX(GB_Product[Pcs/Unit],MATCH(OrderFrm_Manual!$C58,GB_Product[NameTH],)))","v":""},null,null,{"$f":"IF(Cumulative>(ROW()-ROW($O$20)),_xlfn.AGGREGATE(15,6,(ROW(OrderRange_Ref)-ROW($L$19))/(OFFSET(OrderRange_Ref,,0)>0),ROWS($L$20:$L58)),IF(OFFSET(Cumulative,,1)>(ROW()-ROW($O$20)),_xlfn.AGGREGATE(15,6,(ROW(OrderRange_Ref)-ROW($L$19))/(OFFSET(OrderRange_Ref,,1)>0),ROWS($L$20:$L58)-OFFSET(Cumulative,,0)),IF(OFFSET(Cumulative,,2)>(ROW()-ROW($O$20)),_xlfn.AGGREGATE(15,6,(ROW(OrderRange_Ref)-ROW($L$19))/(OFFSET(OrderRange_Ref,,2)>0),ROWS($L$20:$L58)-OFFSET(Cumulative,,1)),IF(OFFSET(Cumulative,,3)>(ROW()-ROW($O$20)),_xlfn.AGGREGATE(15,6,(ROW(OrderRange_Ref)-ROW($L$19))/(OFFSET(OrderRange_Ref,,3)>0),ROWS($L$20:$L58)-OFFSET(Cumulative,,2)),IF(OFFSET(Cumulative,,4)>(ROW()-ROW($O$20)),_xlfn.AGGREGATE(15,6,(ROW(OrderRange_Ref)-ROW($L$19))/(OFFSET(OrderRange_Ref,,4)>0),ROWS($L$20:$L58)-OFFSET(Cumulative,,3)),IF(OFFSET(Cumulative,,5)>(ROW()-ROW($O$20)),_xlfn.AGGREGATE(15,6,(ROW(OrderRange_Ref)-ROW($L$19))/(OFFSET(OrderRange_Ref,,5)>0),ROWS($L$20:$L58)-OFFSET(Cumulative,,4)),\"\"))))))","v":""},"","","","",""]
[null,"รวมทั้งสิ้น (ถาด)",null,{"$f":"SUM(OFFSET(OrderRange_Ref,,COLUMNS($D60:D60)-1))","v":0},{"$f":"SUM(OFFSET(OrderRange_Ref,,COLUMNS($D60:E60)-1))","v":0},{"$f":"SUM(OFFSET(OrderRange_Ref,,COLUMNS($D60:F60)-1))","v":0},{"$f":"SUM(OFFSET(OrderRange_Ref,,COLUMNS($D60:G60)-1))","v":0},{"$f":"SUM(OFFSET(OrderRange_Ref,,COLUMNS($D60:H60)-1))","v":0},{"$f":"SUM(OFFSET(OrderRange_Ref,,COLUMNS($D60:I60)-1))","v":0},{"$f":"SUM(CheckZone)","v":0},null,null,null,{"$f":"IF(Cumulative>(ROW()-ROW($O$20)),_xlfn.AGGREGATE(15,6,(ROW(OrderRange_Ref)-ROW($L$19))/(OFFSET(OrderRange_Ref,,0)>0),ROWS($L$20:$L59)),IF(OFFSET(Cumulative,,1)>(ROW()-ROW($O$20)),_xlfn.AGGREGATE(15,6,(ROW(OrderRange_Ref)-ROW($L$19))/(OFFSET(OrderRange_Ref,,1)>0),ROWS($L$20:$L59)-OFFSET(Cumulative,,0)),IF(OFFSET(Cumulative,,2)>(ROW()-ROW($O$20)),_xlfn.AGGREGATE(15,6,(ROW(OrderRange_Ref)-ROW($L$19))/(OFFSET(OrderRange_Ref,,2)>0),ROWS($L$20:$L59)-OFFSET(Cumulative,,1)),IF(OFFSET(Cumulative,,3)>(ROW()-ROW($O$20)),_xlfn.AGGREGATE(15,6,(ROW(OrderRange_Ref)-ROW($L$19))/(OFFSET(OrderRange_Ref,,3)>0),ROWS($L$20:$L59)-OFFSET(Cumulative,,2)),IF(OFFSET(Cumulative,,4)>(ROW()-ROW($O$20)),_xlfn.AGGREGATE(15,6,(ROW(OrderRange_Ref)-ROW($L$19))/(OFFSET(OrderRange_Ref,,4)>0),ROWS($L$20:$L59)-OFFSET(Cumulative,,3)),IF(OFFSET(Cumulative,,5)>(ROW()-ROW($O$20)),_xlfn.AGGREGATE(15,6,(ROW(OrderRange_Ref)-ROW($L$19))/(OFFSET(OrderRange_Ref,,5)>0),ROWS($L$20:$L59)-OFFSET(Cumulative,,4)),\"\"))))))","v":""},"","","","",""]
[null,null,null,{"$f":"C$60+COUNTIF(OFFSET(OrderRange_Ref,,COLUMNS($D60:D60)-1),\">0\")","v":0},{"$f":"D$60+COUNTIF(OFFSET(OrderRange_Ref,,COLUMNS($D60:E60)-1),\">0\")","v":0},{"$f":"E$60+COUNTIF(OFFSET(OrderRange_Ref,,COLUMNS($D60:F60)-1),\">0\")","v":0},{"$f":"F$60+COUNTIF(OFFSET(OrderRange_Ref,,COLUMNS($D60:G60)-1),\">0\")","v":0},{"$f":"G$60+COUNTIF(OFFSET(OrderRange_Ref,,COLUMNS($D60:H60)-1),\">0\")","v":0},{"$f":"H$60+COUNTIF(OFFSET(OrderRange_Ref,,COLUMNS($D60:I60)-1),\">0\")","v":0},null,null,null,null,{"$f":"IF(Cumulative>(ROW()-ROW($O$20)),_xlfn.AGGREGATE(15,6,(ROW(OrderRange_Ref)-ROW($L$19))/(OFFSET(OrderRange_Ref,,0)>0),ROWS($L$20:$L60)),IF(OFFSET(Cumulative,,1)>(ROW()-ROW($O$20)),_xlfn.AGGREGATE(15,6,(ROW(OrderRange_Ref)-ROW($L$19))/(OFFSET(OrderRange_Ref,,1)>0),ROWS($L$20:$L60)-OFFSET(Cumulative,,0)),IF(OFFSET(Cumulative,,2)>(ROW()-ROW($O$20)),_xlfn.AGGREGATE(15,6,(ROW(OrderRange_Ref)-ROW($L$19))/(OFFSET(OrderRange_Ref,,2)>0),ROWS($L$20:$L60)-OFFSET(Cumulative,,1)),IF(OFFSET(Cumulative,,3)>(ROW()-ROW($O$20)),_xlfn.AGGREGATE(15,6,(ROW(OrderRange_Ref)-ROW($L$19))/(OFFSET(OrderRange_Ref,,3)>0),ROWS($L$20:$L60)-OFFSET(Cumulative,,2)),IF(OFFSET(Cumulative,,4)>(ROW()-ROW($O$20)),_xlfn.AGGREGATE(15,6,(ROW(OrderRange_Ref)-ROW($L$19))/(OFFSET(OrderRange_Ref,,4)>0),ROWS($L$20:$L60)-OFFSET(Cumulative,,3)),IF(OFFSET(Cumulative,,5)>(ROW()-ROW($O$20)),_xlfn.AGGREGATE(15,6,(ROW(OrderRange_Ref)-ROW($L$19))/(OFFSET(OrderRange_Ref,,5)>0),ROWS($L$20:$L60)-OFFSET(Cumulative,,4)),\"\"))))))","v":""},"","","","",""]
[null,null,null,null,null,null,null,null,null,null,null,null,null,{"$f":"IF(Cumulative>(ROW()-ROW($O$20)),_xlfn.AGGREGATE(15,6,(ROW(OrderRange_Ref)-ROW($L$19))/(OFFSET(OrderRange_Ref,,0)>0),ROWS($L$20:$L61)),IF(OFFSET(Cumulative,,1)>(ROW()-ROW($O$20)),_xlfn.AGGREGATE(15,6,(ROW(OrderRange_Ref)-ROW($L$19))/(OFFSET(OrderRange_Ref,,1)>0),ROWS($L$20:$L61)-OFFSET(Cumulative,,0)),IF(OFFSET(Cumulative,,2)>(ROW()-ROW($O$20)),_xlfn.AGGREGATE(15,6,(ROW(OrderRange_Ref)-ROW($L$19))/(OFFSET(OrderRange_Ref,,2)>0),ROWS($L$20:$L61)-OFFSET(Cumulative,,1)),IF(OFFSET(Cumulative,,3)>(ROW()-ROW($O$20)),_xlfn.AGGREGATE(15,6,(ROW(OrderRange_Ref)-ROW($L$19))/(OFFSET(OrderRange_Ref,,3)>0),ROWS($L$20:$L61)-OFFSET(Cumulative,,2)),IF(OFFSET(Cumulative,,4)>(ROW()-ROW($O$20)),_xlfn.AGGREGATE(15,6,(ROW(OrderRange_Ref)-ROW($L$19))/(OFFSET(OrderRange_Ref,,4)>0),ROWS($L$20:$L61)-OFFSET(Cumulative,,3)),IF(OFFSET(Cumulative,,5)>(ROW()-ROW($O$20)),_xlfn.AGGREGATE(15,6,(ROW(OrderRange_Ref)-ROW($L$19))/(OFFSET(OrderRange_Ref,,5)>0),ROWS($L$20:$L61)-OFFSET(Cumulative,,4)),\"\"))))))","v":""},"","","","",""]
[null,null,null,null,null,null,null,"ขอแสดงความนับถือ",null,null,null,null,null,{"$f":"IF(Cumulative>(ROW()-ROW($O$20)),_xlfn.AGGREGATE(15,6,(ROW(OrderRange_Ref)-ROW($L$19))/(OFFSET(OrderRange_Ref,,0)>0),ROWS($L$20:$L62)),IF(OFFSET(Cumulative,,1)>(ROW()-ROW($O$20)),_xlfn.AGGREGATE(15,6,(ROW(OrderRange_Ref)-ROW($L$19))/(OFFSET(OrderRange_Ref,,1)>0),ROWS($L$20:$L62)-OFFSET(Cumulative,,0)),IF(OFFSET(Cumulative,,2)>(ROW()-ROW($O$20)),_xlfn.AGGREGATE(15,6,(ROW(OrderRange_Ref)-ROW($L$19))/(OFFSET(OrderRange_Ref,,2)>0),ROWS($L$20:$L62)-OFFSET(Cumulative,,1)),IF(OFFSET(Cumulative,,3)>(ROW()-ROW($O$20)),_xlfn.AGGREGATE(15,6,(ROW(OrderRange_Ref)-ROW($L$19))/(OFFSET(OrderRange_Ref,,3)>0),ROWS($L$20:$L62)-OFFSET(Cumulative,,2)),IF(OFFSET(Cumulative,,4)>(ROW()-ROW($O$20)),_xlfn.AGGREGATE(15,6,(ROW(OrderRange_Ref)-ROW($L$19))/(OFFSET(OrderRange_Ref,,4)>0),ROWS($L$20:$L62)-OFFSET(Cumulative,,3)),IF(OFFSET(Cumulative,,5)>(ROW()-ROW($O$20)),_xlfn.AGGREGATE(15,6,(ROW(OrderRange_Ref)-ROW($L$19))/(OFFSET(OrderRange_Ref,,5)>0),ROWS($L$20:$L62)-OFFSET(Cumulative,,4)),\"\"))))))","v":""},"","","","",""]
[null,null,null,null,null,null,null,null,null,null,null,null,null,{"$f":"IF(Cumulative>(ROW()-ROW($O$20)),_xlfn.AGGREGATE(15,6,(ROW(OrderRange_Ref)-ROW($L$19))/(OFFSET(OrderRange_Ref,,0)>0),ROWS($L$20:$L63)),IF(OFFSET(Cumulative,,1)>(ROW()-ROW($O$20)),_xlfn.AGGREGATE(15,6,(ROW(OrderRange_Ref)-ROW($L$19))/(OFFSET(OrderRange_Ref,,1)>0),ROWS($L$20:$L63)-OFFSET(Cumulative,,0)),IF(OFFSET(Cumulative,,2)>(ROW()-ROW($O$20)),_xlfn.AGGREGATE(15,6,(ROW(OrderRange_Ref)-ROW($L$19))/(OFFSET(OrderRange_Ref,,2)>0),ROWS($L$20:$L63)-OFFSET(Cumulative,,1)),IF(OFFSET(Cumulative,,3)>(ROW()-ROW($O$20)),_xlfn.AGGREGATE(15,6,(ROW(OrderRange_Ref)-ROW($L$19))/(OFFSET(OrderRange_Ref,,3)>0),ROWS($L$20:$L63)-OFFSET(Cumulative,,2)),IF(OFFSET(Cumulative,,4)>(ROW()-ROW($O$20)),_xlfn.AGGREGATE(15,6,(ROW(OrderRange_Ref)-ROW($L$19))/(OFFSET(OrderRange_Ref,,4)>0),ROWS($L$20:$L63)-OFFSET(Cumulative,,3)),IF(OFFSET(Cumulative,,5)>(ROW()-ROW($O$20)),_xlfn.AGGREGATE(15,6,(ROW(OrderRange_Ref)-ROW($L$19))/(OFFSET(OrderRange_Ref,,5)>0),ROWS($L$20:$L63)-OFFSET(Cumulative,,4)),\"\"))))))","v":""},"","","","",""]
[null,null,null,null,null,null,null,null,null,null,null,null,null,{"$f":"IF(Cumulative>(ROW()-ROW($O$20)),_xlfn.AGGREGATE(15,6,(ROW(OrderRange_Ref)-ROW($L$19))/(OFFSET(OrderRange_Ref,,0)>0),ROWS($L$20:$L64)),IF(OFFSET(Cumulative,,1)>(ROW()-ROW($O$20)),_xlfn.AGGREGATE(15,6,(ROW(OrderRange_Ref)-ROW($L$19))/(OFFSET(OrderRange_Ref,,1)>0),ROWS($L$20:$L64)-OFFSET(Cumulative,,0)),IF(OFFSET(Cumulative,,2)>(ROW()-ROW($O$20)),_xlfn.AGGREGATE(15,6,(ROW(OrderRange_Ref)-ROW($L$19))/(OFFSET(OrderRange_Ref,,2)>0),ROWS($L$20:$L64)-OFFSET(Cumulative,,1)),IF(OFFSET(Cumulative,,3)>(ROW()-ROW($O$20)),_xlfn.AGGREGATE(15,6,(ROW(OrderRange_Ref)-ROW($L$19))/(OFFSET(OrderRange_Ref,,3)>0),ROWS($L$20:$L64)-OFFSET(Cumulative,,2)),IF(OFFSET(Cumulative,,4)>(ROW()-ROW($O$20)),_xlfn.AGGREGATE(15,6,(ROW(OrderRange_Ref)-ROW($L$19))/(OFFSET(OrderRange_Ref,,4)>0),ROWS($L$20:$L64)-OFFSET(Cumulative,,3)),IF(OFFSET(Cumulative,,5)>(ROW()-ROW($O$20)),_xlfn.AGGREGATE(15,6,(ROW(OrderRange_Ref)-ROW($L$19))/(OFFSET(OrderRange_Ref,,5)>0),ROWS($L$20:$L64)-OFFSET(Cumulative,,4)),\"\"))))))","v":""},"","","","",""]
[null,null,null,null,null,null,null,"-----------------------------------------------------",null,null,null,null,null,{"$f":"IF(Cumulative>(ROW()-ROW($O$20)),_xlfn.AGGREGATE(15,6,(ROW(OrderRange_Ref)-ROW($L$19))/(OFFSET(OrderRange_Ref,,0)>0),ROWS($L$20:$L65)),IF(OFFSET(Cumulative,,1)>(ROW()-ROW($O$20)),_xlfn.AGGREGATE(15,6,(ROW(OrderRange_Ref)-ROW($L$19))/(OFFSET(OrderRange_Ref,,1)>0),ROWS($L$20:$L65)-OFFSET(Cumulative,,0)),IF(OFFSET(Cumulative,,2)>(ROW()-ROW($O$20)),_xlfn.AGGREGATE(15,6,(ROW(OrderRange_Ref)-ROW($L$19))/(OFFSET(OrderRange_Ref,,2)>0),ROWS($L$20:$L65)-OFFSET(Cumulative,,1)),IF(OFFSET(Cumulative,,3)>(ROW()-ROW($O$20)),_xlfn.AGGREGATE(15,6,(ROW(OrderRange_Ref)-ROW($L$19))/(OFFSET(OrderRange_Ref,,3)>0),ROWS($L$20:$L65)-OFFSET(Cumulative,,2)),IF(OFFSET(Cumulative,,4)>(ROW()-ROW($O$20)),_xlfn.AGGREGATE(15,6,(ROW(OrderRange_Ref)-ROW($L$19))/(OFFSET(OrderRange_Ref,,4)>0),ROWS($L$20:$L65)-OFFSET(Cumulative,,3)),IF(OFFSET(Cumulative,,5)>(ROW()-ROW($O$20)),_xlfn.AGGREGATE(15,6,(ROW(OrderRange_Ref)-ROW($L$19))/(OFFSET(OrderRange_Ref,,5)>0),ROWS($L$20:$L65)-OFFSET(Cumulative,,4)),\"\"))))))","v":""},"","","","",""]
[null,null,null,null,null,null,null,{"$f":"\"( \"&INDEX(GB_Branches[Manager],MATCH(BranchCode,GB_Branches[Code],0))&\" )\"","v":"( นายภูริวัจน์ จันทร์กลับ )"},null,null,null,null,null,{"$f":"IF(Cumulative>(ROW()-ROW($O$20)),_xlfn.AGGREGATE(15,6,(ROW(OrderRange_Ref)-ROW($L$19))/(OFFSET(OrderRange_Ref,,0)>0),ROWS($L$20:$L66)),IF(OFFSET(Cumulative,,1)>(ROW()-ROW($O$20)),_xlfn.AGGREGATE(15,6,(ROW(OrderRange_Ref)-ROW($L$19))/(OFFSET(OrderRange_Ref,,1)>0),ROWS($L$20:$L66)-OFFSET(Cumulative,,0)),IF(OFFSET(Cumulative,,2)>(ROW()-ROW($O$20)),_xlfn.AGGREGATE(15,6,(ROW(OrderRange_Ref)-ROW($L$19))/(OFFSET(OrderRange_Ref,,2)>0),ROWS($L$20:$L66)-OFFSET(Cumulative,,1)),IF(OFFSET(Cumulative,,3)>(ROW()-ROW($O$20)),_xlfn.AGGREGATE(15,6,(ROW(OrderRange_Ref)-ROW($L$19))/(OFFSET(OrderRange_Ref,,3)>0),ROWS($L$20:$L66)-OFFSET(Cumulative,,2)),IF(OFFSET(Cumulative,,4)>(ROW()-ROW($O$20)),_xlfn.AGGREGATE(15,6,(ROW(OrderRange_Ref)-ROW($L$19))/(OFFSET(OrderRange_Ref,,4)>0),ROWS($L$20:$L66)-OFFSET(Cumulative,,3)),IF(OFFSET(Cumulative,,5)>(ROW()-ROW($O$20)),_xlfn.AGGREGATE(15,6,(ROW(OrderRange_Ref)-ROW($L$19))/(OFFSET(OrderRange_Ref,,5)>0),ROWS($L$20:$L66)-OFFSET(Cumulative,,4)),\"\"))))))","v":""},"","","","",""]
[null,null,null,null,null,null,null,{"$f":"\"ผู้จัดการสาขา\"&B_Name","v":"ผู้จัดการสาขาสมุทรปราการ"},null,null,null,null,null,{"$f":"IF(Cumulative>(ROW()-ROW($O$20)),_xlfn.AGGREGATE(15,6,(ROW(OrderRange_Ref)-ROW($L$19))/(OFFSET(OrderRange_Ref,,0)>0),ROWS($L$20:$L67)),IF(OFFSET(Cumulative,,1)>(ROW()-ROW($O$20)),_xlfn.AGGREGATE(15,6,(ROW(OrderRange_Ref)-ROW($L$19))/(OFFSET(OrderRange_Ref,,1)>0),ROWS($L$20:$L67)-OFFSET(Cumulative,,0)),IF(OFFSET(Cumulative,,2)>(ROW()-ROW($O$20)),_xlfn.AGGREGATE(15,6,(ROW(OrderRange_Ref)-ROW($L$19))/(OFFSET(OrderRange_Ref,,2)>0),ROWS($L$20:$L67)-OFFSET(Cumulative,,1)),IF(OFFSET(Cumulative,,3)>(ROW()-ROW($O$20)),_xlfn.AGGREGATE(15,6,(ROW(OrderRange_Ref)-ROW($L$19))/(OFFSET(OrderRange_Ref,,3)>0),ROWS($L$20:$L67)-OFFSET(Cumulative,,2)),IF(OFFSET(Cumulative,,4)>(ROW()-ROW($O$20)),_xlfn.AGGREGATE(15,6,(ROW(OrderRange_Ref)-ROW($L$19))/(OFFSET(OrderRange_Ref,,4)>0),ROWS($L$20:$L67)-OFFSET(Cumulative,,3)),IF(OFFSET(Cumulative,,5)>(ROW()-ROW($O$20)),_xlfn.AGGREGATE(15,6,(ROW(OrderRange_Ref)-ROW($L$19))/(OFFSET(OrderRange_Ref,,5)>0),ROWS($L$20:$L67)-OFFSET(Cumulative,,4)),\"\"))))))","v":""},"","","","",""]
[null,null,null,null,null,null,null,null,null,null,null,null,null,{"$f":"IF(Cumulative>(ROW()-ROW($O$20)),_xlfn.AGGREGATE(15,6,(ROW(OrderRange_Ref)-ROW($L$19))/(OFFSET(OrderRange_Ref,,0)>0),ROWS($L$20:$L68)),IF(OFFSET(Cumulative,,1)>(ROW()-ROW($O$20)),_xlfn.AGGREGATE(15,6,(ROW(OrderRange_Ref)-ROW($L$19))/(OFFSET(OrderRange_Ref,,1)>0),ROWS($L$20:$L68)-OFFSET(Cumulative,,0)),IF(OFFSET(Cumulative,,2)>(ROW()-ROW($O$20)),_xlfn.AGGREGATE(15,6,(ROW(OrderRange_Ref)-ROW($L$19))/(OFFSET(OrderRange_Ref,,2)>0),ROWS($L$20:$L68)-OFFSET(Cumulative,,1)),IF(OFFSET(Cumulative,,3)>(ROW()-ROW($O$20)),_xlfn.AGGREGATE(15,6,(ROW(OrderRange_Ref)-ROW($L$19))/(OFFSET(OrderRange_Ref,,3)>0),ROWS($L$20:$L68)-OFFSET(Cumulative,,2)),IF(OFFSET(Cumulative,,4)>(ROW()-ROW($O$20)),_xlfn.AGGREGATE(15,6,(ROW(OrderRange_Ref)-ROW($L$19))/(OFFSET(OrderRange_Ref,,4)>0),ROWS($L$20:$L68)-OFFSET(Cumulative,,3)),IF(OFFSET(Cumulative,,5)>(ROW()-ROW($O$20)),_xlfn.AGGREGATE(15,6,(ROW(OrderRange_Ref)-ROW($L$19))/(OFFSET(OrderRange_Ref,,5)>0),ROWS($L$20:$L68)-OFFSET(Cumulative,,4)),\"\"))))))","v":""},"","","","",""]
[null,null,null,null,null,null,null,null,null,null,null,null,null,{"$f":"IF(Cumulative>(ROW()-ROW($O$20)),_xlfn.AGGREGATE(15,6,(ROW(OrderRange_Ref)-ROW($L$19))/(OFFSET(OrderRange_Ref,,0)>0),ROWS($L$20:$L69)),IF(OFFSET(Cumulative,,1)>(ROW()-ROW($O$20)),_xlfn.AGGREGATE(15,6,(ROW(OrderRange_Ref)-ROW($L$19))/(OFFSET(OrderRange_Ref,,1)>0),ROWS($L$20:$L69)-OFFSET(Cumulative,,0)),IF(OFFSET(Cumulative,,2)>(ROW()-ROW($O$20)),_xlfn.AGGREGATE(15,6,(ROW(OrderRange_Ref)-ROW($L$19))/(OFFSET(OrderRange_Ref,,2)>0),ROWS($L$20:$L69)-OFFSET(Cumulative,,1)),IF(OFFSET(Cumulative,,3)>(ROW()-ROW($O$20)),_xlfn.AGGREGATE(15,6,(ROW(OrderRange_Ref)-ROW($L$19))/(OFFSET(OrderRange_Ref,,3)>0),ROWS($L$20:$L69)-OFFSET(Cumulative,,2)),IF(OFFSET(Cumulative,,4)>(ROW()-ROW($O$20)),_xlfn.AGGREGATE(15,6,(ROW(OrderRange_Ref)-ROW($L$19))/(OFFSET(OrderRange_Ref,,4)>0),ROWS($L$20:$L69)-OFFSET(Cumulative,,3)),IF(OFFSET(Cumulative,,5)>(ROW()-ROW($O$20)),_xlfn.AGGREGATE(15,6,(ROW(OrderRange_Ref)-ROW($L$19))/(OFFSET(OrderRange_Ref,,5)>0),ROWS($L$20:$L69)-OFFSET(Cumulative,,4)),\"\"))))))","v":""},"","","","",""]
[null,null,null,null,null,null,null,"-----------------------------------------------------",null,null,null,null,null,{"$f":"IF(Cumulative>(ROW()-ROW($O$20)),_xlfn.AGGREGATE(15,6,(ROW(OrderRange_Ref)-ROW($L$19))/(OFFSET(OrderRange_Ref,,0)>0),ROWS($L$20:$L70)),IF(OFFSET(Cumulative,,1)>(ROW()-ROW($O$20)),_xlfn.AGGREGATE(15,6,(ROW(OrderRange_Ref)-ROW($L$19))/(OFFSET(OrderRange_Ref,,1)>0),ROWS($L$20:$L70)-OFFSET(Cumulative,,0)),IF(OFFSET(Cumulative,,2)>(ROW()-ROW($O$20)),_xlfn.AGGREGATE(15,6,(ROW(OrderRange_Ref)-ROW($L$19))/(OFFSET(OrderRange_Ref,,2)>0),ROWS($L$20:$L70)-OFFSET(Cumulative,,1)),IF(OFFSET(Cumulative,,3)>(ROW()-ROW($O$20)),_xlfn.AGGREGATE(15,6,(ROW(OrderRange_Ref)-ROW($L$19))/(OFFSET(OrderRange_Ref,,3)>0),ROWS($L$20:$L70)-OFFSET(Cumulative,,2)),IF(OFFSET(Cumulative,,4)>(ROW()-ROW($O$20)),_xlfn.AGGREGATE(15,6,(ROW(OrderRange_Ref)-ROW($L$19))/(OFFSET(OrderRange_Ref,,4)>0),ROWS($L$20:$L70)-OFFSET(Cumulative,,3)),IF(OFFSET(Cumulative,,5)>(ROW()-ROW($O$20)),_xlfn.AGGREGATE(15,6,(ROW(OrderRange_Ref)-ROW($L$19))/(OFFSET(OrderRange_Ref,,5)>0),ROWS($L$20:$L70)-OFFSET(Cumulative,,4)),\"\"))))))","v":""},"","","","",""]
[null,null,"-",null,null,null,null,{"$f":"\"( \"&INDEX(GB_Branches[Regional Manager],MATCH(BranchCode,GB_Branches[Code],0))&\" )\"","v":"( นายวุฒิพงศ์ ชาตรี )"},null,null,null,null,null,{"$f":"IF(Cumulative>(ROW()-ROW($O$20)),_xlfn.AGGREGATE(15,6,(ROW(OrderRange_Ref)-ROW($L$19))/(OFFSET(OrderRange_Ref,,0)>0),ROWS($L$20:$L71)),IF(OFFSET(Cumulative,,1)>(ROW()-ROW($O$20)),_xlfn.AGGREGATE(15,6,(ROW(OrderRange_Ref)-ROW($L$19))/(OFFSET(OrderRange_Ref,,1)>0),ROWS($L$20:$L71)-OFFSET(Cumulative,,0)),IF(OFFSET(Cumulative,,2)>(ROW()-ROW($O$20)),_xlfn.AGGREGATE(15,6,(ROW(OrderRange_Ref)-ROW($L$19))/(OFFSET(OrderRange_Ref,,2)>0),ROWS($L$20:$L71)-OFFSET(Cumulative,,1)),IF(OFFSET(Cumulative,,3)>(ROW()-ROW($O$20)),_xlfn.AGGREGATE(15,6,(ROW(OrderRange_Ref)-ROW($L$19))/(OFFSET(OrderRange_Ref,,3)>0),ROWS($L$20:$L71)-OFFSET(Cumulative,,2)),IF(OFFSET(Cumulative,,4)>(ROW()-ROW($O$20)),_xlfn.AGGREGATE(15,6,(ROW(OrderRange_Ref)-ROW($L$19))/(OFFSET(OrderRange_Ref,,4)>0),ROWS($L$20:$L71)-OFFSET(Cumulative,,3)),IF(OFFSET(Cumulative,,5)>(ROW()-ROW($O$20)),_xlfn.AGGREGATE(15,6,(ROW(OrderRange_Ref)-ROW($L$19))/(OFFSET(OrderRange_Ref,,5)>0),ROWS($L$20:$L71)-OFFSET(Cumulative,,4)),\"\"))))))","v":""},"","","","",""]
[null,null,null,null,null,null,null,"ผู้จัดการภาค",null,null,null,null,null,{"$f":"IF(Cumulative>(ROW()-ROW($O$20)),_xlfn.AGGREGATE(15,6,(ROW(OrderRange_Ref)-ROW($L$19))/(OFFSET(OrderRange_Ref,,0)>0),ROWS($L$20:$L72)),IF(OFFSET(Cumulative,,1)>(ROW()-ROW($O$20)),_xlfn.AGGREGATE(15,6,(ROW(OrderRange_Ref)-ROW($L$19))/(OFFSET(OrderRange_Ref,,1)>0),ROWS($L$20:$L72)-OFFSET(Cumulative,,0)),IF(OFFSET(Cumulative,,2)>(ROW()-ROW($O$20)),_xlfn.AGGREGATE(15,6,(ROW(OrderRange_Ref)-ROW($L$19))/(OFFSET(OrderRange_Ref,,2)>0),ROWS($L$20:$L72)-OFFSET(Cumulative,,1)),IF(OFFSET(Cumulative,,3)>(ROW()-ROW($O$20)),_xlfn.AGGREGATE(15,6,(ROW(OrderRange_Ref)-ROW($L$19))/(OFFSET(OrderRange_Ref,,3)>0),ROWS($L$20:$L72)-OFFSET(Cumulative,,2)),IF(OFFSET(Cumulative,,4)>(ROW()-ROW($O$20)),_xlfn.AGGREGATE(15,6,(ROW(OrderRange_Ref)-ROW($L$19))/(OFFSET(OrderRange_Ref,,4)>0),ROWS($L$20:$L72)-OFFSET(Cumulative,,3)),IF(OFFSET(Cumulative,,5)>(ROW()-ROW($O$20)),_xlfn.AGGREGATE(15,6,(ROW(OrderRange_Ref)-ROW($L$19))/(OFFSET(OrderRange_Ref,,5)>0),ROWS($L$20:$L72)-OFFSET(Cumulative,,4)),\"\"))))))","v":""},"","","","",""]
[null,null,{"$f":"\"สาขา\"&B_Name","v":"สาขาสมุทรปราการ"},null,null,null,null,null,null,null,null,null,null,{"$f":"IF(Cumulative>(ROW()-ROW($O$20)),_xlfn.AGGREGATE(15,6,(ROW(OrderRange_Ref)-ROW($L$19))/(OFFSET(OrderRange_Ref,,0)>0),ROWS($L$20:$L73)),IF(OFFSET(Cumulative,,1)>(ROW()-ROW($O$20)),_xlfn.AGGREGATE(15,6,(ROW(OrderRange_Ref)-ROW($L$19))/(OFFSET(OrderRange_Ref,,1)>0),ROWS($L$20:$L73)-OFFSET(Cumulative,,0)),IF(OFFSET(Cumulative,,2)>(ROW()-ROW($O$20)),_xlfn.AGGREGATE(15,6,(ROW(OrderRange_Ref)-ROW($L$19))/(OFFSET(OrderRange_Ref,,2)>0),ROWS($L$20:$L73)-OFFSET(Cumulative,,1)),IF(OFFSET(Cumulative,,3)>(ROW()-ROW($O$20)),_xlfn.AGGREGATE(15,6,(ROW(OrderRange_Ref)-ROW($L$19))/(OFFSET(OrderRange_Ref,,3)>0),ROWS($L$20:$L73)-OFFSET(Cumulative,,2)),IF(OFFSET(Cumulative,,4)>(ROW()-ROW($O$20)),_xlfn.AGGREGATE(15,6,(ROW(OrderRange_Ref)-ROW($L$19))/(OFFSET(OrderRange_Ref,,4)>0),ROWS($L$20:$L73)-OFFSET(Cumulative,,3)),IF(OFFSET(Cumulative,,5)>(ROW()-ROW($O$20)),_xlfn.AGGREGATE(15,6,(ROW(OrderRange_Ref)-ROW($L$19))/(OFFSET(OrderRange_Ref,,5)>0),ROWS($L$20:$L73)-OFFSET(Cumulative,,4)),\"\"))))))","v":""},"","","","",""]
[null,null,{"$f":"\"โทร. \"&B_Tel","v":"โทร. 065-9405210"},null,null,null,null,null,null,null,null,null,null,{"$f":"IF(Cumulative>(ROW()-ROW($O$20)),_xlfn.AGGREGATE(15,6,(ROW(OrderRange_Ref)-ROW($L$19))/(OFFSET(OrderRange_Ref,,0)>0),ROWS($L$20:$L74)),IF(OFFSET(Cumulative,,1)>(ROW()-ROW($O$20)),_xlfn.AGGREGATE(15,6,(ROW(OrderRange_Ref)-ROW($L$19))/(OFFSET(OrderRange_Ref,,1)>0),ROWS($L$20:$L74)-OFFSET(Cumulative,,0)),IF(OFFSET(Cumulative,,2)>(ROW()-ROW($O$20)),_xlfn.AGGREGATE(15,6,(ROW(OrderRange_Ref)-ROW($L$19))/(OFFSET(OrderRange_Ref,,2)>0),ROWS($L$20:$L74)-OFFSET(Cumulative,,1)),IF(OFFSET(Cumulative,,3)>(ROW()-ROW($O$20)),_xlfn.AGGREGATE(15,6,(ROW(OrderRange_Ref)-ROW($L$19))/(OFFSET(OrderRange_Ref,,3)>0),ROWS($L$20:$L74)-OFFSET(Cumulative,,2)),IF(OFFSET(Cumulative,,4)>(ROW()-ROW($O$20)),_xlfn.AGGREGATE(15,6,(ROW(OrderRange_Ref)-ROW($L$19))/(OFFSET(OrderRange_Ref,,4)>0),ROWS($L$20:$L74)-OFFSET(Cumulative,,3)),IF(OFFSET(Cumulative,,5)>(ROW()-ROW($O$20)),_xlfn.AGGREGATE(15,6,(ROW(OrderRange_Ref)-ROW($L$19))/(OFFSET(OrderRange_Ref,,5)>0),ROWS($L$20:$L74)-OFFSET(Cumulative,,4)),\"\"))))))","v":""},"","","","",""]
[null,null,null,null,null,null,null,null,null,null,null,null,null,{"$f":"IF(Cumulative>(ROW()-ROW($O$20)),_xlfn.AGGREGATE(15,6,(ROW(OrderRange_Ref)-ROW($L$19))/(OFFSET(OrderRange_Ref,,0)>0),ROWS($L$20:$L75)),IF(OFFSET(Cumulative,,1)>(ROW()-ROW($O$20)),_xlfn.AGGREGATE(15,6,(ROW(OrderRange_Ref)-ROW($L$19))/(OFFSET(OrderRange_Ref,,1)>0),ROWS($L$20:$L75)-OFFSET(Cumulative,,0)),IF(OFFSET(Cumulative,,2)>(ROW()-ROW($O$20)),_xlfn.AGGREGATE(15,6,(ROW(OrderRange_Ref)-ROW($L$19))/(OFFSET(OrderRange_Ref,,2)>0),ROWS($L$20:$L75)-OFFSET(Cumulative,,1)),IF(OFFSET(Cumulative,,3)>(ROW()-ROW($O$20)),_xlfn.AGGREGATE(15,6,(ROW(OrderRange_Ref)-ROW($L$19))/(OFFSET(OrderRange_Ref,,3)>0),ROWS($L$20:$L75)-OFFSET(Cumulative,,2)),IF(OFFSET(Cumulative,,4)>(ROW()-ROW($O$20)),_xlfn.AGGREGATE(15,6,(ROW(OrderRange_Ref)-ROW($L$19))/(OFFSET(OrderRange_Ref,,4)>0),ROWS($L$20:$L75)-OFFSET(Cumulative,,3)),IF(OFFSET(Cumulative,,5)>(ROW()-ROW($O$20)),_xlfn.AGGREGATE(15,6,(ROW(OrderRange_Ref)-ROW($L$19))/(OFFSET(OrderRange_Ref,,5)>0),ROWS($L$20:$L75)-OFFSET(Cumulative,,4)),\"\"))))))","v":""},"","","","",""]
[null,null,null,null,null,null,null,null,null,null,null,null,null,{"$f":"IF(Cumulative>(ROW()-ROW($O$20)),_xlfn.AGGREGATE(15,6,(ROW(OrderRange_Ref)-ROW($L$19))/(OFFSET(OrderRange_Ref,,0)>0),ROWS($L$20:$L76)),IF(OFFSET(Cumulative,,1)>(ROW()-ROW($O$20)),_xlfn.AGGREGATE(15,6,(ROW(OrderRange_Ref)-ROW($L$19))/(OFFSET(OrderRange_Ref,,1)>0),ROWS($L$20:$L76)-OFFSET(Cumulative,,0)),IF(OFFSET(Cumulative,,2)>(ROW()-ROW($O$20)),_xlfn.AGGREGATE(15,6,(ROW(OrderRange_Ref)-ROW($L$19))/(OFFSET(OrderRange_Ref,,2)>0),ROWS($L$20:$L76)-OFFSET(Cumulative,,1)),IF(OFFSET(Cumulative,,3)>(ROW()-ROW($O$20)),_xlfn.AGGREGATE(15,6,(ROW(OrderRange_Ref)-ROW($L$19))/(OFFSET(OrderRange_Ref,,3)>0),ROWS($L$20:$L76)-OFFSET(Cumulative,,2)),IF(OFFSET(Cumulative,,4)>(ROW()-ROW($O$20)),_xlfn.AGGREGATE(15,6,(ROW(OrderRange_Ref)-ROW($L$19))/(OFFSET(OrderRange_Ref,,4)>0),ROWS($L$20:$L76)-OFFSET(Cumulative,,3)),IF(OFFSET(Cumulative,,5)>(ROW()-ROW($O$20)),_xlfn.AGGREGATE(15,6,(ROW(OrderRange_Ref)-ROW($L$19))/(OFFSET(OrderRange_Ref,,5)>0),ROWS($L$20:$L76)-OFFSET(Cumulative,,4)),\"\"))))))","v":""},"","","","",""]
[null,null,null,null,null,null,null,null,null,null,null,null,null,{"$f":"IF(Cumulative>(ROW()-ROW($O$20)),_xlfn.AGGREGATE(15,6,(ROW(OrderRange_Ref)-ROW($L$19))/(OFFSET(OrderRange_Ref,,0)>0),ROWS($L$20:$L77)),IF(OFFSET(Cumulative,,1)>(ROW()-ROW($O$20)),_xlfn.AGGREGATE(15,6,(ROW(OrderRange_Ref)-ROW($L$19))/(OFFSET(OrderRange_Ref,,1)>0),ROWS($L$20:$L77)-OFFSET(Cumulative,,0)),IF(OFFSET(Cumulative,,2)>(ROW()-ROW($O$20)),_xlfn.AGGREGATE(15,6,(ROW(OrderRange_Ref)-ROW($L$19))/(OFFSET(OrderRange_Ref,,2)>0),ROWS($L$20:$L77)-OFFSET(Cumulative,,1)),IF(OFFSET(Cumulative,,3)>(ROW()-ROW($O$20)),_xlfn.AGGREGATE(15,6,(ROW(OrderRange_Ref)-ROW($L$19))/(OFFSET(OrderRange_Ref,,3)>0),ROWS($L$20:$L77)-OFFSET(Cumulative,,2)),IF(OFFSET(Cumulative,,4)>(ROW()-ROW($O$20)),_xlfn.AGGREGATE(15,6,(ROW(OrderRange_Ref)-ROW($L$19))/(OFFSET(OrderRange_Ref,,4)>0),ROWS($L$20:$L77)-OFFSET(Cumulative,,3)),IF(OFFSET(Cumulative,,5)>(ROW()-ROW($O$20)),_xlfn.AGGREGATE(15,6,(ROW(OrderRange_Ref)-ROW($L$19))/(OFFSET(OrderRange_Ref,,5)>0),ROWS($L$20:$L77)-OFFSET(Cumulative,,4)),\"\"))))))","v":""},"","","","",""]
[null,null,null,null,null,null,null,null,null,null,null,null,null,{"$f":"IF(Cumulative>(ROW()-ROW($O$20)),_xlfn.AGGREGATE(15,6,(ROW(OrderRange_Ref)-ROW($L$19))/(OFFSET(OrderRange_Ref,,0)>0),ROWS($L$20:$L78)),IF(OFFSET(Cumulative,,1)>(ROW()-ROW($O$20)),_xlfn.AGGREGATE(15,6,(ROW(OrderRange_Ref)-ROW($L$19))/(OFFSET(OrderRange_Ref,,1)>0),ROWS($L$20:$L78)-OFFSET(Cumulative,,0)),IF(OFFSET(Cumulative,,2)>(ROW()-ROW($O$20)),_xlfn.AGGREGATE(15,6,(ROW(OrderRange_Ref)-ROW($L$19))/(OFFSET(OrderRange_Ref,,2)>0),ROWS($L$20:$L78)-OFFSET(Cumulative,,1)),IF(OFFSET(Cumulative,,3)>(ROW()-ROW($O$20)),_xlfn.AGGREGATE(15,6,(ROW(OrderRange_Ref)-ROW($L$19))/(OFFSET(OrderRange_Ref,,3)>0),ROWS($L$20:$L78)-OFFSET(Cumulative,,2)),IF(OFFSET(Cumulative,,4)>(ROW()-ROW($O$20)),_xlfn.AGGREGATE(15,6,(ROW(OrderRange_Ref)-ROW($L$19))/(OFFSET(OrderRange_Ref,,4)>0),ROWS($L$20:$L78)-OFFSET(Cumulative,,3)),IF(OFFSET(Cumulative,,5)>(ROW()-ROW($O$20)),_xlfn.AGGREGATE(15,6,(ROW(OrderRange_Ref)-ROW($L$19))/(OFFSET(OrderRange_Ref,,5)>0),ROWS($L$20:$L78)-OFFSET(Cumulative,,4)),\"\"))))))","v":""},"","","","",""]
[null,null,null,null,null,null,null,null,null,null,null,null,null,{"$f":"IF(Cumulative>(ROW()-ROW($O$20)),_xlfn.AGGREGATE(15,6,(ROW(OrderRange_Ref)-ROW($L$19))/(OFFSET(OrderRange_Ref,,0)>0),ROWS($L$20:$L79)),IF(OFFSET(Cumulative,,1)>(ROW()-ROW($O$20)),_xlfn.AGGREGATE(15,6,(ROW(OrderRange_Ref)-ROW($L$19))/(OFFSET(OrderRange_Ref,,1)>0),ROWS($L$20:$L79)-OFFSET(Cumulative,,0)),IF(OFFSET(Cumulative,,2)>(ROW()-ROW($O$20)),_xlfn.AGGREGATE(15,6,(ROW(OrderRange_Ref)-ROW($L$19))/(OFFSET(OrderRange_Ref,,2)>0),ROWS($L$20:$L79)-OFFSET(Cumulative,,1)),IF(OFFSET(Cumulative,,3)>(ROW()-ROW($O$20)),_xlfn.AGGREGATE(15,6,(ROW(OrderRange_Ref)-ROW($L$19))/(OFFSET(OrderRange_Ref,,3)>0),ROWS($L$20:$L79)-OFFSET(Cumulative,,2)),IF(OFFSET(Cumulative,,4)>(ROW()-ROW($O$20)),_xlfn.AGGREGATE(15,6,(ROW(OrderRange_Ref)-ROW($L$19))/(OFFSET(OrderRange_Ref,,4)>0),ROWS($L$20:$L79)-OFFSET(Cumulative,,3)),IF(OFFSET(Cumulative,,5)>(ROW()-ROW($O$20)),_xlfn.AGGREGATE(15,6,(ROW(OrderRange_Ref)-ROW($L$19))/(OFFSET(OrderRange_Ref,,5)>0),ROWS($L$20:$L79)-OFFSET(Cumulative,,4)),\"\"))))))","v":""},"","","","",""]
[null,null,null,null,null,null,null,null,null,null,null,null,null,{"$f":"IF(Cumulative>(ROW()-ROW($O$20)),_xlfn.AGGREGATE(15,6,(ROW(OrderRange_Ref)-ROW($L$19))/(OFFSET(OrderRange_Ref,,0)>0),ROWS($L$20:$L80)),IF(OFFSET(Cumulative,,1)>(ROW()-ROW($O$20)),_xlfn.AGGREGATE(15,6,(ROW(OrderRange_Ref)-ROW($L$19))/(OFFSET(OrderRange_Ref,,1)>0),ROWS($L$20:$L80)-OFFSET(Cumulative,,0)),IF(OFFSET(Cumulative,,2)>(ROW()-ROW($O$20)),_xlfn.AGGREGATE(15,6,(ROW(OrderRange_Ref)-ROW($L$19))/(OFFSET(OrderRange_Ref,,2)>0),ROWS($L$20:$L80)-OFFSET(Cumulative,,1)),IF(OFFSET(Cumulative,,3)>(ROW()-ROW($O$20)),_xlfn.AGGREGATE(15,6,(ROW(OrderRange_Ref)-ROW($L$19))/(OFFSET(OrderRange_Ref,,3)>0),ROWS($L$20:$L80)-OFFSET(Cumulative,,2)),IF(OFFSET(Cumulative,,4)>(ROW()-ROW($O$20)),_xlfn.AGGREGATE(15,6,(ROW(OrderRange_Ref)-ROW($L$19))/(OFFSET(OrderRange_Ref,,4)>0),ROWS($L$20:$L80)-OFFSET(Cumulative,,3)),IF(OFFSET(Cumulative,,5)>(ROW()-ROW($O$20)),_xlfn.AGGREGATE(15,6,(ROW(OrderRange_Ref)-ROW($L$19))/(OFFSET(OrderRange_Ref,,5)>0),ROWS($L$20:$L80)-OFFSET(Cumulative,,4)),\"\"))))))","v":""},"","","","",""]
[null,null,null,null,null,null,null,null,null,null,null,null,null,{"$f":"IF(Cumulative>(ROW()-ROW($O$20)),_xlfn.AGGREGATE(15,6,(ROW(OrderRange_Ref)-ROW($L$19))/(OFFSET(OrderRange_Ref,,0)>0),ROWS($L$20:$L81)),IF(OFFSET(Cumulative,,1)>(ROW()-ROW($O$20)),_xlfn.AGGREGATE(15,6,(ROW(OrderRange_Ref)-ROW($L$19))/(OFFSET(OrderRange_Ref,,1)>0),ROWS($L$20:$L81)-OFFSET(Cumulative,,0)),IF(OFFSET(Cumulative,,2)>(ROW()-ROW($O$20)),_xlfn.AGGREGATE(15,6,(ROW(OrderRange_Ref)-ROW($L$19))/(OFFSET(OrderRange_Ref,,2)>0),ROWS($L$20:$L81)-OFFSET(Cumulative,,1)),IF(OFFSET(Cumulative,,3)>(ROW()-ROW($O$20)),_xlfn.AGGREGATE(15,6,(ROW(OrderRange_Ref)-ROW($L$19))/(OFFSET(OrderRange_Ref,,3)>0),ROWS($L$20:$L81)-OFFSET(Cumulative,,2)),IF(OFFSET(Cumulative,,4)>(ROW()-ROW($O$20)),_xlfn.AGGREGATE(15,6,(ROW(OrderRange_Ref)-ROW($L$19))/(OFFSET(OrderRange_Ref,,4)>0),ROWS($L$20:$L81)-OFFSET(Cumulative,,3)),IF(OFFSET(Cumulative,,5)>(ROW()-ROW($O$20)),_xlfn.AGGREGATE(15,6,(ROW(OrderRange_Ref)-ROW($L$19))/(OFFSET(OrderRange_Ref,,5)>0),ROWS($L$20:$L81)-OFFSET(Cumulative,,4)),\"\"))))))","v":""},"","","","",""]
[null,null,null,null,null,null,null,null,null,null,null,null,null,{"$f":"IF(Cumulative>(ROW()-ROW($O$20)),_xlfn.AGGREGATE(15,6,(ROW(OrderRange_Ref)-ROW($L$19))/(OFFSET(OrderRange_Ref,,0)>0),ROWS($L$20:$L82)),IF(OFFSET(Cumulative,,1)>(ROW()-ROW($O$20)),_xlfn.AGGREGATE(15,6,(ROW(OrderRange_Ref)-ROW($L$19))/(OFFSET(OrderRange_Ref,,1)>0),ROWS($L$20:$L82)-OFFSET(Cumulative,,0)),IF(OFFSET(Cumulative,,2)>(ROW()-ROW($O$20)),_xlfn.AGGREGATE(15,6,(ROW(OrderRange_Ref)-ROW($L$19))/(OFFSET(OrderRange_Ref,,2)>0),ROWS($L$20:$L82)-OFFSET(Cumulative,,1)),IF(OFFSET(Cumulative,,3)>(ROW()-ROW($O$20)),_xlfn.AGGREGATE(15,6,(ROW(OrderRange_Ref)-ROW($L$19))/(OFFSET(OrderRange_Ref,,3)>0),ROWS($L$20:$L82)-OFFSET(Cumulative,,2)),IF(OFFSET(Cumulative,,4)>(ROW()-ROW($O$20)),_xlfn.AGGREGATE(15,6,(ROW(OrderRange_Ref)-ROW($L$19))/(OFFSET(OrderRange_Ref,,4)>0),ROWS($L$20:$L82)-OFFSET(Cumulative,,3)),IF(OFFSET(Cumulative,,5)>(ROW()-ROW($O$20)),_xlfn.AGGREGATE(15,6,(ROW(OrderRange_Ref)-ROW($L$19))/(OFFSET(OrderRange_Ref,,5)>0),ROWS($L$20:$L82)-OFFSET(Cumulative,,4)),\"\"))))))","v":""},"","","","",""]
[null,null,null,null,null,null,null,null,null,null,null,null,null,{"$f":"IF(Cumulative>(ROW()-ROW($O$20)),_xlfn.AGGREGATE(15,6,(ROW(OrderRange_Ref)-ROW($L$19))/(OFFSET(OrderRange_Ref,,0)>0),ROWS($L$20:$L83)),IF(OFFSET(Cumulative,,1)>(ROW()-ROW($O$20)),_xlfn.AGGREGATE(15,6,(ROW(OrderRange_Ref)-ROW($L$19))/(OFFSET(OrderRange_Ref,,1)>0),ROWS($L$20:$L83)-OFFSET(Cumulative,,0)),IF(OFFSET(Cumulative,,2)>(ROW()-ROW($O$20)),_xlfn.AGGREGATE(15,6,(ROW(OrderRange_Ref)-ROW($L$19))/(OFFSET(OrderRange_Ref,,2)>0),ROWS($L$20:$L83)-OFFSET(Cumulative,,1)),IF(OFFSET(Cumulative,,3)>(ROW()-ROW($O$20)),_xlfn.AGGREGATE(15,6,(ROW(OrderRange_Ref)-ROW($L$19))/(OFFSET(OrderRange_Ref,,3)>0),ROWS($L$20:$L83)-OFFSET(Cumulative,,2)),IF(OFFSET(Cumulative,,4)>(ROW()-ROW($O$20)),_xlfn.AGGREGATE(15,6,(ROW(OrderRange_Ref)-ROW($L$19))/(OFFSET(OrderRange_Ref,,4)>0),ROWS($L$20:$L83)-OFFSET(Cumulative,,3)),IF(OFFSET(Cumulative,,5)>(ROW()-ROW($O$20)),_xlfn.AGGREGATE(15,6,(ROW(OrderRange_Ref)-ROW($L$19))/(OFFSET(OrderRange_Ref,,5)>0),ROWS($L$20:$L83)-OFFSET(Cumulative,,4)),\"\"))))))","v":""},{"$f":"IF(Cumulative>(ROW()-ROW($O$20)),OrderDate,IF(OFFSET(Cumulative,,1)>(ROW()-ROW($O$20)),OrderDate+1,IF(OFFSET(Cumulative,,2)>(ROW()-ROW($O$20)),OrderDate+2,IF(OFFSET(Cumulative,,3)>(ROW()-ROW($O$20)),OrderDate+3,IF(OFFSET(Cumulative,,4)>(ROW()-ROW($O$20)),OrderDate+4,IF(OFFSET(Cumulative,,5)>(ROW()-ROW($O$20)),OrderDate+5,\"\"))))))","v":""},"","","",{"$f":"IF($N83=\"\",\"\",ROUND(INDEX(Order_Data,$N83,MATCH($O83,$D$18:$I$18,0)),0))","v":""}]
[null,null,null,null,null,null,null,null,null,null,null,null,null,{"$f":"IF(Cumulative>(ROW()-ROW($O$20)),_xlfn.AGGREGATE(15,6,(ROW(OrderRange_Ref)-ROW($L$19))/(OFFSET(OrderRange_Ref,,0)>0),ROWS($L$20:$L84)),IF(OFFSET(Cumulative,,1)>(ROW()-ROW($O$20)),_xlfn.AGGREGATE(15,6,(ROW(OrderRange_Ref)-ROW($L$19))/(OFFSET(OrderRange_Ref,,1)>0),ROWS($L$20:$L84)-OFFSET(Cumulative,,0)),IF(OFFSET(Cumulative,,2)>(ROW()-ROW($O$20)),_xlfn.AGGREGATE(15,6,(ROW(OrderRange_Ref)-ROW($L$19))/(OFFSET(OrderRange_Ref,,2)>0),ROWS($L$20:$L84)-OFFSET(Cumulative,,1)),IF(OFFSET(Cumulative,,3)>(ROW()-ROW($O$20)),_xlfn.AGGREGATE(15,6,(ROW(OrderRange_Ref)-ROW($L$19))/(OFFSET(OrderRange_Ref,,3)>0),ROWS($L$20:$L84)-OFFSET(Cumulative,,2)),IF(OFFSET(Cumulative,,4)>(ROW()-ROW($O$20)),_xlfn.AGGREGATE(15,6,(ROW(OrderRange_Ref)-ROW($L$19))/(OFFSET(OrderRange_Ref,,4)>0),ROWS($L$20:$L84)-OFFSET(Cumulative,,3)),IF(OFFSET(Cumulative,,5)>(ROW()-ROW($O$20)),_xlfn.AGGREGATE(15,6,(ROW(OrderRange_Ref)-ROW($L$19))/(OFFSET(OrderRange_Ref,,5)>0),ROWS($L$20:$L84)-OFFSET(Cumulative,,4)),\"\"))))))","v":""},"",{"$f":"IF($O84<>\"\",BranchCode,\"\")","v":""},{"$f":"IF($O84<>\"\",\"จ่าย\",\"\")","v":""},{"$f":"IFERROR(INDEX(Product_item,$N84),\"\")","v":""},""]
[null,null,null,null,null,null,null,null,null,null,null,null,null,{"$f":"IF(Cumulative>(ROW()-ROW($O$20)),_xlfn.AGGREGATE(15,6,(ROW(OrderRange_Ref)-ROW($L$19))/(OFFSET(OrderRange_Ref,,0)>0),ROWS($L$20:$L85)),IF(OFFSET(Cumulative,,1)>(ROW()-ROW($O$20)),_xlfn.AGGREGATE(15,6,(ROW(OrderRange_Ref)-ROW($L$19))/(OFFSET(OrderRange_Ref,,1)>0),ROWS($L$20:$L85)-OFFSET(Cumulative,,0)),IF(OFFSET(Cumulative,,2)>(ROW()-ROW($O$20)),_xlfn.AGGREGATE(15,6,(ROW(OrderRange_Ref)-ROW($L$19))/(OFFSET(OrderRange_Ref,,2)>0),ROWS($L$20:$L85)-OFFSET(Cumulative,,1)),IF(OFFSET(Cumulative,,3)>(ROW()-ROW($O$20)),_xlfn.AGGREGATE(15,6,(ROW(OrderRange_Ref)-ROW($L$19))/(OFFSET(OrderRange_Ref,,3)>0),ROWS($L$20:$L85)-OFFSET(Cumulative,,2)),IF(OFFSET(Cumulative,,4)>(ROW()-ROW($O$20)),_xlfn.AGGREGATE(15,6,(ROW(OrderRange_Ref)-ROW($L$19))/(OFFSET(OrderRange_Ref,,4)>0),ROWS($L$20:$L85)-OFFSET(Cumulative,,3)),IF(OFFSET(Cumulative,,5)>(ROW()-ROW($O$20)),_xlfn.AGGREGATE(15,6,(ROW(OrderRange_Ref)-ROW($L$19))/(OFFSET(OrderRange_Ref,,5)>0),ROWS($L$20:$L85)-OFFSET(Cumulative,,4)),\"\"))))))","v":""},"","","","",""]
[null,null,null,null,null,null,null,null,null,null,null,null,null,{"$f":"IF(Cumulative>(ROW()-ROW($O$20)),_xlfn.AGGREGATE(15,6,(ROW(OrderRange_Ref)-ROW($L$19))/(OFFSET(OrderRange_Ref,,0)>0),ROWS($L$20:$L86)),IF(OFFSET(Cumulative,,1)>(ROW()-ROW($O$20)),_xlfn.AGGREGATE(15,6,(ROW(OrderRange_Ref)-ROW($L$19))/(OFFSET(OrderRange_Ref,,1)>0),ROWS($L$20:$L86)-OFFSET(Cumulative,,0)),IF(OFFSET(Cumulative,,2)>(ROW()-ROW($O$20)),_xlfn.AGGREGATE(15,6,(ROW(OrderRange_Ref)-ROW($L$19))/(OFFSET(OrderRange_Ref,,2)>0),ROWS($L$20:$L86)-OFFSET(Cumulative,,1)),IF(OFFSET(Cumulative,,3)>(ROW()-ROW($O$20)),_xlfn.AGGREGATE(15,6,(ROW(OrderRange_Ref)-ROW($L$19))/(OFFSET(OrderRange_Ref,,3)>0),ROWS($L$20:$L86)-OFFSET(Cumulative,,2)),IF(OFFSET(Cumulative,,4)>(ROW()-ROW($O$20)),_xlfn.AGGREGATE(15,6,(ROW(OrderRange_Ref)-ROW($L$19))/(OFFSET(OrderRange_Ref,,4)>0),ROWS($L$20:$L86)-OFFSET(Cumulative,,3)),IF(OFFSET(Cumulative,,5)>(ROW()-ROW($O$20)),_xlfn.AGGREGATE(15,6,(ROW(OrderRange_Ref)-ROW($L$19))/(OFFSET(OrderRange_Ref,,5)>0),ROWS($L$20:$L86)-OFFSET(Cumulative,,4)),\"\"))))))","v":""},"","","","",""]
[null,null,null,null,null,null,null,null,null,null,null,null,null,{"$f":"IF(Cumulative>(ROW()-ROW($O$20)),_xlfn.AGGREGATE(15,6,(ROW(OrderRange_Ref)-ROW($L$19))/(OFFSET(OrderRange_Ref,,0)>0),ROWS($L$20:$L87)),IF(OFFSET(Cumulative,,1)>(ROW()-ROW($O$20)),_xlfn.AGGREGATE(15,6,(ROW(OrderRange_Ref)-ROW($L$19))/(OFFSET(OrderRange_Ref,,1)>0),ROWS($L$20:$L87)-OFFSET(Cumulative,,0)),IF(OFFSET(Cumulative,,2)>(ROW()-ROW($O$20)),_xlfn.AGGREGATE(15,6,(ROW(OrderRange_Ref)-ROW($L$19))/(OFFSET(OrderRange_Ref,,2)>0),ROWS($L$20:$L87)-OFFSET(Cumulative,,1)),IF(OFFSET(Cumulative,,3)>(ROW()-ROW($O$20)),_xlfn.AGGREGATE(15,6,(ROW(OrderRange_Ref)-ROW($L$19))/(OFFSET(OrderRange_Ref,,3)>0),ROWS($L$20:$L87)-OFFSET(Cumulative,,2)),IF(OFFSET(Cumulative,,4)>(ROW()-ROW($O$20)),_xlfn.AGGREGATE(15,6,(ROW(OrderRange_Ref)-ROW($L$19))/(OFFSET(OrderRange_Ref,,4)>0),ROWS($L$20:$L87)-OFFSET(Cumulative,,3)),IF(OFFSET(Cumulative,,5)>(ROW()-ROW($O$20)),_xlfn.AGGREGATE(15,6,(ROW(OrderRange_Ref)-ROW($L$19))/(OFFSET(OrderRange_Ref,,5)>0),ROWS($L$20:$L87)-OFFSET(Cumulative,,4)),\"\"))))))","v":""},"","","","",""]
[null,null,null,null,null,null,null,null,null,null,null,null,null,{"$f":"IF(Cumulative>(ROW()-ROW($O$20)),_xlfn.AGGREGATE(15,6,(ROW(OrderRange_Ref)-ROW($L$19))/(OFFSET(OrderRange_Ref,,0)>0),ROWS($L$20:$L88)),IF(OFFSET(Cumulative,,1)>(ROW()-ROW($O$20)),_xlfn.AGGREGATE(15,6,(ROW(OrderRange_Ref)-ROW($L$19))/(OFFSET(OrderRange_Ref,,1)>0),ROWS($L$20:$L88)-OFFSET(Cumulative,,0)),IF(OFFSET(Cumulative,,2)>(ROW()-ROW($O$20)),_xlfn.AGGREGATE(15,6,(ROW(OrderRange_Ref)-ROW($L$19))/(OFFSET(OrderRange_Ref,,2)>0),ROWS($L$20:$L88)-OFFSET(Cumulative,,1)),IF(OFFSET(Cumulative,,3)>(ROW()-ROW($O$20)),_xlfn.AGGREGATE(15,6,(ROW(OrderRange_Ref)-ROW($L$19))/(OFFSET(OrderRange_Ref,,3)>0),ROWS($L$20:$L88)-OFFSET(Cumulative,,2)),IF(OFFSET(Cumulative,,4)>(ROW()-ROW($O$20)),_xlfn.AGGREGATE(15,6,(ROW(OrderRange_Ref)-ROW($L$19))/(OFFSET(OrderRange_Ref,,4)>0),ROWS($L$20:$L88)-OFFSET(Cumulative,,3)),IF(OFFSET(Cumulative,,5)>(ROW()-ROW($O$20)),_xlfn.AGGREGATE(15,6,(ROW(OrderRange_Ref)-ROW($L$19))/(OFFSET(OrderRange_Ref,,5)>0),ROWS($L$20:$L88)-OFFSET(Cumulative,,4)),\"\"))))))","v":""},"","","","",""]
[null,null,null,null,null,null,null,null,null,null,null,null,null,{"$f":"IF(Cumulative>(ROW()-ROW($O$20)),_xlfn.AGGREGATE(15,6,(ROW(OrderRange_Ref)-ROW($L$19))/(OFFSET(OrderRange_Ref,,0)>0),ROWS($L$20:$L89)),IF(OFFSET(Cumulative,,1)>(ROW()-ROW($O$20)),_xlfn.AGGREGATE(15,6,(ROW(OrderRange_Ref)-ROW($L$19))/(OFFSET(OrderRange_Ref,,1)>0),ROWS($L$20:$L89)-OFFSET(Cumulative,,0)),IF(OFFSET(Cumulative,,2)>(ROW()-ROW($O$20)),_xlfn.AGGREGATE(15,6,(ROW(OrderRange_Ref)-ROW($L$19))/(OFFSET(OrderRange_Ref,,2)>0),ROWS($L$20:$L89)-OFFSET(Cumulative,,1)),IF(OFFSET(Cumulative,,3)>(ROW()-ROW($O$20)),_xlfn.AGGREGATE(15,6,(ROW(OrderRange_Ref)-ROW($L$19))/(OFFSET(OrderRange_Ref,,3)>0),ROWS($L$20:$L89)-OFFSET(Cumulative,,2)),IF(OFFSET(Cumulative,,4)>(ROW()-ROW($O$20)),_xlfn.AGGREGATE(15,6,(ROW(OrderRange_Ref)-ROW($L$19))/(OFFSET(OrderRange_Ref,,4)>0),ROWS($L$20:$L89)-OFFSET(Cumulative,,3)),IF(OFFSET(Cumulative,,5)>(ROW()-ROW($O$20)),_xlfn.AGGREGATE(15,6,(ROW(OrderRange_Ref)-ROW($L$19))/(OFFSET(OrderRange_Ref,,5)>0),ROWS($L$20:$L89)-OFFSET(Cumulative,,4)),\"\"))))))","v":""},"","","","",""]
[null,null,null,null,null,null,null,null,null,null,null,null,null,{"$f":"IF(Cumulative>(ROW()-ROW($O$20)),_xlfn.AGGREGATE(15,6,(ROW(OrderRange_Ref)-ROW($L$19))/(OFFSET(OrderRange_Ref,,0)>0),ROWS($L$20:$L90)),IF(OFFSET(Cumulative,,1)>(ROW()-ROW($O$20)),_xlfn.AGGREGATE(15,6,(ROW(OrderRange_Ref)-ROW($L$19))/(OFFSET(OrderRange_Ref,,1)>0),ROWS($L$20:$L90)-OFFSET(Cumulative,,0)),IF(OFFSET(Cumulative,,2)>(ROW()-ROW($O$20)),_xlfn.AGGREGATE(15,6,(ROW(OrderRange_Ref)-ROW($L$19))/(OFFSET(OrderRange_Ref,,2)>0),ROWS($L$20:$L90)-OFFSET(Cumulative,,1)),IF(OFFSET(Cumulative,,3)>(ROW()-ROW($O$20)),_xlfn.AGGREGATE(15,6,(ROW(OrderRange_Ref)-ROW($L$19))/(OFFSET(OrderRange_Ref,,3)>0),ROWS($L$20:$L90)-OFFSET(Cumulative,,2)),IF(OFFSET(Cumulative,,4)>(ROW()-ROW($O$20)),_xlfn.AGGREGATE(15,6,(ROW(OrderRange_Ref)-ROW($L$19))/(OFFSET(OrderRange_Ref,,4)>0),ROWS($L$20:$L90)-OFFSET(Cumulative,,3)),IF(OFFSET(Cumulative,,5)>(ROW()-ROW($O$20)),_xlfn.AGGREGATE(15,6,(ROW(OrderRange_Ref)-ROW($L$19))/(OFFSET(OrderRange_Ref,,5)>0),ROWS($L$20:$L90)-OFFSET(Cumulative,,4)),\"\"))))))","v":""},"","","","",""]
[null,null,null,null,null,null,null,null,null,null,null,null,null,{"$f":"IF(Cumulative>(ROW()-ROW($O$20)),_xlfn.AGGREGATE(15,6,(ROW(OrderRange_Ref)-ROW($L$19))/(OFFSET(OrderRange_Ref,,0)>0),ROWS($L$20:$L91)),IF(OFFSET(Cumulative,,1)>(ROW()-ROW($O$20)),_xlfn.AGGREGATE(15,6,(ROW(OrderRange_Ref)-ROW($L$19))/(OFFSET(OrderRange_Ref,,1)>0),ROWS($L$20:$L91)-OFFSET(Cumulative,,0)),IF(OFFSET(Cumulative,,2)>(ROW()-ROW($O$20)),_xlfn.AGGREGATE(15,6,(ROW(OrderRange_Ref)-ROW($L$19))/(OFFSET(OrderRange_Ref,,2)>0),ROWS($L$20:$L91)-OFFSET(Cumulative,,1)),IF(OFFSET(Cumulative,,3)>(ROW()-ROW($O$20)),_xlfn.AGGREGATE(15,6,(ROW(OrderRange_Ref)-ROW($L$19))/(OFFSET(OrderRange_Ref,,3)>0),ROWS($L$20:$L91)-OFFSET(Cumulative,,2)),IF(OFFSET(Cumulative,,4)>(ROW()-ROW($O$20)),_xlfn.AGGREGATE(15,6,(ROW(OrderRange_Ref)-ROW($L$19))/(OFFSET(OrderRange_Ref,,4)>0),ROWS($L$20:$L91)-OFFSET(Cumulative,,3)),IF(OFFSET(Cumulative,,5)>(ROW()-ROW($O$20)),_xlfn.AGGREGATE(15,6,(ROW(OrderRange_Ref)-ROW($L$19))/(OFFSET(OrderRange_Ref,,5)>0),ROWS($L$20:$L91)-OFFSET(Cumulative,,4)),\"\"))))))","v":""},"","","","",""]
[null,null,null,null,null,null,null,null,null,null,null,null,null,{"$f":"IF(Cumulative>(ROW()-ROW($O$20)),_xlfn.AGGREGATE(15,6,(ROW(OrderRange_Ref)-ROW($L$19))/(OFFSET(OrderRange_Ref,,0)>0),ROWS($L$20:$L92)),IF(OFFSET(Cumulative,,1)>(ROW()-ROW($O$20)),_xlfn.AGGREGATE(15,6,(ROW(OrderRange_Ref)-ROW($L$19))/(OFFSET(OrderRange_Ref,,1)>0),ROWS($L$20:$L92)-OFFSET(Cumulative,,0)),IF(OFFSET(Cumulative,,2)>(ROW()-ROW($O$20)),_xlfn.AGGREGATE(15,6,(ROW(OrderRange_Ref)-ROW($L$19))/(OFFSET(OrderRange_Ref,,2)>0),ROWS($L$20:$L92)-OFFSET(Cumulative,,1)),IF(OFFSET(Cumulative,,3)>(ROW()-ROW($O$20)),_xlfn.AGGREGATE(15,6,(ROW(OrderRange_Ref)-ROW($L$19))/(OFFSET(OrderRange_Ref,,3)>0),ROWS($L$20:$L92)-OFFSET(Cumulative,,2)),IF(OFFSET(Cumulative,,4)>(ROW()-ROW($O$20)),_xlfn.AGGREGATE(15,6,(ROW(OrderRange_Ref)-ROW($L$19))/(OFFSET(OrderRange_Ref,,4)>0),ROWS($L$20:$L92)-OFFSET(Cumulative,,3)),IF(OFFSET(Cumulative,,5)>(ROW()-ROW($O$20)),_xlfn.AGGREGATE(15,6,(ROW(OrderRange_Ref)-ROW($L$19))/(OFFSET(OrderRange_Ref,,5)>0),ROWS($L$20:$L92)-OFFSET(Cumulative,,4)),\"\"))))))","v":""},"","","","",""]
[null,null,null,null,null,null,null,null,null,null,null,null,null,{"$f":"IF(Cumulative>(ROW()-ROW($O$20)),_xlfn.AGGREGATE(15,6,(ROW(OrderRange_Ref)-ROW($L$19))/(OFFSET(OrderRange_Ref,,0)>0),ROWS($L$20:$L93)),IF(OFFSET(Cumulative,,1)>(ROW()-ROW($O$20)),_xlfn.AGGREGATE(15,6,(ROW(OrderRange_Ref)-ROW($L$19))/(OFFSET(OrderRange_Ref,,1)>0),ROWS($L$20:$L93)-OFFSET(Cumulative,,0)),IF(OFFSET(Cumulative,,2)>(ROW()-ROW($O$20)),_xlfn.AGGREGATE(15,6,(ROW(OrderRange_Ref)-ROW($L$19))/(OFFSET(OrderRange_Ref,,2)>0),ROWS($L$20:$L93)-OFFSET(Cumulative,,1)),IF(OFFSET(Cumulative,,3)>(ROW()-ROW($O$20)),_xlfn.AGGREGATE(15,6,(ROW(OrderRange_Ref)-ROW($L$19))/(OFFSET(OrderRange_Ref,,3)>0),ROWS($L$20:$L93)-OFFSET(Cumulative,,2)),IF(OFFSET(Cumulative,,4)>(ROW()-ROW($O$20)),_xlfn.AGGREGATE(15,6,(ROW(OrderRange_Ref)-ROW($L$19))/(OFFSET(OrderRange_Ref,,4)>0),ROWS($L$20:$L93)-OFFSET(Cumulative,,3)),IF(OFFSET(Cumulative,,5)>(ROW()-ROW($O$20)),_xlfn.AGGREGATE(15,6,(ROW(OrderRange_Ref)-ROW($L$19))/(OFFSET(OrderRange_Ref,,5)>0),ROWS($L$20:$L93)-OFFSET(Cumulative,,4)),\"\"))))))","v":""},"","","","",""]
[null,null,null,null,null,null,null,null,null,null,null,null,null,{"$f":"IF(Cumulative>(ROW()-ROW($O$20)),_xlfn.AGGREGATE(15,6,(ROW(OrderRange_Ref)-ROW($L$19))/(OFFSET(OrderRange_Ref,,0)>0),ROWS($L$20:$L94)),IF(OFFSET(Cumulative,,1)>(ROW()-ROW($O$20)),_xlfn.AGGREGATE(15,6,(ROW(OrderRange_Ref)-ROW($L$19))/(OFFSET(OrderRange_Ref,,1)>0),ROWS($L$20:$L94)-OFFSET(Cumulative,,0)),IF(OFFSET(Cumulative,,2)>(ROW()-ROW($O$20)),_xlfn.AGGREGATE(15,6,(ROW(OrderRange_Ref)-ROW($L$19))/(OFFSET(OrderRange_Ref,,2)>0),ROWS($L$20:$L94)-OFFSET(Cumulative,,1)),IF(OFFSET(Cumulative,,3)>(ROW()-ROW($O$20)),_xlfn.AGGREGATE(15,6,(ROW(OrderRange_Ref)-ROW($L$19))/(OFFSET(OrderRange_Ref,,3)>0),ROWS($L$20:$L94)-OFFSET(Cumulative,,2)),IF(OFFSET(Cumulative,,4)>(ROW()-ROW($O$20)),_xlfn.AGGREGATE(15,6,(ROW(OrderRange_Ref)-ROW($L$19))/(OFFSET(OrderRange_Ref,,4)>0),ROWS($L$20:$L94)-OFFSET(Cumulative,,3)),IF(OFFSET(Cumulative,,5)>(ROW()-ROW($O$20)),_xlfn.AGGREGATE(15,6,(ROW(OrderRange_Ref)-ROW($L$19))/(OFFSET(OrderRange_Ref,,5)>0),ROWS($L$20:$L94)-OFFSET(Cumulative,,4)),\"\"))))))","v":""},"","","","",""]
[null,null,null,null,null,null,null,null,null,null,null,null,null,{"$f":"IF(Cumulative>(ROW()-ROW($O$20)),_xlfn.AGGREGATE(15,6,(ROW(OrderRange_Ref)-ROW($L$19))/(OFFSET(OrderRange_Ref,,0)>0),ROWS($L$20:$L95)),IF(OFFSET(Cumulative,,1)>(ROW()-ROW($O$20)),_xlfn.AGGREGATE(15,6,(ROW(OrderRange_Ref)-ROW($L$19))/(OFFSET(OrderRange_Ref,,1)>0),ROWS($L$20:$L95)-OFFSET(Cumulative,,0)),IF(OFFSET(Cumulative,,2)>(ROW()-ROW($O$20)),_xlfn.AGGREGATE(15,6,(ROW(OrderRange_Ref)-ROW($L$19))/(OFFSET(OrderRange_Ref,,2)>0),ROWS($L$20:$L95)-OFFSET(Cumulative,,1)),IF(OFFSET(Cumulative,,3)>(ROW()-ROW($O$20)),_xlfn.AGGREGATE(15,6,(ROW(OrderRange_Ref)-ROW($L$19))/(OFFSET(OrderRange_Ref,,3)>0),ROWS($L$20:$L95)-OFFSET(Cumulative,,2)),IF(OFFSET(Cumulative,,4)>(ROW()-ROW($O$20)),_xlfn.AGGREGATE(15,6,(ROW(OrderRange_Ref)-ROW($L$19))/(OFFSET(OrderRange_Ref,,4)>0),ROWS($L$20:$L95)-OFFSET(Cumulative,,3)),IF(OFFSET(Cumulative,,5)>(ROW()-ROW($O$20)),_xlfn.AGGREGATE(15,6,(ROW(OrderRange_Ref)-ROW($L$19))/(OFFSET(OrderRange_Ref,,5)>0),ROWS($L$20:$L95)-OFFSET(Cumulative,,4)),\"\"))))))","v":""},"","","","",""]
[null,null,null,null,null,null,null,null,null,null,null,null,null,{"$f":"IF(Cumulative>(ROW()-ROW($O$20)),_xlfn.AGGREGATE(15,6,(ROW(OrderRange_Ref)-ROW($L$19))/(OFFSET(OrderRange_Ref,,0)>0),ROWS($L$20:$L96)),IF(OFFSET(Cumulative,,1)>(ROW()-ROW($O$20)),_xlfn.AGGREGATE(15,6,(ROW(OrderRange_Ref)-ROW($L$19))/(OFFSET(OrderRange_Ref,,1)>0),ROWS($L$20:$L96)-OFFSET(Cumulative,,0)),IF(OFFSET(Cumulative,,2)>(ROW()-ROW($O$20)),_xlfn.AGGREGATE(15,6,(ROW(OrderRange_Ref)-ROW($L$19))/(OFFSET(OrderRange_Ref,,2)>0),ROWS($L$20:$L96)-OFFSET(Cumulative,,1)),IF(OFFSET(Cumulative,,3)>(ROW()-ROW($O$20)),_xlfn.AGGREGATE(15,6,(ROW(OrderRange_Ref)-ROW($L$19))/(OFFSET(OrderRange_Ref,,3)>0),ROWS($L$20:$L96)-OFFSET(Cumulative,,2)),IF(OFFSET(Cumulative,,4)>(ROW()-ROW($O$20)),_xlfn.AGGREGATE(15,6,(ROW(OrderRange_Ref)-ROW($L$19))/(OFFSET(OrderRange_Ref,,4)>0),ROWS($L$20:$L96)-OFFSET(Cumulative,,3)),IF(OFFSET(Cumulative,,5)>(ROW()-ROW($O$20)),_xlfn.AGGREGATE(15,6,(ROW(OrderRange_Ref)-ROW($L$19))/(OFFSET(OrderRange_Ref,,5)>0),ROWS($L$20:$L96)-OFFSET(Cumulative,,4)),\"\"))))))","v":""},"","","","",""]
[null,null,null,null,null,null,null,null,null,null,null,null,null,{"$f":"IF(Cumulative>(ROW()-ROW($O$20)),_xlfn.AGGREGATE(15,6,(ROW(OrderRange_Ref)-ROW($L$19))/(OFFSET(OrderRange_Ref,,0)>0),ROWS($L$20:$L97)),IF(OFFSET(Cumulative,,1)>(ROW()-ROW($O$20)),_xlfn.AGGREGATE(15,6,(ROW(OrderRange_Ref)-ROW($L$19))/(OFFSET(OrderRange_Ref,,1)>0),ROWS($L$20:$L97)-OFFSET(Cumulative,,0)),IF(OFFSET(Cumulative,,2)>(ROW()-ROW($O$20)),_xlfn.AGGREGATE(15,6,(ROW(OrderRange_Ref)-ROW($L$19))/(OFFSET(OrderRange_Ref,,2)>0),ROWS($L$20:$L97)-OFFSET(Cumulative,,1)),IF(OFFSET(Cumulative,,3)>(ROW()-ROW($O$20)),_xlfn.AGGREGATE(15,6,(ROW(OrderRange_Ref)-ROW($L$19))/(OFFSET(OrderRange_Ref,,3)>0),ROWS($L$20:$L97)-OFFSET(Cumulative,,2)),IF(OFFSET(Cumulative,,4)>(ROW()-ROW($O$20)),_xlfn.AGGREGATE(15,6,(ROW(OrderRange_Ref)-ROW($L$19))/(OFFSET(OrderRange_Ref,,4)>0),ROWS($L$20:$L97)-OFFSET(Cumulative,,3)),IF(OFFSET(Cumulative,,5)>(ROW()-ROW($O$20)),_xlfn.AGGREGATE(15,6,(ROW(OrderRange_Ref)-ROW($L$19))/(OFFSET(OrderRange_Ref,,5)>0),ROWS($L$20:$L97)-OFFSET(Cumulative,,4)),\"\"))))))","v":""},"","","","",""]
[null,null,null,null,null,null,null,null,null,null,null,null,null,{"$f":"IF(Cumulative>(ROW()-ROW($O$20)),_xlfn.AGGREGATE(15,6,(ROW(OrderRange_Ref)-ROW($L$19))/(OFFSET(OrderRange_Ref,,0)>0),ROWS($L$20:$L98)),IF(OFFSET(Cumulative,,1)>(ROW()-ROW($O$20)),_xlfn.AGGREGATE(15,6,(ROW(OrderRange_Ref)-ROW($L$19))/(OFFSET(OrderRange_Ref,,1)>0),ROWS($L$20:$L98)-OFFSET(Cumulative,,0)),IF(OFFSET(Cumulative,,2)>(ROW()-ROW($O$20)),_xlfn.AGGREGATE(15,6,(ROW(OrderRange_Ref)-ROW($L$19))/(OFFSET(OrderRange_Ref,,2)>0),ROWS($L$20:$L98)-OFFSET(Cumulative,,1)),IF(OFFSET(Cumulative,,3)>(ROW()-ROW($O$20)),_xlfn.AGGREGATE(15,6,(ROW(OrderRange_Ref)-ROW($L$19))/(OFFSET(OrderRange_Ref,,3)>0),ROWS($L$20:$L98)-OFFSET(Cumulative,,2)),IF(OFFSET(Cumulative,,4)>(ROW()-ROW($O$20)),_xlfn.AGGREGATE(15,6,(ROW(OrderRange_Ref)-ROW($L$19))/(OFFSET(OrderRange_Ref,,4)>0),ROWS($L$20:$L98)-OFFSET(Cumulative,,3)),IF(OFFSET(Cumulative,,5)>(ROW()-ROW($O$20)),_xlfn.AGGREGATE(15,6,(ROW(OrderRange_Ref)-ROW($L$19))/(OFFSET(OrderRange_Ref,,5)>0),ROWS($L$20:$L98)-OFFSET(Cumulative,,4)),\"\"))))))","v":""},"","","","",""]
[null,null,null,null,null,null,null,null,null,null,null,null,null,{"$f":"IF(Cumulative>(ROW()-ROW($O$20)),_xlfn.AGGREGATE(15,6,(ROW(OrderRange_Ref)-ROW($L$19))/(OFFSET(OrderRange_Ref,,0)>0),ROWS($L$20:$L99)),IF(OFFSET(Cumulative,,1)>(ROW()-ROW($O$20)),_xlfn.AGGREGATE(15,6,(ROW(OrderRange_Ref)-ROW($L$19))/(OFFSET(OrderRange_Ref,,1)>0),ROWS($L$20:$L99)-OFFSET(Cumulative,,0)),IF(OFFSET(Cumulative,,2)>(ROW()-ROW($O$20)),_xlfn.AGGREGATE(15,6,(ROW(OrderRange_Ref)-ROW($L$19))/(OFFSET(OrderRange_Ref,,2)>0),ROWS($L$20:$L99)-OFFSET(Cumulative,,1)),IF(OFFSET(Cumulative,,3)>(ROW()-ROW($O$20)),_xlfn.AGGREGATE(15,6,(ROW(OrderRange_Ref)-ROW($L$19))/(OFFSET(OrderRange_Ref,,3)>0),ROWS($L$20:$L99)-OFFSET(Cumulative,,2)),IF(OFFSET(Cumulative,,4)>(ROW()-ROW($O$20)),_xlfn.AGGREGATE(15,6,(ROW(OrderRange_Ref)-ROW($L$19))/(OFFSET(OrderRange_Ref,,4)>0),ROWS($L$20:$L99)-OFFSET(Cumulative,,3)),IF(OFFSET(Cumulative,,5)>(ROW()-ROW($O$20)),_xlfn.AGGREGATE(15,6,(ROW(OrderRange_Ref)-ROW($L$19))/(OFFSET(OrderRange_Ref,,5)>0),ROWS($L$20:$L99)-OFFSET(Cumulative,,4)),\"\"))))))","v":""},"","","","",""]
[null,null,null,null,null,null,null,null,null,null,null,null,null,{"$f":"IF(Cumulative>(ROW()-ROW($O$20)),_xlfn.AGGREGATE(15,6,(ROW(OrderRange_Ref)-ROW($L$19))/(OFFSET(OrderRange_Ref,,0)>0),ROWS($L$20:$L100)),IF(OFFSET(Cumulative,,1)>(ROW()-ROW($O$20)),_xlfn.AGGREGATE(15,6,(ROW(OrderRange_Ref)-ROW($L$19))/(OFFSET(OrderRange_Ref,,1)>0),ROWS($L$20:$L100)-OFFSET(Cumulative,,0)),IF(OFFSET(Cumulative,,2)>(ROW()-ROW($O$20)),_xlfn.AGGREGATE(15,6,(ROW(OrderRange_Ref)-ROW($L$19))/(OFFSET(OrderRange_Ref,,2)>0),ROWS($L$20:$L100)-OFFSET(Cumulative,,1)),IF(OFFSET(Cumulative,,3)>(ROW()-ROW($O$20)),_xlfn.AGGREGATE(15,6,(ROW(OrderRange_Ref)-ROW($L$19))/(OFFSET(OrderRange_Ref,,3)>0),ROWS($L$20:$L100)-OFFSET(Cumulative,,2)),IF(OFFSET(Cumulative,,4)>(ROW()-ROW($O$20)),_xlfn.AGGREGATE(15,6,(ROW(OrderRange_Ref)-ROW($L$19))/(OFFSET(OrderRange_Ref,,4)>0),ROWS($L$20:$L100)-OFFSET(Cumulative,,3)),IF(OFFSET(Cumulative,,5)>(ROW()-ROW($O$20)),_xlfn.AGGREGATE(15,6,(ROW(OrderRange_Ref)-ROW($L$19))/(OFFSET(OrderRange_Ref,,5)>0),ROWS($L$20:$L100)-OFFSET(Cumulative,,4)),\"\"))))))","v":""},"","","","",""]
[null,null,null,null,null,null,null,null,null,null,null,null,null,{"$f":"IF(Cumulative>(ROW()-ROW($O$20)),_xlfn.AGGREGATE(15,6,(ROW(OrderRange_Ref)-ROW($L$19))/(OFFSET(OrderRange_Ref,,0)>0),ROWS($L$20:$L101)),IF(OFFSET(Cumulative,,1)>(ROW()-ROW($O$20)),_xlfn.AGGREGATE(15,6,(ROW(OrderRange_Ref)-ROW($L$19))/(OFFSET(OrderRange_Ref,,1)>0),ROWS($L$20:$L101)-OFFSET(Cumulative,,0)),IF(OFFSET(Cumulative,,2)>(ROW()-ROW($O$20)),_xlfn.AGGREGATE(15,6,(ROW(OrderRange_Ref)-ROW($L$19))/(OFFSET(OrderRange_Ref,,2)>0),ROWS($L$20:$L101)-OFFSET(Cumulative,,1)),IF(OFFSET(Cumulative,,3)>(ROW()-ROW($O$20)),_xlfn.AGGREGATE(15,6,(ROW(OrderRange_Ref)-ROW($L$19))/(OFFSET(OrderRange_Ref,,3)>0),ROWS($L$20:$L101)-OFFSET(Cumulative,,2)),IF(OFFSET(Cumulative,,4)>(ROW()-ROW($O$20)),_xlfn.AGGREGATE(15,6,(ROW(OrderRange_Ref)-ROW($L$19))/(OFFSET(OrderRange_Ref,,4)>0),ROWS($L$20:$L101)-OFFSET(Cumulative,,3)),IF(OFFSET(Cumulative,,5)>(ROW()-ROW($O$20)),_xlfn.AGGREGATE(15,6,(ROW(OrderRange_Ref)-ROW($L$19))/(OFFSET(OrderRange_Ref,,5)>0),ROWS($L$20:$L101)-OFFSET(Cumulative,,4)),\"\"))))))","v":""},"","","","",""]
[null,null,null,null,null,null,null,null,null,null,null,null,null,{"$f":"IF(Cumulative>(ROW()-ROW($O$20)),_xlfn.AGGREGATE(15,6,(ROW(OrderRange_Ref)-ROW($L$19))/(OFFSET(OrderRange_Ref,,0)>0),ROWS($L$20:$L102)),IF(OFFSET(Cumulative,,1)>(ROW()-ROW($O$20)),_xlfn.AGGREGATE(15,6,(ROW(OrderRange_Ref)-ROW($L$19))/(OFFSET(OrderRange_Ref,,1)>0),ROWS($L$20:$L102)-OFFSET(Cumulative,,0)),IF(OFFSET(Cumulative,,2)>(ROW()-ROW($O$20)),_xlfn.AGGREGATE(15,6,(ROW(OrderRange_Ref)-ROW($L$19))/(OFFSET(OrderRange_Ref,,2)>0),ROWS($L$20:$L102)-OFFSET(Cumulative,,1)),IF(OFFSET(Cumulative,,3)>(ROW()-ROW($O$20)),_xlfn.AGGREGATE(15,6,(ROW(OrderRange_Ref)-ROW($L$19))/(OFFSET(OrderRange_Ref,,3)>0),ROWS($L$20:$L102)-OFFSET(Cumulative,,2)),IF(OFFSET(Cumulative,,4)>(ROW()-ROW($O$20)),_xlfn.AGGREGATE(15,6,(ROW(OrderRange_Ref)-ROW($L$19))/(OFFSET(OrderRange_Ref,,4)>0),ROWS($L$20:$L102)-OFFSET(Cumulative,,3)),IF(OFFSET(Cumulative,,5)>(ROW()-ROW($O$20)),_xlfn.AGGREGATE(15,6,(ROW(OrderRange_Ref)-ROW($L$19))/(OFFSET(OrderRange_Ref,,5)>0),ROWS($L$20:$L102)-OFFSET(Cumulative,,4)),\"\"))))))","v":""},"","","","",""]
[null,null,null,null,null,null,null,null,null,null,null,null,null,{"$f":"IF(Cumulative>(ROW()-ROW($O$20)),_xlfn.AGGREGATE(15,6,(ROW(OrderRange_Ref)-ROW($L$19))/(OFFSET(OrderRange_Ref,,0)>0),ROWS($L$20:$L103)),IF(OFFSET(Cumulative,,1)>(ROW()-ROW($O$20)),_xlfn.AGGREGATE(15,6,(ROW(OrderRange_Ref)-ROW($L$19))/(OFFSET(OrderRange_Ref,,1)>0),ROWS($L$20:$L103)-OFFSET(Cumulative,,0)),IF(OFFSET(Cumulative,,2)>(ROW()-ROW($O$20)),_xlfn.AGGREGATE(15,6,(ROW(OrderRange_Ref)-ROW($L$19))/(OFFSET(OrderRange_Ref,,2)>0),ROWS($L$20:$L103)-OFFSET(Cumulative,,1)),IF(OFFSET(Cumulative,,3)>(ROW()-ROW($O$20)),_xlfn.AGGREGATE(15,6,(ROW(OrderRange_Ref)-ROW($L$19))/(OFFSET(OrderRange_Ref,,3)>0),ROWS($L$20:$L103)-OFFSET(Cumulative,,2)),IF(OFFSET(Cumulative,,4)>(ROW()-ROW($O$20)),_xlfn.AGGREGATE(15,6,(ROW(OrderRange_Ref)-ROW($L$19))/(OFFSET(OrderRange_Ref,,4)>0),ROWS($L$20:$L103)-OFFSET(Cumulative,,3)),IF(OFFSET(Cumulative,,5)>(ROW()-ROW($O$20)),_xlfn.AGGREGATE(15,6,(ROW(OrderRange_Ref)-ROW($L$19))/(OFFSET(OrderRange_Ref,,5)>0),ROWS($L$20:$L103)-OFFSET(Cumulative,,4)),\"\"))))))","v":""},"","","","",""]
[null,null,null,null,null,null,null,null,null,null,null,null,null,{"$f":"IF(Cumulative>(ROW()-ROW($O$20)),_xlfn.AGGREGATE(15,6,(ROW(OrderRange_Ref)-ROW($L$19))/(OFFSET(OrderRange_Ref,,0)>0),ROWS($L$20:$L104)),IF(OFFSET(Cumulative,,1)>(ROW()-ROW($O$20)),_xlfn.AGGREGATE(15,6,(ROW(OrderRange_Ref)-ROW($L$19))/(OFFSET(OrderRange_Ref,,1)>0),ROWS($L$20:$L104)-OFFSET(Cumulative,,0)),IF(OFFSET(Cumulative,,2)>(ROW()-ROW($O$20)),_xlfn.AGGREGATE(15,6,(ROW(OrderRange_Ref)-ROW($L$19))/(OFFSET(OrderRange_Ref,,2)>0),ROWS($L$20:$L104)-OFFSET(Cumulative,,1)),IF(OFFSET(Cumulative,,3)>(ROW()-ROW($O$20)),_xlfn.AGGREGATE(15,6,(ROW(OrderRange_Ref)-ROW($L$19))/(OFFSET(OrderRange_Ref,,3)>0),ROWS($L$20:$L104)-OFFSET(Cumulative,,2)),IF(OFFSET(Cumulative,,4)>(ROW()-ROW($O$20)),_xlfn.AGGREGATE(15,6,(ROW(OrderRange_Ref)-ROW($L$19))/(OFFSET(OrderRange_Ref,,4)>0),ROWS($L$20:$L104)-OFFSET(Cumulative,,3)),IF(OFFSET(Cumulative,,5)>(ROW()-ROW($O$20)),_xlfn.AGGREGATE(15,6,(ROW(OrderRange_Ref)-ROW($L$19))/(OFFSET(OrderRange_Ref,,5)>0),ROWS($L$20:$L104)-OFFSET(Cumulative,,4)),\"\"))))))","v":""},"","","","",""]
[null,null,null,null,null,null,null,null,null,null,null,null,null,{"$f":"IF(Cumulative>(ROW()-ROW($O$20)),_xlfn.AGGREGATE(15,6,(ROW(OrderRange_Ref)-ROW($L$19))/(OFFSET(OrderRange_Ref,,0)>0),ROWS($L$20:$L105)),IF(OFFSET(Cumulative,,1)>(ROW()-ROW($O$20)),_xlfn.AGGREGATE(15,6,(ROW(OrderRange_Ref)-ROW($L$19))/(OFFSET(OrderRange_Ref,,1)>0),ROWS($L$20:$L105)-OFFSET(Cumulative,,0)),IF(OFFSET(Cumulative,,2)>(ROW()-ROW($O$20)),_xlfn.AGGREGATE(15,6,(ROW(OrderRange_Ref)-ROW($L$19))/(OFFSET(OrderRange_Ref,,2)>0),ROWS($L$20:$L105)-OFFSET(Cumulative,,1)),IF(OFFSET(Cumulative,,3)>(ROW()-ROW($O$20)),_xlfn.AGGREGATE(15,6,(ROW(OrderRange_Ref)-ROW($L$19))/(OFFSET(OrderRange_Ref,,3)>0),ROWS($L$20:$L105)-OFFSET(Cumulative,,2)),IF(OFFSET(Cumulative,,4)>(ROW()-ROW($O$20)),_xlfn.AGGREGATE(15,6,(ROW(OrderRange_Ref)-ROW($L$19))/(OFFSET(OrderRange_Ref,,4)>0),ROWS($L$20:$L105)-OFFSET(Cumulative,,3)),IF(OFFSET(Cumulative,,5)>(ROW()-ROW($O$20)),_xlfn.AGGREGATE(15,6,(ROW(OrderRange_Ref)-ROW($L$19))/(OFFSET(OrderRange_Ref,,5)>0),ROWS($L$20:$L105)-OFFSET(Cumulative,,4)),\"\"))))))","v":""},"","","","",""]
[null,null,null,null,null,null,null,null,null,null,null,null,null,{"$f":"IF(Cumulative>(ROW()-ROW($O$20)),_xlfn.AGGREGATE(15,6,(ROW(OrderRange_Ref)-ROW($L$19))/(OFFSET(OrderRange_Ref,,0)>0),ROWS($L$20:$L106)),IF(OFFSET(Cumulative,,1)>(ROW()-ROW($O$20)),_xlfn.AGGREGATE(15,6,(ROW(OrderRange_Ref)-ROW($L$19))/(OFFSET(OrderRange_Ref,,1)>0),ROWS($L$20:$L106)-OFFSET(Cumulative,,0)),IF(OFFSET(Cumulative,,2)>(ROW()-ROW($O$20)),_xlfn.AGGREGATE(15,6,(ROW(OrderRange_Ref)-ROW($L$19))/(OFFSET(OrderRange_Ref,,2)>0),ROWS($L$20:$L106)-OFFSET(Cumulative,,1)),IF(OFFSET(Cumulative,,3)>(ROW()-ROW($O$20)),_xlfn.AGGREGATE(15,6,(ROW(OrderRange_Ref)-ROW($L$19))/(OFFSET(OrderRange_Ref,,3)>0),ROWS($L$20:$L106)-OFFSET(Cumulative,,2)),IF(OFFSET(Cumulative,,4)>(ROW()-ROW($O$20)),_xlfn.AGGREGATE(15,6,(ROW(OrderRange_Ref)-ROW($L$19))/(OFFSET(OrderRange_Ref,,4)>0),ROWS($L$20:$L106)-OFFSET(Cumulative,,3)),IF(OFFSET(Cumulative,,5)>(ROW()-ROW($O$20)),_xlfn.AGGREGATE(15,6,(ROW(OrderRange_Ref)-ROW($L$19))/(OFFSET(OrderRange_Ref,,5)>0),ROWS($L$20:$L106)-OFFSET(Cumulative,,4)),\"\"))))))","v":""},"","","","",""]
[null,null,null,null,null,null,null,null,null,null,null,null,null,{"$f":"IF(Cumulative>(ROW()-ROW($O$20)),_xlfn.AGGREGATE(15,6,(ROW(OrderRange_Ref)-ROW($L$19))/(OFFSET(OrderRange_Ref,,0)>0),ROWS($L$20:$L107)),IF(OFFSET(Cumulative,,1)>(ROW()-ROW($O$20)),_xlfn.AGGREGATE(15,6,(ROW(OrderRange_Ref)-ROW($L$19))/(OFFSET(OrderRange_Ref,,1)>0),ROWS($L$20:$L107)-OFFSET(Cumulative,,0)),IF(OFFSET(Cumulative,,2)>(ROW()-ROW($O$20)),_xlfn.AGGREGATE(15,6,(ROW(OrderRange_Ref)-ROW($L$19))/(OFFSET(OrderRange_Ref,,2)>0),ROWS($L$20:$L107)-OFFSET(Cumulative,,1)),IF(OFFSET(Cumulative,,3)>(ROW()-ROW($O$20)),_xlfn.AGGREGATE(15,6,(ROW(OrderRange_Ref)-ROW($L$19))/(OFFSET(OrderRange_Ref,,3)>0),ROWS($L$20:$L107)-OFFSET(Cumulative,,2)),IF(OFFSET(Cumulative,,4)>(ROW()-ROW($O$20)),_xlfn.AGGREGATE(15,6,(ROW(OrderRange_Ref)-ROW($L$19))/(OFFSET(OrderRange_Ref,,4)>0),ROWS($L$20:$L107)-OFFSET(Cumulative,,3)),IF(OFFSET(Cumulative,,5)>(ROW()-ROW($O$20)),_xlfn.AGGREGATE(15,6,(ROW(OrderRange_Ref)-ROW($L$19))/(OFFSET(OrderRange_Ref,,5)>0),ROWS($L$20:$L107)-OFFSET(Cumulative,,4)),\"\"))))))","v":""},"","","","",""]
[null,null,null,null,null,null,null,null,null,null,null,null,null,{"$f":"IF(Cumulative>(ROW()-ROW($O$20)),_xlfn.AGGREGATE(15,6,(ROW(OrderRange_Ref)-ROW($L$19))/(OFFSET(OrderRange_Ref,,0)>0),ROWS($L$20:$L108)),IF(OFFSET(Cumulative,,1)>(ROW()-ROW($O$20)),_xlfn.AGGREGATE(15,6,(ROW(OrderRange_Ref)-ROW($L$19))/(OFFSET(OrderRange_Ref,,1)>0),ROWS($L$20:$L108)-OFFSET(Cumulative,,0)),IF(OFFSET(Cumulative,,2)>(ROW()-ROW($O$20)),_xlfn.AGGREGATE(15,6,(ROW(OrderRange_Ref)-ROW($L$19))/(OFFSET(OrderRange_Ref,,2)>0),ROWS($L$20:$L108)-OFFSET(Cumulative,,1)),IF(OFFSET(Cumulative,,3)>(ROW()-ROW($O$20)),_xlfn.AGGREGATE(15,6,(ROW(OrderRange_Ref)-ROW($L$19))/(OFFSET(OrderRange_Ref,,3)>0),ROWS($L$20:$L108)-OFFSET(Cumulative,,2)),IF(OFFSET(Cumulative,,4)>(ROW()-ROW($O$20)),_xlfn.AGGREGATE(15,6,(ROW(OrderRange_Ref)-ROW($L$19))/(OFFSET(OrderRange_Ref,,4)>0),ROWS($L$20:$L108)-OFFSET(Cumulative,,3)),IF(OFFSET(Cumulative,,5)>(ROW()-ROW($O$20)),_xlfn.AGGREGATE(15,6,(ROW(OrderRange_Ref)-ROW($L$19))/(OFFSET(OrderRange_Ref,,5)>0),ROWS($L$20:$L108)-OFFSET(Cumulative,,4)),\"\"))))))","v":""},"","","","",""]
[null,null,null,null,null,null,null,null,null,null,null,null,null,{"$f":"IF(Cumulative>(ROW()-ROW($O$20)),_xlfn.AGGREGATE(15,6,(ROW(OrderRange_Ref)-ROW($L$19))/(OFFSET(OrderRange_Ref,,0)>0),ROWS($L$20:$L109)),IF(OFFSET(Cumulative,,1)>(ROW()-ROW($O$20)),_xlfn.AGGREGATE(15,6,(ROW(OrderRange_Ref)-ROW($L$19))/(OFFSET(OrderRange_Ref,,1)>0),ROWS($L$20:$L109)-OFFSET(Cumulative,,0)),IF(OFFSET(Cumulative,,2)>(ROW()-ROW($O$20)),_xlfn.AGGREGATE(15,6,(ROW(OrderRange_Ref)-ROW($L$19))/(OFFSET(OrderRange_Ref,,2)>0),ROWS($L$20:$L109)-OFFSET(Cumulative,,1)),IF(OFFSET(Cumulative,,3)>(ROW()-ROW($O$20)),_xlfn.AGGREGATE(15,6,(ROW(OrderRange_Ref)-ROW($L$19))/(OFFSET(OrderRange_Ref,,3)>0),ROWS($L$20:$L109)-OFFSET(Cumulative,,2)),IF(OFFSET(Cumulative,,4)>(ROW()-ROW($O$20)),_xlfn.AGGREGATE(15,6,(ROW(OrderRange_Ref)-ROW($L$19))/(OFFSET(OrderRange_Ref,,4)>0),ROWS($L$20:$L109)-OFFSET(Cumulative,,3)),IF(OFFSET(Cumulative,,5)>(ROW()-ROW($O$20)),_xlfn.AGGREGATE(15,6,(ROW(OrderRange_Ref)-ROW($L$19))/(OFFSET(OrderRange_Ref,,5)>0),ROWS($L$20:$L109)-OFFSET(Cumulative,,4)),\"\"))))))","v":""},"","","","",""]
[null,null,null,null,null,null,null,null,null,null,null,null,null,{"$f":"IF(Cumulative>(ROW()-ROW($O$20)),_xlfn.AGGREGATE(15,6,(ROW(OrderRange_Ref)-ROW($L$19))/(OFFSET(OrderRange_Ref,,0)>0),ROWS($L$20:$L110)),IF(OFFSET(Cumulative,,1)>(ROW()-ROW($O$20)),_xlfn.AGGREGATE(15,6,(ROW(OrderRange_Ref)-ROW($L$19))/(OFFSET(OrderRange_Ref,,1)>0),ROWS($L$20:$L110)-OFFSET(Cumulative,,0)),IF(OFFSET(Cumulative,,2)>(ROW()-ROW($O$20)),_xlfn.AGGREGATE(15,6,(ROW(OrderRange_Ref)-ROW($L$19))/(OFFSET(OrderRange_Ref,,2)>0),ROWS($L$20:$L110)-OFFSET(Cumulative,,1)),IF(OFFSET(Cumulative,,3)>(ROW()-ROW($O$20)),_xlfn.AGGREGATE(15,6,(ROW(OrderRange_Ref)-ROW($L$19))/(OFFSET(OrderRange_Ref,,3)>0),ROWS($L$20:$L110)-OFFSET(Cumulative,,2)),IF(OFFSET(Cumulative,,4)>(ROW()-ROW($O$20)),_xlfn.AGGREGATE(15,6,(ROW(OrderRange_Ref)-ROW($L$19))/(OFFSET(OrderRange_Ref,,4)>0),ROWS($L$20:$L110)-OFFSET(Cumulative,,3)),IF(OFFSET(Cumulative,,5)>(ROW()-ROW($O$20)),_xlfn.AGGREGATE(15,6,(ROW(OrderRange_Ref)-ROW($L$19))/(OFFSET(OrderRange_Ref,,5)>0),ROWS($L$20:$L110)-OFFSET(Cumulative,,4)),\"\"))))))","v":""},"","","","",""]
[null,null,null,null,null,null,null,null,null,null,null,null,null,{"$f":"IF(Cumulative>(ROW()-ROW($O$20)),_xlfn.AGGREGATE(15,6,(ROW(OrderRange_Ref)-ROW($L$19))/(OFFSET(OrderRange_Ref,,0)>0),ROWS($L$20:$L111)),IF(OFFSET(Cumulative,,1)>(ROW()-ROW($O$20)),_xlfn.AGGREGATE(15,6,(ROW(OrderRange_Ref)-ROW($L$19))/(OFFSET(OrderRange_Ref,,1)>0),ROWS($L$20:$L111)-OFFSET(Cumulative,,0)),IF(OFFSET(Cumulative,,2)>(ROW()-ROW($O$20)),_xlfn.AGGREGATE(15,6,(ROW(OrderRange_Ref)-ROW($L$19))/(OFFSET(OrderRange_Ref,,2)>0),ROWS($L$20:$L111)-OFFSET(Cumulative,,1)),IF(OFFSET(Cumulative,,3)>(ROW()-ROW($O$20)),_xlfn.AGGREGATE(15,6,(ROW(OrderRange_Ref)-ROW($L$19))/(OFFSET(OrderRange_Ref,,3)>0),ROWS($L$20:$L111)-OFFSET(Cumulative,,2)),IF(OFFSET(Cumulative,,4)>(ROW()-ROW($O$20)),_xlfn.AGGREGATE(15,6,(ROW(OrderRange_Ref)-ROW($L$19))/(OFFSET(OrderRange_Ref,,4)>0),ROWS($L$20:$L111)-OFFSET(Cumulative,,3)),IF(OFFSET(Cumulative,,5)>(ROW()-ROW($O$20)),_xlfn.AGGREGATE(15,6,(ROW(OrderRange_Ref)-ROW($L$19))/(OFFSET(OrderRange_Ref,,5)>0),ROWS($L$20:$L111)-OFFSET(Cumulative,,4)),\"\"))))))","v":""},"","","","",""]
[null,null,null,null,null,null,null,null,null,null,null,null,null,{"$f":"IF(Cumulative>(ROW()-ROW($O$20)),_xlfn.AGGREGATE(15,6,(ROW(OrderRange_Ref)-ROW($L$19))/(OFFSET(OrderRange_Ref,,0)>0),ROWS($L$20:$L112)),IF(OFFSET(Cumulative,,1)>(ROW()-ROW($O$20)),_xlfn.AGGREGATE(15,6,(ROW(OrderRange_Ref)-ROW($L$19))/(OFFSET(OrderRange_Ref,,1)>0),ROWS($L$20:$L112)-OFFSET(Cumulative,,0)),IF(OFFSET(Cumulative,,2)>(ROW()-ROW($O$20)),_xlfn.AGGREGATE(15,6,(ROW(OrderRange_Ref)-ROW($L$19))/(OFFSET(OrderRange_Ref,,2)>0),ROWS($L$20:$L112)-OFFSET(Cumulative,,1)),IF(OFFSET(Cumulative,,3)>(ROW()-ROW($O$20)),_xlfn.AGGREGATE(15,6,(ROW(OrderRange_Ref)-ROW($L$19))/(OFFSET(OrderRange_Ref,,3)>0),ROWS($L$20:$L112)-OFFSET(Cumulative,,2)),IF(OFFSET(Cumulative,,4)>(ROW()-ROW($O$20)),_xlfn.AGGREGATE(15,6,(ROW(OrderRange_Ref)-ROW($L$19))/(OFFSET(OrderRange_Ref,,4)>0),ROWS($L$20:$L112)-OFFSET(Cumulative,,3)),IF(OFFSET(Cumulative,,5)>(ROW()-ROW($O$20)),_xlfn.AGGREGATE(15,6,(ROW(OrderRange_Ref)-ROW($L$19))/(OFFSET(OrderRange_Ref,,5)>0),ROWS($L$20:$L112)-OFFSET(Cumulative,,4)),\"\"))))))","v":""},"","","","",""]
[null,null,null,null,null,null,null,null,null,null,null,null,null,{"$f":"IF(Cumulative>(ROW()-ROW($O$20)),_xlfn.AGGREGATE(15,6,(ROW(OrderRange_Ref)-ROW($L$19))/(OFFSET(OrderRange_Ref,,0)>0),ROWS($L$20:$L113)),IF(OFFSET(Cumulative,,1)>(ROW()-ROW($O$20)),_xlfn.AGGREGATE(15,6,(ROW(OrderRange_Ref)-ROW($L$19))/(OFFSET(OrderRange_Ref,,1)>0),ROWS($L$20:$L113)-OFFSET(Cumulative,,0)),IF(OFFSET(Cumulative,,2)>(ROW()-ROW($O$20)),_xlfn.AGGREGATE(15,6,(ROW(OrderRange_Ref)-ROW($L$19))/(OFFSET(OrderRange_Ref,,2)>0),ROWS($L$20:$L113)-OFFSET(Cumulative,,1)),IF(OFFSET(Cumulative,,3)>(ROW()-ROW($O$20)),_xlfn.AGGREGATE(15,6,(ROW(OrderRange_Ref)-ROW($L$19))/(OFFSET(OrderRange_Ref,,3)>0),ROWS($L$20:$L113)-OFFSET(Cumulative,,2)),IF(OFFSET(Cumulative,,4)>(ROW()-ROW($O$20)),_xlfn.AGGREGATE(15,6,(ROW(OrderRange_Ref)-ROW($L$19))/(OFFSET(OrderRange_Ref,,4)>0),ROWS($L$20:$L113)-OFFSET(Cumulative,,3)),IF(OFFSET(Cumulative,,5)>(ROW()-ROW($O$20)),_xlfn.AGGREGATE(15,6,(ROW(OrderRange_Ref)-ROW($L$19))/(OFFSET(OrderRange_Ref,,5)>0),ROWS($L$20:$L113)-OFFSET(Cumulative,,4)),\"\"))))))","v":""},"","","","",""]
[null,null,null,null,null,null,null,null,null,null,null,null,null,{"$f":"IF(Cumulative>(ROW()-ROW($O$20)),_xlfn.AGGREGATE(15,6,(ROW(OrderRange_Ref)-ROW($L$19))/(OFFSET(OrderRange_Ref,,0)>0),ROWS($L$20:$L114)),IF(OFFSET(Cumulative,,1)>(ROW()-ROW($O$20)),_xlfn.AGGREGATE(15,6,(ROW(OrderRange_Ref)-ROW($L$19))/(OFFSET(OrderRange_Ref,,1)>0),ROWS($L$20:$L114)-OFFSET(Cumulative,,0)),IF(OFFSET(Cumulative,,2)>(ROW()-ROW($O$20)),_xlfn.AGGREGATE(15,6,(ROW(OrderRange_Ref)-ROW($L$19))/(OFFSET(OrderRange_Ref,,2)>0),ROWS($L$20:$L114)-OFFSET(Cumulative,,1)),IF(OFFSET(Cumulative,,3)>(ROW()-ROW($O$20)),_xlfn.AGGREGATE(15,6,(ROW(OrderRange_Ref)-ROW($L$19))/(OFFSET(OrderRange_Ref,,3)>0),ROWS($L$20:$L114)-OFFSET(Cumulative,,2)),IF(OFFSET(Cumulative,,4)>(ROW()-ROW($O$20)),_xlfn.AGGREGATE(15,6,(ROW(OrderRange_Ref)-ROW($L$19))/(OFFSET(OrderRange_Ref,,4)>0),ROWS($L$20:$L114)-OFFSET(Cumulative,,3)),IF(OFFSET(Cumulative,,5)>(ROW()-ROW($O$20)),_xlfn.AGGREGATE(15,6,(ROW(OrderRange_Ref)-ROW($L$19))/(OFFSET(OrderRange_Ref,,5)>0),ROWS($L$20:$L114)-OFFSET(Cumulative,,4)),\"\"))))))","v":""},"","","","",""]
[null,null,null,null,null,null,null,null,null,null,null,null,null,{"$f":"IF(Cumulative>(ROW()-ROW($O$20)),_xlfn.AGGREGATE(15,6,(ROW(OrderRange_Ref)-ROW($L$19))/(OFFSET(OrderRange_Ref,,0)>0),ROWS($L$20:$L115)),IF(OFFSET(Cumulative,,1)>(ROW()-ROW($O$20)),_xlfn.AGGREGATE(15,6,(ROW(OrderRange_Ref)-ROW($L$19))/(OFFSET(OrderRange_Ref,,1)>0),ROWS($L$20:$L115)-OFFSET(Cumulative,,0)),IF(OFFSET(Cumulative,,2)>(ROW()-ROW($O$20)),_xlfn.AGGREGATE(15,6,(ROW(OrderRange_Ref)-ROW($L$19))/(OFFSET(OrderRange_Ref,,2)>0),ROWS($L$20:$L115)-OFFSET(Cumulative,,1)),IF(OFFSET(Cumulative,,3)>(ROW()-ROW($O$20)),_xlfn.AGGREGATE(15,6,(ROW(OrderRange_Ref)-ROW($L$19))/(OFFSET(OrderRange_Ref,,3)>0),ROWS($L$20:$L115)-OFFSET(Cumulative,,2)),IF(OFFSET(Cumulative,,4)>(ROW()-ROW($O$20)),_xlfn.AGGREGATE(15,6,(ROW(OrderRange_Ref)-ROW($L$19))/(OFFSET(OrderRange_Ref,,4)>0),ROWS($L$20:$L115)-OFFSET(Cumulative,,3)),IF(OFFSET(Cumulative,,5)>(ROW()-ROW($O$20)),_xlfn.AGGREGATE(15,6,(ROW(OrderRange_Ref)-ROW($L$19))/(OFFSET(OrderRange_Ref,,5)>0),ROWS($L$20:$L115)-OFFSET(Cumulative,,4)),\"\"))))))","v":""},"","","","",""]
[null,null,null,null,null,null,null,null,null,null,null,null,null,{"$f":"IF(Cumulative>(ROW()-ROW($O$20)),_xlfn.AGGREGATE(15,6,(ROW(OrderRange_Ref)-ROW($L$19))/(OFFSET(OrderRange_Ref,,0)>0),ROWS($L$20:$L116)),IF(OFFSET(Cumulative,,1)>(ROW()-ROW($O$20)),_xlfn.AGGREGATE(15,6,(ROW(OrderRange_Ref)-ROW($L$19))/(OFFSET(OrderRange_Ref,,1)>0),ROWS($L$20:$L116)-OFFSET(Cumulative,,0)),IF(OFFSET(Cumulative,,2)>(ROW()-ROW($O$20)),_xlfn.AGGREGATE(15,6,(ROW(OrderRange_Ref)-ROW($L$19))/(OFFSET(OrderRange_Ref,,2)>0),ROWS($L$20:$L116)-OFFSET(Cumulative,,1)),IF(OFFSET(Cumulative,,3)>(ROW()-ROW($O$20)),_xlfn.AGGREGATE(15,6,(ROW(OrderRange_Ref)-ROW($L$19))/(OFFSET(OrderRange_Ref,,3)>0),ROWS($L$20:$L116)-OFFSET(Cumulative,,2)),IF(OFFSET(Cumulative,,4)>(ROW()-ROW($O$20)),_xlfn.AGGREGATE(15,6,(ROW(OrderRange_Ref)-ROW($L$19))/(OFFSET(OrderRange_Ref,,4)>0),ROWS($L$20:$L116)-OFFSET(Cumulative,,3)),IF(OFFSET(Cumulative,,5)>(ROW()-ROW($O$20)),_xlfn.AGGREGATE(15,6,(ROW(OrderRange_Ref)-ROW($L$19))/(OFFSET(OrderRange_Ref,,5)>0),ROWS($L$20:$L116)-OFFSET(Cumulative,,4)),\"\"))))))","v":""},"","","","",""]
[null,null,null,null,null,null,null,null,null,null,null,null,null,{"$f":"IF(Cumulative>(ROW()-ROW($O$20)),_xlfn.AGGREGATE(15,6,(ROW(OrderRange_Ref)-ROW($L$19))/(OFFSET(OrderRange_Ref,,0)>0),ROWS($L$20:$L117)),IF(OFFSET(Cumulative,,1)>(ROW()-ROW($O$20)),_xlfn.AGGREGATE(15,6,(ROW(OrderRange_Ref)-ROW($L$19))/(OFFSET(OrderRange_Ref,,1)>0),ROWS($L$20:$L117)-OFFSET(Cumulative,,0)),IF(OFFSET(Cumulative,,2)>(ROW()-ROW($O$20)),_xlfn.AGGREGATE(15,6,(ROW(OrderRange_Ref)-ROW($L$19))/(OFFSET(OrderRange_Ref,,2)>0),ROWS($L$20:$L117)-OFFSET(Cumulative,,1)),IF(OFFSET(Cumulative,,3)>(ROW()-ROW($O$20)),_xlfn.AGGREGATE(15,6,(ROW(OrderRange_Ref)-ROW($L$19))/(OFFSET(OrderRange_Ref,,3)>0),ROWS($L$20:$L117)-OFFSET(Cumulative,,2)),IF(OFFSET(Cumulative,,4)>(ROW()-ROW($O$20)),_xlfn.AGGREGATE(15,6,(ROW(OrderRange_Ref)-ROW($L$19))/(OFFSET(OrderRange_Ref,,4)>0),ROWS($L$20:$L117)-OFFSET(Cumulative,,3)),IF(OFFSET(Cumulative,,5)>(ROW()-ROW($O$20)),_xlfn.AGGREGATE(15,6,(ROW(OrderRange_Ref)-ROW($L$19))/(OFFSET(OrderRange_Ref,,5)>0),ROWS($L$20:$L117)-OFFSET(Cumulative,,4)),\"\"))))))","v":""},"","","","",""]
[null,null,null,null,null,null,null,null,null,null,null,null,null,{"$f":"IF(Cumulative>(ROW()-ROW($O$20)),_xlfn.AGGREGATE(15,6,(ROW(OrderRange_Ref)-ROW($L$19))/(OFFSET(OrderRange_Ref,,0)>0),ROWS($L$20:$L118)),IF(OFFSET(Cumulative,,1)>(ROW()-ROW($O$20)),_xlfn.AGGREGATE(15,6,(ROW(OrderRange_Ref)-ROW($L$19))/(OFFSET(OrderRange_Ref,,1)>0),ROWS($L$20:$L118)-OFFSET(Cumulative,,0)),IF(OFFSET(Cumulative,,2)>(ROW()-ROW($O$20)),_xlfn.AGGREGATE(15,6,(ROW(OrderRange_Ref)-ROW($L$19))/(OFFSET(OrderRange_Ref,,2)>0),ROWS($L$20:$L118)-OFFSET(Cumulative,,1)),IF(OFFSET(Cumulative,,3)>(ROW()-ROW($O$20)),_xlfn.AGGREGATE(15,6,(ROW(OrderRange_Ref)-ROW($L$19))/(OFFSET(OrderRange_Ref,,3)>0),ROWS($L$20:$L118)-OFFSET(Cumulative,,2)),IF(OFFSET(Cumulative,,4)>(ROW()-ROW($O$20)),_xlfn.AGGREGATE(15,6,(ROW(OrderRange_Ref)-ROW($L$19))/(OFFSET(OrderRange_Ref,,4)>0),ROWS($L$20:$L118)-OFFSET(Cumulative,,3)),IF(OFFSET(Cumulative,,5)>(ROW()-ROW($O$20)),_xlfn.AGGREGATE(15,6,(ROW(OrderRange_Ref)-ROW($L$19))/(OFFSET(OrderRange_Ref,,5)>0),ROWS($L$20:$L118)-OFFSET(Cumulative,,4)),\"\"))))))","v":""},"","","","",""]
[null,null,null,null,null,null,null,null,null,null,null,null,null,{"$f":"IF(Cumulative>(ROW()-ROW($O$20)),_xlfn.AGGREGATE(15,6,(ROW(OrderRange_Ref)-ROW($L$19))/(OFFSET(OrderRange_Ref,,0)>0),ROWS($L$20:$L119)),IF(OFFSET(Cumulative,,1)>(ROW()-ROW($O$20)),_xlfn.AGGREGATE(15,6,(ROW(OrderRange_Ref)-ROW($L$19))/(OFFSET(OrderRange_Ref,,1)>0),ROWS($L$20:$L119)-OFFSET(Cumulative,,0)),IF(OFFSET(Cumulative,,2)>(ROW()-ROW($O$20)),_xlfn.AGGREGATE(15,6,(ROW(OrderRange_Ref)-ROW($L$19))/(OFFSET(OrderRange_Ref,,2)>0),ROWS($L$20:$L119)-OFFSET(Cumulative,,1)),IF(OFFSET(Cumulative,,3)>(ROW()-ROW($O$20)),_xlfn.AGGREGATE(15,6,(ROW(OrderRange_Ref)-ROW($L$19))/(OFFSET(OrderRange_Ref,,3)>0),ROWS($L$20:$L119)-OFFSET(Cumulative,,2)),IF(OFFSET(Cumulative,,4)>(ROW()-ROW($O$20)),_xlfn.AGGREGATE(15,6,(ROW(OrderRange_Ref)-ROW($L$19))/(OFFSET(OrderRange_Ref,,4)>0),ROWS($L$20:$L119)-OFFSET(Cumulative,,3)),IF(OFFSET(Cumulative,,5)>(ROW()-ROW($O$20)),_xlfn.AGGREGATE(15,6,(ROW(OrderRange_Ref)-ROW($L$19))/(OFFSET(OrderRange_Ref,,5)>0),ROWS($L$20:$L119)-OFFSET(Cumulative,,4)),\"\"))))))","v":""},"","","","",""]
[null,null,null,null,null,null,null,null,null,null,null,null,null,{"$f":"IF(Cumulative>(ROW()-ROW($O$20)),_xlfn.AGGREGATE(15,6,(ROW(OrderRange_Ref)-ROW($L$19))/(OFFSET(OrderRange_Ref,,0)>0),ROWS($L$20:$L120)),IF(OFFSET(Cumulative,,1)>(ROW()-ROW($O$20)),_xlfn.AGGREGATE(15,6,(ROW(OrderRange_Ref)-ROW($L$19))/(OFFSET(OrderRange_Ref,,1)>0),ROWS($L$20:$L120)-OFFSET(Cumulative,,0)),IF(OFFSET(Cumulative,,2)>(ROW()-ROW($O$20)),_xlfn.AGGREGATE(15,6,(ROW(OrderRange_Ref)-ROW($L$19))/(OFFSET(OrderRange_Ref,,2)>0),ROWS($L$20:$L120)-OFFSET(Cumulative,,1)),IF(OFFSET(Cumulative,,3)>(ROW()-ROW($O$20)),_xlfn.AGGREGATE(15,6,(ROW(OrderRange_Ref)-ROW($L$19))/(OFFSET(OrderRange_Ref,,3)>0),ROWS($L$20:$L120)-OFFSET(Cumulative,,2)),IF(OFFSET(Cumulative,,4)>(ROW()-ROW($O$20)),_xlfn.AGGREGATE(15,6,(ROW(OrderRange_Ref)-ROW($L$19))/(OFFSET(OrderRange_Ref,,4)>0),ROWS($L$20:$L120)-OFFSET(Cumulative,,3)),IF(OFFSET(Cumulative,,5)>(ROW()-ROW($O$20)),_xlfn.AGGREGATE(15,6,(ROW(OrderRange_Ref)-ROW($L$19))/(OFFSET(OrderRange_Ref,,5)>0),ROWS($L$20:$L120)-OFFSET(Cumulative,,4)),\"\"))))))","v":""},"","","","",""]
[null,null,null,null,null,null,null,null,null,null,null,null,null,{"$f":"IF(Cumulative>(ROW()-ROW($O$20)),_xlfn.AGGREGATE(15,6,(ROW(OrderRange_Ref)-ROW($L$19))/(OFFSET(OrderRange_Ref,,0)>0),ROWS($L$20:$L121)),IF(OFFSET(Cumulative,,1)>(ROW()-ROW($O$20)),_xlfn.AGGREGATE(15,6,(ROW(OrderRange_Ref)-ROW($L$19))/(OFFSET(OrderRange_Ref,,1)>0),ROWS($L$20:$L121)-OFFSET(Cumulative,,0)),IF(OFFSET(Cumulative,,2)>(ROW()-ROW($O$20)),_xlfn.AGGREGATE(15,6,(ROW(OrderRange_Ref)-ROW($L$19))/(OFFSET(OrderRange_Ref,,2)>0),ROWS($L$20:$L121)-OFFSET(Cumulative,,1)),IF(OFFSET(Cumulative,,3)>(ROW()-ROW($O$20)),_xlfn.AGGREGATE(15,6,(ROW(OrderRange_Ref)-ROW($L$19))/(OFFSET(OrderRange_Ref,,3)>0),ROWS($L$20:$L121)-OFFSET(Cumulative,,2)),IF(OFFSET(Cumulative,,4)>(ROW()-ROW($O$20)),_xlfn.AGGREGATE(15,6,(ROW(OrderRange_Ref)-ROW($L$19))/(OFFSET(OrderRange_Ref,,4)>0),ROWS($L$20:$L121)-OFFSET(Cumulative,,3)),IF(OFFSET(Cumulative,,5)>(ROW()-ROW($O$20)),_xlfn.AGGREGATE(15,6,(ROW(OrderRange_Ref)-ROW($L$19))/(OFFSET(OrderRange_Ref,,5)>0),ROWS($L$20:$L121)-OFFSET(Cumulative,,4)),\"\"))))))","v":""},"","","","",""]
[null,null,null,null,null,null,null,null,null,null,null,null,null,{"$f":"IF(Cumulative>(ROW()-ROW($O$20)),_xlfn.AGGREGATE(15,6,(ROW(OrderRange_Ref)-ROW($L$19))/(OFFSET(OrderRange_Ref,,0)>0),ROWS($L$20:$L122)),IF(OFFSET(Cumulative,,1)>(ROW()-ROW($O$20)),_xlfn.AGGREGATE(15,6,(ROW(OrderRange_Ref)-ROW($L$19))/(OFFSET(OrderRange_Ref,,1)>0),ROWS($L$20:$L122)-OFFSET(Cumulative,,0)),IF(OFFSET(Cumulative,,2)>(ROW()-ROW($O$20)),_xlfn.AGGREGATE(15,6,(ROW(OrderRange_Ref)-ROW($L$19))/(OFFSET(OrderRange_Ref,,2)>0),ROWS($L$20:$L122)-OFFSET(Cumulative,,1)),IF(OFFSET(Cumulative,,3)>(ROW()-ROW($O$20)),_xlfn.AGGREGATE(15,6,(ROW(OrderRange_Ref)-ROW($L$19))/(OFFSET(OrderRange_Ref,,3)>0),ROWS($L$20:$L122)-OFFSET(Cumulative,,2)),IF(OFFSET(Cumulative,,4)>(ROW()-ROW($O$20)),_xlfn.AGGREGATE(15,6,(ROW(OrderRange_Ref)-ROW($L$19))/(OFFSET(OrderRange_Ref,,4)>0),ROWS($L$20:$L122)-OFFSET(Cumulative,,3)),IF(OFFSET(Cumulative,,5)>(ROW()-ROW($O$20)),_xlfn.AGGREGATE(15,6,(ROW(OrderRange_Ref)-ROW($L$19))/(OFFSET(OrderRange_Ref,,5)>0),ROWS($L$20:$L122)-OFFSET(Cumulative,,4)),\"\"))))))","v":""},"","","","",""]
[null,null,null,null,null,null,null,null,null,null,null,null,null,{"$f":"IF(Cumulative>(ROW()-ROW($O$20)),_xlfn.AGGREGATE(15,6,(ROW(OrderRange_Ref)-ROW($L$19))/(OFFSET(OrderRange_Ref,,0)>0),ROWS($L$20:$L123)),IF(OFFSET(Cumulative,,1)>(ROW()-ROW($O$20)),_xlfn.AGGREGATE(15,6,(ROW(OrderRange_Ref)-ROW($L$19))/(OFFSET(OrderRange_Ref,,1)>0),ROWS($L$20:$L123)-OFFSET(Cumulative,,0)),IF(OFFSET(Cumulative,,2)>(ROW()-ROW($O$20)),_xlfn.AGGREGATE(15,6,(ROW(OrderRange_Ref)-ROW($L$19))/(OFFSET(OrderRange_Ref,,2)>0),ROWS($L$20:$L123)-OFFSET(Cumulative,,1)),IF(OFFSET(Cumulative,,3)>(ROW()-ROW($O$20)),_xlfn.AGGREGATE(15,6,(ROW(OrderRange_Ref)-ROW($L$19))/(OFFSET(OrderRange_Ref,,3)>0),ROWS($L$20:$L123)-OFFSET(Cumulative,,2)),IF(OFFSET(Cumulative,,4)>(ROW()-ROW($O$20)),_xlfn.AGGREGATE(15,6,(ROW(OrderRange_Ref)-ROW($L$19))/(OFFSET(OrderRange_Ref,,4)>0),ROWS($L$20:$L123)-OFFSET(Cumulative,,3)),IF(OFFSET(Cumulative,,5)>(ROW()-ROW($O$20)),_xlfn.AGGREGATE(15,6,(ROW(OrderRange_Ref)-ROW($L$19))/(OFFSET(OrderRange_Ref,,5)>0),ROWS($L$20:$L123)-OFFSET(Cumulative,,4)),\"\"))))))","v":""},"","","","",""]
[null,null,null,null,null,null,null,null,null,null,null,null,null,{"$f":"IF(Cumulative>(ROW()-ROW($O$20)),_xlfn.AGGREGATE(15,6,(ROW(OrderRange_Ref)-ROW($L$19))/(OFFSET(OrderRange_Ref,,0)>0),ROWS($L$20:$L124)),IF(OFFSET(Cumulative,,1)>(ROW()-ROW($O$20)),_xlfn.AGGREGATE(15,6,(ROW(OrderRange_Ref)-ROW($L$19))/(OFFSET(OrderRange_Ref,,1)>0),ROWS($L$20:$L124)-OFFSET(Cumulative,,0)),IF(OFFSET(Cumulative,,2)>(ROW()-ROW($O$20)),_xlfn.AGGREGATE(15,6,(ROW(OrderRange_Ref)-ROW($L$19))/(OFFSET(OrderRange_Ref,,2)>0),ROWS($L$20:$L124)-OFFSET(Cumulative,,1)),IF(OFFSET(Cumulative,,3)>(ROW()-ROW($O$20)),_xlfn.AGGREGATE(15,6,(ROW(OrderRange_Ref)-ROW($L$19))/(OFFSET(OrderRange_Ref,,3)>0),ROWS($L$20:$L124)-OFFSET(Cumulative,,2)),IF(OFFSET(Cumulative,,4)>(ROW()-ROW($O$20)),_xlfn.AGGREGATE(15,6,(ROW(OrderRange_Ref)-ROW($L$19))/(OFFSET(OrderRange_Ref,,4)>0),ROWS($L$20:$L124)-OFFSET(Cumulative,,3)),IF(OFFSET(Cumulative,,5)>(ROW()-ROW($O$20)),_xlfn.AGGREGATE(15,6,(ROW(OrderRange_Ref)-ROW($L$19))/(OFFSET(OrderRange_Ref,,5)>0),ROWS($L$20:$L124)-OFFSET(Cumulative,,4)),\"\"))))))","v":""},"","","","",""]
[null,null,null,null,null,null,null,null,null,null,null,null,null,{"$f":"IF(Cumulative>(ROW()-ROW($O$20)),_xlfn.AGGREGATE(15,6,(ROW(OrderRange_Ref)-ROW($L$19))/(OFFSET(OrderRange_Ref,,0)>0),ROWS($L$20:$L125)),IF(OFFSET(Cumulative,,1)>(ROW()-ROW($O$20)),_xlfn.AGGREGATE(15,6,(ROW(OrderRange_Ref)-ROW($L$19))/(OFFSET(OrderRange_Ref,,1)>0),ROWS($L$20:$L125)-OFFSET(Cumulative,,0)),IF(OFFSET(Cumulative,,2)>(ROW()-ROW($O$20)),_xlfn.AGGREGATE(15,6,(ROW(OrderRange_Ref)-ROW($L$19))/(OFFSET(OrderRange_Ref,,2)>0),ROWS($L$20:$L125)-OFFSET(Cumulative,,1)),IF(OFFSET(Cumulative,,3)>(ROW()-ROW($O$20)),_xlfn.AGGREGATE(15,6,(ROW(OrderRange_Ref)-ROW($L$19))/(OFFSET(OrderRange_Ref,,3)>0),ROWS($L$20:$L125)-OFFSET(Cumulative,,2)),IF(OFFSET(Cumulative,,4)>(ROW()-ROW($O$20)),_xlfn.AGGREGATE(15,6,(ROW(OrderRange_Ref)-ROW($L$19))/(OFFSET(OrderRange_Ref,,4)>0),ROWS($L$20:$L125)-OFFSET(Cumulative,,3)),IF(OFFSET(Cumulative,,5)>(ROW()-ROW($O$20)),_xlfn.AGGREGATE(15,6,(ROW(OrderRange_Ref)-ROW($L$19))/(OFFSET(OrderRange_Ref,,5)>0),ROWS($L$20:$L125)-OFFSET(Cumulative,,4)),\"\"))))))","v":""},"","","","",""]
[null,null,null,null,null,null,null,null,null,null,null,null,null,{"$f":"IF(Cumulative>(ROW()-ROW($O$20)),_xlfn.AGGREGATE(15,6,(ROW(OrderRange_Ref)-ROW($L$19))/(OFFSET(OrderRange_Ref,,0)>0),ROWS($L$20:$L126)),IF(OFFSET(Cumulative,,1)>(ROW()-ROW($O$20)),_xlfn.AGGREGATE(15,6,(ROW(OrderRange_Ref)-ROW($L$19))/(OFFSET(OrderRange_Ref,,1)>0),ROWS($L$20:$L126)-OFFSET(Cumulative,,0)),IF(OFFSET(Cumulative,,2)>(ROW()-ROW($O$20)),_xlfn.AGGREGATE(15,6,(ROW(OrderRange_Ref)-ROW($L$19))/(OFFSET(OrderRange_Ref,,2)>0),ROWS($L$20:$L126)-OFFSET(Cumulative,,1)),IF(OFFSET(Cumulative,,3)>(ROW()-ROW($O$20)),_xlfn.AGGREGATE(15,6,(ROW(OrderRange_Ref)-ROW($L$19))/(OFFSET(OrderRange_Ref,,3)>0),ROWS($L$20:$L126)-OFFSET(Cumulative,,2)),IF(OFFSET(Cumulative,,4)>(ROW()-ROW($O$20)),_xlfn.AGGREGATE(15,6,(ROW(OrderRange_Ref)-ROW($L$19))/(OFFSET(OrderRange_Ref,,4)>0),ROWS($L$20:$L126)-OFFSET(Cumulative,,3)),IF(OFFSET(Cumulative,,5)>(ROW()-ROW($O$20)),_xlfn.AGGREGATE(15,6,(ROW(OrderRange_Ref)-ROW($L$19))/(OFFSET(OrderRange_Ref,,5)>0),ROWS($L$20:$L126)-OFFSET(Cumulative,,4)),\"\"))))))","v":""},"","","","",""]
[null,null,null,null,null,null,null,null,null,null,null,null,null,{"$f":"IF(Cumulative>(ROW()-ROW($O$20)),_xlfn.AGGREGATE(15,6,(ROW(OrderRange_Ref)-ROW($L$19))/(OFFSET(OrderRange_Ref,,0)>0),ROWS($L$20:$L127)),IF(OFFSET(Cumulative,,1)>(ROW()-ROW($O$20)),_xlfn.AGGREGATE(15,6,(ROW(OrderRange_Ref)-ROW($L$19))/(OFFSET(OrderRange_Ref,,1)>0),ROWS($L$20:$L127)-OFFSET(Cumulative,,0)),IF(OFFSET(Cumulative,,2)>(ROW()-ROW($O$20)),_xlfn.AGGREGATE(15,6,(ROW(OrderRange_Ref)-ROW($L$19))/(OFFSET(OrderRange_Ref,,2)>0),ROWS($L$20:$L127)-OFFSET(Cumulative,,1)),IF(OFFSET(Cumulative,,3)>(ROW()-ROW($O$20)),_xlfn.AGGREGATE(15,6,(ROW(OrderRange_Ref)-ROW($L$19))/(OFFSET(OrderRange_Ref,,3)>0),ROWS($L$20:$L127)-OFFSET(Cumulative,,2)),IF(OFFSET(Cumulative,,4)>(ROW()-ROW($O$20)),_xlfn.AGGREGATE(15,6,(ROW(OrderRange_Ref)-ROW($L$19))/(OFFSET(OrderRange_Ref,,4)>0),ROWS($L$20:$L127)-OFFSET(Cumulative,,3)),IF(OFFSET(Cumulative,,5)>(ROW()-ROW($O$20)),_xlfn.AGGREGATE(15,6,(ROW(OrderRange_Ref)-ROW($L$19))/(OFFSET(OrderRange_Ref,,5)>0),ROWS($L$20:$L127)-OFFSET(Cumulative,,4)),\"\"))))))","v":""},"","","","",""]
[null,null,null,null,null,null,null,null,null,null,null,null,null,{"$f":"IF(Cumulative>(ROW()-ROW($O$20)),_xlfn.AGGREGATE(15,6,(ROW(OrderRange_Ref)-ROW($L$19))/(OFFSET(OrderRange_Ref,,0)>0),ROWS($L$20:$L128)),IF(OFFSET(Cumulative,,1)>(ROW()-ROW($O$20)),_xlfn.AGGREGATE(15,6,(ROW(OrderRange_Ref)-ROW($L$19))/(OFFSET(OrderRange_Ref,,1)>0),ROWS($L$20:$L128)-OFFSET(Cumulative,,0)),IF(OFFSET(Cumulative,,2)>(ROW()-ROW($O$20)),_xlfn.AGGREGATE(15,6,(ROW(OrderRange_Ref)-ROW($L$19))/(OFFSET(OrderRange_Ref,,2)>0),ROWS($L$20:$L128)-OFFSET(Cumulative,,1)),IF(OFFSET(Cumulative,,3)>(ROW()-ROW($O$20)),_xlfn.AGGREGATE(15,6,(ROW(OrderRange_Ref)-ROW($L$19))/(OFFSET(OrderRange_Ref,,3)>0),ROWS($L$20:$L128)-OFFSET(Cumulative,,2)),IF(OFFSET(Cumulative,,4)>(ROW()-ROW($O$20)),_xlfn.AGGREGATE(15,6,(ROW(OrderRange_Ref)-ROW($L$19))/(OFFSET(OrderRange_Ref,,4)>0),ROWS($L$20:$L128)-OFFSET(Cumulative,,3)),IF(OFFSET(Cumulative,,5)>(ROW()-ROW($O$20)),_xlfn.AGGREGATE(15,6,(ROW(OrderRange_Ref)-ROW($L$19))/(OFFSET(OrderRange_Ref,,5)>0),ROWS($L$20:$L128)-OFFSET(Cumulative,,4)),\"\"))))))","v":""},"","","","",""]
[null,null,null,null,null,null,null,null,null,null,null,null,null,{"$f":"IF(Cumulative>(ROW()-ROW($O$20)),_xlfn.AGGREGATE(15,6,(ROW(OrderRange_Ref)-ROW($L$19))/(OFFSET(OrderRange_Ref,,0)>0),ROWS($L$20:$L129)),IF(OFFSET(Cumulative,,1)>(ROW()-ROW($O$20)),_xlfn.AGGREGATE(15,6,(ROW(OrderRange_Ref)-ROW($L$19))/(OFFSET(OrderRange_Ref,,1)>0),ROWS($L$20:$L129)-OFFSET(Cumulative,,0)),IF(OFFSET(Cumulative,,2)>(ROW()-ROW($O$20)),_xlfn.AGGREGATE(15,6,(ROW(OrderRange_Ref)-ROW($L$19))/(OFFSET(OrderRange_Ref,,2)>0),ROWS($L$20:$L129)-OFFSET(Cumulative,,1)),IF(OFFSET(Cumulative,,3)>(ROW()-ROW($O$20)),_xlfn.AGGREGATE(15,6,(ROW(OrderRange_Ref)-ROW($L$19))/(OFFSET(OrderRange_Ref,,3)>0),ROWS($L$20:$L129)-OFFSET(Cumulative,,2)),IF(OFFSET(Cumulative,,4)>(ROW()-ROW($O$20)),_xlfn.AGGREGATE(15,6,(ROW(OrderRange_Ref)-ROW($L$19))/(OFFSET(OrderRange_Ref,,4)>0),ROWS($L$20:$L129)-OFFSET(Cumulative,,3)),IF(OFFSET(Cumulative,,5)>(ROW()-ROW($O$20)),_xlfn.AGGREGATE(15,6,(ROW(OrderRange_Ref)-ROW($L$19))/(OFFSET(OrderRange_Ref,,5)>0),ROWS($L$20:$L129)-OFFSET(Cumulative,,4)),\"\"))))))","v":""},"","","","",""]
[null,null,null,null,null,null,null,null,null,null,null,null,null,{"$f":"IF(Cumulative>(ROW()-ROW($O$20)),_xlfn.AGGREGATE(15,6,(ROW(OrderRange_Ref)-ROW($L$19))/(OFFSET(OrderRange_Ref,,0)>0),ROWS($L$20:$L130)),IF(OFFSET(Cumulative,,1)>(ROW()-ROW($O$20)),_xlfn.AGGREGATE(15,6,(ROW(OrderRange_Ref)-ROW($L$19))/(OFFSET(OrderRange_Ref,,1)>0),ROWS($L$20:$L130)-OFFSET(Cumulative,,0)),IF(OFFSET(Cumulative,,2)>(ROW()-ROW($O$20)),_xlfn.AGGREGATE(15,6,(ROW(OrderRange_Ref)-ROW($L$19))/(OFFSET(OrderRange_Ref,,2)>0),ROWS($L$20:$L130)-OFFSET(Cumulative,,1)),IF(OFFSET(Cumulative,,3)>(ROW()-ROW($O$20)),_xlfn.AGGREGATE(15,6,(ROW(OrderRange_Ref)-ROW($L$19))/(OFFSET(OrderRange_Ref,,3)>0),ROWS($L$20:$L130)-OFFSET(Cumulative,,2)),IF(OFFSET(Cumulative,,4)>(ROW()-ROW($O$20)),_xlfn.AGGREGATE(15,6,(ROW(OrderRange_Ref)-ROW($L$19))/(OFFSET(OrderRange_Ref,,4)>0),ROWS($L$20:$L130)-OFFSET(Cumulative,,3)),IF(OFFSET(Cumulative,,5)>(ROW()-ROW($O$20)),_xlfn.AGGREGATE(15,6,(ROW(OrderRange_Ref)-ROW($L$19))/(OFFSET(OrderRange_Ref,,5)>0),ROWS($L$20:$L130)-OFFSET(Cumulative,,4)),\"\"))))))","v":""},"","","","",""]
[null,null,null,null,null,null,null,null,null,null,null,null,null,{"$f":"IF(Cumulative>(ROW()-ROW($O$20)),_xlfn.AGGREGATE(15,6,(ROW(OrderRange_Ref)-ROW($L$19))/(OFFSET(OrderRange_Ref,,0)>0),ROWS($L$20:$L131)),IF(OFFSET(Cumulative,,1)>(ROW()-ROW($O$20)),_xlfn.AGGREGATE(15,6,(ROW(OrderRange_Ref)-ROW($L$19))/(OFFSET(OrderRange_Ref,,1)>0),ROWS($L$20:$L131)-OFFSET(Cumulative,,0)),IF(OFFSET(Cumulative,,2)>(ROW()-ROW($O$20)),_xlfn.AGGREGATE(15,6,(ROW(OrderRange_Ref)-ROW($L$19))/(OFFSET(OrderRange_Ref,,2)>0),ROWS($L$20:$L131)-OFFSET(Cumulative,,1)),IF(OFFSET(Cumulative,,3)>(ROW()-ROW($O$20)),_xlfn.AGGREGATE(15,6,(ROW(OrderRange_Ref)-ROW($L$19))/(OFFSET(OrderRange_Ref,,3)>0),ROWS($L$20:$L131)-OFFSET(Cumulative,,2)),IF(OFFSET(Cumulative,,4)>(ROW()-ROW($O$20)),_xlfn.AGGREGATE(15,6,(ROW(OrderRange_Ref)-ROW($L$19))/(OFFSET(OrderRange_Ref,,4)>0),ROWS($L$20:$L131)-OFFSET(Cumulative,,3)),IF(OFFSET(Cumulative,,5)>(ROW()-ROW($O$20)),_xlfn.AGGREGATE(15,6,(ROW(OrderRange_Ref)-ROW($L$19))/(OFFSET(OrderRange_Ref,,5)>0),ROWS($L$20:$L131)-OFFSET(Cumulative,,4)),\"\"))))))","v":""},"","","","",""]
[null,null,null,null,null,null,null,null,null,null,null,null,null,{"$f":"IF(Cumulative>(ROW()-ROW($O$20)),_xlfn.AGGREGATE(15,6,(ROW(OrderRange_Ref)-ROW($L$19))/(OFFSET(OrderRange_Ref,,0)>0),ROWS($L$20:$L132)),IF(OFFSET(Cumulative,,1)>(ROW()-ROW($O$20)),_xlfn.AGGREGATE(15,6,(ROW(OrderRange_Ref)-ROW($L$19))/(OFFSET(OrderRange_Ref,,1)>0),ROWS($L$20:$L132)-OFFSET(Cumulative,,0)),IF(OFFSET(Cumulative,,2)>(ROW()-ROW($O$20)),_xlfn.AGGREGATE(15,6,(ROW(OrderRange_Ref)-ROW($L$19))/(OFFSET(OrderRange_Ref,,2)>0),ROWS($L$20:$L132)-OFFSET(Cumulative,,1)),IF(OFFSET(Cumulative,,3)>(ROW()-ROW($O$20)),_xlfn.AGGREGATE(15,6,(ROW(OrderRange_Ref)-ROW($L$19))/(OFFSET(OrderRange_Ref,,3)>0),ROWS($L$20:$L132)-OFFSET(Cumulative,,2)),IF(OFFSET(Cumulative,,4)>(ROW()-ROW($O$20)),_xlfn.AGGREGATE(15,6,(ROW(OrderRange_Ref)-ROW($L$19))/(OFFSET(OrderRange_Ref,,4)>0),ROWS($L$20:$L132)-OFFSET(Cumulative,,3)),IF(OFFSET(Cumulative,,5)>(ROW()-ROW($O$20)),_xlfn.AGGREGATE(15,6,(ROW(OrderRange_Ref)-ROW($L$19))/(OFFSET(OrderRange_Ref,,5)>0),ROWS($L$20:$L132)-OFFSET(Cumulative,,4)),\"\"))))))","v":""},"","","","",""]
[null,null,null,null,null,null,null,null,null,null,null,null,null,{"$f":"IF(Cumulative>(ROW()-ROW($O$20)),_xlfn.AGGREGATE(15,6,(ROW(OrderRange_Ref)-ROW($L$19))/(OFFSET(OrderRange_Ref,,0)>0),ROWS($L$20:$L133)),IF(OFFSET(Cumulative,,1)>(ROW()-ROW($O$20)),_xlfn.AGGREGATE(15,6,(ROW(OrderRange_Ref)-ROW($L$19))/(OFFSET(OrderRange_Ref,,1)>0),ROWS($L$20:$L133)-OFFSET(Cumulative,,0)),IF(OFFSET(Cumulative,,2)>(ROW()-ROW($O$20)),_xlfn.AGGREGATE(15,6,(ROW(OrderRange_Ref)-ROW($L$19))/(OFFSET(OrderRange_Ref,,2)>0),ROWS($L$20:$L133)-OFFSET(Cumulative,,1)),IF(OFFSET(Cumulative,,3)>(ROW()-ROW($O$20)),_xlfn.AGGREGATE(15,6,(ROW(OrderRange_Ref)-ROW($L$19))/(OFFSET(OrderRange_Ref,,3)>0),ROWS($L$20:$L133)-OFFSET(Cumulative,,2)),IF(OFFSET(Cumulative,,4)>(ROW()-ROW($O$20)),_xlfn.AGGREGATE(15,6,(ROW(OrderRange_Ref)-ROW($L$19))/(OFFSET(OrderRange_Ref,,4)>0),ROWS($L$20:$L133)-OFFSET(Cumulative,,3)),IF(OFFSET(Cumulative,,5)>(ROW()-ROW($O$20)),_xlfn.AGGREGATE(15,6,(ROW(OrderRange_Ref)-ROW($L$19))/(OFFSET(OrderRange_Ref,,5)>0),ROWS($L$20:$L133)-OFFSET(Cumulative,,4)),\"\"))))))","v":""},"","","","",""]
[null,null,null,null,null,null,null,null,null,null,null,null,null,{"$f":"IF(Cumulative>(ROW()-ROW($O$20)),_xlfn.AGGREGATE(15,6,(ROW(OrderRange_Ref)-ROW($L$19))/(OFFSET(OrderRange_Ref,,0)>0),ROWS($L$20:$L134)),IF(OFFSET(Cumulative,,1)>(ROW()-ROW($O$20)),_xlfn.AGGREGATE(15,6,(ROW(OrderRange_Ref)-ROW($L$19))/(OFFSET(OrderRange_Ref,,1)>0),ROWS($L$20:$L134)-OFFSET(Cumulative,,0)),IF(OFFSET(Cumulative,,2)>(ROW()-ROW($O$20)),_xlfn.AGGREGATE(15,6,(ROW(OrderRange_Ref)-ROW($L$19))/(OFFSET(OrderRange_Ref,,2)>0),ROWS($L$20:$L134)-OFFSET(Cumulative,,1)),IF(OFFSET(Cumulative,,3)>(ROW()-ROW($O$20)),_xlfn.AGGREGATE(15,6,(ROW(OrderRange_Ref)-ROW($L$19))/(OFFSET(OrderRange_Ref,,3)>0),ROWS($L$20:$L134)-OFFSET(Cumulative,,2)),IF(OFFSET(Cumulative,,4)>(ROW()-ROW($O$20)),_xlfn.AGGREGATE(15,6,(ROW(OrderRange_Ref)-ROW($L$19))/(OFFSET(OrderRange_Ref,,4)>0),ROWS($L$20:$L134)-OFFSET(Cumulative,,3)),IF(OFFSET(Cumulative,,5)>(ROW()-ROW($O$20)),_xlfn.AGGREGATE(15,6,(ROW(OrderRange_Ref)-ROW($L$19))/(OFFSET(OrderRange_Ref,,5)>0),ROWS($L$20:$L134)-OFFSET(Cumulative,,4)),\"\"))))))","v":""},"","","","",""]
[null,null,null,null,null,null,null,null,null,null,null,null,null,{"$f":"IF(Cumulative>(ROW()-ROW($O$20)),_xlfn.AGGREGATE(15,6,(ROW(OrderRange_Ref)-ROW($L$19))/(OFFSET(OrderRange_Ref,,0)>0),ROWS($L$20:$L135)),IF(OFFSET(Cumulative,,1)>(ROW()-ROW($O$20)),_xlfn.AGGREGATE(15,6,(ROW(OrderRange_Ref)-ROW($L$19))/(OFFSET(OrderRange_Ref,,1)>0),ROWS($L$20:$L135)-OFFSET(Cumulative,,0)),IF(OFFSET(Cumulative,,2)>(ROW()-ROW($O$20)),_xlfn.AGGREGATE(15,6,(ROW(OrderRange_Ref)-ROW($L$19))/(OFFSET(OrderRange_Ref,,2)>0),ROWS($L$20:$L135)-OFFSET(Cumulative,,1)),IF(OFFSET(Cumulative,,3)>(ROW()-ROW($O$20)),_xlfn.AGGREGATE(15,6,(ROW(OrderRange_Ref)-ROW($L$19))/(OFFSET(OrderRange_Ref,,3)>0),ROWS($L$20:$L135)-OFFSET(Cumulative,,2)),IF(OFFSET(Cumulative,,4)>(ROW()-ROW($O$20)),_xlfn.AGGREGATE(15,6,(ROW(OrderRange_Ref)-ROW($L$19))/(OFFSET(OrderRange_Ref,,4)>0),ROWS($L$20:$L135)-OFFSET(Cumulative,,3)),IF(OFFSET(Cumulative,,5)>(ROW()-ROW($O$20)),_xlfn.AGGREGATE(15,6,(ROW(OrderRange_Ref)-ROW($L$19))/(OFFSET(OrderRange_Ref,,5)>0),ROWS($L$20:$L135)-OFFSET(Cumulative,,4)),\"\"))))))","v":""},"","","","",""]
[null,null,null,null,null,null,null,null,null,null,null,null,null,{"$f":"IF(Cumulative>(ROW()-ROW($O$20)),_xlfn.AGGREGATE(15,6,(ROW(OrderRange_Ref)-ROW($L$19))/(OFFSET(OrderRange_Ref,,0)>0),ROWS($L$20:$L136)),IF(OFFSET(Cumulative,,1)>(ROW()-ROW($O$20)),_xlfn.AGGREGATE(15,6,(ROW(OrderRange_Ref)-ROW($L$19))/(OFFSET(OrderRange_Ref,,1)>0),ROWS($L$20:$L136)-OFFSET(Cumulative,,0)),IF(OFFSET(Cumulative,,2)>(ROW()-ROW($O$20)),_xlfn.AGGREGATE(15,6,(ROW(OrderRange_Ref)-ROW($L$19))/(OFFSET(OrderRange_Ref,,2)>0),ROWS($L$20:$L136)-OFFSET(Cumulative,,1)),IF(OFFSET(Cumulative,,3)>(ROW()-ROW($O$20)),_xlfn.AGGREGATE(15,6,(ROW(OrderRange_Ref)-ROW($L$19))/(OFFSET(OrderRange_Ref,,3)>0),ROWS($L$20:$L136)-OFFSET(Cumulative,,2)),IF(OFFSET(Cumulative,,4)>(ROW()-ROW($O$20)),_xlfn.AGGREGATE(15,6,(ROW(OrderRange_Ref)-ROW($L$19))/(OFFSET(OrderRange_Ref,,4)>0),ROWS($L$20:$L136)-OFFSET(Cumulative,,3)),IF(OFFSET(Cumulative,,5)>(ROW()-ROW($O$20)),_xlfn.AGGREGATE(15,6,(ROW(OrderRange_Ref)-ROW($L$19))/(OFFSET(OrderRange_Ref,,5)>0),ROWS($L$20:$L136)-OFFSET(Cumulative,,4)),\"\"))))))","v":""},"","","","",""]
[null,null,null,null,null,null,null,null,null,null,null,null,null,{"$f":"IF(Cumulative>(ROW()-ROW($O$20)),_xlfn.AGGREGATE(15,6,(ROW(OrderRange_Ref)-ROW($L$19))/(OFFSET(OrderRange_Ref,,0)>0),ROWS($L$20:$L137)),IF(OFFSET(Cumulative,,1)>(ROW()-ROW($O$20)),_xlfn.AGGREGATE(15,6,(ROW(OrderRange_Ref)-ROW($L$19))/(OFFSET(OrderRange_Ref,,1)>0),ROWS($L$20:$L137)-OFFSET(Cumulative,,0)),IF(OFFSET(Cumulative,,2)>(ROW()-ROW($O$20)),_xlfn.AGGREGATE(15,6,(ROW(OrderRange_Ref)-ROW($L$19))/(OFFSET(OrderRange_Ref,,2)>0),ROWS($L$20:$L137)-OFFSET(Cumulative,,1)),IF(OFFSET(Cumulative,,3)>(ROW()-ROW($O$20)),_xlfn.AGGREGATE(15,6,(ROW(OrderRange_Ref)-ROW($L$19))/(OFFSET(OrderRange_Ref,,3)>0),ROWS($L$20:$L137)-OFFSET(Cumulative,,2)),IF(OFFSET(Cumulative,,4)>(ROW()-ROW($O$20)),_xlfn.AGGREGATE(15,6,(ROW(OrderRange_Ref)-ROW($L$19))/(OFFSET(OrderRange_Ref,,4)>0),ROWS($L$20:$L137)-OFFSET(Cumulative,,3)),IF(OFFSET(Cumulative,,5)>(ROW()-ROW($O$20)),_xlfn.AGGREGATE(15,6,(ROW(OrderRange_Ref)-ROW($L$19))/(OFFSET(OrderRange_Ref,,5)>0),ROWS($L$20:$L137)-OFFSET(Cumulative,,4)),\"\"))))))","v":""},"","","","",""]
[null,null,null,null,null,null,null,null,null,null,null,null,null,{"$f":"IF(Cumulative>(ROW()-ROW($O$20)),_xlfn.AGGREGATE(15,6,(ROW(OrderRange_Ref)-ROW($L$19))/(OFFSET(OrderRange_Ref,,0)>0),ROWS($L$20:$L138)),IF(OFFSET(Cumulative,,1)>(ROW()-ROW($O$20)),_xlfn.AGGREGATE(15,6,(ROW(OrderRange_Ref)-ROW($L$19))/(OFFSET(OrderRange_Ref,,1)>0),ROWS($L$20:$L138)-OFFSET(Cumulative,,0)),IF(OFFSET(Cumulative,,2)>(ROW()-ROW($O$20)),_xlfn.AGGREGATE(15,6,(ROW(OrderRange_Ref)-ROW($L$19))/(OFFSET(OrderRange_Ref,,2)>0),ROWS($L$20:$L138)-OFFSET(Cumulative,,1)),IF(OFFSET(Cumulative,,3)>(ROW()-ROW($O$20)),_xlfn.AGGREGATE(15,6,(ROW(OrderRange_Ref)-ROW($L$19))/(OFFSET(OrderRange_Ref,,3)>0),ROWS($L$20:$L138)-OFFSET(Cumulative,,2)),IF(OFFSET(Cumulative,,4)>(ROW()-ROW($O$20)),_xlfn.AGGREGATE(15,6,(ROW(OrderRange_Ref)-ROW($L$19))/(OFFSET(OrderRange_Ref,,4)>0),ROWS($L$20:$L138)-OFFSET(Cumulative,,3)),IF(OFFSET(Cumulative,,5)>(ROW()-ROW($O$20)),_xlfn.AGGREGATE(15,6,(ROW(OrderRange_Ref)-ROW($L$19))/(OFFSET(OrderRange_Ref,,5)>0),ROWS($L$20:$L138)-OFFSET(Cumulative,,4)),\"\"))))))","v":""},"","","","",""]
[null,null,null,null,null,null,null,null,null,null,null,null,null,{"$f":"IF(Cumulative>(ROW()-ROW($O$20)),_xlfn.AGGREGATE(15,6,(ROW(OrderRange_Ref)-ROW($L$19))/(OFFSET(OrderRange_Ref,,0)>0),ROWS($L$20:$L139)),IF(OFFSET(Cumulative,,1)>(ROW()-ROW($O$20)),_xlfn.AGGREGATE(15,6,(ROW(OrderRange_Ref)-ROW($L$19))/(OFFSET(OrderRange_Ref,,1)>0),ROWS($L$20:$L139)-OFFSET(Cumulative,,0)),IF(OFFSET(Cumulative,,2)>(ROW()-ROW($O$20)),_xlfn.AGGREGATE(15,6,(ROW(OrderRange_Ref)-ROW($L$19))/(OFFSET(OrderRange_Ref,,2)>0),ROWS($L$20:$L139)-OFFSET(Cumulative,,1)),IF(OFFSET(Cumulative,,3)>(ROW()-ROW($O$20)),_xlfn.AGGREGATE(15,6,(ROW(OrderRange_Ref)-ROW($L$19))/(OFFSET(OrderRange_Ref,,3)>0),ROWS($L$20:$L139)-OFFSET(Cumulative,,2)),IF(OFFSET(Cumulative,,4)>(ROW()-ROW($O$20)),_xlfn.AGGREGATE(15,6,(ROW(OrderRange_Ref)-ROW($L$19))/(OFFSET(OrderRange_Ref,,4)>0),ROWS($L$20:$L139)-OFFSET(Cumulative,,3)),IF(OFFSET(Cumulative,,5)>(ROW()-ROW($O$20)),_xlfn.AGGREGATE(15,6,(ROW(OrderRange_Ref)-ROW($L$19))/(OFFSET(OrderRange_Ref,,5)>0),ROWS($L$20:$L139)-OFFSET(Cumulative,,4)),\"\"))))))","v":""},"","","","",""]
[null,null,null,null,null,null,null,null,null,null,null,null,null,{"$f":"IF(Cumulative>(ROW()-ROW($O$20)),_xlfn.AGGREGATE(15,6,(ROW(OrderRange_Ref)-ROW($L$19))/(OFFSET(OrderRange_Ref,,0)>0),ROWS($L$20:$L140)),IF(OFFSET(Cumulative,,1)>(ROW()-ROW($O$20)),_xlfn.AGGREGATE(15,6,(ROW(OrderRange_Ref)-ROW($L$19))/(OFFSET(OrderRange_Ref,,1)>0),ROWS($L$20:$L140)-OFFSET(Cumulative,,0)),IF(OFFSET(Cumulative,,2)>(ROW()-ROW($O$20)),_xlfn.AGGREGATE(15,6,(ROW(OrderRange_Ref)-ROW($L$19))/(OFFSET(OrderRange_Ref,,2)>0),ROWS($L$20:$L140)-OFFSET(Cumulative,,1)),IF(OFFSET(Cumulative,,3)>(ROW()-ROW($O$20)),_xlfn.AGGREGATE(15,6,(ROW(OrderRange_Ref)-ROW($L$19))/(OFFSET(OrderRange_Ref,,3)>0),ROWS($L$20:$L140)-OFFSET(Cumulative,,2)),IF(OFFSET(Cumulative,,4)>(ROW()-ROW($O$20)),_xlfn.AGGREGATE(15,6,(ROW(OrderRange_Ref)-ROW($L$19))/(OFFSET(OrderRange_Ref,,4)>0),ROWS($L$20:$L140)-OFFSET(Cumulative,,3)),IF(OFFSET(Cumulative,,5)>(ROW()-ROW($O$20)),_xlfn.AGGREGATE(15,6,(ROW(OrderRange_Ref)-ROW($L$19))/(OFFSET(OrderRange_Ref,,5)>0),ROWS($L$20:$L140)-OFFSET(Cumulative,,4)),\"\"))))))","v":""},"","","","",""]
[null,null,null,null,null,null,null,null,null,null,null,null,null,{"$f":"IF(Cumulative>(ROW()-ROW($O$20)),_xlfn.AGGREGATE(15,6,(ROW(OrderRange_Ref)-ROW($L$19))/(OFFSET(OrderRange_Ref,,0)>0),ROWS($L$20:$L141)),IF(OFFSET(Cumulative,,1)>(ROW()-ROW($O$20)),_xlfn.AGGREGATE(15,6,(ROW(OrderRange_Ref)-ROW($L$19))/(OFFSET(OrderRange_Ref,,1)>0),ROWS($L$20:$L141)-OFFSET(Cumulative,,0)),IF(OFFSET(Cumulative,,2)>(ROW()-ROW($O$20)),_xlfn.AGGREGATE(15,6,(ROW(OrderRange_Ref)-ROW($L$19))/(OFFSET(OrderRange_Ref,,2)>0),ROWS($L$20:$L141)-OFFSET(Cumulative,,1)),IF(OFFSET(Cumulative,,3)>(ROW()-ROW($O$20)),_xlfn.AGGREGATE(15,6,(ROW(OrderRange_Ref)-ROW($L$19))/(OFFSET(OrderRange_Ref,,3)>0),ROWS($L$20:$L141)-OFFSET(Cumulative,,2)),IF(OFFSET(Cumulative,,4)>(ROW()-ROW($O$20)),_xlfn.AGGREGATE(15,6,(ROW(OrderRange_Ref)-ROW($L$19))/(OFFSET(OrderRange_Ref,,4)>0),ROWS($L$20:$L141)-OFFSET(Cumulative,,3)),IF(OFFSET(Cumulative,,5)>(ROW()-ROW($O$20)),_xlfn.AGGREGATE(15,6,(ROW(OrderRange_Ref)-ROW($L$19))/(OFFSET(OrderRange_Ref,,5)>0),ROWS($L$20:$L141)-OFFSET(Cumulative,,4)),\"\"))))))","v":""},"","","","",""]
[null,null,null,null,null,null,null,null,null,null,null,null,null,{"$f":"IF(Cumulative>(ROW()-ROW($O$20)),_xlfn.AGGREGATE(15,6,(ROW(OrderRange_Ref)-ROW($L$19))/(OFFSET(OrderRange_Ref,,0)>0),ROWS($L$20:$L142)),IF(OFFSET(Cumulative,,1)>(ROW()-ROW($O$20)),_xlfn.AGGREGATE(15,6,(ROW(OrderRange_Ref)-ROW($L$19))/(OFFSET(OrderRange_Ref,,1)>0),ROWS($L$20:$L142)-OFFSET(Cumulative,,0)),IF(OFFSET(Cumulative,,2)>(ROW()-ROW($O$20)),_xlfn.AGGREGATE(15,6,(ROW(OrderRange_Ref)-ROW($L$19))/(OFFSET(OrderRange_Ref,,2)>0),ROWS($L$20:$L142)-OFFSET(Cumulative,,1)),IF(OFFSET(Cumulative,,3)>(ROW()-ROW($O$20)),_xlfn.AGGREGATE(15,6,(ROW(OrderRange_Ref)-ROW($L$19))/(OFFSET(OrderRange_Ref,,3)>0),ROWS($L$20:$L142)-OFFSET(Cumulative,,2)),IF(OFFSET(Cumulative,,4)>(ROW()-ROW($O$20)),_xlfn.AGGREGATE(15,6,(ROW(OrderRange_Ref)-ROW($L$19))/(OFFSET(OrderRange_Ref,,4)>0),ROWS($L$20:$L142)-OFFSET(Cumulative,,3)),IF(OFFSET(Cumulative,,5)>(ROW()-ROW($O$20)),_xlfn.AGGREGATE(15,6,(ROW(OrderRange_Ref)-ROW($L$19))/(OFFSET(OrderRange_Ref,,5)>0),ROWS($L$20:$L142)-OFFSET(Cumulative,,4)),\"\"))))))","v":""},"","","","",""]
[null,null,null,null,null,null,null,null,null,null,null,null,null,{"$f":"IF(Cumulative>(ROW()-ROW($O$20)),_xlfn.AGGREGATE(15,6,(ROW(OrderRange_Ref)-ROW($L$19))/(OFFSET(OrderRange_Ref,,0)>0),ROWS($L$20:$L143)),IF(OFFSET(Cumulative,,1)>(ROW()-ROW($O$20)),_xlfn.AGGREGATE(15,6,(ROW(OrderRange_Ref)-ROW($L$19))/(OFFSET(OrderRange_Ref,,1)>0),ROWS($L$20:$L143)-OFFSET(Cumulative,,0)),IF(OFFSET(Cumulative,,2)>(ROW()-ROW($O$20)),_xlfn.AGGREGATE(15,6,(ROW(OrderRange_Ref)-ROW($L$19))/(OFFSET(OrderRange_Ref,,2)>0),ROWS($L$20:$L143)-OFFSET(Cumulative,,1)),IF(OFFSET(Cumulative,,3)>(ROW()-ROW($O$20)),_xlfn.AGGREGATE(15,6,(ROW(OrderRange_Ref)-ROW($L$19))/(OFFSET(OrderRange_Ref,,3)>0),ROWS($L$20:$L143)-OFFSET(Cumulative,,2)),IF(OFFSET(Cumulative,,4)>(ROW()-ROW($O$20)),_xlfn.AGGREGATE(15,6,(ROW(OrderRange_Ref)-ROW($L$19))/(OFFSET(OrderRange_Ref,,4)>0),ROWS($L$20:$L143)-OFFSET(Cumulative,,3)),IF(OFFSET(Cumulative,,5)>(ROW()-ROW($O$20)),_xlfn.AGGREGATE(15,6,(ROW(OrderRange_Ref)-ROW($L$19))/(OFFSET(OrderRange_Ref,,5)>0),ROWS($L$20:$L143)-OFFSET(Cumulative,,4)),\"\"))))))","v":""},"","","","",""]
[null,null,null,null,null,null,null,null,null,null,null,null,null,{"$f":"IF(Cumulative>(ROW()-ROW($O$20)),_xlfn.AGGREGATE(15,6,(ROW(OrderRange_Ref)-ROW($L$19))/(OFFSET(OrderRange_Ref,,0)>0),ROWS($L$20:$L144)),IF(OFFSET(Cumulative,,1)>(ROW()-ROW($O$20)),_xlfn.AGGREGATE(15,6,(ROW(OrderRange_Ref)-ROW($L$19))/(OFFSET(OrderRange_Ref,,1)>0),ROWS($L$20:$L144)-OFFSET(Cumulative,,0)),IF(OFFSET(Cumulative,,2)>(ROW()-ROW($O$20)),_xlfn.AGGREGATE(15,6,(ROW(OrderRange_Ref)-ROW($L$19))/(OFFSET(OrderRange_Ref,,2)>0),ROWS($L$20:$L144)-OFFSET(Cumulative,,1)),IF(OFFSET(Cumulative,,3)>(ROW()-ROW($O$20)),_xlfn.AGGREGATE(15,6,(ROW(OrderRange_Ref)-ROW($L$19))/(OFFSET(OrderRange_Ref,,3)>0),ROWS($L$20:$L144)-OFFSET(Cumulative,,2)),IF(OFFSET(Cumulative,,4)>(ROW()-ROW($O$20)),_xlfn.AGGREGATE(15,6,(ROW(OrderRange_Ref)-ROW($L$19))/(OFFSET(OrderRange_Ref,,4)>0),ROWS($L$20:$L144)-OFFSET(Cumulative,,3)),IF(OFFSET(Cumulative,,5)>(ROW()-ROW($O$20)),_xlfn.AGGREGATE(15,6,(ROW(OrderRange_Ref)-ROW($L$19))/(OFFSET(OrderRange_Ref,,5)>0),ROWS($L$20:$L144)-OFFSET(Cumulative,,4)),\"\"))))))","v":""},"","","","",""]
[null,null,null,null,null,null,null,null,null,null,null,null,null,{"$f":"IF(Cumulative>(ROW()-ROW($O$20)),_xlfn.AGGREGATE(15,6,(ROW(OrderRange_Ref)-ROW($L$19))/(OFFSET(OrderRange_Ref,,0)>0),ROWS($L$20:$L145)),IF(OFFSET(Cumulative,,1)>(ROW()-ROW($O$20)),_xlfn.AGGREGATE(15,6,(ROW(OrderRange_Ref)-ROW($L$19))/(OFFSET(OrderRange_Ref,,1)>0),ROWS($L$20:$L145)-OFFSET(Cumulative,,0)),IF(OFFSET(Cumulative,,2)>(ROW()-ROW($O$20)),_xlfn.AGGREGATE(15,6,(ROW(OrderRange_Ref)-ROW($L$19))/(OFFSET(OrderRange_Ref,,2)>0),ROWS($L$20:$L145)-OFFSET(Cumulative,,1)),IF(OFFSET(Cumulative,,3)>(ROW()-ROW($O$20)),_xlfn.AGGREGATE(15,6,(ROW(OrderRange_Ref)-ROW($L$19))/(OFFSET(OrderRange_Ref,,3)>0),ROWS($L$20:$L145)-OFFSET(Cumulative,,2)),IF(OFFSET(Cumulative,,4)>(ROW()-ROW($O$20)),_xlfn.AGGREGATE(15,6,(ROW(OrderRange_Ref)-ROW($L$19))/(OFFSET(OrderRange_Ref,,4)>0),ROWS($L$20:$L145)-OFFSET(Cumulative,,3)),IF(OFFSET(Cumulative,,5)>(ROW()-ROW($O$20)),_xlfn.AGGREGATE(15,6,(ROW(OrderRange_Ref)-ROW($L$19))/(OFFSET(OrderRange_Ref,,5)>0),ROWS($L$20:$L145)-OFFSET(Cumulative,,4)),\"\"))))))","v":""},"","","","",""]
[null,null,null,null,null,null,null,null,null,null,null,null,null,{"$f":"IF(Cumulative>(ROW()-ROW($O$20)),_xlfn.AGGREGATE(15,6,(ROW(OrderRange_Ref)-ROW($L$19))/(OFFSET(OrderRange_Ref,,0)>0),ROWS($L$20:$L146)),IF(OFFSET(Cumulative,,1)>(ROW()-ROW($O$20)),_xlfn.AGGREGATE(15,6,(ROW(OrderRange_Ref)-ROW($L$19))/(OFFSET(OrderRange_Ref,,1)>0),ROWS($L$20:$L146)-OFFSET(Cumulative,,0)),IF(OFFSET(Cumulative,,2)>(ROW()-ROW($O$20)),_xlfn.AGGREGATE(15,6,(ROW(OrderRange_Ref)-ROW($L$19))/(OFFSET(OrderRange_Ref,,2)>0),ROWS($L$20:$L146)-OFFSET(Cumulative,,1)),IF(OFFSET(Cumulative,,3)>(ROW()-ROW($O$20)),_xlfn.AGGREGATE(15,6,(ROW(OrderRange_Ref)-ROW($L$19))/(OFFSET(OrderRange_Ref,,3)>0),ROWS($L$20:$L146)-OFFSET(Cumulative,,2)),IF(OFFSET(Cumulative,,4)>(ROW()-ROW($O$20)),_xlfn.AGGREGATE(15,6,(ROW(OrderRange_Ref)-ROW($L$19))/(OFFSET(OrderRange_Ref,,4)>0),ROWS($L$20:$L146)-OFFSET(Cumulative,,3)),IF(OFFSET(Cumulative,,5)>(ROW()-ROW($O$20)),_xlfn.AGGREGATE(15,6,(ROW(OrderRange_Ref)-ROW($L$19))/(OFFSET(OrderRange_Ref,,5)>0),ROWS($L$20:$L146)-OFFSET(Cumulative,,4)),\"\"))))))","v":""},"","","","",""]
[null,null,null,null,null,null,null,null,null,null,null,null,null,{"$f":"IF(Cumulative>(ROW()-ROW($O$20)),_xlfn.AGGREGATE(15,6,(ROW(OrderRange_Ref)-ROW($L$19))/(OFFSET(OrderRange_Ref,,0)>0),ROWS($L$20:$L147)),IF(OFFSET(Cumulative,,1)>(ROW()-ROW($O$20)),_xlfn.AGGREGATE(15,6,(ROW(OrderRange_Ref)-ROW($L$19))/(OFFSET(OrderRange_Ref,,1)>0),ROWS($L$20:$L147)-OFFSET(Cumulative,,0)),IF(OFFSET(Cumulative,,2)>(ROW()-ROW($O$20)),_xlfn.AGGREGATE(15,6,(ROW(OrderRange_Ref)-ROW($L$19))/(OFFSET(OrderRange_Ref,,2)>0),ROWS($L$20:$L147)-OFFSET(Cumulative,,1)),IF(OFFSET(Cumulative,,3)>(ROW()-ROW($O$20)),_xlfn.AGGREGATE(15,6,(ROW(OrderRange_Ref)-ROW($L$19))/(OFFSET(OrderRange_Ref,,3)>0),ROWS($L$20:$L147)-OFFSET(Cumulative,,2)),IF(OFFSET(Cumulative,,4)>(ROW()-ROW($O$20)),_xlfn.AGGREGATE(15,6,(ROW(OrderRange_Ref)-ROW($L$19))/(OFFSET(OrderRange_Ref,,4)>0),ROWS($L$20:$L147)-OFFSET(Cumulative,,3)),IF(OFFSET(Cumulative,,5)>(ROW()-ROW($O$20)),_xlfn.AGGREGATE(15,6,(ROW(OrderRange_Ref)-ROW($L$19))/(OFFSET(OrderRange_Ref,,5)>0),ROWS($L$20:$L147)-OFFSET(Cumulative,,4)),\"\"))))))","v":""},{"$f":"IF(Cumulative>(ROW()-ROW($O$20)),OrderDate,IF(OFFSET(Cumulative,,1)>(ROW()-ROW($O$20)),OrderDate+1,IF(OFFSET(Cumulative,,2)>(ROW()-ROW($O$20)),OrderDate+2,IF(OFFSET(Cumulative,,3)>(ROW()-ROW($O$20)),OrderDate+3,IF(OFFSET(Cumulative,,4)>(ROW()-ROW($O$20)),OrderDate+4,IF(OFFSET(Cumulative,,5)>(ROW()-ROW($O$20)),OrderDate+5,\"\"))))))","v":""},"","","",{"$f":"IF($N147=\"\",\"\",ROUND(INDEX(Order_Data,$N147,MATCH($O147,$D$18:$I$18,0)),0))","v":""}]
[null,null,null,null,null,null,null,null,null,null,null,null,null,{"$f":"IF(Cumulative>(ROW()-ROW($O$20)),_xlfn.AGGREGATE(15,6,(ROW(OrderRange_Ref)-ROW($L$19))/(OFFSET(OrderRange_Ref,,0)>0),ROWS($L$20:$L148)),IF(OFFSET(Cumulative,,1)>(ROW()-ROW($O$20)),_xlfn.AGGREGATE(15,6,(ROW(OrderRange_Ref)-ROW($L$19))/(OFFSET(OrderRange_Ref,,1)>0),ROWS($L$20:$L148)-OFFSET(Cumulative,,0)),IF(OFFSET(Cumulative,,2)>(ROW()-ROW($O$20)),_xlfn.AGGREGATE(15,6,(ROW(OrderRange_Ref)-ROW($L$19))/(OFFSET(OrderRange_Ref,,2)>0),ROWS($L$20:$L148)-OFFSET(Cumulative,,1)),IF(OFFSET(Cumulative,,3)>(ROW()-ROW($O$20)),_xlfn.AGGREGATE(15,6,(ROW(OrderRange_Ref)-ROW($L$19))/(OFFSET(OrderRange_Ref,,3)>0),ROWS($L$20:$L148)-OFFSET(Cumulative,,2)),IF(OFFSET(Cumulative,,4)>(ROW()-ROW($O$20)),_xlfn.AGGREGATE(15,6,(ROW(OrderRange_Ref)-ROW($L$19))/(OFFSET(OrderRange_Ref,,4)>0),ROWS($L$20:$L148)-OFFSET(Cumulative,,3)),IF(OFFSET(Cumulative,,5)>(ROW()-ROW($O$20)),_xlfn.AGGREGATE(15,6,(ROW(OrderRange_Ref)-ROW($L$19))/(OFFSET(OrderRange_Ref,,5)>0),ROWS($L$20:$L148)-OFFSET(Cumulative,,4)),\"\"))))))","v":""},"",{"$f":"IF($O148<>\"\",BranchCode,\"\")","v":""},{"$f":"IF($O148<>\"\",\"จ่าย\",\"\")","v":""},{"$f":"IFERROR(INDEX(Product_item,$N148),\"\")","v":""},""]
[null,null,null,null,null,null,null,null,null,null,null,null,null,{"$f":"IF(Cumulative>(ROW()-ROW($O$20)),_xlfn.AGGREGATE(15,6,(ROW(OrderRange_Ref)-ROW($L$19))/(OFFSET(OrderRange_Ref,,0)>0),ROWS($L$20:$L149)),IF(OFFSET(Cumulative,,1)>(ROW()-ROW($O$20)),_xlfn.AGGREGATE(15,6,(ROW(OrderRange_Ref)-ROW($L$19))/(OFFSET(OrderRange_Ref,,1)>0),ROWS($L$20:$L149)-OFFSET(Cumulative,,0)),IF(OFFSET(Cumulative,,2)>(ROW()-ROW($O$20)),_xlfn.AGGREGATE(15,6,(ROW(OrderRange_Ref)-ROW($L$19))/(OFFSET(OrderRange_Ref,,2)>0),ROWS($L$20:$L149)-OFFSET(Cumulative,,1)),IF(OFFSET(Cumulative,,3)>(ROW()-ROW($O$20)),_xlfn.AGGREGATE(15,6,(ROW(OrderRange_Ref)-ROW($L$19))/(OFFSET(OrderRange_Ref,,3)>0),ROWS($L$20:$L149)-OFFSET(Cumulative,,2)),IF(OFFSET(Cumulative,,4)>(ROW()-ROW($O$20)),_xlfn.AGGREGATE(15,6,(ROW(OrderRange_Ref)-ROW($L$19))/(OFFSET(OrderRange_Ref,,4)>0),ROWS($L$20:$L149)-OFFSET(Cumulative,,3)),IF(OFFSET(Cumulative,,5)>(ROW()-ROW($O$20)),_xlfn.AGGREGATE(15,6,(ROW(OrderRange_Ref)-ROW($L$19))/(OFFSET(OrderRange_Ref,,5)>0),ROWS($L$20:$L149)-OFFSET(Cumulative,,4)),\"\"))))))","v":""},"","","","",""]
[null,null,null,null,null,null,null,null,null,null,null,null,null,{"$f":"IF(Cumulative>(ROW()-ROW($O$20)),_xlfn.AGGREGATE(15,6,(ROW(OrderRange_Ref)-ROW($L$19))/(OFFSET(OrderRange_Ref,,0)>0),ROWS($L$20:$L150)),IF(OFFSET(Cumulative,,1)>(ROW()-ROW($O$20)),_xlfn.AGGREGATE(15,6,(ROW(OrderRange_Ref)-ROW($L$19))/(OFFSET(OrderRange_Ref,,1)>0),ROWS($L$20:$L150)-OFFSET(Cumulative,,0)),IF(OFFSET(Cumulative,,2)>(ROW()-ROW($O$20)),_xlfn.AGGREGATE(15,6,(ROW(OrderRange_Ref)-ROW($L$19))/(OFFSET(OrderRange_Ref,,2)>0),ROWS($L$20:$L150)-OFFSET(Cumulative,,1)),IF(OFFSET(Cumulative,,3)>(ROW()-ROW($O$20)),_xlfn.AGGREGATE(15,6,(ROW(OrderRange_Ref)-ROW($L$19))/(OFFSET(OrderRange_Ref,,3)>0),ROWS($L$20:$L150)-OFFSET(Cumulative,,2)),IF(OFFSET(Cumulative,,4)>(ROW()-ROW($O$20)),_xlfn.AGGREGATE(15,6,(ROW(OrderRange_Ref)-ROW($L$19))/(OFFSET(OrderRange_Ref,,4)>0),ROWS($L$20:$L150)-OFFSET(Cumulative,,3)),IF(OFFSET(Cumulative,,5)>(ROW()-ROW($O$20)),_xlfn.AGGREGATE(15,6,(ROW(OrderRange_Ref)-ROW($L$19))/(OFFSET(OrderRange_Ref,,5)>0),ROWS($L$20:$L150)-OFFSET(Cumulative,,4)),\"\"))))))","v":""},"","","","",""]
[null,null,null,null,null,null,null,null,null,null,null,null,null,{"$f":"IF(Cumulative>(ROW()-ROW($O$20)),_xlfn.AGGREGATE(15,6,(ROW(OrderRange_Ref)-ROW($L$19))/(OFFSET(OrderRange_Ref,,0)>0),ROWS($L$20:$L151)),IF(OFFSET(Cumulative,,1)>(ROW()-ROW($O$20)),_xlfn.AGGREGATE(15,6,(ROW(OrderRange_Ref)-ROW($L$19))/(OFFSET(OrderRange_Ref,,1)>0),ROWS($L$20:$L151)-OFFSET(Cumulative,,0)),IF(OFFSET(Cumulative,,2)>(ROW()-ROW($O$20)),_xlfn.AGGREGATE(15,6,(ROW(OrderRange_Ref)-ROW($L$19))/(OFFSET(OrderRange_Ref,,2)>0),ROWS($L$20:$L151)-OFFSET(Cumulative,,1)),IF(OFFSET(Cumulative,,3)>(ROW()-ROW($O$20)),_xlfn.AGGREGATE(15,6,(ROW(OrderRange_Ref)-ROW($L$19))/(OFFSET(OrderRange_Ref,,3)>0),ROWS($L$20:$L151)-OFFSET(Cumulative,,2)),IF(OFFSET(Cumulative,,4)>(ROW()-ROW($O$20)),_xlfn.AGGREGATE(15,6,(ROW(OrderRange_Ref)-ROW($L$19))/(OFFSET(OrderRange_Ref,,4)>0),ROWS($L$20:$L151)-OFFSET(Cumulative,,3)),IF(OFFSET(Cumulative,,5)>(ROW()-ROW($O$20)),_xlfn.AGGREGATE(15,6,(ROW(OrderRange_Ref)-ROW($L$19))/(OFFSET(OrderRange_Ref,,5)>0),ROWS($L$20:$L151)-OFFSET(Cumulative,,4)),\"\"))))))","v":""},"","","","",""]
[null,null,null,null,null,null,null,null,null,null,null,null,null,{"$f":"IF(Cumulative>(ROW()-ROW($O$20)),_xlfn.AGGREGATE(15,6,(ROW(OrderRange_Ref)-ROW($L$19))/(OFFSET(OrderRange_Ref,,0)>0),ROWS($L$20:$L152)),IF(OFFSET(Cumulative,,1)>(ROW()-ROW($O$20)),_xlfn.AGGREGATE(15,6,(ROW(OrderRange_Ref)-ROW($L$19))/(OFFSET(OrderRange_Ref,,1)>0),ROWS($L$20:$L152)-OFFSET(Cumulative,,0)),IF(OFFSET(Cumulative,,2)>(ROW()-ROW($O$20)),_xlfn.AGGREGATE(15,6,(ROW(OrderRange_Ref)-ROW($L$19))/(OFFSET(OrderRange_Ref,,2)>0),ROWS($L$20:$L152)-OFFSET(Cumulative,,1)),IF(OFFSET(Cumulative,,3)>(ROW()-ROW($O$20)),_xlfn.AGGREGATE(15,6,(ROW(OrderRange_Ref)-ROW($L$19))/(OFFSET(OrderRange_Ref,,3)>0),ROWS($L$20:$L152)-OFFSET(Cumulative,,2)),IF(OFFSET(Cumulative,,4)>(ROW()-ROW($O$20)),_xlfn.AGGREGATE(15,6,(ROW(OrderRange_Ref)-ROW($L$19))/(OFFSET(OrderRange_Ref,,4)>0),ROWS($L$20:$L152)-OFFSET(Cumulative,,3)),IF(OFFSET(Cumulative,,5)>(ROW()-ROW($O$20)),_xlfn.AGGREGATE(15,6,(ROW(OrderRange_Ref)-ROW($L$19))/(OFFSET(OrderRange_Ref,,5)>0),ROWS($L$20:$L152)-OFFSET(Cumulative,,4)),\"\"))))))","v":""},"","","","",""]
[null,null,null,null,null,null,null,null,null,null,null,null,null,{"$f":"IF(Cumulative>(ROW()-ROW($O$20)),_xlfn.AGGREGATE(15,6,(ROW(OrderRange_Ref)-ROW($L$19))/(OFFSET(OrderRange_Ref,,0)>0),ROWS($L$20:$L153)),IF(OFFSET(Cumulative,,1)>(ROW()-ROW($O$20)),_xlfn.AGGREGATE(15,6,(ROW(OrderRange_Ref)-ROW($L$19))/(OFFSET(OrderRange_Ref,,1)>0),ROWS($L$20:$L153)-OFFSET(Cumulative,,0)),IF(OFFSET(Cumulative,,2)>(ROW()-ROW($O$20)),_xlfn.AGGREGATE(15,6,(ROW(OrderRange_Ref)-ROW($L$19))/(OFFSET(OrderRange_Ref,,2)>0),ROWS($L$20:$L153)-OFFSET(Cumulative,,1)),IF(OFFSET(Cumulative,,3)>(ROW()-ROW($O$20)),_xlfn.AGGREGATE(15,6,(ROW(OrderRange_Ref)-ROW($L$19))/(OFFSET(OrderRange_Ref,,3)>0),ROWS($L$20:$L153)-OFFSET(Cumulative,,2)),IF(OFFSET(Cumulative,,4)>(ROW()-ROW($O$20)),_xlfn.AGGREGATE(15,6,(ROW(OrderRange_Ref)-ROW($L$19))/(OFFSET(OrderRange_Ref,,4)>0),ROWS($L$20:$L153)-OFFSET(Cumulative,,3)),IF(OFFSET(Cumulative,,5)>(ROW()-ROW($O$20)),_xlfn.AGGREGATE(15,6,(ROW(OrderRange_Ref)-ROW($L$19))/(OFFSET(OrderRange_Ref,,5)>0),ROWS($L$20:$L153)-OFFSET(Cumulative,,4)),\"\"))))))","v":""},"","","","",""]
[null,null,null,null,null,null,null,null,null,null,null,null,null,{"$f":"IF(Cumulative>(ROW()-ROW($O$20)),_xlfn.AGGREGATE(15,6,(ROW(OrderRange_Ref)-ROW($L$19))/(OFFSET(OrderRange_Ref,,0)>0),ROWS($L$20:$L154)),IF(OFFSET(Cumulative,,1)>(ROW()-ROW($O$20)),_xlfn.AGGREGATE(15,6,(ROW(OrderRange_Ref)-ROW($L$19))/(OFFSET(OrderRange_Ref,,1)>0),ROWS($L$20:$L154)-OFFSET(Cumulative,,0)),IF(OFFSET(Cumulative,,2)>(ROW()-ROW($O$20)),_xlfn.AGGREGATE(15,6,(ROW(OrderRange_Ref)-ROW($L$19))/(OFFSET(OrderRange_Ref,,2)>0),ROWS($L$20:$L154)-OFFSET(Cumulative,,1)),IF(OFFSET(Cumulative,,3)>(ROW()-ROW($O$20)),_xlfn.AGGREGATE(15,6,(ROW(OrderRange_Ref)-ROW($L$19))/(OFFSET(OrderRange_Ref,,3)>0),ROWS($L$20:$L154)-OFFSET(Cumulative,,2)),IF(OFFSET(Cumulative,,4)>(ROW()-ROW($O$20)),_xlfn.AGGREGATE(15,6,(ROW(OrderRange_Ref)-ROW($L$19))/(OFFSET(OrderRange_Ref,,4)>0),ROWS($L$20:$L154)-OFFSET(Cumulative,,3)),IF(OFFSET(Cumulative,,5)>(ROW()-ROW($O$20)),_xlfn.AGGREGATE(15,6,(ROW(OrderRange_Ref)-ROW($L$19))/(OFFSET(OrderRange_Ref,,5)>0),ROWS($L$20:$L154)-OFFSET(Cumulative,,4)),\"\"))))))","v":""},"","","","",""]
[null,null,null,null,null,null,null,null,null,null,null,null,null,{"$f":"IF(Cumulative>(ROW()-ROW($O$20)),_xlfn.AGGREGATE(15,6,(ROW(OrderRange_Ref)-ROW($L$19))/(OFFSET(OrderRange_Ref,,0)>0),ROWS($L$20:$L155)),IF(OFFSET(Cumulative,,1)>(ROW()-ROW($O$20)),_xlfn.AGGREGATE(15,6,(ROW(OrderRange_Ref)-ROW($L$19))/(OFFSET(OrderRange_Ref,,1)>0),ROWS($L$20:$L155)-OFFSET(Cumulative,,0)),IF(OFFSET(Cumulative,,2)>(ROW()-ROW($O$20)),_xlfn.AGGREGATE(15,6,(ROW(OrderRange_Ref)-ROW($L$19))/(OFFSET(OrderRange_Ref,,2)>0),ROWS($L$20:$L155)-OFFSET(Cumulative,,1)),IF(OFFSET(Cumulative,,3)>(ROW()-ROW($O$20)),_xlfn.AGGREGATE(15,6,(ROW(OrderRange_Ref)-ROW($L$19))/(OFFSET(OrderRange_Ref,,3)>0),ROWS($L$20:$L155)-OFFSET(Cumulative,,2)),IF(OFFSET(Cumulative,,4)>(ROW()-ROW($O$20)),_xlfn.AGGREGATE(15,6,(ROW(OrderRange_Ref)-ROW($L$19))/(OFFSET(OrderRange_Ref,,4)>0),ROWS($L$20:$L155)-OFFSET(Cumulative,,3)),IF(OFFSET(Cumulative,,5)>(ROW()-ROW($O$20)),_xlfn.AGGREGATE(15,6,(ROW(OrderRange_Ref)-ROW($L$19))/(OFFSET(OrderRange_Ref,,5)>0),ROWS($L$20:$L155)-OFFSET(Cumulative,,4)),\"\"))))))","v":""},"","","","",""]
[null,null,null,null,null,null,null,null,null,null,null,null,null,{"$f":"IF(Cumulative>(ROW()-ROW($O$20)),_xlfn.AGGREGATE(15,6,(ROW(OrderRange_Ref)-ROW($L$19))/(OFFSET(OrderRange_Ref,,0)>0),ROWS($L$20:$L156)),IF(OFFSET(Cumulative,,1)>(ROW()-ROW($O$20)),_xlfn.AGGREGATE(15,6,(ROW(OrderRange_Ref)-ROW($L$19))/(OFFSET(OrderRange_Ref,,1)>0),ROWS($L$20:$L156)-OFFSET(Cumulative,,0)),IF(OFFSET(Cumulative,,2)>(ROW()-ROW($O$20)),_xlfn.AGGREGATE(15,6,(ROW(OrderRange_Ref)-ROW($L$19))/(OFFSET(OrderRange_Ref,,2)>0),ROWS($L$20:$L156)-OFFSET(Cumulative,,1)),IF(OFFSET(Cumulative,,3)>(ROW()-ROW($O$20)),_xlfn.AGGREGATE(15,6,(ROW(OrderRange_Ref)-ROW($L$19))/(OFFSET(OrderRange_Ref,,3)>0),ROWS($L$20:$L156)-OFFSET(Cumulative,,2)),IF(OFFSET(Cumulative,,4)>(ROW()-ROW($O$20)),_xlfn.AGGREGATE(15,6,(ROW(OrderRange_Ref)-ROW($L$19))/(OFFSET(OrderRange_Ref,,4)>0),ROWS($L$20:$L156)-OFFSET(Cumulative,,3)),IF(OFFSET(Cumulative,,5)>(ROW()-ROW($O$20)),_xlfn.AGGREGATE(15,6,(ROW(OrderRange_Ref)-ROW($L$19))/(OFFSET(OrderRange_Ref,,5)>0),ROWS($L$20:$L156)-OFFSET(Cumulative,,4)),\"\"))))))","v":""},"","","","",""]
[null,null,null,null,null,null,null,null,null,null,null,null,null,{"$f":"IF(Cumulative>(ROW()-ROW($O$20)),_xlfn.AGGREGATE(15,6,(ROW(OrderRange_Ref)-ROW($L$19))/(OFFSET(OrderRange_Ref,,0)>0),ROWS($L$20:$L157)),IF(OFFSET(Cumulative,,1)>(ROW()-ROW($O$20)),_xlfn.AGGREGATE(15,6,(ROW(OrderRange_Ref)-ROW($L$19))/(OFFSET(OrderRange_Ref,,1)>0),ROWS($L$20:$L157)-OFFSET(Cumulative,,0)),IF(OFFSET(Cumulative,,2)>(ROW()-ROW($O$20)),_xlfn.AGGREGATE(15,6,(ROW(OrderRange_Ref)-ROW($L$19))/(OFFSET(OrderRange_Ref,,2)>0),ROWS($L$20:$L157)-OFFSET(Cumulative,,1)),IF(OFFSET(Cumulative,,3)>(ROW()-ROW($O$20)),_xlfn.AGGREGATE(15,6,(ROW(OrderRange_Ref)-ROW($L$19))/(OFFSET(OrderRange_Ref,,3)>0),ROWS($L$20:$L157)-OFFSET(Cumulative,,2)),IF(OFFSET(Cumulative,,4)>(ROW()-ROW($O$20)),_xlfn.AGGREGATE(15,6,(ROW(OrderRange_Ref)-ROW($L$19))/(OFFSET(OrderRange_Ref,,4)>0),ROWS($L$20:$L157)-OFFSET(Cumulative,,3)),IF(OFFSET(Cumulative,,5)>(ROW()-ROW($O$20)),_xlfn.AGGREGATE(15,6,(ROW(OrderRange_Ref)-ROW($L$19))/(OFFSET(OrderRange_Ref,,5)>0),ROWS($L$20:$L157)-OFFSET(Cumulative,,4)),\"\"))))))","v":""},"","","","",""]
[null,null,null,null,null,null,null,null,null,null,null,null,null,{"$f":"IF(Cumulative>(ROW()-ROW($O$20)),_xlfn.AGGREGATE(15,6,(ROW(OrderRange_Ref)-ROW($L$19))/(OFFSET(OrderRange_Ref,,0)>0),ROWS($L$20:$L158)),IF(OFFSET(Cumulative,,1)>(ROW()-ROW($O$20)),_xlfn.AGGREGATE(15,6,(ROW(OrderRange_Ref)-ROW($L$19))/(OFFSET(OrderRange_Ref,,1)>0),ROWS($L$20:$L158)-OFFSET(Cumulative,,0)),IF(OFFSET(Cumulative,,2)>(ROW()-ROW($O$20)),_xlfn.AGGREGATE(15,6,(ROW(OrderRange_Ref)-ROW($L$19))/(OFFSET(OrderRange_Ref,,2)>0),ROWS($L$20:$L158)-OFFSET(Cumulative,,1)),IF(OFFSET(Cumulative,,3)>(ROW()-ROW($O$20)),_xlfn.AGGREGATE(15,6,(ROW(OrderRange_Ref)-ROW($L$19))/(OFFSET(OrderRange_Ref,,3)>0),ROWS($L$20:$L158)-OFFSET(Cumulative,,2)),IF(OFFSET(Cumulative,,4)>(ROW()-ROW($O$20)),_xlfn.AGGREGATE(15,6,(ROW(OrderRange_Ref)-ROW($L$19))/(OFFSET(OrderRange_Ref,,4)>0),ROWS($L$20:$L158)-OFFSET(Cumulative,,3)),IF(OFFSET(Cumulative,,5)>(ROW()-ROW($O$20)),_xlfn.AGGREGATE(15,6,(ROW(OrderRange_Ref)-ROW($L$19))/(OFFSET(OrderRange_Ref,,5)>0),ROWS($L$20:$L158)-OFFSET(Cumulative,,4)),\"\"))))))","v":""},"","","","",""]
[null,null,null,null,null,null,null,null,null,null,null,null,null,{"$f":"IF(Cumulative>(ROW()-ROW($O$20)),_xlfn.AGGREGATE(15,6,(ROW(OrderRange_Ref)-ROW($L$19))/(OFFSET(OrderRange_Ref,,0)>0),ROWS($L$20:$L159)),IF(OFFSET(Cumulative,,1)>(ROW()-ROW($O$20)),_xlfn.AGGREGATE(15,6,(ROW(OrderRange_Ref)-ROW($L$19))/(OFFSET(OrderRange_Ref,,1)>0),ROWS($L$20:$L159)-OFFSET(Cumulative,,0)),IF(OFFSET(Cumulative,,2)>(ROW()-ROW($O$20)),_xlfn.AGGREGATE(15,6,(ROW(OrderRange_Ref)-ROW($L$19))/(OFFSET(OrderRange_Ref,,2)>0),ROWS($L$20:$L159)-OFFSET(Cumulative,,1)),IF(OFFSET(Cumulative,,3)>(ROW()-ROW($O$20)),_xlfn.AGGREGATE(15,6,(ROW(OrderRange_Ref)-ROW($L$19))/(OFFSET(OrderRange_Ref,,3)>0),ROWS($L$20:$L159)-OFFSET(Cumulative,,2)),IF(OFFSET(Cumulative,,4)>(ROW()-ROW($O$20)),_xlfn.AGGREGATE(15,6,(ROW(OrderRange_Ref)-ROW($L$19))/(OFFSET(OrderRange_Ref,,4)>0),ROWS($L$20:$L159)-OFFSET(Cumulative,,3)),IF(OFFSET(Cumulative,,5)>(ROW()-ROW($O$20)),_xlfn.AGGREGATE(15,6,(ROW(OrderRange_Ref)-ROW($L$19))/(OFFSET(OrderRange_Ref,,5)>0),ROWS($L$20:$L159)-OFFSET(Cumulative,,4)),\"\"))))))","v":""},"","","","",""]
[null,null,null,null,null,null,null,null,null,null,null,null,null,{"$f":"IF(Cumulative>(ROW()-ROW($O$20)),_xlfn.AGGREGATE(15,6,(ROW(OrderRange_Ref)-ROW($L$19))/(OFFSET(OrderRange_Ref,,0)>0),ROWS($L$20:$L160)),IF(OFFSET(Cumulative,,1)>(ROW()-ROW($O$20)),_xlfn.AGGREGATE(15,6,(ROW(OrderRange_Ref)-ROW($L$19))/(OFFSET(OrderRange_Ref,,1)>0),ROWS($L$20:$L160)-OFFSET(Cumulative,,0)),IF(OFFSET(Cumulative,,2)>(ROW()-ROW($O$20)),_xlfn.AGGREGATE(15,6,(ROW(OrderRange_Ref)-ROW($L$19))/(OFFSET(OrderRange_Ref,,2)>0),ROWS($L$20:$L160)-OFFSET(Cumulative,,1)),IF(OFFSET(Cumulative,,3)>(ROW()-ROW($O$20)),_xlfn.AGGREGATE(15,6,(ROW(OrderRange_Ref)-ROW($L$19))/(OFFSET(OrderRange_Ref,,3)>0),ROWS($L$20:$L160)-OFFSET(Cumulative,,2)),IF(OFFSET(Cumulative,,4)>(ROW()-ROW($O$20)),_xlfn.AGGREGATE(15,6,(ROW(OrderRange_Ref)-ROW($L$19))/(OFFSET(OrderRange_Ref,,4)>0),ROWS($L$20:$L160)-OFFSET(Cumulative,,3)),IF(OFFSET(Cumulative,,5)>(ROW()-ROW($O$20)),_xlfn.AGGREGATE(15,6,(ROW(OrderRange_Ref)-ROW($L$19))/(OFFSET(OrderRange_Ref,,5)>0),ROWS($L$20:$L160)-OFFSET(Cumulative,,4)),\"\"))))))","v":""},"","","","",""]
[null,null,null,null,null,null,null,null,null,null,null,null,null,{"$f":"IF(Cumulative>(ROW()-ROW($O$20)),_xlfn.AGGREGATE(15,6,(ROW(OrderRange_Ref)-ROW($L$19))/(OFFSET(OrderRange_Ref,,0)>0),ROWS($L$20:$L161)),IF(OFFSET(Cumulative,,1)>(ROW()-ROW($O$20)),_xlfn.AGGREGATE(15,6,(ROW(OrderRange_Ref)-ROW($L$19))/(OFFSET(OrderRange_Ref,,1)>0),ROWS($L$20:$L161)-OFFSET(Cumulative,,0)),IF(OFFSET(Cumulative,,2)>(ROW()-ROW($O$20)),_xlfn.AGGREGATE(15,6,(ROW(OrderRange_Ref)-ROW($L$19))/(OFFSET(OrderRange_Ref,,2)>0),ROWS($L$20:$L161)-OFFSET(Cumulative,,1)),IF(OFFSET(Cumulative,,3)>(ROW()-ROW($O$20)),_xlfn.AGGREGATE(15,6,(ROW(OrderRange_Ref)-ROW($L$19))/(OFFSET(OrderRange_Ref,,3)>0),ROWS($L$20:$L161)-OFFSET(Cumulative,,2)),IF(OFFSET(Cumulative,,4)>(ROW()-ROW($O$20)),_xlfn.AGGREGATE(15,6,(ROW(OrderRange_Ref)-ROW($L$19))/(OFFSET(OrderRange_Ref,,4)>0),ROWS($L$20:$L161)-OFFSET(Cumulative,,3)),IF(OFFSET(Cumulative,,5)>(ROW()-ROW($O$20)),_xlfn.AGGREGATE(15,6,(ROW(OrderRange_Ref)-ROW($L$19))/(OFFSET(OrderRange_Ref,,5)>0),ROWS($L$20:$L161)-OFFSET(Cumulative,,4)),\"\"))))))","v":""},"","","","",""]
[null,null,null,null,null,null,null,null,null,null,null,null,null,{"$f":"IF(Cumulative>(ROW()-ROW($O$20)),_xlfn.AGGREGATE(15,6,(ROW(OrderRange_Ref)-ROW($L$19))/(OFFSET(OrderRange_Ref,,0)>0),ROWS($L$20:$L162)),IF(OFFSET(Cumulative,,1)>(ROW()-ROW($O$20)),_xlfn.AGGREGATE(15,6,(ROW(OrderRange_Ref)-ROW($L$19))/(OFFSET(OrderRange_Ref,,1)>0),ROWS($L$20:$L162)-OFFSET(Cumulative,,0)),IF(OFFSET(Cumulative,,2)>(ROW()-ROW($O$20)),_xlfn.AGGREGATE(15,6,(ROW(OrderRange_Ref)-ROW($L$19))/(OFFSET(OrderRange_Ref,,2)>0),ROWS($L$20:$L162)-OFFSET(Cumulative,,1)),IF(OFFSET(Cumulative,,3)>(ROW()-ROW($O$20)),_xlfn.AGGREGATE(15,6,(ROW(OrderRange_Ref)-ROW($L$19))/(OFFSET(OrderRange_Ref,,3)>0),ROWS($L$20:$L162)-OFFSET(Cumulative,,2)),IF(OFFSET(Cumulative,,4)>(ROW()-ROW($O$20)),_xlfn.AGGREGATE(15,6,(ROW(OrderRange_Ref)-ROW($L$19))/(OFFSET(OrderRange_Ref,,4)>0),ROWS($L$20:$L162)-OFFSET(Cumulative,,3)),IF(OFFSET(Cumulative,,5)>(ROW()-ROW($O$20)),_xlfn.AGGREGATE(15,6,(ROW(OrderRange_Ref)-ROW($L$19))/(OFFSET(OrderRange_Ref,,5)>0),ROWS($L$20:$L162)-OFFSET(Cumulative,,4)),\"\"))))))","v":""},"","","","",""]
[null,null,null,null,null,null,null,null,null,null,null,null,null,{"$f":"IF(Cumulative>(ROW()-ROW($O$20)),_xlfn.AGGREGATE(15,6,(ROW(OrderRange_Ref)-ROW($L$19))/(OFFSET(OrderRange_Ref,,0)>0),ROWS($L$20:$L163)),IF(OFFSET(Cumulative,,1)>(ROW()-ROW($O$20)),_xlfn.AGGREGATE(15,6,(ROW(OrderRange_Ref)-ROW($L$19))/(OFFSET(OrderRange_Ref,,1)>0),ROWS($L$20:$L163)-OFFSET(Cumulative,,0)),IF(OFFSET(Cumulative,,2)>(ROW()-ROW($O$20)),_xlfn.AGGREGATE(15,6,(ROW(OrderRange_Ref)-ROW($L$19))/(OFFSET(OrderRange_Ref,,2)>0),ROWS($L$20:$L163)-OFFSET(Cumulative,,1)),IF(OFFSET(Cumulative,,3)>(ROW()-ROW($O$20)),_xlfn.AGGREGATE(15,6,(ROW(OrderRange_Ref)-ROW($L$19))/(OFFSET(OrderRange_Ref,,3)>0),ROWS($L$20:$L163)-OFFSET(Cumulative,,2)),IF(OFFSET(Cumulative,,4)>(ROW()-ROW($O$20)),_xlfn.AGGREGATE(15,6,(ROW(OrderRange_Ref)-ROW($L$19))/(OFFSET(OrderRange_Ref,,4)>0),ROWS($L$20:$L163)-OFFSET(Cumulative,,3)),IF(OFFSET(Cumulative,,5)>(ROW()-ROW($O$20)),_xlfn.AGGREGATE(15,6,(ROW(OrderRange_Ref)-ROW($L$19))/(OFFSET(OrderRange_Ref,,5)>0),ROWS($L$20:$L163)-OFFSET(Cumulative,,4)),\"\"))))))","v":""},"","","","",""]
[null,null,null,null,null,null,null,null,null,null,null,null,null,{"$f":"IF(Cumulative>(ROW()-ROW($O$20)),_xlfn.AGGREGATE(15,6,(ROW(OrderRange_Ref)-ROW($L$19))/(OFFSET(OrderRange_Ref,,0)>0),ROWS($L$20:$L164)),IF(OFFSET(Cumulative,,1)>(ROW()-ROW($O$20)),_xlfn.AGGREGATE(15,6,(ROW(OrderRange_Ref)-ROW($L$19))/(OFFSET(OrderRange_Ref,,1)>0),ROWS($L$20:$L164)-OFFSET(Cumulative,,0)),IF(OFFSET(Cumulative,,2)>(ROW()-ROW($O$20)),_xlfn.AGGREGATE(15,6,(ROW(OrderRange_Ref)-ROW($L$19))/(OFFSET(OrderRange_Ref,,2)>0),ROWS($L$20:$L164)-OFFSET(Cumulative,,1)),IF(OFFSET(Cumulative,,3)>(ROW()-ROW($O$20)),_xlfn.AGGREGATE(15,6,(ROW(OrderRange_Ref)-ROW($L$19))/(OFFSET(OrderRange_Ref,,3)>0),ROWS($L$20:$L164)-OFFSET(Cumulative,,2)),IF(OFFSET(Cumulative,,4)>(ROW()-ROW($O$20)),_xlfn.AGGREGATE(15,6,(ROW(OrderRange_Ref)-ROW($L$19))/(OFFSET(OrderRange_Ref,,4)>0),ROWS($L$20:$L164)-OFFSET(Cumulative,,3)),IF(OFFSET(Cumulative,,5)>(ROW()-ROW($O$20)),_xlfn.AGGREGATE(15,6,(ROW(OrderRange_Ref)-ROW($L$19))/(OFFSET(OrderRange_Ref,,5)>0),ROWS($L$20:$L164)-OFFSET(Cumulative,,4)),\"\"))))))","v":""},"","","","",""]
[null,null,null,null,null,null,null,null,null,null,null,null,null,{"$f":"IF(Cumulative>(ROW()-ROW($O$20)),_xlfn.AGGREGATE(15,6,(ROW(OrderRange_Ref)-ROW($L$19))/(OFFSET(OrderRange_Ref,,0)>0),ROWS($L$20:$L165)),IF(OFFSET(Cumulative,,1)>(ROW()-ROW($O$20)),_xlfn.AGGREGATE(15,6,(ROW(OrderRange_Ref)-ROW($L$19))/(OFFSET(OrderRange_Ref,,1)>0),ROWS($L$20:$L165)-OFFSET(Cumulative,,0)),IF(OFFSET(Cumulative,,2)>(ROW()-ROW($O$20)),_xlfn.AGGREGATE(15,6,(ROW(OrderRange_Ref)-ROW($L$19))/(OFFSET(OrderRange_Ref,,2)>0),ROWS($L$20:$L165)-OFFSET(Cumulative,,1)),IF(OFFSET(Cumulative,,3)>(ROW()-ROW($O$20)),_xlfn.AGGREGATE(15,6,(ROW(OrderRange_Ref)-ROW($L$19))/(OFFSET(OrderRange_Ref,,3)>0),ROWS($L$20:$L165)-OFFSET(Cumulative,,2)),IF(OFFSET(Cumulative,,4)>(ROW()-ROW($O$20)),_xlfn.AGGREGATE(15,6,(ROW(OrderRange_Ref)-ROW($L$19))/(OFFSET(OrderRange_Ref,,4)>0),ROWS($L$20:$L165)-OFFSET(Cumulative,,3)),IF(OFFSET(Cumulative,,5)>(ROW()-ROW($O$20)),_xlfn.AGGREGATE(15,6,(ROW(OrderRange_Ref)-ROW($L$19))/(OFFSET(OrderRange_Ref,,5)>0),ROWS($L$20:$L165)-OFFSET(Cumulative,,4)),\"\"))))))","v":""},"","","","",""]
[null,null,null,null,null,null,null,null,null,null,null,null,null,{"$f":"IF(Cumulative>(ROW()-ROW($O$20)),_xlfn.AGGREGATE(15,6,(ROW(OrderRange_Ref)-ROW($L$19))/(OFFSET(OrderRange_Ref,,0)>0),ROWS($L$20:$L166)),IF(OFFSET(Cumulative,,1)>(ROW()-ROW($O$20)),_xlfn.AGGREGATE(15,6,(ROW(OrderRange_Ref)-ROW($L$19))/(OFFSET(OrderRange_Ref,,1)>0),ROWS($L$20:$L166)-OFFSET(Cumulative,,0)),IF(OFFSET(Cumulative,,2)>(ROW()-ROW($O$20)),_xlfn.AGGREGATE(15,6,(ROW(OrderRange_Ref)-ROW($L$19))/(OFFSET(OrderRange_Ref,,2)>0),ROWS($L$20:$L166)-OFFSET(Cumulative,,1)),IF(OFFSET(Cumulative,,3)>(ROW()-ROW($O$20)),_xlfn.AGGREGATE(15,6,(ROW(OrderRange_Ref)-ROW($L$19))/(OFFSET(OrderRange_Ref,,3)>0),ROWS($L$20:$L166)-OFFSET(Cumulative,,2)),IF(OFFSET(Cumulative,,4)>(ROW()-ROW($O$20)),_xlfn.AGGREGATE(15,6,(ROW(OrderRange_Ref)-ROW($L$19))/(OFFSET(OrderRange_Ref,,4)>0),ROWS($L$20:$L166)-OFFSET(Cumulative,,3)),IF(OFFSET(Cumulative,,5)>(ROW()-ROW($O$20)),_xlfn.AGGREGATE(15,6,(ROW(OrderRange_Ref)-ROW($L$19))/(OFFSET(OrderRange_Ref,,5)>0),ROWS($L$20:$L166)-OFFSET(Cumulative,,4)),\"\"))))))","v":""},"","","","",""]
[null,null,null,null,null,null,null,null,null,null,null,null,null,{"$f":"IF(Cumulative>(ROW()-ROW($O$20)),_xlfn.AGGREGATE(15,6,(ROW(OrderRange_Ref)-ROW($L$19))/(OFFSET(OrderRange_Ref,,0)>0),ROWS($L$20:$L167)),IF(OFFSET(Cumulative,,1)>(ROW()-ROW($O$20)),_xlfn.AGGREGATE(15,6,(ROW(OrderRange_Ref)-ROW($L$19))/(OFFSET(OrderRange_Ref,,1)>0),ROWS($L$20:$L167)-OFFSET(Cumulative,,0)),IF(OFFSET(Cumulative,,2)>(ROW()-ROW($O$20)),_xlfn.AGGREGATE(15,6,(ROW(OrderRange_Ref)-ROW($L$19))/(OFFSET(OrderRange_Ref,,2)>0),ROWS($L$20:$L167)-OFFSET(Cumulative,,1)),IF(OFFSET(Cumulative,,3)>(ROW()-ROW($O$20)),_xlfn.AGGREGATE(15,6,(ROW(OrderRange_Ref)-ROW($L$19))/(OFFSET(OrderRange_Ref,,3)>0),ROWS($L$20:$L167)-OFFSET(Cumulative,,2)),IF(OFFSET(Cumulative,,4)>(ROW()-ROW($O$20)),_xlfn.AGGREGATE(15,6,(ROW(OrderRange_Ref)-ROW($L$19))/(OFFSET(OrderRange_Ref,,4)>0),ROWS($L$20:$L167)-OFFSET(Cumulative,,3)),IF(OFFSET(Cumulative,,5)>(ROW()-ROW($O$20)),_xlfn.AGGREGATE(15,6,(ROW(OrderRange_Ref)-ROW($L$19))/(OFFSET(OrderRange_Ref,,5)>0),ROWS($L$20:$L167)-OFFSET(Cumulative,,4)),\"\"))))))","v":""},"","","","",""]
[null,null,null,null,null,null,null,null,null,null,null,null,null,{"$f":"IF(Cumulative>(ROW()-ROW($O$20)),_xlfn.AGGREGATE(15,6,(ROW(OrderRange_Ref)-ROW($L$19))/(OFFSET(OrderRange_Ref,,0)>0),ROWS($L$20:$L168)),IF(OFFSET(Cumulative,,1)>(ROW()-ROW($O$20)),_xlfn.AGGREGATE(15,6,(ROW(OrderRange_Ref)-ROW($L$19))/(OFFSET(OrderRange_Ref,,1)>0),ROWS($L$20:$L168)-OFFSET(Cumulative,,0)),IF(OFFSET(Cumulative,,2)>(ROW()-ROW($O$20)),_xlfn.AGGREGATE(15,6,(ROW(OrderRange_Ref)-ROW($L$19))/(OFFSET(OrderRange_Ref,,2)>0),ROWS($L$20:$L168)-OFFSET(Cumulative,,1)),IF(OFFSET(Cumulative,,3)>(ROW()-ROW($O$20)),_xlfn.AGGREGATE(15,6,(ROW(OrderRange_Ref)-ROW($L$19))/(OFFSET(OrderRange_Ref,,3)>0),ROWS($L$20:$L168)-OFFSET(Cumulative,,2)),IF(OFFSET(Cumulative,,4)>(ROW()-ROW($O$20)),_xlfn.AGGREGATE(15,6,(ROW(OrderRange_Ref)-ROW($L$19))/(OFFSET(OrderRange_Ref,,4)>0),ROWS($L$20:$L168)-OFFSET(Cumulative,,3)),IF(OFFSET(Cumulative,,5)>(ROW()-ROW($O$20)),_xlfn.AGGREGATE(15,6,(ROW(OrderRange_Ref)-ROW($L$19))/(OFFSET(OrderRange_Ref,,5)>0),ROWS($L$20:$L168)-OFFSET(Cumulative,,4)),\"\"))))))","v":""},"","","","",""]
[null,null,null,null,null,null,null,null,null,null,null,null,null,{"$f":"IF(Cumulative>(ROW()-ROW($O$20)),_xlfn.AGGREGATE(15,6,(ROW(OrderRange_Ref)-ROW($L$19))/(OFFSET(OrderRange_Ref,,0)>0),ROWS($L$20:$L169)),IF(OFFSET(Cumulative,,1)>(ROW()-ROW($O$20)),_xlfn.AGGREGATE(15,6,(ROW(OrderRange_Ref)-ROW($L$19))/(OFFSET(OrderRange_Ref,,1)>0),ROWS($L$20:$L169)-OFFSET(Cumulative,,0)),IF(OFFSET(Cumulative,,2)>(ROW()-ROW($O$20)),_xlfn.AGGREGATE(15,6,(ROW(OrderRange_Ref)-ROW($L$19))/(OFFSET(OrderRange_Ref,,2)>0),ROWS($L$20:$L169)-OFFSET(Cumulative,,1)),IF(OFFSET(Cumulative,,3)>(ROW()-ROW($O$20)),_xlfn.AGGREGATE(15,6,(ROW(OrderRange_Ref)-ROW($L$19))/(OFFSET(OrderRange_Ref,,3)>0),ROWS($L$20:$L169)-OFFSET(Cumulative,,2)),IF(OFFSET(Cumulative,,4)>(ROW()-ROW($O$20)),_xlfn.AGGREGATE(15,6,(ROW(OrderRange_Ref)-ROW($L$19))/(OFFSET(OrderRange_Ref,,4)>0),ROWS($L$20:$L169)-OFFSET(Cumulative,,3)),IF(OFFSET(Cumulative,,5)>(ROW()-ROW($O$20)),_xlfn.AGGREGATE(15,6,(ROW(OrderRange_Ref)-ROW($L$19))/(OFFSET(OrderRange_Ref,,5)>0),ROWS($L$20:$L169)-OFFSET(Cumulative,,4)),\"\"))))))","v":""},"","","","",""]
[null,null,null,null,null,null,null,null,null,null,null,null,null,{"$f":"IF(Cumulative>(ROW()-ROW($O$20)),_xlfn.AGGREGATE(15,6,(ROW(OrderRange_Ref)-ROW($L$19))/(OFFSET(OrderRange_Ref,,0)>0),ROWS($L$20:$L170)),IF(OFFSET(Cumulative,,1)>(ROW()-ROW($O$20)),_xlfn.AGGREGATE(15,6,(ROW(OrderRange_Ref)-ROW($L$19))/(OFFSET(OrderRange_Ref,,1)>0),ROWS($L$20:$L170)-OFFSET(Cumulative,,0)),IF(OFFSET(Cumulative,,2)>(ROW()-ROW($O$20)),_xlfn.AGGREGATE(15,6,(ROW(OrderRange_Ref)-ROW($L$19))/(OFFSET(OrderRange_Ref,,2)>0),ROWS($L$20:$L170)-OFFSET(Cumulative,,1)),IF(OFFSET(Cumulative,,3)>(ROW()-ROW($O$20)),_xlfn.AGGREGATE(15,6,(ROW(OrderRange_Ref)-ROW($L$19))/(OFFSET(OrderRange_Ref,,3)>0),ROWS($L$20:$L170)-OFFSET(Cumulative,,2)),IF(OFFSET(Cumulative,,4)>(ROW()-ROW($O$20)),_xlfn.AGGREGATE(15,6,(ROW(OrderRange_Ref)-ROW($L$19))/(OFFSET(OrderRange_Ref,,4)>0),ROWS($L$20:$L170)-OFFSET(Cumulative,,3)),IF(OFFSET(Cumulative,,5)>(ROW()-ROW($O$20)),_xlfn.AGGREGATE(15,6,(ROW(OrderRange_Ref)-ROW($L$19))/(OFFSET(OrderRange_Ref,,5)>0),ROWS($L$20:$L170)-OFFSET(Cumulative,,4)),\"\"))))))","v":""},"","","","",""]
[null,null,null,null,null,null,null,null,null,null,null,null,null,{"$f":"IF(Cumulative>(ROW()-ROW($O$20)),_xlfn.AGGREGATE(15,6,(ROW(OrderRange_Ref)-ROW($L$19))/(OFFSET(OrderRange_Ref,,0)>0),ROWS($L$20:$L171)),IF(OFFSET(Cumulative,,1)>(ROW()-ROW($O$20)),_xlfn.AGGREGATE(15,6,(ROW(OrderRange_Ref)-ROW($L$19))/(OFFSET(OrderRange_Ref,,1)>0),ROWS($L$20:$L171)-OFFSET(Cumulative,,0)),IF(OFFSET(Cumulative,,2)>(ROW()-ROW($O$20)),_xlfn.AGGREGATE(15,6,(ROW(OrderRange_Ref)-ROW($L$19))/(OFFSET(OrderRange_Ref,,2)>0),ROWS($L$20:$L171)-OFFSET(Cumulative,,1)),IF(OFFSET(Cumulative,,3)>(ROW()-ROW($O$20)),_xlfn.AGGREGATE(15,6,(ROW(OrderRange_Ref)-ROW($L$19))/(OFFSET(OrderRange_Ref,,3)>0),ROWS($L$20:$L171)-OFFSET(Cumulative,,2)),IF(OFFSET(Cumulative,,4)>(ROW()-ROW($O$20)),_xlfn.AGGREGATE(15,6,(ROW(OrderRange_Ref)-ROW($L$19))/(OFFSET(OrderRange_Ref,,4)>0),ROWS($L$20:$L171)-OFFSET(Cumulative,,3)),IF(OFFSET(Cumulative,,5)>(ROW()-ROW($O$20)),_xlfn.AGGREGATE(15,6,(ROW(OrderRange_Ref)-ROW($L$19))/(OFFSET(OrderRange_Ref,,5)>0),ROWS($L$20:$L171)-OFFSET(Cumulative,,4)),\"\"))))))","v":""},"","","","",""]
[null,null,null,null,null,null,null,null,null,null,null,null,null,{"$f":"IF(Cumulative>(ROW()-ROW($O$20)),_xlfn.AGGREGATE(15,6,(ROW(OrderRange_Ref)-ROW($L$19))/(OFFSET(OrderRange_Ref,,0)>0),ROWS($L$20:$L172)),IF(OFFSET(Cumulative,,1)>(ROW()-ROW($O$20)),_xlfn.AGGREGATE(15,6,(ROW(OrderRange_Ref)-ROW($L$19))/(OFFSET(OrderRange_Ref,,1)>0),ROWS($L$20:$L172)-OFFSET(Cumulative,,0)),IF(OFFSET(Cumulative,,2)>(ROW()-ROW($O$20)),_xlfn.AGGREGATE(15,6,(ROW(OrderRange_Ref)-ROW($L$19))/(OFFSET(OrderRange_Ref,,2)>0),ROWS($L$20:$L172)-OFFSET(Cumulative,,1)),IF(OFFSET(Cumulative,,3)>(ROW()-ROW($O$20)),_xlfn.AGGREGATE(15,6,(ROW(OrderRange_Ref)-ROW($L$19))/(OFFSET(OrderRange_Ref,,3)>0),ROWS($L$20:$L172)-OFFSET(Cumulative,,2)),IF(OFFSET(Cumulative,,4)>(ROW()-ROW($O$20)),_xlfn.AGGREGATE(15,6,(ROW(OrderRange_Ref)-ROW($L$19))/(OFFSET(OrderRange_Ref,,4)>0),ROWS($L$20:$L172)-OFFSET(Cumulative,,3)),IF(OFFSET(Cumulative,,5)>(ROW()-ROW($O$20)),_xlfn.AGGREGATE(15,6,(ROW(OrderRange_Ref)-ROW($L$19))/(OFFSET(OrderRange_Ref,,5)>0),ROWS($L$20:$L172)-OFFSET(Cumulative,,4)),\"\"))))))","v":""},"","","","",""]
[null,null,null,null,null,null,null,null,null,null,null,null,null,{"$f":"IF(Cumulative>(ROW()-ROW($O$20)),_xlfn.AGGREGATE(15,6,(ROW(OrderRange_Ref)-ROW($L$19))/(OFFSET(OrderRange_Ref,,0)>0),ROWS($L$20:$L173)),IF(OFFSET(Cumulative,,1)>(ROW()-ROW($O$20)),_xlfn.AGGREGATE(15,6,(ROW(OrderRange_Ref)-ROW($L$19))/(OFFSET(OrderRange_Ref,,1)>0),ROWS($L$20:$L173)-OFFSET(Cumulative,,0)),IF(OFFSET(Cumulative,,2)>(ROW()-ROW($O$20)),_xlfn.AGGREGATE(15,6,(ROW(OrderRange_Ref)-ROW($L$19))/(OFFSET(OrderRange_Ref,,2)>0),ROWS($L$20:$L173)-OFFSET(Cumulative,,1)),IF(OFFSET(Cumulative,,3)>(ROW()-ROW($O$20)),_xlfn.AGGREGATE(15,6,(ROW(OrderRange_Ref)-ROW($L$19))/(OFFSET(OrderRange_Ref,,3)>0),ROWS($L$20:$L173)-OFFSET(Cumulative,,2)),IF(OFFSET(Cumulative,,4)>(ROW()-ROW($O$20)),_xlfn.AGGREGATE(15,6,(ROW(OrderRange_Ref)-ROW($L$19))/(OFFSET(OrderRange_Ref,,4)>0),ROWS($L$20:$L173)-OFFSET(Cumulative,,3)),IF(OFFSET(Cumulative,,5)>(ROW()-ROW($O$20)),_xlfn.AGGREGATE(15,6,(ROW(OrderRange_Ref)-ROW($L$19))/(OFFSET(OrderRange_Ref,,5)>0),ROWS($L$20:$L173)-OFFSET(Cumulative,,4)),\"\"))))))","v":""},"","","","",""]
[null,null,null,null,null,null,null,null,null,null,null,null,null,{"$f":"IF(Cumulative>(ROW()-ROW($O$20)),_xlfn.AGGREGATE(15,6,(ROW(OrderRange_Ref)-ROW($L$19))/(OFFSET(OrderRange_Ref,,0)>0),ROWS($L$20:$L174)),IF(OFFSET(Cumulative,,1)>(ROW()-ROW($O$20)),_xlfn.AGGREGATE(15,6,(ROW(OrderRange_Ref)-ROW($L$19))/(OFFSET(OrderRange_Ref,,1)>0),ROWS($L$20:$L174)-OFFSET(Cumulative,,0)),IF(OFFSET(Cumulative,,2)>(ROW()-ROW($O$20)),_xlfn.AGGREGATE(15,6,(ROW(OrderRange_Ref)-ROW($L$19))/(OFFSET(OrderRange_Ref,,2)>0),ROWS($L$20:$L174)-OFFSET(Cumulative,,1)),IF(OFFSET(Cumulative,,3)>(ROW()-ROW($O$20)),_xlfn.AGGREGATE(15,6,(ROW(OrderRange_Ref)-ROW($L$19))/(OFFSET(OrderRange_Ref,,3)>0),ROWS($L$20:$L174)-OFFSET(Cumulative,,2)),IF(OFFSET(Cumulative,,4)>(ROW()-ROW($O$20)),_xlfn.AGGREGATE(15,6,(ROW(OrderRange_Ref)-ROW($L$19))/(OFFSET(OrderRange_Ref,,4)>0),ROWS($L$20:$L174)-OFFSET(Cumulative,,3)),IF(OFFSET(Cumulative,,5)>(ROW()-ROW($O$20)),_xlfn.AGGREGATE(15,6,(ROW(OrderRange_Ref)-ROW($L$19))/(OFFSET(OrderRange_Ref,,5)>0),ROWS($L$20:$L174)-OFFSET(Cumulative,,4)),\"\"))))))","v":""},"","","","",""]
[null,null,null,null,null,null,null,null,null,null,null,null,null,{"$f":"IF(Cumulative>(ROW()-ROW($O$20)),_xlfn.AGGREGATE(15,6,(ROW(OrderRange_Ref)-ROW($L$19))/(OFFSET(OrderRange_Ref,,0)>0),ROWS($L$20:$L175)),IF(OFFSET(Cumulative,,1)>(ROW()-ROW($O$20)),_xlfn.AGGREGATE(15,6,(ROW(OrderRange_Ref)-ROW($L$19))/(OFFSET(OrderRange_Ref,,1)>0),ROWS($L$20:$L175)-OFFSET(Cumulative,,0)),IF(OFFSET(Cumulative,,2)>(ROW()-ROW($O$20)),_xlfn.AGGREGATE(15,6,(ROW(OrderRange_Ref)-ROW($L$19))/(OFFSET(OrderRange_Ref,,2)>0),ROWS($L$20:$L175)-OFFSET(Cumulative,,1)),IF(OFFSET(Cumulative,,3)>(ROW()-ROW($O$20)),_xlfn.AGGREGATE(15,6,(ROW(OrderRange_Ref)-ROW($L$19))/(OFFSET(OrderRange_Ref,,3)>0),ROWS($L$20:$L175)-OFFSET(Cumulative,,2)),IF(OFFSET(Cumulative,,4)>(ROW()-ROW($O$20)),_xlfn.AGGREGATE(15,6,(ROW(OrderRange_Ref)-ROW($L$19))/(OFFSET(OrderRange_Ref,,4)>0),ROWS($L$20:$L175)-OFFSET(Cumulative,,3)),IF(OFFSET(Cumulative,,5)>(ROW()-ROW($O$20)),_xlfn.AGGREGATE(15,6,(ROW(OrderRange_Ref)-ROW($L$19))/(OFFSET(OrderRange_Ref,,5)>0),ROWS($L$20:$L175)-OFFSET(Cumulative,,4)),\"\"))))))","v":""},"","","","",""]
[null,null,null,null,null,null,null,null,null,null,null,null,null,{"$f":"IF(Cumulative>(ROW()-ROW($O$20)),_xlfn.AGGREGATE(15,6,(ROW(OrderRange_Ref)-ROW($L$19))/(OFFSET(OrderRange_Ref,,0)>0),ROWS($L$20:$L176)),IF(OFFSET(Cumulative,,1)>(ROW()-ROW($O$20)),_xlfn.AGGREGATE(15,6,(ROW(OrderRange_Ref)-ROW($L$19))/(OFFSET(OrderRange_Ref,,1)>0),ROWS($L$20:$L176)-OFFSET(Cumulative,,0)),IF(OFFSET(Cumulative,,2)>(ROW()-ROW($O$20)),_xlfn.AGGREGATE(15,6,(ROW(OrderRange_Ref)-ROW($L$19))/(OFFSET(OrderRange_Ref,,2)>0),ROWS($L$20:$L176)-OFFSET(Cumulative,,1)),IF(OFFSET(Cumulative,,3)>(ROW()-ROW($O$20)),_xlfn.AGGREGATE(15,6,(ROW(OrderRange_Ref)-ROW($L$19))/(OFFSET(OrderRange_Ref,,3)>0),ROWS($L$20:$L176)-OFFSET(Cumulative,,2)),IF(OFFSET(Cumulative,,4)>(ROW()-ROW($O$20)),_xlfn.AGGREGATE(15,6,(ROW(OrderRange_Ref)-ROW($L$19))/(OFFSET(OrderRange_Ref,,4)>0),ROWS($L$20:$L176)-OFFSET(Cumulative,,3)),IF(OFFSET(Cumulative,,5)>(ROW()-ROW($O$20)),_xlfn.AGGREGATE(15,6,(ROW(OrderRange_Ref)-ROW($L$19))/(OFFSET(OrderRange_Ref,,5)>0),ROWS($L$20:$L176)-OFFSET(Cumulative,,4)),\"\"))))))","v":""},"","","","",""]
[null,null,null,null,null,null,null,null,null,null,null,null,null,{"$f":"IF(Cumulative>(ROW()-ROW($O$20)),_xlfn.AGGREGATE(15,6,(ROW(OrderRange_Ref)-ROW($L$19))/(OFFSET(OrderRange_Ref,,0)>0),ROWS($L$20:$L177)),IF(OFFSET(Cumulative,,1)>(ROW()-ROW($O$20)),_xlfn.AGGREGATE(15,6,(ROW(OrderRange_Ref)-ROW($L$19))/(OFFSET(OrderRange_Ref,,1)>0),ROWS($L$20:$L177)-OFFSET(Cumulative,,0)),IF(OFFSET(Cumulative,,2)>(ROW()-ROW($O$20)),_xlfn.AGGREGATE(15,6,(ROW(OrderRange_Ref)-ROW($L$19))/(OFFSET(OrderRange_Ref,,2)>0),ROWS($L$20:$L177)-OFFSET(Cumulative,,1)),IF(OFFSET(Cumulative,,3)>(ROW()-ROW($O$20)),_xlfn.AGGREGATE(15,6,(ROW(OrderRange_Ref)-ROW($L$19))/(OFFSET(OrderRange_Ref,,3)>0),ROWS($L$20:$L177)-OFFSET(Cumulative,,2)),IF(OFFSET(Cumulative,,4)>(ROW()-ROW($O$20)),_xlfn.AGGREGATE(15,6,(ROW(OrderRange_Ref)-ROW($L$19))/(OFFSET(OrderRange_Ref,,4)>0),ROWS($L$20:$L177)-OFFSET(Cumulative,,3)),IF(OFFSET(Cumulative,,5)>(ROW()-ROW($O$20)),_xlfn.AGGREGATE(15,6,(ROW(OrderRange_Ref)-ROW($L$19))/(OFFSET(OrderRange_Ref,,5)>0),ROWS($L$20:$L177)-OFFSET(Cumulative,,4)),\"\"))))))","v":""},"","","","",""]
[null,null,null,null,null,null,null,null,null,null,null,null,null,{"$f":"IF(Cumulative>(ROW()-ROW($O$20)),_xlfn.AGGREGATE(15,6,(ROW(OrderRange_Ref)-ROW($L$19))/(OFFSET(OrderRange_Ref,,0)>0),ROWS($L$20:$L178)),IF(OFFSET(Cumulative,,1)>(ROW()-ROW($O$20)),_xlfn.AGGREGATE(15,6,(ROW(OrderRange_Ref)-ROW($L$19))/(OFFSET(OrderRange_Ref,,1)>0),ROWS($L$20:$L178)-OFFSET(Cumulative,,0)),IF(OFFSET(Cumulative,,2)>(ROW()-ROW($O$20)),_xlfn.AGGREGATE(15,6,(ROW(OrderRange_Ref)-ROW($L$19))/(OFFSET(OrderRange_Ref,,2)>0),ROWS($L$20:$L178)-OFFSET(Cumulative,,1)),IF(OFFSET(Cumulative,,3)>(ROW()-ROW($O$20)),_xlfn.AGGREGATE(15,6,(ROW(OrderRange_Ref)-ROW($L$19))/(OFFSET(OrderRange_Ref,,3)>0),ROWS($L$20:$L178)-OFFSET(Cumulative,,2)),IF(OFFSET(Cumulative,,4)>(ROW()-ROW($O$20)),_xlfn.AGGREGATE(15,6,(ROW(OrderRange_Ref)-ROW($L$19))/(OFFSET(OrderRange_Ref,,4)>0),ROWS($L$20:$L178)-OFFSET(Cumulative,,3)),IF(OFFSET(Cumulative,,5)>(ROW()-ROW($O$20)),_xlfn.AGGREGATE(15,6,(ROW(OrderRange_Ref)-ROW($L$19))/(OFFSET(OrderRange_Ref,,5)>0),ROWS($L$20:$L178)-OFFSET(Cumulative,,4)),\"\"))))))","v":""},"","","","",""]
[null,null,null,null,null,null,null,null,null,null,null,null,null,{"$f":"IF(Cumulative>(ROW()-ROW($O$20)),_xlfn.AGGREGATE(15,6,(ROW(OrderRange_Ref)-ROW($L$19))/(OFFSET(OrderRange_Ref,,0)>0),ROWS($L$20:$L179)),IF(OFFSET(Cumulative,,1)>(ROW()-ROW($O$20)),_xlfn.AGGREGATE(15,6,(ROW(OrderRange_Ref)-ROW($L$19))/(OFFSET(OrderRange_Ref,,1)>0),ROWS($L$20:$L179)-OFFSET(Cumulative,,0)),IF(OFFSET(Cumulative,,2)>(ROW()-ROW($O$20)),_xlfn.AGGREGATE(15,6,(ROW(OrderRange_Ref)-ROW($L$19))/(OFFSET(OrderRange_Ref,,2)>0),ROWS($L$20:$L179)-OFFSET(Cumulative,,1)),IF(OFFSET(Cumulative,,3)>(ROW()-ROW($O$20)),_xlfn.AGGREGATE(15,6,(ROW(OrderRange_Ref)-ROW($L$19))/(OFFSET(OrderRange_Ref,,3)>0),ROWS($L$20:$L179)-OFFSET(Cumulative,,2)),IF(OFFSET(Cumulative,,4)>(ROW()-ROW($O$20)),_xlfn.AGGREGATE(15,6,(ROW(OrderRange_Ref)-ROW($L$19))/(OFFSET(OrderRange_Ref,,4)>0),ROWS($L$20:$L179)-OFFSET(Cumulative,,3)),IF(OFFSET(Cumulative,,5)>(ROW()-ROW($O$20)),_xlfn.AGGREGATE(15,6,(ROW(OrderRange_Ref)-ROW($L$19))/(OFFSET(OrderRange_Ref,,5)>0),ROWS($L$20:$L179)-OFFSET(Cumulative,,4)),\"\"))))))","v":""},"","","","",""]
[null,null,null,null,null,null,null,null,null,null,null,null,null,{"$f":"IF(Cumulative>(ROW()-ROW($O$20)),_xlfn.AGGREGATE(15,6,(ROW(OrderRange_Ref)-ROW($L$19))/(OFFSET(OrderRange_Ref,,0)>0),ROWS($L$20:$L180)),IF(OFFSET(Cumulative,,1)>(ROW()-ROW($O$20)),_xlfn.AGGREGATE(15,6,(ROW(OrderRange_Ref)-ROW($L$19))/(OFFSET(OrderRange_Ref,,1)>0),ROWS($L$20:$L180)-OFFSET(Cumulative,,0)),IF(OFFSET(Cumulative,,2)>(ROW()-ROW($O$20)),_xlfn.AGGREGATE(15,6,(ROW(OrderRange_Ref)-ROW($L$19))/(OFFSET(OrderRange_Ref,,2)>0),ROWS($L$20:$L180)-OFFSET(Cumulative,,1)),IF(OFFSET(Cumulative,,3)>(ROW()-ROW($O$20)),_xlfn.AGGREGATE(15,6,(ROW(OrderRange_Ref)-ROW($L$19))/(OFFSET(OrderRange_Ref,,3)>0),ROWS($L$20:$L180)-OFFSET(Cumulative,,2)),IF(OFFSET(Cumulative,,4)>(ROW()-ROW($O$20)),_xlfn.AGGREGATE(15,6,(ROW(OrderRange_Ref)-ROW($L$19))/(OFFSET(OrderRange_Ref,,4)>0),ROWS($L$20:$L180)-OFFSET(Cumulative,,3)),IF(OFFSET(Cumulative,,5)>(ROW()-ROW($O$20)),_xlfn.AGGREGATE(15,6,(ROW(OrderRange_Ref)-ROW($L$19))/(OFFSET(OrderRange_Ref,,5)>0),ROWS($L$20:$L180)-OFFSET(Cumulative,,4)),\"\"))))))","v":""},"","","","",""]
[null,null,null,null,null,null,null,null,null,null,null,null,null,{"$f":"IF(Cumulative>(ROW()-ROW($O$20)),_xlfn.AGGREGATE(15,6,(ROW(OrderRange_Ref)-ROW($L$19))/(OFFSET(OrderRange_Ref,,0)>0),ROWS($L$20:$L181)),IF(OFFSET(Cumulative,,1)>(ROW()-ROW($O$20)),_xlfn.AGGREGATE(15,6,(ROW(OrderRange_Ref)-ROW($L$19))/(OFFSET(OrderRange_Ref,,1)>0),ROWS($L$20:$L181)-OFFSET(Cumulative,,0)),IF(OFFSET(Cumulative,,2)>(ROW()-ROW($O$20)),_xlfn.AGGREGATE(15,6,(ROW(OrderRange_Ref)-ROW($L$19))/(OFFSET(OrderRange_Ref,,2)>0),ROWS($L$20:$L181)-OFFSET(Cumulative,,1)),IF(OFFSET(Cumulative,,3)>(ROW()-ROW($O$20)),_xlfn.AGGREGATE(15,6,(ROW(OrderRange_Ref)-ROW($L$19))/(OFFSET(OrderRange_Ref,,3)>0),ROWS($L$20:$L181)-OFFSET(Cumulative,,2)),IF(OFFSET(Cumulative,,4)>(ROW()-ROW($O$20)),_xlfn.AGGREGATE(15,6,(ROW(OrderRange_Ref)-ROW($L$19))/(OFFSET(OrderRange_Ref,,4)>0),ROWS($L$20:$L181)-OFFSET(Cumulative,,3)),IF(OFFSET(Cumulative,,5)>(ROW()-ROW($O$20)),_xlfn.AGGREGATE(15,6,(ROW(OrderRange_Ref)-ROW($L$19))/(OFFSET(OrderRange_Ref,,5)>0),ROWS($L$20:$L181)-OFFSET(Cumulative,,4)),\"\"))))))","v":""},"","","","",""]
[null,null,null,null,null,null,null,null,null,null,null,null,null,{"$f":"IF(Cumulative>(ROW()-ROW($O$20)),_xlfn.AGGREGATE(15,6,(ROW(OrderRange_Ref)-ROW($L$19))/(OFFSET(OrderRange_Ref,,0)>0),ROWS($L$20:$L182)),IF(OFFSET(Cumulative,,1)>(ROW()-ROW($O$20)),_xlfn.AGGREGATE(15,6,(ROW(OrderRange_Ref)-ROW($L$19))/(OFFSET(OrderRange_Ref,,1)>0),ROWS($L$20:$L182)-OFFSET(Cumulative,,0)),IF(OFFSET(Cumulative,,2)>(ROW()-ROW($O$20)),_xlfn.AGGREGATE(15,6,(ROW(OrderRange_Ref)-ROW($L$19))/(OFFSET(OrderRange_Ref,,2)>0),ROWS($L$20:$L182)-OFFSET(Cumulative,,1)),IF(OFFSET(Cumulative,,3)>(ROW()-ROW($O$20)),_xlfn.AGGREGATE(15,6,(ROW(OrderRange_Ref)-ROW($L$19))/(OFFSET(OrderRange_Ref,,3)>0),ROWS($L$20:$L182)-OFFSET(Cumulative,,2)),IF(OFFSET(Cumulative,,4)>(ROW()-ROW($O$20)),_xlfn.AGGREGATE(15,6,(ROW(OrderRange_Ref)-ROW($L$19))/(OFFSET(OrderRange_Ref,,4)>0),ROWS($L$20:$L182)-OFFSET(Cumulative,,3)),IF(OFFSET(Cumulative,,5)>(ROW()-ROW($O$20)),_xlfn.AGGREGATE(15,6,(ROW(OrderRange_Ref)-ROW($L$19))/(OFFSET(OrderRange_Ref,,5)>0),ROWS($L$20:$L182)-OFFSET(Cumulative,,4)),\"\"))))))","v":""},"","","","",""]
[null,null,null,null,null,null,null,null,null,null,null,null,null,{"$f":"IF(Cumulative>(ROW()-ROW($O$20)),_xlfn.AGGREGATE(15,6,(ROW(OrderRange_Ref)-ROW($L$19))/(OFFSET(OrderRange_Ref,,0)>0),ROWS($L$20:$L183)),IF(OFFSET(Cumulative,,1)>(ROW()-ROW($O$20)),_xlfn.AGGREGATE(15,6,(ROW(OrderRange_Ref)-ROW($L$19))/(OFFSET(OrderRange_Ref,,1)>0),ROWS($L$20:$L183)-OFFSET(Cumulative,,0)),IF(OFFSET(Cumulative,,2)>(ROW()-ROW($O$20)),_xlfn.AGGREGATE(15,6,(ROW(OrderRange_Ref)-ROW($L$19))/(OFFSET(OrderRange_Ref,,2)>0),ROWS($L$20:$L183)-OFFSET(Cumulative,,1)),IF(OFFSET(Cumulative,,3)>(ROW()-ROW($O$20)),_xlfn.AGGREGATE(15,6,(ROW(OrderRange_Ref)-ROW($L$19))/(OFFSET(OrderRange_Ref,,3)>0),ROWS($L$20:$L183)-OFFSET(Cumulative,,2)),IF(OFFSET(Cumulative,,4)>(ROW()-ROW($O$20)),_xlfn.AGGREGATE(15,6,(ROW(OrderRange_Ref)-ROW($L$19))/(OFFSET(OrderRange_Ref,,4)>0),ROWS($L$20:$L183)-OFFSET(Cumulative,,3)),IF(OFFSET(Cumulative,,5)>(ROW()-ROW($O$20)),_xlfn.AGGREGATE(15,6,(ROW(OrderRange_Ref)-ROW($L$19))/(OFFSET(OrderRange_Ref,,5)>0),ROWS($L$20:$L183)-OFFSET(Cumulative,,4)),\"\"))))))","v":""},"","","","",""]
[null,null,null,null,null,null,null,null,null,null,null,null,null,{"$f":"IF(Cumulative>(ROW()-ROW($O$20)),_xlfn.AGGREGATE(15,6,(ROW(OrderRange_Ref)-ROW($L$19))/(OFFSET(OrderRange_Ref,,0)>0),ROWS($L$20:$L184)),IF(OFFSET(Cumulative,,1)>(ROW()-ROW($O$20)),_xlfn.AGGREGATE(15,6,(ROW(OrderRange_Ref)-ROW($L$19))/(OFFSET(OrderRange_Ref,,1)>0),ROWS($L$20:$L184)-OFFSET(Cumulative,,0)),IF(OFFSET(Cumulative,,2)>(ROW()-ROW($O$20)),_xlfn.AGGREGATE(15,6,(ROW(OrderRange_Ref)-ROW($L$19))/(OFFSET(OrderRange_Ref,,2)>0),ROWS($L$20:$L184)-OFFSET(Cumulative,,1)),IF(OFFSET(Cumulative,,3)>(ROW()-ROW($O$20)),_xlfn.AGGREGATE(15,6,(ROW(OrderRange_Ref)-ROW($L$19))/(OFFSET(OrderRange_Ref,,3)>0),ROWS($L$20:$L184)-OFFSET(Cumulative,,2)),IF(OFFSET(Cumulative,,4)>(ROW()-ROW($O$20)),_xlfn.AGGREGATE(15,6,(ROW(OrderRange_Ref)-ROW($L$19))/(OFFSET(OrderRange_Ref,,4)>0),ROWS($L$20:$L184)-OFFSET(Cumulative,,3)),IF(OFFSET(Cumulative,,5)>(ROW()-ROW($O$20)),_xlfn.AGGREGATE(15,6,(ROW(OrderRange_Ref)-ROW($L$19))/(OFFSET(OrderRange_Ref,,5)>0),ROWS($L$20:$L184)-OFFSET(Cumulative,,4)),\"\"))))))","v":""},"","","","",""]
[null,null,null,null,null,null,null,null,null,null,null,null,null,{"$f":"IF(Cumulative>(ROW()-ROW($O$20)),_xlfn.AGGREGATE(15,6,(ROW(OrderRange_Ref)-ROW($L$19))/(OFFSET(OrderRange_Ref,,0)>0),ROWS($L$20:$L185)),IF(OFFSET(Cumulative,,1)>(ROW()-ROW($O$20)),_xlfn.AGGREGATE(15,6,(ROW(OrderRange_Ref)-ROW($L$19))/(OFFSET(OrderRange_Ref,,1)>0),ROWS($L$20:$L185)-OFFSET(Cumulative,,0)),IF(OFFSET(Cumulative,,2)>(ROW()-ROW($O$20)),_xlfn.AGGREGATE(15,6,(ROW(OrderRange_Ref)-ROW($L$19))/(OFFSET(OrderRange_Ref,,2)>0),ROWS($L$20:$L185)-OFFSET(Cumulative,,1)),IF(OFFSET(Cumulative,,3)>(ROW()-ROW($O$20)),_xlfn.AGGREGATE(15,6,(ROW(OrderRange_Ref)-ROW($L$19))/(OFFSET(OrderRange_Ref,,3)>0),ROWS($L$20:$L185)-OFFSET(Cumulative,,2)),IF(OFFSET(Cumulative,,4)>(ROW()-ROW($O$20)),_xlfn.AGGREGATE(15,6,(ROW(OrderRange_Ref)-ROW($L$19))/(OFFSET(OrderRange_Ref,,4)>0),ROWS($L$20:$L185)-OFFSET(Cumulative,,3)),IF(OFFSET(Cumulative,,5)>(ROW()-ROW($O$20)),_xlfn.AGGREGATE(15,6,(ROW(OrderRange_Ref)-ROW($L$19))/(OFFSET(OrderRange_Ref,,5)>0),ROWS($L$20:$L185)-OFFSET(Cumulative,,4)),\"\"))))))","v":""},"","","","",""]
[null,null,null,null,null,null,null,null,null,null,null,null,null,{"$f":"IF(Cumulative>(ROW()-ROW($O$20)),_xlfn.AGGREGATE(15,6,(ROW(OrderRange_Ref)-ROW($L$19))/(OFFSET(OrderRange_Ref,,0)>0),ROWS($L$20:$L186)),IF(OFFSET(Cumulative,,1)>(ROW()-ROW($O$20)),_xlfn.AGGREGATE(15,6,(ROW(OrderRange_Ref)-ROW($L$19))/(OFFSET(OrderRange_Ref,,1)>0),ROWS($L$20:$L186)-OFFSET(Cumulative,,0)),IF(OFFSET(Cumulative,,2)>(ROW()-ROW($O$20)),_xlfn.AGGREGATE(15,6,(ROW(OrderRange_Ref)-ROW($L$19))/(OFFSET(OrderRange_Ref,,2)>0),ROWS($L$20:$L186)-OFFSET(Cumulative,,1)),IF(OFFSET(Cumulative,,3)>(ROW()-ROW($O$20)),_xlfn.AGGREGATE(15,6,(ROW(OrderRange_Ref)-ROW($L$19))/(OFFSET(OrderRange_Ref,,3)>0),ROWS($L$20:$L186)-OFFSET(Cumulative,,2)),IF(OFFSET(Cumulative,,4)>(ROW()-ROW($O$20)),_xlfn.AGGREGATE(15,6,(ROW(OrderRange_Ref)-ROW($L$19))/(OFFSET(OrderRange_Ref,,4)>0),ROWS($L$20:$L186)-OFFSET(Cumulative,,3)),IF(OFFSET(Cumulative,,5)>(ROW()-ROW($O$20)),_xlfn.AGGREGATE(15,6,(ROW(OrderRange_Ref)-ROW($L$19))/(OFFSET(OrderRange_Ref,,5)>0),ROWS($L$20:$L186)-OFFSET(Cumulative,,4)),\"\"))))))","v":""},"","","","",""]
[null,null,null,null,null,null,null,null,null,null,null,null,null,{"$f":"IF(Cumulative>(ROW()-ROW($O$20)),_xlfn.AGGREGATE(15,6,(ROW(OrderRange_Ref)-ROW($L$19))/(OFFSET(OrderRange_Ref,,0)>0),ROWS($L$20:$L187)),IF(OFFSET(Cumulative,,1)>(ROW()-ROW($O$20)),_xlfn.AGGREGATE(15,6,(ROW(OrderRange_Ref)-ROW($L$19))/(OFFSET(OrderRange_Ref,,1)>0),ROWS($L$20:$L187)-OFFSET(Cumulative,,0)),IF(OFFSET(Cumulative,,2)>(ROW()-ROW($O$20)),_xlfn.AGGREGATE(15,6,(ROW(OrderRange_Ref)-ROW($L$19))/(OFFSET(OrderRange_Ref,,2)>0),ROWS($L$20:$L187)-OFFSET(Cumulative,,1)),IF(OFFSET(Cumulative,,3)>(ROW()-ROW($O$20)),_xlfn.AGGREGATE(15,6,(ROW(OrderRange_Ref)-ROW($L$19))/(OFFSET(OrderRange_Ref,,3)>0),ROWS($L$20:$L187)-OFFSET(Cumulative,,2)),IF(OFFSET(Cumulative,,4)>(ROW()-ROW($O$20)),_xlfn.AGGREGATE(15,6,(ROW(OrderRange_Ref)-ROW($L$19))/(OFFSET(OrderRange_Ref,,4)>0),ROWS($L$20:$L187)-OFFSET(Cumulative,,3)),IF(OFFSET(Cumulative,,5)>(ROW()-ROW($O$20)),_xlfn.AGGREGATE(15,6,(ROW(OrderRange_Ref)-ROW($L$19))/(OFFSET(OrderRange_Ref,,5)>0),ROWS($L$20:$L187)-OFFSET(Cumulative,,4)),\"\"))))))","v":""},"","","","",""]
[null,null,null,null,null,null,null,null,null,null,null,null,null,{"$f":"IF(Cumulative>(ROW()-ROW($O$20)),_xlfn.AGGREGATE(15,6,(ROW(OrderRange_Ref)-ROW($L$19))/(OFFSET(OrderRange_Ref,,0)>0),ROWS($L$20:$L188)),IF(OFFSET(Cumulative,,1)>(ROW()-ROW($O$20)),_xlfn.AGGREGATE(15,6,(ROW(OrderRange_Ref)-ROW($L$19))/(OFFSET(OrderRange_Ref,,1)>0),ROWS($L$20:$L188)-OFFSET(Cumulative,,0)),IF(OFFSET(Cumulative,,2)>(ROW()-ROW($O$20)),_xlfn.AGGREGATE(15,6,(ROW(OrderRange_Ref)-ROW($L$19))/(OFFSET(OrderRange_Ref,,2)>0),ROWS($L$20:$L188)-OFFSET(Cumulative,,1)),IF(OFFSET(Cumulative,,3)>(ROW()-ROW($O$20)),_xlfn.AGGREGATE(15,6,(ROW(OrderRange_Ref)-ROW($L$19))/(OFFSET(OrderRange_Ref,,3)>0),ROWS($L$20:$L188)-OFFSET(Cumulative,,2)),IF(OFFSET(Cumulative,,4)>(ROW()-ROW($O$20)),_xlfn.AGGREGATE(15,6,(ROW(OrderRange_Ref)-ROW($L$19))/(OFFSET(OrderRange_Ref,,4)>0),ROWS($L$20:$L188)-OFFSET(Cumulative,,3)),IF(OFFSET(Cumulative,,5)>(ROW()-ROW($O$20)),_xlfn.AGGREGATE(15,6,(ROW(OrderRange_Ref)-ROW($L$19))/(OFFSET(OrderRange_Ref,,5)>0),ROWS($L$20:$L188)-OFFSET(Cumulative,,4)),\"\"))))))","v":""},"","","","",""]
[null,null,null,null,null,null,null,null,null,null,null,null,null,{"$f":"IF(Cumulative>(ROW()-ROW($O$20)),_xlfn.AGGREGATE(15,6,(ROW(OrderRange_Ref)-ROW($L$19))/(OFFSET(OrderRange_Ref,,0)>0),ROWS($L$20:$L189)),IF(OFFSET(Cumulative,,1)>(ROW()-ROW($O$20)),_xlfn.AGGREGATE(15,6,(ROW(OrderRange_Ref)-ROW($L$19))/(OFFSET(OrderRange_Ref,,1)>0),ROWS($L$20:$L189)-OFFSET(Cumulative,,0)),IF(OFFSET(Cumulative,,2)>(ROW()-ROW($O$20)),_xlfn.AGGREGATE(15,6,(ROW(OrderRange_Ref)-ROW($L$19))/(OFFSET(OrderRange_Ref,,2)>0),ROWS($L$20:$L189)-OFFSET(Cumulative,,1)),IF(OFFSET(Cumulative,,3)>(ROW()-ROW($O$20)),_xlfn.AGGREGATE(15,6,(ROW(OrderRange_Ref)-ROW($L$19))/(OFFSET(OrderRange_Ref,,3)>0),ROWS($L$20:$L189)-OFFSET(Cumulative,,2)),IF(OFFSET(Cumulative,,4)>(ROW()-ROW($O$20)),_xlfn.AGGREGATE(15,6,(ROW(OrderRange_Ref)-ROW($L$19))/(OFFSET(OrderRange_Ref,,4)>0),ROWS($L$20:$L189)-OFFSET(Cumulative,,3)),IF(OFFSET(Cumulative,,5)>(ROW()-ROW($O$20)),_xlfn.AGGREGATE(15,6,(ROW(OrderRange_Ref)-ROW($L$19))/(OFFSET(OrderRange_Ref,,5)>0),ROWS($L$20:$L189)-OFFSET(Cumulative,,4)),\"\"))))))","v":""},"","","","",""]
[null,null,null,null,null,null,null,null,null,null,null,null,null,{"$f":"IF(Cumulative>(ROW()-ROW($O$20)),_xlfn.AGGREGATE(15,6,(ROW(OrderRange_Ref)-ROW($L$19))/(OFFSET(OrderRange_Ref,,0)>0),ROWS($L$20:$L190)),IF(OFFSET(Cumulative,,1)>(ROW()-ROW($O$20)),_xlfn.AGGREGATE(15,6,(ROW(OrderRange_Ref)-ROW($L$19))/(OFFSET(OrderRange_Ref,,1)>0),ROWS($L$20:$L190)-OFFSET(Cumulative,,0)),IF(OFFSET(Cumulative,,2)>(ROW()-ROW($O$20)),_xlfn.AGGREGATE(15,6,(ROW(OrderRange_Ref)-ROW($L$19))/(OFFSET(OrderRange_Ref,,2)>0),ROWS($L$20:$L190)-OFFSET(Cumulative,,1)),IF(OFFSET(Cumulative,,3)>(ROW()-ROW($O$20)),_xlfn.AGGREGATE(15,6,(ROW(OrderRange_Ref)-ROW($L$19))/(OFFSET(OrderRange_Ref,,3)>0),ROWS($L$20:$L190)-OFFSET(Cumulative,,2)),IF(OFFSET(Cumulative,,4)>(ROW()-ROW($O$20)),_xlfn.AGGREGATE(15,6,(ROW(OrderRange_Ref)-ROW($L$19))/(OFFSET(OrderRange_Ref,,4)>0),ROWS($L$20:$L190)-OFFSET(Cumulative,,3)),IF(OFFSET(Cumulative,,5)>(ROW()-ROW($O$20)),_xlfn.AGGREGATE(15,6,(ROW(OrderRange_Ref)-ROW($L$19))/(OFFSET(OrderRange_Ref,,5)>0),ROWS($L$20:$L190)-OFFSET(Cumulative,,4)),\"\"))))))","v":""},"","","","",""]
[null,null,null,null,null,null,null,null,null,null,null,null,null,{"$f":"IF(Cumulative>(ROW()-ROW($O$20)),_xlfn.AGGREGATE(15,6,(ROW(OrderRange_Ref)-ROW($L$19))/(OFFSET(OrderRange_Ref,,0)>0),ROWS($L$20:$L191)),IF(OFFSET(Cumulative,,1)>(ROW()-ROW($O$20)),_xlfn.AGGREGATE(15,6,(ROW(OrderRange_Ref)-ROW($L$19))/(OFFSET(OrderRange_Ref,,1)>0),ROWS($L$20:$L191)-OFFSET(Cumulative,,0)),IF(OFFSET(Cumulative,,2)>(ROW()-ROW($O$20)),_xlfn.AGGREGATE(15,6,(ROW(OrderRange_Ref)-ROW($L$19))/(OFFSET(OrderRange_Ref,,2)>0),ROWS($L$20:$L191)-OFFSET(Cumulative,,1)),IF(OFFSET(Cumulative,,3)>(ROW()-ROW($O$20)),_xlfn.AGGREGATE(15,6,(ROW(OrderRange_Ref)-ROW($L$19))/(OFFSET(OrderRange_Ref,,3)>0),ROWS($L$20:$L191)-OFFSET(Cumulative,,2)),IF(OFFSET(Cumulative,,4)>(ROW()-ROW($O$20)),_xlfn.AGGREGATE(15,6,(ROW(OrderRange_Ref)-ROW($L$19))/(OFFSET(OrderRange_Ref,,4)>0),ROWS($L$20:$L191)-OFFSET(Cumulative,,3)),IF(OFFSET(Cumulative,,5)>(ROW()-ROW($O$20)),_xlfn.AGGREGATE(15,6,(ROW(OrderRange_Ref)-ROW($L$19))/(OFFSET(OrderRange_Ref,,5)>0),ROWS($L$20:$L191)-OFFSET(Cumulative,,4)),\"\"))))))","v":""},"","","","",""]
[null,null,null,null,null,null,null,null,null,null,null,null,null,{"$f":"IF(Cumulative>(ROW()-ROW($O$20)),_xlfn.AGGREGATE(15,6,(ROW(OrderRange_Ref)-ROW($L$19))/(OFFSET(OrderRange_Ref,,0)>0),ROWS($L$20:$L192)),IF(OFFSET(Cumulative,,1)>(ROW()-ROW($O$20)),_xlfn.AGGREGATE(15,6,(ROW(OrderRange_Ref)-ROW($L$19))/(OFFSET(OrderRange_Ref,,1)>0),ROWS($L$20:$L192)-OFFSET(Cumulative,,0)),IF(OFFSET(Cumulative,,2)>(ROW()-ROW($O$20)),_xlfn.AGGREGATE(15,6,(ROW(OrderRange_Ref)-ROW($L$19))/(OFFSET(OrderRange_Ref,,2)>0),ROWS($L$20:$L192)-OFFSET(Cumulative,,1)),IF(OFFSET(Cumulative,,3)>(ROW()-ROW($O$20)),_xlfn.AGGREGATE(15,6,(ROW(OrderRange_Ref)-ROW($L$19))/(OFFSET(OrderRange_Ref,,3)>0),ROWS($L$20:$L192)-OFFSET(Cumulative,,2)),IF(OFFSET(Cumulative,,4)>(ROW()-ROW($O$20)),_xlfn.AGGREGATE(15,6,(ROW(OrderRange_Ref)-ROW($L$19))/(OFFSET(OrderRange_Ref,,4)>0),ROWS($L$20:$L192)-OFFSET(Cumulative,,3)),IF(OFFSET(Cumulative,,5)>(ROW()-ROW($O$20)),_xlfn.AGGREGATE(15,6,(ROW(OrderRange_Ref)-ROW($L$19))/(OFFSET(OrderRange_Ref,,5)>0),ROWS($L$20:$L192)-OFFSET(Cumulative,,4)),\"\"))))))","v":""},"","","","",""]
[null,null,null,null,null,null,null,null,null,null,null,null,null,{"$f":"IF(Cumulative>(ROW()-ROW($O$20)),_xlfn.AGGREGATE(15,6,(ROW(OrderRange_Ref)-ROW($L$19))/(OFFSET(OrderRange_Ref,,0)>0),ROWS($L$20:$L193)),IF(OFFSET(Cumulative,,1)>(ROW()-ROW($O$20)),_xlfn.AGGREGATE(15,6,(ROW(OrderRange_Ref)-ROW($L$19))/(OFFSET(OrderRange_Ref,,1)>0),ROWS($L$20:$L193)-OFFSET(Cumulative,,0)),IF(OFFSET(Cumulative,,2)>(ROW()-ROW($O$20)),_xlfn.AGGREGATE(15,6,(ROW(OrderRange_Ref)-ROW($L$19))/(OFFSET(OrderRange_Ref,,2)>0),ROWS($L$20:$L193)-OFFSET(Cumulative,,1)),IF(OFFSET(Cumulative,,3)>(ROW()-ROW($O$20)),_xlfn.AGGREGATE(15,6,(ROW(OrderRange_Ref)-ROW($L$19))/(OFFSET(OrderRange_Ref,,3)>0),ROWS($L$20:$L193)-OFFSET(Cumulative,,2)),IF(OFFSET(Cumulative,,4)>(ROW()-ROW($O$20)),_xlfn.AGGREGATE(15,6,(ROW(OrderRange_Ref)-ROW($L$19))/(OFFSET(OrderRange_Ref,,4)>0),ROWS($L$20:$L193)-OFFSET(Cumulative,,3)),IF(OFFSET(Cumulative,,5)>(ROW()-ROW($O$20)),_xlfn.AGGREGATE(15,6,(ROW(OrderRange_Ref)-ROW($L$19))/(OFFSET(OrderRange_Ref,,5)>0),ROWS($L$20:$L193)-OFFSET(Cumulative,,4)),\"\"))))))","v":""},"","","","",""]
[null,null,null,null,null,null,null,null,null,null,null,null,null,{"$f":"IF(Cumulative>(ROW()-ROW($O$20)),_xlfn.AGGREGATE(15,6,(ROW(OrderRange_Ref)-ROW($L$19))/(OFFSET(OrderRange_Ref,,0)>0),ROWS($L$20:$L194)),IF(OFFSET(Cumulative,,1)>(ROW()-ROW($O$20)),_xlfn.AGGREGATE(15,6,(ROW(OrderRange_Ref)-ROW($L$19))/(OFFSET(OrderRange_Ref,,1)>0),ROWS($L$20:$L194)-OFFSET(Cumulative,,0)),IF(OFFSET(Cumulative,,2)>(ROW()-ROW($O$20)),_xlfn.AGGREGATE(15,6,(ROW(OrderRange_Ref)-ROW($L$19))/(OFFSET(OrderRange_Ref,,2)>0),ROWS($L$20:$L194)-OFFSET(Cumulative,,1)),IF(OFFSET(Cumulative,,3)>(ROW()-ROW($O$20)),_xlfn.AGGREGATE(15,6,(ROW(OrderRange_Ref)-ROW($L$19))/(OFFSET(OrderRange_Ref,,3)>0),ROWS($L$20:$L194)-OFFSET(Cumulative,,2)),IF(OFFSET(Cumulative,,4)>(ROW()-ROW($O$20)),_xlfn.AGGREGATE(15,6,(ROW(OrderRange_Ref)-ROW($L$19))/(OFFSET(OrderRange_Ref,,4)>0),ROWS($L$20:$L194)-OFFSET(Cumulative,,3)),IF(OFFSET(Cumulative,,5)>(ROW()-ROW($O$20)),_xlfn.AGGREGATE(15,6,(ROW(OrderRange_Ref)-ROW($L$19))/(OFFSET(OrderRange_Ref,,5)>0),ROWS($L$20:$L194)-OFFSET(Cumulative,,4)),\"\"))))))","v":""},"","","","",""]
[null,null,null,null,null,null,null,null,null,null,null,null,null,{"$f":"IF(Cumulative>(ROW()-ROW($O$20)),_xlfn.AGGREGATE(15,6,(ROW(OrderRange_Ref)-ROW($L$19))/(OFFSET(OrderRange_Ref,,0)>0),ROWS($L$20:$L195)),IF(OFFSET(Cumulative,,1)>(ROW()-ROW($O$20)),_xlfn.AGGREGATE(15,6,(ROW(OrderRange_Ref)-ROW($L$19))/(OFFSET(OrderRange_Ref,,1)>0),ROWS($L$20:$L195)-OFFSET(Cumulative,,0)),IF(OFFSET(Cumulative,,2)>(ROW()-ROW($O$20)),_xlfn.AGGREGATE(15,6,(ROW(OrderRange_Ref)-ROW($L$19))/(OFFSET(OrderRange_Ref,,2)>0),ROWS($L$20:$L195)-OFFSET(Cumulative,,1)),IF(OFFSET(Cumulative,,3)>(ROW()-ROW($O$20)),_xlfn.AGGREGATE(15,6,(ROW(OrderRange_Ref)-ROW($L$19))/(OFFSET(OrderRange_Ref,,3)>0),ROWS($L$20:$L195)-OFFSET(Cumulative,,2)),IF(OFFSET(Cumulative,,4)>(ROW()-ROW($O$20)),_xlfn.AGGREGATE(15,6,(ROW(OrderRange_Ref)-ROW($L$19))/(OFFSET(OrderRange_Ref,,4)>0),ROWS($L$20:$L195)-OFFSET(Cumulative,,3)),IF(OFFSET(Cumulative,,5)>(ROW()-ROW($O$20)),_xlfn.AGGREGATE(15,6,(ROW(OrderRange_Ref)-ROW($L$19))/(OFFSET(OrderRange_Ref,,5)>0),ROWS($L$20:$L195)-OFFSET(Cumulative,,4)),\"\"))))))","v":""},"","","","",""]
[null,null,null,null,null,null,null,null,null,null,null,null,null,{"$f":"IF(Cumulative>(ROW()-ROW($O$20)),_xlfn.AGGREGATE(15,6,(ROW(OrderRange_Ref)-ROW($L$19))/(OFFSET(OrderRange_Ref,,0)>0),ROWS($L$20:$L196)),IF(OFFSET(Cumulative,,1)>(ROW()-ROW($O$20)),_xlfn.AGGREGATE(15,6,(ROW(OrderRange_Ref)-ROW($L$19))/(OFFSET(OrderRange_Ref,,1)>0),ROWS($L$20:$L196)-OFFSET(Cumulative,,0)),IF(OFFSET(Cumulative,,2)>(ROW()-ROW($O$20)),_xlfn.AGGREGATE(15,6,(ROW(OrderRange_Ref)-ROW($L$19))/(OFFSET(OrderRange_Ref,,2)>0),ROWS($L$20:$L196)-OFFSET(Cumulative,,1)),IF(OFFSET(Cumulative,,3)>(ROW()-ROW($O$20)),_xlfn.AGGREGATE(15,6,(ROW(OrderRange_Ref)-ROW($L$19))/(OFFSET(OrderRange_Ref,,3)>0),ROWS($L$20:$L196)-OFFSET(Cumulative,,2)),IF(OFFSET(Cumulative,,4)>(ROW()-ROW($O$20)),_xlfn.AGGREGATE(15,6,(ROW(OrderRange_Ref)-ROW($L$19))/(OFFSET(OrderRange_Ref,,4)>0),ROWS($L$20:$L196)-OFFSET(Cumulative,,3)),IF(OFFSET(Cumulative,,5)>(ROW()-ROW($O$20)),_xlfn.AGGREGATE(15,6,(ROW(OrderRange_Ref)-ROW($L$19))/(OFFSET(OrderRange_Ref,,5)>0),ROWS($L$20:$L196)-OFFSET(Cumulative,,4)),\"\"))))))","v":""},"","","","",""]
[null,null,null,null,null,null,null,null,null,null,null,null,null,{"$f":"IF(Cumulative>(ROW()-ROW($O$20)),_xlfn.AGGREGATE(15,6,(ROW(OrderRange_Ref)-ROW($L$19))/(OFFSET(OrderRange_Ref,,0)>0),ROWS($L$20:$L197)),IF(OFFSET(Cumulative,,1)>(ROW()-ROW($O$20)),_xlfn.AGGREGATE(15,6,(ROW(OrderRange_Ref)-ROW($L$19))/(OFFSET(OrderRange_Ref,,1)>0),ROWS($L$20:$L197)-OFFSET(Cumulative,,0)),IF(OFFSET(Cumulative,,2)>(ROW()-ROW($O$20)),_xlfn.AGGREGATE(15,6,(ROW(OrderRange_Ref)-ROW($L$19))/(OFFSET(OrderRange_Ref,,2)>0),ROWS($L$20:$L197)-OFFSET(Cumulative,,1)),IF(OFFSET(Cumulative,,3)>(ROW()-ROW($O$20)),_xlfn.AGGREGATE(15,6,(ROW(OrderRange_Ref)-ROW($L$19))/(OFFSET(OrderRange_Ref,,3)>0),ROWS($L$20:$L197)-OFFSET(Cumulative,,2)),IF(OFFSET(Cumulative,,4)>(ROW()-ROW($O$20)),_xlfn.AGGREGATE(15,6,(ROW(OrderRange_Ref)-ROW($L$19))/(OFFSET(OrderRange_Ref,,4)>0),ROWS($L$20:$L197)-OFFSET(Cumulative,,3)),IF(OFFSET(Cumulative,,5)>(ROW()-ROW($O$20)),_xlfn.AGGREGATE(15,6,(ROW(OrderRange_Ref)-ROW($L$19))/(OFFSET(OrderRange_Ref,,5)>0),ROWS($L$20:$L197)-OFFSET(Cumulative,,4)),\"\"))))))","v":""},"","","","",""]
[null,null,null,null,null,null,null,null,null,null,null,null,null,{"$f":"IF(Cumulative>(ROW()-ROW($O$20)),_xlfn.AGGREGATE(15,6,(ROW(OrderRange_Ref)-ROW($L$19))/(OFFSET(OrderRange_Ref,,0)>0),ROWS($L$20:$L198)),IF(OFFSET(Cumulative,,1)>(ROW()-ROW($O$20)),_xlfn.AGGREGATE(15,6,(ROW(OrderRange_Ref)-ROW($L$19))/(OFFSET(OrderRange_Ref,,1)>0),ROWS($L$20:$L198)-OFFSET(Cumulative,,0)),IF(OFFSET(Cumulative,,2)>(ROW()-ROW($O$20)),_xlfn.AGGREGATE(15,6,(ROW(OrderRange_Ref)-ROW($L$19))/(OFFSET(OrderRange_Ref,,2)>0),ROWS($L$20:$L198)-OFFSET(Cumulative,,1)),IF(OFFSET(Cumulative,,3)>(ROW()-ROW($O$20)),_xlfn.AGGREGATE(15,6,(ROW(OrderRange_Ref)-ROW($L$19))/(OFFSET(OrderRange_Ref,,3)>0),ROWS($L$20:$L198)-OFFSET(Cumulative,,2)),IF(OFFSET(Cumulative,,4)>(ROW()-ROW($O$20)),_xlfn.AGGREGATE(15,6,(ROW(OrderRange_Ref)-ROW($L$19))/(OFFSET(OrderRange_Ref,,4)>0),ROWS($L$20:$L198)-OFFSET(Cumulative,,3)),IF(OFFSET(Cumulative,,5)>(ROW()-ROW($O$20)),_xlfn.AGGREGATE(15,6,(ROW(OrderRange_Ref)-ROW($L$19))/(OFFSET(OrderRange_Ref,,5)>0),ROWS($L$20:$L198)-OFFSET(Cumulative,,4)),\"\"))))))","v":""},"","","","",""]
[null,null,null,null,null,null,null,null,null,null,null,null,null,{"$f":"IF(Cumulative>(ROW()-ROW($O$20)),_xlfn.AGGREGATE(15,6,(ROW(OrderRange_Ref)-ROW($L$19))/(OFFSET(OrderRange_Ref,,0)>0),ROWS($L$20:$L199)),IF(OFFSET(Cumulative,,1)>(ROW()-ROW($O$20)),_xlfn.AGGREGATE(15,6,(ROW(OrderRange_Ref)-ROW($L$19))/(OFFSET(OrderRange_Ref,,1)>0),ROWS($L$20:$L199)-OFFSET(Cumulative,,0)),IF(OFFSET(Cumulative,,2)>(ROW()-ROW($O$20)),_xlfn.AGGREGATE(15,6,(ROW(OrderRange_Ref)-ROW($L$19))/(OFFSET(OrderRange_Ref,,2)>0),ROWS($L$20:$L199)-OFFSET(Cumulative,,1)),IF(OFFSET(Cumulative,,3)>(ROW()-ROW($O$20)),_xlfn.AGGREGATE(15,6,(ROW(OrderRange_Ref)-ROW($L$19))/(OFFSET(OrderRange_Ref,,3)>0),ROWS($L$20:$L199)-OFFSET(Cumulative,,2)),IF(OFFSET(Cumulative,,4)>(ROW()-ROW($O$20)),_xlfn.AGGREGATE(15,6,(ROW(OrderRange_Ref)-ROW($L$19))/(OFFSET(OrderRange_Ref,,4)>0),ROWS($L$20:$L199)-OFFSET(Cumulative,,3)),IF(OFFSET(Cumulative,,5)>(ROW()-ROW($O$20)),_xlfn.AGGREGATE(15,6,(ROW(OrderRange_Ref)-ROW($L$19))/(OFFSET(OrderRange_Ref,,5)>0),ROWS($L$20:$L199)-OFFSET(Cumulative,,4)),\"\"))))))","v":""},"","","","",""]
[null,null,null,null,null,null,null,null,null,null,null,null,null,{"$f":"IF(Cumulative>(ROW()-ROW($O$20)),_xlfn.AGGREGATE(15,6,(ROW(OrderRange_Ref)-ROW($L$19))/(OFFSET(OrderRange_Ref,,0)>0),ROWS($L$20:$L200)),IF(OFFSET(Cumulative,,1)>(ROW()-ROW($O$20)),_xlfn.AGGREGATE(15,6,(ROW(OrderRange_Ref)-ROW($L$19))/(OFFSET(OrderRange_Ref,,1)>0),ROWS($L$20:$L200)-OFFSET(Cumulative,,0)),IF(OFFSET(Cumulative,,2)>(ROW()-ROW($O$20)),_xlfn.AGGREGATE(15,6,(ROW(OrderRange_Ref)-ROW($L$19))/(OFFSET(OrderRange_Ref,,2)>0),ROWS($L$20:$L200)-OFFSET(Cumulative,,1)),IF(OFFSET(Cumulative,,3)>(ROW()-ROW($O$20)),_xlfn.AGGREGATE(15,6,(ROW(OrderRange_Ref)-ROW($L$19))/(OFFSET(OrderRange_Ref,,3)>0),ROWS($L$20:$L200)-OFFSET(Cumulative,,2)),IF(OFFSET(Cumulative,,4)>(ROW()-ROW($O$20)),_xlfn.AGGREGATE(15,6,(ROW(OrderRange_Ref)-ROW($L$19))/(OFFSET(OrderRange_Ref,,4)>0),ROWS($L$20:$L200)-OFFSET(Cumulative,,3)),IF(OFFSET(Cumulative,,5)>(ROW()-ROW($O$20)),_xlfn.AGGREGATE(15,6,(ROW(OrderRange_Ref)-ROW($L$19))/(OFFSET(OrderRange_Ref,,5)>0),ROWS($L$20:$L200)-OFFSET(Cumulative,,4)),\"\"))))))","v":""},"","","","",""]
[null,null,null,null,null,null,null,null,null,null,null,null,null,{"$f":"IF(Cumulative>(ROW()-ROW($O$20)),_xlfn.AGGREGATE(15,6,(ROW(OrderRange_Ref)-ROW($L$19))/(OFFSET(OrderRange_Ref,,0)>0),ROWS($L$20:$L201)),IF(OFFSET(Cumulative,,1)>(ROW()-ROW($O$20)),_xlfn.AGGREGATE(15,6,(ROW(OrderRange_Ref)-ROW($L$19))/(OFFSET(OrderRange_Ref,,1)>0),ROWS($L$20:$L201)-OFFSET(Cumulative,,0)),IF(OFFSET(Cumulative,,2)>(ROW()-ROW($O$20)),_xlfn.AGGREGATE(15,6,(ROW(OrderRange_Ref)-ROW($L$19))/(OFFSET(OrderRange_Ref,,2)>0),ROWS($L$20:$L201)-OFFSET(Cumulative,,1)),IF(OFFSET(Cumulative,,3)>(ROW()-ROW($O$20)),_xlfn.AGGREGATE(15,6,(ROW(OrderRange_Ref)-ROW($L$19))/(OFFSET(OrderRange_Ref,,3)>0),ROWS($L$20:$L201)-OFFSET(Cumulative,,2)),IF(OFFSET(Cumulative,,4)>(ROW()-ROW($O$20)),_xlfn.AGGREGATE(15,6,(ROW(OrderRange_Ref)-ROW($L$19))/(OFFSET(OrderRange_Ref,,4)>0),ROWS($L$20:$L201)-OFFSET(Cumulative,,3)),IF(OFFSET(Cumulative,,5)>(ROW()-ROW($O$20)),_xlfn.AGGREGATE(15,6,(ROW(OrderRange_Ref)-ROW($L$19))/(OFFSET(OrderRange_Ref,,5)>0),ROWS($L$20:$L201)-OFFSET(Cumulative,,4)),\"\"))))))","v":""},"","","","",""]
[null,null,null,null,null,null,null,null,null,null,null,null,null,{"$f":"IF(Cumulative>(ROW()-ROW($O$20)),_xlfn.AGGREGATE(15,6,(ROW(OrderRange_Ref)-ROW($L$19))/(OFFSET(OrderRange_Ref,,0)>0),ROWS($L$20:$L202)),IF(OFFSET(Cumulative,,1)>(ROW()-ROW($O$20)),_xlfn.AGGREGATE(15,6,(ROW(OrderRange_Ref)-ROW($L$19))/(OFFSET(OrderRange_Ref,,1)>0),ROWS($L$20:$L202)-OFFSET(Cumulative,,0)),IF(OFFSET(Cumulative,,2)>(ROW()-ROW($O$20)),_xlfn.AGGREGATE(15,6,(ROW(OrderRange_Ref)-ROW($L$19))/(OFFSET(OrderRange_Ref,,2)>0),ROWS($L$20:$L202)-OFFSET(Cumulative,,1)),IF(OFFSET(Cumulative,,3)>(ROW()-ROW($O$20)),_xlfn.AGGREGATE(15,6,(ROW(OrderRange_Ref)-ROW($L$19))/(OFFSET(OrderRange_Ref,,3)>0),ROWS($L$20:$L202)-OFFSET(Cumulative,,2)),IF(OFFSET(Cumulative,,4)>(ROW()-ROW($O$20)),_xlfn.AGGREGATE(15,6,(ROW(OrderRange_Ref)-ROW($L$19))/(OFFSET(OrderRange_Ref,,4)>0),ROWS($L$20:$L202)-OFFSET(Cumulative,,3)),IF(OFFSET(Cumulative,,5)>(ROW()-ROW($O$20)),_xlfn.AGGREGATE(15,6,(ROW(OrderRange_Ref)-ROW($L$19))/(OFFSET(OrderRange_Ref,,5)>0),ROWS($L$20:$L202)-OFFSET(Cumulative,,4)),\"\"))))))","v":""},"","","","",""]
[null,null,null,null,null,null,null,null,null,null,null,null,null,{"$f":"IF(Cumulative>(ROW()-ROW($O$20)),_xlfn.AGGREGATE(15,6,(ROW(OrderRange_Ref)-ROW($L$19))/(OFFSET(OrderRange_Ref,,0)>0),ROWS($L$20:$L203)),IF(OFFSET(Cumulative,,1)>(ROW()-ROW($O$20)),_xlfn.AGGREGATE(15,6,(ROW(OrderRange_Ref)-ROW($L$19))/(OFFSET(OrderRange_Ref,,1)>0),ROWS($L$20:$L203)-OFFSET(Cumulative,,0)),IF(OFFSET(Cumulative,,2)>(ROW()-ROW($O$20)),_xlfn.AGGREGATE(15,6,(ROW(OrderRange_Ref)-ROW($L$19))/(OFFSET(OrderRange_Ref,,2)>0),ROWS($L$20:$L203)-OFFSET(Cumulative,,1)),IF(OFFSET(Cumulative,,3)>(ROW()-ROW($O$20)),_xlfn.AGGREGATE(15,6,(ROW(OrderRange_Ref)-ROW($L$19))/(OFFSET(OrderRange_Ref,,3)>0),ROWS($L$20:$L203)-OFFSET(Cumulative,,2)),IF(OFFSET(Cumulative,,4)>(ROW()-ROW($O$20)),_xlfn.AGGREGATE(15,6,(ROW(OrderRange_Ref)-ROW($L$19))/(OFFSET(OrderRange_Ref,,4)>0),ROWS($L$20:$L203)-OFFSET(Cumulative,,3)),IF(OFFSET(Cumulative,,5)>(ROW()-ROW($O$20)),_xlfn.AGGREGATE(15,6,(ROW(OrderRange_Ref)-ROW($L$19))/(OFFSET(OrderRange_Ref,,5)>0),ROWS($L$20:$L203)-OFFSET(Cumulative,,4)),\"\"))))))","v":""},"","","","",""]
[null,null,null,null,null,null,null,null,null,null,null,null,null,{"$f":"IF(Cumulative>(ROW()-ROW($O$20)),_xlfn.AGGREGATE(15,6,(ROW(OrderRange_Ref)-ROW($L$19))/(OFFSET(OrderRange_Ref,,0)>0),ROWS($L$20:$L204)),IF(OFFSET(Cumulative,,1)>(ROW()-ROW($O$20)),_xlfn.AGGREGATE(15,6,(ROW(OrderRange_Ref)-ROW($L$19))/(OFFSET(OrderRange_Ref,,1)>0),ROWS($L$20:$L204)-OFFSET(Cumulative,,0)),IF(OFFSET(Cumulative,,2)>(ROW()-ROW($O$20)),_xlfn.AGGREGATE(15,6,(ROW(OrderRange_Ref)-ROW($L$19))/(OFFSET(OrderRange_Ref,,2)>0),ROWS($L$20:$L204)-OFFSET(Cumulative,,1)),IF(OFFSET(Cumulative,,3)>(ROW()-ROW($O$20)),_xlfn.AGGREGATE(15,6,(ROW(OrderRange_Ref)-ROW($L$19))/(OFFSET(OrderRange_Ref,,3)>0),ROWS($L$20:$L204)-OFFSET(Cumulative,,2)),IF(OFFSET(Cumulative,,4)>(ROW()-ROW($O$20)),_xlfn.AGGREGATE(15,6,(ROW(OrderRange_Ref)-ROW($L$19))/(OFFSET(OrderRange_Ref,,4)>0),ROWS($L$20:$L204)-OFFSET(Cumulative,,3)),IF(OFFSET(Cumulative,,5)>(ROW()-ROW($O$20)),_xlfn.AGGREGATE(15,6,(ROW(OrderRange_Ref)-ROW($L$19))/(OFFSET(OrderRange_Ref,,5)>0),ROWS($L$20:$L204)-OFFSET(Cumulative,,4)),\"\"))))))","v":""},"","","","",""]
[null,null,null,null,null,null,null,null,null,null,null,null,null,{"$f":"IF(Cumulative>(ROW()-ROW($O$20)),_xlfn.AGGREGATE(15,6,(ROW(OrderRange_Ref)-ROW($L$19))/(OFFSET(OrderRange_Ref,,0)>0),ROWS($L$20:$L205)),IF(OFFSET(Cumulative,,1)>(ROW()-ROW($O$20)),_xlfn.AGGREGATE(15,6,(ROW(OrderRange_Ref)-ROW($L$19))/(OFFSET(OrderRange_Ref,,1)>0),ROWS($L$20:$L205)-OFFSET(Cumulative,,0)),IF(OFFSET(Cumulative,,2)>(ROW()-ROW($O$20)),_xlfn.AGGREGATE(15,6,(ROW(OrderRange_Ref)-ROW($L$19))/(OFFSET(OrderRange_Ref,,2)>0),ROWS($L$20:$L205)-OFFSET(Cumulative,,1)),IF(OFFSET(Cumulative,,3)>(ROW()-ROW($O$20)),_xlfn.AGGREGATE(15,6,(ROW(OrderRange_Ref)-ROW($L$19))/(OFFSET(OrderRange_Ref,,3)>0),ROWS($L$20:$L205)-OFFSET(Cumulative,,2)),IF(OFFSET(Cumulative,,4)>(ROW()-ROW($O$20)),_xlfn.AGGREGATE(15,6,(ROW(OrderRange_Ref)-ROW($L$19))/(OFFSET(OrderRange_Ref,,4)>0),ROWS($L$20:$L205)-OFFSET(Cumulative,,3)),IF(OFFSET(Cumulative,,5)>(ROW()-ROW($O$20)),_xlfn.AGGREGATE(15,6,(ROW(OrderRange_Ref)-ROW($L$19))/(OFFSET(OrderRange_Ref,,5)>0),ROWS($L$20:$L205)-OFFSET(Cumulative,,4)),\"\"))))))","v":""},"","","","",""]
[null,null,null,null,null,null,null,null,null,null,null,null,null,{"$f":"IF(Cumulative>(ROW()-ROW($O$20)),_xlfn.AGGREGATE(15,6,(ROW(OrderRange_Ref)-ROW($L$19))/(OFFSET(OrderRange_Ref,,0)>0),ROWS($L$20:$L206)),IF(OFFSET(Cumulative,,1)>(ROW()-ROW($O$20)),_xlfn.AGGREGATE(15,6,(ROW(OrderRange_Ref)-ROW($L$19))/(OFFSET(OrderRange_Ref,,1)>0),ROWS($L$20:$L206)-OFFSET(Cumulative,,0)),IF(OFFSET(Cumulative,,2)>(ROW()-ROW($O$20)),_xlfn.AGGREGATE(15,6,(ROW(OrderRange_Ref)-ROW($L$19))/(OFFSET(OrderRange_Ref,,2)>0),ROWS($L$20:$L206)-OFFSET(Cumulative,,1)),IF(OFFSET(Cumulative,,3)>(ROW()-ROW($O$20)),_xlfn.AGGREGATE(15,6,(ROW(OrderRange_Ref)-ROW($L$19))/(OFFSET(OrderRange_Ref,,3)>0),ROWS($L$20:$L206)-OFFSET(Cumulative,,2)),IF(OFFSET(Cumulative,,4)>(ROW()-ROW($O$20)),_xlfn.AGGREGATE(15,6,(ROW(OrderRange_Ref)-ROW($L$19))/(OFFSET(OrderRange_Ref,,4)>0),ROWS($L$20:$L206)-OFFSET(Cumulative,,3)),IF(OFFSET(Cumulative,,5)>(ROW()-ROW($O$20)),_xlfn.AGGREGATE(15,6,(ROW(OrderRange_Ref)-ROW($L$19))/(OFFSET(OrderRange_Ref,,5)>0),ROWS($L$20:$L206)-OFFSET(Cumulative,,4)),\"\"))))))","v":""},"","","","",""]
[null,null,null,null,null,null,null,null,null,null,null,null,null,{"$f":"IF(Cumulative>(ROW()-ROW($O$20)),_xlfn.AGGREGATE(15,6,(ROW(OrderRange_Ref)-ROW($L$19))/(OFFSET(OrderRange_Ref,,0)>0),ROWS($L$20:$L207)),IF(OFFSET(Cumulative,,1)>(ROW()-ROW($O$20)),_xlfn.AGGREGATE(15,6,(ROW(OrderRange_Ref)-ROW($L$19))/(OFFSET(OrderRange_Ref,,1)>0),ROWS($L$20:$L207)-OFFSET(Cumulative,,0)),IF(OFFSET(Cumulative,,2)>(ROW()-ROW($O$20)),_xlfn.AGGREGATE(15,6,(ROW(OrderRange_Ref)-ROW($L$19))/(OFFSET(OrderRange_Ref,,2)>0),ROWS($L$20:$L207)-OFFSET(Cumulative,,1)),IF(OFFSET(Cumulative,,3)>(ROW()-ROW($O$20)),_xlfn.AGGREGATE(15,6,(ROW(OrderRange_Ref)-ROW($L$19))/(OFFSET(OrderRange_Ref,,3)>0),ROWS($L$20:$L207)-OFFSET(Cumulative,,2)),IF(OFFSET(Cumulative,,4)>(ROW()-ROW($O$20)),_xlfn.AGGREGATE(15,6,(ROW(OrderRange_Ref)-ROW($L$19))/(OFFSET(OrderRange_Ref,,4)>0),ROWS($L$20:$L207)-OFFSET(Cumulative,,3)),IF(OFFSET(Cumulative,,5)>(ROW()-ROW($O$20)),_xlfn.AGGREGATE(15,6,(ROW(OrderRange_Ref)-ROW($L$19))/(OFFSET(OrderRange_Ref,,5)>0),ROWS($L$20:$L207)-OFFSET(Cumulative,,4)),\"\"))))))","v":""},"","","","",""]
[null,null,null,null,null,null,null,null,null,null,null,null,null,{"$f":"IF(Cumulative>(ROW()-ROW($O$20)),_xlfn.AGGREGATE(15,6,(ROW(OrderRange_Ref)-ROW($L$19))/(OFFSET(OrderRange_Ref,,0)>0),ROWS($L$20:$L208)),IF(OFFSET(Cumulative,,1)>(ROW()-ROW($O$20)),_xlfn.AGGREGATE(15,6,(ROW(OrderRange_Ref)-ROW($L$19))/(OFFSET(OrderRange_Ref,,1)>0),ROWS($L$20:$L208)-OFFSET(Cumulative,,0)),IF(OFFSET(Cumulative,,2)>(ROW()-ROW($O$20)),_xlfn.AGGREGATE(15,6,(ROW(OrderRange_Ref)-ROW($L$19))/(OFFSET(OrderRange_Ref,,2)>0),ROWS($L$20:$L208)-OFFSET(Cumulative,,1)),IF(OFFSET(Cumulative,,3)>(ROW()-ROW($O$20)),_xlfn.AGGREGATE(15,6,(ROW(OrderRange_Ref)-ROW($L$19))/(OFFSET(OrderRange_Ref,,3)>0),ROWS($L$20:$L208)-OFFSET(Cumulative,,2)),IF(OFFSET(Cumulative,,4)>(ROW()-ROW($O$20)),_xlfn.AGGREGATE(15,6,(ROW(OrderRange_Ref)-ROW($L$19))/(OFFSET(OrderRange_Ref,,4)>0),ROWS($L$20:$L208)-OFFSET(Cumulative,,3)),IF(OFFSET(Cumulative,,5)>(ROW()-ROW($O$20)),_xlfn.AGGREGATE(15,6,(ROW(OrderRange_Ref)-ROW($L$19))/(OFFSET(OrderRange_Ref,,5)>0),ROWS($L$20:$L208)-OFFSET(Cumulative,,4)),\"\"))))))","v":""},"","","","",""]
[null,null,null,null,null,null,null,null,null,null,null,null,null,{"$f":"IF(Cumulative>(ROW()-ROW($O$20)),_xlfn.AGGREGATE(15,6,(ROW(OrderRange_Ref)-ROW($L$19))/(OFFSET(OrderRange_Ref,,0)>0),ROWS($L$20:$L209)),IF(OFFSET(Cumulative,,1)>(ROW()-ROW($O$20)),_xlfn.AGGREGATE(15,6,(ROW(OrderRange_Ref)-ROW($L$19))/(OFFSET(OrderRange_Ref,,1)>0),ROWS($L$20:$L209)-OFFSET(Cumulative,,0)),IF(OFFSET(Cumulative,,2)>(ROW()-ROW($O$20)),_xlfn.AGGREGATE(15,6,(ROW(OrderRange_Ref)-ROW($L$19))/(OFFSET(OrderRange_Ref,,2)>0),ROWS($L$20:$L209)-OFFSET(Cumulative,,1)),IF(OFFSET(Cumulative,,3)>(ROW()-ROW($O$20)),_xlfn.AGGREGATE(15,6,(ROW(OrderRange_Ref)-ROW($L$19))/(OFFSET(OrderRange_Ref,,3)>0),ROWS($L$20:$L209)-OFFSET(Cumulative,,2)),IF(OFFSET(Cumulative,,4)>(ROW()-ROW($O$20)),_xlfn.AGGREGATE(15,6,(ROW(OrderRange_Ref)-ROW($L$19))/(OFFSET(OrderRange_Ref,,4)>0),ROWS($L$20:$L209)-OFFSET(Cumulative,,3)),IF(OFFSET(Cumulative,,5)>(ROW()-ROW($O$20)),_xlfn.AGGREGATE(15,6,(ROW(OrderRange_Ref)-ROW($L$19))/(OFFSET(OrderRange_Ref,,5)>0),ROWS($L$20:$L209)-OFFSET(Cumulative,,4)),\"\"))))))","v":""},"","","","",""]
[null,null,null,null,null,null,null,null,null,null,null,null,null,{"$f":"IF(Cumulative>(ROW()-ROW($O$20)),_xlfn.AGGREGATE(15,6,(ROW(OrderRange_Ref)-ROW($L$19))/(OFFSET(OrderRange_Ref,,0)>0),ROWS($L$20:$L210)),IF(OFFSET(Cumulative,,1)>(ROW()-ROW($O$20)),_xlfn.AGGREGATE(15,6,(ROW(OrderRange_Ref)-ROW($L$19))/(OFFSET(OrderRange_Ref,,1)>0),ROWS($L$20:$L210)-OFFSET(Cumulative,,0)),IF(OFFSET(Cumulative,,2)>(ROW()-ROW($O$20)),_xlfn.AGGREGATE(15,6,(ROW(OrderRange_Ref)-ROW($L$19))/(OFFSET(OrderRange_Ref,,2)>0),ROWS($L$20:$L210)-OFFSET(Cumulative,,1)),IF(OFFSET(Cumulative,,3)>(ROW()-ROW($O$20)),_xlfn.AGGREGATE(15,6,(ROW(OrderRange_Ref)-ROW($L$19))/(OFFSET(OrderRange_Ref,,3)>0),ROWS($L$20:$L210)-OFFSET(Cumulative,,2)),IF(OFFSET(Cumulative,,4)>(ROW()-ROW($O$20)),_xlfn.AGGREGATE(15,6,(ROW(OrderRange_Ref)-ROW($L$19))/(OFFSET(OrderRange_Ref,,4)>0),ROWS($L$20:$L210)-OFFSET(Cumulative,,3)),IF(OFFSET(Cumulative,,5)>(ROW()-ROW($O$20)),_xlfn.AGGREGATE(15,6,(ROW(OrderRange_Ref)-ROW($L$19))/(OFFSET(OrderRange_Ref,,5)>0),ROWS($L$20:$L210)-OFFSET(Cumulative,,4)),\"\"))))))","v":""},"","","","",""]
[null,null,null,null,null,null,null,null,null,null,null,null,null,{"$f":"IF(Cumulative>(ROW()-ROW($O$20)),_xlfn.AGGREGATE(15,6,(ROW(OrderRange_Ref)-ROW($L$19))/(OFFSET(OrderRange_Ref,,0)>0),ROWS($L$20:$L211)),IF(OFFSET(Cumulative,,1)>(ROW()-ROW($O$20)),_xlfn.AGGREGATE(15,6,(ROW(OrderRange_Ref)-ROW($L$19))/(OFFSET(OrderRange_Ref,,1)>0),ROWS($L$20:$L211)-OFFSET(Cumulative,,0)),IF(OFFSET(Cumulative,,2)>(ROW()-ROW($O$20)),_xlfn.AGGREGATE(15,6,(ROW(OrderRange_Ref)-ROW($L$19))/(OFFSET(OrderRange_Ref,,2)>0),ROWS($L$20:$L211)-OFFSET(Cumulative,,1)),IF(OFFSET(Cumulative,,3)>(ROW()-ROW($O$20)),_xlfn.AGGREGATE(15,6,(ROW(OrderRange_Ref)-ROW($L$19))/(OFFSET(OrderRange_Ref,,3)>0),ROWS($L$20:$L211)-OFFSET(Cumulative,,2)),IF(OFFSET(Cumulative,,4)>(ROW()-ROW($O$20)),_xlfn.AGGREGATE(15,6,(ROW(OrderRange_Ref)-ROW($L$19))/(OFFSET(OrderRange_Ref,,4)>0),ROWS($L$20:$L211)-OFFSET(Cumulative,,3)),IF(OFFSET(Cumulative,,5)>(ROW()-ROW($O$20)),_xlfn.AGGREGATE(15,6,(ROW(OrderRange_Ref)-ROW($L$19))/(OFFSET(OrderRange_Ref,,5)>0),ROWS($L$20:$L211)-OFFSET(Cumulative,,4)),\"\"))))))","v":""},{"$f":"IF(Cumulative>(ROW()-ROW($O$20)),OrderDate,IF(OFFSET(Cumulative,,1)>(ROW()-ROW($O$20)),OrderDate+1,IF(OFFSET(Cumulative,,2)>(ROW()-ROW($O$20)),OrderDate+2,IF(OFFSET(Cumulative,,3)>(ROW()-ROW($O$20)),OrderDate+3,IF(OFFSET(Cumulative,,4)>(ROW()-ROW($O$20)),OrderDate+4,IF(OFFSET(Cumulative,,5)>(ROW()-ROW($O$20)),OrderDate+5,\"\"))))))","v":""},"","","",{"$f":"IF($N211=\"\",\"\",ROUND(INDEX(Order_Data,$N211,MATCH($O211,$D$18:$I$18,0)),0))","v":""}]
[null,null,null,null,null,null,null,null,null,null,null,null,null,{"$f":"IF(Cumulative>(ROW()-ROW($O$20)),_xlfn.AGGREGATE(15,6,(ROW(OrderRange_Ref)-ROW($L$19))/(OFFSET(OrderRange_Ref,,0)>0),ROWS($L$20:$L212)),IF(OFFSET(Cumulative,,1)>(ROW()-ROW($O$20)),_xlfn.AGGREGATE(15,6,(ROW(OrderRange_Ref)-ROW($L$19))/(OFFSET(OrderRange_Ref,,1)>0),ROWS($L$20:$L212)-OFFSET(Cumulative,,0)),IF(OFFSET(Cumulative,,2)>(ROW()-ROW($O$20)),_xlfn.AGGREGATE(15,6,(ROW(OrderRange_Ref)-ROW($L$19))/(OFFSET(OrderRange_Ref,,2)>0),ROWS($L$20:$L212)-OFFSET(Cumulative,,1)),IF(OFFSET(Cumulative,,3)>(ROW()-ROW($O$20)),_xlfn.AGGREGATE(15,6,(ROW(OrderRange_Ref)-ROW($L$19))/(OFFSET(OrderRange_Ref,,3)>0),ROWS($L$20:$L212)-OFFSET(Cumulative,,2)),IF(OFFSET(Cumulative,,4)>(ROW()-ROW($O$20)),_xlfn.AGGREGATE(15,6,(ROW(OrderRange_Ref)-ROW($L$19))/(OFFSET(OrderRange_Ref,,4)>0),ROWS($L$20:$L212)-OFFSET(Cumulative,,3)),IF(OFFSET(Cumulative,,5)>(ROW()-ROW($O$20)),_xlfn.AGGREGATE(15,6,(ROW(OrderRange_Ref)-ROW($L$19))/(OFFSET(OrderRange_Ref,,5)>0),ROWS($L$20:$L212)-OFFSET(Cumulative,,4)),\"\"))))))","v":""},"",{"$f":"IF($O212<>\"\",BranchCode,\"\")","v":""},{"$f":"IF($O212<>\"\",\"จ่าย\",\"\")","v":""},{"$f":"IFERROR(INDEX(Product_item,$N212),\"\")","v":""},""]
[null,null,null,null,null,null,null,null,null,null,null,null,null,{"$f":"IF(Cumulative>(ROW()-ROW($O$20)),_xlfn.AGGREGATE(15,6,(ROW(OrderRange_Ref)-ROW($L$19))/(OFFSET(OrderRange_Ref,,0)>0),ROWS($L$20:$L213)),IF(OFFSET(Cumulative,,1)>(ROW()-ROW($O$20)),_xlfn.AGGREGATE(15,6,(ROW(OrderRange_Ref)-ROW($L$19))/(OFFSET(OrderRange_Ref,,1)>0),ROWS($L$20:$L213)-OFFSET(Cumulative,,0)),IF(OFFSET(Cumulative,,2)>(ROW()-ROW($O$20)),_xlfn.AGGREGATE(15,6,(ROW(OrderRange_Ref)-ROW($L$19))/(OFFSET(OrderRange_Ref,,2)>0),ROWS($L$20:$L213)-OFFSET(Cumulative,,1)),IF(OFFSET(Cumulative,,3)>(ROW()-ROW($O$20)),_xlfn.AGGREGATE(15,6,(ROW(OrderRange_Ref)-ROW($L$19))/(OFFSET(OrderRange_Ref,,3)>0),ROWS($L$20:$L213)-OFFSET(Cumulative,,2)),IF(OFFSET(Cumulative,,4)>(ROW()-ROW($O$20)),_xlfn.AGGREGATE(15,6,(ROW(OrderRange_Ref)-ROW($L$19))/(OFFSET(OrderRange_Ref,,4)>0),ROWS($L$20:$L213)-OFFSET(Cumulative,,3)),IF(OFFSET(Cumulative,,5)>(ROW()-ROW($O$20)),_xlfn.AGGREGATE(15,6,(ROW(OrderRange_Ref)-ROW($L$19))/(OFFSET(OrderRange_Ref,,5)>0),ROWS($L$20:$L213)-OFFSET(Cumulative,,4)),\"\"))))))","v":""},"","","","",""]
[null,null,null,null,null,null,null,null,null,null,null,null,null,{"$f":"IF(Cumulative>(ROW()-ROW($O$20)),_xlfn.AGGREGATE(15,6,(ROW(OrderRange_Ref)-ROW($L$19))/(OFFSET(OrderRange_Ref,,0)>0),ROWS($L$20:$L214)),IF(OFFSET(Cumulative,,1)>(ROW()-ROW($O$20)),_xlfn.AGGREGATE(15,6,(ROW(OrderRange_Ref)-ROW($L$19))/(OFFSET(OrderRange_Ref,,1)>0),ROWS($L$20:$L214)-OFFSET(Cumulative,,0)),IF(OFFSET(Cumulative,,2)>(ROW()-ROW($O$20)),_xlfn.AGGREGATE(15,6,(ROW(OrderRange_Ref)-ROW($L$19))/(OFFSET(OrderRange_Ref,,2)>0),ROWS($L$20:$L214)-OFFSET(Cumulative,,1)),IF(OFFSET(Cumulative,,3)>(ROW()-ROW($O$20)),_xlfn.AGGREGATE(15,6,(ROW(OrderRange_Ref)-ROW($L$19))/(OFFSET(OrderRange_Ref,,3)>0),ROWS($L$20:$L214)-OFFSET(Cumulative,,2)),IF(OFFSET(Cumulative,,4)>(ROW()-ROW($O$20)),_xlfn.AGGREGATE(15,6,(ROW(OrderRange_Ref)-ROW($L$19))/(OFFSET(OrderRange_Ref,,4)>0),ROWS($L$20:$L214)-OFFSET(Cumulative,,3)),IF(OFFSET(Cumulative,,5)>(ROW()-ROW($O$20)),_xlfn.AGGREGATE(15,6,(ROW(OrderRange_Ref)-ROW($L$19))/(OFFSET(OrderRange_Ref,,5)>0),ROWS($L$20:$L214)-OFFSET(Cumulative,,4)),\"\"))))))","v":""},"","","","",""]
[null,null,null,null,null,null,null,null,null,null,null,null,null,{"$f":"IF(Cumulative>(ROW()-ROW($O$20)),_xlfn.AGGREGATE(15,6,(ROW(OrderRange_Ref)-ROW($L$19))/(OFFSET(OrderRange_Ref,,0)>0),ROWS($L$20:$L215)),IF(OFFSET(Cumulative,,1)>(ROW()-ROW($O$20)),_xlfn.AGGREGATE(15,6,(ROW(OrderRange_Ref)-ROW($L$19))/(OFFSET(OrderRange_Ref,,1)>0),ROWS($L$20:$L215)-OFFSET(Cumulative,,0)),IF(OFFSET(Cumulative,,2)>(ROW()-ROW($O$20)),_xlfn.AGGREGATE(15,6,(ROW(OrderRange_Ref)-ROW($L$19))/(OFFSET(OrderRange_Ref,,2)>0),ROWS($L$20:$L215)-OFFSET(Cumulative,,1)),IF(OFFSET(Cumulative,,3)>(ROW()-ROW($O$20)),_xlfn.AGGREGATE(15,6,(ROW(OrderRange_Ref)-ROW($L$19))/(OFFSET(OrderRange_Ref,,3)>0),ROWS($L$20:$L215)-OFFSET(Cumulative,,2)),IF(OFFSET(Cumulative,,4)>(ROW()-ROW($O$20)),_xlfn.AGGREGATE(15,6,(ROW(OrderRange_Ref)-ROW($L$19))/(OFFSET(OrderRange_Ref,,4)>0),ROWS($L$20:$L215)-OFFSET(Cumulative,,3)),IF(OFFSET(Cumulative,,5)>(ROW()-ROW($O$20)),_xlfn.AGGREGATE(15,6,(ROW(OrderRange_Ref)-ROW($L$19))/(OFFSET(OrderRange_Ref,,5)>0),ROWS($L$20:$L215)-OFFSET(Cumulative,,4)),\"\"))))))","v":""},"","","","",""]
[null,null,null,null,null,null,null,null,null,null,null,null,null,{"$f":"IF(Cumulative>(ROW()-ROW($O$20)),_xlfn.AGGREGATE(15,6,(ROW(OrderRange_Ref)-ROW($L$19))/(OFFSET(OrderRange_Ref,,0)>0),ROWS($L$20:$L216)),IF(OFFSET(Cumulative,,1)>(ROW()-ROW($O$20)),_xlfn.AGGREGATE(15,6,(ROW(OrderRange_Ref)-ROW($L$19))/(OFFSET(OrderRange_Ref,,1)>0),ROWS($L$20:$L216)-OFFSET(Cumulative,,0)),IF(OFFSET(Cumulative,,2)>(ROW()-ROW($O$20)),_xlfn.AGGREGATE(15,6,(ROW(OrderRange_Ref)-ROW($L$19))/(OFFSET(OrderRange_Ref,,2)>0),ROWS($L$20:$L216)-OFFSET(Cumulative,,1)),IF(OFFSET(Cumulative,,3)>(ROW()-ROW($O$20)),_xlfn.AGGREGATE(15,6,(ROW(OrderRange_Ref)-ROW($L$19))/(OFFSET(OrderRange_Ref,,3)>0),ROWS($L$20:$L216)-OFFSET(Cumulative,,2)),IF(OFFSET(Cumulative,,4)>(ROW()-ROW($O$20)),_xlfn.AGGREGATE(15,6,(ROW(OrderRange_Ref)-ROW($L$19))/(OFFSET(OrderRange_Ref,,4)>0),ROWS($L$20:$L216)-OFFSET(Cumulative,,3)),IF(OFFSET(Cumulative,,5)>(ROW()-ROW($O$20)),_xlfn.AGGREGATE(15,6,(ROW(OrderRange_Ref)-ROW($L$19))/(OFFSET(OrderRange_Ref,,5)>0),ROWS($L$20:$L216)-OFFSET(Cumulative,,4)),\"\"))))))","v":""},"","","","",""]
[null,null,null,null,null,null,null,null,null,null,null,null,null,{"$f":"IF(Cumulative>(ROW()-ROW($O$20)),_xlfn.AGGREGATE(15,6,(ROW(OrderRange_Ref)-ROW($L$19))/(OFFSET(OrderRange_Ref,,0)>0),ROWS($L$20:$L217)),IF(OFFSET(Cumulative,,1)>(ROW()-ROW($O$20)),_xlfn.AGGREGATE(15,6,(ROW(OrderRange_Ref)-ROW($L$19))/(OFFSET(OrderRange_Ref,,1)>0),ROWS($L$20:$L217)-OFFSET(Cumulative,,0)),IF(OFFSET(Cumulative,,2)>(ROW()-ROW($O$20)),_xlfn.AGGREGATE(15,6,(ROW(OrderRange_Ref)-ROW($L$19))/(OFFSET(OrderRange_Ref,,2)>0),ROWS($L$20:$L217)-OFFSET(Cumulative,,1)),IF(OFFSET(Cumulative,,3)>(ROW()-ROW($O$20)),_xlfn.AGGREGATE(15,6,(ROW(OrderRange_Ref)-ROW($L$19))/(OFFSET(OrderRange_Ref,,3)>0),ROWS($L$20:$L217)-OFFSET(Cumulative,,2)),IF(OFFSET(Cumulative,,4)>(ROW()-ROW($O$20)),_xlfn.AGGREGATE(15,6,(ROW(OrderRange_Ref)-ROW($L$19))/(OFFSET(OrderRange_Ref,,4)>0),ROWS($L$20:$L217)-OFFSET(Cumulative,,3)),IF(OFFSET(Cumulative,,5)>(ROW()-ROW($O$20)),_xlfn.AGGREGATE(15,6,(ROW(OrderRange_Ref)-ROW($L$19))/(OFFSET(OrderRange_Ref,,5)>0),ROWS($L$20:$L217)-OFFSET(Cumulative,,4)),\"\"))))))","v":""},"","","","",""]
[null,null,null,null,null,null,null,null,null,null,null,null,null,{"$f":"IF(Cumulative>(ROW()-ROW($O$20)),_xlfn.AGGREGATE(15,6,(ROW(OrderRange_Ref)-ROW($L$19))/(OFFSET(OrderRange_Ref,,0)>0),ROWS($L$20:$L218)),IF(OFFSET(Cumulative,,1)>(ROW()-ROW($O$20)),_xlfn.AGGREGATE(15,6,(ROW(OrderRange_Ref)-ROW($L$19))/(OFFSET(OrderRange_Ref,,1)>0),ROWS($L$20:$L218)-OFFSET(Cumulative,,0)),IF(OFFSET(Cumulative,,2)>(ROW()-ROW($O$20)),_xlfn.AGGREGATE(15,6,(ROW(OrderRange_Ref)-ROW($L$19))/(OFFSET(OrderRange_Ref,,2)>0),ROWS($L$20:$L218)-OFFSET(Cumulative,,1)),IF(OFFSET(Cumulative,,3)>(ROW()-ROW($O$20)),_xlfn.AGGREGATE(15,6,(ROW(OrderRange_Ref)-ROW($L$19))/(OFFSET(OrderRange_Ref,,3)>0),ROWS($L$20:$L218)-OFFSET(Cumulative,,2)),IF(OFFSET(Cumulative,,4)>(ROW()-ROW($O$20)),_xlfn.AGGREGATE(15,6,(ROW(OrderRange_Ref)-ROW($L$19))/(OFFSET(OrderRange_Ref,,4)>0),ROWS($L$20:$L218)-OFFSET(Cumulative,,3)),IF(OFFSET(Cumulative,,5)>(ROW()-ROW($O$20)),_xlfn.AGGREGATE(15,6,(ROW(OrderRange_Ref)-ROW($L$19))/(OFFSET(OrderRange_Ref,,5)>0),ROWS($L$20:$L218)-OFFSET(Cumulative,,4)),\"\"))))))","v":""},"","","","",""]
[null,null,null,null,null,null,null,null,null,null,null,null,null,{"$f":"IF(Cumulative>(ROW()-ROW($O$20)),_xlfn.AGGREGATE(15,6,(ROW(OrderRange_Ref)-ROW($L$19))/(OFFSET(OrderRange_Ref,,0)>0),ROWS($L$20:$L219)),IF(OFFSET(Cumulative,,1)>(ROW()-ROW($O$20)),_xlfn.AGGREGATE(15,6,(ROW(OrderRange_Ref)-ROW($L$19))/(OFFSET(OrderRange_Ref,,1)>0),ROWS($L$20:$L219)-OFFSET(Cumulative,,0)),IF(OFFSET(Cumulative,,2)>(ROW()-ROW($O$20)),_xlfn.AGGREGATE(15,6,(ROW(OrderRange_Ref)-ROW($L$19))/(OFFSET(OrderRange_Ref,,2)>0),ROWS($L$20:$L219)-OFFSET(Cumulative,,1)),IF(OFFSET(Cumulative,,3)>(ROW()-ROW($O$20)),_xlfn.AGGREGATE(15,6,(ROW(OrderRange_Ref)-ROW($L$19))/(OFFSET(OrderRange_Ref,,3)>0),ROWS($L$20:$L219)-OFFSET(Cumulative,,2)),IF(OFFSET(Cumulative,,4)>(ROW()-ROW($O$20)),_xlfn.AGGREGATE(15,6,(ROW(OrderRange_Ref)-ROW($L$19))/(OFFSET(OrderRange_Ref,,4)>0),ROWS($L$20:$L219)-OFFSET(Cumulative,,3)),IF(OFFSET(Cumulative,,5)>(ROW()-ROW($O$20)),_xlfn.AGGREGATE(15,6,(ROW(OrderRange_Ref)-ROW($L$19))/(OFFSET(OrderRange_Ref,,5)>0),ROWS($L$20:$L219)-OFFSET(Cumulative,,4)),\"\"))))))","v":""},"","","","",""]
[null,null,null,null,null,null,null,null,null,null,null,null,null,{"$f":"IF(Cumulative>(ROW()-ROW($O$20)),_xlfn.AGGREGATE(15,6,(ROW(OrderRange_Ref)-ROW($L$19))/(OFFSET(OrderRange_Ref,,0)>0),ROWS($L$20:$L220)),IF(OFFSET(Cumulative,,1)>(ROW()-ROW($O$20)),_xlfn.AGGREGATE(15,6,(ROW(OrderRange_Ref)-ROW($L$19))/(OFFSET(OrderRange_Ref,,1)>0),ROWS($L$20:$L220)-OFFSET(Cumulative,,0)),IF(OFFSET(Cumulative,,2)>(ROW()-ROW($O$20)),_xlfn.AGGREGATE(15,6,(ROW(OrderRange_Ref)-ROW($L$19))/(OFFSET(OrderRange_Ref,,2)>0),ROWS($L$20:$L220)-OFFSET(Cumulative,,1)),IF(OFFSET(Cumulative,,3)>(ROW()-ROW($O$20)),_xlfn.AGGREGATE(15,6,(ROW(OrderRange_Ref)-ROW($L$19))/(OFFSET(OrderRange_Ref,,3)>0),ROWS($L$20:$L220)-OFFSET(Cumulative,,2)),IF(OFFSET(Cumulative,,4)>(ROW()-ROW($O$20)),_xlfn.AGGREGATE(15,6,(ROW(OrderRange_Ref)-ROW($L$19))/(OFFSET(OrderRange_Ref,,4)>0),ROWS($L$20:$L220)-OFFSET(Cumulative,,3)),IF(OFFSET(Cumulative,,5)>(ROW()-ROW($O$20)),_xlfn.AGGREGATE(15,6,(ROW(OrderRange_Ref)-ROW($L$19))/(OFFSET(OrderRange_Ref,,5)>0),ROWS($L$20:$L220)-OFFSET(Cumulative,,4)),\"\"))))))","v":""},"","","","",""]
[null,null,null,null,null,null,null,null,null,null,null,null,null,{"$f":"IF(Cumulative>(ROW()-ROW($O$20)),_xlfn.AGGREGATE(15,6,(ROW(OrderRange_Ref)-ROW($L$19))/(OFFSET(OrderRange_Ref,,0)>0),ROWS($L$20:$L221)),IF(OFFSET(Cumulative,,1)>(ROW()-ROW($O$20)),_xlfn.AGGREGATE(15,6,(ROW(OrderRange_Ref)-ROW($L$19))/(OFFSET(OrderRange_Ref,,1)>0),ROWS($L$20:$L221)-OFFSET(Cumulative,,0)),IF(OFFSET(Cumulative,,2)>(ROW()-ROW($O$20)),_xlfn.AGGREGATE(15,6,(ROW(OrderRange_Ref)-ROW($L$19))/(OFFSET(OrderRange_Ref,,2)>0),ROWS($L$20:$L221)-OFFSET(Cumulative,,1)),IF(OFFSET(Cumulative,,3)>(ROW()-ROW($O$20)),_xlfn.AGGREGATE(15,6,(ROW(OrderRange_Ref)-ROW($L$19))/(OFFSET(OrderRange_Ref,,3)>0),ROWS($L$20:$L221)-OFFSET(Cumulative,,2)),IF(OFFSET(Cumulative,,4)>(ROW()-ROW($O$20)),_xlfn.AGGREGATE(15,6,(ROW(OrderRange_Ref)-ROW($L$19))/(OFFSET(OrderRange_Ref,,4)>0),ROWS($L$20:$L221)-OFFSET(Cumulative,,3)),IF(OFFSET(Cumulative,,5)>(ROW()-ROW($O$20)),_xlfn.AGGREGATE(15,6,(ROW(OrderRange_Ref)-ROW($L$19))/(OFFSET(OrderRange_Ref,,5)>0),ROWS($L$20:$L221)-OFFSET(Cumulative,,4)),\"\"))))))","v":""},"","","","",""]
[null,null,null,null,null,null,null,null,null,null,null,null,null,{"$f":"IF(Cumulative>(ROW()-ROW($O$20)),_xlfn.AGGREGATE(15,6,(ROW(OrderRange_Ref)-ROW($L$19))/(OFFSET(OrderRange_Ref,,0)>0),ROWS($L$20:$L222)),IF(OFFSET(Cumulative,,1)>(ROW()-ROW($O$20)),_xlfn.AGGREGATE(15,6,(ROW(OrderRange_Ref)-ROW($L$19))/(OFFSET(OrderRange_Ref,,1)>0),ROWS($L$20:$L222)-OFFSET(Cumulative,,0)),IF(OFFSET(Cumulative,,2)>(ROW()-ROW($O$20)),_xlfn.AGGREGATE(15,6,(ROW(OrderRange_Ref)-ROW($L$19))/(OFFSET(OrderRange_Ref,,2)>0),ROWS($L$20:$L222)-OFFSET(Cumulative,,1)),IF(OFFSET(Cumulative,,3)>(ROW()-ROW($O$20)),_xlfn.AGGREGATE(15,6,(ROW(OrderRange_Ref)-ROW($L$19))/(OFFSET(OrderRange_Ref,,3)>0),ROWS($L$20:$L222)-OFFSET(Cumulative,,2)),IF(OFFSET(Cumulative,,4)>(ROW()-ROW($O$20)),_xlfn.AGGREGATE(15,6,(ROW(OrderRange_Ref)-ROW($L$19))/(OFFSET(OrderRange_Ref,,4)>0),ROWS($L$20:$L222)-OFFSET(Cumulative,,3)),IF(OFFSET(Cumulative,,5)>(ROW()-ROW($O$20)),_xlfn.AGGREGATE(15,6,(ROW(OrderRange_Ref)-ROW($L$19))/(OFFSET(OrderRange_Ref,,5)>0),ROWS($L$20:$L222)-OFFSET(Cumulative,,4)),\"\"))))))","v":""},"","","","",""]
[null,null,null,null,null,null,null,null,null,null,null,null,null,{"$f":"IF(Cumulative>(ROW()-ROW($O$20)),_xlfn.AGGREGATE(15,6,(ROW(OrderRange_Ref)-ROW($L$19))/(OFFSET(OrderRange_Ref,,0)>0),ROWS($L$20:$L223)),IF(OFFSET(Cumulative,,1)>(ROW()-ROW($O$20)),_xlfn.AGGREGATE(15,6,(ROW(OrderRange_Ref)-ROW($L$19))/(OFFSET(OrderRange_Ref,,1)>0),ROWS($L$20:$L223)-OFFSET(Cumulative,,0)),IF(OFFSET(Cumulative,,2)>(ROW()-ROW($O$20)),_xlfn.AGGREGATE(15,6,(ROW(OrderRange_Ref)-ROW($L$19))/(OFFSET(OrderRange_Ref,,2)>0),ROWS($L$20:$L223)-OFFSET(Cumulative,,1)),IF(OFFSET(Cumulative,,3)>(ROW()-ROW($O$20)),_xlfn.AGGREGATE(15,6,(ROW(OrderRange_Ref)-ROW($L$19))/(OFFSET(OrderRange_Ref,,3)>0),ROWS($L$20:$L223)-OFFSET(Cumulative,,2)),IF(OFFSET(Cumulative,,4)>(ROW()-ROW($O$20)),_xlfn.AGGREGATE(15,6,(ROW(OrderRange_Ref)-ROW($L$19))/(OFFSET(OrderRange_Ref,,4)>0),ROWS($L$20:$L223)-OFFSET(Cumulative,,3)),IF(OFFSET(Cumulative,,5)>(ROW()-ROW($O$20)),_xlfn.AGGREGATE(15,6,(ROW(OrderRange_Ref)-ROW($L$19))/(OFFSET(OrderRange_Ref,,5)>0),ROWS($L$20:$L223)-OFFSET(Cumulative,,4)),\"\"))))))","v":""},"","","","",""]
[null,null,null,null,null,null,null,null,null,null,null,null,null,{"$f":"IF(Cumulative>(ROW()-ROW($O$20)),_xlfn.AGGREGATE(15,6,(ROW(OrderRange_Ref)-ROW($L$19))/(OFFSET(OrderRange_Ref,,0)>0),ROWS($L$20:$L224)),IF(OFFSET(Cumulative,,1)>(ROW()-ROW($O$20)),_xlfn.AGGREGATE(15,6,(ROW(OrderRange_Ref)-ROW($L$19))/(OFFSET(OrderRange_Ref,,1)>0),ROWS($L$20:$L224)-OFFSET(Cumulative,,0)),IF(OFFSET(Cumulative,,2)>(ROW()-ROW($O$20)),_xlfn.AGGREGATE(15,6,(ROW(OrderRange_Ref)-ROW($L$19))/(OFFSET(OrderRange_Ref,,2)>0),ROWS($L$20:$L224)-OFFSET(Cumulative,,1)),IF(OFFSET(Cumulative,,3)>(ROW()-ROW($O$20)),_xlfn.AGGREGATE(15,6,(ROW(OrderRange_Ref)-ROW($L$19))/(OFFSET(OrderRange_Ref,,3)>0),ROWS($L$20:$L224)-OFFSET(Cumulative,,2)),IF(OFFSET(Cumulative,,4)>(ROW()-ROW($O$20)),_xlfn.AGGREGATE(15,6,(ROW(OrderRange_Ref)-ROW($L$19))/(OFFSET(OrderRange_Ref,,4)>0),ROWS($L$20:$L224)-OFFSET(Cumulative,,3)),IF(OFFSET(Cumulative,,5)>(ROW()-ROW($O$20)),_xlfn.AGGREGATE(15,6,(ROW(OrderRange_Ref)-ROW($L$19))/(OFFSET(OrderRange_Ref,,5)>0),ROWS($L$20:$L224)-OFFSET(Cumulative,,4)),\"\"))))))","v":""},"","","","",""]
[null,null,null,null,null,null,null,null,null,null,null,null,null,{"$f":"IF(Cumulative>(ROW()-ROW($O$20)),_xlfn.AGGREGATE(15,6,(ROW(OrderRange_Ref)-ROW($L$19))/(OFFSET(OrderRange_Ref,,0)>0),ROWS($L$20:$L225)),IF(OFFSET(Cumulative,,1)>(ROW()-ROW($O$20)),_xlfn.AGGREGATE(15,6,(ROW(OrderRange_Ref)-ROW($L$19))/(OFFSET(OrderRange_Ref,,1)>0),ROWS($L$20:$L225)-OFFSET(Cumulative,,0)),IF(OFFSET(Cumulative,,2)>(ROW()-ROW($O$20)),_xlfn.AGGREGATE(15,6,(ROW(OrderRange_Ref)-ROW($L$19))/(OFFSET(OrderRange_Ref,,2)>0),ROWS($L$20:$L225)-OFFSET(Cumulative,,1)),IF(OFFSET(Cumulative,,3)>(ROW()-ROW($O$20)),_xlfn.AGGREGATE(15,6,(ROW(OrderRange_Ref)-ROW($L$19))/(OFFSET(OrderRange_Ref,,3)>0),ROWS($L$20:$L225)-OFFSET(Cumulative,,2)),IF(OFFSET(Cumulative,,4)>(ROW()-ROW($O$20)),_xlfn.AGGREGATE(15,6,(ROW(OrderRange_Ref)-ROW($L$19))/(OFFSET(OrderRange_Ref,,4)>0),ROWS($L$20:$L225)-OFFSET(Cumulative,,3)),IF(OFFSET(Cumulative,,5)>(ROW()-ROW($O$20)),_xlfn.AGGREGATE(15,6,(ROW(OrderRange_Ref)-ROW($L$19))/(OFFSET(OrderRange_Ref,,5)>0),ROWS($L$20:$L225)-OFFSET(Cumulative,,4)),\"\"))))))","v":""},"","","","",""]
[null,null,null,null,null,null,null,null,null,null,null,null,null,{"$f":"IF(Cumulative>(ROW()-ROW($O$20)),_xlfn.AGGREGATE(15,6,(ROW(OrderRange_Ref)-ROW($L$19))/(OFFSET(OrderRange_Ref,,0)>0),ROWS($L$20:$L226)),IF(OFFSET(Cumulative,,1)>(ROW()-ROW($O$20)),_xlfn.AGGREGATE(15,6,(ROW(OrderRange_Ref)-ROW($L$19))/(OFFSET(OrderRange_Ref,,1)>0),ROWS($L$20:$L226)-OFFSET(Cumulative,,0)),IF(OFFSET(Cumulative,,2)>(ROW()-ROW($O$20)),_xlfn.AGGREGATE(15,6,(ROW(OrderRange_Ref)-ROW($L$19))/(OFFSET(OrderRange_Ref,,2)>0),ROWS($L$20:$L226)-OFFSET(Cumulative,,1)),IF(OFFSET(Cumulative,,3)>(ROW()-ROW($O$20)),_xlfn.AGGREGATE(15,6,(ROW(OrderRange_Ref)-ROW($L$19))/(OFFSET(OrderRange_Ref,,3)>0),ROWS($L$20:$L226)-OFFSET(Cumulative,,2)),IF(OFFSET(Cumulative,,4)>(ROW()-ROW($O$20)),_xlfn.AGGREGATE(15,6,(ROW(OrderRange_Ref)-ROW($L$19))/(OFFSET(OrderRange_Ref,,4)>0),ROWS($L$20:$L226)-OFFSET(Cumulative,,3)),IF(OFFSET(Cumulative,,5)>(ROW()-ROW($O$20)),_xlfn.AGGREGATE(15,6,(ROW(OrderRange_Ref)-ROW($L$19))/(OFFSET(OrderRange_Ref,,5)>0),ROWS($L$20:$L226)-OFFSET(Cumulative,,4)),\"\"))))))","v":""},"","","","",""]
[null,null,null,null,null,null,null,null,null,null,null,null,null,{"$f":"IF(Cumulative>(ROW()-ROW($O$20)),_xlfn.AGGREGATE(15,6,(ROW(OrderRange_Ref)-ROW($L$19))/(OFFSET(OrderRange_Ref,,0)>0),ROWS($L$20:$L227)),IF(OFFSET(Cumulative,,1)>(ROW()-ROW($O$20)),_xlfn.AGGREGATE(15,6,(ROW(OrderRange_Ref)-ROW($L$19))/(OFFSET(OrderRange_Ref,,1)>0),ROWS($L$20:$L227)-OFFSET(Cumulative,,0)),IF(OFFSET(Cumulative,,2)>(ROW()-ROW($O$20)),_xlfn.AGGREGATE(15,6,(ROW(OrderRange_Ref)-ROW($L$19))/(OFFSET(OrderRange_Ref,,2)>0),ROWS($L$20:$L227)-OFFSET(Cumulative,,1)),IF(OFFSET(Cumulative,,3)>(ROW()-ROW($O$20)),_xlfn.AGGREGATE(15,6,(ROW(OrderRange_Ref)-ROW($L$19))/(OFFSET(OrderRange_Ref,,3)>0),ROWS($L$20:$L227)-OFFSET(Cumulative,,2)),IF(OFFSET(Cumulative,,4)>(ROW()-ROW($O$20)),_xlfn.AGGREGATE(15,6,(ROW(OrderRange_Ref)-ROW($L$19))/(OFFSET(OrderRange_Ref,,4)>0),ROWS($L$20:$L227)-OFFSET(Cumulative,,3)),IF(OFFSET(Cumulative,,5)>(ROW()-ROW($O$20)),_xlfn.AGGREGATE(15,6,(ROW(OrderRange_Ref)-ROW($L$19))/(OFFSET(OrderRange_Ref,,5)>0),ROWS($L$20:$L227)-OFFSET(Cumulative,,4)),\"\"))))))","v":""},"","","","",""]
[null,null,null,null,null,null,null,null,null,null,null,null,null,{"$f":"IF(Cumulative>(ROW()-ROW($O$20)),_xlfn.AGGREGATE(15,6,(ROW(OrderRange_Ref)-ROW($L$19))/(OFFSET(OrderRange_Ref,,0)>0),ROWS($L$20:$L228)),IF(OFFSET(Cumulative,,1)>(ROW()-ROW($O$20)),_xlfn.AGGREGATE(15,6,(ROW(OrderRange_Ref)-ROW($L$19))/(OFFSET(OrderRange_Ref,,1)>0),ROWS($L$20:$L228)-OFFSET(Cumulative,,0)),IF(OFFSET(Cumulative,,2)>(ROW()-ROW($O$20)),_xlfn.AGGREGATE(15,6,(ROW(OrderRange_Ref)-ROW($L$19))/(OFFSET(OrderRange_Ref,,2)>0),ROWS($L$20:$L228)-OFFSET(Cumulative,,1)),IF(OFFSET(Cumulative,,3)>(ROW()-ROW($O$20)),_xlfn.AGGREGATE(15,6,(ROW(OrderRange_Ref)-ROW($L$19))/(OFFSET(OrderRange_Ref,,3)>0),ROWS($L$20:$L228)-OFFSET(Cumulative,,2)),IF(OFFSET(Cumulative,,4)>(ROW()-ROW($O$20)),_xlfn.AGGREGATE(15,6,(ROW(OrderRange_Ref)-ROW($L$19))/(OFFSET(OrderRange_Ref,,4)>0),ROWS($L$20:$L228)-OFFSET(Cumulative,,3)),IF(OFFSET(Cumulative,,5)>(ROW()-ROW($O$20)),_xlfn.AGGREGATE(15,6,(ROW(OrderRange_Ref)-ROW($L$19))/(OFFSET(OrderRange_Ref,,5)>0),ROWS($L$20:$L228)-OFFSET(Cumulative,,4)),\"\"))))))","v":""},"","","","",""]
[null,null,null,null,null,null,null,null,null,null,null,null,null,{"$f":"IF(Cumulative>(ROW()-ROW($O$20)),_xlfn.AGGREGATE(15,6,(ROW(OrderRange_Ref)-ROW($L$19))/(OFFSET(OrderRange_Ref,,0)>0),ROWS($L$20:$L229)),IF(OFFSET(Cumulative,,1)>(ROW()-ROW($O$20)),_xlfn.AGGREGATE(15,6,(ROW(OrderRange_Ref)-ROW($L$19))/(OFFSET(OrderRange_Ref,,1)>0),ROWS($L$20:$L229)-OFFSET(Cumulative,,0)),IF(OFFSET(Cumulative,,2)>(ROW()-ROW($O$20)),_xlfn.AGGREGATE(15,6,(ROW(OrderRange_Ref)-ROW($L$19))/(OFFSET(OrderRange_Ref,,2)>0),ROWS($L$20:$L229)-OFFSET(Cumulative,,1)),IF(OFFSET(Cumulative,,3)>(ROW()-ROW($O$20)),_xlfn.AGGREGATE(15,6,(ROW(OrderRange_Ref)-ROW($L$19))/(OFFSET(OrderRange_Ref,,3)>0),ROWS($L$20:$L229)-OFFSET(Cumulative,,2)),IF(OFFSET(Cumulative,,4)>(ROW()-ROW($O$20)),_xlfn.AGGREGATE(15,6,(ROW(OrderRange_Ref)-ROW($L$19))/(OFFSET(OrderRange_Ref,,4)>0),ROWS($L$20:$L229)-OFFSET(Cumulative,,3)),IF(OFFSET(Cumulative,,5)>(ROW()-ROW($O$20)),_xlfn.AGGREGATE(15,6,(ROW(OrderRange_Ref)-ROW($L$19))/(OFFSET(OrderRange_Ref,,5)>0),ROWS($L$20:$L229)-OFFSET(Cumulative,,4)),\"\"))))))","v":""},"","","","",""]
[null,null,null,null,null,null,null,null,null,null,null,null,null,{"$f":"IF(Cumulative>(ROW()-ROW($O$20)),_xlfn.AGGREGATE(15,6,(ROW(OrderRange_Ref)-ROW($L$19))/(OFFSET(OrderRange_Ref,,0)>0),ROWS($L$20:$L230)),IF(OFFSET(Cumulative,,1)>(ROW()-ROW($O$20)),_xlfn.AGGREGATE(15,6,(ROW(OrderRange_Ref)-ROW($L$19))/(OFFSET(OrderRange_Ref,,1)>0),ROWS($L$20:$L230)-OFFSET(Cumulative,,0)),IF(OFFSET(Cumulative,,2)>(ROW()-ROW($O$20)),_xlfn.AGGREGATE(15,6,(ROW(OrderRange_Ref)-ROW($L$19))/(OFFSET(OrderRange_Ref,,2)>0),ROWS($L$20:$L230)-OFFSET(Cumulative,,1)),IF(OFFSET(Cumulative,,3)>(ROW()-ROW($O$20)),_xlfn.AGGREGATE(15,6,(ROW(OrderRange_Ref)-ROW($L$19))/(OFFSET(OrderRange_Ref,,3)>0),ROWS($L$20:$L230)-OFFSET(Cumulative,,2)),IF(OFFSET(Cumulative,,4)>(ROW()-ROW($O$20)),_xlfn.AGGREGATE(15,6,(ROW(OrderRange_Ref)-ROW($L$19))/(OFFSET(OrderRange_Ref,,4)>0),ROWS($L$20:$L230)-OFFSET(Cumulative,,3)),IF(OFFSET(Cumulative,,5)>(ROW()-ROW($O$20)),_xlfn.AGGREGATE(15,6,(ROW(OrderRange_Ref)-ROW($L$19))/(OFFSET(OrderRange_Ref,,5)>0),ROWS($L$20:$L230)-OFFSET(Cumulative,,4)),\"\"))))))","v":""},"","","","",""]
[null,null,null,null,null,null,null,null,null,null,null,null,null,{"$f":"IF(Cumulative>(ROW()-ROW($O$20)),_xlfn.AGGREGATE(15,6,(ROW(OrderRange_Ref)-ROW($L$19))/(OFFSET(OrderRange_Ref,,0)>0),ROWS($L$20:$L231)),IF(OFFSET(Cumulative,,1)>(ROW()-ROW($O$20)),_xlfn.AGGREGATE(15,6,(ROW(OrderRange_Ref)-ROW($L$19))/(OFFSET(OrderRange_Ref,,1)>0),ROWS($L$20:$L231)-OFFSET(Cumulative,,0)),IF(OFFSET(Cumulative,,2)>(ROW()-ROW($O$20)),_xlfn.AGGREGATE(15,6,(ROW(OrderRange_Ref)-ROW($L$19))/(OFFSET(OrderRange_Ref,,2)>0),ROWS($L$20:$L231)-OFFSET(Cumulative,,1)),IF(OFFSET(Cumulative,,3)>(ROW()-ROW($O$20)),_xlfn.AGGREGATE(15,6,(ROW(OrderRange_Ref)-ROW($L$19))/(OFFSET(OrderRange_Ref,,3)>0),ROWS($L$20:$L231)-OFFSET(Cumulative,,2)),IF(OFFSET(Cumulative,,4)>(ROW()-ROW($O$20)),_xlfn.AGGREGATE(15,6,(ROW(OrderRange_Ref)-ROW($L$19))/(OFFSET(OrderRange_Ref,,4)>0),ROWS($L$20:$L231)-OFFSET(Cumulative,,3)),IF(OFFSET(Cumulative,,5)>(ROW()-ROW($O$20)),_xlfn.AGGREGATE(15,6,(ROW(OrderRange_Ref)-ROW($L$19))/(OFFSET(OrderRange_Ref,,5)>0),ROWS($L$20:$L231)-OFFSET(Cumulative,,4)),\"\"))))))","v":""},"","","","",""]
[null,null,null,null,null,null,null,null,null,null,null,null,null,{"$f":"IF(Cumulative>(ROW()-ROW($O$20)),_xlfn.AGGREGATE(15,6,(ROW(OrderRange_Ref)-ROW($L$19))/(OFFSET(OrderRange_Ref,,0)>0),ROWS($L$20:$L232)),IF(OFFSET(Cumulative,,1)>(ROW()-ROW($O$20)),_xlfn.AGGREGATE(15,6,(ROW(OrderRange_Ref)-ROW($L$19))/(OFFSET(OrderRange_Ref,,1)>0),ROWS($L$20:$L232)-OFFSET(Cumulative,,0)),IF(OFFSET(Cumulative,,2)>(ROW()-ROW($O$20)),_xlfn.AGGREGATE(15,6,(ROW(OrderRange_Ref)-ROW($L$19))/(OFFSET(OrderRange_Ref,,2)>0),ROWS($L$20:$L232)-OFFSET(Cumulative,,1)),IF(OFFSET(Cumulative,,3)>(ROW()-ROW($O$20)),_xlfn.AGGREGATE(15,6,(ROW(OrderRange_Ref)-ROW($L$19))/(OFFSET(OrderRange_Ref,,3)>0),ROWS($L$20:$L232)-OFFSET(Cumulative,,2)),IF(OFFSET(Cumulative,,4)>(ROW()-ROW($O$20)),_xlfn.AGGREGATE(15,6,(ROW(OrderRange_Ref)-ROW($L$19))/(OFFSET(OrderRange_Ref,,4)>0),ROWS($L$20:$L232)-OFFSET(Cumulative,,3)),IF(OFFSET(Cumulative,,5)>(ROW()-ROW($O$20)),_xlfn.AGGREGATE(15,6,(ROW(OrderRange_Ref)-ROW($L$19))/(OFFSET(OrderRange_Ref,,5)>0),ROWS($L$20:$L232)-OFFSET(Cumulative,,4)),\"\"))))))","v":""},"","","","",""]
[null,null,null,null,null,null,null,null,null,null,null,null,null,{"$f":"IF(Cumulative>(ROW()-ROW($O$20)),_xlfn.AGGREGATE(15,6,(ROW(OrderRange_Ref)-ROW($L$19))/(OFFSET(OrderRange_Ref,,0)>0),ROWS($L$20:$L233)),IF(OFFSET(Cumulative,,1)>(ROW()-ROW($O$20)),_xlfn.AGGREGATE(15,6,(ROW(OrderRange_Ref)-ROW($L$19))/(OFFSET(OrderRange_Ref,,1)>0),ROWS($L$20:$L233)-OFFSET(Cumulative,,0)),IF(OFFSET(Cumulative,,2)>(ROW()-ROW($O$20)),_xlfn.AGGREGATE(15,6,(ROW(OrderRange_Ref)-ROW($L$19))/(OFFSET(OrderRange_Ref,,2)>0),ROWS($L$20:$L233)-OFFSET(Cumulative,,1)),IF(OFFSET(Cumulative,,3)>(ROW()-ROW($O$20)),_xlfn.AGGREGATE(15,6,(ROW(OrderRange_Ref)-ROW($L$19))/(OFFSET(OrderRange_Ref,,3)>0),ROWS($L$20:$L233)-OFFSET(Cumulative,,2)),IF(OFFSET(Cumulative,,4)>(ROW()-ROW($O$20)),_xlfn.AGGREGATE(15,6,(ROW(OrderRange_Ref)-ROW($L$19))/(OFFSET(OrderRange_Ref,,4)>0),ROWS($L$20:$L233)-OFFSET(Cumulative,,3)),IF(OFFSET(Cumulative,,5)>(ROW()-ROW($O$20)),_xlfn.AGGREGATE(15,6,(ROW(OrderRange_Ref)-ROW($L$19))/(OFFSET(OrderRange_Ref,,5)>0),ROWS($L$20:$L233)-OFFSET(Cumulative,,4)),\"\"))))))","v":""},"","","","",""]
[null,null,null,null,null,null,null,null,null,null,null,null,null,{"$f":"IF(Cumulative>(ROW()-ROW($O$20)),_xlfn.AGGREGATE(15,6,(ROW(OrderRange_Ref)-ROW($L$19))/(OFFSET(OrderRange_Ref,,0)>0),ROWS($L$20:$L234)),IF(OFFSET(Cumulative,,1)>(ROW()-ROW($O$20)),_xlfn.AGGREGATE(15,6,(ROW(OrderRange_Ref)-ROW($L$19))/(OFFSET(OrderRange_Ref,,1)>0),ROWS($L$20:$L234)-OFFSET(Cumulative,,0)),IF(OFFSET(Cumulative,,2)>(ROW()-ROW($O$20)),_xlfn.AGGREGATE(15,6,(ROW(OrderRange_Ref)-ROW($L$19))/(OFFSET(OrderRange_Ref,,2)>0),ROWS($L$20:$L234)-OFFSET(Cumulative,,1)),IF(OFFSET(Cumulative,,3)>(ROW()-ROW($O$20)),_xlfn.AGGREGATE(15,6,(ROW(OrderRange_Ref)-ROW($L$19))/(OFFSET(OrderRange_Ref,,3)>0),ROWS($L$20:$L234)-OFFSET(Cumulative,,2)),IF(OFFSET(Cumulative,,4)>(ROW()-ROW($O$20)),_xlfn.AGGREGATE(15,6,(ROW(OrderRange_Ref)-ROW($L$19))/(OFFSET(OrderRange_Ref,,4)>0),ROWS($L$20:$L234)-OFFSET(Cumulative,,3)),IF(OFFSET(Cumulative,,5)>(ROW()-ROW($O$20)),_xlfn.AGGREGATE(15,6,(ROW(OrderRange_Ref)-ROW($L$19))/(OFFSET(OrderRange_Ref,,5)>0),ROWS($L$20:$L234)-OFFSET(Cumulative,,4)),\"\"))))))","v":""},"","","","",""]
[null,null,null,null,null,null,null,null,null,null,null,null,null,{"$f":"IF(Cumulative>(ROW()-ROW($O$20)),_xlfn.AGGREGATE(15,6,(ROW(OrderRange_Ref)-ROW($L$19))/(OFFSET(OrderRange_Ref,,0)>0),ROWS($L$20:$L235)),IF(OFFSET(Cumulative,,1)>(ROW()-ROW($O$20)),_xlfn.AGGREGATE(15,6,(ROW(OrderRange_Ref)-ROW($L$19))/(OFFSET(OrderRange_Ref,,1)>0),ROWS($L$20:$L235)-OFFSET(Cumulative,,0)),IF(OFFSET(Cumulative,,2)>(ROW()-ROW($O$20)),_xlfn.AGGREGATE(15,6,(ROW(OrderRange_Ref)-ROW($L$19))/(OFFSET(OrderRange_Ref,,2)>0),ROWS($L$20:$L235)-OFFSET(Cumulative,,1)),IF(OFFSET(Cumulative,,3)>(ROW()-ROW($O$20)),_xlfn.AGGREGATE(15,6,(ROW(OrderRange_Ref)-ROW($L$19))/(OFFSET(OrderRange_Ref,,3)>0),ROWS($L$20:$L235)-OFFSET(Cumulative,,2)),IF(OFFSET(Cumulative,,4)>(ROW()-ROW($O$20)),_xlfn.AGGREGATE(15,6,(ROW(OrderRange_Ref)-ROW($L$19))/(OFFSET(OrderRange_Ref,,4)>0),ROWS($L$20:$L235)-OFFSET(Cumulative,,3)),IF(OFFSET(Cumulative,,5)>(ROW()-ROW($O$20)),_xlfn.AGGREGATE(15,6,(ROW(OrderRange_Ref)-ROW($L$19))/(OFFSET(OrderRange_Ref,,5)>0),ROWS($L$20:$L235)-OFFSET(Cumulative,,4)),\"\"))))))","v":""},"","","","",""]
[null,null,null,null,null,null,null,null,null,null,null,null,null,{"$f":"IF(Cumulative>(ROW()-ROW($O$20)),_xlfn.AGGREGATE(15,6,(ROW(OrderRange_Ref)-ROW($L$19))/(OFFSET(OrderRange_Ref,,0)>0),ROWS($L$20:$L236)),IF(OFFSET(Cumulative,,1)>(ROW()-ROW($O$20)),_xlfn.AGGREGATE(15,6,(ROW(OrderRange_Ref)-ROW($L$19))/(OFFSET(OrderRange_Ref,,1)>0),ROWS($L$20:$L236)-OFFSET(Cumulative,,0)),IF(OFFSET(Cumulative,,2)>(ROW()-ROW($O$20)),_xlfn.AGGREGATE(15,6,(ROW(OrderRange_Ref)-ROW($L$19))/(OFFSET(OrderRange_Ref,,2)>0),ROWS($L$20:$L236)-OFFSET(Cumulative,,1)),IF(OFFSET(Cumulative,,3)>(ROW()-ROW($O$20)),_xlfn.AGGREGATE(15,6,(ROW(OrderRange_Ref)-ROW($L$19))/(OFFSET(OrderRange_Ref,,3)>0),ROWS($L$20:$L236)-OFFSET(Cumulative,,2)),IF(OFFSET(Cumulative,,4)>(ROW()-ROW($O$20)),_xlfn.AGGREGATE(15,6,(ROW(OrderRange_Ref)-ROW($L$19))/(OFFSET(OrderRange_Ref,,4)>0),ROWS($L$20:$L236)-OFFSET(Cumulative,,3)),IF(OFFSET(Cumulative,,5)>(ROW()-ROW($O$20)),_xlfn.AGGREGATE(15,6,(ROW(OrderRange_Ref)-ROW($L$19))/(OFFSET(OrderRange_Ref,,5)>0),ROWS($L$20:$L236)-OFFSET(Cumulative,,4)),\"\"))))))","v":""},"","","","",""]
[null,null,null,null,null,null,null,null,null,null,null,null,null,{"$f":"IF(Cumulative>(ROW()-ROW($O$20)),_xlfn.AGGREGATE(15,6,(ROW(OrderRange_Ref)-ROW($L$19))/(OFFSET(OrderRange_Ref,,0)>0),ROWS($L$20:$L237)),IF(OFFSET(Cumulative,,1)>(ROW()-ROW($O$20)),_xlfn.AGGREGATE(15,6,(ROW(OrderRange_Ref)-ROW($L$19))/(OFFSET(OrderRange_Ref,,1)>0),ROWS($L$20:$L237)-OFFSET(Cumulative,,0)),IF(OFFSET(Cumulative,,2)>(ROW()-ROW($O$20)),_xlfn.AGGREGATE(15,6,(ROW(OrderRange_Ref)-ROW($L$19))/(OFFSET(OrderRange_Ref,,2)>0),ROWS($L$20:$L237)-OFFSET(Cumulative,,1)),IF(OFFSET(Cumulative,,3)>(ROW()-ROW($O$20)),_xlfn.AGGREGATE(15,6,(ROW(OrderRange_Ref)-ROW($L$19))/(OFFSET(OrderRange_Ref,,3)>0),ROWS($L$20:$L237)-OFFSET(Cumulative,,2)),IF(OFFSET(Cumulative,,4)>(ROW()-ROW($O$20)),_xlfn.AGGREGATE(15,6,(ROW(OrderRange_Ref)-ROW($L$19))/(OFFSET(OrderRange_Ref,,4)>0),ROWS($L$20:$L237)-OFFSET(Cumulative,,3)),IF(OFFSET(Cumulative,,5)>(ROW()-ROW($O$20)),_xlfn.AGGREGATE(15,6,(ROW(OrderRange_Ref)-ROW($L$19))/(OFFSET(OrderRange_Ref,,5)>0),ROWS($L$20:$L237)-OFFSET(Cumulative,,4)),\"\"))))))","v":""},"","","","",""]
[null,null,null,null,null,null,null,null,null,null,null,null,null,{"$f":"IF(Cumulative>(ROW()-ROW($O$20)),_xlfn.AGGREGATE(15,6,(ROW(OrderRange_Ref)-ROW($L$19))/(OFFSET(OrderRange_Ref,,0)>0),ROWS($L$20:$L238)),IF(OFFSET(Cumulative,,1)>(ROW()-ROW($O$20)),_xlfn.AGGREGATE(15,6,(ROW(OrderRange_Ref)-ROW($L$19))/(OFFSET(OrderRange_Ref,,1)>0),ROWS($L$20:$L238)-OFFSET(Cumulative,,0)),IF(OFFSET(Cumulative,,2)>(ROW()-ROW($O$20)),_xlfn.AGGREGATE(15,6,(ROW(OrderRange_Ref)-ROW($L$19))/(OFFSET(OrderRange_Ref,,2)>0),ROWS($L$20:$L238)-OFFSET(Cumulative,,1)),IF(OFFSET(Cumulative,,3)>(ROW()-ROW($O$20)),_xlfn.AGGREGATE(15,6,(ROW(OrderRange_Ref)-ROW($L$19))/(OFFSET(OrderRange_Ref,,3)>0),ROWS($L$20:$L238)-OFFSET(Cumulative,,2)),IF(OFFSET(Cumulative,,4)>(ROW()-ROW($O$20)),_xlfn.AGGREGATE(15,6,(ROW(OrderRange_Ref)-ROW($L$19))/(OFFSET(OrderRange_Ref,,4)>0),ROWS($L$20:$L238)-OFFSET(Cumulative,,3)),IF(OFFSET(Cumulative,,5)>(ROW()-ROW($O$20)),_xlfn.AGGREGATE(15,6,(ROW(OrderRange_Ref)-ROW($L$19))/(OFFSET(OrderRange_Ref,,5)>0),ROWS($L$20:$L238)-OFFSET(Cumulative,,4)),\"\"))))))","v":""},"","","","",""]
[null,null,null,null,null,null,null,null,null,null,null,null,null,{"$f":"IF(Cumulative>(ROW()-ROW($O$20)),_xlfn.AGGREGATE(15,6,(ROW(OrderRange_Ref)-ROW($L$19))/(OFFSET(OrderRange_Ref,,0)>0),ROWS($L$20:$L239)),IF(OFFSET(Cumulative,,1)>(ROW()-ROW($O$20)),_xlfn.AGGREGATE(15,6,(ROW(OrderRange_Ref)-ROW($L$19))/(OFFSET(OrderRange_Ref,,1)>0),ROWS($L$20:$L239)-OFFSET(Cumulative,,0)),IF(OFFSET(Cumulative,,2)>(ROW()-ROW($O$20)),_xlfn.AGGREGATE(15,6,(ROW(OrderRange_Ref)-ROW($L$19))/(OFFSET(OrderRange_Ref,,2)>0),ROWS($L$20:$L239)-OFFSET(Cumulative,,1)),IF(OFFSET(Cumulative,,3)>(ROW()-ROW($O$20)),_xlfn.AGGREGATE(15,6,(ROW(OrderRange_Ref)-ROW($L$19))/(OFFSET(OrderRange_Ref,,3)>0),ROWS($L$20:$L239)-OFFSET(Cumulative,,2)),IF(OFFSET(Cumulative,,4)>(ROW()-ROW($O$20)),_xlfn.AGGREGATE(15,6,(ROW(OrderRange_Ref)-ROW($L$19))/(OFFSET(OrderRange_Ref,,4)>0),ROWS($L$20:$L239)-OFFSET(Cumulative,,3)),IF(OFFSET(Cumulative,,5)>(ROW()-ROW($O$20)),_xlfn.AGGREGATE(15,6,(ROW(OrderRange_Ref)-ROW($L$19))/(OFFSET(OrderRange_Ref,,5)>0),ROWS($L$20:$L239)-OFFSET(Cumulative,,4)),\"\"))))))","v":""},"","","","",""]
[null,null,null,null,null,null,null,null,null,null,null,null,null,{"$f":"IF(Cumulative>(ROW()-ROW($O$20)),_xlfn.AGGREGATE(15,6,(ROW(OrderRange_Ref)-ROW($L$19))/(OFFSET(OrderRange_Ref,,0)>0),ROWS($L$20:$L240)),IF(OFFSET(Cumulative,,1)>(ROW()-ROW($O$20)),_xlfn.AGGREGATE(15,6,(ROW(OrderRange_Ref)-ROW($L$19))/(OFFSET(OrderRange_Ref,,1)>0),ROWS($L$20:$L240)-OFFSET(Cumulative,,0)),IF(OFFSET(Cumulative,,2)>(ROW()-ROW($O$20)),_xlfn.AGGREGATE(15,6,(ROW(OrderRange_Ref)-ROW($L$19))/(OFFSET(OrderRange_Ref,,2)>0),ROWS($L$20:$L240)-OFFSET(Cumulative,,1)),IF(OFFSET(Cumulative,,3)>(ROW()-ROW($O$20)),_xlfn.AGGREGATE(15,6,(ROW(OrderRange_Ref)-ROW($L$19))/(OFFSET(OrderRange_Ref,,3)>0),ROWS($L$20:$L240)-OFFSET(Cumulative,,2)),IF(OFFSET(Cumulative,,4)>(ROW()-ROW($O$20)),_xlfn.AGGREGATE(15,6,(ROW(OrderRange_Ref)-ROW($L$19))/(OFFSET(OrderRange_Ref,,4)>0),ROWS($L$20:$L240)-OFFSET(Cumulative,,3)),IF(OFFSET(Cumulative,,5)>(ROW()-ROW($O$20)),_xlfn.AGGREGATE(15,6,(ROW(OrderRange_Ref)-ROW($L$19))/(OFFSET(OrderRange_Ref,,5)>0),ROWS($L$20:$L240)-OFFSET(Cumulative,,4)),\"\"))))))","v":""},"","","","",""]
[null,null,null,null,null,null,null,null,null,null,null,null,null,{"$f":"IF(Cumulative>(ROW()-ROW($O$20)),_xlfn.AGGREGATE(15,6,(ROW(OrderRange_Ref)-ROW($L$19))/(OFFSET(OrderRange_Ref,,0)>0),ROWS($L$20:$L241)),IF(OFFSET(Cumulative,,1)>(ROW()-ROW($O$20)),_xlfn.AGGREGATE(15,6,(ROW(OrderRange_Ref)-ROW($L$19))/(OFFSET(OrderRange_Ref,,1)>0),ROWS($L$20:$L241)-OFFSET(Cumulative,,0)),IF(OFFSET(Cumulative,,2)>(ROW()-ROW($O$20)),_xlfn.AGGREGATE(15,6,(ROW(OrderRange_Ref)-ROW($L$19))/(OFFSET(OrderRange_Ref,,2)>0),ROWS($L$20:$L241)-OFFSET(Cumulative,,1)),IF(OFFSET(Cumulative,,3)>(ROW()-ROW($O$20)),_xlfn.AGGREGATE(15,6,(ROW(OrderRange_Ref)-ROW($L$19))/(OFFSET(OrderRange_Ref,,3)>0),ROWS($L$20:$L241)-OFFSET(Cumulative,,2)),IF(OFFSET(Cumulative,,4)>(ROW()-ROW($O$20)),_xlfn.AGGREGATE(15,6,(ROW(OrderRange_Ref)-ROW($L$19))/(OFFSET(OrderRange_Ref,,4)>0),ROWS($L$20:$L241)-OFFSET(Cumulative,,3)),IF(OFFSET(Cumulative,,5)>(ROW()-ROW($O$20)),_xlfn.AGGREGATE(15,6,(ROW(OrderRange_Ref)-ROW($L$19))/(OFFSET(OrderRange_Ref,,5)>0),ROWS($L$20:$L241)-OFFSET(Cumulative,,4)),\"\"))))))","v":""},"","","","",""]
[null,null,null,null,null,null,null,null,null,null,null,null,null,{"$f":"IF(Cumulative>(ROW()-ROW($O$20)),_xlfn.AGGREGATE(15,6,(ROW(OrderRange_Ref)-ROW($L$19))/(OFFSET(OrderRange_Ref,,0)>0),ROWS($L$20:$L242)),IF(OFFSET(Cumulative,,1)>(ROW()-ROW($O$20)),_xlfn.AGGREGATE(15,6,(ROW(OrderRange_Ref)-ROW($L$19))/(OFFSET(OrderRange_Ref,,1)>0),ROWS($L$20:$L242)-OFFSET(Cumulative,,0)),IF(OFFSET(Cumulative,,2)>(ROW()-ROW($O$20)),_xlfn.AGGREGATE(15,6,(ROW(OrderRange_Ref)-ROW($L$19))/(OFFSET(OrderRange_Ref,,2)>0),ROWS($L$20:$L242)-OFFSET(Cumulative,,1)),IF(OFFSET(Cumulative,,3)>(ROW()-ROW($O$20)),_xlfn.AGGREGATE(15,6,(ROW(OrderRange_Ref)-ROW($L$19))/(OFFSET(OrderRange_Ref,,3)>0),ROWS($L$20:$L242)-OFFSET(Cumulative,,2)),IF(OFFSET(Cumulative,,4)>(ROW()-ROW($O$20)),_xlfn.AGGREGATE(15,6,(ROW(OrderRange_Ref)-ROW($L$19))/(OFFSET(OrderRange_Ref,,4)>0),ROWS($L$20:$L242)-OFFSET(Cumulative,,3)),IF(OFFSET(Cumulative,,5)>(ROW()-ROW($O$20)),_xlfn.AGGREGATE(15,6,(ROW(OrderRange_Ref)-ROW($L$19))/(OFFSET(OrderRange_Ref,,5)>0),ROWS($L$20:$L242)-OFFSET(Cumulative,,4)),\"\"))))))","v":""},"","","","",""]
[null,null,null,null,null,null,null,null,null,null,null,null,null,{"$f":"IF(Cumulative>(ROW()-ROW($O$20)),_xlfn.AGGREGATE(15,6,(ROW(OrderRange_Ref)-ROW($L$19))/(OFFSET(OrderRange_Ref,,0)>0),ROWS($L$20:$L243)),IF(OFFSET(Cumulative,,1)>(ROW()-ROW($O$20)),_xlfn.AGGREGATE(15,6,(ROW(OrderRange_Ref)-ROW($L$19))/(OFFSET(OrderRange_Ref,,1)>0),ROWS($L$20:$L243)-OFFSET(Cumulative,,0)),IF(OFFSET(Cumulative,,2)>(ROW()-ROW($O$20)),_xlfn.AGGREGATE(15,6,(ROW(OrderRange_Ref)-ROW($L$19))/(OFFSET(OrderRange_Ref,,2)>0),ROWS($L$20:$L243)-OFFSET(Cumulative,,1)),IF(OFFSET(Cumulative,,3)>(ROW()-ROW($O$20)),_xlfn.AGGREGATE(15,6,(ROW(OrderRange_Ref)-ROW($L$19))/(OFFSET(OrderRange_Ref,,3)>0),ROWS($L$20:$L243)-OFFSET(Cumulative,,2)),IF(OFFSET(Cumulative,,4)>(ROW()-ROW($O$20)),_xlfn.AGGREGATE(15,6,(ROW(OrderRange_Ref)-ROW($L$19))/(OFFSET(OrderRange_Ref,,4)>0),ROWS($L$20:$L243)-OFFSET(Cumulative,,3)),IF(OFFSET(Cumulative,,5)>(ROW()-ROW($O$20)),_xlfn.AGGREGATE(15,6,(ROW(OrderRange_Ref)-ROW($L$19))/(OFFSET(OrderRange_Ref,,5)>0),ROWS($L$20:$L243)-OFFSET(Cumulative,,4)),\"\"))))))","v":""},"","","","",""]
[null,null,null,null,null,null,null,null,null,null,null,null,null,{"$f":"IF(Cumulative>(ROW()-ROW($O$20)),_xlfn.AGGREGATE(15,6,(ROW(OrderRange_Ref)-ROW($L$19))/(OFFSET(OrderRange_Ref,,0)>0),ROWS($L$20:$L244)),IF(OFFSET(Cumulative,,1)>(ROW()-ROW($O$20)),_xlfn.AGGREGATE(15,6,(ROW(OrderRange_Ref)-ROW($L$19))/(OFFSET(OrderRange_Ref,,1)>0),ROWS($L$20:$L244)-OFFSET(Cumulative,,0)),IF(OFFSET(Cumulative,,2)>(ROW()-ROW($O$20)),_xlfn.AGGREGATE(15,6,(ROW(OrderRange_Ref)-ROW($L$19))/(OFFSET(OrderRange_Ref,,2)>0),ROWS($L$20:$L244)-OFFSET(Cumulative,,1)),IF(OFFSET(Cumulative,,3)>(ROW()-ROW($O$20)),_xlfn.AGGREGATE(15,6,(ROW(OrderRange_Ref)-ROW($L$19))/(OFFSET(OrderRange_Ref,,3)>0),ROWS($L$20:$L244)-OFFSET(Cumulative,,2)),IF(OFFSET(Cumulative,,4)>(ROW()-ROW($O$20)),_xlfn.AGGREGATE(15,6,(ROW(OrderRange_Ref)-ROW($L$19))/(OFFSET(OrderRange_Ref,,4)>0),ROWS($L$20:$L244)-OFFSET(Cumulative,,3)),IF(OFFSET(Cumulative,,5)>(ROW()-ROW($O$20)),_xlfn.AGGREGATE(15,6,(ROW(OrderRange_Ref)-ROW($L$19))/(OFFSET(OrderRange_Ref,,5)>0),ROWS($L$20:$L244)-OFFSET(Cumulative,,4)),\"\"))))))","v":""},"","","","",""]
[null,null,null,null,null,null,null,null,null,null,null,null,null,{"$f":"IF(Cumulative>(ROW()-ROW($O$20)),_xlfn.AGGREGATE(15,6,(ROW(OrderRange_Ref)-ROW($L$19))/(OFFSET(OrderRange_Ref,,0)>0),ROWS($L$20:$L245)),IF(OFFSET(Cumulative,,1)>(ROW()-ROW($O$20)),_xlfn.AGGREGATE(15,6,(ROW(OrderRange_Ref)-ROW($L$19))/(OFFSET(OrderRange_Ref,,1)>0),ROWS($L$20:$L245)-OFFSET(Cumulative,,0)),IF(OFFSET(Cumulative,,2)>(ROW()-ROW($O$20)),_xlfn.AGGREGATE(15,6,(ROW(OrderRange_Ref)-ROW($L$19))/(OFFSET(OrderRange_Ref,,2)>0),ROWS($L$20:$L245)-OFFSET(Cumulative,,1)),IF(OFFSET(Cumulative,,3)>(ROW()-ROW($O$20)),_xlfn.AGGREGATE(15,6,(ROW(OrderRange_Ref)-ROW($L$19))/(OFFSET(OrderRange_Ref,,3)>0),ROWS($L$20:$L245)-OFFSET(Cumulative,,2)),IF(OFFSET(Cumulative,,4)>(ROW()-ROW($O$20)),_xlfn.AGGREGATE(15,6,(ROW(OrderRange_Ref)-ROW($L$19))/(OFFSET(OrderRange_Ref,,4)>0),ROWS($L$20:$L245)-OFFSET(Cumulative,,3)),IF(OFFSET(Cumulative,,5)>(ROW()-ROW($O$20)),_xlfn.AGGREGATE(15,6,(ROW(OrderRange_Ref)-ROW($L$19))/(OFFSET(OrderRange_Ref,,5)>0),ROWS($L$20:$L245)-OFFSET(Cumulative,,4)),\"\"))))))","v":""},"","","","",""]
[null,null,null,null,null,null,null,null,null,null,null,null,null,{"$f":"IF(Cumulative>(ROW()-ROW($O$20)),_xlfn.AGGREGATE(15,6,(ROW(OrderRange_Ref)-ROW($L$19))/(OFFSET(OrderRange_Ref,,0)>0),ROWS($L$20:$L246)),IF(OFFSET(Cumulative,,1)>(ROW()-ROW($O$20)),_xlfn.AGGREGATE(15,6,(ROW(OrderRange_Ref)-ROW($L$19))/(OFFSET(OrderRange_Ref,,1)>0),ROWS($L$20:$L246)-OFFSET(Cumulative,,0)),IF(OFFSET(Cumulative,,2)>(ROW()-ROW($O$20)),_xlfn.AGGREGATE(15,6,(ROW(OrderRange_Ref)-ROW($L$19))/(OFFSET(OrderRange_Ref,,2)>0),ROWS($L$20:$L246)-OFFSET(Cumulative,,1)),IF(OFFSET(Cumulative,,3)>(ROW()-ROW($O$20)),_xlfn.AGGREGATE(15,6,(ROW(OrderRange_Ref)-ROW($L$19))/(OFFSET(OrderRange_Ref,,3)>0),ROWS($L$20:$L246)-OFFSET(Cumulative,,2)),IF(OFFSET(Cumulative,,4)>(ROW()-ROW($O$20)),_xlfn.AGGREGATE(15,6,(ROW(OrderRange_Ref)-ROW($L$19))/(OFFSET(OrderRange_Ref,,4)>0),ROWS($L$20:$L246)-OFFSET(Cumulative,,3)),IF(OFFSET(Cumulative,,5)>(ROW()-ROW($O$20)),_xlfn.AGGREGATE(15,6,(ROW(OrderRange_Ref)-ROW($L$19))/(OFFSET(OrderRange_Ref,,5)>0),ROWS($L$20:$L246)-OFFSET(Cumulative,,4)),\"\"))))))","v":""},"","","","",""]
[null,null,null,null,null,null,null,null,null,null,null,null,null,{"$f":"IF(Cumulative>(ROW()-ROW($O$20)),_xlfn.AGGREGATE(15,6,(ROW(OrderRange_Ref)-ROW($L$19))/(OFFSET(OrderRange_Ref,,0)>0),ROWS($L$20:$L247)),IF(OFFSET(Cumulative,,1)>(ROW()-ROW($O$20)),_xlfn.AGGREGATE(15,6,(ROW(OrderRange_Ref)-ROW($L$19))/(OFFSET(OrderRange_Ref,,1)>0),ROWS($L$20:$L247)-OFFSET(Cumulative,,0)),IF(OFFSET(Cumulative,,2)>(ROW()-ROW($O$20)),_xlfn.AGGREGATE(15,6,(ROW(OrderRange_Ref)-ROW($L$19))/(OFFSET(OrderRange_Ref,,2)>0),ROWS($L$20:$L247)-OFFSET(Cumulative,,1)),IF(OFFSET(Cumulative,,3)>(ROW()-ROW($O$20)),_xlfn.AGGREGATE(15,6,(ROW(OrderRange_Ref)-ROW($L$19))/(OFFSET(OrderRange_Ref,,3)>0),ROWS($L$20:$L247)-OFFSET(Cumulative,,2)),IF(OFFSET(Cumulative,,4)>(ROW()-ROW($O$20)),_xlfn.AGGREGATE(15,6,(ROW(OrderRange_Ref)-ROW($L$19))/(OFFSET(OrderRange_Ref,,4)>0),ROWS($L$20:$L247)-OFFSET(Cumulative,,3)),IF(OFFSET(Cumulative,,5)>(ROW()-ROW($O$20)),_xlfn.AGGREGATE(15,6,(ROW(OrderRange_Ref)-ROW($L$19))/(OFFSET(OrderRange_Ref,,5)>0),ROWS($L$20:$L247)-OFFSET(Cumulative,,4)),\"\"))))))","v":""},"","","","",""]
[null,null,null,null,null,null,null,null,null,null,null,null,null,{"$f":"IF(Cumulative>(ROW()-ROW($O$20)),_xlfn.AGGREGATE(15,6,(ROW(OrderRange_Ref)-ROW($L$19))/(OFFSET(OrderRange_Ref,,0)>0),ROWS($L$20:$L248)),IF(OFFSET(Cumulative,,1)>(ROW()-ROW($O$20)),_xlfn.AGGREGATE(15,6,(ROW(OrderRange_Ref)-ROW($L$19))/(OFFSET(OrderRange_Ref,,1)>0),ROWS($L$20:$L248)-OFFSET(Cumulative,,0)),IF(OFFSET(Cumulative,,2)>(ROW()-ROW($O$20)),_xlfn.AGGREGATE(15,6,(ROW(OrderRange_Ref)-ROW($L$19))/(OFFSET(OrderRange_Ref,,2)>0),ROWS($L$20:$L248)-OFFSET(Cumulative,,1)),IF(OFFSET(Cumulative,,3)>(ROW()-ROW($O$20)),_xlfn.AGGREGATE(15,6,(ROW(OrderRange_Ref)-ROW($L$19))/(OFFSET(OrderRange_Ref,,3)>0),ROWS($L$20:$L248)-OFFSET(Cumulative,,2)),IF(OFFSET(Cumulative,,4)>(ROW()-ROW($O$20)),_xlfn.AGGREGATE(15,6,(ROW(OrderRange_Ref)-ROW($L$19))/(OFFSET(OrderRange_Ref,,4)>0),ROWS($L$20:$L248)-OFFSET(Cumulative,,3)),IF(OFFSET(Cumulative,,5)>(ROW()-ROW($O$20)),_xlfn.AGGREGATE(15,6,(ROW(OrderRange_Ref)-ROW($L$19))/(OFFSET(OrderRange_Ref,,5)>0),ROWS($L$20:$L248)-OFFSET(Cumulative,,4)),\"\"))))))","v":""},"","","","",""]
[null,null,null,null,null,null,null,null,null,null,null,null,null,{"$f":"IF(Cumulative>(ROW()-ROW($O$20)),_xlfn.AGGREGATE(15,6,(ROW(OrderRange_Ref)-ROW($L$19))/(OFFSET(OrderRange_Ref,,0)>0),ROWS($L$20:$L249)),IF(OFFSET(Cumulative,,1)>(ROW()-ROW($O$20)),_xlfn.AGGREGATE(15,6,(ROW(OrderRange_Ref)-ROW($L$19))/(OFFSET(OrderRange_Ref,,1)>0),ROWS($L$20:$L249)-OFFSET(Cumulative,,0)),IF(OFFSET(Cumulative,,2)>(ROW()-ROW($O$20)),_xlfn.AGGREGATE(15,6,(ROW(OrderRange_Ref)-ROW($L$19))/(OFFSET(OrderRange_Ref,,2)>0),ROWS($L$20:$L249)-OFFSET(Cumulative,,1)),IF(OFFSET(Cumulative,,3)>(ROW()-ROW($O$20)),_xlfn.AGGREGATE(15,6,(ROW(OrderRange_Ref)-ROW($L$19))/(OFFSET(OrderRange_Ref,,3)>0),ROWS($L$20:$L249)-OFFSET(Cumulative,,2)),IF(OFFSET(Cumulative,,4)>(ROW()-ROW($O$20)),_xlfn.AGGREGATE(15,6,(ROW(OrderRange_Ref)-ROW($L$19))/(OFFSET(OrderRange_Ref,,4)>0),ROWS($L$20:$L249)-OFFSET(Cumulative,,3)),IF(OFFSET(Cumulative,,5)>(ROW()-ROW($O$20)),_xlfn.AGGREGATE(15,6,(ROW(OrderRange_Ref)-ROW($L$19))/(OFFSET(OrderRange_Ref,,5)>0),ROWS($L$20:$L249)-OFFSET(Cumulative,,4)),\"\"))))))","v":""},"","","","",""]
[null,null,null,null,null,null,null,null,null,null,null,null,null,{"$f":"IF(Cumulative>(ROW()-ROW($O$20)),_xlfn.AGGREGATE(15,6,(ROW(OrderRange_Ref)-ROW($L$19))/(OFFSET(OrderRange_Ref,,0)>0),ROWS($L$20:$L250)),IF(OFFSET(Cumulative,,1)>(ROW()-ROW($O$20)),_xlfn.AGGREGATE(15,6,(ROW(OrderRange_Ref)-ROW($L$19))/(OFFSET(OrderRange_Ref,,1)>0),ROWS($L$20:$L250)-OFFSET(Cumulative,,0)),IF(OFFSET(Cumulative,,2)>(ROW()-ROW($O$20)),_xlfn.AGGREGATE(15,6,(ROW(OrderRange_Ref)-ROW($L$19))/(OFFSET(OrderRange_Ref,,2)>0),ROWS($L$20:$L250)-OFFSET(Cumulative,,1)),IF(OFFSET(Cumulative,,3)>(ROW()-ROW($O$20)),_xlfn.AGGREGATE(15,6,(ROW(OrderRange_Ref)-ROW($L$19))/(OFFSET(OrderRange_Ref,,3)>0),ROWS($L$20:$L250)-OFFSET(Cumulative,,2)),IF(OFFSET(Cumulative,,4)>(ROW()-ROW($O$20)),_xlfn.AGGREGATE(15,6,(ROW(OrderRange_Ref)-ROW($L$19))/(OFFSET(OrderRange_Ref,,4)>0),ROWS($L$20:$L250)-OFFSET(Cumulative,,3)),IF(OFFSET(Cumulative,,5)>(ROW()-ROW($O$20)),_xlfn.AGGREGATE(15,6,(ROW(OrderRange_Ref)-ROW($L$19))/(OFFSET(OrderRange_Ref,,5)>0),ROWS($L$20:$L250)-OFFSET(Cumulative,,4)),\"\"))))))","v":""},"","","","",""]
[null,null,null,null,null,null,null,null,null,null,null,null,null,{"$f":"IF(Cumulative>(ROW()-ROW($O$20)),_xlfn.AGGREGATE(15,6,(ROW(OrderRange_Ref)-ROW($L$19))/(OFFSET(OrderRange_Ref,,0)>0),ROWS($L$20:$L251)),IF(OFFSET(Cumulative,,1)>(ROW()-ROW($O$20)),_xlfn.AGGREGATE(15,6,(ROW(OrderRange_Ref)-ROW($L$19))/(OFFSET(OrderRange_Ref,,1)>0),ROWS($L$20:$L251)-OFFSET(Cumulative,,0)),IF(OFFSET(Cumulative,,2)>(ROW()-ROW($O$20)),_xlfn.AGGREGATE(15,6,(ROW(OrderRange_Ref)-ROW($L$19))/(OFFSET(OrderRange_Ref,,2)>0),ROWS($L$20:$L251)-OFFSET(Cumulative,,1)),IF(OFFSET(Cumulative,,3)>(ROW()-ROW($O$20)),_xlfn.AGGREGATE(15,6,(ROW(OrderRange_Ref)-ROW($L$19))/(OFFSET(OrderRange_Ref,,3)>0),ROWS($L$20:$L251)-OFFSET(Cumulative,,2)),IF(OFFSET(Cumulative,,4)>(ROW()-ROW($O$20)),_xlfn.AGGREGATE(15,6,(ROW(OrderRange_Ref)-ROW($L$19))/(OFFSET(OrderRange_Ref,,4)>0),ROWS($L$20:$L251)-OFFSET(Cumulative,,3)),IF(OFFSET(Cumulative,,5)>(ROW()-ROW($O$20)),_xlfn.AGGREGATE(15,6,(ROW(OrderRange_Ref)-ROW($L$19))/(OFFSET(OrderRange_Ref,,5)>0),ROWS($L$20:$L251)-OFFSET(Cumulative,,4)),\"\"))))))","v":""},"","","","",""]
[null,null,null,null,null,null,null,null,null,null,null,null,null,{"$f":"IF(Cumulative>(ROW()-ROW($O$20)),_xlfn.AGGREGATE(15,6,(ROW(OrderRange_Ref)-ROW($L$19))/(OFFSET(OrderRange_Ref,,0)>0),ROWS($L$20:$L252)),IF(OFFSET(Cumulative,,1)>(ROW()-ROW($O$20)),_xlfn.AGGREGATE(15,6,(ROW(OrderRange_Ref)-ROW($L$19))/(OFFSET(OrderRange_Ref,,1)>0),ROWS($L$20:$L252)-OFFSET(Cumulative,,0)),IF(OFFSET(Cumulative,,2)>(ROW()-ROW($O$20)),_xlfn.AGGREGATE(15,6,(ROW(OrderRange_Ref)-ROW($L$19))/(OFFSET(OrderRange_Ref,,2)>0),ROWS($L$20:$L252)-OFFSET(Cumulative,,1)),IF(OFFSET(Cumulative,,3)>(ROW()-ROW($O$20)),_xlfn.AGGREGATE(15,6,(ROW(OrderRange_Ref)-ROW($L$19))/(OFFSET(OrderRange_Ref,,3)>0),ROWS($L$20:$L252)-OFFSET(Cumulative,,2)),IF(OFFSET(Cumulative,,4)>(ROW()-ROW($O$20)),_xlfn.AGGREGATE(15,6,(ROW(OrderRange_Ref)-ROW($L$19))/(OFFSET(OrderRange_Ref,,4)>0),ROWS($L$20:$L252)-OFFSET(Cumulative,,3)),IF(OFFSET(Cumulative,,5)>(ROW()-ROW($O$20)),_xlfn.AGGREGATE(15,6,(ROW(OrderRange_Ref)-ROW($L$19))/(OFFSET(OrderRange_Ref,,5)>0),ROWS($L$20:$L252)-OFFSET(Cumulative,,4)),\"\"))))))","v":""},"","","","",""]
[null,null,null,null,null,null,null,null,null,null,null,null,null,{"$f":"IF(Cumulative>(ROW()-ROW($O$20)),_xlfn.AGGREGATE(15,6,(ROW(OrderRange_Ref)-ROW($L$19))/(OFFSET(OrderRange_Ref,,0)>0),ROWS($L$20:$L253)),IF(OFFSET(Cumulative,,1)>(ROW()-ROW($O$20)),_xlfn.AGGREGATE(15,6,(ROW(OrderRange_Ref)-ROW($L$19))/(OFFSET(OrderRange_Ref,,1)>0),ROWS($L$20:$L253)-OFFSET(Cumulative,,0)),IF(OFFSET(Cumulative,,2)>(ROW()-ROW($O$20)),_xlfn.AGGREGATE(15,6,(ROW(OrderRange_Ref)-ROW($L$19))/(OFFSET(OrderRange_Ref,,2)>0),ROWS($L$20:$L253)-OFFSET(Cumulative,,1)),IF(OFFSET(Cumulative,,3)>(ROW()-ROW($O$20)),_xlfn.AGGREGATE(15,6,(ROW(OrderRange_Ref)-ROW($L$19))/(OFFSET(OrderRange_Ref,,3)>0),ROWS($L$20:$L253)-OFFSET(Cumulative,,2)),IF(OFFSET(Cumulative,,4)>(ROW()-ROW($O$20)),_xlfn.AGGREGATE(15,6,(ROW(OrderRange_Ref)-ROW($L$19))/(OFFSET(OrderRange_Ref,,4)>0),ROWS($L$20:$L253)-OFFSET(Cumulative,,3)),IF(OFFSET(Cumulative,,5)>(ROW()-ROW($O$20)),_xlfn.AGGREGATE(15,6,(ROW(OrderRange_Ref)-ROW($L$19))/(OFFSET(OrderRange_Ref,,5)>0),ROWS($L$20:$L253)-OFFSET(Cumulative,,4)),\"\"))))))","v":""},"","","","",""]
[null,null,null,null,null,null,null,null,null,null,null,null,null,{"$f":"IF(Cumulative>(ROW()-ROW($O$20)),_xlfn.AGGREGATE(15,6,(ROW(OrderRange_Ref)-ROW($L$19))/(OFFSET(OrderRange_Ref,,0)>0),ROWS($L$20:$L254)),IF(OFFSET(Cumulative,,1)>(ROW()-ROW($O$20)),_xlfn.AGGREGATE(15,6,(ROW(OrderRange_Ref)-ROW($L$19))/(OFFSET(OrderRange_Ref,,1)>0),ROWS($L$20:$L254)-OFFSET(Cumulative,,0)),IF(OFFSET(Cumulative,,2)>(ROW()-ROW($O$20)),_xlfn.AGGREGATE(15,6,(ROW(OrderRange_Ref)-ROW($L$19))/(OFFSET(OrderRange_Ref,,2)>0),ROWS($L$20:$L254)-OFFSET(Cumulative,,1)),IF(OFFSET(Cumulative,,3)>(ROW()-ROW($O$20)),_xlfn.AGGREGATE(15,6,(ROW(OrderRange_Ref)-ROW($L$19))/(OFFSET(OrderRange_Ref,,3)>0),ROWS($L$20:$L254)-OFFSET(Cumulative,,2)),IF(OFFSET(Cumulative,,4)>(ROW()-ROW($O$20)),_xlfn.AGGREGATE(15,6,(ROW(OrderRange_Ref)-ROW($L$19))/(OFFSET(OrderRange_Ref,,4)>0),ROWS($L$20:$L254)-OFFSET(Cumulative,,3)),IF(OFFSET(Cumulative,,5)>(ROW()-ROW($O$20)),_xlfn.AGGREGATE(15,6,(ROW(OrderRange_Ref)-ROW($L$19))/(OFFSET(OrderRange_Ref,,5)>0),ROWS($L$20:$L254)-OFFSET(Cumulative,,4)),\"\"))))))","v":""},"","","","",""]
[null,null,null,null,null,null,null,null,null,null,null,null,null,{"$f":"IF(Cumulative>(ROW()-ROW($O$20)),_xlfn.AGGREGATE(15,6,(ROW(OrderRange_Ref)-ROW($L$19))/(OFFSET(OrderRange_Ref,,0)>0),ROWS($L$20:$L255)),IF(OFFSET(Cumulative,,1)>(ROW()-ROW($O$20)),_xlfn.AGGREGATE(15,6,(ROW(OrderRange_Ref)-ROW($L$19))/(OFFSET(OrderRange_Ref,,1)>0),ROWS($L$20:$L255)-OFFSET(Cumulative,,0)),IF(OFFSET(Cumulative,,2)>(ROW()-ROW($O$20)),_xlfn.AGGREGATE(15,6,(ROW(OrderRange_Ref)-ROW($L$19))/(OFFSET(OrderRange_Ref,,2)>0),ROWS($L$20:$L255)-OFFSET(Cumulative,,1)),IF(OFFSET(Cumulative,,3)>(ROW()-ROW($O$20)),_xlfn.AGGREGATE(15,6,(ROW(OrderRange_Ref)-ROW($L$19))/(OFFSET(OrderRange_Ref,,3)>0),ROWS($L$20:$L255)-OFFSET(Cumulative,,2)),IF(OFFSET(Cumulative,,4)>(ROW()-ROW($O$20)),_xlfn.AGGREGATE(15,6,(ROW(OrderRange_Ref)-ROW($L$19))/(OFFSET(OrderRange_Ref,,4)>0),ROWS($L$20:$L255)-OFFSET(Cumulative,,3)),IF(OFFSET(Cumulative,,5)>(ROW()-ROW($O$20)),_xlfn.AGGREGATE(15,6,(ROW(OrderRange_Ref)-ROW($L$19))/(OFFSET(OrderRange_Ref,,5)>0),ROWS($L$20:$L255)-OFFSET(Cumulative,,4)),\"\"))))))","v":""},"","","","",""]
[null,null,null,null,null,null,null,null,null,null,null,null,null,{"$f":"IF(Cumulative>(ROW()-ROW($O$20)),_xlfn.AGGREGATE(15,6,(ROW(OrderRange_Ref)-ROW($L$19))/(OFFSET(OrderRange_Ref,,0)>0),ROWS($L$20:$L256)),IF(OFFSET(Cumulative,,1)>(ROW()-ROW($O$20)),_xlfn.AGGREGATE(15,6,(ROW(OrderRange_Ref)-ROW($L$19))/(OFFSET(OrderRange_Ref,,1)>0),ROWS($L$20:$L256)-OFFSET(Cumulative,,0)),IF(OFFSET(Cumulative,,2)>(ROW()-ROW($O$20)),_xlfn.AGGREGATE(15,6,(ROW(OrderRange_Ref)-ROW($L$19))/(OFFSET(OrderRange_Ref,,2)>0),ROWS($L$20:$L256)-OFFSET(Cumulative,,1)),IF(OFFSET(Cumulative,,3)>(ROW()-ROW($O$20)),_xlfn.AGGREGATE(15,6,(ROW(OrderRange_Ref)-ROW($L$19))/(OFFSET(OrderRange_Ref,,3)>0),ROWS($L$20:$L256)-OFFSET(Cumulative,,2)),IF(OFFSET(Cumulative,,4)>(ROW()-ROW($O$20)),_xlfn.AGGREGATE(15,6,(ROW(OrderRange_Ref)-ROW($L$19))/(OFFSET(OrderRange_Ref,,4)>0),ROWS($L$20:$L256)-OFFSET(Cumulative,,3)),IF(OFFSET(Cumulative,,5)>(ROW()-ROW($O$20)),_xlfn.AGGREGATE(15,6,(ROW(OrderRange_Ref)-ROW($L$19))/(OFFSET(OrderRange_Ref,,5)>0),ROWS($L$20:$L256)-OFFSET(Cumulative,,4)),\"\"))))))","v":""},"","","","",""]
[null,null,null,null,null,null,null,null,null,null,null,null,null,{"$f":"IF(Cumulative>(ROW()-ROW($O$20)),_xlfn.AGGREGATE(15,6,(ROW(OrderRange_Ref)-ROW($L$19))/(OFFSET(OrderRange_Ref,,0)>0),ROWS($L$20:$L257)),IF(OFFSET(Cumulative,,1)>(ROW()-ROW($O$20)),_xlfn.AGGREGATE(15,6,(ROW(OrderRange_Ref)-ROW($L$19))/(OFFSET(OrderRange_Ref,,1)>0),ROWS($L$20:$L257)-OFFSET(Cumulative,,0)),IF(OFFSET(Cumulative,,2)>(ROW()-ROW($O$20)),_xlfn.AGGREGATE(15,6,(ROW(OrderRange_Ref)-ROW($L$19))/(OFFSET(OrderRange_Ref,,2)>0),ROWS($L$20:$L257)-OFFSET(Cumulative,,1)),IF(OFFSET(Cumulative,,3)>(ROW()-ROW($O$20)),_xlfn.AGGREGATE(15,6,(ROW(OrderRange_Ref)-ROW($L$19))/(OFFSET(OrderRange_Ref,,3)>0),ROWS($L$20:$L257)-OFFSET(Cumulative,,2)),IF(OFFSET(Cumulative,,4)>(ROW()-ROW($O$20)),_xlfn.AGGREGATE(15,6,(ROW(OrderRange_Ref)-ROW($L$19))/(OFFSET(OrderRange_Ref,,4)>0),ROWS($L$20:$L257)-OFFSET(Cumulative,,3)),IF(OFFSET(Cumulative,,5)>(ROW()-ROW($O$20)),_xlfn.AGGREGATE(15,6,(ROW(OrderRange_Ref)-ROW($L$19))/(OFFSET(OrderRange_Ref,,5)>0),ROWS($L$20:$L257)-OFFSET(Cumulative,,4)),\"\"))))))","v":""},"","","","",""]
[null,null,null,null,null,null,null,null,null,null,null,null,null,{"$f":"IF(Cumulative>(ROW()-ROW($O$20)),_xlfn.AGGREGATE(15,6,(ROW(OrderRange_Ref)-ROW($L$19))/(OFFSET(OrderRange_Ref,,0)>0),ROWS($L$20:$L258)),IF(OFFSET(Cumulative,,1)>(ROW()-ROW($O$20)),_xlfn.AGGREGATE(15,6,(ROW(OrderRange_Ref)-ROW($L$19))/(OFFSET(OrderRange_Ref,,1)>0),ROWS($L$20:$L258)-OFFSET(Cumulative,,0)),IF(OFFSET(Cumulative,,2)>(ROW()-ROW($O$20)),_xlfn.AGGREGATE(15,6,(ROW(OrderRange_Ref)-ROW($L$19))/(OFFSET(OrderRange_Ref,,2)>0),ROWS($L$20:$L258)-OFFSET(Cumulative,,1)),IF(OFFSET(Cumulative,,3)>(ROW()-ROW($O$20)),_xlfn.AGGREGATE(15,6,(ROW(OrderRange_Ref)-ROW($L$19))/(OFFSET(OrderRange_Ref,,3)>0),ROWS($L$20:$L258)-OFFSET(Cumulative,,2)),IF(OFFSET(Cumulative,,4)>(ROW()-ROW($O$20)),_xlfn.AGGREGATE(15,6,(ROW(OrderRange_Ref)-ROW($L$19))/(OFFSET(OrderRange_Ref,,4)>0),ROWS($L$20:$L258)-OFFSET(Cumulative,,3)),IF(OFFSET(Cumulative,,5)>(ROW()-ROW($O$20)),_xlfn.AGGREGATE(15,6,(ROW(OrderRange_Ref)-ROW($L$19))/(OFFSET(OrderRange_Ref,,5)>0),ROWS($L$20:$L258)-OFFSET(Cumulative,,4)),\"\"))))))","v":""},"","","","",""]
[null,null,null,null,null,null,null,null,null,null,null,null,null,{"$f":"IF(Cumulative>(ROW()-ROW($O$20)),_xlfn.AGGREGATE(15,6,(ROW(OrderRange_Ref)-ROW($L$19))/(OFFSET(OrderRange_Ref,,0)>0),ROWS($L$20:$L259)),IF(OFFSET(Cumulative,,1)>(ROW()-ROW($O$20)),_xlfn.AGGREGATE(15,6,(ROW(OrderRange_Ref)-ROW($L$19))/(OFFSET(OrderRange_Ref,,1)>0),ROWS($L$20:$L259)-OFFSET(Cumulative,,0)),IF(OFFSET(Cumulative,,2)>(ROW()-ROW($O$20)),_xlfn.AGGREGATE(15,6,(ROW(OrderRange_Ref)-ROW($L$19))/(OFFSET(OrderRange_Ref,,2)>0),ROWS($L$20:$L259)-OFFSET(Cumulative,,1)),IF(OFFSET(Cumulative,,3)>(ROW()-ROW($O$20)),_xlfn.AGGREGATE(15,6,(ROW(OrderRange_Ref)-ROW($L$19))/(OFFSET(OrderRange_Ref,,3)>0),ROWS($L$20:$L259)-OFFSET(Cumulative,,2)),IF(OFFSET(Cumulative,,4)>(ROW()-ROW($O$20)),_xlfn.AGGREGATE(15,6,(ROW(OrderRange_Ref)-ROW($L$19))/(OFFSET(OrderRange_Ref,,4)>0),ROWS($L$20:$L259)-OFFSET(Cumulative,,3)),IF(OFFSET(Cumulative,,5)>(ROW()-ROW($O$20)),_xlfn.AGGREGATE(15,6,(ROW(OrderRange_Ref)-ROW($L$19))/(OFFSET(OrderRange_Ref,,5)>0),ROWS($L$20:$L259)-OFFSET(Cumulative,,4)),\"\"))))))","v":""},"","","","",""]
[null,null,null,null,null,null,null,null,null,null,null,null,null,{"$f":"IF(Cumulative>(ROW()-ROW($O$20)),_xlfn.AGGREGATE(15,6,(ROW(OrderRange_Ref)-ROW($L$19))/(OFFSET(OrderRange_Ref,,0)>0),ROWS($L$20:$L260)),IF(OFFSET(Cumulative,,1)>(ROW()-ROW($O$20)),_xlfn.AGGREGATE(15,6,(ROW(OrderRange_Ref)-ROW($L$19))/(OFFSET(OrderRange_Ref,,1)>0),ROWS($L$20:$L260)-OFFSET(Cumulative,,0)),IF(OFFSET(Cumulative,,2)>(ROW()-ROW($O$20)),_xlfn.AGGREGATE(15,6,(ROW(OrderRange_Ref)-ROW($L$19))/(OFFSET(OrderRange_Ref,,2)>0),ROWS($L$20:$L260)-OFFSET(Cumulative,,1)),IF(OFFSET(Cumulative,,3)>(ROW()-ROW($O$20)),_xlfn.AGGREGATE(15,6,(ROW(OrderRange_Ref)-ROW($L$19))/(OFFSET(OrderRange_Ref,,3)>0),ROWS($L$20:$L260)-OFFSET(Cumulative,,2)),IF(OFFSET(Cumulative,,4)>(ROW()-ROW($O$20)),_xlfn.AGGREGATE(15,6,(ROW(OrderRange_Ref)-ROW($L$19))/(OFFSET(OrderRange_Ref,,4)>0),ROWS($L$20:$L260)-OFFSET(Cumulative,,3)),IF(OFFSET(Cumulative,,5)>(ROW()-ROW($O$20)),_xlfn.AGGREGATE(15,6,(ROW(OrderRange_Ref)-ROW($L$19))/(OFFSET(OrderRange_Ref,,5)>0),ROWS($L$20:$L260)-OFFSET(Cumulative,,4)),\"\"))))))","v":""},"","","","",""]
[null,null,null,null,null,null,null,null,null,null,null,null,null,{"$f":"IF(Cumulative>(ROW()-ROW($O$20)),_xlfn.AGGREGATE(15,6,(ROW(OrderRange_Ref)-ROW($L$19))/(OFFSET(OrderRange_Ref,,0)>0),ROWS($L$20:$L261)),IF(OFFSET(Cumulative,,1)>(ROW()-ROW($O$20)),_xlfn.AGGREGATE(15,6,(ROW(OrderRange_Ref)-ROW($L$19))/(OFFSET(OrderRange_Ref,,1)>0),ROWS($L$20:$L261)-OFFSET(Cumulative,,0)),IF(OFFSET(Cumulative,,2)>(ROW()-ROW($O$20)),_xlfn.AGGREGATE(15,6,(ROW(OrderRange_Ref)-ROW($L$19))/(OFFSET(OrderRange_Ref,,2)>0),ROWS($L$20:$L261)-OFFSET(Cumulative,,1)),IF(OFFSET(Cumulative,,3)>(ROW()-ROW($O$20)),_xlfn.AGGREGATE(15,6,(ROW(OrderRange_Ref)-ROW($L$19))/(OFFSET(OrderRange_Ref,,3)>0),ROWS($L$20:$L261)-OFFSET(Cumulative,,2)),IF(OFFSET(Cumulative,,4)>(ROW()-ROW($O$20)),_xlfn.AGGREGATE(15,6,(ROW(OrderRange_Ref)-ROW($L$19))/(OFFSET(OrderRange_Ref,,4)>0),ROWS($L$20:$L261)-OFFSET(Cumulative,,3)),IF(OFFSET(Cumulative,,5)>(ROW()-ROW($O$20)),_xlfn.AGGREGATE(15,6,(ROW(OrderRange_Ref)-ROW($L$19))/(OFFSET(OrderRange_Ref,,5)>0),ROWS($L$20:$L261)-OFFSET(Cumulative,,4)),\"\"))))))","v":""},"","","","",""]
[null,null,null,null,null,null,null,null,null,null,null,null,null,{"$f":"IF(Cumulative>(ROW()-ROW($O$20)),_xlfn.AGGREGATE(15,6,(ROW(OrderRange_Ref)-ROW($L$19))/(OFFSET(OrderRange_Ref,,0)>0),ROWS($L$20:$L262)),IF(OFFSET(Cumulative,,1)>(ROW()-ROW($O$20)),_xlfn.AGGREGATE(15,6,(ROW(OrderRange_Ref)-ROW($L$19))/(OFFSET(OrderRange_Ref,,1)>0),ROWS($L$20:$L262)-OFFSET(Cumulative,,0)),IF(OFFSET(Cumulative,,2)>(ROW()-ROW($O$20)),_xlfn.AGGREGATE(15,6,(ROW(OrderRange_Ref)-ROW($L$19))/(OFFSET(OrderRange_Ref,,2)>0),ROWS($L$20:$L262)-OFFSET(Cumulative,,1)),IF(OFFSET(Cumulative,,3)>(ROW()-ROW($O$20)),_xlfn.AGGREGATE(15,6,(ROW(OrderRange_Ref)-ROW($L$19))/(OFFSET(OrderRange_Ref,,3)>0),ROWS($L$20:$L262)-OFFSET(Cumulative,,2)),IF(OFFSET(Cumulative,,4)>(ROW()-ROW($O$20)),_xlfn.AGGREGATE(15,6,(ROW(OrderRange_Ref)-ROW($L$19))/(OFFSET(OrderRange_Ref,,4)>0),ROWS($L$20:$L262)-OFFSET(Cumulative,,3)),IF(OFFSET(Cumulative,,5)>(ROW()-ROW($O$20)),_xlfn.AGGREGATE(15,6,(ROW(OrderRange_Ref)-ROW($L$19))/(OFFSET(OrderRange_Ref,,5)>0),ROWS($L$20:$L262)-OFFSET(Cumulative,,4)),\"\"))))))","v":""},"","","","",""]
[null,null,null,null,null,null,null,null,null,null,null,null,null,{"$f":"IF(Cumulative>(ROW()-ROW($O$20)),_xlfn.AGGREGATE(15,6,(ROW(OrderRange_Ref)-ROW($L$19))/(OFFSET(OrderRange_Ref,,0)>0),ROWS($L$20:$L263)),IF(OFFSET(Cumulative,,1)>(ROW()-ROW($O$20)),_xlfn.AGGREGATE(15,6,(ROW(OrderRange_Ref)-ROW($L$19))/(OFFSET(OrderRange_Ref,,1)>0),ROWS($L$20:$L263)-OFFSET(Cumulative,,0)),IF(OFFSET(Cumulative,,2)>(ROW()-ROW($O$20)),_xlfn.AGGREGATE(15,6,(ROW(OrderRange_Ref)-ROW($L$19))/(OFFSET(OrderRange_Ref,,2)>0),ROWS($L$20:$L263)-OFFSET(Cumulative,,1)),IF(OFFSET(Cumulative,,3)>(ROW()-ROW($O$20)),_xlfn.AGGREGATE(15,6,(ROW(OrderRange_Ref)-ROW($L$19))/(OFFSET(OrderRange_Ref,,3)>0),ROWS($L$20:$L263)-OFFSET(Cumulative,,2)),IF(OFFSET(Cumulative,,4)>(ROW()-ROW($O$20)),_xlfn.AGGREGATE(15,6,(ROW(OrderRange_Ref)-ROW($L$19))/(OFFSET(OrderRange_Ref,,4)>0),ROWS($L$20:$L263)-OFFSET(Cumulative,,3)),IF(OFFSET(Cumulative,,5)>(ROW()-ROW($O$20)),_xlfn.AGGREGATE(15,6,(ROW(OrderRange_Ref)-ROW($L$19))/(OFFSET(OrderRange_Ref,,5)>0),ROWS($L$20:$L263)-OFFSET(Cumulative,,4)),\"\"))))))","v":""},"","","","",""]
[null,null,null,null,null,null,null,null,null,null,null,null,null,{"$f":"IF(Cumulative>(ROW()-ROW($O$20)),_xlfn.AGGREGATE(15,6,(ROW(OrderRange_Ref)-ROW($L$19))/(OFFSET(OrderRange_Ref,,0)>0),ROWS($L$20:$L264)),IF(OFFSET(Cumulative,,1)>(ROW()-ROW($O$20)),_xlfn.AGGREGATE(15,6,(ROW(OrderRange_Ref)-ROW($L$19))/(OFFSET(OrderRange_Ref,,1)>0),ROWS($L$20:$L264)-OFFSET(Cumulative,,0)),IF(OFFSET(Cumulative,,2)>(ROW()-ROW($O$20)),_xlfn.AGGREGATE(15,6,(ROW(OrderRange_Ref)-ROW($L$19))/(OFFSET(OrderRange_Ref,,2)>0),ROWS($L$20:$L264)-OFFSET(Cumulative,,1)),IF(OFFSET(Cumulative,,3)>(ROW()-ROW($O$20)),_xlfn.AGGREGATE(15,6,(ROW(OrderRange_Ref)-ROW($L$19))/(OFFSET(OrderRange_Ref,,3)>0),ROWS($L$20:$L264)-OFFSET(Cumulative,,2)),IF(OFFSET(Cumulative,,4)>(ROW()-ROW($O$20)),_xlfn.AGGREGATE(15,6,(ROW(OrderRange_Ref)-ROW($L$19))/(OFFSET(OrderRange_Ref,,4)>0),ROWS($L$20:$L264)-OFFSET(Cumulative,,3)),IF(OFFSET(Cumulative,,5)>(ROW()-ROW($O$20)),_xlfn.AGGREGATE(15,6,(ROW(OrderRange_Ref)-ROW($L$19))/(OFFSET(OrderRange_Ref,,5)>0),ROWS($L$20:$L264)-OFFSET(Cumulative,,4)),\"\"))))))","v":""},"","","","",""]
[null,null,null,null,null,null,null,null,null,null,null,null,null,{"$f":"IF(Cumulative>(ROW()-ROW($O$20)),_xlfn.AGGREGATE(15,6,(ROW(OrderRange_Ref)-ROW($L$19))/(OFFSET(OrderRange_Ref,,0)>0),ROWS($L$20:$L265)),IF(OFFSET(Cumulative,,1)>(ROW()-ROW($O$20)),_xlfn.AGGREGATE(15,6,(ROW(OrderRange_Ref)-ROW($L$19))/(OFFSET(OrderRange_Ref,,1)>0),ROWS($L$20:$L265)-OFFSET(Cumulative,,0)),IF(OFFSET(Cumulative,,2)>(ROW()-ROW($O$20)),_xlfn.AGGREGATE(15,6,(ROW(OrderRange_Ref)-ROW($L$19))/(OFFSET(OrderRange_Ref,,2)>0),ROWS($L$20:$L265)-OFFSET(Cumulative,,1)),IF(OFFSET(Cumulative,,3)>(ROW()-ROW($O$20)),_xlfn.AGGREGATE(15,6,(ROW(OrderRange_Ref)-ROW($L$19))/(OFFSET(OrderRange_Ref,,3)>0),ROWS($L$20:$L265)-OFFSET(Cumulative,,2)),IF(OFFSET(Cumulative,,4)>(ROW()-ROW($O$20)),_xlfn.AGGREGATE(15,6,(ROW(OrderRange_Ref)-ROW($L$19))/(OFFSET(OrderRange_Ref,,4)>0),ROWS($L$20:$L265)-OFFSET(Cumulative,,3)),IF(OFFSET(Cumulative,,5)>(ROW()-ROW($O$20)),_xlfn.AGGREGATE(15,6,(ROW(OrderRange_Ref)-ROW($L$19))/(OFFSET(OrderRange_Ref,,5)>0),ROWS($L$20:$L265)-OFFSET(Cumulative,,4)),\"\"))))))","v":""},"","","","",""]
[null,null,null,null,null,null,null,null,null,null,null,null,null,{"$f":"IF(Cumulative>(ROW()-ROW($O$20)),_xlfn.AGGREGATE(15,6,(ROW(OrderRange_Ref)-ROW($L$19))/(OFFSET(OrderRange_Ref,,0)>0),ROWS($L$20:$L266)),IF(OFFSET(Cumulative,,1)>(ROW()-ROW($O$20)),_xlfn.AGGREGATE(15,6,(ROW(OrderRange_Ref)-ROW($L$19))/(OFFSET(OrderRange_Ref,,1)>0),ROWS($L$20:$L266)-OFFSET(Cumulative,,0)),IF(OFFSET(Cumulative,,2)>(ROW()-ROW($O$20)),_xlfn.AGGREGATE(15,6,(ROW(OrderRange_Ref)-ROW($L$19))/(OFFSET(OrderRange_Ref,,2)>0),ROWS($L$20:$L266)-OFFSET(Cumulative,,1)),IF(OFFSET(Cumulative,,3)>(ROW()-ROW($O$20)),_xlfn.AGGREGATE(15,6,(ROW(OrderRange_Ref)-ROW($L$19))/(OFFSET(OrderRange_Ref,,3)>0),ROWS($L$20:$L266)-OFFSET(Cumulative,,2)),IF(OFFSET(Cumulative,,4)>(ROW()-ROW($O$20)),_xlfn.AGGREGATE(15,6,(ROW(OrderRange_Ref)-ROW($L$19))/(OFFSET(OrderRange_Ref,,4)>0),ROWS($L$20:$L266)-OFFSET(Cumulative,,3)),IF(OFFSET(Cumulative,,5)>(ROW()-ROW($O$20)),_xlfn.AGGREGATE(15,6,(ROW(OrderRange_Ref)-ROW($L$19))/(OFFSET(OrderRange_Ref,,5)>0),ROWS($L$20:$L266)-OFFSET(Cumulative,,4)),\"\"))))))","v":""},"","","","",""]
[null,null,null,null,null,null,null,null,null,null,null,null,null,{"$f":"IF(Cumulative>(ROW()-ROW($O$20)),_xlfn.AGGREGATE(15,6,(ROW(OrderRange_Ref)-ROW($L$19))/(OFFSET(OrderRange_Ref,,0)>0),ROWS($L$20:$L267)),IF(OFFSET(Cumulative,,1)>(ROW()-ROW($O$20)),_xlfn.AGGREGATE(15,6,(ROW(OrderRange_Ref)-ROW($L$19))/(OFFSET(OrderRange_Ref,,1)>0),ROWS($L$20:$L267)-OFFSET(Cumulative,,0)),IF(OFFSET(Cumulative,,2)>(ROW()-ROW($O$20)),_xlfn.AGGREGATE(15,6,(ROW(OrderRange_Ref)-ROW($L$19))/(OFFSET(OrderRange_Ref,,2)>0),ROWS($L$20:$L267)-OFFSET(Cumulative,,1)),IF(OFFSET(Cumulative,,3)>(ROW()-ROW($O$20)),_xlfn.AGGREGATE(15,6,(ROW(OrderRange_Ref)-ROW($L$19))/(OFFSET(OrderRange_Ref,,3)>0),ROWS($L$20:$L267)-OFFSET(Cumulative,,2)),IF(OFFSET(Cumulative,,4)>(ROW()-ROW($O$20)),_xlfn.AGGREGATE(15,6,(ROW(OrderRange_Ref)-ROW($L$19))/(OFFSET(OrderRange_Ref,,4)>0),ROWS($L$20:$L267)-OFFSET(Cumulative,,3)),IF(OFFSET(Cumulative,,5)>(ROW()-ROW($O$20)),_xlfn.AGGREGATE(15,6,(ROW(OrderRange_Ref)-ROW($L$19))/(OFFSET(OrderRange_Ref,,5)>0),ROWS($L$20:$L267)-OFFSET(Cumulative,,4)),\"\"))))))","v":""},"","","","",""]
[null,null,null,null,null,null,null,null,null,null,null,null,null,{"$f":"IF(Cumulative>(ROW()-ROW($O$20)),_xlfn.AGGREGATE(15,6,(ROW(OrderRange_Ref)-ROW($L$19))/(OFFSET(OrderRange_Ref,,0)>0),ROWS($L$20:$L268)),IF(OFFSET(Cumulative,,1)>(ROW()-ROW($O$20)),_xlfn.AGGREGATE(15,6,(ROW(OrderRange_Ref)-ROW($L$19))/(OFFSET(OrderRange_Ref,,1)>0),ROWS($L$20:$L268)-OFFSET(Cumulative,,0)),IF(OFFSET(Cumulative,,2)>(ROW()-ROW($O$20)),_xlfn.AGGREGATE(15,6,(ROW(OrderRange_Ref)-ROW($L$19))/(OFFSET(OrderRange_Ref,,2)>0),ROWS($L$20:$L268)-OFFSET(Cumulative,,1)),IF(OFFSET(Cumulative,,3)>(ROW()-ROW($O$20)),_xlfn.AGGREGATE(15,6,(ROW(OrderRange_Ref)-ROW($L$19))/(OFFSET(OrderRange_Ref,,3)>0),ROWS($L$20:$L268)-OFFSET(Cumulative,,2)),IF(OFFSET(Cumulative,,4)>(ROW()-ROW($O$20)),_xlfn.AGGREGATE(15,6,(ROW(OrderRange_Ref)-ROW($L$19))/(OFFSET(OrderRange_Ref,,4)>0),ROWS($L$20:$L268)-OFFSET(Cumulative,,3)),IF(OFFSET(Cumulative,,5)>(ROW()-ROW($O$20)),_xlfn.AGGREGATE(15,6,(ROW(OrderRange_Ref)-ROW($L$19))/(OFFSET(OrderRange_Ref,,5)>0),ROWS($L$20:$L268)-OFFSET(Cumulative,,4)),\"\"))))))","v":""},"","","","",""]
[null,null,null,null,null,null,null,null,null,null,null,null,null,{"$f":"IF(Cumulative>(ROW()-ROW($O$20)),_xlfn.AGGREGATE(15,6,(ROW(OrderRange_Ref)-ROW($L$19))/(OFFSET(OrderRange_Ref,,0)>0),ROWS($L$20:$L269)),IF(OFFSET(Cumulative,,1)>(ROW()-ROW($O$20)),_xlfn.AGGREGATE(15,6,(ROW(OrderRange_Ref)-ROW($L$19))/(OFFSET(OrderRange_Ref,,1)>0),ROWS($L$20:$L269)-OFFSET(Cumulative,,0)),IF(OFFSET(Cumulative,,2)>(ROW()-ROW($O$20)),_xlfn.AGGREGATE(15,6,(ROW(OrderRange_Ref)-ROW($L$19))/(OFFSET(OrderRange_Ref,,2)>0),ROWS($L$20:$L269)-OFFSET(Cumulative,,1)),IF(OFFSET(Cumulative,,3)>(ROW()-ROW($O$20)),_xlfn.AGGREGATE(15,6,(ROW(OrderRange_Ref)-ROW($L$19))/(OFFSET(OrderRange_Ref,,3)>0),ROWS($L$20:$L269)-OFFSET(Cumulative,,2)),IF(OFFSET(Cumulative,,4)>(ROW()-ROW($O$20)),_xlfn.AGGREGATE(15,6,(ROW(OrderRange_Ref)-ROW($L$19))/(OFFSET(OrderRange_Ref,,4)>0),ROWS($L$20:$L269)-OFFSET(Cumulative,,3)),IF(OFFSET(Cumulative,,5)>(ROW()-ROW($O$20)),_xlfn.AGGREGATE(15,6,(ROW(OrderRange_Ref)-ROW($L$19))/(OFFSET(OrderRange_Ref,,5)>0),ROWS($L$20:$L269)-OFFSET(Cumulative,,4)),\"\"))))))","v":""},"","","","",""]
[null,null,null,null,null,null,null,null,null,null,null,null,null,{"$f":"IF(Cumulative>(ROW()-ROW($O$20)),_xlfn.AGGREGATE(15,6,(ROW(OrderRange_Ref)-ROW($L$19))/(OFFSET(OrderRange_Ref,,0)>0),ROWS($L$20:$L270)),IF(OFFSET(Cumulative,,1)>(ROW()-ROW($O$20)),_xlfn.AGGREGATE(15,6,(ROW(OrderRange_Ref)-ROW($L$19))/(OFFSET(OrderRange_Ref,,1)>0),ROWS($L$20:$L270)-OFFSET(Cumulative,,0)),IF(OFFSET(Cumulative,,2)>(ROW()-ROW($O$20)),_xlfn.AGGREGATE(15,6,(ROW(OrderRange_Ref)-ROW($L$19))/(OFFSET(OrderRange_Ref,,2)>0),ROWS($L$20:$L270)-OFFSET(Cumulative,,1)),IF(OFFSET(Cumulative,,3)>(ROW()-ROW($O$20)),_xlfn.AGGREGATE(15,6,(ROW(OrderRange_Ref)-ROW($L$19))/(OFFSET(OrderRange_Ref,,3)>0),ROWS($L$20:$L270)-OFFSET(Cumulative,,2)),IF(OFFSET(Cumulative,,4)>(ROW()-ROW($O$20)),_xlfn.AGGREGATE(15,6,(ROW(OrderRange_Ref)-ROW($L$19))/(OFFSET(OrderRange_Ref,,4)>0),ROWS($L$20:$L270)-OFFSET(Cumulative,,3)),IF(OFFSET(Cumulative,,5)>(ROW()-ROW($O$20)),_xlfn.AGGREGATE(15,6,(ROW(OrderRange_Ref)-ROW($L$19))/(OFFSET(OrderRange_Ref,,5)>0),ROWS($L$20:$L270)-OFFSET(Cumulative,,4)),\"\"))))))","v":""},"","","","",""]
[null,null,null,null,null,null,null,null,null,null,null,null,null,{"$f":"IF(Cumulative>(ROW()-ROW($O$20)),_xlfn.AGGREGATE(15,6,(ROW(OrderRange_Ref)-ROW($L$19))/(OFFSET(OrderRange_Ref,,0)>0),ROWS($L$20:$L271)),IF(OFFSET(Cumulative,,1)>(ROW()-ROW($O$20)),_xlfn.AGGREGATE(15,6,(ROW(OrderRange_Ref)-ROW($L$19))/(OFFSET(OrderRange_Ref,,1)>0),ROWS($L$20:$L271)-OFFSET(Cumulative,,0)),IF(OFFSET(Cumulative,,2)>(ROW()-ROW($O$20)),_xlfn.AGGREGATE(15,6,(ROW(OrderRange_Ref)-ROW($L$19))/(OFFSET(OrderRange_Ref,,2)>0),ROWS($L$20:$L271)-OFFSET(Cumulative,,1)),IF(OFFSET(Cumulative,,3)>(ROW()-ROW($O$20)),_xlfn.AGGREGATE(15,6,(ROW(OrderRange_Ref)-ROW($L$19))/(OFFSET(OrderRange_Ref,,3)>0),ROWS($L$20:$L271)-OFFSET(Cumulative,,2)),IF(OFFSET(Cumulative,,4)>(ROW()-ROW($O$20)),_xlfn.AGGREGATE(15,6,(ROW(OrderRange_Ref)-ROW($L$19))/(OFFSET(OrderRange_Ref,,4)>0),ROWS($L$20:$L271)-OFFSET(Cumulative,,3)),IF(OFFSET(Cumulative,,5)>(ROW()-ROW($O$20)),_xlfn.AGGREGATE(15,6,(ROW(OrderRange_Ref)-ROW($L$19))/(OFFSET(OrderRange_Ref,,5)>0),ROWS($L$20:$L271)-OFFSET(Cumulative,,4)),\"\"))))))","v":""},"","","","",""]
[null,null,null,null,null,null,null,null,null,null,null,null,null,{"$f":"IF(Cumulative>(ROW()-ROW($O$20)),_xlfn.AGGREGATE(15,6,(ROW(OrderRange_Ref)-ROW($L$19))/(OFFSET(OrderRange_Ref,,0)>0),ROWS($L$20:$L272)),IF(OFFSET(Cumulative,,1)>(ROW()-ROW($O$20)),_xlfn.AGGREGATE(15,6,(ROW(OrderRange_Ref)-ROW($L$19))/(OFFSET(OrderRange_Ref,,1)>0),ROWS($L$20:$L272)-OFFSET(Cumulative,,0)),IF(OFFSET(Cumulative,,2)>(ROW()-ROW($O$20)),_xlfn.AGGREGATE(15,6,(ROW(OrderRange_Ref)-ROW($L$19))/(OFFSET(OrderRange_Ref,,2)>0),ROWS($L$20:$L272)-OFFSET(Cumulative,,1)),IF(OFFSET(Cumulative,,3)>(ROW()-ROW($O$20)),_xlfn.AGGREGATE(15,6,(ROW(OrderRange_Ref)-ROW($L$19))/(OFFSET(OrderRange_Ref,,3)>0),ROWS($L$20:$L272)-OFFSET(Cumulative,,2)),IF(OFFSET(Cumulative,,4)>(ROW()-ROW($O$20)),_xlfn.AGGREGATE(15,6,(ROW(OrderRange_Ref)-ROW($L$19))/(OFFSET(OrderRange_Ref,,4)>0),ROWS($L$20:$L272)-OFFSET(Cumulative,,3)),IF(OFFSET(Cumulative,,5)>(ROW()-ROW($O$20)),_xlfn.AGGREGATE(15,6,(ROW(OrderRange_Ref)-ROW($L$19))/(OFFSET(OrderRange_Ref,,5)>0),ROWS($L$20:$L272)-OFFSET(Cumulative,,4)),\"\"))))))","v":""},"","","","",""]
[null,null,null,null,null,null,null,null,null,null,null,null,null,{"$f":"IF(Cumulative>(ROW()-ROW($O$20)),_xlfn.AGGREGATE(15,6,(ROW(OrderRange_Ref)-ROW($L$19))/(OFFSET(OrderRange_Ref,,0)>0),ROWS($L$20:$L273)),IF(OFFSET(Cumulative,,1)>(ROW()-ROW($O$20)),_xlfn.AGGREGATE(15,6,(ROW(OrderRange_Ref)-ROW($L$19))/(OFFSET(OrderRange_Ref,,1)>0),ROWS($L$20:$L273)-OFFSET(Cumulative,,0)),IF(OFFSET(Cumulative,,2)>(ROW()-ROW($O$20)),_xlfn.AGGREGATE(15,6,(ROW(OrderRange_Ref)-ROW($L$19))/(OFFSET(OrderRange_Ref,,2)>0),ROWS($L$20:$L273)-OFFSET(Cumulative,,1)),IF(OFFSET(Cumulative,,3)>(ROW()-ROW($O$20)),_xlfn.AGGREGATE(15,6,(ROW(OrderRange_Ref)-ROW($L$19))/(OFFSET(OrderRange_Ref,,3)>0),ROWS($L$20:$L273)-OFFSET(Cumulative,,2)),IF(OFFSET(Cumulative,,4)>(ROW()-ROW($O$20)),_xlfn.AGGREGATE(15,6,(ROW(OrderRange_Ref)-ROW($L$19))/(OFFSET(OrderRange_Ref,,4)>0),ROWS($L$20:$L273)-OFFSET(Cumulative,,3)),IF(OFFSET(Cumulative,,5)>(ROW()-ROW($O$20)),_xlfn.AGGREGATE(15,6,(ROW(OrderRange_Ref)-ROW($L$19))/(OFFSET(OrderRange_Ref,,5)>0),ROWS($L$20:$L273)-OFFSET(Cumulative,,4)),\"\"))))))","v":""},"","","","",""]
[null,null,null,null,null,null,null,null,null,null,null,null,null,{"$f":"IF(Cumulative>(ROW()-ROW($O$20)),_xlfn.AGGREGATE(15,6,(ROW(OrderRange_Ref)-ROW($L$19))/(OFFSET(OrderRange_Ref,,0)>0),ROWS($L$20:$L274)),IF(OFFSET(Cumulative,,1)>(ROW()-ROW($O$20)),_xlfn.AGGREGATE(15,6,(ROW(OrderRange_Ref)-ROW($L$19))/(OFFSET(OrderRange_Ref,,1)>0),ROWS($L$20:$L274)-OFFSET(Cumulative,,0)),IF(OFFSET(Cumulative,,2)>(ROW()-ROW($O$20)),_xlfn.AGGREGATE(15,6,(ROW(OrderRange_Ref)-ROW($L$19))/(OFFSET(OrderRange_Ref,,2)>0),ROWS($L$20:$L274)-OFFSET(Cumulative,,1)),IF(OFFSET(Cumulative,,3)>(ROW()-ROW($O$20)),_xlfn.AGGREGATE(15,6,(ROW(OrderRange_Ref)-ROW($L$19))/(OFFSET(OrderRange_Ref,,3)>0),ROWS($L$20:$L274)-OFFSET(Cumulative,,2)),IF(OFFSET(Cumulative,,4)>(ROW()-ROW($O$20)),_xlfn.AGGREGATE(15,6,(ROW(OrderRange_Ref)-ROW($L$19))/(OFFSET(OrderRange_Ref,,4)>0),ROWS($L$20:$L274)-OFFSET(Cumulative,,3)),IF(OFFSET(Cumulative,,5)>(ROW()-ROW($O$20)),_xlfn.AGGREGATE(15,6,(ROW(OrderRange_Ref)-ROW($L$19))/(OFFSET(OrderRange_Ref,,5)>0),ROWS($L$20:$L274)-OFFSET(Cumulative,,4)),\"\"))))))","v":""},"","","","",""]
[null,null,null,null,null,null,null,null,null,null,null,null,null,{"$f":"IF(Cumulative>(ROW()-ROW($O$20)),_xlfn.AGGREGATE(15,6,(ROW(OrderRange_Ref)-ROW($L$19))/(OFFSET(OrderRange_Ref,,0)>0),ROWS($L$20:$L275)),IF(OFFSET(Cumulative,,1)>(ROW()-ROW($O$20)),_xlfn.AGGREGATE(15,6,(ROW(OrderRange_Ref)-ROW($L$19))/(OFFSET(OrderRange_Ref,,1)>0),ROWS($L$20:$L275)-OFFSET(Cumulative,,0)),IF(OFFSET(Cumulative,,2)>(ROW()-ROW($O$20)),_xlfn.AGGREGATE(15,6,(ROW(OrderRange_Ref)-ROW($L$19))/(OFFSET(OrderRange_Ref,,2)>0),ROWS($L$20:$L275)-OFFSET(Cumulative,,1)),IF(OFFSET(Cumulative,,3)>(ROW()-ROW($O$20)),_xlfn.AGGREGATE(15,6,(ROW(OrderRange_Ref)-ROW($L$19))/(OFFSET(OrderRange_Ref,,3)>0),ROWS($L$20:$L275)-OFFSET(Cumulative,,2)),IF(OFFSET(Cumulative,,4)>(ROW()-ROW($O$20)),_xlfn.AGGREGATE(15,6,(ROW(OrderRange_Ref)-ROW($L$19))/(OFFSET(OrderRange_Ref,,4)>0),ROWS($L$20:$L275)-OFFSET(Cumulative,,3)),IF(OFFSET(Cumulative,,5)>(ROW()-ROW($O$20)),_xlfn.AGGREGATE(15,6,(ROW(OrderRange_Ref)-ROW($L$19))/(OFFSET(OrderRange_Ref,,5)>0),ROWS($L$20:$L275)-OFFSET(Cumulative,,4)),\"\"))))))","v":""},{"$f":"IF(Cumulative>(ROW()-ROW($O$20)),OrderDate,IF(OFFSET(Cumulative,,1)>(ROW()-ROW($O$20)),OrderDate+1,IF(OFFSET(Cumulative,,2)>(ROW()-ROW($O$20)),OrderDate+2,IF(OFFSET(Cumulative,,3)>(ROW()-ROW($O$20)),OrderDate+3,IF(OFFSET(Cumulative,,4)>(ROW()-ROW($O$20)),OrderDate+4,IF(OFFSET(Cumulative,,5)>(ROW()-ROW($O$20)),OrderDate+5,\"\"))))))","v":""},"","","",{"$f":"IF($N275=\"\",\"\",ROUND(INDEX(Order_Data,$N275,MATCH($O275,$D$18:$I$18,0)),0))","v":""}]
[null,null,null,null,null,null,null,null,null,null,null,null,null,{"$f":"IF(Cumulative>(ROW()-ROW($O$20)),_xlfn.AGGREGATE(15,6,(ROW(OrderRange_Ref)-ROW($L$19))/(OFFSET(OrderRange_Ref,,0)>0),ROWS($L$20:$L276)),IF(OFFSET(Cumulative,,1)>(ROW()-ROW($O$20)),_xlfn.AGGREGATE(15,6,(ROW(OrderRange_Ref)-ROW($L$19))/(OFFSET(OrderRange_Ref,,1)>0),ROWS($L$20:$L276)-OFFSET(Cumulative,,0)),IF(OFFSET(Cumulative,,2)>(ROW()-ROW($O$20)),_xlfn.AGGREGATE(15,6,(ROW(OrderRange_Ref)-ROW($L$19))/(OFFSET(OrderRange_Ref,,2)>0),ROWS($L$20:$L276)-OFFSET(Cumulative,,1)),IF(OFFSET(Cumulative,,3)>(ROW()-ROW($O$20)),_xlfn.AGGREGATE(15,6,(ROW(OrderRange_Ref)-ROW($L$19))/(OFFSET(OrderRange_Ref,,3)>0),ROWS($L$20:$L276)-OFFSET(Cumulative,,2)),IF(OFFSET(Cumulative,,4)>(ROW()-ROW($O$20)),_xlfn.AGGREGATE(15,6,(ROW(OrderRange_Ref)-ROW($L$19))/(OFFSET(OrderRange_Ref,,4)>0),ROWS($L$20:$L276)-OFFSET(Cumulative,,3)),IF(OFFSET(Cumulative,,5)>(ROW()-ROW($O$20)),_xlfn.AGGREGATE(15,6,(ROW(OrderRange_Ref)-ROW($L$19))/(OFFSET(OrderRange_Ref,,5)>0),ROWS($L$20:$L276)-OFFSET(Cumulative,,4)),\"\"))))))","v":""},"",{"$f":"IF($O276<>\"\",BranchCode,\"\")","v":""},{"$f":"IF($O276<>\"\",\"จ่าย\",\"\")","v":""},{"$f":"IFERROR(INDEX(Product_item,$N276),\"\")","v":""},""]
[null,null,null,null,null,null,null,null,null,null,null,null,null,{"$f":"IF(Cumulative>(ROW()-ROW($O$20)),_xlfn.AGGREGATE(15,6,(ROW(OrderRange_Ref)-ROW($L$19))/(OFFSET(OrderRange_Ref,,0)>0),ROWS($L$20:$L277)),IF(OFFSET(Cumulative,,1)>(ROW()-ROW($O$20)),_xlfn.AGGREGATE(15,6,(ROW(OrderRange_Ref)-ROW($L$19))/(OFFSET(OrderRange_Ref,,1)>0),ROWS($L$20:$L277)-OFFSET(Cumulative,,0)),IF(OFFSET(Cumulative,,2)>(ROW()-ROW($O$20)),_xlfn.AGGREGATE(15,6,(ROW(OrderRange_Ref)-ROW($L$19))/(OFFSET(OrderRange_Ref,,2)>0),ROWS($L$20:$L277)-OFFSET(Cumulative,,1)),IF(OFFSET(Cumulative,,3)>(ROW()-ROW($O$20)),_xlfn.AGGREGATE(15,6,(ROW(OrderRange_Ref)-ROW($L$19))/(OFFSET(OrderRange_Ref,,3)>0),ROWS($L$20:$L277)-OFFSET(Cumulative,,2)),IF(OFFSET(Cumulative,,4)>(ROW()-ROW($O$20)),_xlfn.AGGREGATE(15,6,(ROW(OrderRange_Ref)-ROW($L$19))/(OFFSET(OrderRange_Ref,,4)>0),ROWS($L$20:$L277)-OFFSET(Cumulative,,3)),IF(OFFSET(Cumulative,,5)>(ROW()-ROW($O$20)),_xlfn.AGGREGATE(15,6,(ROW(OrderRange_Ref)-ROW($L$19))/(OFFSET(OrderRange_Ref,,5)>0),ROWS($L$20:$L277)-OFFSET(Cumulative,,4)),\"\"))))))","v":""},"","","","",""]
[null,null,null,null,null,null,null,null,null,null,null,null,null,{"$f":"IF(Cumulative>(ROW()-ROW($O$20)),_xlfn.AGGREGATE(15,6,(ROW(OrderRange_Ref)-ROW($L$19))/(OFFSET(OrderRange_Ref,,0)>0),ROWS($L$20:$L278)),IF(OFFSET(Cumulative,,1)>(ROW()-ROW($O$20)),_xlfn.AGGREGATE(15,6,(ROW(OrderRange_Ref)-ROW($L$19))/(OFFSET(OrderRange_Ref,,1)>0),ROWS($L$20:$L278)-OFFSET(Cumulative,,0)),IF(OFFSET(Cumulative,,2)>(ROW()-ROW($O$20)),_xlfn.AGGREGATE(15,6,(ROW(OrderRange_Ref)-ROW($L$19))/(OFFSET(OrderRange_Ref,,2)>0),ROWS($L$20:$L278)-OFFSET(Cumulative,,1)),IF(OFFSET(Cumulative,,3)>(ROW()-ROW($O$20)),_xlfn.AGGREGATE(15,6,(ROW(OrderRange_Ref)-ROW($L$19))/(OFFSET(OrderRange_Ref,,3)>0),ROWS($L$20:$L278)-OFFSET(Cumulative,,2)),IF(OFFSET(Cumulative,,4)>(ROW()-ROW($O$20)),_xlfn.AGGREGATE(15,6,(ROW(OrderRange_Ref)-ROW($L$19))/(OFFSET(OrderRange_Ref,,4)>0),ROWS($L$20:$L278)-OFFSET(Cumulative,,3)),IF(OFFSET(Cumulative,,5)>(ROW()-ROW($O$20)),_xlfn.AGGREGATE(15,6,(ROW(OrderRange_Ref)-ROW($L$19))/(OFFSET(OrderRange_Ref,,5)>0),ROWS($L$20:$L278)-OFFSET(Cumulative,,4)),\"\"))))))","v":""},"","","","",""]
[null,null,null,null,null,null,null,null,null,null,null,null,null,{"$f":"IF(Cumulative>(ROW()-ROW($O$20)),_xlfn.AGGREGATE(15,6,(ROW(OrderRange_Ref)-ROW($L$19))/(OFFSET(OrderRange_Ref,,0)>0),ROWS($L$20:$L279)),IF(OFFSET(Cumulative,,1)>(ROW()-ROW($O$20)),_xlfn.AGGREGATE(15,6,(ROW(OrderRange_Ref)-ROW($L$19))/(OFFSET(OrderRange_Ref,,1)>0),ROWS($L$20:$L279)-OFFSET(Cumulative,,0)),IF(OFFSET(Cumulative,,2)>(ROW()-ROW($O$20)),_xlfn.AGGREGATE(15,6,(ROW(OrderRange_Ref)-ROW($L$19))/(OFFSET(OrderRange_Ref,,2)>0),ROWS($L$20:$L279)-OFFSET(Cumulative,,1)),IF(OFFSET(Cumulative,,3)>(ROW()-ROW($O$20)),_xlfn.AGGREGATE(15,6,(ROW(OrderRange_Ref)-ROW($L$19))/(OFFSET(OrderRange_Ref,,3)>0),ROWS($L$20:$L279)-OFFSET(Cumulative,,2)),IF(OFFSET(Cumulative,,4)>(ROW()-ROW($O$20)),_xlfn.AGGREGATE(15,6,(ROW(OrderRange_Ref)-ROW($L$19))/(OFFSET(OrderRange_Ref,,4)>0),ROWS($L$20:$L279)-OFFSET(Cumulative,,3)),IF(OFFSET(Cumulative,,5)>(ROW()-ROW($O$20)),_xlfn.AGGREGATE(15,6,(ROW(OrderRange_Ref)-ROW($L$19))/(OFFSET(OrderRange_Ref,,5)>0),ROWS($L$20:$L279)-OFFSET(Cumulative,,4)),\"\"))))))","v":""},"","","","",""]
[null,null,null,null,null,null,null,null,null,null,null,null,null,{"$f":"IF(Cumulative>(ROW()-ROW($O$20)),_xlfn.AGGREGATE(15,6,(ROW(OrderRange_Ref)-ROW($L$19))/(OFFSET(OrderRange_Ref,,0)>0),ROWS($L$20:$L280)),IF(OFFSET(Cumulative,,1)>(ROW()-ROW($O$20)),_xlfn.AGGREGATE(15,6,(ROW(OrderRange_Ref)-ROW($L$19))/(OFFSET(OrderRange_Ref,,1)>0),ROWS($L$20:$L280)-OFFSET(Cumulative,,0)),IF(OFFSET(Cumulative,,2)>(ROW()-ROW($O$20)),_xlfn.AGGREGATE(15,6,(ROW(OrderRange_Ref)-ROW($L$19))/(OFFSET(OrderRange_Ref,,2)>0),ROWS($L$20:$L280)-OFFSET(Cumulative,,1)),IF(OFFSET(Cumulative,,3)>(ROW()-ROW($O$20)),_xlfn.AGGREGATE(15,6,(ROW(OrderRange_Ref)-ROW($L$19))/(OFFSET(OrderRange_Ref,,3)>0),ROWS($L$20:$L280)-OFFSET(Cumulative,,2)),IF(OFFSET(Cumulative,,4)>(ROW()-ROW($O$20)),_xlfn.AGGREGATE(15,6,(ROW(OrderRange_Ref)-ROW($L$19))/(OFFSET(OrderRange_Ref,,4)>0),ROWS($L$20:$L280)-OFFSET(Cumulative,,3)),IF(OFFSET(Cumulative,,5)>(ROW()-ROW($O$20)),_xlfn.AGGREGATE(15,6,(ROW(OrderRange_Ref)-ROW($L$19))/(OFFSET(OrderRange_Ref,,5)>0),ROWS($L$20:$L280)-OFFSET(Cumulative,,4)),\"\"))))))","v":""},"","","","",""]
[null,null,null,null,null,null,null,null,null,null,null,null,null,{"$f":"IF(Cumulative>(ROW()-ROW($O$20)),_xlfn.AGGREGATE(15,6,(ROW(OrderRange_Ref)-ROW($L$19))/(OFFSET(OrderRange_Ref,,0)>0),ROWS($L$20:$L281)),IF(OFFSET(Cumulative,,1)>(ROW()-ROW($O$20)),_xlfn.AGGREGATE(15,6,(ROW(OrderRange_Ref)-ROW($L$19))/(OFFSET(OrderRange_Ref,,1)>0),ROWS($L$20:$L281)-OFFSET(Cumulative,,0)),IF(OFFSET(Cumulative,,2)>(ROW()-ROW($O$20)),_xlfn.AGGREGATE(15,6,(ROW(OrderRange_Ref)-ROW($L$19))/(OFFSET(OrderRange_Ref,,2)>0),ROWS($L$20:$L281)-OFFSET(Cumulative,,1)),IF(OFFSET(Cumulative,,3)>(ROW()-ROW($O$20)),_xlfn.AGGREGATE(15,6,(ROW(OrderRange_Ref)-ROW($L$19))/(OFFSET(OrderRange_Ref,,3)>0),ROWS($L$20:$L281)-OFFSET(Cumulative,,2)),IF(OFFSET(Cumulative,,4)>(ROW()-ROW($O$20)),_xlfn.AGGREGATE(15,6,(ROW(OrderRange_Ref)-ROW($L$19))/(OFFSET(OrderRange_Ref,,4)>0),ROWS($L$20:$L281)-OFFSET(Cumulative,,3)),IF(OFFSET(Cumulative,,5)>(ROW()-ROW($O$20)),_xlfn.AGGREGATE(15,6,(ROW(OrderRange_Ref)-ROW($L$19))/(OFFSET(OrderRange_Ref,,5)>0),ROWS($L$20:$L281)-OFFSET(Cumulative,,4)),\"\"))))))","v":""},"","","","",""]
[null,null,null,null,null,null,null,null,null,null,null,null,null,{"$f":"IF(Cumulative>(ROW()-ROW($O$20)),_xlfn.AGGREGATE(15,6,(ROW(OrderRange_Ref)-ROW($L$19))/(OFFSET(OrderRange_Ref,,0)>0),ROWS($L$20:$L282)),IF(OFFSET(Cumulative,,1)>(ROW()-ROW($O$20)),_xlfn.AGGREGATE(15,6,(ROW(OrderRange_Ref)-ROW($L$19))/(OFFSET(OrderRange_Ref,,1)>0),ROWS($L$20:$L282)-OFFSET(Cumulative,,0)),IF(OFFSET(Cumulative,,2)>(ROW()-ROW($O$20)),_xlfn.AGGREGATE(15,6,(ROW(OrderRange_Ref)-ROW($L$19))/(OFFSET(OrderRange_Ref,,2)>0),ROWS($L$20:$L282)-OFFSET(Cumulative,,1)),IF(OFFSET(Cumulative,,3)>(ROW()-ROW($O$20)),_xlfn.AGGREGATE(15,6,(ROW(OrderRange_Ref)-ROW($L$19))/(OFFSET(OrderRange_Ref,,3)>0),ROWS($L$20:$L282)-OFFSET(Cumulative,,2)),IF(OFFSET(Cumulative,,4)>(ROW()-ROW($O$20)),_xlfn.AGGREGATE(15,6,(ROW(OrderRange_Ref)-ROW($L$19))/(OFFSET(OrderRange_Ref,,4)>0),ROWS($L$20:$L282)-OFFSET(Cumulative,,3)),IF(OFFSET(Cumulative,,5)>(ROW()-ROW($O$20)),_xlfn.AGGREGATE(15,6,(ROW(OrderRange_Ref)-ROW($L$19))/(OFFSET(OrderRange_Ref,,5)>0),ROWS($L$20:$L282)-OFFSET(Cumulative,,4)),\"\"))))))","v":""},"","","","",""]
[null,null,null,null,null,null,null,null,null,null,null,null,null,{"$f":"IF(Cumulative>(ROW()-ROW($O$20)),_xlfn.AGGREGATE(15,6,(ROW(OrderRange_Ref)-ROW($L$19))/(OFFSET(OrderRange_Ref,,0)>0),ROWS($L$20:$L283)),IF(OFFSET(Cumulative,,1)>(ROW()-ROW($O$20)),_xlfn.AGGREGATE(15,6,(ROW(OrderRange_Ref)-ROW($L$19))/(OFFSET(OrderRange_Ref,,1)>0),ROWS($L$20:$L283)-OFFSET(Cumulative,,0)),IF(OFFSET(Cumulative,,2)>(ROW()-ROW($O$20)),_xlfn.AGGREGATE(15,6,(ROW(OrderRange_Ref)-ROW($L$19))/(OFFSET(OrderRange_Ref,,2)>0),ROWS($L$20:$L283)-OFFSET(Cumulative,,1)),IF(OFFSET(Cumulative,,3)>(ROW()-ROW($O$20)),_xlfn.AGGREGATE(15,6,(ROW(OrderRange_Ref)-ROW($L$19))/(OFFSET(OrderRange_Ref,,3)>0),ROWS($L$20:$L283)-OFFSET(Cumulative,,2)),IF(OFFSET(Cumulative,,4)>(ROW()-ROW($O$20)),_xlfn.AGGREGATE(15,6,(ROW(OrderRange_Ref)-ROW($L$19))/(OFFSET(OrderRange_Ref,,4)>0),ROWS($L$20:$L283)-OFFSET(Cumulative,,3)),IF(OFFSET(Cumulative,,5)>(ROW()-ROW($O$20)),_xlfn.AGGREGATE(15,6,(ROW(OrderRange_Ref)-ROW($L$19))/(OFFSET(OrderRange_Ref,,5)>0),ROWS($L$20:$L283)-OFFSET(Cumulative,,4)),\"\"))))))","v":""},"","","","",""]
[null,null,null,null,null,null,null,null,null,null,null,null,null,{"$f":"IF(Cumulative>(ROW()-ROW($O$20)),_xlfn.AGGREGATE(15,6,(ROW(OrderRange_Ref)-ROW($L$19))/(OFFSET(OrderRange_Ref,,0)>0),ROWS($L$20:$L284)),IF(OFFSET(Cumulative,,1)>(ROW()-ROW($O$20)),_xlfn.AGGREGATE(15,6,(ROW(OrderRange_Ref)-ROW($L$19))/(OFFSET(OrderRange_Ref,,1)>0),ROWS($L$20:$L284)-OFFSET(Cumulative,,0)),IF(OFFSET(Cumulative,,2)>(ROW()-ROW($O$20)),_xlfn.AGGREGATE(15,6,(ROW(OrderRange_Ref)-ROW($L$19))/(OFFSET(OrderRange_Ref,,2)>0),ROWS($L$20:$L284)-OFFSET(Cumulative,,1)),IF(OFFSET(Cumulative,,3)>(ROW()-ROW($O$20)),_xlfn.AGGREGATE(15,6,(ROW(OrderRange_Ref)-ROW($L$19))/(OFFSET(OrderRange_Ref,,3)>0),ROWS($L$20:$L284)-OFFSET(Cumulative,,2)),IF(OFFSET(Cumulative,,4)>(ROW()-ROW($O$20)),_xlfn.AGGREGATE(15,6,(ROW(OrderRange_Ref)-ROW($L$19))/(OFFSET(OrderRange_Ref,,4)>0),ROWS($L$20:$L284)-OFFSET(Cumulative,,3)),IF(OFFSET(Cumulative,,5)>(ROW()-ROW($O$20)),_xlfn.AGGREGATE(15,6,(ROW(OrderRange_Ref)-ROW($L$19))/(OFFSET(OrderRange_Ref,,5)>0),ROWS($L$20:$L284)-OFFSET(Cumulative,,4)),\"\"))))))","v":""},"","","","",""]
[null,null,null,null,null,null,null,null,null,null,null,null,null,{"$f":"IF(Cumulative>(ROW()-ROW($O$20)),_xlfn.AGGREGATE(15,6,(ROW(OrderRange_Ref)-ROW($L$19))/(OFFSET(OrderRange_Ref,,0)>0),ROWS($L$20:$L285)),IF(OFFSET(Cumulative,,1)>(ROW()-ROW($O$20)),_xlfn.AGGREGATE(15,6,(ROW(OrderRange_Ref)-ROW($L$19))/(OFFSET(OrderRange_Ref,,1)>0),ROWS($L$20:$L285)-OFFSET(Cumulative,,0)),IF(OFFSET(Cumulative,,2)>(ROW()-ROW($O$20)),_xlfn.AGGREGATE(15,6,(ROW(OrderRange_Ref)-ROW($L$19))/(OFFSET(OrderRange_Ref,,2)>0),ROWS($L$20:$L285)-OFFSET(Cumulative,,1)),IF(OFFSET(Cumulative,,3)>(ROW()-ROW($O$20)),_xlfn.AGGREGATE(15,6,(ROW(OrderRange_Ref)-ROW($L$19))/(OFFSET(OrderRange_Ref,,3)>0),ROWS($L$20:$L285)-OFFSET(Cumulative,,2)),IF(OFFSET(Cumulative,,4)>(ROW()-ROW($O$20)),_xlfn.AGGREGATE(15,6,(ROW(OrderRange_Ref)-ROW($L$19))/(OFFSET(OrderRange_Ref,,4)>0),ROWS($L$20:$L285)-OFFSET(Cumulative,,3)),IF(OFFSET(Cumulative,,5)>(ROW()-ROW($O$20)),_xlfn.AGGREGATE(15,6,(ROW(OrderRange_Ref)-ROW($L$19))/(OFFSET(OrderRange_Ref,,5)>0),ROWS($L$20:$L285)-OFFSET(Cumulative,,4)),\"\"))))))","v":""},"","","","",""]
[null,null,null,null,null,null,null,null,null,null,null,null,null,{"$f":"IF(Cumulative>(ROW()-ROW($O$20)),_xlfn.AGGREGATE(15,6,(ROW(OrderRange_Ref)-ROW($L$19))/(OFFSET(OrderRange_Ref,,0)>0),ROWS($L$20:$L286)),IF(OFFSET(Cumulative,,1)>(ROW()-ROW($O$20)),_xlfn.AGGREGATE(15,6,(ROW(OrderRange_Ref)-ROW($L$19))/(OFFSET(OrderRange_Ref,,1)>0),ROWS($L$20:$L286)-OFFSET(Cumulative,,0)),IF(OFFSET(Cumulative,,2)>(ROW()-ROW($O$20)),_xlfn.AGGREGATE(15,6,(ROW(OrderRange_Ref)-ROW($L$19))/(OFFSET(OrderRange_Ref,,2)>0),ROWS($L$20:$L286)-OFFSET(Cumulative,,1)),IF(OFFSET(Cumulative,,3)>(ROW()-ROW($O$20)),_xlfn.AGGREGATE(15,6,(ROW(OrderRange_Ref)-ROW($L$19))/(OFFSET(OrderRange_Ref,,3)>0),ROWS($L$20:$L286)-OFFSET(Cumulative,,2)),IF(OFFSET(Cumulative,,4)>(ROW()-ROW($O$20)),_xlfn.AGGREGATE(15,6,(ROW(OrderRange_Ref)-ROW($L$19))/(OFFSET(OrderRange_Ref,,4)>0),ROWS($L$20:$L286)-OFFSET(Cumulative,,3)),IF(OFFSET(Cumulative,,5)>(ROW()-ROW($O$20)),_xlfn.AGGREGATE(15,6,(ROW(OrderRange_Ref)-ROW($L$19))/(OFFSET(OrderRange_Ref,,5)>0),ROWS($L$20:$L286)-OFFSET(Cumulative,,4)),\"\"))))))","v":""},"","","","",""]
[null,null,null,null,null,null,null,null,null,null,null,null,null,{"$f":"IF(Cumulative>(ROW()-ROW($O$20)),_xlfn.AGGREGATE(15,6,(ROW(OrderRange_Ref)-ROW($L$19))/(OFFSET(OrderRange_Ref,,0)>0),ROWS($L$20:$L287)),IF(OFFSET(Cumulative,,1)>(ROW()-ROW($O$20)),_xlfn.AGGREGATE(15,6,(ROW(OrderRange_Ref)-ROW($L$19))/(OFFSET(OrderRange_Ref,,1)>0),ROWS($L$20:$L287)-OFFSET(Cumulative,,0)),IF(OFFSET(Cumulative,,2)>(ROW()-ROW($O$20)),_xlfn.AGGREGATE(15,6,(ROW(OrderRange_Ref)-ROW($L$19))/(OFFSET(OrderRange_Ref,,2)>0),ROWS($L$20:$L287)-OFFSET(Cumulative,,1)),IF(OFFSET(Cumulative,,3)>(ROW()-ROW($O$20)),_xlfn.AGGREGATE(15,6,(ROW(OrderRange_Ref)-ROW($L$19))/(OFFSET(OrderRange_Ref,,3)>0),ROWS($L$20:$L287)-OFFSET(Cumulative,,2)),IF(OFFSET(Cumulative,,4)>(ROW()-ROW($O$20)),_xlfn.AGGREGATE(15,6,(ROW(OrderRange_Ref)-ROW($L$19))/(OFFSET(OrderRange_Ref,,4)>0),ROWS($L$20:$L287)-OFFSET(Cumulative,,3)),IF(OFFSET(Cumulative,,5)>(ROW()-ROW($O$20)),_xlfn.AGGREGATE(15,6,(ROW(OrderRange_Ref)-ROW($L$19))/(OFFSET(OrderRange_Ref,,5)>0),ROWS($L$20:$L287)-OFFSET(Cumulative,,4)),\"\"))))))","v":""},"","","","",""]
[null,null,null,null,null,null,null,null,null,null,null,null,null,{"$f":"IF(Cumulative>(ROW()-ROW($O$20)),_xlfn.AGGREGATE(15,6,(ROW(OrderRange_Ref)-ROW($L$19))/(OFFSET(OrderRange_Ref,,0)>0),ROWS($L$20:$L288)),IF(OFFSET(Cumulative,,1)>(ROW()-ROW($O$20)),_xlfn.AGGREGATE(15,6,(ROW(OrderRange_Ref)-ROW($L$19))/(OFFSET(OrderRange_Ref,,1)>0),ROWS($L$20:$L288)-OFFSET(Cumulative,,0)),IF(OFFSET(Cumulative,,2)>(ROW()-ROW($O$20)),_xlfn.AGGREGATE(15,6,(ROW(OrderRange_Ref)-ROW($L$19))/(OFFSET(OrderRange_Ref,,2)>0),ROWS($L$20:$L288)-OFFSET(Cumulative,,1)),IF(OFFSET(Cumulative,,3)>(ROW()-ROW($O$20)),_xlfn.AGGREGATE(15,6,(ROW(OrderRange_Ref)-ROW($L$19))/(OFFSET(OrderRange_Ref,,3)>0),ROWS($L$20:$L288)-OFFSET(Cumulative,,2)),IF(OFFSET(Cumulative,,4)>(ROW()-ROW($O$20)),_xlfn.AGGREGATE(15,6,(ROW(OrderRange_Ref)-ROW($L$19))/(OFFSET(OrderRange_Ref,,4)>0),ROWS($L$20:$L288)-OFFSET(Cumulative,,3)),IF(OFFSET(Cumulative,,5)>(ROW()-ROW($O$20)),_xlfn.AGGREGATE(15,6,(ROW(OrderRange_Ref)-ROW($L$19))/(OFFSET(OrderRange_Ref,,5)>0),ROWS($L$20:$L288)-OFFSET(Cumulative,,4)),\"\"))))))","v":""},"","","","",""]
[null,null,null,null,null,null,null,null,null,null,null,null,null,{"$f":"IF(Cumulative>(ROW()-ROW($O$20)),_xlfn.AGGREGATE(15,6,(ROW(OrderRange_Ref)-ROW($L$19))/(OFFSET(OrderRange_Ref,,0)>0),ROWS($L$20:$L289)),IF(OFFSET(Cumulative,,1)>(ROW()-ROW($O$20)),_xlfn.AGGREGATE(15,6,(ROW(OrderRange_Ref)-ROW($L$19))/(OFFSET(OrderRange_Ref,,1)>0),ROWS($L$20:$L289)-OFFSET(Cumulative,,0)),IF(OFFSET(Cumulative,,2)>(ROW()-ROW($O$20)),_xlfn.AGGREGATE(15,6,(ROW(OrderRange_Ref)-ROW($L$19))/(OFFSET(OrderRange_Ref,,2)>0),ROWS($L$20:$L289)-OFFSET(Cumulative,,1)),IF(OFFSET(Cumulative,,3)>(ROW()-ROW($O$20)),_xlfn.AGGREGATE(15,6,(ROW(OrderRange_Ref)-ROW($L$19))/(OFFSET(OrderRange_Ref,,3)>0),ROWS($L$20:$L289)-OFFSET(Cumulative,,2)),IF(OFFSET(Cumulative,,4)>(ROW()-ROW($O$20)),_xlfn.AGGREGATE(15,6,(ROW(OrderRange_Ref)-ROW($L$19))/(OFFSET(OrderRange_Ref,,4)>0),ROWS($L$20:$L289)-OFFSET(Cumulative,,3)),IF(OFFSET(Cumulative,,5)>(ROW()-ROW($O$20)),_xlfn.AGGREGATE(15,6,(ROW(OrderRange_Ref)-ROW($L$19))/(OFFSET(OrderRange_Ref,,5)>0),ROWS($L$20:$L289)-OFFSET(Cumulative,,4)),\"\"))))))","v":""},"","","","",""]
[null,null,null,null,null,null,null,null,null,null,null,null,null,{"$f":"IF(Cumulative>(ROW()-ROW($O$20)),_xlfn.AGGREGATE(15,6,(ROW(OrderRange_Ref)-ROW($L$19))/(OFFSET(OrderRange_Ref,,0)>0),ROWS($L$20:$L290)),IF(OFFSET(Cumulative,,1)>(ROW()-ROW($O$20)),_xlfn.AGGREGATE(15,6,(ROW(OrderRange_Ref)-ROW($L$19))/(OFFSET(OrderRange_Ref,,1)>0),ROWS($L$20:$L290)-OFFSET(Cumulative,,0)),IF(OFFSET(Cumulative,,2)>(ROW()-ROW($O$20)),_xlfn.AGGREGATE(15,6,(ROW(OrderRange_Ref)-ROW($L$19))/(OFFSET(OrderRange_Ref,,2)>0),ROWS($L$20:$L290)-OFFSET(Cumulative,,1)),IF(OFFSET(Cumulative,,3)>(ROW()-ROW($O$20)),_xlfn.AGGREGATE(15,6,(ROW(OrderRange_Ref)-ROW($L$19))/(OFFSET(OrderRange_Ref,,3)>0),ROWS($L$20:$L290)-OFFSET(Cumulative,,2)),IF(OFFSET(Cumulative,,4)>(ROW()-ROW($O$20)),_xlfn.AGGREGATE(15,6,(ROW(OrderRange_Ref)-ROW($L$19))/(OFFSET(OrderRange_Ref,,4)>0),ROWS($L$20:$L290)-OFFSET(Cumulative,,3)),IF(OFFSET(Cumulative,,5)>(ROW()-ROW($O$20)),_xlfn.AGGREGATE(15,6,(ROW(OrderRange_Ref)-ROW($L$19))/(OFFSET(OrderRange_Ref,,5)>0),ROWS($L$20:$L290)-OFFSET(Cumulative,,4)),\"\"))))))","v":""},"","","","",""]
[null,null,null,null,null,null,null,null,null,null,null,null,null,{"$f":"IF(Cumulative>(ROW()-ROW($O$20)),_xlfn.AGGREGATE(15,6,(ROW(OrderRange_Ref)-ROW($L$19))/(OFFSET(OrderRange_Ref,,0)>0),ROWS($L$20:$L291)),IF(OFFSET(Cumulative,,1)>(ROW()-ROW($O$20)),_xlfn.AGGREGATE(15,6,(ROW(OrderRange_Ref)-ROW($L$19))/(OFFSET(OrderRange_Ref,,1)>0),ROWS($L$20:$L291)-OFFSET(Cumulative,,0)),IF(OFFSET(Cumulative,,2)>(ROW()-ROW($O$20)),_xlfn.AGGREGATE(15,6,(ROW(OrderRange_Ref)-ROW($L$19))/(OFFSET(OrderRange_Ref,,2)>0),ROWS($L$20:$L291)-OFFSET(Cumulative,,1)),IF(OFFSET(Cumulative,,3)>(ROW()-ROW($O$20)),_xlfn.AGGREGATE(15,6,(ROW(OrderRange_Ref)-ROW($L$19))/(OFFSET(OrderRange_Ref,,3)>0),ROWS($L$20:$L291)-OFFSET(Cumulative,,2)),IF(OFFSET(Cumulative,,4)>(ROW()-ROW($O$20)),_xlfn.AGGREGATE(15,6,(ROW(OrderRange_Ref)-ROW($L$19))/(OFFSET(OrderRange_Ref,,4)>0),ROWS($L$20:$L291)-OFFSET(Cumulative,,3)),IF(OFFSET(Cumulative,,5)>(ROW()-ROW($O$20)),_xlfn.AGGREGATE(15,6,(ROW(OrderRange_Ref)-ROW($L$19))/(OFFSET(OrderRange_Ref,,5)>0),ROWS($L$20:$L291)-OFFSET(Cumulative,,4)),\"\"))))))","v":""},"","","","",""]
[null,null,null,null,null,null,null,null,null,null,null,null,null,{"$f":"IF(Cumulative>(ROW()-ROW($O$20)),_xlfn.AGGREGATE(15,6,(ROW(OrderRange_Ref)-ROW($L$19))/(OFFSET(OrderRange_Ref,,0)>0),ROWS($L$20:$L292)),IF(OFFSET(Cumulative,,1)>(ROW()-ROW($O$20)),_xlfn.AGGREGATE(15,6,(ROW(OrderRange_Ref)-ROW($L$19))/(OFFSET(OrderRange_Ref,,1)>0),ROWS($L$20:$L292)-OFFSET(Cumulative,,0)),IF(OFFSET(Cumulative,,2)>(ROW()-ROW($O$20)),_xlfn.AGGREGATE(15,6,(ROW(OrderRange_Ref)-ROW($L$19))/(OFFSET(OrderRange_Ref,,2)>0),ROWS($L$20:$L292)-OFFSET(Cumulative,,1)),IF(OFFSET(Cumulative,,3)>(ROW()-ROW($O$20)),_xlfn.AGGREGATE(15,6,(ROW(OrderRange_Ref)-ROW($L$19))/(OFFSET(OrderRange_Ref,,3)>0),ROWS($L$20:$L292)-OFFSET(Cumulative,,2)),IF(OFFSET(Cumulative,,4)>(ROW()-ROW($O$20)),_xlfn.AGGREGATE(15,6,(ROW(OrderRange_Ref)-ROW($L$19))/(OFFSET(OrderRange_Ref,,4)>0),ROWS($L$20:$L292)-OFFSET(Cumulative,,3)),IF(OFFSET(Cumulative,,5)>(ROW()-ROW($O$20)),_xlfn.AGGREGATE(15,6,(ROW(OrderRange_Ref)-ROW($L$19))/(OFFSET(OrderRange_Ref,,5)>0),ROWS($L$20:$L292)-OFFSET(Cumulative,,4)),\"\"))))))","v":""},"","","","",""]
[null,null,null,null,null,null,null,null,null,null,null,null,null,{"$f":"IF(Cumulative>(ROW()-ROW($O$20)),_xlfn.AGGREGATE(15,6,(ROW(OrderRange_Ref)-ROW($L$19))/(OFFSET(OrderRange_Ref,,0)>0),ROWS($L$20:$L293)),IF(OFFSET(Cumulative,,1)>(ROW()-ROW($O$20)),_xlfn.AGGREGATE(15,6,(ROW(OrderRange_Ref)-ROW($L$19))/(OFFSET(OrderRange_Ref,,1)>0),ROWS($L$20:$L293)-OFFSET(Cumulative,,0)),IF(OFFSET(Cumulative,,2)>(ROW()-ROW($O$20)),_xlfn.AGGREGATE(15,6,(ROW(OrderRange_Ref)-ROW($L$19))/(OFFSET(OrderRange_Ref,,2)>0),ROWS($L$20:$L293)-OFFSET(Cumulative,,1)),IF(OFFSET(Cumulative,,3)>(ROW()-ROW($O$20)),_xlfn.AGGREGATE(15,6,(ROW(OrderRange_Ref)-ROW($L$19))/(OFFSET(OrderRange_Ref,,3)>0),ROWS($L$20:$L293)-OFFSET(Cumulative,,2)),IF(OFFSET(Cumulative,,4)>(ROW()-ROW($O$20)),_xlfn.AGGREGATE(15,6,(ROW(OrderRange_Ref)-ROW($L$19))/(OFFSET(OrderRange_Ref,,4)>0),ROWS($L$20:$L293)-OFFSET(Cumulative,,3)),IF(OFFSET(Cumulative,,5)>(ROW()-ROW($O$20)),_xlfn.AGGREGATE(15,6,(ROW(OrderRange_Ref)-ROW($L$19))/(OFFSET(OrderRange_Ref,,5)>0),ROWS($L$20:$L293)-OFFSET(Cumulative,,4)),\"\"))))))","v":""},"","","","",""]
[null,null,null,null,null,null,null,null,null,null,null,null,null,{"$f":"IF(Cumulative>(ROW()-ROW($O$20)),_xlfn.AGGREGATE(15,6,(ROW(OrderRange_Ref)-ROW($L$19))/(OFFSET(OrderRange_Ref,,0)>0),ROWS($L$20:$L294)),IF(OFFSET(Cumulative,,1)>(ROW()-ROW($O$20)),_xlfn.AGGREGATE(15,6,(ROW(OrderRange_Ref)-ROW($L$19))/(OFFSET(OrderRange_Ref,,1)>0),ROWS($L$20:$L294)-OFFSET(Cumulative,,0)),IF(OFFSET(Cumulative,,2)>(ROW()-ROW($O$20)),_xlfn.AGGREGATE(15,6,(ROW(OrderRange_Ref)-ROW($L$19))/(OFFSET(OrderRange_Ref,,2)>0),ROWS($L$20:$L294)-OFFSET(Cumulative,,1)),IF(OFFSET(Cumulative,,3)>(ROW()-ROW($O$20)),_xlfn.AGGREGATE(15,6,(ROW(OrderRange_Ref)-ROW($L$19))/(OFFSET(OrderRange_Ref,,3)>0),ROWS($L$20:$L294)-OFFSET(Cumulative,,2)),IF(OFFSET(Cumulative,,4)>(ROW()-ROW($O$20)),_xlfn.AGGREGATE(15,6,(ROW(OrderRange_Ref)-ROW($L$19))/(OFFSET(OrderRange_Ref,,4)>0),ROWS($L$20:$L294)-OFFSET(Cumulative,,3)),IF(OFFSET(Cumulative,,5)>(ROW()-ROW($O$20)),_xlfn.AGGREGATE(15,6,(ROW(OrderRange_Ref)-ROW($L$19))/(OFFSET(OrderRange_Ref,,5)>0),ROWS($L$20:$L294)-OFFSET(Cumulative,,4)),\"\"))))))","v":""},"","","","",""]
[null,null,null,null,null,null,null,null,null,null,null,null,null,{"$f":"IF(Cumulative>(ROW()-ROW($O$20)),_xlfn.AGGREGATE(15,6,(ROW(OrderRange_Ref)-ROW($L$19))/(OFFSET(OrderRange_Ref,,0)>0),ROWS($L$20:$L295)),IF(OFFSET(Cumulative,,1)>(ROW()-ROW($O$20)),_xlfn.AGGREGATE(15,6,(ROW(OrderRange_Ref)-ROW($L$19))/(OFFSET(OrderRange_Ref,,1)>0),ROWS($L$20:$L295)-OFFSET(Cumulative,,0)),IF(OFFSET(Cumulative,,2)>(ROW()-ROW($O$20)),_xlfn.AGGREGATE(15,6,(ROW(OrderRange_Ref)-ROW($L$19))/(OFFSET(OrderRange_Ref,,2)>0),ROWS($L$20:$L295)-OFFSET(Cumulative,,1)),IF(OFFSET(Cumulative,,3)>(ROW()-ROW($O$20)),_xlfn.AGGREGATE(15,6,(ROW(OrderRange_Ref)-ROW($L$19))/(OFFSET(OrderRange_Ref,,3)>0),ROWS($L$20:$L295)-OFFSET(Cumulative,,2)),IF(OFFSET(Cumulative,,4)>(ROW()-ROW($O$20)),_xlfn.AGGREGATE(15,6,(ROW(OrderRange_Ref)-ROW($L$19))/(OFFSET(OrderRange_Ref,,4)>0),ROWS($L$20:$L295)-OFFSET(Cumulative,,3)),IF(OFFSET(Cumulative,,5)>(ROW()-ROW($O$20)),_xlfn.AGGREGATE(15,6,(ROW(OrderRange_Ref)-ROW($L$19))/(OFFSET(OrderRange_Ref,,5)>0),ROWS($L$20:$L295)-OFFSET(Cumulative,,4)),\"\"))))))","v":""},"","","","",""]
[null,null,null,null,null,null,null,null,null,null,null,null,null,{"$f":"IF(Cumulative>(ROW()-ROW($O$20)),_xlfn.AGGREGATE(15,6,(ROW(OrderRange_Ref)-ROW($L$19))/(OFFSET(OrderRange_Ref,,0)>0),ROWS($L$20:$L296)),IF(OFFSET(Cumulative,,1)>(ROW()-ROW($O$20)),_xlfn.AGGREGATE(15,6,(ROW(OrderRange_Ref)-ROW($L$19))/(OFFSET(OrderRange_Ref,,1)>0),ROWS($L$20:$L296)-OFFSET(Cumulative,,0)),IF(OFFSET(Cumulative,,2)>(ROW()-ROW($O$20)),_xlfn.AGGREGATE(15,6,(ROW(OrderRange_Ref)-ROW($L$19))/(OFFSET(OrderRange_Ref,,2)>0),ROWS($L$20:$L296)-OFFSET(Cumulative,,1)),IF(OFFSET(Cumulative,,3)>(ROW()-ROW($O$20)),_xlfn.AGGREGATE(15,6,(ROW(OrderRange_Ref)-ROW($L$19))/(OFFSET(OrderRange_Ref,,3)>0),ROWS($L$20:$L296)-OFFSET(Cumulative,,2)),IF(OFFSET(Cumulative,,4)>(ROW()-ROW($O$20)),_xlfn.AGGREGATE(15,6,(ROW(OrderRange_Ref)-ROW($L$19))/(OFFSET(OrderRange_Ref,,4)>0),ROWS($L$20:$L296)-OFFSET(Cumulative,,3)),IF(OFFSET(Cumulative,,5)>(ROW()-ROW($O$20)),_xlfn.AGGREGATE(15,6,(ROW(OrderRange_Ref)-ROW($L$19))/(OFFSET(OrderRange_Ref,,5)>0),ROWS($L$20:$L296)-OFFSET(Cumulative,,4)),\"\"))))))","v":""},"","","","",""]
[null,null,null,null,null,null,null,null,null,null,null,null,null,{"$f":"IF(Cumulative>(ROW()-ROW($O$20)),_xlfn.AGGREGATE(15,6,(ROW(OrderRange_Ref)-ROW($L$19))/(OFFSET(OrderRange_Ref,,0)>0),ROWS($L$20:$L297)),IF(OFFSET(Cumulative,,1)>(ROW()-ROW($O$20)),_xlfn.AGGREGATE(15,6,(ROW(OrderRange_Ref)-ROW($L$19))/(OFFSET(OrderRange_Ref,,1)>0),ROWS($L$20:$L297)-OFFSET(Cumulative,,0)),IF(OFFSET(Cumulative,,2)>(ROW()-ROW($O$20)),_xlfn.AGGREGATE(15,6,(ROW(OrderRange_Ref)-ROW($L$19))/(OFFSET(OrderRange_Ref,,2)>0),ROWS($L$20:$L297)-OFFSET(Cumulative,,1)),IF(OFFSET(Cumulative,,3)>(ROW()-ROW($O$20)),_xlfn.AGGREGATE(15,6,(ROW(OrderRange_Ref)-ROW($L$19))/(OFFSET(OrderRange_Ref,,3)>0),ROWS($L$20:$L297)-OFFSET(Cumulative,,2)),IF(OFFSET(Cumulative,,4)>(ROW()-ROW($O$20)),_xlfn.AGGREGATE(15,6,(ROW(OrderRange_Ref)-ROW($L$19))/(OFFSET(OrderRange_Ref,,4)>0),ROWS($L$20:$L297)-OFFSET(Cumulative,,3)),IF(OFFSET(Cumulative,,5)>(ROW()-ROW($O$20)),_xlfn.AGGREGATE(15,6,(ROW(OrderRange_Ref)-ROW($L$19))/(OFFSET(OrderRange_Ref,,5)>0),ROWS($L$20:$L297)-OFFSET(Cumulative,,4)),\"\"))))))","v":""},"","","","",""]
[null,null,null,null,null,null,null,null,null,null,null,null,null,{"$f":"IF(Cumulative>(ROW()-ROW($O$20)),_xlfn.AGGREGATE(15,6,(ROW(OrderRange_Ref)-ROW($L$19))/(OFFSET(OrderRange_Ref,,0)>0),ROWS($L$20:$L298)),IF(OFFSET(Cumulative,,1)>(ROW()-ROW($O$20)),_xlfn.AGGREGATE(15,6,(ROW(OrderRange_Ref)-ROW($L$19))/(OFFSET(OrderRange_Ref,,1)>0),ROWS($L$20:$L298)-OFFSET(Cumulative,,0)),IF(OFFSET(Cumulative,,2)>(ROW()-ROW($O$20)),_xlfn.AGGREGATE(15,6,(ROW(OrderRange_Ref)-ROW($L$19))/(OFFSET(OrderRange_Ref,,2)>0),ROWS($L$20:$L298)-OFFSET(Cumulative,,1)),IF(OFFSET(Cumulative,,3)>(ROW()-ROW($O$20)),_xlfn.AGGREGATE(15,6,(ROW(OrderRange_Ref)-ROW($L$19))/(OFFSET(OrderRange_Ref,,3)>0),ROWS($L$20:$L298)-OFFSET(Cumulative,,2)),IF(OFFSET(Cumulative,,4)>(ROW()-ROW($O$20)),_xlfn.AGGREGATE(15,6,(ROW(OrderRange_Ref)-ROW($L$19))/(OFFSET(OrderRange_Ref,,4)>0),ROWS($L$20:$L298)-OFFSET(Cumulative,,3)),IF(OFFSET(Cumulative,,5)>(ROW()-ROW($O$20)),_xlfn.AGGREGATE(15,6,(ROW(OrderRange_Ref)-ROW($L$19))/(OFFSET(OrderRange_Ref,,5)>0),ROWS($L$20:$L298)-OFFSET(Cumulative,,4)),\"\"))))))","v":""},"","","","",""]
[null,null,null,null,null,null,null,null,null,null,null,null,null,{"$f":"IF(Cumulative>(ROW()-ROW($O$20)),_xlfn.AGGREGATE(15,6,(ROW(OrderRange_Ref)-ROW($L$19))/(OFFSET(OrderRange_Ref,,0)>0),ROWS($L$20:$L299)),IF(OFFSET(Cumulative,,1)>(ROW()-ROW($O$20)),_xlfn.AGGREGATE(15,6,(ROW(OrderRange_Ref)-ROW($L$19))/(OFFSET(OrderRange_Ref,,1)>0),ROWS($L$20:$L299)-OFFSET(Cumulative,,0)),IF(OFFSET(Cumulative,,2)>(ROW()-ROW($O$20)),_xlfn.AGGREGATE(15,6,(ROW(OrderRange_Ref)-ROW($L$19))/(OFFSET(OrderRange_Ref,,2)>0),ROWS($L$20:$L299)-OFFSET(Cumulative,,1)),IF(OFFSET(Cumulative,,3)>(ROW()-ROW($O$20)),_xlfn.AGGREGATE(15,6,(ROW(OrderRange_Ref)-ROW($L$19))/(OFFSET(OrderRange_Ref,,3)>0),ROWS($L$20:$L299)-OFFSET(Cumulative,,2)),IF(OFFSET(Cumulative,,4)>(ROW()-ROW($O$20)),_xlfn.AGGREGATE(15,6,(ROW(OrderRange_Ref)-ROW($L$19))/(OFFSET(OrderRange_Ref,,4)>0),ROWS($L$20:$L299)-OFFSET(Cumulative,,3)),IF(OFFSET(Cumulative,,5)>(ROW()-ROW($O$20)),_xlfn.AGGREGATE(15,6,(ROW(OrderRange_Ref)-ROW($L$19))/(OFFSET(OrderRange_Ref,,5)>0),ROWS($L$20:$L299)-OFFSET(Cumulative,,4)),\"\"))))))","v":""},"","","","",""]

{"sheet":"Adjustment Order Frm","index":6,"n_rows":76,"n_cols":20,"rows_kept":76,"cut":false,"hidden":false,"merged":[[8,7,8,8],[2,2,2,6],[5,6,6,8],[4,6,4,8],[7,6,7,8],[17,6,17,8],[18,6,18,8],[19,6,19,8],[20,6,20,8],[16,4,16,5],[59,1,59,3],[41,6,41,8],[42,6,42,8],[43,6,43,8],[59,6,59,8],[58,6,58,8],[44,6,44,8],[52,6,52,8],[53,6,53,8],[54,6,54,8],[55,6,55,8],[56,6,56,8],[57,6,57,8],[34,6,34,8],[35,6,35,8],[39,6,39,8],[40,6,40,8],[36,6,36,8],[37,6,37,8],[38,6,38,8],[21,6,21,8],[22,6,22,8],[23,6,23,8],[24,6,24,8],[25,6,25,8],[33,6,33,8],[26,6,26,8],[29,6,29,8],[30,6,30,8],[31,6,31,8],[32,6,32,8],[27,6,27,8],[28,6,28,8]]}
[]
[null,null,null,null,"SETTING","PRODUCTS","STOCK","REPORT"]
[null,null,"แบบฟอร์มเพิ่ม-ลดสินค้าประจำสาขา ( Product Adjustment Order Form)",null,null,null,null,"โรงงาน:","00-FRY"]
[]
[null,"เลขที่",{"$f":"\"PO_ADJ_\"&MID(SL_Factory,4,3)&\"_\"&RIGHT(BranchCode,2)&\"-\"&TEXT(DATE(YEAR($G$10),MATCH($F$10,Month_List,0),E10),\"[$-107041e]yymmdd;@\")","v":"PO_ADJ_FRY_SK-660801"},null,null,null,{"$f":"\"สาขา \"&B_Name","v":"สาขา สมุทรปราการ"}]
[null,null,null,null,null,null,{"$f":"\"เลขที่ \"&IFERROR(LEFT(B_Address,FIND(\"จ.\",B_Address)-1),LEFT(B_Address,FIND(\"แขวง\",B_Address)-1))","v":"เลขที่ 155/6 ม.1 ต.บางพลีน้อย อ.บางบ่อ "}]
[]
[null,null,null,null,null,null,{"$f":"IFERROR(RIGHT(B_Address,LEN(B_Address)-FIND(\"จ.\",B_Address)+1),MID(B_Address,FIND(\"แขวง\",B_Address),FIND(\"กรุง\",B_Address)-FIND(\"แขวง\",B_Address)))","v":"จ.สมุทรปราการ 10560"}]
[null,null,null,null,null,null,null,{"$f":"IF(ISERROR(FIND(\"จ.\",B_Address)),RIGHT(B_Address,LEN(B_Address)-FIND(\"กรุงเทพ\",B_Address)+1),\"\")","v":""}]
[null,null,null,null,1,"สิงหาคม","2023-01-22"]
[null,"เรื่อง",{"$f":"\"ขอเพิ่ม-ลดสินค้า สำหรับ สาขา\"&B_Name &\" (\"&BranchCode&\")\"","v":"ขอเพิ่ม-ลดสินค้า สำหรับ สาขาสมุทรปราการ (10-SK)"}]
[null,"เรียน",{"$f":"\"ผู้จัดการ\"&INDEX(GB_Branches[Thai_Name],MATCH($I$3,Factory_List,0))&\" (คุณ\"&INDEX(GB_Branches[Manager],MATCH(SL_Factory,Factory_List,0))&\" )\"","v":"ผู้จัดการโรงงานระยอง (คุณนรรฆวุฒิ จันทฤทธิ์ )"}]
[]
[null,null,{"$f":"\"เนื่องด้วย สาขา\"&B_Name&\" มีจำนวน \"&RouteNum&\" สายวิ่ง มีความประสงค์ขอเพิ่ม-ลดสินค้า เพื่อจัดจำหน่ายในวันที่ \"& TEXT(DATE(YEAR($G$10),MATCH($F$10,Month_List,0),E10),\"[$-107041E]d mmmm yyyy;@\")","v":"เนื่องด้วย สาขาสมุทรปราการ มีจำนวน 8 สายวิ่ง มีความประสงค์ขอเพิ่ม-ลดสินค้า เพื่อจัดจำหน่ายในวันที่ 1 สิงหาคม 2566"}]
[null,"โดยมีรายละเอียดดังนี้"]
[]
[null,null,null,{"$f":"\"วัน\"&TEXT(DATE(YEAR($G$10),MATCH($F$10,Month_List,0),$E$10),\"[$-107041E]dddd\")","v":"วันอังคาร"},"เปลี่ยนแปลง (ถาด)"]
[null,"ลำดับ","รายการสินค้า","น้ำหนัก","เพิ่ม(+)","ลด(-)","หมายเหตุ",null,null,null,null,null,null,null,"วันที่","สาขา","ประเภท","รายการสินค้า","จำนวนถาด","เกิน (ชิ้น)"]
[null,"No.","Items","Net.Weight","Increase","Decrease","Remark",null,null,"Check","Unselect_PD",null,null,"Index","Date","Branch","Type","Products","Qty-Tray","Excess-Pcs"]
[null,{"$f":"IF($C20=\"\",\"\",MAX($B$19:$B19)+1)","v":1},"16-โมจิไส้ถั่ว",null,5,null,null,null,null,{"$f":"IF(OR(E20<>\"\",F20<>\"\"),E20-F20,0)","v":5},{"$f":"IFERROR(INDEX(Adj_Product_List,_xlfn.AGGREGATE(15,6,(ROW(INDIRECT(\"A1:A\"&ROWS(Adj_Product_List))))/(NOT(ISNUMBER(MATCH(Adj_Product_List,Selected_PD,0)))),ROWS($20:20))),\"\")","v":"01-ขนมปังหมูหยองน้ำสลัด"},null,null,{"$f":"IFERROR(_xlfn.AGGREGATE(15,6,(ROW($C$20:$C$59)-ROW($C$19))/(($C$20:$C$59<>\"\")*($J$20:$J$59<>0)),ROWS($N$20:$N20)),\"\")","v":1},{"$f":"IF($N20=\"\",\"\",DATE(YEAR($G$10),MATCH($F$10,Month_List,0),$E$10))","v":"2023-08-01"},{"$f":"IF($N20<>\"\",BranchCode,\"\")","v":"10-SK"},{"$f":"IF($P20=\"\",\"\",IF(INDEX($J$20:$J$59,$N20)<0,\"รับ\",\"จ่าย\"))","v":"จ่าย"},{"$f":"IFERROR(INDEX($C$20:$C$75,$N20),\"\")","v":"16-โมจิไส้ถั่ว"},{"$f":"IFERROR(ROUND(ABS(INDEX($J$20:$J$59,$N20)),0),\"\")","v":5}]
[null,{"$f":"IF($C21=\"\",\"\",MAX($B$19:$B20)+1)","v":2},"15-ขนมปังชนิดแผ่น(480กรัม)",null,6,null,null,null,null,{"$f":"IF(OR(E21<>\"\",F21<>\"\"),E21-F21,0)","v":6},{"$f":"IFERROR(INDEX(Adj_Product_List,_xlfn.AGGREGATE(15,6,(ROW(INDIRECT(\"A1:A\"&ROWS(Adj_Product_List))))/(NOT(ISNUMBER(MATCH(Adj_Product_List,Selected_PD,0)))),ROWS($20:21))),\"\")","v":"02-ขนมปังหมูหยองน้ำพริกเผา"},null,null,{"$f":"IFERROR(_xlfn.AGGREGATE(15,6,(ROW($C$20:$C$59)-ROW($C$19))/(($C$20:$C$59<>\"\")*($J$20:$J$59<>0)),ROWS($N$20:$N21)),\"\")","v":2},"2023-08-01","10-SK",{"$f":"IF($P21=\"\",\"\",IF(INDEX($J$20:$J$59,$N21)<0,\"รับ\",\"จ่าย\"))","v":"จ่าย"},"15-ขนมปังชนิดแผ่น(480กรัม)",{"$f":"IFERROR(ROUND(ABS(INDEX($J$20:$J$59,$N21)),0),\"\")","v":6}]
[null,{"$f":"IF($C22=\"\",\"\",MAX($B$19:$B21)+1)","v":3},"18-โมจิไส้ถั่วไข่เค็ม",null,10,null,null,null,null,10,{"$f":"IFERROR(INDEX(Adj_Product_List,_xlfn.AGGREGATE(15,6,(ROW(INDIRECT(\"A1:A\"&ROWS(Adj_Product_List))))/(NOT(ISNUMBER(MATCH(Adj_Product_List,Selected_PD,0)))),ROWS($20:22))),\"\")","v":"03-ขนมปังไก่หยองน้ำสลัด"},null,null,{"$f":"IFERROR(_xlfn.AGGREGATE(15,6,(ROW($C$20:$C$59)-ROW($C$19))/(($C$20:$C$59<>\"\")*($J$20:$J$59<>0)),ROWS($N$20:$N22)),\"\")","v":3},"2023-08-01","10-SK","จ่าย","18-โมจิไส้ถั่วไข่เค็ม",10]
[null,{"$f":"IF($C23=\"\",\"\",MAX($B$19:$B22)+1)","v":""},null,null,null,null,null,null,null,0,{"$f":"IFERROR(INDEX(Adj_Product_List,_xlfn.AGGREGATE(15,6,(ROW(INDIRECT(\"A1:A\"&ROWS(Adj_Product_List))))/(NOT(ISNUMBER(MATCH(Adj_Product_List,Selected_PD,0)))),ROWS($20:23))),\"\")","v":"04-ขนมปังไส้ครีมสลัด"},null,null,{"$f":"IFERROR(_xlfn.AGGREGATE(15,6,(ROW($C$20:$C$59)-ROW($C$19))/(($C$20:$C$59<>\"\")*($J$20:$J$59<>0)),ROWS($N$20:$N23)),\"\")","v":""},"","","","",""]
[null,{"$f":"IF($C24=\"\",\"\",MAX($B$19:$B23)+1)","v":""},null,null,null,null,null,null,null,0,{"$f":"IFERROR(INDEX(Adj_Product_List,_xlfn.AGGREGATE(15,6,(ROW(INDIRECT(\"A1:A\"&ROWS(Adj_Product_List))))/(NOT(ISNUMBER(MATCH(Adj_Product_List,Selected_PD,0)))),ROWS($20:24))),\"\")","v":"05-ขนมปังเนยสด"},null,null,{"$f":"IFERROR(_xlfn.AGGREGATE(15,6,(ROW($C$20:$C$59)-ROW($C$19))/(($C$20:$C$59<>\"\")*($J$20:$J$59<>0)),ROWS($N$20:$N24)),\"\")","v":""},"","","","",""]
[null,{"$f":"IF($C25=\"\",\"\",MAX($B$19:$B24)+1)","v":""},null,null,null,null,null,null,null,0,{"$f":"IFERROR(INDEX(Adj_Product_List,_xlfn.AGGREGATE(15,6,(ROW(INDIRECT(\"A1:A\"&ROWS(Adj_Product_List))))/(NOT(ISNUMBER(MATCH(Adj_Product_List,Selected_PD,0)))),ROWS($20:25))),\"\")","v":"06-ขนมปังไส้สังขยาเล็ก"},null,null,{"$f":"IFERROR(_xlfn.AGGREGATE(15,6,(ROW($C$20:$C$59)-ROW($C$19))/(($C$20:$C$59<>\"\")*($J$20:$J$59<>0)),ROWS($N$20:$N25)),\"\")","v":""},"","","","",""]
[null,{"$f":"IF($C26=\"\",\"\",MAX($B$19:$B25)+1)","v":""},null,null,null,null,null,null,null,0,{"$f":"IFERROR(INDEX(Adj_Product_List,_xlfn.AGGREGATE(15,6,(ROW(INDIRECT(\"A1:A\"&ROWS(Adj_Product_List))))/(NOT(ISNUMBER(MATCH(Adj_Product_List,Selected_PD,0)))),ROWS($20:26))),\"\")","v":"07-ขนมปังไส้เผือก"},null,null,{"$f":"IFERROR(_xlfn.AGGREGATE(15,6,(ROW($C$20:$C$59)-ROW($C$19))/(($C$20:$C$59<>\"\")*($J$20:$J$59<>0)),ROWS($N$20:$N26)),\"\")","v":""},"","","","",""]
[null,{"$f":"IF($C27=\"\",\"\",MAX($B$19:$B26)+1)","v":""},null,null,null,null,null,null,null,0,{"$f":"IFERROR(INDEX(Adj_Product_List,_xlfn.AGGREGATE(15,6,(ROW(INDIRECT(\"A1:A\"&ROWS(Adj_Product_List))))/(NOT(ISNUMBER(MATCH(Adj_Product_List,Selected_PD,0)))),ROWS($20:27))),\"\")","v":"08-ขนมปังไส้ถั่วแดง"},null,null,{"$f":"IFERROR(_xlfn.AGGREGATE(15,6,(ROW($C$20:$C$59)-ROW($C$19))/(($C$20:$C$59<>\"\")*($J$20:$J$59<>0)),ROWS($N$20:$N27)),\"\")","v":""},"","","","",""]
[null,{"$f":"IF($C28=\"\",\"\",MAX($B$19:$B27)+1)","v":""},null,null,null,null,null,null,null,0,{"$f":"IFERROR(INDEX(Adj_Product_List,_xlfn.AGGREGATE(15,6,(ROW(INDIRECT(\"A1:A\"&ROWS(Adj_Product_List))))/(NOT(ISNUMBER(MATCH(Adj_Product_List,Selected_PD,0)))),ROWS($20:28))),\"\")","v":"09-ขนมปังไส้ถั่วดำ"},null,null,{"$f":"IFERROR(_xlfn.AGGREGATE(15,6,(ROW($C$20:$C$59)-ROW($C$19))/(($C$20:$C$59<>\"\")*($J$20:$J$59<>0)),ROWS($N$20:$N28)),\"\")","v":""},"","","","",""]
[null,{"$f":"IF($C29=\"\",\"\",MAX($B$19:$B28)+1)","v":""},null,null,null,null,null,null,null,0,{"$f":"IFERROR(INDEX(Adj_Product_List,_xlfn.AGGREGATE(15,6,(ROW(INDIRECT(\"A1:A\"&ROWS(Adj_Product_List))))/(NOT(ISNUMBER(MATCH(Adj_Product_List,Selected_PD,0)))),ROWS($20:29))),\"\")","v":"10-ขนมปังไส้มันม่วง"},null,null,{"$f":"IFERROR(_xlfn.AGGREGATE(15,6,(ROW($C$20:$C$59)-ROW($C$19))/(($C$20:$C$59<>\"\")*($J$20:$J$59<>0)),ROWS($N$20:$N29)),\"\")","v":""},"","","","",""]
[null,{"$f":"IF($C30=\"\",\"\",MAX($B$19:$B29)+1)","v":""},null,null,null,null,null,null,null,0,{"$f":"IFERROR(INDEX(Adj_Product_List,_xlfn.AGGREGATE(15,6,(ROW(INDIRECT(\"A1:A\"&ROWS(Adj_Product_List))))/(NOT(ISNUMBER(MATCH(Adj_Product_List,Selected_PD,0)))),ROWS($20:30))),\"\")","v":"11-เค้กกล้วยหอม"},null,null,{"$f":"IFERROR(_xlfn.AGGREGATE(15,6,(ROW($C$20:$C$59)-ROW($C$19))/(($C$20:$C$59<>\"\")*($J$20:$J$59<>0)),ROWS($N$20:$N30)),\"\")","v":""},"","","","",""]
[null,{"$f":"IF($C31=\"\",\"\",MAX($B$19:$B30)+1)","v":""},null,null,null,null,null,null,null,0,{"$f":"IFERROR(INDEX(Adj_Product_List,_xlfn.AGGREGATE(15,6,(ROW(INDIRECT(\"A1:A\"&ROWS(Adj_Product_List))))/(NOT(ISNUMBER(MATCH(Adj_Product_List,Selected_PD,0)))),ROWS($20:31))),\"\")","v":"12-เค้กบัตเตอร์"},null,null,{"$f":"IFERROR(_xlfn.AGGREGATE(15,6,(ROW($C$20:$C$59)-ROW($C$19))/(($C$20:$C$59<>\"\")*($J$20:$J$59<>0)),ROWS($N$20:$N31)),\"\")","v":""},"","","","",""]
[null,{"$f":"IF($C32=\"\",\"\",MAX($B$19:$B31)+1)","v":""},null,null,null,null,null,null,null,0,{"$f":"IFERROR(INDEX(Adj_Product_List,_xlfn.AGGREGATE(15,6,(ROW(INDIRECT(\"A1:A\"&ROWS(Adj_Product_List))))/(NOT(ISNUMBER(MATCH(Adj_Product_List,Selected_PD,0)))),ROWS($20:32))),\"\")","v":"13-ขนมปังโรลถั่วแดง"},null,null,{"$f":"IFERROR(_xlfn.AGGREGATE(15,6,(ROW($C$20:$C$59)-ROW($C$19))/(($C$20:$C$59<>\"\")*($J$20:$J$59<>0)),ROWS($N$20:$N32)),\"\")","v":""},"","","","",""]
[null,{"$f":"IF($C33=\"\",\"\",MAX($B$19:$B32)+1)","v":""},null,null,null,null,null,null,null,0,{"$f":"IFERROR(INDEX(Adj_Product_List,_xlfn.AGGREGATE(15,6,(ROW(INDIRECT(\"A1:A\"&ROWS(Adj_Product_List))))/(NOT(ISNUMBER(MATCH(Adj_Product_List,Selected_PD,0)))),ROWS($20:33))),\"\")","v":"14-ขนมปังไส้สังขยาใหญ่"},null,null,{"$f":"IFERROR(_xlfn.AGGREGATE(15,6,(ROW($C$20:$C$59)-ROW($C$19))/(($C$20:$C$59<>\"\")*($J$20:$J$59<>0)),ROWS($N$20:$N33)),\"\")","v":""},"","","","",""]
[null,{"$f":"IF($C34=\"\",\"\",MAX($B$19:$B33)+1)","v":""},null,null,null,null,null,null,null,0,{"$f":"IFERROR(INDEX(Adj_Product_List,_xlfn.AGGREGATE(15,6,(ROW(INDIRECT(\"A1:A\"&ROWS(Adj_Product_List))))/(NOT(ISNUMBER(MATCH(Adj_Product_List,Selected_PD,0)))),ROWS($20:34))),\"\")","v":"17-โมจิไส้เผือก"},null,null,{"$f":"IFERROR(_xlfn.AGGREGATE(15,6,(ROW($C$20:$C$59)-ROW($C$19))/(($C$20:$C$59<>\"\")*($J$20:$J$59<>0)),ROWS($N$20:$N34)),\"\")","v":""},"","","","",""]
[null,{"$f":"IF($C35=\"\",\"\",MAX($B$19:$B34)+1)","v":""},null,null,null,null,null,null,null,0,{"$f":"IFERROR(INDEX(Adj_Product_List,_xlfn.AGGREGATE(15,6,(ROW(INDIRECT(\"A1:A\"&ROWS(Adj_Product_List))))/(NOT(ISNUMBER(MATCH(Adj_Product_List,Selected_PD,0)))),ROWS($20:35))),\"\")","v":"21-ขนมปังไส้กรอก"},null,null,{"$f":"IFERROR(_xlfn.AGGREGATE(15,6,(ROW($C$20:$C$59)-ROW($C$19))/(($C$20:$C$59<>\"\")*($J$20:$J$59<>0)),ROWS($N$20:$N35)),\"\")","v":""},"","","","",""]
[null,{"$f":"IF($C36=\"\",\"\",MAX($B$19:$B35)+1)","v":""},null,null,null,null,null,null,null,0,{"$f":"IFERROR(INDEX(Adj_Product_List,_xlfn.AGGREGATE(15,6,(ROW(INDIRECT(\"A1:A\"&ROWS(Adj_Product_List))))/(NOT(ISNUMBER(MATCH(Adj_Product_List,Selected_PD,0)))),ROWS($20:36))),\"\")","v":"22-ขนมก้านบัว"},null,null,{"$f":"IFERROR(_xlfn.AGGREGATE(15,6,(ROW($C$20:$C$59)-ROW($C$19))/(($C$20:$C$59<>\"\")*($J$20:$J$59<>0)),ROWS($N$20:$N36)),\"\")","v":""},"","","","",""]
[null,{"$f":"IF($C37=\"\",\"\",MAX($B$19:$B36)+1)","v":""},null,null,null,null,null,null,null,0,{"$f":"IFERROR(INDEX(Adj_Product_List,_xlfn.AGGREGATE(15,6,(ROW(INDIRECT(\"A1:A\"&ROWS(Adj_Product_List))))/(NOT(ISNUMBER(MATCH(Adj_Product_List,Selected_PD,0)))),ROWS($20:37))),\"\")","v":"25-ปังกรอบเนยสด"},null,null,{"$f":"IFERROR(_xlfn.AGGREGATE(15,6,(ROW($C$20:$C$59)-ROW($C$19))/(($C$20:$C$59<>\"\")*($J$20:$J$59<>0)),ROWS($N$20:$N37)),\"\")","v":""},"","","","",""]
[null,{"$f":"IF($C38=\"\",\"\",MAX($B$19:$B37)+1)","v":""},null,null,null,null,null,null,null,0,{"$f":"IFERROR(INDEX(Adj_Product_List,_xlfn.AGGREGATE(15,6,(ROW(INDIRECT(\"A1:A\"&ROWS(Adj_Product_List))))/(NOT(ISNUMBER(MATCH(Adj_Product_List,Selected_PD,0)))),ROWS($20:38))),\"\")","v":"26-ปังกรอบกระเทียม"},null,null,{"$f":"IFERROR(_xlfn.AGGREGATE(15,6,(ROW($C$20:$C$59)-ROW($C$19))/(($C$20:$C$59<>\"\")*($J$20:$J$59<>0)),ROWS($N$20:$N38)),\"\")","v":""},"","","","",""]
[null,{"$f":"IF($C39=\"\",\"\",MAX($B$19:$B38)+1)","v":""},null,null,null,null,null,null,null,0,{"$f":"IFERROR(INDEX(Adj_Product_List,_xlfn.AGGREGATE(15,6,(ROW(INDIRECT(\"A1:A\"&ROWS(Adj_Product_List))))/(NOT(ISNUMBER(MATCH(Adj_Product_List,Selected_PD,0)))),ROWS($20:39))),\"\")","v":"30-ขนมปังโรลมันเทศ"},null,null,{"$f":"IFERROR(_xlfn.AGGREGATE(15,6,(ROW($C$20:$C$59)-ROW($C$19))/(($C$20:$C$59<>\"\")*($J$20:$J$59<>0)),ROWS($N$20:$N39)),\"\")","v":""},"","","","",""]
[null,{"$f":"IF($C40=\"\",\"\",MAX($B$19:$B39)+1)","v":""},null,null,null,null,null,null,null,0,{"$f":"IFERROR(INDEX(Adj_Product_List,_xlfn.AGGREGATE(15,6,(ROW(INDIRECT(\"A1:A\"&ROWS(Adj_Product_List))))/(NOT(ISNUMBER(MATCH(Adj_Product_List,Selected_PD,0)))),ROWS($20:40))),\"\")","v":"31-ขนมปังไส้ครีมสลัดน้ำพริกเผา"},null,null,{"$f":"IFERROR(_xlfn.AGGREGATE(15,6,(ROW($C$20:$C$59)-ROW($C$19))/(($C$20:$C$59<>\"\")*($J$20:$J$59<>0)),ROWS($N$20:$N40)),\"\")","v":""},"","","","",""]
[null,{"$f":"IF($C41=\"\",\"\",MAX($B$19:$B40)+1)","v":""},null,null,null,null,null,null,null,0,{"$f":"IFERROR(INDEX(Adj_Product_List,_xlfn.AGGREGATE(15,6,(ROW(INDIRECT(\"A1:A\"&ROWS(Adj_Product_List))))/(NOT(ISNUMBER(MATCH(Adj_Product_List,Selected_PD,0)))),ROWS($20:41))),\"\")","v":"32-ขนมปังไส้สังขยาไข่"},null,null,{"$f":"IFERROR(_xlfn.AGGREGATE(15,6,(ROW($C$20:$C$59)-ROW($C$19))/(($C$20:$C$59<>\"\")*($J$20:$J$59<>0)),ROWS($N$20:$N41)),\"\")","v":""},"","","","",""]
[null,{"$f":"IF($C42=\"\",\"\",MAX($B$19:$B41)+1)","v":""},null,null,null,null,null,null,null,0,{"$f":"IFERROR(INDEX(Adj_Product_List,_xlfn.AGGREGATE(15,6,(ROW(INDIRECT(\"A1:A\"&ROWS(Adj_Product_List))))/(NOT(ISNUMBER(MATCH(Adj_Product_List,Selected_PD,0)))),ROWS($20:42))),\"\")","v":"33-ขนมปังไส้สังขยามะพร้าว"},null,null,{"$f":"IFERROR(_xlfn.AGGREGATE(15,6,(ROW($C$20:$C$59)-ROW($C$19))/(($C$20:$C$59<>\"\")*($J$20:$J$59<>0)),ROWS($N$20:$N42)),\"\")","v":""},"","","","",""]
[null,{"$f":"IF($C43=\"\",\"\",MAX($B$19:$B42)+1)","v":""},null,null,null,null,null,null,null,0,{"$f":"IFERROR(INDEX(Adj_Product_List,_xlfn.AGGREGATE(15,6,(ROW(INDIRECT(\"A1:A\"&ROWS(Adj_Product_List))))/(NOT(ISNUMBER(MATCH(Adj_Product_List,Selected_PD,0)))),ROWS($20:43))),\"\")","v":"34-ขนมปังไส้ครีมชาไทย"},null,null,{"$f":"IFERROR(_xlfn.AGGREGATE(15,6,(ROW($C$20:$C$59)-ROW($C$19))/(($C$20:$C$59<>\"\")*($J$20:$J$59<>0)),ROWS($N$20:$N43)),\"\")","v":""},"","","","",""]
[null,{"$f":"IF($C44=\"\",\"\",MAX($B$19:$B43)+1)","v":""},null,null,null,null,null,null,null,0,{"$f":"IFERROR(INDEX(Adj_Product_List,_xlfn.AGGREGATE(15,6,(ROW(INDIRECT(\"A1:A\"&ROWS(Adj_Product_List))))/(NOT(ISNUMBER(MATCH(Adj_Product_List,Selected_PD,0)))),ROWS($20:44))),\"\")","v":"36-ขนมปังโรลมันม่วง"},null,null,{"$f":"IFERROR(_xlfn.AGGREGATE(15,6,(ROW($C$20:$C$59)-ROW($C$19))/(($C$20:$C$59<>\"\")*($J$20:$J$59<>0)),ROWS($N$20:$N44)),\"\")","v":""},"","","","",""]
[null,null,null,null,null,null,null,null,null,0,{"$f":"IFERROR(INDEX(Adj_Product_List,_xlfn.AGGREGATE(15,6,(ROW(INDIRECT(\"A1:A\"&ROWS(Adj_Product_List))))/(NOT(ISNUMBER(MATCH(Adj_Product_List,Selected_PD,0)))),ROWS($20:45))),\"\")","v":"37-ขนมปังโรลช็อกโกแลต"},null,null,{"$f":"IFERROR(_xlfn.AGGREGATE(15,6,(ROW($C$20:$C$59)-ROW($C$19))/(($C$20:$C$59<>\"\")*($J$20:$J$59<>0)),ROWS($N$20:$N45)),\"\")","v":""},"","","","",{"$f":"IFERROR(ROUND(ABS(INDEX($J$20:$J$59,$N45)),0),\"\")","v":""}]
[null,null,null,null,null,null,null,null,null,0,{"$f":"IFERROR(INDEX(Adj_Product_List,_xlfn.AGGREGATE(15,6,(ROW(INDIRECT(\"A1:A\"&ROWS(Adj_Product_List))))/(NOT(ISNUMBER(MATCH(Adj_Product_List,Selected_PD,0)))),ROWS($20:46))),\"\")","v":"38-ขนมปังชนิดแผ่น(155กรัม)"},null,null,{"$f":"IFERROR(_xlfn.AGGREGATE(15,6,(ROW($C$20:$C$59)-ROW($C$19))/(($C$20:$C$59<>\"\")*($J$20:$J$59<>0)),ROWS($N$20:$N46)),\"\")","v":""},"","","","",""]
[null,null,null,null,null,null,null,null,null,0,{"$f":"IFERROR(INDEX(Adj_Product_List,_xlfn.AGGREGATE(15,6,(ROW(INDIRECT(\"A1:A\"&ROWS(Adj_Product_List))))/(NOT(ISNUMBER(MATCH(Adj_Product_List,Selected_PD,0)))),ROWS($20:47))),\"\")","v":"39-ขนมปังโรลเผือก"},null,null,{"$f":"IFERROR(_xlfn.AGGREGATE(15,6,(ROW($C$20:$C$59)-ROW($C$19))/(($C$20:$C$59<>\"\")*($J$20:$J$59<>0)),ROWS($N$20:$N47)),\"\")","v":""},"","","","",""]
[null,null,null,null,null,null,null,null,null,0,{"$f":"IFERROR(INDEX(Adj_Product_List,_xlfn.AGGREGATE(15,6,(ROW(INDIRECT(\"A1:A\"&ROWS(Adj_Product_List))))/(NOT(ISNUMBER(MATCH(Adj_Product_List,Selected_PD,0)))),ROWS($20:48))),\"\")","v":"40-ขนมปังไก่หยองน้ำสลัด Mini"},null,null,{"$f":"IFERROR(_xlfn.AGGREGATE(15,6,(ROW($C$20:$C$59)-ROW($C$19))/(($C$20:$C$59<>\"\")*($J$20:$J$59<>0)),ROWS($N$20:$N48)),\"\")","v":""},"","","","",""]
[null,null,null,null,null,null,null,null,null,0,{"$f":"IFERROR(INDEX(Adj_Product_List,_xlfn.AGGREGATE(15,6,(ROW(INDIRECT(\"A1:A\"&ROWS(Adj_Product_List))))/(NOT(ISNUMBER(MATCH(Adj_Product_List,Selected_PD,0)))),ROWS($20:49))),\"\")","v":"41-ขนมปังไส้ช็อกโกแลต"},null,null,{"$f":"IFERROR(_xlfn.AGGREGATE(15,6,(ROW($C$20:$C$59)-ROW($C$19))/(($C$20:$C$59<>\"\")*($J$20:$J$59<>0)),ROWS($N$20:$N49)),\"\")","v":""},"","","","",""]
[null,null,null,null,null,null,null,null,null,0,{"$f":"IFERROR(INDEX(Adj_Product_List,_xlfn.AGGREGATE(15,6,(ROW(INDIRECT(\"A1:A\"&ROWS(Adj_Product_List))))/(NOT(ISNUMBER(MATCH(Adj_Product_List,Selected_PD,0)))),ROWS($20:50))),\"\")","v":"42-ขนมปังไส้ครีมสังขยาไข่"},null,null,{"$f":"IFERROR(_xlfn.AGGREGATE(15,6,(ROW($C$20:$C$59)-ROW($C$19))/(($C$20:$C$59<>\"\")*($J$20:$J$59<>0)),ROWS($N$20:$N50)),\"\")","v":""},"","","","",""]
[null,null,null,null,null,null,null,null,null,0,{"$f":"IFERROR(INDEX(Adj_Product_List,_xlfn.AGGREGATE(15,6,(ROW(INDIRECT(\"A1:A\"&ROWS(Adj_Product_List))))/(NOT(ISNUMBER(MATCH(Adj_Product_List,Selected_PD,0)))),ROWS($20:51))),\"\")","v":"48-ขนมปังชนิดแผ่นโฮลวีต"},null,null,{"$f":"IFERROR(_xlfn.AGGREGATE(15,6,(ROW($C$20:$C$59)-ROW($C$19))/(($C$20:$C$59<>\"\")*($J$20:$J$59<>0)),ROWS($N$20:$N51)),\"\")","v":""},"","","","",""]
[null,null,null,null,null,null,null,null,null,0,{"$f":"IFERROR(INDEX(Adj_Product_List,_xlfn.AGGREGATE(15,6,(ROW(INDIRECT(\"A1:A\"&ROWS(Adj_Product_List))))/(NOT(ISNUMBER(MATCH(Adj_Product_List,Selected_PD,0)))),ROWS($20:52))),\"\")","v":"49-เค้กโรลใบเตย"},null,null,{"$f":"IFERROR(_xlfn.AGGREGATE(15,6,(ROW($C$20:$C$59)-ROW($C$19))/(($C$20:$C$59<>\"\")*($J$20:$J$59<>0)),ROWS($N$20:$N52)),\"\")","v":""},"","","","",""]
[null,null,null,null,null,null,null,null,null,0,{"$f":"IFERROR(INDEX(Adj_Product_List,_xlfn.AGGREGATE(15,6,(ROW(INDIRECT(\"A1:A\"&ROWS(Adj_Product_List))))/(NOT(ISNUMBER(MATCH(Adj_Product_List,Selected_PD,0)))),ROWS($20:53))),\"\")","v":""},null,null,{"$f":"IFERROR(_xlfn.AGGREGATE(15,6,(ROW($C$20:$C$59)-ROW($C$19))/(($C$20:$C$59<>\"\")*($J$20:$J$59<>0)),ROWS($N$20:$N53)),\"\")","v":""},"","","","",""]
[null,null,null,null,null,null,null,null,null,0,{"$f":"IFERROR(INDEX(Adj_Product_List,_xlfn.AGGREGATE(15,6,(ROW(INDIRECT(\"A1:A\"&ROWS(Adj_Product_List))))/(NOT(ISNUMBER(MATCH(Adj_Product_List,Selected_PD,0)))),ROWS($20:54))),\"\")","v":""},null,null,{"$f":"IFERROR(_xlfn.AGGREGATE(15,6,(ROW($C$20:$C$59)-ROW($C$19))/(($C$20:$C$59<>\"\")*($J$20:$J$59<>0)),ROWS($N$20:$N54)),\"\")","v":""},"","","","",""]
[null,null,null,null,null,null,null,null,null,0,{"$f":"IFERROR(INDEX(Adj_Product_List,_xlfn.AGGREGATE(15,6,(ROW(INDIRECT(\"A1:A\"&ROWS(Adj_Product_List))))/(NOT(ISNUMBER(MATCH(Adj_Product_List,Selected_PD,0)))),ROWS($20:55))),\"\")","v":""},null,null,{"$f":"IFERROR(_xlfn.AGGREGATE(15,6,(ROW($C$20:$C$59)-ROW($C$19))/(($C$20:$C$59<>\"\")*($J$20:$J$59<>0)),ROWS($N$20:$N55)),\"\")","v":""},"","","","",""]
[null,null,null,null,null,null,null,null,null,0,{"$f":"IFERROR(INDEX(Adj_Product_List,_xlfn.AGGREGATE(15,6,(ROW(INDIRECT(\"A1:A\"&ROWS(Adj_Product_List))))/(NOT(ISNUMBER(MATCH(Adj_Product_List,Selected_PD,0)))),ROWS($20:56))),\"\")","v":""},null,null,{"$f":"IFERROR(_xlfn.AGGREGATE(15,6,(ROW($C$20:$C$59)-ROW($C$19))/(($C$20:$C$59<>\"\")*($J$20:$J$59<>0)),ROWS($N$20:$N56)),\"\")","v":""},"","","","",""]
[null,null,null,null,null,null,null,null,null,0,{"$f":"IFERROR(INDEX(Adj_Product_List,_xlfn.AGGREGATE(15,6,(ROW(INDIRECT(\"A1:A\"&ROWS(Adj_Product_List))))/(NOT(ISNUMBER(MATCH(Adj_Product_List,Selected_PD,0)))),ROWS($20:57))),\"\")","v":""},null,null,{"$f":"IFERROR(_xlfn.AGGREGATE(15,6,(ROW($C$20:$C$59)-ROW($C$19))/(($C$20:$C$59<>\"\")*($J$20:$J$59<>0)),ROWS($N$20:$N57)),\"\")","v":""},"","","","",""]
[null,null,null,null,null,null,null,null,null,0,{"$f":"IFERROR(INDEX(Adj_Product_List,_xlfn.AGGREGATE(15,6,(ROW(INDIRECT(\"A1:A\"&ROWS(Adj_Product_List))))/(NOT(ISNUMBER(MATCH(Adj_Product_List,Selected_PD,0)))),ROWS($20:58))),\"\")","v":""},null,null,{"$f":"IFERROR(_xlfn.AGGREGATE(15,6,(ROW($C$20:$C$59)-ROW($C$19))/(($C$20:$C$59<>\"\")*($J$20:$J$59<>0)),ROWS($N$20:$N58)),\"\")","v":""},"","","","",""]
[null,null,null,null,null,null,null,null,null,0,{"$f":"IFERROR(INDEX(Adj_Product_List,_xlfn.AGGREGATE(15,6,(ROW(INDIRECT(\"A1:A\"&ROWS(Adj_Product_List))))/(NOT(ISNUMBER(MATCH(Adj_Product_List,Selected_PD,0)))),ROWS($20:59))),\"\")","v":""},null,null,{"$f":"IFERROR(_xlfn.AGGREGATE(15,6,(ROW($C$20:$C$59)-ROW($C$19))/(($C$20:$C$59<>\"\")*($J$20:$J$59<>0)),ROWS($N$20:$N59)),\"\")","v":""},"","","","",""]
[null,"รวมทั้งสิ้น (ถาด)",null,null,{"$f":"SUMIF($Q$20:$Q$59,\"จ่าย\",$S$20:$S$59)","v":21},{"$f":"SUMIF($Q$20:$Q$59,\"รับ\",$S$20:$S$59)","v":0},null,null,null,null,{"$f":"IFERROR(INDEX(Adj_Product_List,_xlfn.AGGREGATE(15,6,(ROW(INDIRECT(\"A1:A\"&ROWS(Adj_Product_List))))/(NOT(ISNUMBER(MATCH(Adj_Product_List,Selected_PD,0)))),ROWS($20:60))),\"\")","v":""}]
[null,null,null,null,null,null,null,null,null,null,{"$f":"IFERROR(INDEX(Adj_Product_List,_xlfn.AGGREGATE(15,6,(ROW(INDIRECT(\"A1:A\"&ROWS(Adj_Product_List))))/(NOT(ISNUMBER(MATCH(Adj_Product_List,Selected_PD,0)))),ROWS($20:61))),\"\")","v":""}]
[null,null,null,null,null,null,null,null,null,null,{"$f":"IFERROR(INDEX(Adj_Product_List,_xlfn.AGGREGATE(15,6,(ROW(INDIRECT(\"A1:A\"&ROWS(Adj_Product_List))))/(NOT(ISNUMBER(MATCH(Adj_Product_List,Selected_PD,0)))),ROWS($20:62))),\"\")","v":""}]
[null,null,null,null,null,"ขอแสดงความนับถือ",null,null,null,null,{"$f":"IFERROR(INDEX(Adj_Product_List,_xlfn.AGGREGATE(15,6,(ROW(INDIRECT(\"A1:A\"&ROWS(Adj_Product_List))))/(NOT(ISNUMBER(MATCH(Adj_Product_List,Selected_PD,0)))),ROWS($20:63))),\"\")","v":""}]
[null,null,null,null,null,null,null,null,null,null,{"$f":"IFERROR(INDEX(Adj_Product_List,_xlfn.AGGREGATE(15,6,(ROW(INDIRECT(\"A1:A\"&ROWS(Adj_Product_List))))/(NOT(ISNUMBER(MATCH(Adj_Product_List,Selected_PD,0)))),ROWS($20:64))),\"\")","v":""}]
[null,null,null,null,null,null,null,null,null,null,{"$f":"IFERROR(INDEX(Adj_Product_List,_xlfn.AGGREGATE(15,6,(ROW(INDIRECT(\"A1:A\"&ROWS(Adj_Product_List))))/(NOT(ISNUMBER(MATCH(Adj_Product_List,Selected_PD,0)))),ROWS($20:65))),\"\")","v":""}]
[null,null,null,null,null,"-----------------------------------------------------",null,null,null,null,{"$f":"IFERROR(INDEX(Adj_Product_List,_xlfn.AGGREGATE(15,6,(ROW(INDIRECT(\"A1:A\"&ROWS(Adj_Product_List))))/(NOT(ISNUMBER(MATCH(Adj_Product_List,Selected_PD,0)))),ROWS($20:66))),\"\")","v":""}]
[null,null,null,null,null,{"$f":"\"( \"&INDEX(GB_Branches[Manager],MATCH(BranchCode,GB_Branches[Code],0))&\" )\"","v":"( นายภูริวัจน์ จันทร์กลับ )"},null,null,null,null,{"$f":"IFERROR(INDEX(Adj_Product_List,_xlfn.AGGREGATE(15,6,(ROW(INDIRECT(\"A1:A\"&ROWS(Adj_Product_List))))/(NOT(ISNUMBER(MATCH(Adj_Product_List,Selected_PD,0)))),ROWS($20:67))),\"\")","v":""}]
[null,null,null,null,null,{"$f":"\"ผู้จัดการสาขา\"&B_Name","v":"ผู้จัดการสาขาสมุทรปราการ"},null,null,null,null,{"$f":"IFERROR(INDEX(Adj_Product_List,_xlfn.AGGREGATE(15,6,(ROW(INDIRECT(\"A1:A\"&ROWS(Adj_Product_List))))/(NOT(ISNUMBER(MATCH(Adj_Product_List,Selected_PD,0)))),ROWS($20:68))),\"\")","v":""}]
[null,null,null,null,null,null,null,null,null,null,{"$f":"IFERROR(INDEX(Adj_Product_List,_xlfn.AGGREGATE(15,6,(ROW(INDIRECT(\"A1:A\"&ROWS(Adj_Product_List))))/(NOT(ISNUMBER(MATCH(Adj_Product_List,Selected_PD,0)))),ROWS($20:69))),\"\")","v":""}]
[null,null,null,null,null,null,null,null,null,null,{"$f":"IFERROR(INDEX(Adj_Product_List,_xlfn.AGGREGATE(15,6,(ROW(INDIRECT(\"A1:A\"&ROWS(Adj_Product_List))))/(NOT(ISNUMBER(MATCH(Adj_Product_List,Selected_PD,0)))),ROWS($20:70))),\"\")","v":""}]
[null,null,null,null,null,"-----------------------------------------------------",null,null,null,null,{"$f":"IFERROR(INDEX(Adj_Product_List,_xlfn.AGGREGATE(15,6,(ROW(INDIRECT(\"A1:A\"&ROWS(Adj_Product_List))))/(NOT(ISNUMBER(MATCH(Adj_Product_List,Selected_PD,0)))),ROWS($20:71))),\"\")","v":""}]
[null,null,null,null,null,{"$f":"\"( \"&INDEX(GB_Branches[Regional Manager],MATCH(BranchCode,GB_Branches[Code],0))&\" )\"","v":"( นายวุฒิพงศ์ ชาตรี )"},null,null,null,null,{"$f":"IFERROR(INDEX(Adj_Product_List,_xlfn.AGGREGATE(15,6,(ROW(INDIRECT(\"A1:A\"&ROWS(Adj_Product_List))))/(NOT(ISNUMBER(MATCH(Adj_Product_List,Selected_PD,0)))),ROWS($20:72))),\"\")","v":""}]
[null,null,null,null,null,"ผู้จัดการภาค",null,null,null,null,{"$f":"IFERROR(INDEX(Adj_Product_List,_xlfn.AGGREGATE(15,6,(ROW(INDIRECT(\"A1:A\"&ROWS(Adj_Product_List))))/(NOT(ISNUMBER(MATCH(Adj_Product_List,Selected_PD,0)))),ROWS($20:73))),\"\")","v":""}]
[null,null,{"$f":"\"สาขา\"&B_Name","v":"สาขาสมุทรปราการ"},null,null,null,null,null,null,null,{"$f":"IFERROR(INDEX(Adj_Product_List,_xlfn.AGGREGATE(15,6,(ROW(INDIRECT(\"A1:A\"&ROWS(Adj_Product_List))))/(NOT(ISNUMBER(MATCH(Adj_Product_List,Selected_PD,0)))),ROWS($20:74))),\"\")","v":""}]
[null,null,{"$f":"\"โทร. \"&B_Tel","v":"โทร. 065-9405210"},null,null,null,null,null,null,null,{"$f":"IFERROR(INDEX(Adj_Product_List,_xlfn.AGGREGATE(15,6,(ROW(INDIRECT(\"A1:A\"&ROWS(Adj_Product_List))))/(NOT(ISNUMBER(MATCH(Adj_Product_List,Selected_PD,0)))),ROWS($20:75))),\"\")","v":""}]
[null,null,null,null,null,null,null,null,null,null,{"$f":"IFERROR(INDEX(Adj_Product_List,_xlfn.AGGREGATE(15,6,(ROW(INDIRECT(\"A1:A\"&ROWS(Adj_Product_List))))/(NOT(ISNUMBER(MATCH(Adj_Product_List,Selected_PD,0)))),ROWS($20:76))),\"\")","v":""}]