{"text_format":"1","workbook":"xlsx","n_sheets":10,"sheets":["Setting","Branches","Products","Stocks Inventory","Transaction","Delivery_List","Factory_Order Frm","OrderFrm_Manual","Adjustment Order Frm","OrderSummary_ByRoute"],"not_rendered":{"charts":0,"images":8,"macros":1,"external_links":0,"defined_names":83,"comments":4,"pivot_tables":1},"unopened":[],"bounds":{"document_bytes":16777216,"sheet_cells":100000,"rows_first":2000,"rows_last":500,"rows_between":2000,"halvings":0,"cell_chars":16384,"cell_head_chars":4096},"cells_cut":0,"cells_raw":0,"read":"whole","date_system":"1900"}

{"sheet":"Setting","index":0,"n_rows":17,"n_cols":7,"rows_kept":17,"cut":false,"hidden":false,"merged":[[3,2,3,4],[13,3,14,3],[6,6,7,6],[1,3,1,5],[1,6,1,7]]}
[]
[null,null,null,"::: GOLD BREAD INVENTORY SYSTEM Ver.01_2018",null,null,"Powered By IT-TEAM"]
[]
[null,null,"::: ENTER BUSINESS INFORMATION :::"]
[]
[]
[null,null,null,"ข้อมูลพื้นฐานประจำสาขา",null,null,"MENU"]
[]
[null,null,null,"รหัสสาขา"]
[null,null,null,"00-FRK",null,null,"PRODUCTS"]
[null,null,null,"ชื่อสาขา",null,null,"TRANSACTION"]
[null,null,null,{"$f":"INDEX(dBranches[Thai_Name],MATCH(BranchCode,dBranches[Code],0))","v":"โรงงานร่มเกล้า"},null,null,"ORDER"]
[null,null,null,"ที่อยู่",null,null,"REPORT"]
[null,null,null,{"$f":"INDEX(dBranches[Address],MATCH(BranchCode,dBranches[Code],0))","v":"205/5 ถ.ร่มเกล้า แขวงคลองสามประเวศ เขตลาดกระบัง กรุงเทพมหานคร 10520"},null,null,{"$f":"UPPER(\"Deliver List\")","v":"DELIVER LIST"}]
[]
[null,null,null,"Phone"]
[null,null,null,{"$f":"INDEX(dBranches[Tel],MATCH(BranchCode,dBranches[Code],0))","v":"084-132-1000"}]

{"sheet":"Branches","index":1,"n_rows":41,"n_cols":13,"rows_kept":41,"cut":false,"hidden":false,"merged":[[2,2,2,9]]}
[]
[null,null,null,null,null,null,"SETTING","STOCK","PRODUCTS","TRANSACTION"]
[null,null,":: Branches ::   (Update : 24-07-2018)",null,null,null,null,null,null,null,null,null,"Van_Route"]
[]
[null,null,"Code","Thai_Name","Address","Manager","Regional Manager","Tel","Latitude","Longtitude","Route",null,"Route_Code"]
[null,null,"00-FRY","โรงงานระยอง","115/1 ม.8 ต.ชากบก อ.บ้านค่าย จ.ระยอง 21120","นรรฆวุฒิ จันทฤทธิ์",null," 089-201-7562",12.774569,101.326649,null,null,"FRY"]
[null,null,"00-FRK","โรงงานร่มเกล้า","205/5 ถ.ร่มเกล้า แขวงคลองสามประเวศ เขตลาดกระบัง กรุงเทพมหานคร 10520","นุกูล ปัญญานาค",null,"084-132-1000",13.740642299999999,100.74694289999999,null,null,"FRK"]
[null,null,"03-KB","กบินทร์บุรี","262-263 ต.เมืองเก่า อ.กบินทร์บุรี จ.ปราจีนบุรี 25240","นาย วุฒิพงศ์ ชาตรี","นาย พีร์นิธิ มณีชูเกต"," 063-204-8029",14.014677000000001,101.773387,8,null,{"$f":"RIGHT(BranchCode,LEN(BranchCode)-FIND(\"-\",BranchCode))&TEXT(ROW(A1),\"00\")","v":"FRK01"}]
[null,null,"04-KR","โคราช ","1216 ถ.มหาวิทยาลัย1 ต.หนองจะบก อ.เมือง จ.นครราชสีมา 30000","นาย ประสาร รู้กานนา","นาย พีร์นิธิ มณีชูเกต","063-2048033",14.902849,102.056995,12,null,"FRK02"]
[null,null,"05-NP","นครปฐม ","156/3 ม.6 ต.คลองใหม่ อ.สามพราน จ.นครปฐม 7311","นาย ภูริวัจน์ จันทร์กลับ","นาย สุทิน ปรางอ่อน","082-8177821",13.74494,100.208743,10,null,"FRK03"]
[null,null,"06-KK","ขอนแก่น ","4/7 ม.5 ถ.เลี่ยงเมือง ต.เมืองเก่า อ.เมือง จ.ขอนแก่น 40000","นาย อรรคพล มุ่งรวยกลาง","นาย วาทิตย์ รวมดอน","062-1916679",16.402358,102.831718,7,null,"FRK04"]
[null,null,"07-AY","อยุธยา ","27/16-17 ม.2 ต.ธนู อ.อุทัย จ.พระนครศรีอยุธยา 13000","นาย ศุภกิจ กุลพานิช","นาย สุทิน ปรางอ่อน","063-2048026",14.348776000000001,100.61198899999999,7,null,"FRK05"]
[null,null,"08-BK","กรุงเทพฯ ","2/11-12 ถ.รามคำแหง แขวงมีนบุรี เขตมีนบุรี กรุงเทพฯ 10510","นาย เกียรติศักดิ์ เมืองทรัพย์","นาย สุทิน ปรางอ่อน","063-2048020",13.795610999999999,100.70823900000001,12,null,"FRK06"]
[null,null,"09-RY","ระยอง ","115/1 ม.8 ต.ชากบก อ.บ้านค่าย จ.ระยอง 21120","นาย วุฒิพงศ์ ชาตรี","นาย สุทิน ปรางอ่อน","063-2048029",12.774405,101.326728,10,null,"FRK07"]
[null,null,"10-SK","สมุทรปราการ ","155/6 ม.1 ต.บางพลีน้อย อ.บางบ่อ จ.สมุทรปราการ 10560","นาย ภูริวัจน์ จันทร์กลับ","นาย สุทิน ปรางอ่อน","087-0511217",13.574223999999999,100.899699,9,null,"FRK08"]
[null,null,"12-PY","พัทยา ","118/1 ม.8 ต.บางละมุง อ.บางละมุง จ.ชลบุรี 20150","นาย อ๊อด วงศ์พันธ์","นาย สุทิน ปรางอ่อน","082-8177821",12.967962,100.93047300000001,8,null,"FRK09"]
[null,null,"13-SR","สุรินทร์ ","606 ม.19 ต.นอกเมือง อ.เมือง จ.สุรินทร์ 32000","นาย บรรจบ ตระกาญจันทร์","นาย วาทิตย์ รวมดอน","091-6709560",14.860422,103.522018,6,null,"FRK10"]
[null,null,"14-CB","จันทบุรี ","90/92-93 ม.2 ต.ท่าช้าง อ.เมือง จ.จันทบุรี 22000","นาย วุฒิพงศ์ ชาตรี","นาย สุทิน ปรางอ่อน","063-2048029",12.665111,102.09118700000001,7,null,"FRK11"]
[null,null,"15-UB","อุบลราชธานี ","144 ม.8 ต.แสนสุข อ.วารินชำราบ จ.อุบลฯ 34190","นาย สุพรรณ ทวีสาร","นาย พีร์นิธิ มณีชูเกต","094-357-1844",15.160237,104.853526,8,null,"FRK12"]
[null,null,"16-KL","คลองหลวง ","220 ซอย รังสิต-นครนายก 37 ต.ประชาธิปัตย์ อ.ธัญบุรี จ.ปทุมธานี 12130","นาย ศุภกิจ กุลพานิช","นาย สุทิน ปรางอ่อน","063-2025778",13.995289,100.647051,6,null,"FRK13"]
[null,null,"17-LA","ร้อยเอ็ด ","141/6-7 ถ.ปัทมานนท์ ต.ในเมือง อ.เมือง จ.ร้อยเอ็ด 45000","นายสุริยา กุลมอญ","นาย พีร์นิธิ มณีชูเกต","084-6397193",16.040889,103.64628399999999,8,null,"FRK14"]
[null,null,"18-SN","สกลนคร","191/1-2 หมู่ 12 ต.สกลนคร-นาแก อ.เมือง จ.สกลนคร 47000","นายสุริยา กุลมอญ","นาย พีร์นิธิ มณีชูเกต","084-6397193",17.119754,104.141884,7,null,"FRK15"]
[null,null,"19-UD","อุดรธานี ","9/8 ถ.รอบเมือง ต.หมากแข้ง อ.เมือง จ.อุดรธานี 41000","นาย เกียรติยศ หมื่นศรีพรม","นาย พีร์นิธิ มณีชูเกต","080-011-2484",17.433212000000001,102.799618,13,null,"FRK16"]
[null,null,"20-PC","ปากช่อง ","34,36 ถ.ธนะรัชต์ ต.ปากช่อง อ.ปากช่อง จ.นครราชสีมา 30130","นาย ประสาร รู้กานนา","นาย พีร์นิธิ มณีชูเกต","063-2048033",14.667007,101.399057,5,null,"FRK17"]
[null,null,"21-BR","บุรีรัมย์ ","302/53-54 ต.เสม็ด อ.เมืองบุรีรัมย์ จ.บุรีรัมย์ 31000","นาย บรรจบ ตระกาญจันทร์","นาย วาทิตย์ รวมดอน","062-1916679",14.93111,103.084997,6,null,"FRK18"]
[null,null,"22-LB","ลพบุรี","144/4 หมู่ 4 ต.ท่าวุ้ง อ.ท่าวุ้ง จ.ลพบุรี 15150","นาย คำรณ สนธิ","นาย สุทิน ปรางอ่อน","063-2048035",14.818951,100.504352,6,null,"FRK19"]
[null,null,"23-NS","นครสวรรค์","117 ถ.พรหมนิมิต ตำบลวัดไทร อำเภอเมืองนครสวรรค์ จ.นครสวรรค์ 60000","นาย เทพพร จบดี","นาย พีร์นิธิ มณีชูเกต","063-2048030",null,null,7,null,"FRK20"]
[null,null,"24-CY","ชัยภูมิ","144/15-16 ถนนชัยภูมิ-สีคิ้ว หนองนาแซง อำเภอเมือง จ.ชัยภูมิ","นาย สันทัด ประสิทธิ์นอก","นาย พีร์นิธิ มณีชูเกต","-",15.755962999999999,102.0217383,5]
[null,null,"25-RB","ราษฎร์บูรณะ","6 ซอยราษฎร์บูรณะ 4 แขวงบางปะกอก เขตราษฎร์บูรณะ กรุงเทพมหานคร 10140","นาย วรชาติ จันทร์ช่วง","นาย สุทิน ปรางอ่อน","063-2048031",13.698123199999999,100.5277025,5]
[null,null,"26-LE","เลย","340 ม.10 ต.วังสะพุง อ.วังสะพุง จ.เลย 42130","นาย เกียรติยศ หมื่นศรีพรม","นาย พีร์นิธิ มณีชูเกต","080-011-2484",null,null,7]
[null,null,"27-PL","พิษณุโลก","8888/93-94 ตำบลสมอแข อำเภอเมือง จ.พิษณุโลก","นาย เทพพร จบดี","นาย พีร์นิธิ มณีชูเกต","087-0511217",null,null,8]
[null,null,"28-PN","เพชรบูรณ์","164 หมู่ 10 ต.ชอนไพร อ.เมือง จ.เพชรบูรณ์ 67000","นาย สันทัด ประสิทธิ์นอก","นาย พีร์นิธิ มณีชูเกต","062-1722908",null,null,5]
[null,null,"29-SG","ศรีสะเกษ","383 ม.2 ต.หนองครก อ.เมือง จ.ศรีสะเกษ 33000","นาย สุพรรณ ทวีสาร","นาย พีร์นิธิ มณีชูเกต","094-357-1844",null,null,6]
[null,null,"00-MT","Moguzto","205/5 ถ.ร่มเกล้า แขวงคลองสามประเวศ เขตลาดกระบัง กรุงเทพมหานคร 10520","นาย นุกูล ปัญญานาค","061-6810789","061-6810789",13.740642299999999,100.74694289999999]
[null,null,"90-HO","สำนักงานใหญ่","2/11-12 ถ.รามคำแหง แขวงมีนบุรี เขตมีนบุรี กรุงเทพฯ 10510",null,"02-917-4028-9","02-917-4028-9",13.795522,100.708145]
[null,null,"00-DM","วัดพระธรรมกาย","23/2 ม.7 ต.คลองสาม อ.คลองหลวง จ.ปทุมธานี 12120"]
[null,null,"84-TYT","Toyota"]
[null,null,"01-MK","การตลาด"]
[null,null,"82-BBK","BDC-กรุงเทพฯ"]
[null,null,"83-BRY","BDC-ระยอง"]
[null,null,"63-RDC","เซเวน"]

{"sheet":"Products","index":2,"n_rows":101,"n_cols":33,"rows_kept":101,"cut":false,"hidden":false,"merged":[[3,1,3,8],[2,1,2,11]]}
[]
[null,null,null,null,null,null,"SETTING","PRODUCTS","TRANSACTION","ORDER","REPORT",{"$f":"UPPER(\"Deliver List\")","v":"DELIVER LIST"}]
[null,"::: Product :::",null,null,null,null,null,null,null,null,null,null,null,"หน่วยนับสินค้า",null,"หมวดหมู่",null,"ประเภท"]
[]
[null,"PD_Code","BarCode","NameTH","NameEng","Catagory","Unit","Pcs/Unit","PriceCase","%Discount","Factory","Status",null,"Unit",null,"Catagories",null,"Type",null,"All_Product_List","FRY_Product_List","FRK_Product_List",null,"Product_Selected",null,"Month_List",null,null,"Calendar_List",null,"TRDate_List",null,"TRRoute_List"]
[null,"9913","8852269400365","01-ขนมปังหมูหยองน้ำสลัด","Shredded Pork Salad Cream Filled Bun 70g.","ของสด","ชิ้น",40,15,0.45,"00-FRY","ปกติ",null,"ชิ้น",null,"ของสด",null,"รับ",null,{"$f":"IF(ROW()-ROW($V$5)>COUNTIF(dProduct[Status],\"ปกติ\"),\"\",INDEX(dProduct[NameTH],SMALL(IF(dProduct[Status]=\"ปกติ\",ROW(dProduct[NameTH])-ROW(dProduct[[#Headers],[NameTH]]),\"\"),ROW()-ROW($T$5))))","v":"01-ขนมปังหมูหยองน้ำสลัด"},{"$f":"IF(ROW()-ROW($U$5)>COUNTIFS(dProduct[Status],\"ปกติ\",dProduct[Factory],\"<>\"&\"00-FRK\"),\"\",INDEX(dProduct[NameTH],SMALL(IF((dProduct[Status]=\"ปกติ\")*(dProduct[Factory]<>\"00-FRK\")=1,ROW(dProduct[NameTH])-ROW(dProduct[[#Headers],[NameTH]]),\"\"),ROW()-ROW($U$5))))","v":"01-ขนมปังหมูหยองน้ำสลัด"},{"$f":"IF(ROW()-ROW($U$5)>COUNTIFS(dProduct[Status],\"ปกติ\",dProduct[Factory],\"<>\"&\"00-FRY\"),\"\",INDEX(dProduct[NameTH],SMALL(IF((dProduct[Status]=\"ปกติ\")*(dProduct[Factory]<>\"00-FRY\")=1,ROW(dProduct[NameTH])-ROW(dProduct[[#Headers],[NameTH]]),\"\"),ROW()-ROW($U$5))))","v":"23-ครัวซองต์เนยสด"},null,{"$f":"IFERROR(INDEX(dProduct[NameTH],_xlfn.AGGREGATE(15,6,(ROW(dProduct[NameTH])-ROW(dProduct[[#Headers],[NameTH]]))/(COUNTIF(Transaction[Products],dProduct[NameTH])>0),ROWS($X$6:$X6))),\"\")","v":""},null,"มกราคม","ม.ค.",null,{"$f":"DATE(YEAR(TODAY()),MONTH(TODAY()),ROWS($6:6)+DAY(TODAY())-8)","v":"2022-07-07"},null,"2018-06-27",null,"PC01"]
[null,"99141","8852269590103","02-ขนมปังหมูหยองน้ำพริกเผา","Shredded Pork Roasted Chili Paste Filled Bun 70g.","ของสด","ชิ้น",40,15,0.45,"00-FRY","ปกติ",null,"ถาด",null,"ของแห้ง",null,"เบิก",null,{"$f":"IF(ROW()-ROW($V$5)>COUNTIF(dProduct[Status],\"ปกติ\"),\"\",INDEX(dProduct[NameTH],SMALL(IF(dProduct[Status]=\"ปกติ\",ROW(dProduct[NameTH])-ROW(dProduct[[#Headers],[NameTH]]),\"\"),ROW()-ROW($T$5))))","v":"02-ขนมปังหมูหยองน้ำพริกเผา"},{"$f":"IF(ROW()-ROW($U$5)>COUNTIFS(dProduct[Status],\"ปกติ\",dProduct[Factory],\"<>\"&\"00-FRK\"),\"\",INDEX(dProduct[NameTH],SMALL(IF((dProduct[Status]=\"ปกติ\")*(dProduct[Factory]<>\"00-FRK\")=1,ROW(dProduct[NameTH])-ROW(dProduct[[#Headers],[NameTH]]),\"\"),ROW()-ROW($U$5))))","v":"02-ขนมปังหมูหยองน้ำพริกเผา"},{"$f":"IF(ROW()-ROW($U$5)>COUNTIFS(dProduct[Status],\"ปกติ\",dProduct[Factory],\"<>\"&\"00-FRY\"),\"\",INDEX(dProduct[NameTH],SMALL(IF((dProduct[Status]=\"ปกติ\")*(dProduct[Factory]<>\"00-FRY\")=1,ROW(dProduct[NameTH])-ROW(dProduct[[#Headers],[NameTH]]),\"\"),ROW()-ROW($U$5))))","v":"25-ขนมปังกรอบเนยน้ำตาล"},null,{"$f":"IFERROR(INDEX(dProduct[NameTH],_xlfn.AGGREGATE(15,6,(ROW(dProduct[NameTH])-ROW(dProduct[[#Headers],[NameTH]]))/(COUNTIF(Transaction[Products],dProduct[NameTH])>0),ROWS($X$6:$X7))),\"\")","v":""},null,"กุมภาพันธ์","ก.พ.",null,{"$f":"DATE(YEAR(TODAY()),MONTH(TODAY()),ROWS($6:7)+DAY(TODAY())-8)","v":"2022-07-08"},null,"2018-06-28",null,"PC02"]
[null,"99126","8852269570013","03-ขนมปังไก่หยองน้ำสลัด","Shredded Chicken Salad Cream Filled Bun 70g.","ของสด","ชิ้น",40,15,0.45,"00-FRY","ปกติ",null,"กล่อง",null,null,null,"ยกมา",null,{"$f":"IF(ROW()-ROW($V$5)>COUNTIF(dProduct[Status],\"ปกติ\"),\"\",INDEX(dProduct[NameTH],SMALL(IF(dProduct[Status]=\"ปกติ\",ROW(dProduct[NameTH])-ROW(dProduct[[#Headers],[NameTH]]),\"\"),ROW()-ROW($T$5))))","v":"03-ขนมปังไก่หยองน้ำสลัด"},{"$f":"IF(ROW()-ROW($U$5)>COUNTIFS(dProduct[Status],\"ปกติ\",dProduct[Factory],\"<>\"&\"00-FRK\"),\"\",INDEX(dProduct[NameTH],SMALL(IF((dProduct[Status]=\"ปกติ\")*(dProduct[Factory]<>\"00-FRK\")=1,ROW(dProduct[NameTH])-ROW(dProduct[[#Headers],[NameTH]]),\"\"),ROW()-ROW($U$5))))","v":"03-ขนมปังไก่หยองน้ำสลัด"},{"$f":"IF(ROW()-ROW($U$5)>COUNTIFS(dProduct[Status],\"ปกติ\",dProduct[Factory],\"<>\"&\"00-FRY\"),\"\",INDEX(dProduct[NameTH],SMALL(IF((dProduct[Status]=\"ปกติ\")*(dProduct[Factory]<>\"00-FRY\")=1,ROW(dProduct[NameTH])-ROW(dProduct[[#Headers],[NameTH]]),\"\"),ROW()-ROW($U$5))))","v":"26-พายสับปะรด"},null,{"$f":"IFERROR(INDEX(dProduct[NameTH],_xlfn.AGGREGATE(15,6,(ROW(dProduct[NameTH])-ROW(dProduct[[#Headers],[NameTH]]))/(COUNTIF(Transaction[Products],dProduct[NameTH])>0),ROWS($X$6:$X8))),\"\")","v":""},null,"มีนาคม","มี.ค.",null,{"$f":"DATE(YEAR(TODAY()),MONTH(TODAY()),ROWS($6:8)+DAY(TODAY())-8)","v":"2022-07-09"},null,"2018-06-30",null,"PC04"]
[null,"99124","8852269401164","04-ขนมปังไส้ครีมสลัด","Salad Cream Filled Bun 70g.","ของสด","ชิ้น",50,12,0.45,"00-FRY","ปกติ",null,"โหล",null,null,null,"เสีย",null,{"$f":"IF(ROW()-ROW($V$5)>COUNTIF(dProduct[Status],\"ปกติ\"),\"\",INDEX(dProduct[NameTH],SMALL(IF(dProduct[Status]=\"ปกติ\",ROW(dProduct[NameTH])-ROW(dProduct[[#Headers],[NameTH]]),\"\"),ROW()-ROW($T$5))))","v":"04-ขนมปังไส้ครีมสลัด"},{"$f":"IF(ROW()-ROW($U$5)>COUNTIFS(dProduct[Status],\"ปกติ\",dProduct[Factory],\"<>\"&\"00-FRK\"),\"\",INDEX(dProduct[NameTH],SMALL(IF((dProduct[Status]=\"ปกติ\")*(dProduct[Factory]<>\"00-FRK\")=1,ROW(dProduct[NameTH])-ROW(dProduct[[#Headers],[NameTH]]),\"\"),ROW()-ROW($U$5))))","v":"04-ขนมปังไส้ครีมสลัด"},{"$f":"IF(ROW()-ROW($U$5)>COUNTIFS(dProduct[Status],\"ปกติ\",dProduct[Factory],\"<>\"&\"00-FRY\"),\"\",INDEX(dProduct[NameTH],SMALL(IF((dProduct[Status]=\"ปกติ\")*(dProduct[Factory]<>\"00-FRY\")=1,ROW(dProduct[NameTH])-ROW(dProduct[[#Headers],[NameTH]]),\"\"),ROW()-ROW($U$5))))","v":""},null,{"$f":"IFERROR(INDEX(dProduct[NameTH],_xlfn.AGGREGATE(15,6,(ROW(dProduct[NameTH])-ROW(dProduct[[#Headers],[NameTH]]))/(COUNTIF(Transaction[Products],dProduct[NameTH])>0),ROWS($X$6:$X9))),\"\")","v":""},null,"เมษายน","เม.ย.",null,{"$f":"DATE(YEAR(TODAY()),MONTH(TODAY()),ROWS($6:9)+DAY(TODAY())-8)","v":"2022-07-10"},null,"2018-07-30",null,"PC06"]
[null,"99142","8852269590110","05-ขนมปังเนยสด","Butter Cream Filled Bun 60g.","ของสด","ชิ้น",40,12,0.45,"00-FRY","ปกติ",null,"แพ็ค",null,null,null,null,null,{"$f":"IF(ROW()-ROW($V$5)>COUNTIF(dProduct[Status],\"ปกติ\"),\"\",INDEX(dProduct[NameTH],SMALL(IF(dProduct[Status]=\"ปกติ\",ROW(dProduct[NameTH])-ROW(dProduct[[#Headers],[NameTH]]),\"\"),ROW()-ROW($T$5))))","v":"05-ขนมปังเนยสด"},{"$f":"IF(ROW()-ROW($U$5)>COUNTIFS(dProduct[Status],\"ปกติ\",dProduct[Factory],\"<>\"&\"00-FRK\"),\"\",INDEX(dProduct[NameTH],SMALL(IF((dProduct[Status]=\"ปกติ\")*(dProduct[Factory]<>\"00-FRK\")=1,ROW(dProduct[NameTH])-ROW(dProduct[[#Headers],[NameTH]]),\"\"),ROW()-ROW($U$5))))","v":"05-ขนมปังเนยสด"},{"$f":"IF(ROW()-ROW($U$5)>COUNTIFS(dProduct[Status],\"ปกติ\",dProduct[Factory],\"<>\"&\"00-FRY\"),\"\",INDEX(dProduct[NameTH],SMALL(IF((dProduct[Status]=\"ปกติ\")*(dProduct[Factory]<>\"00-FRY\")=1,ROW(dProduct[NameTH])-ROW(dProduct[[#Headers],[NameTH]]),\"\"),ROW()-ROW($U$5))))","v":""},null,{"$f":"IFERROR(INDEX(dProduct[NameTH],_xlfn.AGGREGATE(15,6,(ROW(dProduct[NameTH])-ROW(dProduct[[#Headers],[NameTH]]))/(COUNTIF(Transaction[Products],dProduct[NameTH])>0),ROWS($X$6:$X10))),\"\")","v":""},null,"พฤษภาคม","พ.ค.",null,{"$f":"DATE(YEAR(TODAY()),MONTH(TODAY()),ROWS($6:10)+DAY(TODAY())-8)","v":"2022-07-11"},null,"2018-08-01",null,"PC08"]
[null,"9903","8852269400198","06-ขนมปังไส้สังขยาเล็ก","Pandan Custard Filled Bun 75g.","ของสด","ชิ้น",50,10,0.45,"00-FRY","ปกติ",null,null,null,null,null,null,null,{"$f":"IF(ROW()-ROW($V$5)>COUNTIF(dProduct[Status],\"ปกติ\"),\"\",INDEX(dProduct[NameTH],SMALL(IF(dProduct[Status]=\"ปกติ\",ROW(dProduct[NameTH])-ROW(dProduct[[#Headers],[NameTH]]),\"\"),ROW()-ROW($T$5))))","v":"06-ขนมปังไส้สังขยาเล็ก"},{"$f":"IF(ROW()-ROW($U$5)>COUNTIFS(dProduct[Status],\"ปกติ\",dProduct[Factory],\"<>\"&\"00-FRK\"),\"\",INDEX(dProduct[NameTH],SMALL(IF((dProduct[Status]=\"ปกติ\")*(dProduct[Factory]<>\"00-FRK\")=1,ROW(dProduct[NameTH])-ROW(dProduct[[#Headers],[NameTH]]),\"\"),ROW()-ROW($U$5))))","v":"06-ขนมปังไส้สังขยาเล็ก"},{"$f":"IF(ROW()-ROW($U$5)>COUNTIFS(dProduct[Status],\"ปกติ\",dProduct[Factory],\"<>\"&\"00-FRY\"),\"\",INDEX(dProduct[NameTH],SMALL(IF((dProduct[Status]=\"ปกติ\")*(dProduct[Factory]<>\"00-FRY\")=1,ROW(dProduct[NameTH])-ROW(dProduct[[#Headers],[NameTH]]),\"\"),ROW()-ROW($U$5))))","v":""},null,{"$f":"IFERROR(INDEX(dProduct[NameTH],_xlfn.AGGREGATE(15,6,(ROW(dProduct[NameTH])-ROW(dProduct[[#Headers],[NameTH]]))/(COUNTIF(Transaction[Products],dProduct[NameTH])>0),ROWS($X$6:$X11))),\"\")","v":""},null,"มิถุนายน","มิ.ย.",null,{"$f":"DATE(YEAR(TODAY()),MONTH(TODAY()),ROWS($6:11)+DAY(TODAY())-8)","v":"2022-07-12"}]
[null,"9902","8852269400020","07-ขนมปังไส้เผือก","Taro Filled Bun 75g.","ของสด","ชิ้น",50,10,0.45,"00-FRY","ปกติ",null,null,null,null,null,null,null,{"$f":"IF(ROW()-ROW($V$5)>COUNTIF(dProduct[Status],\"ปกติ\"),\"\",INDEX(dProduct[NameTH],SMALL(IF(dProduct[Status]=\"ปกติ\",ROW(dProduct[NameTH])-ROW(dProduct[[#Headers],[NameTH]]),\"\"),ROW()-ROW($T$5))))","v":"07-ขนมปังไส้เผือก"},{"$f":"IF(ROW()-ROW($U$5)>COUNTIFS(dProduct[Status],\"ปกติ\",dProduct[Factory],\"<>\"&\"00-FRK\"),\"\",INDEX(dProduct[NameTH],SMALL(IF((dProduct[Status]=\"ปกติ\")*(dProduct[Factory]<>\"00-FRK\")=1,ROW(dProduct[NameTH])-ROW(dProduct[[#Headers],[NameTH]]),\"\"),ROW()-ROW($U$5))))","v":"07-ขนมปังไส้เผือก"},{"$f":"IF(ROW()-ROW($U$5)>COUNTIFS(dProduct[Status],\"ปกติ\",dProduct[Factory],\"<>\"&\"00-FRY\"),\"\",INDEX(dProduct[NameTH],SMALL(IF((dProduct[Status]=\"ปกติ\")*(dProduct[Factory]<>\"00-FRY\")=1,ROW(dProduct[NameTH])-ROW(dProduct[[#Headers],[NameTH]]),\"\"),ROW()-ROW($U$5))))","v":""},null,{"$f":"IFERROR(INDEX(dProduct[NameTH],_xlfn.AGGREGATE(15,6,(ROW(dProduct[NameTH])-ROW(dProduct[[#Headers],[NameTH]]))/(COUNTIF(Transaction[Products],dProduct[NameTH])>0),ROWS($X$6:$X12))),\"\")","v":""},null,"กรกฎาคม","ก.ค.",null,{"$f":"DATE(YEAR(TODAY()),MONTH(TODAY()),ROWS($6:12)+DAY(TODAY())-8)","v":"2022-07-13"}]
[null,"9906","8852269400037","08-ขนมปังไส้ถั่วแดง","Red Beans Filled Bun 75g.","ของสด","ชิ้น",50,10,0.45,"00-FRY","ปกติ",null,null,null,null,null,null,null,{"$f":"IF(ROW()-ROW($V$5)>COUNTIF(dProduct[Status],\"ปกติ\"),\"\",INDEX(dProduct[NameTH],SMALL(IF(dProduct[Status]=\"ปกติ\",ROW(dProduct[NameTH])-ROW(dProduct[[#Headers],[NameTH]]),\"\"),ROW()-ROW($T$5))))","v":"08-ขนมปังไส้ถั่วแดง"},{"$f":"IF(ROW()-ROW($U$5)>COUNTIFS(dProduct[Status],\"ปกติ\",dProduct[Factory],\"<>\"&\"00-FRK\"),\"\",INDEX(dProduct[NameTH],SMALL(IF((dProduct[Status]=\"ปกติ\")*(dProduct[Factory]<>\"00-FRK\")=1,ROW(dProduct[NameTH])-ROW(dProduct[[#Headers],[NameTH]]),\"\"),ROW()-ROW($U$5))))","v":"08-ขนมปังไส้ถั่วแดง"},{"$f":"IF(ROW()-ROW($U$5)>COUNTIFS(dProduct[Status],\"ปกติ\",dProduct[Factory],\"<>\"&\"00-FRY\"),\"\",INDEX(dProduct[NameTH],SMALL(IF((dProduct[Status]=\"ปกติ\")*(dProduct[Factory]<>\"00-FRY\")=1,ROW(dProduct[NameTH])-ROW(dProduct[[#Headers],[NameTH]]),\"\"),ROW()-ROW($U$5))))","v":""},null,{"$f":"IFERROR(INDEX(dProduct[NameTH],_xlfn.AGGREGATE(15,6,(ROW(dProduct[NameTH])-ROW(dProduct[[#Headers],[NameTH]]))/(COUNTIF(Transaction[Products],dProduct[NameTH])>0),ROWS($X$6:$X13))),\"\")","v":""},null,"สิงหาคม","ส.ค.",null,{"$f":"DATE(YEAR(TODAY()),MONTH(TODAY()),ROWS($6:13)+DAY(TODAY())-8)","v":"2022-07-14"}]
[null,"99171","8852269620046","09-ขนมปังไส้ถั่วดำ","Black Bean Filled Bun 75g.","ของสด","ชิ้น",50,10,0.45,"00-FRY","ปกติ",null,null,null,null,null,null,null,{"$f":"IF(ROW()-ROW($V$5)>COUNTIF(dProduct[Status],\"ปกติ\"),\"\",INDEX(dProduct[NameTH],SMALL(IF(dProduct[Status]=\"ปกติ\",ROW(dProduct[NameTH])-ROW(dProduct[[#Headers],[NameTH]]),\"\"),ROW()-ROW($T$5))))","v":"09-ขนมปังไส้ถั่วดำ"},{"$f":"IF(ROW()-ROW($U$5)>COUNTIFS(dProduct[Status],\"ปกติ\",dProduct[Factory],\"<>\"&\"00-FRK\"),\"\",INDEX(dProduct[NameTH],SMALL(IF((dProduct[Status]=\"ปกติ\")*(dProduct[Factory]<>\"00-FRK\")=1,ROW(dProduct[NameTH])-ROW(dProduct[[#Headers],[NameTH]]),\"\"),ROW()-ROW($U$5))))","v":"09-ขนมปังไส้ถั่วดำ"},{"$f":"IF(ROW()-ROW($U$5)>COUNTIFS(dProduct[Status],\"ปกติ\",dProduct[Factory],\"<>\"&\"00-FRY\"),\"\",INDEX(dProduct[NameTH],SMALL(IF((dProduct[Status]=\"ปกติ\")*(dProduct[Factory]<>\"00-FRY\")=1,ROW(dProduct[NameTH])-ROW(dProduct[[#Headers],[NameTH]]),\"\"),ROW()-ROW($U$5))))","v":""},null,{"$f":"IFERROR(INDEX(dProduct[NameTH],_xlfn.AGGREGATE(15,6,(ROW(dProduct[NameTH])-ROW(dProduct[[#Headers],[NameTH]]))/(COUNTIF(Transaction[Products],dProduct[NameTH])>0),ROWS($X$6:$X14))),\"\")","v":""},null,"กันยายน","ก.ย.",null,{"$f":"DATE(YEAR(TODAY()),MONTH(TODAY()),ROWS($6:14)+DAY(TODAY())-8)","v":"2022-07-15"}]
[null,"99161","8852269610047","10-ขนมปังไส้มันม่วง","Purple Sweet Potato Filled Bun 75g.","ของสด","ชิ้น",50,10,0.45,"00-FRY","ปกติ",null,null,null,null,null,null,null,{"$f":"IF(ROW()-ROW($V$5)>COUNTIF(dProduct[Status],\"ปกติ\"),\"\",INDEX(dProduct[NameTH],SMALL(IF(dProduct[Status]=\"ปกติ\",ROW(dProduct[NameTH])-ROW(dProduct[[#Headers],[NameTH]]),\"\"),ROW()-ROW($T$5))))","v":"10-ขนมปังไส้มันม่วง"},{"$f":"IF(ROW()-ROW($U$5)>COUNTIFS(dProduct[Status],\"ปกติ\",dProduct[Factory],\"<>\"&\"00-FRK\"),\"\",INDEX(dProduct[NameTH],SMALL(IF((dProduct[Status]=\"ปกติ\")*(dProduct[Factory]<>\"00-FRK\")=1,ROW(dProduct[NameTH])-ROW(dProduct[[#Headers],[NameTH]]),\"\"),ROW()-ROW($U$5))))","v":"10-ขนมปังไส้มันม่วง"},{"$f":"IF(ROW()-ROW($U$5)>COUNTIFS(dProduct[Status],\"ปกติ\",dProduct[Factory],\"<>\"&\"00-FRY\"),\"\",INDEX(dProduct[NameTH],SMALL(IF((dProduct[Status]=\"ปกติ\")*(dProduct[Factory]<>\"00-FRY\")=1,ROW(dProduct[NameTH])-ROW(dProduct[[#Headers],[NameTH]]),\"\"),ROW()-ROW($U$5))))","v":""},null,{"$f":"IFERROR(INDEX(dProduct[NameTH],_xlfn.AGGREGATE(15,6,(ROW(dProduct[NameTH])-ROW(dProduct[[#Headers],[NameTH]]))/(COUNTIF(Transaction[Products],dProduct[NameTH])>0),ROWS($X$6:$X15))),\"\")","v":""},null,"ตุลาคม","ต.ค.",null,{"$f":"DATE(YEAR(TODAY()),MONTH(TODAY()),ROWS($6:15)+DAY(TODAY())-8)","v":"2022-07-16"}]
[null,"9908","8852269400136","11-เค้กกล้วยหอม","Banana Cake 70g.","ของสด","ชิ้น",50,12,0.45,"00-FRY","ปกติ",null,null,null,null,null,null,null,{"$f":"IF(ROW()-ROW($V$5)>COUNTIF(dProduct[Status],\"ปกติ\"),\"\",INDEX(dProduct[NameTH],SMALL(IF(dProduct[Status]=\"ปกติ\",ROW(dProduct[NameTH])-ROW(dProduct[[#Headers],[NameTH]]),\"\"),ROW()-ROW($T$5))))","v":"11-เค้กกล้วยหอม"},{"$f":"IF(ROW()-ROW($U$5)>COUNTIFS(dProduct[Status],\"ปกติ\",dProduct[Factory],\"<>\"&\"00-FRK\"),\"\",INDEX(dProduct[NameTH],SMALL(IF((dProduct[Status]=\"ปกติ\")*(dProduct[Factory]<>\"00-FRK\")=1,ROW(dProduct[NameTH])-ROW(dProduct[[#Headers],[NameTH]]),\"\"),ROW()-ROW($U$5))))","v":"11-เค้กกล้วยหอม"},{"$f":"IF(ROW()-ROW($U$5)>COUNTIFS(dProduct[Status],\"ปกติ\",dProduct[Factory],\"<>\"&\"00-FRY\"),\"\",INDEX(dProduct[NameTH],SMALL(IF((dProduct[Status]=\"ปกติ\")*(dProduct[Factory]<>\"00-FRY\")=1,ROW(dProduct[NameTH])-ROW(dProduct[[#Headers],[NameTH]]),\"\"),ROW()-ROW($U$5))))","v":""},null,{"$f":"IFERROR(INDEX(dProduct[NameTH],_xlfn.AGGREGATE(15,6,(ROW(dProduct[NameTH])-ROW(dProduct[[#Headers],[NameTH]]))/(COUNTIF(Transaction[Products],dProduct[NameTH])>0),ROWS($X$6:$X16))),\"\")","v":""},null,"พฤศจิกายน","พ.ย.",null,{"$f":"DATE(YEAR(TODAY()),MONTH(TODAY()),ROWS($6:16)+DAY(TODAY())-8)","v":"2022-07-17"}]
[null,"9911","8852269400075","12-เค้กบัตเตอร์","Butter Cake 60g.","ของสด","ชิ้น",50,12,0.45,"00-FRY","ปกติ",null,null,null,null,null,null,null,{"$f":"IF(ROW()-ROW($V$5)>COUNTIF(dProduct[Status],\"ปกติ\"),\"\",INDEX(dProduct[NameTH],SMALL(IF(dProduct[Status]=\"ปกติ\",ROW(dProduct[NameTH])-ROW(dProduct[[#Headers],[NameTH]]),\"\"),ROW()-ROW($T$5))))","v":"12-เค้กบัตเตอร์"},{"$f":"IF(ROW()-ROW($U$5)>COUNTIFS(dProduct[Status],\"ปกติ\",dProduct[Factory],\"<>\"&\"00-FRK\"),\"\",INDEX(dProduct[NameTH],SMALL(IF((dProduct[Status]=\"ปกติ\")*(dProduct[Factory]<>\"00-FRK\")=1,ROW(dProduct[NameTH])-ROW(dProduct[[#Headers],[NameTH]]),\"\"),ROW()-ROW($U$5))))","v":"12-เค้กบัตเตอร์"},{"$f":"IF(ROW()-ROW($U$5)>COUNTIFS(dProduct[Status],\"ปกติ\",dProduct[Factory],\"<>\"&\"00-FRY\"),\"\",INDEX(dProduct[NameTH],SMALL(IF((dProduct[Status]=\"ปกติ\")*(dProduct[Factory]<>\"00-FRY\")=1,ROW(dProduct[NameTH])-ROW(dProduct[[#Headers],[NameTH]]),\"\"),ROW()-ROW($U$5))))","v":""},null,{"$f":"IFERROR(INDEX(dProduct[NameTH],_xlfn.AGGREGATE(15,6,(ROW(dProduct[NameTH])-ROW(dProduct[[#Headers],[NameTH]]))/(COUNTIF(Transaction[Products],dProduct[NameTH])>0),ROWS($X$6:$X17))),\"\")","v":""},null,"ธันวาคม","ธ.ค.",null,{"$f":"DATE(YEAR(TODAY()),MONTH(TODAY()),ROWS($6:17)+DAY(TODAY())-8)","v":"2022-07-18"}]
[null,"9922","8852269400259","13-ขนมปังโรลถั่วแดง","Red Beans Roll Bread 80g.","ของสด","ชิ้น",40,12,0.45,"00-FRY","ปกติ",null,null,null,null,null,null,null,{"$f":"IF(ROW()-ROW($V$5)>COUNTIF(dProduct[Status],\"ปกติ\"),\"\",INDEX(dProduct[NameTH],SMALL(IF(dProduct[Status]=\"ปกติ\",ROW(dProduct[NameTH])-ROW(dProduct[[#Headers],[NameTH]]),\"\"),ROW()-ROW($T$5))))","v":"13-ขนมปังโรลถั่วแดง"},{"$f":"IF(ROW()-ROW($U$5)>COUNTIFS(dProduct[Status],\"ปกติ\",dProduct[Factory],\"<>\"&\"00-FRK\"),\"\",INDEX(dProduct[NameTH],SMALL(IF((dProduct[Status]=\"ปกติ\")*(dProduct[Factory]<>\"00-FRK\")=1,ROW(dProduct[NameTH])-ROW(dProduct[[#Headers],[NameTH]]),\"\"),ROW()-ROW($U$5))))","v":"13-ขนมปังโรลถั่วแดง"},{"$f":"IF(ROW()-ROW($U$5)>COUNTIFS(dProduct[Status],\"ปกติ\",dProduct[Factory],\"<>\"&\"00-FRY\"),\"\",INDEX(dProduct[NameTH],SMALL(IF((dProduct[Status]=\"ปกติ\")*(dProduct[Factory]<>\"00-FRY\")=1,ROW(dProduct[NameTH])-ROW(dProduct[[#Headers],[NameTH]]),\"\"),ROW()-ROW($U$5))))","v":""},null,{"$f":"IFERROR(INDEX(dProduct[NameTH],_xlfn.AGGREGATE(15,6,(ROW(dProduct[NameTH])-ROW(dProduct[[#Headers],[NameTH]]))/(COUNTIF(Transaction[Products],dProduct[NameTH])>0),ROWS($X$6:$X18))),\"\")","v":""},null,null,null,null,{"$f":"DATE(YEAR(TODAY()),MONTH(TODAY()),ROWS($6:18)+DAY(TODAY())-8)","v":"2022-07-19"}]
[null,"9901","8852269400013","14-ขนมปังไส้สังขยาใหญ่","Thai Custard Filled Bun 80g.","ของสด","ชิ้น",50,12,0.45,"00-FRY","ปกติ",null,null,null,null,null,null,null,{"$f":"IF(ROW()-ROW($V$5)>COUNTIF(dProduct[Status],\"ปกติ\"),\"\",INDEX(dProduct[NameTH],SMALL(IF(dProduct[Status]=\"ปกติ\",ROW(dProduct[NameTH])-ROW(dProduct[[#Headers],[NameTH]]),\"\"),ROW()-ROW($T$5))))","v":"14-ขนมปังไส้สังขยาใหญ่"},{"$f":"IF(ROW()-ROW($U$5)>COUNTIFS(dProduct[Status],\"ปกติ\",dProduct[Factory],\"<>\"&\"00-FRK\"),\"\",INDEX(dProduct[NameTH],SMALL(IF((dProduct[Status]=\"ปกติ\")*(dProduct[Factory]<>\"00-FRK\")=1,ROW(dProduct[NameTH])-ROW(dProduct[[#Headers],[NameTH]]),\"\"),ROW()-ROW($U$5))))","v":"14-ขนมปังไส้สังขยาใหญ่"},{"$f":"IF(ROW()-ROW($U$5)>COUNTIFS(dProduct[Status],\"ปกติ\",dProduct[Factory],\"<>\"&\"00-FRY\"),\"\",INDEX(dProduct[NameTH],SMALL(IF((dProduct[Status]=\"ปกติ\")*(dProduct[Factory]<>\"00-FRY\")=1,ROW(dProduct[NameTH])-ROW(dProduct[[#Headers],[NameTH]]),\"\"),ROW()-ROW($U$5))))","v":""},null,{"$f":"IFERROR(INDEX(dProduct[NameTH],_xlfn.AGGREGATE(15,6,(ROW(dProduct[NameTH])-ROW(dProduct[[#Headers],[NameTH]]))/(COUNTIF(Transaction[Products],dProduct[NameTH])>0),ROWS($X$6:$X19))),\"\")","v":""},null,null,null,null,{"$f":"DATE(YEAR(TODAY()),MONTH(TODAY()),ROWS($6:19)+DAY(TODAY())-8)","v":"2022-07-20"}]
[null,"99148","8852269400419","15-ขนมปังชนิดแผ่น(480กรัม)","Sliced Bread (L) 480g.","ของแห้ง","ชิ้น",10,40,0.45,"00-FRY","ปกติ",null,null,null,null,null,null,null,{"$f":"IF(ROW()-ROW($V$5)>COUNTIF(dProduct[Status],\"ปกติ\"),\"\",INDEX(dProduct[NameTH],SMALL(IF(dProduct[Status]=\"ปกติ\",ROW(dProduct[NameTH])-ROW(dProduct[[#Headers],[NameTH]]),\"\"),ROW()-ROW($T$5))))","v":"15-ขนมปังชนิดแผ่น(480กรัม)"},{"$f":"IF(ROW()-ROW($U$5)>COUNTIFS(dProduct[Status],\"ปกติ\",dProduct[Factory],\"<>\"&\"00-FRK\"),\"\",INDEX(dProduct[NameTH],SMALL(IF((dProduct[Status]=\"ปกติ\")*(dProduct[Factory]<>\"00-FRK\")=1,ROW(dProduct[NameTH])-ROW(dProduct[[#Headers],[NameTH]]),\"\"),ROW()-ROW($U$5))))","v":"15-ขนมปังชนิดแผ่น(480กรัม)"},{"$f":"IF(ROW()-ROW($U$5)>COUNTIFS(dProduct[Status],\"ปกติ\",dProduct[Factory],\"<>\"&\"00-FRY\"),\"\",INDEX(dProduct[NameTH],SMALL(IF((dProduct[Status]=\"ปกติ\")*(dProduct[Factory]<>\"00-FRY\")=1,ROW(dProduct[NameTH])-ROW(dProduct[[#Headers],[NameTH]]),\"\"),ROW()-ROW($U$5))))","v":""},null,{"$f":"IFERROR(INDEX(dProduct[NameTH],_xlfn.AGGREGATE(15,6,(ROW(dProduct[NameTH])-ROW(dProduct[[#Headers],[NameTH]]))/(COUNTIF(Transaction[Products],dProduct[NameTH])>0),ROWS($X$6:$X20))),\"\")","v":""},null,"Year_List",null,null,{"$f":"DATE(YEAR(TODAY()),MONTH(TODAY()),ROWS($6:20)+DAY(TODAY())-8)","v":"2022-07-21"}]
[null,"9957","8852269400709","16-โมจิไส้ถั่ว","Twin Moji Bean 50g.","ของสด","ชิ้น",50,10,0.45,"00-FRY","ปกติ",null,null,null,null,null,null,null,{"$f":"IF(ROW()-ROW($V$5)>COUNTIF(dProduct[Status],\"ปกติ\"),\"\",INDEX(dProduct[NameTH],SMALL(IF(dProduct[Status]=\"ปกติ\",ROW(dProduct[NameTH])-ROW(dProduct[[#Headers],[NameTH]]),\"\"),ROW()-ROW($T$5))))","v":"16-โมจิไส้ถั่ว"},{"$f":"IF(ROW()-ROW($U$5)>COUNTIFS(dProduct[Status],\"ปกติ\",dProduct[Factory],\"<>\"&\"00-FRK\"),\"\",INDEX(dProduct[NameTH],SMALL(IF((dProduct[Status]=\"ปกติ\")*(dProduct[Factory]<>\"00-FRK\")=1,ROW(dProduct[NameTH])-ROW(dProduct[[#Headers],[NameTH]]),\"\"),ROW()-ROW($U$5))))","v":"16-โมจิไส้ถั่ว"},{"$f":"IF(ROW()-ROW($U$5)>COUNTIFS(dProduct[Status],\"ปกติ\",dProduct[Factory],\"<>\"&\"00-FRY\"),\"\",INDEX(dProduct[NameTH],SMALL(IF((dProduct[Status]=\"ปกติ\")*(dProduct[Factory]<>\"00-FRY\")=1,ROW(dProduct[NameTH])-ROW(dProduct[[#Headers],[NameTH]]),\"\"),ROW()-ROW($U$5))))","v":""},null,{"$f":"IFERROR(INDEX(dProduct[NameTH],_xlfn.AGGREGATE(15,6,(ROW(dProduct[NameTH])-ROW(dProduct[[#Headers],[NameTH]]))/(COUNTIF(Transaction[Products],dProduct[NameTH])>0),ROWS($X$6:$X21))),\"\")","v":""},null,{"$f":"TODAY()","v":"2022-07-14"},null,null,{"$f":"DATE(YEAR(TODAY()),MONTH(TODAY()),ROWS($6:21)+DAY(TODAY())-8)","v":"2022-07-22"}]
[null,"99167","8852269620039","17-โมจิไส้เผือก","Moji Taro 55g.","ของสด","ชิ้น",50,10,0.45,"00-FRY","ปกติ",null,null,null,null,null,null,null,{"$f":"IF(ROW()-ROW($V$5)>COUNTIF(dProduct[Status],\"ปกติ\"),\"\",INDEX(dProduct[NameTH],SMALL(IF(dProduct[Status]=\"ปกติ\",ROW(dProduct[NameTH])-ROW(dProduct[[#Headers],[NameTH]]),\"\"),ROW()-ROW($T$5))))","v":"17-โมจิไส้เผือก"},{"$f":"IF(ROW()-ROW($U$5)>COUNTIFS(dProduct[Status],\"ปกติ\",dProduct[Factory],\"<>\"&\"00-FRK\"),\"\",INDEX(dProduct[NameTH],SMALL(IF((dProduct[Status]=\"ปกติ\")*(dProduct[Factory]<>\"00-FRK\")=1,ROW(dProduct[NameTH])-ROW(dProduct[[#Headers],[NameTH]]),\"\"),ROW()-ROW($U$5))))","v":"17-โมจิไส้เผือก"},{"$f":"IF(ROW()-ROW($U$5)>COUNTIFS(dProduct[Status],\"ปกติ\",dProduct[Factory],\"<>\"&\"00-FRY\"),\"\",INDEX(dProduct[NameTH],SMALL(IF((dProduct[Status]=\"ปกติ\")*(dProduct[Factory]<>\"00-FRY\")=1,ROW(dProduct[NameTH])-ROW(dProduct[[#Headers],[NameTH]]),\"\"),ROW()-ROW($U$5))))","v":""},null,{"$f":"IFERROR(INDEX(dProduct[NameTH],_xlfn.AGGREGATE(15,6,(ROW(dProduct[NameTH])-ROW(dProduct[[#Headers],[NameTH]]))/(COUNTIF(Transaction[Products],dProduct[NameTH])>0),ROWS($X$6:$X22))),\"\")","v":""},null,{"$f":"IF(YEAR(TODAY()+30)=YEAR(TODAY()),\"\",TODAY()+30)","v":""},null,null,{"$f":"DATE(YEAR(TODAY()),MONTH(TODAY()),ROWS($6:22)+DAY(TODAY())-8)","v":"2022-07-23"}]
[null,"99166","8852269610108","18-โมจิไส้ถั่วไข่เค็ม","Moji with Bean Paste and Salted Egg Yolk 75g.","ของสด","ชิ้น",50,15,0.45,"00-FRY","ปกติ",null,null,null,null,null,null,null,{"$f":"IF(ROW()-ROW($V$5)>COUNTIF(dProduct[Status],\"ปกติ\"),\"\",INDEX(dProduct[NameTH],SMALL(IF(dProduct[Status]=\"ปกติ\",ROW(dProduct[NameTH])-ROW(dProduct[[#Headers],[NameTH]]),\"\"),ROW()-ROW($T$5))))","v":"18-โมจิไส้ถั่วไข่เค็ม"},{"$f":"IF(ROW()-ROW($U$5)>COUNTIFS(dProduct[Status],\"ปกติ\",dProduct[Factory],\"<>\"&\"00-FRK\"),\"\",INDEX(dProduct[NameTH],SMALL(IF((dProduct[Status]=\"ปกติ\")*(dProduct[Factory]<>\"00-FRK\")=1,ROW(dProduct[NameTH])-ROW(dProduct[[#Headers],[NameTH]]),\"\"),ROW()-ROW($U$5))))","v":"18-โมจิไส้ถั่วไข่เค็ม"},{"$f":"IF(ROW()-ROW($U$5)>COUNTIFS(dProduct[Status],\"ปกติ\",dProduct[Factory],\"<>\"&\"00-FRY\"),\"\",INDEX(dProduct[NameTH],SMALL(IF((dProduct[Status]=\"ปกติ\")*(dProduct[Factory]<>\"00-FRY\")=1,ROW(dProduct[NameTH])-ROW(dProduct[[#Headers],[NameTH]]),\"\"),ROW()-ROW($U$5))))","v":""},null,{"$f":"IFERROR(INDEX(dProduct[NameTH],_xlfn.AGGREGATE(15,6,(ROW(dProduct[NameTH])-ROW(dProduct[[#Headers],[NameTH]]))/(COUNTIF(Transaction[Products],dProduct[NameTH])>0),ROWS($X$6:$X23))),\"\")","v":""},null,null,null,null,{"$f":"DATE(YEAR(TODAY()),MONTH(TODAY()),ROWS($6:23)+DAY(TODAY())-8)","v":"2022-07-24"}]
[null,"9912","8852269400181","19-ขนมปังพิซซ่า","Sausage Pizza 60g.","ของแห้ง","ชิ้น",50,15,0.45,"00-FRY","ปกติ",null,null,null,null,null,null,null,{"$f":"IF(ROW()-ROW($V$5)>COUNTIF(dProduct[Status],\"ปกติ\"),\"\",INDEX(dProduct[NameTH],SMALL(IF(dProduct[Status]=\"ปกติ\",ROW(dProduct[NameTH])-ROW(dProduct[[#Headers],[NameTH]]),\"\"),ROW()-ROW($T$5))))","v":"19-ขนมปังพิซซ่า"},{"$f":"IF(ROW()-ROW($U$5)>COUNTIFS(dProduct[Status],\"ปกติ\",dProduct[Factory],\"<>\"&\"00-FRK\"),\"\",INDEX(dProduct[NameTH],SMALL(IF((dProduct[Status]=\"ปกติ\")*(dProduct[Factory]<>\"00-FRK\")=1,ROW(dProduct[NameTH])-ROW(dProduct[[#Headers],[NameTH]]),\"\"),ROW()-ROW($U$5))))","v":"19-ขนมปังพิซซ่า"},{"$f":"IF(ROW()-ROW($U$5)>COUNTIFS(dProduct[Status],\"ปกติ\",dProduct[Factory],\"<>\"&\"00-FRY\"),\"\",INDEX(dProduct[NameTH],SMALL(IF((dProduct[Status]=\"ปกติ\")*(dProduct[Factory]<>\"00-FRY\")=1,ROW(dProduct[NameTH])-ROW(dProduct[[#Headers],[NameTH]]),\"\"),ROW()-ROW($U$5))))","v":""},null,{"$f":"IFERROR(INDEX(dProduct[NameTH],_xlfn.AGGREGATE(15,6,(ROW(dProduct[NameTH])-ROW(dProduct[[#Headers],[NameTH]]))/(COUNTIF(Transaction[Products],dProduct[NameTH])>0),ROWS($X$6:$X24))),\"\")","v":""}]
[null,"99158","8852269600093","20-ขนมปังพิซซ่าปูอัดแฮม","Crab Stick With Ham Pizza 60g.","ของแห้ง","ชิ้น",50,15,0.45,"00-FRY","ปกติ",null,null,null,null,null,null,null,{"$f":"IF(ROW()-ROW($V$5)>COUNTIF(dProduct[Status],\"ปกติ\"),\"\",INDEX(dProduct[NameTH],SMALL(IF(dProduct[Status]=\"ปกติ\",ROW(dProduct[NameTH])-ROW(dProduct[[#Headers],[NameTH]]),\"\"),ROW()-ROW($T$5))))","v":"20-ขนมปังพิซซ่าปูอัดแฮม"},{"$f":"IF(ROW()-ROW($U$5)>COUNTIFS(dProduct[Status],\"ปกติ\",dProduct[Factory],\"<>\"&\"00-FRK\"),\"\",INDEX(dProduct[NameTH],SMALL(IF((dProduct[Status]=\"ปกติ\")*(dProduct[Factory]<>\"00-FRK\")=1,ROW(dProduct[NameTH])-ROW(dProduct[[#Headers],[NameTH]]),\"\"),ROW()-ROW($U$5))))","v":"20-ขนมปังพิซซ่าปูอัดแฮม"},{"$f":"IF(ROW()-ROW($U$5)>COUNTIFS(dProduct[Status],\"ปกติ\",dProduct[Factory],\"<>\"&\"00-FRY\"),\"\",INDEX(dProduct[NameTH],SMALL(IF((dProduct[Status]=\"ปกติ\")*(dProduct[Factory]<>\"00-FRY\")=1,ROW(dProduct[NameTH])-ROW(dProduct[[#Headers],[NameTH]]),\"\"),ROW()-ROW($U$5))))","v":""},null,{"$f":"IFERROR(INDEX(dProduct[NameTH],_xlfn.AGGREGATE(15,6,(ROW(dProduct[NameTH])-ROW(dProduct[[#Headers],[NameTH]]))/(COUNTIF(Transaction[Products],dProduct[NameTH])>0),ROWS($X$6:$X25))),\"\")","v":""}]
[null,"9953","8852269400068","21-ขนมปังไส้กรอก","Sausage Filled Bun 70g.","ของแห้ง","ชิ้น",50,15,0.45,"00-FRY","ปกติ",null,null,null,null,null,null,null,{"$f":"IF(ROW()-ROW($V$5)>COUNTIF(dProduct[Status],\"ปกติ\"),\"\",INDEX(dProduct[NameTH],SMALL(IF(dProduct[Status]=\"ปกติ\",ROW(dProduct[NameTH])-ROW(dProduct[[#Headers],[NameTH]]),\"\"),ROW()-ROW($T$5))))","v":"21-ขนมปังไส้กรอก"},{"$f":"IF(ROW()-ROW($U$5)>COUNTIFS(dProduct[Status],\"ปกติ\",dProduct[Factory],\"<>\"&\"00-FRK\"),\"\",INDEX(dProduct[NameTH],SMALL(IF((dProduct[Status]=\"ปกติ\")*(dProduct[Factory]<>\"00-FRK\")=1,ROW(dProduct[NameTH])-ROW(dProduct[[#Headers],[NameTH]]),\"\"),ROW()-ROW($U$5))))","v":"21-ขนมปังไส้กรอก"},{"$f":"IF(ROW()-ROW($U$5)>COUNTIFS(dProduct[Status],\"ปกติ\",dProduct[Factory],\"<>\"&\"00-FRY\"),\"\",INDEX(dProduct[NameTH],SMALL(IF((dProduct[Status]=\"ปกติ\")*(dProduct[Factory]<>\"00-FRY\")=1,ROW(dProduct[NameTH])-ROW(dProduct[[#Headers],[NameTH]]),\"\"),ROW()-ROW($U$5))))","v":""},null,{"$f":"IFERROR(INDEX(dProduct[NameTH],_xlfn.AGGREGATE(15,6,(ROW(dProduct[NameTH])-ROW(dProduct[[#Headers],[NameTH]]))/(COUNTIF(Transaction[Products],dProduct[NameTH])>0),ROWS($X$6:$X26))),\"\")","v":""}]
[null,"99173","8852269640013","22-ขนมปังไส้ครีมรสกาแฟ","Coffee Cream Filled Bun 70g.","ของแห้ง","ชิ้น",40,12,0.45,"00-FRY","ปกติ",null,null,null,null,null,null,null,{"$f":"IF(ROW()-ROW($V$5)>COUNTIF(dProduct[Status],\"ปกติ\"),\"\",INDEX(dProduct[NameTH],SMALL(IF(dProduct[Status]=\"ปกติ\",ROW(dProduct[NameTH])-ROW(dProduct[[#Headers],[NameTH]]),\"\"),ROW()-ROW($T$5))))","v":"22-ขนมปังไส้ครีมรสกาแฟ"},{"$f":"IF(ROW()-ROW($U$5)>COUNTIFS(dProduct[Status],\"ปกติ\",dProduct[Factory],\"<>\"&\"00-FRK\"),\"\",INDEX(dProduct[NameTH],SMALL(IF((dProduct[Status]=\"ปกติ\")*(dProduct[Factory]<>\"00-FRK\")=1,ROW(dProduct[NameTH])-ROW(dProduct[[#Headers],[NameTH]]),\"\"),ROW()-ROW($U$5))))","v":"22-ขนมปังไส้ครีมรสกาแฟ"},{"$f":"IF(ROW()-ROW($U$5)>COUNTIFS(dProduct[Status],\"ปกติ\",dProduct[Factory],\"<>\"&\"00-FRY\"),\"\",INDEX(dProduct[NameTH],SMALL(IF((dProduct[Status]=\"ปกติ\")*(dProduct[Factory]<>\"00-FRY\")=1,ROW(dProduct[NameTH])-ROW(dProduct[[#Headers],[NameTH]]),\"\"),ROW()-ROW($U$5))))","v":""},null,{"$f":"IFERROR(INDEX(dProduct[NameTH],_xlfn.AGGREGATE(15,6,(ROW(dProduct[NameTH])-ROW(dProduct[[#Headers],[NameTH]]))/(COUNTIF(Transaction[Products],dProduct[NameTH])>0),ROWS($X$6:$X27))),\"\")","v":""}]
[null,"99175","8852269640068","23-ครัวซองต์เนยสด","Butter Croissant 35g.","ของสด","ชิ้น",40,20,0.45,"00-FRK","ปกติ",null,null,null,null,null,null,null,{"$f":"IF(ROW()-ROW($V$5)>COUNTIF(dProduct[Status],\"ปกติ\"),\"\",INDEX(dProduct[NameTH],SMALL(IF(dProduct[Status]=\"ปกติ\",ROW(dProduct[NameTH])-ROW(dProduct[[#Headers],[NameTH]]),\"\"),ROW()-ROW($T$5))))","v":"23-ครัวซองต์เนยสด"},{"$f":"IF(ROW()-ROW($U$5)>COUNTIFS(dProduct[Status],\"ปกติ\",dProduct[Factory],\"<>\"&\"00-FRK\"),\"\",INDEX(dProduct[NameTH],SMALL(IF((dProduct[Status]=\"ปกติ\")*(dProduct[Factory]<>\"00-FRK\")=1,ROW(dProduct[NameTH])-ROW(dProduct[[#Headers],[NameTH]]),\"\"),ROW()-ROW($U$5))))","v":"24-ขนมก้านบัว"},{"$f":"IF(ROW()-ROW($U$5)>COUNTIFS(dProduct[Status],\"ปกติ\",dProduct[Factory],\"<>\"&\"00-FRY\"),\"\",INDEX(dProduct[NameTH],SMALL(IF((dProduct[Status]=\"ปกติ\")*(dProduct[Factory]<>\"00-FRY\")=1,ROW(dProduct[NameTH])-ROW(dProduct[[#Headers],[NameTH]]),\"\"),ROW()-ROW($U$5))))","v":""},null,{"$f":"IFERROR(INDEX(dProduct[NameTH],_xlfn.AGGREGATE(15,6,(ROW(dProduct[NameTH])-ROW(dProduct[[#Headers],[NameTH]]))/(COUNTIF(Transaction[Products],dProduct[NameTH])>0),ROWS($X$6:$X28))),\"\")","v":""}]
[null,"9909","8852269400105","24-ขนมก้านบัว","Thai Sweet Fried Dough 80g.","ของสด","ชิ้น",40,15,0.45,"00-FRY","ปกติ",null,null,null,null,null,null,null,{"$f":"IF(ROW()-ROW($V$5)>COUNTIF(dProduct[Status],\"ปกติ\"),\"\",INDEX(dProduct[NameTH],SMALL(IF(dProduct[Status]=\"ปกติ\",ROW(dProduct[NameTH])-ROW(dProduct[[#Headers],[NameTH]]),\"\"),ROW()-ROW($T$5))))","v":"24-ขนมก้านบัว"},{"$f":"IF(ROW()-ROW($U$5)>COUNTIFS(dProduct[Status],\"ปกติ\",dProduct[Factory],\"<>\"&\"00-FRK\"),\"\",INDEX(dProduct[NameTH],SMALL(IF((dProduct[Status]=\"ปกติ\")*(dProduct[Factory]<>\"00-FRK\")=1,ROW(dProduct[NameTH])-ROW(dProduct[[#Headers],[NameTH]]),\"\"),ROW()-ROW($U$5))))","v":"27-ปังกรอบเนยสด"},{"$f":"IF(ROW()-ROW($U$5)>COUNTIFS(dProduct[Status],\"ปกติ\",dProduct[Factory],\"<>\"&\"00-FRY\"),\"\",INDEX(dProduct[NameTH],SMALL(IF((dProduct[Status]=\"ปกติ\")*(dProduct[Factory]<>\"00-FRY\")=1,ROW(dProduct[NameTH])-ROW(dProduct[[#Headers],[NameTH]]),\"\"),ROW()-ROW($U$5))))","v":""},null,{"$f":"IFERROR(INDEX(dProduct[NameTH],_xlfn.AGGREGATE(15,6,(ROW(dProduct[NameTH])-ROW(dProduct[[#Headers],[NameTH]]))/(COUNTIF(Transaction[Products],dProduct[NameTH])>0),ROWS($X$6:$X29))),\"\")","v":""}]
[null,"99176","8852269650012","25-ขนมปังกรอบเนยน้ำตาล","Crispy sugar Buttered toast 60g.","ของแห้ง","ชิ้น",50,20,0.45,"00-FRK","ปกติ",null,null,null,null,null,null,null,{"$f":"IF(ROW()-ROW($V$5)>COUNTIF(dProduct[Status],\"ปกติ\"),\"\",INDEX(dProduct[NameTH],SMALL(IF(dProduct[Status]=\"ปกติ\",ROW(dProduct[NameTH])-ROW(dProduct[[#Headers],[NameTH]]),\"\"),ROW()-ROW($T$5))))","v":"25-ขนมปังกรอบเนยน้ำตาล"},{"$f":"IF(ROW()-ROW($U$5)>COUNTIFS(dProduct[Status],\"ปกติ\",dProduct[Factory],\"<>\"&\"00-FRK\"),\"\",INDEX(dProduct[NameTH],SMALL(IF((dProduct[Status]=\"ปกติ\")*(dProduct[Factory]<>\"00-FRK\")=1,ROW(dProduct[NameTH])-ROW(dProduct[[#Headers],[NameTH]]),\"\"),ROW()-ROW($U$5))))","v":"28-ปังกรอบกระเทียม"},{"$f":"IF(ROW()-ROW($U$5)>COUNTIFS(dProduct[Status],\"ปกติ\",dProduct[Factory],\"<>\"&\"00-FRY\"),\"\",INDEX(dProduct[NameTH],SMALL(IF((dProduct[Status]=\"ปกติ\")*(dProduct[Factory]<>\"00-FRY\")=1,ROW(dProduct[NameTH])-ROW(dProduct[[#Headers],[NameTH]]),\"\"),ROW()-ROW($U$5))))","v":""},null,{"$f":"IFERROR(INDEX(dProduct[NameTH],_xlfn.AGGREGATE(15,6,(ROW(dProduct[NameTH])-ROW(dProduct[[#Headers],[NameTH]]))/(COUNTIF(Transaction[Products],dProduct[NameTH])>0),ROWS($X$6:$X30))),\"\")","v":""}]
[null,"99177","8852269640044","26-พายสับปะรด","Pineapple Filled Pie 60g.","ของสด","ชิ้น",50,20,0.45,"00-FRK","ปกติ",null,null,null,null,null,null,null,{"$f":"IF(ROW()-ROW($V$5)>COUNTIF(dProduct[Status],\"ปกติ\"),\"\",INDEX(dProduct[NameTH],SMALL(IF(dProduct[Status]=\"ปกติ\",ROW(dProduct[NameTH])-ROW(dProduct[[#Headers],[NameTH]]),\"\"),ROW()-ROW($T$5))))","v":"26-พายสับปะรด"},{"$f":"IF(ROW()-ROW($U$5)>COUNTIFS(dProduct[Status],\"ปกติ\",dProduct[Factory],\"<>\"&\"00-FRK\"),\"\",INDEX(dProduct[NameTH],SMALL(IF((dProduct[Status]=\"ปกติ\")*(dProduct[Factory]<>\"00-FRK\")=1,ROW(dProduct[NameTH])-ROW(dProduct[[#Headers],[NameTH]]),\"\"),ROW()-ROW($U$5))))","v":"29-ขนมปังโรลมันเทศ"},{"$f":"IF(ROW()-ROW($U$5)>COUNTIFS(dProduct[Status],\"ปกติ\",dProduct[Factory],\"<>\"&\"00-FRY\"),\"\",INDEX(dProduct[NameTH],SMALL(IF((dProduct[Status]=\"ปกติ\")*(dProduct[Factory]<>\"00-FRY\")=1,ROW(dProduct[NameTH])-ROW(dProduct[[#Headers],[NameTH]]),\"\"),ROW()-ROW($U$5))))","v":""},null,{"$f":"IFERROR(INDEX(dProduct[NameTH],_xlfn.AGGREGATE(15,6,(ROW(dProduct[NameTH])-ROW(dProduct[[#Headers],[NameTH]]))/(COUNTIF(Transaction[Products],dProduct[NameTH])>0),ROWS($X$6:$X31))),\"\")","v":""}]
[null,"99134","8852269580067","27-ปังกรอบเนยสด","Crispy Butter Bread 60g.","ของสด","ชิ้น",40,15,0.45,"00-FRY","ปกติ",null,null,null,null,null,null,null,{"$f":"IF(ROW()-ROW($V$5)>COUNTIF(dProduct[Status],\"ปกติ\"),\"\",INDEX(dProduct[NameTH],SMALL(IF(dProduct[Status]=\"ปกติ\",ROW(dProduct[NameTH])-ROW(dProduct[[#Headers],[NameTH]]),\"\"),ROW()-ROW($T$5))))","v":"27-ปังกรอบเนยสด"},{"$f":"IF(ROW()-ROW($U$5)>COUNTIFS(dProduct[Status],\"ปกติ\",dProduct[Factory],\"<>\"&\"00-FRK\"),\"\",INDEX(dProduct[NameTH],SMALL(IF((dProduct[Status]=\"ปกติ\")*(dProduct[Factory]<>\"00-FRK\")=1,ROW(dProduct[NameTH])-ROW(dProduct[[#Headers],[NameTH]]),\"\"),ROW()-ROW($U$5))))","v":"30-บันเตยหอมไส้มันเทศ"},{"$f":"IF(ROW()-ROW($U$5)>COUNTIFS(dProduct[Status],\"ปกติ\",dProduct[Factory],\"<>\"&\"00-FRY\"),\"\",INDEX(dProduct[NameTH],SMALL(IF((dProduct[Status]=\"ปกติ\")*(dProduct[Factory]<>\"00-FRY\")=1,ROW(dProduct[NameTH])-ROW(dProduct[[#Headers],[NameTH]]),\"\"),ROW()-ROW($U$5))))","v":""},null,{"$f":"IFERROR(INDEX(dProduct[NameTH],_xlfn.AGGREGATE(15,6,(ROW(dProduct[NameTH])-ROW(dProduct[[#Headers],[NameTH]]))/(COUNTIF(Transaction[Products],dProduct[NameTH])>0),ROWS($X$6:$X32))),\"\")","v":""}]
[null,"99135","8852269580074","28-ปังกรอบกระเทียม","Crispy Garlic Bread 60g.","ของสด","ชิ้น",40,15,0.45,"00-FRY","ปกติ",null,null,null,null,null,null,null,{"$f":"IF(ROW()-ROW($V$5)>COUNTIF(dProduct[Status],\"ปกติ\"),\"\",INDEX(dProduct[NameTH],SMALL(IF(dProduct[Status]=\"ปกติ\",ROW(dProduct[NameTH])-ROW(dProduct[[#Headers],[NameTH]]),\"\"),ROW()-ROW($T$5))))","v":"28-ปังกรอบกระเทียม"},{"$f":"IF(ROW()-ROW($U$5)>COUNTIFS(dProduct[Status],\"ปกติ\",dProduct[Factory],\"<>\"&\"00-FRK\"),\"\",INDEX(dProduct[NameTH],SMALL(IF((dProduct[Status]=\"ปกติ\")*(dProduct[Factory]<>\"00-FRK\")=1,ROW(dProduct[NameTH])-ROW(dProduct[[#Headers],[NameTH]]),\"\"),ROW()-ROW($U$5))))","v":"31-โมจิชาเขียวมัทฉะไส้ถั่วแดง"},{"$f":"IF(ROW()-ROW($U$5)>COUNTIFS(dProduct[Status],\"ปกติ\",dProduct[Factory],\"<>\"&\"00-FRY\"),\"\",INDEX(dProduct[NameTH],SMALL(IF((dProduct[Status]=\"ปกติ\")*(dProduct[Factory]<>\"00-FRY\")=1,ROW(dProduct[NameTH])-ROW(dProduct[[#Headers],[NameTH]]),\"\"),ROW()-ROW($U$5))))","v":""},null,{"$f":"IFERROR(INDEX(dProduct[NameTH],_xlfn.AGGREGATE(15,6,(ROW(dProduct[NameTH])-ROW(dProduct[[#Headers],[NameTH]]))/(COUNTIF(Transaction[Products],dProduct[NameTH])>0),ROWS($X$6:$X33))),\"\")","v":""}]
[null,"9921","8852269400242","29-ขนมปังโรลมันเทศ","Sweet Potato Roll Bun 80g.","ของสด","ชิ้น",40,12,0.45,"00-FRY","ปกติ",null,null,null,null,null,null,null,{"$f":"IF(ROW()-ROW($V$5)>COUNTIF(dProduct[Status],\"ปกติ\"),\"\",INDEX(dProduct[NameTH],SMALL(IF(dProduct[Status]=\"ปกติ\",ROW(dProduct[NameTH])-ROW(dProduct[[#Headers],[NameTH]]),\"\"),ROW()-ROW($T$5))))","v":"29-ขนมปังโรลมันเทศ"},{"$f":"IF(ROW()-ROW($U$5)>COUNTIFS(dProduct[Status],\"ปกติ\",dProduct[Factory],\"<>\"&\"00-FRK\"),\"\",INDEX(dProduct[NameTH],SMALL(IF((dProduct[Status]=\"ปกติ\")*(dProduct[Factory]<>\"00-FRK\")=1,ROW(dProduct[NameTH])-ROW(dProduct[[#Headers],[NameTH]]),\"\"),ROW()-ROW($U$5))))","v":""},{"$f":"IF(ROW()-ROW($U$5)>COUNTIFS(dProduct[Status],\"ปกติ\",dProduct[Factory],\"<>\"&\"00-FRY\"),\"\",INDEX(dProduct[NameTH],SMALL(IF((dProduct[Status]=\"ปกติ\")*(dProduct[Factory]<>\"00-FRY\")=1,ROW(dProduct[NameTH])-ROW(dProduct[[#Headers],[NameTH]]),\"\"),ROW()-ROW($U$5))))","v":""},null,{"$f":"IFERROR(INDEX(dProduct[NameTH],_xlfn.AGGREGATE(15,6,(ROW(dProduct[NameTH])-ROW(dProduct[[#Headers],[NameTH]]))/(COUNTIF(Transaction[Products],dProduct[NameTH])>0),ROWS($X$6:$X34))),\"\")","v":""}]
[null,"99164","8852269620015","30-บันเตยหอมไส้มันเทศ","Pandan Sweet Potato Filled Bun 65g.","ของสด","ชิ้น",50,10,0.45,"00-FRY","ปกติ",null,null,null,null,null,null,null,{"$f":"IF(ROW()-ROW($V$5)>COUNTIF(dProduct[Status],\"ปกติ\"),\"\",INDEX(dProduct[NameTH],SMALL(IF(dProduct[Status]=\"ปกติ\",ROW(dProduct[NameTH])-ROW(dProduct[[#Headers],[NameTH]]),\"\"),ROW()-ROW($T$5))))","v":"30-บันเตยหอมไส้มันเทศ"},{"$f":"IF(ROW()-ROW($U$5)>COUNTIFS(dProduct[Status],\"ปกติ\",dProduct[Factory],\"<>\"&\"00-FRK\"),\"\",INDEX(dProduct[NameTH],SMALL(IF((dProduct[Status]=\"ปกติ\")*(dProduct[Factory]<>\"00-FRK\")=1,ROW(dProduct[NameTH])-ROW(dProduct[[#Headers],[NameTH]]),\"\"),ROW()-ROW($U$5))))","v":""},{"$f":"IF(ROW()-ROW($U$5)>COUNTIFS(dProduct[Status],\"ปกติ\",dProduct[Factory],\"<>\"&\"00-FRY\"),\"\",INDEX(dProduct[NameTH],SMALL(IF((dProduct[Status]=\"ปกติ\")*(dProduct[Factory]<>\"00-FRY\")=1,ROW(dProduct[NameTH])-ROW(dProduct[[#Headers],[NameTH]]),\"\"),ROW()-ROW($U$5))))","v":""},null,{"$f":"IFERROR(INDEX(dProduct[NameTH],_xlfn.AGGREGATE(15,6,(ROW(dProduct[NameTH])-ROW(dProduct[[#Headers],[NameTH]]))/(COUNTIF(Transaction[Products],dProduct[NameTH])>0),ROWS($X$6:$X35))),\"\")","v":""}]
[null,"99168","8852269620084","31-โมจิชาเขียวมัทฉะไส้ถั่วแดง","Matcha Moji with Japanese red bean 50g.","ของแห้ง","ชิ้น",50,10,0.45,"00-FRY","ปกติ",null,null,null,null,null,null,null,{"$f":"IF(ROW()-ROW($V$5)>COUNTIF(dProduct[Status],\"ปกติ\"),\"\",INDEX(dProduct[NameTH],SMALL(IF(dProduct[Status]=\"ปกติ\",ROW(dProduct[NameTH])-ROW(dProduct[[#Headers],[NameTH]]),\"\"),ROW()-ROW($T$5))))","v":"31-โมจิชาเขียวมัทฉะไส้ถั่วแดง"},{"$f":"IF(ROW()-ROW($U$5)>COUNTIFS(dProduct[Status],\"ปกติ\",dProduct[Factory],\"<>\"&\"00-FRK\"),\"\",INDEX(dProduct[NameTH],SMALL(IF((dProduct[Status]=\"ปกติ\")*(dProduct[Factory]<>\"00-FRK\")=1,ROW(dProduct[NameTH])-ROW(dProduct[[#Headers],[NameTH]]),\"\"),ROW()-ROW($U$5))))","v":""},{"$f":"IF(ROW()-ROW($U$5)>COUNTIFS(dProduct[Status],\"ปกติ\",dProduct[Factory],\"<>\"&\"00-FRY\"),\"\",INDEX(dProduct[NameTH],SMALL(IF((dProduct[Status]=\"ปกติ\")*(dProduct[Factory]<>\"00-FRY\")=1,ROW(dProduct[NameTH])-ROW(dProduct[[#Headers],[NameTH]]),\"\"),ROW()-ROW($U$5))))","v":""},null,{"$f":"IFERROR(INDEX(dProduct[NameTH],_xlfn.AGGREGATE(15,6,(ROW(dProduct[NameTH])-ROW(dProduct[[#Headers],[NameTH]]))/(COUNTIF(Transaction[Products],dProduct[NameTH])>0),ROWS($X$6:$X36))),\"\")","v":""}]
[null,null,null,null,null,null,null,null,null,null,null,null,null,null,null,null,null,null,null,{"$f":"IF(ROW()-ROW($V$5)>COUNTIF(dProduct[Status],\"ปกติ\"),\"\",INDEX(dProduct[NameTH],SMALL(IF(dProduct[Status]=\"ปกติ\",ROW(dProduct[NameTH])-ROW(dProduct[[#Headers],[NameTH]]),\"\"),ROW()-ROW($T$5))))","v":""},{"$f":"IF(ROW()-ROW($U$5)>COUNTIFS(dProduct[Status],\"ปกติ\",dProduct[Factory],\"<>\"&\"00-FRK\"),\"\",INDEX(dProduct[NameTH],SMALL(IF((dProduct[Status]=\"ปกติ\")*(dProduct[Factory]<>\"00-FRK\")=1,ROW(dProduct[NameTH])-ROW(dProduct[[#Headers],[NameTH]]),\"\"),ROW()-ROW($U$5))))","v":""},{"$f":"IF(ROW()-ROW($U$5)>COUNTIFS(dProduct[Status],\"ปกติ\",dProduct[Factory],\"<>\"&\"00-FRY\"),\"\",INDEX(dProduct[NameTH],SMALL(IF((dProduct[Status]=\"ปกติ\")*(dProduct[Factory]<>\"00-FRY\")=1,ROW(dProduct[NameTH])-ROW(dProduct[[#Headers],[NameTH]]),\"\"),ROW()-ROW($U$5))))","v":""},null,{"$f":"IFERROR(INDEX(dProduct[NameTH],_xlfn.AGGREGATE(15,6,(ROW(dProduct[NameTH])-ROW(dProduct[[#Headers],[NameTH]]))/(COUNTIF(Transaction[Products],dProduct[NameTH])>0),ROWS($X$6:$X37))),\"\")","v":""}]
[null,null,null,null,null,null,null,null,null,null,null,null,null,null,null,null,null,null,null,{"$f":"IF(ROW()-ROW($V$5)>COUNTIF(dProduct[Status],\"ปกติ\"),\"\",INDEX(dProduct[NameTH],SMALL(IF(dProduct[Status]=\"ปกติ\",ROW(dProduct[NameTH])-ROW(dProduct[[#Headers],[NameTH]]),\"\"),ROW()-ROW($T$5))))","v":""},{"$f":"IF(ROW()-ROW($U$5)>COUNTIFS(dProduct[Status],\"ปกติ\",dProduct[Factory],\"<>\"&\"00-FRK\"),\"\",INDEX(dProduct[NameTH],SMALL(IF((dProduct[Status]=\"ปกติ\")*(dProduct[Factory]<>\"00-FRK\")=1,ROW(dProduct[NameTH])-ROW(dProduct[[#Headers],[NameTH]]),\"\"),ROW()-ROW($U$5))))","v":""},{"$f":"IF(ROW()-ROW($U$5)>COUNTIFS(dProduct[Status],\"ปกติ\",dProduct[Factory],\"<>\"&\"00-FRY\"),\"\",INDEX(dProduct[NameTH],SMALL(IF((dProduct[Status]=\"ปกติ\")*(dProduct[Factory]<>\"00-FRY\")=1,ROW(dProduct[NameTH])-ROW(dProduct[[#Headers],[NameTH]]),\"\"),ROW()-ROW($U$5))))","v":""},null,{"$f":"IFERROR(INDEX(dProduct[NameTH],_xlfn.AGGREGATE(15,6,(ROW(dProduct[NameTH])-ROW(dProduct[[#Headers],[NameTH]]))/(COUNTIF(Transaction[Products],dProduct[NameTH])>0),ROWS($X$6:$X38))),\"\")","v":""}]
[null,null,null,null,null,null,null,null,null,null,null,null,null,null,null,null,null,null,null,{"$f":"IF(ROW()-ROW($V$5)>COUNTIF(dProduct[Status],\"ปกติ\"),\"\",INDEX(dProduct[NameTH],SMALL(IF(dProduct[Status]=\"ปกติ\",ROW(dProduct[NameTH])-ROW(dProduct[[#Headers],[NameTH]]),\"\"),ROW()-ROW($T$5))))","v":""},{"$f":"IF(ROW()-ROW($U$5)>COUNTIFS(dProduct[Status],\"ปกติ\",dProduct[Factory],\"<>\"&\"00-FRK\"),\"\",INDEX(dProduct[NameTH],SMALL(IF((dProduct[Status]=\"ปกติ\")*(dProduct[Factory]<>\"00-FRK\")=1,ROW(dProduct[NameTH])-ROW(dProduct[[#Headers],[NameTH]]),\"\"),ROW()-ROW($U$5))))","v":""},{"$f":"IF(ROW()-ROW($U$5)>COUNTIFS(dProduct[Status],\"ปกติ\",dProduct[Factory],\"<>\"&\"00-FRY\"),\"\",INDEX(dProduct[NameTH],SMALL(IF((dProduct[Status]=\"ปกติ\")*(dProduct[Factory]<>\"00-FRY\")=1,ROW(dProduct[NameTH])-ROW(dProduct[[#Headers],[NameTH]]),\"\"),ROW()-ROW($U$5))))","v":""},null,{"$f":"IFERROR(INDEX(dProduct[NameTH],_xlfn.AGGREGATE(15,6,(ROW(dProduct[NameTH])-ROW(dProduct[[#Headers],[NameTH]]))/(COUNTIF(Transaction[Products],dProduct[NameTH])>0),ROWS($X$6:$X39))),\"\")","v":""}]
[null,null,null,null,null,null,null,null,null,null,null,null,null,null,null,null,null,null,null,{"$f":"IF(ROW()-ROW($V$5)>COUNTIF(dProduct[Status],\"ปกติ\"),\"\",INDEX(dProduct[NameTH],SMALL(IF(dProduct[Status]=\"ปกติ\",ROW(dProduct[NameTH])-ROW(dProduct[[#Headers],[NameTH]]),\"\"),ROW()-ROW($T$5))))","v":""},{"$f":"IF(ROW()-ROW($U$5)>COUNTIFS(dProduct[Status],\"ปกติ\",dProduct[Factory],\"<>\"&\"00-FRK\"),\"\",INDEX(dProduct[NameTH],SMALL(IF((dProduct[Status]=\"ปกติ\")*(dProduct[Factory]<>\"00-FRK\")=1,ROW(dProduct[NameTH])-ROW(dProduct[[#Headers],[NameTH]]),\"\"),ROW()-ROW($U$5))))","v":""},{"$f":"IF(ROW()-ROW($U$5)>COUNTIFS(dProduct[Status],\"ปกติ\",dProduct[Factory],\"<>\"&\"00-FRY\"),\"\",INDEX(dProduct[NameTH],SMALL(IF((dProduct[Status]=\"ปกติ\")*(dProduct[Factory]<>\"00-FRY\")=1,ROW(dProduct[NameTH])-ROW(dProduct[[#Headers],[NameTH]]),\"\"),ROW()-ROW($U$5))))","v":""},null,{"$f":"IFERROR(INDEX(dProduct[NameTH],_xlfn.AGGREGATE(15,6,(ROW(dProduct[NameTH])-ROW(dProduct[[#Headers],[NameTH]]))/(COUNTIF(Transaction[Products],dProduct[NameTH])>0),ROWS($X$6:$X40))),\"\")","v":""}]
[null,null,null,null,null,null,null,null,null,null,null,null,null,null,null,null,null,null,null,{"$f":"IF(ROW()-ROW($V$5)>COUNTIF(dProduct[Status],\"ปกติ\"),\"\",INDEX(dProduct[NameTH],SMALL(IF(dProduct[Status]=\"ปกติ\",ROW(dProduct[NameTH])-ROW(dProduct[[#Headers],[NameTH]]),\"\"),ROW()-ROW($T$5))))","v":""},{"$f":"IF(ROW()-ROW($U$5)>COUNTIFS(dProduct[Status],\"ปกติ\",dProduct[Factory],\"<>\"&\"00-FRK\"),\"\",INDEX(dProduct[NameTH],SMALL(IF((dProduct[Status]=\"ปกติ\")*(dProduct[Factory]<>\"00-FRK\")=1,ROW(dProduct[NameTH])-ROW(dProduct[[#Headers],[NameTH]]),\"\"),ROW()-ROW($U$5))))","v":""},{"$f":"IF(ROW()-ROW($U$5)>COUNTIFS(dProduct[Status],\"ปกติ\",dProduct[Factory],\"<>\"&\"00-FRY\"),\"\",INDEX(dProduct[NameTH],SMALL(IF((dProduct[Status]=\"ปกติ\")*(dProduct[Factory]<>\"00-FRY\")=1,ROW(dProduct[NameTH])-ROW(dProduct[[#Headers],[NameTH]]),\"\"),ROW()-ROW($U$5))))","v":""},null,{"$f":"IFERROR(INDEX(dProduct[NameTH],_xlfn.AGGREGATE(15,6,(ROW(dProduct[NameTH])-ROW(dProduct[[#Headers],[NameTH]]))/(COUNTIF(Transaction[Products],dProduct[NameTH])>0),ROWS($X$6:$X41))),\"\")","v":""}]
[null,null,null,null,null,null,null,null,null,null,null,null,null,null,null,null,null,null,null,{"$f":"IF(ROW()-ROW($V$5)>COUNTIF(dProduct[Status],\"ปกติ\"),\"\",INDEX(dProduct[NameTH],SMALL(IF(dProduct[Status]=\"ปกติ\",ROW(dProduct[NameTH])-ROW(dProduct[[#Headers],[NameTH]]),\"\"),ROW()-ROW($T$5))))","v":""},{"$f":"IF(ROW()-ROW($U$5)>COUNTIFS(dProduct[Status],\"ปกติ\",dProduct[Factory],\"<>\"&\"00-FRK\"),\"\",INDEX(dProduct[NameTH],SMALL(IF((dProduct[Status]=\"ปกติ\")*(dProduct[Factory]<>\"00-FRK\")=1,ROW(dProduct[NameTH])-ROW(dProduct[[#Headers],[NameTH]]),\"\"),ROW()-ROW($U$5))))","v":""},{"$f":"IF(ROW()-ROW($U$5)>COUNTIFS(dProduct[Status],\"ปกติ\",dProduct[Factory],\"<>\"&\"00-FRY\"),\"\",INDEX(dProduct[NameTH],SMALL(IF((dProduct[Status]=\"ปกติ\")*(dProduct[Factory]<>\"00-FRY\")=1,ROW(dProduct[NameTH])-ROW(dProduct[[#Headers],[NameTH]]),\"\"),ROW()-ROW($U$5))))","v":""},null,{"$f":"IFERROR(INDEX(dProduct[NameTH],_xlfn.AGGREGATE(15,6,(ROW(dProduct[NameTH])-ROW(dProduct[[#Headers],[NameTH]]))/(COUNTIF(Transaction[Products],dProduct[NameTH])>0),ROWS($X$6:$X42))),\"\")","v":""}]
[null,null,null,null,null,null,null,null,null,null,null,null,null,null,null,null,null,null,null,{"$f":"IF(ROW()-ROW($V$5)>COUNTIF(dProduct[Status],\"ปกติ\"),\"\",INDEX(dProduct[NameTH],SMALL(IF(dProduct[Status]=\"ปกติ\",ROW(dProduct[NameTH])-ROW(dProduct[[#Headers],[NameTH]]),\"\"),ROW()-ROW($T$5))))","v":""},{"$f":"IF(ROW()-ROW($U$5)>COUNTIFS(dProduct[Status],\"ปกติ\",dProduct[Factory],\"<>\"&\"00-FRK\"),\"\",INDEX(dProduct[NameTH],SMALL(IF((dProduct[Status]=\"ปกติ\")*(dProduct[Factory]<>\"00-FRK\")=1,ROW(dProduct[NameTH])-ROW(dProduct[[#Headers],[NameTH]]),\"\"),ROW()-ROW($U$5))))","v":""},{"$f":"IF(ROW()-ROW($U$5)>COUNTIFS(dProduct[Status],\"ปกติ\",dProduct[Factory],\"<>\"&\"00-FRY\"),\"\",INDEX(dProduct[NameTH],SMALL(IF((dProduct[Status]=\"ปกติ\")*(dProduct[Factory]<>\"00-FRY\")=1,ROW(dProduct[NameTH])-ROW(dProduct[[#Headers],[NameTH]]),\"\"),ROW()-ROW($U$5))))","v":""},null,{"$f":"IFERROR(INDEX(dProduct[NameTH],_xlfn.AGGREGATE(15,6,(ROW(dProduct[NameTH])-ROW(dProduct[[#Headers],[NameTH]]))/(COUNTIF(Transaction[Products],dProduct[NameTH])>0),ROWS($X$6:$X43))),\"\")","v":""}]
[null,null,null,null,null,null,null,null,null,null,null,null,null,null,null,null,null,null,null,{"$f":"IF(ROW()-ROW($V$5)>COUNTIF(dProduct[Status],\"ปกติ\"),\"\",INDEX(dProduct[NameTH],SMALL(IF(dProduct[Status]=\"ปกติ\",ROW(dProduct[NameTH])-ROW(dProduct[[#Headers],[NameTH]]),\"\"),ROW()-ROW($T$5))))","v":""},{"$f":"IF(ROW()-ROW($U$5)>COUNTIFS(dProduct[Status],\"ปกติ\",dProduct[Factory],\"<>\"&\"00-FRK\"),\"\",INDEX(dProduct[NameTH],SMALL(IF((dProduct[Status]=\"ปกติ\")*(dProduct[Factory]<>\"00-FRK\")=1,ROW(dProduct[NameTH])-ROW(dProduct[[#Headers],[NameTH]]),\"\"),ROW()-ROW($U$5))))","v":""},{"$f":"IF(ROW()-ROW($U$5)>COUNTIFS(dProduct[Status],\"ปกติ\",dProduct[Factory],\"<>\"&\"00-FRY\"),\"\",INDEX(dProduct[NameTH],SMALL(IF((dProduct[Status]=\"ปกติ\")*(dProduct[Factory]<>\"00-FRY\")=1,ROW(dProduct[NameTH])-ROW(dProduct[[#Headers],[NameTH]]),\"\"),ROW()-ROW($U$5))))","v":""},null,{"$f":"IFERROR(INDEX(dProduct[NameTH],_xlfn.AGGREGATE(15,6,(ROW(dProduct[NameTH])-ROW(dProduct[[#Headers],[NameTH]]))/(COUNTIF(Transaction[Products],dProduct[NameTH])>0),ROWS($X$6:$X44))),\"\")","v":""}]
[null,null,null,null,null,null,null,null,null,null,null,null,null,null,null,null,null,null,null,{"$f":"IF(ROW()-ROW($V$5)>COUNTIF(dProduct[Status],\"ปกติ\"),\"\",INDEX(dProduct[NameTH],SMALL(IF(dProduct[Status]=\"ปกติ\",ROW(dProduct[NameTH])-ROW(dProduct[[#Headers],[NameTH]]),\"\"),ROW()-ROW($T$5))))","v":""},{"$f":"IF(ROW()-ROW($U$5)>COUNTIFS(dProduct[Status],\"ปกติ\",dProduct[Factory],\"<>\"&\"00-FRK\"),\"\",INDEX(dProduct[NameTH],SMALL(IF((dProduct[Status]=\"ปกติ\")*(dProduct[Factory]<>\"00-FRK\")=1,ROW(dProduct[NameTH])-ROW(dProduct[[#Headers],[NameTH]]),\"\"),ROW()-ROW($U$5))))","v":""},{"$f":"IF(ROW()-ROW($U$5)>COUNTIFS(dProduct[Status],\"ปกติ\",dProduct[Factory],\"<>\"&\"00-FRY\"),\"\",INDEX(dProduct[NameTH],SMALL(IF((dProduct[Status]=\"ปกติ\")*(dProduct[Factory]<>\"00-FRY\")=1,ROW(dProduct[NameTH])-ROW(dProduct[[#Headers],[NameTH]]),\"\"),ROW()-ROW($U$5))))","v":""},null,{"$f":"IFERROR(INDEX(dProduct[NameTH],_xlfn.AGGREGATE(15,6,(ROW(dProduct[NameTH])-ROW(dProduct[[#Headers],[NameTH]]))/(COUNTIF(Transaction[Products],dProduct[NameTH])>0),ROWS($X$6:$X45))),\"\")","v":""}]
[null,null,null,null,null,null,null,null,null,null,null,null,null,null,null,null,null,null,null,{"$f":"IF(ROW()-ROW($V$5)>COUNTIF(dProduct[Status],\"ปกติ\"),\"\",INDEX(dProduct[NameTH],SMALL(IF(dProduct[Status]=\"ปกติ\",ROW(dProduct[NameTH])-ROW(dProduct[[#Headers],[NameTH]]),\"\"),ROW()-ROW($T$5))))","v":""},{"$f":"IF(ROW()-ROW($U$5)>COUNTIFS(dProduct[Status],\"ปกติ\",dProduct[Factory],\"<>\"&\"00-FRK\"),\"\",INDEX(dProduct[NameTH],SMALL(IF((dProduct[Status]=\"ปกติ\")*(dProduct[Factory]<>\"00-FRK\")=1,ROW(dProduct[NameTH])-ROW(dProduct[[#Headers],[NameTH]]),\"\"),ROW()-ROW($U$5))))","v":""},{"$f":"IF(ROW()-ROW($U$5)>COUNTIFS(dProduct[Status],\"ปกติ\",dProduct[Factory],\"<>\"&\"00-FRY\"),\"\",INDEX(dProduct[NameTH],SMALL(IF((dProduct[Status]=\"ปกติ\")*(dProduct[Factory]<>\"00-FRY\")=1,ROW(dProduct[NameTH])-ROW(dProduct[[#Headers],[NameTH]]),\"\"),ROW()-ROW($U$5))))","v":""},null,{"$f":"IFERROR(INDEX(dProduct[NameTH],_xlfn.AGGREGATE(15,6,(ROW(dProduct[NameTH])-ROW(dProduct[[#Headers],[NameTH]]))/(COUNTIF(Transaction[Products],dProduct[NameTH])>0),ROWS($X$6:$X46))),\"\")","v":""}]
[null,null,null,null,null,null,null,null,null,null,null,null,null,null,null,null,null,null,null,{"$f":"IF(ROW()-ROW($V$5)>COUNTIF(dProduct[Status],\"ปกติ\"),\"\",INDEX(dProduct[NameTH],SMALL(IF(dProduct[Status]=\"ปกติ\",ROW(dProduct[NameTH])-ROW(dProduct[[#Headers],[NameTH]]),\"\"),ROW()-ROW($T$5))))","v":""},{"$f":"IF(ROW()-ROW($U$5)>COUNTIFS(dProduct[Status],\"ปกติ\",dProduct[Factory],\"<>\"&\"00-FRK\"),\"\",INDEX(dProduct[NameTH],SMALL(IF((dProduct[Status]=\"ปกติ\")*(dProduct[Factory]<>\"00-FRK\")=1,ROW(dProduct[NameTH])-ROW(dProduct[[#Headers],[NameTH]]),\"\"),ROW()-ROW($U$5))))","v":""},{"$f":"IF(ROW()-ROW($U$5)>COUNTIFS(dProduct[Status],\"ปกติ\",dProduct[Factory],\"<>\"&\"00-FRY\"),\"\",INDEX(dProduct[NameTH],SMALL(IF((dProduct[Status]=\"ปกติ\")*(dProduct[Factory]<>\"00-FRY\")=1,ROW(dProduct[NameTH])-ROW(dProduct[[#Headers],[NameTH]]),\"\"),ROW()-ROW($U$5))))","v":""}]
[null,null,null,null,null,null,null,null,null,null,null,null,null,null,null,null,null,null,null,{"$f":"IF(ROW()-ROW($V$5)>COUNTIF(dProduct[Status],\"ปกติ\"),\"\",INDEX(dProduct[NameTH],SMALL(IF(dProduct[Status]=\"ปกติ\",ROW(dProduct[NameTH])-ROW(dProduct[[#Headers],[NameTH]]),\"\"),ROW()-ROW($T$5))))","v":""},{"$f":"IF(ROW()-ROW($U$5)>COUNTIFS(dProduct[Status],\"ปกติ\",dProduct[Factory],\"<>\"&\"00-FRK\"),\"\",INDEX(dProduct[NameTH],SMALL(IF((dProduct[Status]=\"ปกติ\")*(dProduct[Factory]<>\"00-FRK\")=1,ROW(dProduct[NameTH])-ROW(dProduct[[#Headers],[NameTH]]),\"\"),ROW()-ROW($U$5))))","v":""},{"$f":"IF(ROW()-ROW($U$5)>COUNTIFS(dProduct[Status],\"ปกติ\",dProduct[Factory],\"<>\"&\"00-FRY\"),\"\",INDEX(dProduct[NameTH],SMALL(IF((dProduct[Status]=\"ปกติ\")*(dProduct[Factory]<>\"00-FRY\")=1,ROW(dProduct[NameTH])-ROW(dProduct[[#Headers],[NameTH]]),\"\"),ROW()-ROW($U$5))))","v":""}]
[null,null,null,null,null,null,null,null,null,null,null,null,null,null,null,null,null,null,null,{"$f":"IF(ROW()-ROW($V$5)>COUNTIF(dProduct[Status],\"ปกติ\"),\"\",INDEX(dProduct[NameTH],SMALL(IF(dProduct[Status]=\"ปกติ\",ROW(dProduct[NameTH])-ROW(dProduct[[#Headers],[NameTH]]),\"\"),ROW()-ROW($T$5))))","v":""},{"$f":"IF(ROW()-ROW($U$5)>COUNTIFS(dProduct[Status],\"ปกติ\",dProduct[Factory],\"<>\"&\"00-FRK\"),\"\",INDEX(dProduct[NameTH],SMALL(IF((dProduct[Status]=\"ปกติ\")*(dProduct[Factory]<>\"00-FRK\")=1,ROW(dProduct[NameTH])-ROW(dProduct[[#Headers],[NameTH]]),\"\"),ROW()-ROW($U$5))))","v":""},{"$f":"IF(ROW()-ROW($U$5)>COUNTIFS(dProduct[Status],\"ปกติ\",dProduct[Factory],\"<>\"&\"00-FRY\"),\"\",INDEX(dProduct[NameTH],SMALL(IF((dProduct[Status]=\"ปกติ\")*(dProduct[Factory]<>\"00-FRY\")=1,ROW(dProduct[NameTH])-ROW(dProduct[[#Headers],[NameTH]]),\"\"),ROW()-ROW($U$5))))","v":""}]
[null,null,null,null,null,null,null,null,null,null,null,null,null,null,null,null,null,null,null,{"$f":"IF(ROW()-ROW($V$5)>COUNTIF(dProduct[Status],\"ปกติ\"),\"\",INDEX(dProduct[NameTH],SMALL(IF(dProduct[Status]=\"ปกติ\",ROW(dProduct[NameTH])-ROW(dProduct[[#Headers],[NameTH]]),\"\"),ROW()-ROW($T$5))))","v":""},{"$f":"IF(ROW()-ROW($U$5)>COUNTIFS(dProduct[Status],\"ปกติ\",dProduct[Factory],\"<>\"&\"00-FRK\"),\"\",INDEX(dProduct[NameTH],SMALL(IF((dProduct[Status]=\"ปกติ\")*(dProduct[Factory]<>\"00-FRK\")=1,ROW(dProduct[NameTH])-ROW(dProduct[[#Headers],[NameTH]]),\"\"),ROW()-ROW($U$5))))","v":""},{"$f":"IF(ROW()-ROW($U$5)>COUNTIFS(dProduct[Status],\"ปกติ\",dProduct[Factory],\"<>\"&\"00-FRY\"),\"\",INDEX(dProduct[NameTH],SMALL(IF((dProduct[Status]=\"ปกติ\")*(dProduct[Factory]<>\"00-FRY\")=1,ROW(dProduct[NameTH])-ROW(dProduct[[#Headers],[NameTH]]),\"\"),ROW()-ROW($U$5))))","v":""}]
[null,null,null,null,null,null,null,null,null,null,null,null,null,null,null,null,null,null,null,{"$f":"IF(ROW()-ROW($V$5)>COUNTIF(dProduct[Status],\"ปกติ\"),\"\",INDEX(dProduct[NameTH],SMALL(IF(dProduct[Status]=\"ปกติ\",ROW(dProduct[NameTH])-ROW(dProduct[[#Headers],[NameTH]]),\"\"),ROW()-ROW($T$5))))","v":""},{"$f":"IF(ROW()-ROW($U$5)>COUNTIFS(dProduct[Status],\"ปกติ\",dProduct[Factory],\"<>\"&\"00-FRK\"),\"\",INDEX(dProduct[NameTH],SMALL(IF((dProduct[Status]=\"ปกติ\")*(dProduct[Factory]<>\"00-FRK\")=1,ROW(dProduct[NameTH])-ROW(dProduct[[#Headers],[NameTH]]),\"\"),ROW()-ROW($U$5))))","v":""},{"$f":"IF(ROW()-ROW($U$5)>COUNTIFS(dProduct[Status],\"ปกติ\",dProduct[Factory],\"<>\"&\"00-FRY\"),\"\",INDEX(dProduct[NameTH],SMALL(IF((dProduct[Status]=\"ปกติ\")*(dProduct[Factory]<>\"00-FRY\")=1,ROW(dProduct[NameTH])-ROW(dProduct[[#Headers],[NameTH]]),\"\"),ROW()-ROW($U$5))))","v":""}]
[null,null,null,null,null,null,null,null,null,null,null,null,null,null,null,null,null,null,null,{"$f":"IF(ROW()-ROW($V$5)>COUNTIF(dProduct[Status],\"ปกติ\"),\"\",INDEX(dProduct[NameTH],SMALL(IF(dProduct[Status]=\"ปกติ\",ROW(dProduct[NameTH])-ROW(dProduct[[#Headers],[NameTH]]),\"\"),ROW()-ROW($T$5))))","v":""},{"$f":"IF(ROW()-ROW($U$5)>COUNTIFS(dProduct[Status],\"ปกติ\",dProduct[Factory],\"<>\"&\"00-FRK\"),\"\",INDEX(dProduct[NameTH],SMALL(IF((dProduct[Status]=\"ปกติ\")*(dProduct[Factory]<>\"00-FRK\")=1,ROW(dProduct[NameTH])-ROW(dProduct[[#Headers],[NameTH]]),\"\"),ROW()-ROW($U$5))))","v":""},{"$f":"IF(ROW()-ROW($U$5)>COUNTIFS(dProduct[Status],\"ปกติ\",dProduct[Factory],\"<>\"&\"00-FRY\"),\"\",INDEX(dProduct[NameTH],SMALL(IF((dProduct[Status]=\"ปกติ\")*(dProduct[Factory]<>\"00-FRY\")=1,ROW(dProduct[NameTH])-ROW(dProduct[[#Headers],[NameTH]]),\"\"),ROW()-ROW($U$5))))","v":""}]
[null,null,null,null,null,null,null,null,null,null,null,null,null,null,null,null,null,null,null,{"$f":"IF(ROW()-ROW($V$5)>COUNTIF(dProduct[Status],\"ปกติ\"),\"\",INDEX(dProduct[NameTH],SMALL(IF(dProduct[Status]=\"ปกติ\",ROW(dProduct[NameTH])-ROW(dProduct[[#Headers],[NameTH]]),\"\"),ROW()-ROW($T$5))))","v":""},{"$f":"IF(ROW()-ROW($U$5)>COUNTIFS(dProduct[Status],\"ปกติ\",dProduct[Factory],\"<>\"&\"00-FRK\"),\"\",INDEX(dProduct[NameTH],SMALL(IF((dProduct[Status]=\"ปกติ\")*(dProduct[Factory]<>\"00-FRK\")=1,ROW(dProduct[NameTH])-ROW(dProduct[[#Headers],[NameTH]]),\"\"),ROW()-ROW($U$5))))","v":""},{"$f":"IF(ROW()-ROW($U$5)>COUNTIFS(dProduct[Status],\"ปกติ\",dProduct[Factory],\"<>\"&\"00-FRY\"),\"\",INDEX(dProduct[NameTH],SMALL(IF((dProduct[Status]=\"ปกติ\")*(dProduct[Factory]<>\"00-FRY\")=1,ROW(dProduct[NameTH])-ROW(dProduct[[#Headers],[NameTH]]),\"\"),ROW()-ROW($U$5))))","v":""}]
[null,null,null,null,null,null,null,null,null,null,null,null,null,null,null,null,null,null,null,{"$f":"IF(ROW()-ROW($V$5)>COUNTIF(dProduct[Status],\"ปกติ\"),\"\",INDEX(dProduct[NameTH],SMALL(IF(dProduct[Status]=\"ปกติ\",ROW(dProduct[NameTH])-ROW(dProduct[[#Headers],[NameTH]]),\"\"),ROW()-ROW($T$5))))","v":""},{"$f":"IF(ROW()-ROW($U$5)>COUNTIFS(dProduct[Status],\"ปกติ\",dProduct[Factory],\"<>\"&\"00-FRK\"),\"\",INDEX(dProduct[NameTH],SMALL(IF((dProduct[Status]=\"ปกติ\")*(dProduct[Factory]<>\"00-FRK\")=1,ROW(dProduct[NameTH])-ROW(dProduct[[#Headers],[NameTH]]),\"\"),ROW()-ROW($U$5))))","v":""},{"$f":"IF(ROW()-ROW($U$5)>COUNTIFS(dProduct[Status],\"ปกติ\",dProduct[Factory],\"<>\"&\"00-FRY\"),\"\",INDEX(dProduct[NameTH],SMALL(IF((dProduct[Status]=\"ปกติ\")*(dProduct[Factory]<>\"00-FRY\")=1,ROW(dProduct[NameTH])-ROW(dProduct[[#Headers],[NameTH]]),\"\"),ROW()-ROW($U$5))))","v":""}]
[null,null,null,null,null,null,null,null,null,null,null,null,null,null,null,null,null,null,null,{"$f":"IF(ROW()-ROW($V$5)>COUNTIF(dProduct[Status],\"ปกติ\"),\"\",INDEX(dProduct[NameTH],SMALL(IF(dProduct[Status]=\"ปกติ\",ROW(dProduct[NameTH])-ROW(dProduct[[#Headers],[NameTH]]),\"\"),ROW()-ROW($T$5))))","v":""},{"$f":"IF(ROW()-ROW($U$5)>COUNTIFS(dProduct[Status],\"ปกติ\",dProduct[Factory],\"<>\"&\"00-FRK\"),\"\",INDEX(dProduct[NameTH],SMALL(IF((dProduct[Status]=\"ปกติ\")*(dProduct[Factory]<>\"00-FRK\")=1,ROW(dProduct[NameTH])-ROW(dProduct[[#Headers],[NameTH]]),\"\"),ROW()-ROW($U$5))))","v":""},{"$f":"IF(ROW()-ROW($U$5)>COUNTIFS(dProduct[Status],\"ปกติ\",dProduct[Factory],\"<>\"&\"00-FRY\"),\"\",INDEX(dProduct[NameTH],SMALL(IF((dProduct[Status]=\"ปกติ\")*(dProduct[Factory]<>\"00-FRY\")=1,ROW(dProduct[NameTH])-ROW(dProduct[[#Headers],[NameTH]]),\"\"),ROW()-ROW($U$5))))","v":""}]
[null,null,null,null,null,null,null,null,null,null,null,null,null,null,null,null,null,null,null,{"$f":"IF(ROW()-ROW($V$5)>COUNTIF(dProduct[Status],\"ปกติ\"),\"\",INDEX(dProduct[NameTH],SMALL(IF(dProduct[Status]=\"ปกติ\",ROW(dProduct[NameTH])-ROW(dProduct[[#Headers],[NameTH]]),\"\"),ROW()-ROW($T$5))))","v":""},{"$f":"IF(ROW()-ROW($U$5)>COUNTIFS(dProduct[Status],\"ปกติ\",dProduct[Factory],\"<>\"&\"00-FRK\"),\"\",INDEX(dProduct[NameTH],SMALL(IF((dProduct[Status]=\"ปกติ\")*(dProduct[Factory]<>\"00-FRK\")=1,ROW(dProduct[NameTH])-ROW(dProduct[[#Headers],[NameTH]]),\"\"),ROW()-ROW($U$5))))","v":""},{"$f":"IF(ROW()-ROW($U$5)>COUNTIFS(dProduct[Status],\"ปกติ\",dProduct[Factory],\"<>\"&\"00-FRY\"),\"\",INDEX(dProduct[NameTH],SMALL(IF((dProduct[Status]=\"ปกติ\")*(dProduct[Factory]<>\"00-FRY\")=1,ROW(dProduct[NameTH])-ROW(dProduct[[#Headers],[NameTH]]),\"\"),ROW()-ROW($U$5))))","v":""}]
[null,null,null,null,null,null,null,null,null,null,null,null,null,null,null,null,null,null,null,{"$f":"IF(ROW()-ROW($V$5)>COUNTIF(dProduct[Status],\"ปกติ\"),\"\",INDEX(dProduct[NameTH],SMALL(IF(dProduct[Status]=\"ปกติ\",ROW(dProduct[NameTH])-ROW(dProduct[[#Headers],[NameTH]]),\"\"),ROW()-ROW($T$5))))","v":""},{"$f":"IF(ROW()-ROW($U$5)>COUNTIFS(dProduct[Status],\"ปกติ\",dProduct[Factory],\"<>\"&\"00-FRK\"),\"\",INDEX(dProduct[NameTH],SMALL(IF((dProduct[Status]=\"ปกติ\")*(dProduct[Factory]<>\"00-FRK\")=1,ROW(dProduct[NameTH])-ROW(dProduct[[#Headers],[NameTH]]),\"\"),ROW()-ROW($U$5))))","v":""},{"$f":"IF(ROW()-ROW($U$5)>COUNTIFS(dProduct[Status],\"ปกติ\",dProduct[Factory],\"<>\"&\"00-FRY\"),\"\",INDEX(dProduct[NameTH],SMALL(IF((dProduct[Status]=\"ปกติ\")*(dProduct[Factory]<>\"00-FRY\")=1,ROW(dProduct[NameTH])-ROW(dProduct[[#Headers],[NameTH]]),\"\"),ROW()-ROW($U$5))))","v":""}]
[null,null,null,null,null,null,null,null,null,null,null,null,null,null,null,null,null,null,null,{"$f":"IF(ROW()-ROW($V$5)>COUNTIF(dProduct[Status],\"ปกติ\"),\"\",INDEX(dProduct[NameTH],SMALL(IF(dProduct[Status]=\"ปกติ\",ROW(dProduct[NameTH])-ROW(dProduct[[#Headers],[NameTH]]),\"\"),ROW()-ROW($T$5))))","v":""},{"$f":"IF(ROW()-ROW($U$5)>COUNTIFS(dProduct[Status],\"ปกติ\",dProduct[Factory],\"<>\"&\"00-FRK\"),\"\",INDEX(dProduct[NameTH],SMALL(IF((dProduct[Status]=\"ปกติ\")*(dProduct[Factory]<>\"00-FRK\")=1,ROW(dProduct[NameTH])-ROW(dProduct[[#Headers],[NameTH]]),\"\"),ROW()-ROW($U$5))))","v":""},{"$f":"IF(ROW()-ROW($U$5)>COUNTIFS(dProduct[Status],\"ปกติ\",dProduct[Factory],\"<>\"&\"00-FRY\"),\"\",INDEX(dProduct[NameTH],SMALL(IF((dProduct[Status]=\"ปกติ\")*(dProduct[Factory]<>\"00-FRY\")=1,ROW(dProduct[NameTH])-ROW(dProduct[[#Headers],[NameTH]]),\"\"),ROW()-ROW($U$5))))","v":""}]
[null,null,null,null,null,null,null,null,null,null,null,null,null,null,null,null,null,null,null,{"$f":"IF(ROW()-ROW($V$5)>COUNTIF(dProduct[Status],\"ปกติ\"),\"\",INDEX(dProduct[NameTH],SMALL(IF(dProduct[Status]=\"ปกติ\",ROW(dProduct[NameTH])-ROW(dProduct[[#Headers],[NameTH]]),\"\"),ROW()-ROW($T$5))))","v":""},{"$f":"IF(ROW()-ROW($U$5)>COUNTIFS(dProduct[Status],\"ปกติ\",dProduct[Factory],\"<>\"&\"00-FRK\"),\"\",INDEX(dProduct[NameTH],SMALL(IF((dProduct[Status]=\"ปกติ\")*(dProduct[Factory]<>\"00-FRK\")=1,ROW(dProduct[NameTH])-ROW(dProduct[[#Headers],[NameTH]]),\"\"),ROW()-ROW($U$5))))","v":""},{"$f":"IF(ROW()-ROW($U$5)>COUNTIFS(dProduct[Status],\"ปกติ\",dProduct[Factory],\"<>\"&\"00-FRY\"),\"\",INDEX(dProduct[NameTH],SMALL(IF((dProduct[Status]=\"ปกติ\")*(dProduct[Factory]<>\"00-FRY\")=1,ROW(dProduct[NameTH])-ROW(dProduct[[#Headers],[NameTH]]),\"\"),ROW()-ROW($U$5))))","v":""}]
[null,null,null,null,null,null,null,null,null,null,null,null,null,null,null,null,null,null,null,{"$f":"IF(ROW()-ROW($V$5)>COUNTIF(dProduct[Status],\"ปกติ\"),\"\",INDEX(dProduct[NameTH],SMALL(IF(dProduct[Status]=\"ปกติ\",ROW(dProduct[NameTH])-ROW(dProduct[[#Headers],[NameTH]]),\"\"),ROW()-ROW($T$5))))","v":""},{"$f":"IF(ROW()-ROW($U$5)>COUNTIFS(dProduct[Status],\"ปกติ\",dProduct[Factory],\"<>\"&\"00-FRK\"),\"\",INDEX(dProduct[NameTH],SMALL(IF((dProduct[Status]=\"ปกติ\")*(dProduct[Factory]<>\"00-FRK\")=1,ROW(dProduct[NameTH])-ROW(dProduct[[#Headers],[NameTH]]),\"\"),ROW()-ROW($U$5))))","v":""},{"$f":"IF(ROW()-ROW($U$5)>COUNTIFS(dProduct[Status],\"ปกติ\",dProduct[Factory],\"<>\"&\"00-FRY\"),\"\",INDEX(dProduct[NameTH],SMALL(IF((dProduct[Status]=\"ปกติ\")*(dProduct[Factory]<>\"00-FRY\")=1,ROW(dProduct[NameTH])-ROW(dProduct[[#Headers],[NameTH]]),\"\"),ROW()-ROW($U$5))))","v":""}]
[null,null,null,null,null,null,null,null,null,null,null,null,null,null,null,null,null,null,null,{"$f":"IF(ROW()-ROW($V$5)>COUNTIF(dProduct[Status],\"ปกติ\"),\"\",INDEX(dProduct[NameTH],SMALL(IF(dProduct[Status]=\"ปกติ\",ROW(dProduct[NameTH])-ROW(dProduct[[#Headers],[NameTH]]),\"\"),ROW()-ROW($T$5))))","v":""},{"$f":"IF(ROW()-ROW($U$5)>COUNTIFS(dProduct[Status],\"ปกติ\",dProduct[Factory],\"<>\"&\"00-FRK\"),\"\",INDEX(dProduct[NameTH],SMALL(IF((dProduct[Status]=\"ปกติ\")*(dProduct[Factory]<>\"00-FRK\")=1,ROW(dProduct[NameTH])-ROW(dProduct[[#Headers],[NameTH]]),\"\"),ROW()-ROW($U$5))))","v":""},{"$f":"IF(ROW()-ROW($U$5)>COUNTIFS(dProduct[Status],\"ปกติ\",dProduct[Factory],\"<>\"&\"00-FRY\"),\"\",INDEX(dProduct[NameTH],SMALL(IF((dProduct[Status]=\"ปกติ\")*(dProduct[Factory]<>\"00-FRY\")=1,ROW(dProduct[NameTH])-ROW(dProduct[[#Headers],[NameTH]]),\"\"),ROW()-ROW($U$5))))","v":""}]
[null,null,null,null,null,null,null,null,null,null,null,null,null,null,null,null,null,null,null,{"$f":"IF(ROW()-ROW($V$5)>COUNTIF(dProduct[Status],\"ปกติ\"),\"\",INDEX(dProduct[NameTH],SMALL(IF(dProduct[Status]=\"ปกติ\",ROW(dProduct[NameTH])-ROW(dProduct[[#Headers],[NameTH]]),\"\"),ROW()-ROW($T$5))))","v":""},{"$f":"IF(ROW()-ROW($U$5)>COUNTIFS(dProduct[Status],\"ปกติ\",dProduct[Factory],\"<>\"&\"00-FRK\"),\"\",INDEX(dProduct[NameTH],SMALL(IF((dProduct[Status]=\"ปกติ\")*(dProduct[Factory]<>\"00-FRK\")=1,ROW(dProduct[NameTH])-ROW(dProduct[[#Headers],[NameTH]]),\"\"),ROW()-ROW($U$5))))","v":""},{"$f":"IF(ROW()-ROW($U$5)>COUNTIFS(dProduct[Status],\"ปกติ\",dProduct[Factory],\"<>\"&\"00-FRY\"),\"\",INDEX(dProduct[NameTH],SMALL(IF((dProduct[Status]=\"ปกติ\")*(dProduct[Factory]<>\"00-FRY\")=1,ROW(dProduct[NameTH])-ROW(dProduct[[#Headers],[NameTH]]),\"\"),ROW()-ROW($U$5))))","v":""}]
[null,null,null,null,null,null,null,null,null,null,null,null,null,null,null,null,null,null,null,{"$f":"IF(ROW()-ROW($V$5)>COUNTIF(dProduct[Status],\"ปกติ\"),\"\",INDEX(dProduct[NameTH],SMALL(IF(dProduct[Status]=\"ปกติ\",ROW(dProduct[NameTH])-ROW(dProduct[[#Headers],[NameTH]]),\"\"),ROW()-ROW($T$5))))","v":""},{"$f":"IF(ROW()-ROW($U$5)>COUNTIFS(dProduct[Status],\"ปกติ\",dProduct[Factory],\"<>\"&\"00-FRK\"),\"\",INDEX(dProduct[NameTH],SMALL(IF((dProduct[Status]=\"ปกติ\")*(dProduct[Factory]<>\"00-FRK\")=1,ROW(dProduct[NameTH])-ROW(dProduct[[#Headers],[NameTH]]),\"\"),ROW()-ROW($U$5))))","v":""},{"$f":"IF(ROW()-ROW($U$5)>COUNTIFS(dProduct[Status],\"ปกติ\",dProduct[Factory],\"<>\"&\"00-FRY\"),\"\",INDEX(dProduct[NameTH],SMALL(IF((dProduct[Status]=\"ปกติ\")*(dProduct[Factory]<>\"00-FRY\")=1,ROW(dProduct[NameTH])-ROW(dProduct[[#Headers],[NameTH]]),\"\"),ROW()-ROW($U$5))))","v":""}]
[null,null,null,null,null,null,null,null,null,null,null,null,null,null,null,null,null,null,null,{"$f":"IF(ROW()-ROW($V$5)>COUNTIF(dProduct[Status],\"ปกติ\"),\"\",INDEX(dProduct[NameTH],SMALL(IF(dProduct[Status]=\"ปกติ\",ROW(dProduct[NameTH])-ROW(dProduct[[#Headers],[NameTH]]),\"\"),ROW()-ROW($T$5))))","v":""},{"$f":"IF(ROW()-ROW($U$5)>COUNTIFS(dProduct[Status],\"ปกติ\",dProduct[Factory],\"<>\"&\"00-FRK\"),\"\",INDEX(dProduct[NameTH],SMALL(IF((dProduct[Status]=\"ปกติ\")*(dProduct[Factory]<>\"00-FRK\")=1,ROW(dProduct[NameTH])-ROW(dProduct[[#Headers],[NameTH]]),\"\"),ROW()-ROW($U$5))))","v":""},{"$f":"IF(ROW()-ROW($U$5)>COUNTIFS(dProduct[Status],\"ปกติ\",dProduct[Factory],\"<>\"&\"00-FRY\"),\"\",INDEX(dProduct[NameTH],SMALL(IF((dProduct[Status]=\"ปกติ\")*(dProduct[Factory]<>\"00-FRY\")=1,ROW(dProduct[NameTH])-ROW(dProduct[[#Headers],[NameTH]]),\"\"),ROW()-ROW($U$5))))","v":""}]
[null,null,null,null,null,null,null,null,null,null,null,null,null,null,null,null,null,null,null,{"$f":"IF(ROW()-ROW($V$5)>COUNTIF(dProduct[Status],\"ปกติ\"),\"\",INDEX(dProduct[NameTH],SMALL(IF(dProduct[Status]=\"ปกติ\",ROW(dProduct[NameTH])-ROW(dProduct[[#Headers],[NameTH]]),\"\"),ROW()-ROW($T$5))))","v":""},{"$f":"IF(ROW()-ROW($U$5)>COUNTIFS(dProduct[Status],\"ปกติ\",dProduct[Factory],\"<>\"&\"00-FRK\"),\"\",INDEX(dProduct[NameTH],SMALL(IF((dProduct[Status]=\"ปกติ\")*(dProduct[Factory]<>\"00-FRK\")=1,ROW(dProduct[NameTH])-ROW(dProduct[[#Headers],[NameTH]]),\"\"),ROW()-ROW($U$5))))","v":""},{"$f":"IF(ROW()-ROW($U$5)>COUNTIFS(dProduct[Status],\"ปกติ\",dProduct[Factory],\"<>\"&\"00-FRY\"),\"\",INDEX(dProduct[NameTH],SMALL(IF((dProduct[Status]=\"ปกติ\")*(dProduct[Factory]<>\"00-FRY\")=1,ROW(dProduct[NameTH])-ROW(dProduct[[#Headers],[NameTH]]),\"\"),ROW()-ROW($U$5))))","v":""}]
[null,null,null,null,null,null,null,null,null,null,null,null,null,null,null,null,null,null,null,{"$f":"IF(ROW()-ROW($V$5)>COUNTIF(dProduct[Status],\"ปกติ\"),\"\",INDEX(dProduct[NameTH],SMALL(IF(dProduct[Status]=\"ปกติ\",ROW(dProduct[NameTH])-ROW(dProduct[[#Headers],[NameTH]]),\"\"),ROW()-ROW($T$5))))","v":""},{"$f":"IF(ROW()-ROW($U$5)>COUNTIFS(dProduct[Status],\"ปกติ\",dProduct[Factory],\"<>\"&\"00-FRK\"),\"\",INDEX(dProduct[NameTH],SMALL(IF((dProduct[Status]=\"ปกติ\")*(dProduct[Factory]<>\"00-FRK\")=1,ROW(dProduct[NameTH])-ROW(dProduct[[#Headers],[NameTH]]),\"\"),ROW()-ROW($U$5))))","v":""},{"$f":"IF(ROW()-ROW($U$5)>COUNTIFS(dProduct[Status],\"ปกติ\",dProduct[Factory],\"<>\"&\"00-FRY\"),\"\",INDEX(dProduct[NameTH],SMALL(IF((dProduct[Status]=\"ปกติ\")*(dProduct[Factory]<>\"00-FRY\")=1,ROW(dProduct[NameTH])-ROW(dProduct[[#Headers],[NameTH]]),\"\"),ROW()-ROW($U$5))))","v":""}]
[null,null,null,null,null,null,null,null,null,null,null,null,null,null,null,null,null,null,null,{"$f":"IF(ROW()-ROW($V$5)>COUNTIF(dProduct[Status],\"ปกติ\"),\"\",INDEX(dProduct[NameTH],SMALL(IF(dProduct[Status]=\"ปกติ\",ROW(dProduct[NameTH])-ROW(dProduct[[#Headers],[NameTH]]),\"\"),ROW()-ROW($T$5))))","v":""},{"$f":"IF(ROW()-ROW($U$5)>COUNTIFS(dProduct[Status],\"ปกติ\",dProduct[Factory],\"<>\"&\"00-FRK\"),\"\",INDEX(dProduct[NameTH],SMALL(IF((dProduct[Status]=\"ปกติ\")*(dProduct[Factory]<>\"00-FRK\")=1,ROW(dProduct[NameTH])-ROW(dProduct[[#Headers],[NameTH]]),\"\"),ROW()-ROW($U$5))))","v":""},{"$f":"IF(ROW()-ROW($U$5)>COUNTIFS(dProduct[Status],\"ปกติ\",dProduct[Factory],\"<>\"&\"00-FRY\"),\"\",INDEX(dProduct[NameTH],SMALL(IF((dProduct[Status]=\"ปกติ\")*(dProduct[Factory]<>\"00-FRY\")=1,ROW(dProduct[NameTH])-ROW(dProduct[[#Headers],[NameTH]]),\"\"),ROW()-ROW($U$5))))","v":""}]
[null,null,null,null,null,null,null,null,null,null,null,null,null,null,null,null,null,null,null,{"$f":"IF(ROW()-ROW($V$5)>COUNTIF(dProduct[Status],\"ปกติ\"),\"\",INDEX(dProduct[NameTH],SMALL(IF(dProduct[Status]=\"ปกติ\",ROW(dProduct[NameTH])-ROW(dProduct[[#Headers],[NameTH]]),\"\"),ROW()-ROW($T$5))))","v":""},{"$f":"IF(ROW()-ROW($U$5)>COUNTIFS(dProduct[Status],\"ปกติ\",dProduct[Factory],\"<>\"&\"00-FRK\"),\"\",INDEX(dProduct[NameTH],SMALL(IF((dProduct[Status]=\"ปกติ\")*(dProduct[Factory]<>\"00-FRK\")=1,ROW(dProduct[NameTH])-ROW(dProduct[[#Headers],[NameTH]]),\"\"),ROW()-ROW($U$5))))","v":""},{"$f":"IF(ROW()-ROW($U$5)>COUNTIFS(dProduct[Status],\"ปกติ\",dProduct[Factory],\"<>\"&\"00-FRY\"),\"\",INDEX(dProduct[NameTH],SMALL(IF((dProduct[Status]=\"ปกติ\")*(dProduct[Factory]<>\"00-FRY\")=1,ROW(dProduct[NameTH])-ROW(dProduct[[#Headers],[NameTH]]),\"\"),ROW()-ROW($U$5))))","v":""}]
[null,null,null,null,null,null,null,null,null,null,null,null,null,null,null,null,null,null,null,{"$f":"IF(ROW()-ROW($V$5)>COUNTIF(dProduct[Status],\"ปกติ\"),\"\",INDEX(dProduct[NameTH],SMALL(IF(dProduct[Status]=\"ปกติ\",ROW(dProduct[NameTH])-ROW(dProduct[[#Headers],[NameTH]]),\"\"),ROW()-ROW($T$5))))","v":""},{"$f":"IF(ROW()-ROW($U$5)>COUNTIFS(dProduct[Status],\"ปกติ\",dProduct[Factory],\"<>\"&\"00-FRK\"),\"\",INDEX(dProduct[NameTH],SMALL(IF((dProduct[Status]=\"ปกติ\")*(dProduct[Factory]<>\"00-FRK\")=1,ROW(dProduct[NameTH])-ROW(dProduct[[#Headers],[NameTH]]),\"\"),ROW()-ROW($U$5))))","v":""},{"$f":"IF(ROW()-ROW($U$5)>COUNTIFS(dProduct[Status],\"ปกติ\",dProduct[Factory],\"<>\"&\"00-FRY\"),\"\",INDEX(dProduct[NameTH],SMALL(IF((dProduct[Status]=\"ปกติ\")*(dProduct[Factory]<>\"00-FRY\")=1,ROW(dProduct[NameTH])-ROW(dProduct[[#Headers],[NameTH]]),\"\"),ROW()-ROW($U$5))))","v":""}]
[null,null,null,null,null,null,null,null,null,null,null,null,null,null,null,null,null,null,null,{"$f":"IF(ROW()-ROW($V$5)>COUNTIF(dProduct[Status],\"ปกติ\"),\"\",INDEX(dProduct[NameTH],SMALL(IF(dProduct[Status]=\"ปกติ\",ROW(dProduct[NameTH])-ROW(dProduct[[#Headers],[NameTH]]),\"\"),ROW()-ROW($T$5))))","v":""},{"$f":"IF(ROW()-ROW($U$5)>COUNTIFS(dProduct[Status],\"ปกติ\",dProduct[Factory],\"<>\"&\"00-FRK\"),\"\",INDEX(dProduct[NameTH],SMALL(IF((dProduct[Status]=\"ปกติ\")*(dProduct[Factory]<>\"00-FRK\")=1,ROW(dProduct[NameTH])-ROW(dProduct[[#Headers],[NameTH]]),\"\"),ROW()-ROW($U$5))))","v":""},{"$f":"IF(ROW()-ROW($U$5)>COUNTIFS(dProduct[Status],\"ปกติ\",dProduct[Factory],\"<>\"&\"00-FRY\"),\"\",INDEX(dProduct[NameTH],SMALL(IF((dProduct[Status]=\"ปกติ\")*(dProduct[Factory]<>\"00-FRY\")=1,ROW(dProduct[NameTH])-ROW(dProduct[[#Headers],[NameTH]]),\"\"),ROW()-ROW($U$5))))","v":""}]
[null,null,null,null,null,null,null,null,null,null,null,null,null,null,null,null,null,null,null,{"$f":"IF(ROW()-ROW($V$5)>COUNTIF(dProduct[Status],\"ปกติ\"),\"\",INDEX(dProduct[NameTH],SMALL(IF(dProduct[Status]=\"ปกติ\",ROW(dProduct[NameTH])-ROW(dProduct[[#Headers],[NameTH]]),\"\"),ROW()-ROW($T$5))))","v":""},{"$f":"IF(ROW()-ROW($U$5)>COUNTIFS(dProduct[Status],\"ปกติ\",dProduct[Factory],\"<>\"&\"00-FRK\"),\"\",INDEX(dProduct[NameTH],SMALL(IF((dProduct[Status]=\"ปกติ\")*(dProduct[Factory]<>\"00-FRK\")=1,ROW(dProduct[NameTH])-ROW(dProduct[[#Headers],[NameTH]]),\"\"),ROW()-ROW($U$5))))","v":""},{"$f":"IF(ROW()-ROW($U$5)>COUNTIFS(dProduct[Status],\"ปกติ\",dProduct[Factory],\"<>\"&\"00-FRY\"),\"\",INDEX(dProduct[NameTH],SMALL(IF((dProduct[Status]=\"ปกติ\")*(dProduct[Factory]<>\"00-FRY\")=1,ROW(dProduct[NameTH])-ROW(dProduct[[#Headers],[NameTH]]),\"\"),ROW()-ROW($U$5))))","v":""}]
[null,null,null,null,null,null,null,null,null,null,null,null,null,null,null,null,null,null,null,{"$f":"IF(ROW()-ROW($V$5)>COUNTIF(dProduct[Status],\"ปกติ\"),\"\",INDEX(dProduct[NameTH],SMALL(IF(dProduct[Status]=\"ปกติ\",ROW(dProduct[NameTH])-ROW(dProduct[[#Headers],[NameTH]]),\"\"),ROW()-ROW($T$5))))","v":""},{"$f":"IF(ROW()-ROW($U$5)>COUNTIFS(dProduct[Status],\"ปกติ\",dProduct[Factory],\"<>\"&\"00-FRK\"),\"\",INDEX(dProduct[NameTH],SMALL(IF((dProduct[Status]=\"ปกติ\")*(dProduct[Factory]<>\"00-FRK\")=1,ROW(dProduct[NameTH])-ROW(dProduct[[#Headers],[NameTH]]),\"\"),ROW()-ROW($U$5))))","v":""},{"$f":"IF(ROW()-ROW($U$5)>COUNTIFS(dProduct[Status],\"ปกติ\",dProduct[Factory],\"<>\"&\"00-FRY\"),\"\",INDEX(dProduct[NameTH],SMALL(IF((dProduct[Status]=\"ปกติ\")*(dProduct[Factory]<>\"00-FRY\")=1,ROW(dProduct[NameTH])-ROW(dProduct[[#Headers],[NameTH]]),\"\"),ROW()-ROW($U$5))))","v":""}]
[null,null,null,null,null,null,null,null,null,null,null,null,null,null,null,null,null,null,null,{"$f":"IF(ROW()-ROW($V$5)>COUNTIF(dProduct[Status],\"ปกติ\"),\"\",INDEX(dProduct[NameTH],SMALL(IF(dProduct[Status]=\"ปกติ\",ROW(dProduct[NameTH])-ROW(dProduct[[#Headers],[NameTH]]),\"\"),ROW()-ROW($T$5))))","v":""},{"$f":"IF(ROW()-ROW($U$5)>COUNTIFS(dProduct[Status],\"ปกติ\",dProduct[Factory],\"<>\"&\"00-FRK\"),\"\",INDEX(dProduct[NameTH],SMALL(IF((dProduct[Status]=\"ปกติ\")*(dProduct[Factory]<>\"00-FRK\")=1,ROW(dProduct[NameTH])-ROW(dProduct[[#Headers],[NameTH]]),\"\"),ROW()-ROW($U$5))))","v":""},{"$f":"IF(ROW()-ROW($U$5)>COUNTIFS(dProduct[Status],\"ปกติ\",dProduct[Factory],\"<>\"&\"00-FRY\"),\"\",INDEX(dProduct[NameTH],SMALL(IF((dProduct[Status]=\"ปกติ\")*(dProduct[Factory]<>\"00-FRY\")=1,ROW(dProduct[NameTH])-ROW(dProduct[[#Headers],[NameTH]]),\"\"),ROW()-ROW($U$5))))","v":""}]
[null,null,null,null,null,null,null,null,null,null,null,null,null,null,null,null,null,null,null,{"$f":"IF(ROW()-ROW($V$5)>COUNTIF(dProduct[Status],\"ปกติ\"),\"\",INDEX(dProduct[NameTH],SMALL(IF(dProduct[Status]=\"ปกติ\",ROW(dProduct[NameTH])-ROW(dProduct[[#Headers],[NameTH]]),\"\"),ROW()-ROW($T$5))))","v":""},{"$f":"IF(ROW()-ROW($U$5)>COUNTIFS(dProduct[Status],\"ปกติ\",dProduct[Factory],\"<>\"&\"00-FRK\"),\"\",INDEX(dProduct[NameTH],SMALL(IF((dProduct[Status]=\"ปกติ\")*(dProduct[Factory]<>\"00-FRK\")=1,ROW(dProduct[NameTH])-ROW(dProduct[[#Headers],[NameTH]]),\"\"),ROW()-ROW($U$5))))","v":""},{"$f":"IF(ROW()-ROW($U$5)>COUNTIFS(dProduct[Status],\"ปกติ\",dProduct[Factory],\"<>\"&\"00-FRY\"),\"\",INDEX(dProduct[NameTH],SMALL(IF((dProduct[Status]=\"ปกติ\")*(dProduct[Factory]<>\"00-FRY\")=1,ROW(dProduct[NameTH])-ROW(dProduct[[#Headers],[NameTH]]),\"\"),ROW()-ROW($U$5))))","v":""}]
[null,null,null,null,null,null,null,null,null,null,null,null,null,null,null,null,null,null,null,{"$f":"IF(ROW()-ROW($V$5)>COUNTIF(dProduct[Status],\"ปกติ\"),\"\",INDEX(dProduct[NameTH],SMALL(IF(dProduct[Status]=\"ปกติ\",ROW(dProduct[NameTH])-ROW(dProduct[[#Headers],[NameTH]]),\"\"),ROW()-ROW($T$5))))","v":""},{"$f":"IF(ROW()-ROW($U$5)>COUNTIFS(dProduct[Status],\"ปกติ\",dProduct[Factory],\"<>\"&\"00-FRK\"),\"\",INDEX(dProduct[NameTH],SMALL(IF((dProduct[Status]=\"ปกติ\")*(dProduct[Factory]<>\"00-FRK\")=1,ROW(dProduct[NameTH])-ROW(dProduct[[#Headers],[NameTH]]),\"\"),ROW()-ROW($U$5))))","v":""},{"$f":"IF(ROW()-ROW($U$5)>COUNTIFS(dProduct[Status],\"ปกติ\",dProduct[Factory],\"<>\"&\"00-FRY\"),\"\",INDEX(dProduct[NameTH],SMALL(IF((dProduct[Status]=\"ปกติ\")*(dProduct[Factory]<>\"00-FRY\")=1,ROW(dProduct[NameTH])-ROW(dProduct[[#Headers],[NameTH]]),\"\"),ROW()-ROW($U$5))))","v":""}]
[null,null,null,null,null,null,null,null,null,null,null,null,null,null,null,null,null,null,null,{"$f":"IF(ROW()-ROW($V$5)>COUNTIF(dProduct[Status],\"ปกติ\"),\"\",INDEX(dProduct[NameTH],SMALL(IF(dProduct[Status]=\"ปกติ\",ROW(dProduct[NameTH])-ROW(dProduct[[#Headers],[NameTH]]),\"\"),ROW()-ROW($T$5))))","v":""},{"$f":"IF(ROW()-ROW($U$5)>COUNTIFS(dProduct[Status],\"ปกติ\",dProduct[Factory],\"<>\"&\"00-FRK\"),\"\",INDEX(dProduct[NameTH],SMALL(IF((dProduct[Status]=\"ปกติ\")*(dProduct[Factory]<>\"00-FRK\")=1,ROW(dProduct[NameTH])-ROW(dProduct[[#Headers],[NameTH]]),\"\"),ROW()-ROW($U$5))))","v":""},{"$f":"IF(ROW()-ROW($U$5)>COUNTIFS(dProduct[Status],\"ปกติ\",dProduct[Factory],\"<>\"&\"00-FRY\"),\"\",INDEX(dProduct[NameTH],SMALL(IF((dProduct[Status]=\"ปกติ\")*(dProduct[Factory]<>\"00-FRY\")=1,ROW(dProduct[NameTH])-ROW(dProduct[[#Headers],[NameTH]]),\"\"),ROW()-ROW($U$5))))","v":""}]
[null,null,null,null,null,null,null,null,null,null,null,null,null,null,null,null,null,null,null,{"$f":"IF(ROW()-ROW($V$5)>COUNTIF(dProduct[Status],\"ปกติ\"),\"\",INDEX(dProduct[NameTH],SMALL(IF(dProduct[Status]=\"ปกติ\",ROW(dProduct[NameTH])-ROW(dProduct[[#Headers],[NameTH]]),\"\"),ROW()-ROW($T$5))))","v":""},{"$f":"IF(ROW()-ROW($U$5)>COUNTIFS(dProduct[Status],\"ปกติ\",dProduct[Factory],\"<>\"&\"00-FRK\"),\"\",INDEX(dProduct[NameTH],SMALL(IF((dProduct[Status]=\"ปกติ\")*(dProduct[Factory]<>\"00-FRK\")=1,ROW(dProduct[NameTH])-ROW(dProduct[[#Headers],[NameTH]]),\"\"),ROW()-ROW($U$5))))","v":""},{"$f":"IF(ROW()-ROW($U$5)>COUNTIFS(dProduct[Status],\"ปกติ\",dProduct[Factory],\"<>\"&\"00-FRY\"),\"\",INDEX(dProduct[NameTH],SMALL(IF((dProduct[Status]=\"ปกติ\")*(dProduct[Factory]<>\"00-FRY\")=1,ROW(dProduct[NameTH])-ROW(dProduct[[#Headers],[NameTH]]),\"\"),ROW()-ROW($U$5))))","v":""}]
[null,null,null,null,null,null,null,null,null,null,null,null,null,null,null,null,null,null,null,{"$f":"IF(ROW()-ROW($V$5)>COUNTIF(dProduct[Status],\"ปกติ\"),\"\",INDEX(dProduct[NameTH],SMALL(IF(dProduct[Status]=\"ปกติ\",ROW(dProduct[NameTH])-ROW(dProduct[[#Headers],[NameTH]]),\"\"),ROW()-ROW($T$5))))","v":""},{"$f":"IF(ROW()-ROW($U$5)>COUNTIFS(dProduct[Status],\"ปกติ\",dProduct[Factory],\"<>\"&\"00-FRK\"),\"\",INDEX(dProduct[NameTH],SMALL(IF((dProduct[Status]=\"ปกติ\")*(dProduct[Factory]<>\"00-FRK\")=1,ROW(dProduct[NameTH])-ROW(dProduct[[#Headers],[NameTH]]),\"\"),ROW()-ROW($U$5))))","v":""},{"$f":"IF(ROW()-ROW($U$5)>COUNTIFS(dProduct[Status],\"ปกติ\",dProduct[Factory],\"<>\"&\"00-FRY\"),\"\",INDEX(dProduct[NameTH],SMALL(IF((dProduct[Status]=\"ปกติ\")*(dProduct[Factory]<>\"00-FRY\")=1,ROW(dProduct[NameTH])-ROW(dProduct[[#Headers],[NameTH]]),\"\"),ROW()-ROW($U$5))))","v":""}]
[null,null,null,null,null,null,null,null,null,null,null,null,null,null,null,null,null,null,null,{"$f":"IF(ROW()-ROW($V$5)>COUNTIF(dProduct[Status],\"ปกติ\"),\"\",INDEX(dProduct[NameTH],SMALL(IF(dProduct[Status]=\"ปกติ\",ROW(dProduct[NameTH])-ROW(dProduct[[#Headers],[NameTH]]),\"\"),ROW()-ROW($T$5))))","v":""},{"$f":"IF(ROW()-ROW($U$5)>COUNTIFS(dProduct[Status],\"ปกติ\",dProduct[Factory],\"<>\"&\"00-FRK\"),\"\",INDEX(dProduct[NameTH],SMALL(IF((dProduct[Status]=\"ปกติ\")*(dProduct[Factory]<>\"00-FRK\")=1,ROW(dProduct[NameTH])-ROW(dProduct[[#Headers],[NameTH]]),\"\"),ROW()-ROW($U$5))))","v":""},{"$f":"IF(ROW()-ROW($U$5)>COUNTIFS(dProduct[Status],\"ปกติ\",dProduct[Factory],\"<>\"&\"00-FRY\"),\"\",INDEX(dProduct[NameTH],SMALL(IF((dProduct[Status]=\"ปกติ\")*(dProduct[Factory]<>\"00-FRY\")=1,ROW(dProduct[NameTH])-ROW(dProduct[[#Headers],[NameTH]]),\"\"),ROW()-ROW($U$5))))","v":""}]
[null,null,null,null,null,null,null,null,null,null,null,null,null,null,null,null,null,null,null,{"$f":"IF(ROW()-ROW($V$5)>COUNTIF(dProduct[Status],\"ปกติ\"),\"\",INDEX(dProduct[NameTH],SMALL(IF(dProduct[Status]=\"ปกติ\",ROW(dProduct[NameTH])-ROW(dProduct[[#Headers],[NameTH]]),\"\"),ROW()-ROW($T$5))))","v":""},{"$f":"IF(ROW()-ROW($U$5)>COUNTIFS(dProduct[Status],\"ปกติ\",dProduct[Factory],\"<>\"&\"00-FRK\"),\"\",INDEX(dProduct[NameTH],SMALL(IF((dProduct[Status]=\"ปกติ\")*(dProduct[Factory]<>\"00-FRK\")=1,ROW(dProduct[NameTH])-ROW(dProduct[[#Headers],[NameTH]]),\"\"),ROW()-ROW($U$5))))","v":""},{"$f":"IF(ROW()-ROW($U$5)>COUNTIFS(dProduct[Status],\"ปกติ\",dProduct[Factory],\"<>\"&\"00-FRY\"),\"\",INDEX(dProduct[NameTH],SMALL(IF((dProduct[Status]=\"ปกติ\")*(dProduct[Factory]<>\"00-FRY\")=1,ROW(dProduct[NameTH])-ROW(dProduct[[#Headers],[NameTH]]),\"\"),ROW()-ROW($U$5))))","v":""}]
[null,null,null,null,null,null,null,null,null,null,null,null,null,null,null,null,null,null,null,{"$f":"IF(ROW()-ROW($V$5)>COUNTIF(dProduct[Status],\"ปกติ\"),\"\",INDEX(dProduct[NameTH],SMALL(IF(dProduct[Status]=\"ปกติ\",ROW(dProduct[NameTH])-ROW(dProduct[[#Headers],[NameTH]]),\"\"),ROW()-ROW($T$5))))","v":""},{"$f":"IF(ROW()-ROW($U$5)>COUNTIFS(dProduct[Status],\"ปกติ\",dProduct[Factory],\"<>\"&\"00-FRK\"),\"\",INDEX(dProduct[NameTH],SMALL(IF((dProduct[Status]=\"ปกติ\")*(dProduct[Factory]<>\"00-FRK\")=1,ROW(dProduct[NameTH])-ROW(dProduct[[#Headers],[NameTH]]),\"\"),ROW()-ROW($U$5))))","v":""},{"$f":"IF(ROW()-ROW($U$5)>COUNTIFS(dProduct[Status],\"ปกติ\",dProduct[Factory],\"<>\"&\"00-FRY\"),\"\",INDEX(dProduct[NameTH],SMALL(IF((dProduct[Status]=\"ปกติ\")*(dProduct[Factory]<>\"00-FRY\")=1,ROW(dProduct[NameTH])-ROW(dProduct[[#Headers],[NameTH]]),\"\"),ROW()-ROW($U$5))))","v":""}]
[null,null,null,null,null,null,null,null,null,null,null,null,null,null,null,null,null,null,null,{"$f":"IF(ROW()-ROW($V$5)>COUNTIF(dProduct[Status],\"ปกติ\"),\"\",INDEX(dProduct[NameTH],SMALL(IF(dProduct[Status]=\"ปกติ\",ROW(dProduct[NameTH])-ROW(dProduct[[#Headers],[NameTH]]),\"\"),ROW()-ROW($T$5))))","v":""},{"$f":"IF(ROW()-ROW($U$5)>COUNTIFS(dProduct[Status],\"ปกติ\",dProduct[Factory],\"<>\"&\"00-FRK\"),\"\",INDEX(dProduct[NameTH],SMALL(IF((dProduct[Status]=\"ปกติ\")*(dProduct[Factory]<>\"00-FRK\")=1,ROW(dProduct[NameTH])-ROW(dProduct[[#Headers],[NameTH]]),\"\"),ROW()-ROW($U$5))))","v":""},{"$f":"IF(ROW()-ROW($U$5)>COUNTIFS(dProduct[Status],\"ปกติ\",dProduct[Factory],\"<>\"&\"00-FRY\"),\"\",INDEX(dProduct[NameTH],SMALL(IF((dProduct[Status]=\"ปกติ\")*(dProduct[Factory]<>\"00-FRY\")=1,ROW(dProduct[NameTH])-ROW(dProduct[[#Headers],[NameTH]]),\"\"),ROW()-ROW($U$5))))","v":""}]
[null,null,null,null,null,null,null,null,null,null,null,null,null,null,null,null,null,null,null,{"$f":"IF(ROW()-ROW($V$5)>COUNTIF(dProduct[Status],\"ปกติ\"),\"\",INDEX(dProduct[NameTH],SMALL(IF(dProduct[Status]=\"ปกติ\",ROW(dProduct[NameTH])-ROW(dProduct[[#Headers],[NameTH]]),\"\"),ROW()-ROW($T$5))))","v":""},{"$f":"IF(ROW()-ROW($U$5)>COUNTIFS(dProduct[Status],\"ปกติ\",dProduct[Factory],\"<>\"&\"00-FRK\"),\"\",INDEX(dProduct[NameTH],SMALL(IF((dProduct[Status]=\"ปกติ\")*(dProduct[Factory]<>\"00-FRK\")=1,ROW(dProduct[NameTH])-ROW(dProduct[[#Headers],[NameTH]]),\"\"),ROW()-ROW($U$5))))","v":""},{"$f":"IF(ROW()-ROW($U$5)>COUNTIFS(dProduct[Status],\"ปกติ\",dProduct[Factory],\"<>\"&\"00-FRY\"),\"\",INDEX(dProduct[NameTH],SMALL(IF((dProduct[Status]=\"ปกติ\")*(dProduct[Factory]<>\"00-FRY\")=1,ROW(dProduct[NameTH])-ROW(dProduct[[#Headers],[NameTH]]),\"\"),ROW()-ROW($U$5))))","v":""}]
[null,null,null,null,null,null,null,null,null,null,null,null,null,null,null,null,null,null,null,{"$f":"IF(ROW()-ROW($V$5)>COUNTIF(dProduct[Status],\"ปกติ\"),\"\",INDEX(dProduct[NameTH],SMALL(IF(dProduct[Status]=\"ปกติ\",ROW(dProduct[NameTH])-ROW(dProduct[[#Headers],[NameTH]]),\"\"),ROW()-ROW($T$5))))","v":""},{"$f":"IF(ROW()-ROW($U$5)>COUNTIFS(dProduct[Status],\"ปกติ\",dProduct[Factory],\"<>\"&\"00-FRK\"),\"\",INDEX(dProduct[NameTH],SMALL(IF((dProduct[Status]=\"ปกติ\")*(dProduct[Factory]<>\"00-FRK\")=1,ROW(dProduct[NameTH])-ROW(dProduct[[#Headers],[NameTH]]),\"\"),ROW()-ROW($U$5))))","v":""},{"$f":"IF(ROW()-ROW($U$5)>COUNTIFS(dProduct[Status],\"ปกติ\",dProduct[Factory],\"<>\"&\"00-FRY\"),\"\",INDEX(dProduct[NameTH],SMALL(IF((dProduct[Status]=\"ปกติ\")*(dProduct[Factory]<>\"00-FRY\")=1,ROW(dProduct[NameTH])-ROW(dProduct[[#Headers],[NameTH]]),\"\"),ROW()-ROW($U$5))))","v":""}]
[null,null,null,null,null,null,null,null,null,null,null,null,null,null,null,null,null,null,null,{"$f":"IF(ROW()-ROW($V$5)>COUNTIF(dProduct[Status],\"ปกติ\"),\"\",INDEX(dProduct[NameTH],SMALL(IF(dProduct[Status]=\"ปกติ\",ROW(dProduct[NameTH])-ROW(dProduct[[#Headers],[NameTH]]),\"\"),ROW()-ROW($T$5))))","v":""},{"$f":"IF(ROW()-ROW($U$5)>COUNTIFS(dProduct[Status],\"ปกติ\",dProduct[Factory],\"<>\"&\"00-FRK\"),\"\",INDEX(dProduct[NameTH],SMALL(IF((dProduct[Status]=\"ปกติ\")*(dProduct[Factory]<>\"00-FRK\")=1,ROW(dProduct[NameTH])-ROW(dProduct[[#Headers],[NameTH]]),\"\"),ROW()-ROW($U$5))))","v":""},{"$f":"IF(ROW()-ROW($U$5)>COUNTIFS(dProduct[Status],\"ปกติ\",dProduct[Factory],\"<>\"&\"00-FRY\"),\"\",INDEX(dProduct[NameTH],SMALL(IF((dProduct[Status]=\"ปกติ\")*(dProduct[Factory]<>\"00-FRY\")=1,ROW(dProduct[NameTH])-ROW(dProduct[[#Headers],[NameTH]]),\"\"),ROW()-ROW($U$5))))","v":""}]
[null,null,null,null,null,null,null,null,null,null,null,null,null,null,null,null,null,null,null,{"$f":"IF(ROW()-ROW($V$5)>COUNTIF(dProduct[Status],\"ปกติ\"),\"\",INDEX(dProduct[NameTH],SMALL(IF(dProduct[Status]=\"ปกติ\",ROW(dProduct[NameTH])-ROW(dProduct[[#Headers],[NameTH]]),\"\"),ROW()-ROW($T$5))))","v":""},{"$f":"IF(ROW()-ROW($U$5)>COUNTIFS(dProduct[Status],\"ปกติ\",dProduct[Factory],\"<>\"&\"00-FRK\"),\"\",INDEX(dProduct[NameTH],SMALL(IF((dProduct[Status]=\"ปกติ\")*(dProduct[Factory]<>\"00-FRK\")=1,ROW(dProduct[NameTH])-ROW(dProduct[[#Headers],[NameTH]]),\"\"),ROW()-ROW($U$5))))","v":""},{"$f":"IF(ROW()-ROW($U$5)>COUNTIFS(dProduct[Status],\"ปกติ\",dProduct[Factory],\"<>\"&\"00-FRY\"),\"\",INDEX(dProduct[NameTH],SMALL(IF((dProduct[Status]=\"ปกติ\")*(dProduct[Factory]<>\"00-FRY\")=1,ROW(dProduct[NameTH])-ROW(dProduct[[#Headers],[NameTH]]),\"\"),ROW()-ROW($U$5))))","v":""}]
[null,null,null,null,null,null,null,null,null,null,null,null,null,null,null,null,null,null,null,{"$f":"IF(ROW()-ROW($V$5)>COUNTIF(dProduct[Status],\"ปกติ\"),\"\",INDEX(dProduct[NameTH],SMALL(IF(dProduct[Status]=\"ปกติ\",ROW(dProduct[NameTH])-ROW(dProduct[[#Headers],[NameTH]]),\"\"),ROW()-ROW($T$5))))","v":""},{"$f":"IF(ROW()-ROW($U$5)>COUNTIFS(dProduct[Status],\"ปกติ\",dProduct[Factory],\"<>\"&\"00-FRK\"),\"\",INDEX(dProduct[NameTH],SMALL(IF((dProduct[Status]=\"ปกติ\")*(dProduct[Factory]<>\"00-FRK\")=1,ROW(dProduct[NameTH])-ROW(dProduct[[#Headers],[NameTH]]),\"\"),ROW()-ROW($U$5))))","v":""},{"$f":"IF(ROW()-ROW($U$5)>COUNTIFS(dProduct[Status],\"ปกติ\",dProduct[Factory],\"<>\"&\"00-FRY\"),\"\",INDEX(dProduct[NameTH],SMALL(IF((dProduct[Status]=\"ปกติ\")*(dProduct[Factory]<>\"00-FRY\")=1,ROW(dProduct[NameTH])-ROW(dProduct[[#Headers],[NameTH]]),\"\"),ROW()-ROW($U$5))))","v":""}]
[null,null,null,null,null,null,null,null,null,null,null,null,null,null,null,null,null,null,null,{"$f":"IF(ROW()-ROW($V$5)>COUNTIF(dProduct[Status],\"ปกติ\"),\"\",INDEX(dProduct[NameTH],SMALL(IF(dProduct[Status]=\"ปกติ\",ROW(dProduct[NameTH])-ROW(dProduct[[#Headers],[NameTH]]),\"\"),ROW()-ROW($T$5))))","v":""},{"$f":"IF(ROW()-ROW($U$5)>COUNTIFS(dProduct[Status],\"ปกติ\",dProduct[Factory],\"<>\"&\"00-FRK\"),\"\",INDEX(dProduct[NameTH],SMALL(IF((dProduct[Status]=\"ปกติ\")*(dProduct[Factory]<>\"00-FRK\")=1,ROW(dProduct[NameTH])-ROW(dProduct[[#Headers],[NameTH]]),\"\"),ROW()-ROW($U$5))))","v":""},{"$f":"IF(ROW()-ROW($U$5)>COUNTIFS(dProduct[Status],\"ปกติ\",dProduct[Factory],\"<>\"&\"00-FRY\"),\"\",INDEX(dProduct[NameTH],SMALL(IF((dProduct[Status]=\"ปกติ\")*(dProduct[Factory]<>\"00-FRY\")=1,ROW(dProduct[NameTH])-ROW(dProduct[[#Headers],[NameTH]]),\"\"),ROW()-ROW($U$5))))","v":""}]
[null,null,null,null,null,null,null,null,null,null,null,null,null,null,null,null,null,null,null,{"$f":"IF(ROW()-ROW($V$5)>COUNTIF(dProduct[Status],\"ปกติ\"),\"\",INDEX(dProduct[NameTH],SMALL(IF(dProduct[Status]=\"ปกติ\",ROW(dProduct[NameTH])-ROW(dProduct[[#Headers],[NameTH]]),\"\"),ROW()-ROW($T$5))))","v":""},{"$f":"IF(ROW()-ROW($U$5)>COUNTIFS(dProduct[Status],\"ปกติ\",dProduct[Factory],\"<>\"&\"00-FRK\"),\"\",INDEX(dProduct[NameTH],SMALL(IF((dProduct[Status]=\"ปกติ\")*(dProduct[Factory]<>\"00-FRK\")=1,ROW(dProduct[NameTH])-ROW(dProduct[[#Headers],[NameTH]]),\"\"),ROW()-ROW($U$5))))","v":""},{"$f":"IF(ROW()-ROW($U$5)>COUNTIFS(dProduct[Status],\"ปกติ\",dProduct[Factory],\"<>\"&\"00-FRY\"),\"\",INDEX(dProduct[NameTH],SMALL(IF((dProduct[Status]=\"ปกติ\")*(dProduct[Factory]<>\"00-FRY\")=1,ROW(dProduct[NameTH])-ROW(dProduct[[#Headers],[NameTH]]),\"\"),ROW()-ROW($U$5))))","v":""}]
[null,null,null,null,null,null,null,null,null,null,null,null,null,null,null,null,null,null,null,{"$f":"IF(ROW()-ROW($V$5)>COUNTIF(dProduct[Status],\"ปกติ\"),\"\",INDEX(dProduct[NameTH],SMALL(IF(dProduct[Status]=\"ปกติ\",ROW(dProduct[NameTH])-ROW(dProduct[[#Headers],[NameTH]]),\"\"),ROW()-ROW($T$5))))","v":""},{"$f":"IF(ROW()-ROW($U$5)>COUNTIFS(dProduct[Status],\"ปกติ\",dProduct[Factory],\"<>\"&\"00-FRK\"),\"\",INDEX(dProduct[NameTH],SMALL(IF((dProduct[Status]=\"ปกติ\")*(dProduct[Factory]<>\"00-FRK\")=1,ROW(dProduct[NameTH])-ROW(dProduct[[#Headers],[NameTH]]),\"\"),ROW()-ROW($U$5))))","v":""},{"$f":"IF(ROW()-ROW($U$5)>COUNTIFS(dProduct[Status],\"ปกติ\",dProduct[Factory],\"<>\"&\"00-FRY\"),\"\",INDEX(dProduct[NameTH],SMALL(IF((dProduct[Status]=\"ปกติ\")*(dProduct[Factory]<>\"00-FRY\")=1,ROW(dProduct[NameTH])-ROW(dProduct[[#Headers],[NameTH]]),\"\"),ROW()-ROW($U$5))))","v":""}]
[null,null,null,null,null,null,null,null,null,null,null,null,null,null,null,null,null,null,null,{"$f":"IF(ROW()-ROW($V$5)>COUNTIF(dProduct[Status],\"ปกติ\"),\"\",INDEX(dProduct[NameTH],SMALL(IF(dProduct[Status]=\"ปกติ\",ROW(dProduct[NameTH])-ROW(dProduct[[#Headers],[NameTH]]),\"\"),ROW()-ROW($T$5))))","v":""},{"$f":"IF(ROW()-ROW($U$5)>COUNTIFS(dProduct[Status],\"ปกติ\",dProduct[Factory],\"<>\"&\"00-FRK\"),\"\",INDEX(dProduct[NameTH],SMALL(IF((dProduct[Status]=\"ปกติ\")*(dProduct[Factory]<>\"00-FRK\")=1,ROW(dProduct[NameTH])-ROW(dProduct[[#Headers],[NameTH]]),\"\"),ROW()-ROW($U$5))))","v":""},{"$f":"IF(ROW()-ROW($U$5)>COUNTIFS(dProduct[Status],\"ปกติ\",dProduct[Factory],\"<>\"&\"00-FRY\"),\"\",INDEX(dProduct[NameTH],SMALL(IF((dProduct[Status]=\"ปกติ\")*(dProduct[Factory]<>\"00-FRY\")=1,ROW(dProduct[NameTH])-ROW(dProduct[[#Headers],[NameTH]]),\"\"),ROW()-ROW($U$5))))","v":""}]
[null,null,null,null,null,null,null,null,null,null,null,null,null,null,null,null,null,null,null,{"$f":"IF(ROW()-ROW($V$5)>COUNTIF(dProduct[Status],\"ปกติ\"),\"\",INDEX(dProduct[NameTH],SMALL(IF(dProduct[Status]=\"ปกติ\",ROW(dProduct[NameTH])-ROW(dProduct[[#Headers],[NameTH]]),\"\"),ROW()-ROW($T$5))))","v":""},{"$f":"IF(ROW()-ROW($U$5)>COUNTIFS(dProduct[Status],\"ปกติ\",dProduct[Factory],\"<>\"&\"00-FRK\"),\"\",INDEX(dProduct[NameTH],SMALL(IF((dProduct[Status]=\"ปกติ\")*(dProduct[Factory]<>\"00-FRK\")=1,ROW(dProduct[NameTH])-ROW(dProduct[[#Headers],[NameTH]]),\"\"),ROW()-ROW($U$5))))","v":""},{"$f":"IF(ROW()-ROW($U$5)>COUNTIFS(dProduct[Status],\"ปกติ\",dProduct[Factory],\"<>\"&\"00-FRY\"),\"\",INDEX(dProduct[NameTH],SMALL(IF((dProduct[Status]=\"ปกติ\")*(dProduct[Factory]<>\"00-FRY\")=1,ROW(dProduct[NameTH])-ROW(dProduct[[#Headers],[NameTH]]),\"\"),ROW()-ROW($U$5))))","v":""}]
[null,null,null,null,null,null,null,null,null,null,null,null,null,null,null,null,null,null,null,{"$f":"IF(ROW()-ROW($V$5)>COUNTIF(dProduct[Status],\"ปกติ\"),\"\",INDEX(dProduct[NameTH],SMALL(IF(dProduct[Status]=\"ปกติ\",ROW(dProduct[NameTH])-ROW(dProduct[[#Headers],[NameTH]]),\"\"),ROW()-ROW($T$5))))","v":""},{"$f":"IF(ROW()-ROW($U$5)>COUNTIFS(dProduct[Status],\"ปกติ\",dProduct[Factory],\"<>\"&\"00-FRK\"),\"\",INDEX(dProduct[NameTH],SMALL(IF((dProduct[Status]=\"ปกติ\")*(dProduct[Factory]<>\"00-FRK\")=1,ROW(dProduct[NameTH])-ROW(dProduct[[#Headers],[NameTH]]),\"\"),ROW()-ROW($U$5))))","v":""},{"$f":"IF(ROW()-ROW($U$5)>COUNTIFS(dProduct[Status],\"ปกติ\",dProduct[Factory],\"<>\"&\"00-FRY\"),\"\",INDEX(dProduct[NameTH],SMALL(IF((dProduct[Status]=\"ปกติ\")*(dProduct[Factory]<>\"00-FRY\")=1,ROW(dProduct[NameTH])-ROW(dProduct[[#Headers],[NameTH]]),\"\"),ROW()-ROW($U$5))))","v":""}]
[null,null,null,null,null,null,null,null,null,null,null,null,null,null,null,null,null,null,null,{"$f":"IF(ROW()-ROW($V$5)>COUNTIF(dProduct[Status],\"ปกติ\"),\"\",INDEX(dProduct[NameTH],SMALL(IF(dProduct[Status]=\"ปกติ\",ROW(dProduct[NameTH])-ROW(dProduct[[#Headers],[NameTH]]),\"\"),ROW()-ROW($T$5))))","v":""},{"$f":"IF(ROW()-ROW($U$5)>COUNTIFS(dProduct[Status],\"ปกติ\",dProduct[Factory],\"<>\"&\"00-FRK\"),\"\",INDEX(dProduct[NameTH],SMALL(IF((dProduct[Status]=\"ปกติ\")*(dProduct[Factory]<>\"00-FRK\")=1,ROW(dProduct[NameTH])-ROW(dProduct[[#Headers],[NameTH]]),\"\"),ROW()-ROW($U$5))))","v":""},{"$f":"IF(ROW()-ROW($U$5)>COUNTIFS(dProduct[Status],\"ปกติ\",dProduct[Factory],\"<>\"&\"00-FRY\"),\"\",INDEX(dProduct[NameTH],SMALL(IF((dProduct[Status]=\"ปกติ\")*(dProduct[Factory]<>\"00-FRY\")=1,ROW(dProduct[NameTH])-ROW(dProduct[[#Headers],[NameTH]]),\"\"),ROW()-ROW($U$5))))","v":""}]
[null,null,null,null,null,null,null,null,null,null,null,null,null,null,null,null,null,null,null,{"$f":"IF(ROW()-ROW($V$5)>COUNTIF(dProduct[Status],\"ปกติ\"),\"\",INDEX(dProduct[NameTH],SMALL(IF(dProduct[Status]=\"ปกติ\",ROW(dProduct[NameTH])-ROW(dProduct[[#Headers],[NameTH]]),\"\"),ROW()-ROW($T$5))))","v":""},{"$f":"IF(ROW()-ROW($U$5)>COUNTIFS(dProduct[Status],\"ปกติ\",dProduct[Factory],\"<>\"&\"00-FRK\"),\"\",INDEX(dProduct[NameTH],SMALL(IF((dProduct[Status]=\"ปกติ\")*(dProduct[Factory]<>\"00-FRK\")=1,ROW(dProduct[NameTH])-ROW(dProduct[[#Headers],[NameTH]]),\"\"),ROW()-ROW($U$5))))","v":""},{"$f":"IF(ROW()-ROW($U$5)>COUNTIFS(dProduct[Status],\"ปกติ\",dProduct[Factory],\"<>\"&\"00-FRY\"),\"\",INDEX(dProduct[NameTH],SMALL(IF((dProduct[Status]=\"ปกติ\")*(dProduct[Factory]<>\"00-FRY\")=1,ROW(dProduct[NameTH])-ROW(dProduct[[#Headers],[NameTH]]),\"\"),ROW()-ROW($U$5))))","v":""}]
[null,null,null,null,null,null,null,null,null,null,null,null,null,null,null,null,null,null,null,{"$f":"IF(ROW()-ROW($V$5)>COUNTIF(dProduct[Status],\"ปกติ\"),\"\",INDEX(dProduct[NameTH],SMALL(IF(dProduct[Status]=\"ปกติ\",ROW(dProduct[NameTH])-ROW(dProduct[[#Headers],[NameTH]]),\"\"),ROW()-ROW($T$5))))","v":""},{"$f":"IF(ROW()-ROW($U$5)>COUNTIFS(dProduct[Status],\"ปกติ\",dProduct[Factory],\"<>\"&\"00-FRK\"),\"\",INDEX(dProduct[NameTH],SMALL(IF((dProduct[Status]=\"ปกติ\")*(dProduct[Factory]<>\"00-FRK\")=1,ROW(dProduct[NameTH])-ROW(dProduct[[#Headers],[NameTH]]),\"\"),ROW()-ROW($U$5))))","v":""},{"$f":"IF(ROW()-ROW($U$5)>COUNTIFS(dProduct[Status],\"ปกติ\",dProduct[Factory],\"<>\"&\"00-FRY\"),\"\",INDEX(dProduct[NameTH],SMALL(IF((dProduct[Status]=\"ปกติ\")*(dProduct[Factory]<>\"00-FRY\")=1,ROW(dProduct[NameTH])-ROW(dProduct[[#Headers],[NameTH]]),\"\"),ROW()-ROW($U$5))))","v":""}]
[null,null,null,null,null,null,null,null,null,null,null,null,null,null,null,null,null,null,null,{"$f":"IF(ROW()-ROW($V$5)>COUNTIF(dProduct[Status],\"ปกติ\"),\"\",INDEX(dProduct[NameTH],SMALL(IF(dProduct[Status]=\"ปกติ\",ROW(dProduct[NameTH])-ROW(dProduct[[#Headers],[NameTH]]),\"\"),ROW()-ROW($T$5))))","v":""},{"$f":"IF(ROW()-ROW($U$5)>COUNTIFS(dProduct[Status],\"ปกติ\",dProduct[Factory],\"<>\"&\"00-FRK\"),\"\",INDEX(dProduct[NameTH],SMALL(IF((dProduct[Status]=\"ปกติ\")*(dProduct[Factory]<>\"00-FRK\")=1,ROW(dProduct[NameTH])-ROW(dProduct[[#Headers],[NameTH]]),\"\"),ROW()-ROW($U$5))))","v":""},{"$f":"IF(ROW()-ROW($U$5)>COUNTIFS(dProduct[Status],\"ปกติ\",dProduct[Factory],\"<>\"&\"00-FRY\"),\"\",INDEX(dProduct[NameTH],SMALL(IF((dProduct[Status]=\"ปกติ\")*(dProduct[Factory]<>\"00-FRY\")=1,ROW(dProduct[NameTH])-ROW(dProduct[[#Headers],[NameTH]]),\"\"),ROW()-ROW($U$5))))","v":""}]
[null,null,null,null,null,null,null,null,null,null,null,null,null,null,null,null,null,null,null,{"$f":"IF(ROW()-ROW($V$5)>COUNTIF(dProduct[Status],\"ปกติ\"),\"\",INDEX(dProduct[NameTH],SMALL(IF(dProduct[Status]=\"ปกติ\",ROW(dProduct[NameTH])-ROW(dProduct[[#Headers],[NameTH]]),\"\"),ROW()-ROW($T$5))))","v":""},{"$f":"IF(ROW()-ROW($U$5)>COUNTIFS(dProduct[Status],\"ปกติ\",dProduct[Factory],\"<>\"&\"00-FRK\"),\"\",INDEX(dProduct[NameTH],SMALL(IF((dProduct[Status]=\"ปกติ\")*(dProduct[Factory]<>\"00-FRK\")=1,ROW(dProduct[NameTH])-ROW(dProduct[[#Headers],[NameTH]]),\"\"),ROW()-ROW($U$5))))","v":""},{"$f":"IF(ROW()-ROW($U$5)>COUNTIFS(dProduct[Status],\"ปกติ\",dProduct[Factory],\"<>\"&\"00-FRY\"),\"\",INDEX(dProduct[NameTH],SMALL(IF((dProduct[Status]=\"ปกติ\")*(dProduct[Factory]<>\"00-FRY\")=1,ROW(dProduct[NameTH])-ROW(dProduct[[#Headers],[NameTH]]),\"\"),ROW()-ROW($U$5))))","v":""}]
[null,null,null,null,null,null,null,null,null,null,null,null,null,null,null,null,null,null,null,{"$f":"IF(ROW()-ROW($V$5)>COUNTIF(dProduct[Status],\"ปกติ\"),\"\",INDEX(dProduct[NameTH],SMALL(IF(dProduct[Status]=\"ปกติ\",ROW(dProduct[NameTH])-ROW(dProduct[[#Headers],[NameTH]]),\"\"),ROW()-ROW($T$5))))","v":""},{"$f":"IF(ROW()-ROW($U$5)>COUNTIFS(dProduct[Status],\"ปกติ\",dProduct[Factory],\"<>\"&\"00-FRK\"),\"\",INDEX(dProduct[NameTH],SMALL(IF((dProduct[Status]=\"ปกติ\")*(dProduct[Factory]<>\"00-FRK\")=1,ROW(dProduct[NameTH])-ROW(dProduct[[#Headers],[NameTH]]),\"\"),ROW()-ROW($U$5))))","v":""},{"$f":"IF(ROW()-ROW($U$5)>COUNTIFS(dProduct[Status],\"ปกติ\",dProduct[Factory],\"<>\"&\"00-FRY\"),\"\",INDEX(dProduct[NameTH],SMALL(IF((dProduct[Status]=\"ปกติ\")*(dProduct[Factory]<>\"00-FRY\")=1,ROW(dProduct[NameTH])-ROW(dProduct[[#Headers],[NameTH]]),\"\"),ROW()-ROW($U$5))))","v":""}]
[null,null,null,null,null,null,null,null,null,null,null,null,null,null,null,null,null,null,null,{"$f":"IF(ROW()-ROW($V$5)>COUNTIF(dProduct[Status],\"ปกติ\"),\"\",INDEX(dProduct[NameTH],SMALL(IF(dProduct[Status]=\"ปกติ\",ROW(dProduct[NameTH])-ROW(dProduct[[#Headers],[NameTH]]),\"\"),ROW()-ROW($T$5))))","v":""},{"$f":"IF(ROW()-ROW($U$5)>COUNTIFS(dProduct[Status],\"ปกติ\",dProduct[Factory],\"<>\"&\"00-FRK\"),\"\",INDEX(dProduct[NameTH],SMALL(IF((dProduct[Status]=\"ปกติ\")*(dProduct[Factory]<>\"00-FRK\")=1,ROW(dProduct[NameTH])-ROW(dProduct[[#Headers],[NameTH]]),\"\"),ROW()-ROW($U$5))))","v":""},{"$f":"IF(ROW()-ROW($U$5)>COUNTIFS(dProduct[Status],\"ปกติ\",dProduct[Factory],\"<>\"&\"00-FRY\"),\"\",INDEX(dProduct[NameTH],SMALL(IF((dProduct[Status]=\"ปกติ\")*(dProduct[Factory]<>\"00-FRY\")=1,ROW(dProduct[NameTH])-ROW(dProduct[[#Headers],[NameTH]]),\"\"),ROW()-ROW($U$5))))","v":""}]
[null,null,null,null,null,null,null,null,null,null,null,null,null,null,null,null,null,null,null,{"$f":"IF(ROW()-ROW($V$5)>COUNTIF(dProduct[Status],\"ปกติ\"),\"\",INDEX(dProduct[NameTH],SMALL(IF(dProduct[Status]=\"ปกติ\",ROW(dProduct[NameTH])-ROW(dProduct[[#Headers],[NameTH]]),\"\"),ROW()-ROW($T$5))))","v":""},{"$f":"IF(ROW()-ROW($U$5)>COUNTIFS(dProduct[Status],\"ปกติ\",dProduct[Factory],\"<>\"&\"00-FRK\"),\"\",INDEX(dProduct[NameTH],SMALL(IF((dProduct[Status]=\"ปกติ\")*(dProduct[Factory]<>\"00-FRK\")=1,ROW(dProduct[NameTH])-ROW(dProduct[[#Headers],[NameTH]]),\"\"),ROW()-ROW($U$5))))","v":""},{"$f":"IF(ROW()-ROW($U$5)>COUNTIFS(dProduct[Status],\"ปกติ\",dProduct[Factory],\"<>\"&\"00-FRY\"),\"\",INDEX(dProduct[NameTH],SMALL(IF((dProduct[Status]=\"ปกติ\")*(dProduct[Factory]<>\"00-FRY\")=1,ROW(dProduct[NameTH])-ROW(dProduct[[#Headers],[NameTH]]),\"\"),ROW()-ROW($U$5))))","v":""}]

{"sheet":"Stocks Inventory","index":3,"n_rows":55,"n_cols":14,"rows_kept":55,"cut":false,"hidden":true,"merged":[[1,1,1,3],[1,4,1,6],[3,4,3,6],[11,12,11,13],[1,9,1,10],[3,9,4,9],[3,10,4,10]]}
[]
[null,"CHECK AVAILABILITY",null,null,"CHOOSE PRODUCT",null,null,null,null,"TODAY"]
[]
[null,null,null,null,"03-ขนมปังไส้ถั่วแดง",null,null,null,null,{"$f":"UPPER(TEXT(K4,\"MMM\"))","v":"JUL"},{"$f":"TODAY()","v":"2022-07-14"}]
[null,null,null,"สต๊อคคงเหลือ (CURRENT INVENTORY)",{"$f":"INDEX(Stock[Stocks On Hand],MATCH($E$4,Stock[Products Name],0))","v":{"$error":"#N/A"}},null,null,{"$f":"INDEX(Stock[Unit],MATCH($E$4,Stock[Products Name],0))","v":{"$error":"#N/A"}}]
[null,null,null,"สต๊อคขั้นต่ำ (RE-ORDER POINT)",{"$f":"INDEX(Stock[Re-Order Point],MATCH($E$4,Stock[Products Name],0))","v":{"$error":"#N/A"}},null,null,{"$f":"INDEX(Stock[Unit],MATCH($E$4,Stock[Products Name],0))","v":{"$error":"#N/A"}}]
[null,null,null,"ยอดรับเข้า (RECEIVED QUANTITY)",{"$f":"INDEX(Stock[Received],MATCH($E$4,Stock[Products Name],0))","v":{"$error":"#N/A"}},null,null,{"$f":"INDEX(Stock[Unit],MATCH($E$4,Stock[Products Name],0))","v":{"$error":"#N/A"}}]
[null,null,null,"ยอดเบิกออก (DELIVERY QUANTITY)",{"$f":"INDEX(Stock[Deliver],MATCH($E$4,Stock[Products Name],0))","v":{"$error":"#N/A"}},null,null,{"$f":"INDEX(Stock[Unit],MATCH($E$4,Stock[Products Name],0))","v":{"$error":"#N/A"}}]
[]
[]
[null,null,null,null,null,null,null,null,"SETTING","PRODUCTS","TRANSACTION","ORDER","REPORT",{"$f":"UPPER(\"Deliver List\")","v":"DELIVER LIST"}]
[null,null,"STOCKS INVENTORY SUMMARY"]
[null,null,"รหัส","รายการสินค้า","สต๊อคเริ่มต้น","หน่วยนับ","รับเข้า","เบิกออก","สต๊อคขั้นต่ำ(Unit)","สต๊อคในคลัง(Unit)","ราคา/ชิ้น","มูลค่า","ต้องสั่งเพิ่ม","หมายเหตุ"]
[null,"Index","Product Code","Products Name","Opening Stock","Unit","Received","Deliver","Re-Order Point","Stocks On Hand","Price","Total","To Oder","Remarks"]
[null,{"$f":"IFERROR(IF(Stock[[#This Row],[Product Code]]=\"\",\"\",MATCH(C15,dProduct[PD_Code],0)),\"\")","v":1},{"$f":"IF(ROW()-ROW(Stock[[#Headers],[Product Code]])>ROWS(dProduct[PD_Code]),\"\",INDEX(dProduct[PD_Code],ROW()-ROW(Stock[[#Headers],[Product Code]])))","v":"9913"},{"$f":"IFERROR(INDEX(dProduct[NameTH],Stock[[#This Row],[Index]],0),\"\")","v":"01-ขนมปังหมูหยองน้ำสลัด"},1500,{"$f":"IF(Stock[[#This Row],[Index]]=\"\",\"\",INDEX(dProduct[Unit],Stock[[#This Row],[Index]]))","v":"ชิ้น"},{"$f":"SUMPRODUCT((Transaction[Type]=\"รับ\")*(Transaction[Products]=Stock[[#This Row],[Products Name]])*Transaction[Qty In-Out])","v":0},{"$f":"SUMPRODUCT((Transaction[Type]=\"เบิก\")*(Transaction[Products]=Stock[[#This Row],[Products Name]])*Transaction[Qty In-Out])","v":0},100,{"$f":"Stock[[#This Row],[Opening Stock]]+Stock[[#This Row],[Received]]-Stock[[#This Row],[Deliver]]","v":1500},{"$f":"IFERROR(INDEX(dProduct[PriceCase],Stock[[#This Row],[Index]])*(1-INDEX(dProduct[%Discount],Stock[[#This Row],[Index]])),\"\")","v":8.25},{"$f":"IFERROR(Stock[[#This Row],[Stocks On Hand]]*Stock[[#This Row],[Price]],\"\")","v":12375},{"$f":"IF(Stock[[#This Row],[Index]]=\"\",\"\",IF(Stock[[#This Row],[Stocks On Hand]]<Stock[[#This Row],[Re-Order Point]],\"Yes\",\"No\"))","v":"No"}]
[null,{"$f":"IFERROR(IF(Stock[[#This Row],[Product Code]]=\"\",\"\",MATCH(C16,dProduct[PD_Code],0)),\"\")","v":2},{"$f":"IF(ROW()-ROW(Stock[[#Headers],[Product Code]])>ROWS(dProduct[PD_Code]),\"\",INDEX(dProduct[PD_Code],ROW()-ROW(Stock[[#Headers],[Product Code]])))","v":"99141"},{"$f":"IFERROR(INDEX(dProduct[NameTH],Stock[[#This Row],[Index]],0),\"\")","v":"02-ขนมปังหมูหยองน้ำพริกเผา"},1500,{"$f":"IF(Stock[[#This Row],[Index]]=\"\",\"\",INDEX(dProduct[Unit],Stock[[#This Row],[Index]]))","v":"ชิ้น"},{"$f":"SUMPRODUCT((Transaction[Type]=\"รับ\")*(Transaction[Products]=Stock[[#This Row],[Products Name]])*Transaction[Qty In-Out])","v":0},{"$f":"SUMPRODUCT((Transaction[Type]=\"เบิก\")*(Transaction[Products]=Stock[[#This Row],[Products Name]])*Transaction[Qty In-Out])","v":0},100,{"$f":"Stock[[#This Row],[Opening Stock]]+Stock[[#This Row],[Received]]-Stock[[#This Row],[Deliver]]","v":1500},{"$f":"IFERROR(INDEX(dProduct[PriceCase],Stock[[#This Row],[Index]])*(1-INDEX(dProduct[%Discount],Stock[[#This Row],[Index]])),\"\")","v":8.25},{"$f":"IFERROR(Stock[[#This Row],[Stocks On Hand]]*Stock[[#This Row],[Price]],\"\")","v":12375},{"$f":"IF(Stock[[#This Row],[Index]]=\"\",\"\",IF(Stock[[#This Row],[Stocks On Hand]]<Stock[[#This Row],[Re-Order Point]],\"Yes\",\"No\"))","v":"No"}]
[null,{"$f":"IFERROR(IF(Stock[[#This Row],[Product Code]]=\"\",\"\",MATCH(C17,dProduct[PD_Code],0)),\"\")","v":3},{"$f":"IF(ROW()-ROW(Stock[[#Headers],[Product Code]])>ROWS(dProduct[PD_Code]),\"\",INDEX(dProduct[PD_Code],ROW()-ROW(Stock[[#Headers],[Product Code]])))","v":"99126"},{"$f":"IFERROR(INDEX(dProduct[NameTH],Stock[[#This Row],[Index]],0),\"\")","v":"03-ขนมปังไก่หยองน้ำสลัด"},1500,{"$f":"IF(Stock[[#This Row],[Index]]=\"\",\"\",INDEX(dProduct[Unit],Stock[[#This Row],[Index]]))","v":"ชิ้น"},{"$f":"SUMPRODUCT((Transaction[Type]=\"รับ\")*(Transaction[Products]=Stock[[#This Row],[Products Name]])*Transaction[Qty In-Out])","v":0},{"$f":"SUMPRODUCT((Transaction[Type]=\"เบิก\")*(Transaction[Products]=Stock[[#This Row],[Products Name]])*Transaction[Qty In-Out])","v":0},100,{"$f":"Stock[[#This Row],[Opening Stock]]+Stock[[#This Row],[Received]]-Stock[[#This Row],[Deliver]]","v":1500},{"$f":"IFERROR(INDEX(dProduct[PriceCase],Stock[[#This Row],[Index]])*(1-INDEX(dProduct[%Discount],Stock[[#This Row],[Index]])),\"\")","v":8.25},{"$f":"IFERROR(Stock[[#This Row],[Stocks On Hand]]*Stock[[#This Row],[Price]],\"\")","v":12375},{"$f":"IF(Stock[[#This Row],[Index]]=\"\",\"\",IF(Stock[[#This Row],[Stocks On Hand]]<Stock[[#This Row],[Re-Order Point]],\"Yes\",\"No\"))","v":"No"}]
[null,{"$f":"IFERROR(IF(Stock[[#This Row],[Product Code]]=\"\",\"\",MATCH(C18,dProduct[PD_Code],0)),\"\")","v":4},{"$f":"IF(ROW()-ROW(Stock[[#Headers],[Product Code]])>ROWS(dProduct[PD_Code]),\"\",INDEX(dProduct[PD_Code],ROW()-ROW(Stock[[#Headers],[Product Code]])))","v":"99124"},{"$f":"IFERROR(INDEX(dProduct[NameTH],Stock[[#This Row],[Index]],0),\"\")","v":"04-ขนมปังไส้ครีมสลัด"},1500,{"$f":"IF(Stock[[#This Row],[Index]]=\"\",\"\",INDEX(dProduct[Unit],Stock[[#This Row],[Index]]))","v":"ชิ้น"},{"$f":"SUMPRODUCT((Transaction[Type]=\"รับ\")*(Transaction[Products]=Stock[[#This Row],[Products Name]])*Transaction[Qty In-Out])","v":0},{"$f":"SUMPRODUCT((Transaction[Type]=\"เบิก\")*(Transaction[Products]=Stock[[#This Row],[Products Name]])*Transaction[Qty In-Out])","v":0},100,{"$f":"Stock[[#This Row],[Opening Stock]]+Stock[[#This Row],[Received]]-Stock[[#This Row],[Deliver]]","v":1500},{"$f":"IFERROR(INDEX(dProduct[PriceCase],Stock[[#This Row],[Index]])*(1-INDEX(dProduct[%Discount],Stock[[#This Row],[Index]])),\"\")","v":6.6000000000000005},{"$f":"IFERROR(Stock[[#This Row],[Stocks On Hand]]*Stock[[#This Row],[Price]],\"\")","v":9900},{"$f":"IF(Stock[[#This Row],[Index]]=\"\",\"\",IF(Stock[[#This Row],[Stocks On Hand]]<Stock[[#This Row],[Re-Order Point]],\"Yes\",\"No\"))","v":"No"}]
[null,{"$f":"IFERROR(IF(Stock[[#This Row],[Product Code]]=\"\",\"\",MATCH(C19,dProduct[PD_Code],0)),\"\")","v":5},{"$f":"IF(ROW()-ROW(Stock[[#Headers],[Product Code]])>ROWS(dProduct[PD_Code]),\"\",INDEX(dProduct[PD_Code],ROW()-ROW(Stock[[#Headers],[Product Code]])))","v":"99142"},{"$f":"IFERROR(INDEX(dProduct[NameTH],Stock[[#This Row],[Index]],0),\"\")","v":"05-ขนมปังเนยสด"},1500,{"$f":"IF(Stock[[#This Row],[Index]]=\"\",\"\",INDEX(dProduct[Unit],Stock[[#This Row],[Index]]))","v":"ชิ้น"},{"$f":"SUMPRODUCT((Transaction[Type]=\"รับ\")*(Transaction[Products]=Stock[[#This Row],[Products Name]])*Transaction[Qty In-Out])","v":0},{"$f":"SUMPRODUCT((Transaction[Type]=\"เบิก\")*(Transaction[Products]=Stock[[#This Row],[Products Name]])*Transaction[Qty In-Out])","v":0},100,{"$f":"Stock[[#This Row],[Opening Stock]]+Stock[[#This Row],[Received]]-Stock[[#This Row],[Deliver]]","v":1500},{"$f":"IFERROR(INDEX(dProduct[PriceCase],Stock[[#This Row],[Index]])*(1-INDEX(dProduct[%Discount],Stock[[#This Row],[Index]])),\"\")","v":6.6000000000000005},{"$f":"IFERROR(Stock[[#This Row],[Stocks On Hand]]*Stock[[#This Row],[Price]],\"\")","v":9900},{"$f":"IF(Stock[[#This Row],[Index]]=\"\",\"\",IF(Stock[[#This Row],[Stocks On Hand]]<Stock[[#This Row],[Re-Order Point]],\"Yes\",\"No\"))","v":"No"}]
[null,{"$f":"IFERROR(IF(Stock[[#This Row],[Product Code]]=\"\",\"\",MATCH(C20,dProduct[PD_Code],0)),\"\")","v":6},{"$f":"IF(ROW()-ROW(Stock[[#Headers],[Product Code]])>ROWS(dProduct[PD_Code]),\"\",INDEX(dProduct[PD_Code],ROW()-ROW(Stock[[#Headers],[Product Code]])))","v":"9903"},{"$f":"IFERROR(INDEX(dProduct[NameTH],Stock[[#This Row],[Index]],0),\"\")","v":"06-ขนมปังไส้สังขยาเล็ก"},1500,{"$f":"IF(Stock[[#This Row],[Index]]=\"\",\"\",INDEX(dProduct[Unit],Stock[[#This Row],[Index]]))","v":"ชิ้น"},{"$f":"SUMPRODUCT((Transaction[Type]=\"รับ\")*(Transaction[Products]=Stock[[#This Row],[Products Name]])*Transaction[Qty In-Out])","v":0},{"$f":"SUMPRODUCT((Transaction[Type]=\"เบิก\")*(Transaction[Products]=Stock[[#This Row],[Products Name]])*Transaction[Qty In-Out])","v":0},100,{"$f":"Stock[[#This Row],[Opening Stock]]+Stock[[#This Row],[Received]]-Stock[[#This Row],[Deliver]]","v":1500},{"$f":"IFERROR(INDEX(dProduct[PriceCase],Stock[[#This Row],[Index]])*(1-INDEX(dProduct[%Discount],Stock[[#This Row],[Index]])),\"\")","v":5.5},{"$f":"IFERROR(Stock[[#This Row],[Stocks On Hand]]*Stock[[#This Row],[Price]],\"\")","v":8250},{"$f":"IF(Stock[[#This Row],[Index]]=\"\",\"\",IF(Stock[[#This Row],[Stocks On Hand]]<Stock[[#This Row],[Re-Order Point]],\"Yes\",\"No\"))","v":"No"}]
[null,{"$f":"IFERROR(IF(Stock[[#This Row],[Product Code]]=\"\",\"\",MATCH(C21,dProduct[PD_Code],0)),\"\")","v":7},{"$f":"IF(ROW()-ROW(Stock[[#Headers],[Product Code]])>ROWS(dProduct[PD_Code]),\"\",INDEX(dProduct[PD_Code],ROW()-ROW(Stock[[#Headers],[Product Code]])))","v":"9902"},{"$f":"IFERROR(INDEX(dProduct[NameTH],Stock[[#This Row],[Index]],0),\"\")","v":"07-ขนมปังไส้เผือก"},1500,{"$f":"IF(Stock[[#This Row],[Index]]=\"\",\"\",INDEX(dProduct[Unit],Stock[[#This Row],[Index]]))","v":"ชิ้น"},{"$f":"SUMPRODUCT((Transaction[Type]=\"รับ\")*(Transaction[Products]=Stock[[#This Row],[Products Name]])*Transaction[Qty In-Out])","v":0},{"$f":"SUMPRODUCT((Transaction[Type]=\"เบิก\")*(Transaction[Products]=Stock[[#This Row],[Products Name]])*Transaction[Qty In-Out])","v":0},100,{"$f":"Stock[[#This Row],[Opening Stock]]+Stock[[#This Row],[Received]]-Stock[[#This Row],[Deliver]]","v":1500},{"$f":"IFERROR(INDEX(dProduct[PriceCase],Stock[[#This Row],[Index]])*(1-INDEX(dProduct[%Discount],Stock[[#This Row],[Index]])),\"\")","v":5.5},{"$f":"IFERROR(Stock[[#This Row],[Stocks On Hand]]*Stock[[#This Row],[Price]],\"\")","v":8250},{"$f":"IF(Stock[[#This Row],[Index]]=\"\",\"\",IF(Stock[[#This Row],[Stocks On Hand]]<Stock[[#This Row],[Re-Order Point]],\"Yes\",\"No\"))","v":"No"}]
[null,{"$f":"IFERROR(IF(Stock[[#This Row],[Product Code]]=\"\",\"\",MATCH(C22,dProduct[PD_Code],0)),\"\")","v":8},{"$f":"IF(ROW()-ROW(Stock[[#Headers],[Product Code]])>ROWS(dProduct[PD_Code]),\"\",INDEX(dProduct[PD_Code],ROW()-ROW(Stock[[#Headers],[Product Code]])))","v":"9906"},{"$f":"IFERROR(INDEX(dProduct[NameTH],Stock[[#This Row],[Index]],0),\"\")","v":"08-ขนมปังไส้ถั่วแดง"},1500,{"$f":"IF(Stock[[#This Row],[Index]]=\"\",\"\",INDEX(dProduct[Unit],Stock[[#This Row],[Index]]))","v":"ชิ้น"},{"$f":"SUMPRODUCT((Transaction[Type]=\"รับ\")*(Transaction[Products]=Stock[[#This Row],[Products Name]])*Transaction[Qty In-Out])","v":0},{"$f":"SUMPRODUCT((Transaction[Type]=\"เบิก\")*(Transaction[Products]=Stock[[#This Row],[Products Name]])*Transaction[Qty In-Out])","v":0},100,{"$f":"Stock[[#This Row],[Opening Stock]]+Stock[[#This Row],[Received]]-Stock[[#This Row],[Deliver]]","v":1500},{"$f":"IFERROR(INDEX(dProduct[PriceCase],Stock[[#This Row],[Index]])*(1-INDEX(dProduct[%Discount],Stock[[#This Row],[Index]])),\"\")","v":5.5},{"$f":"IFERROR(Stock[[#This Row],[Stocks On Hand]]*Stock[[#This Row],[Price]],\"\")","v":8250},{"$f":"IF(Stock[[#This Row],[Index]]=\"\",\"\",IF(Stock[[#This Row],[Stocks On Hand]]<Stock[[#This Row],[Re-Order Point]],\"Yes\",\"No\"))","v":"No"}]
[null,{"$f":"IFERROR(IF(Stock[[#This Row],[Product Code]]=\"\",\"\",MATCH(C23,dProduct[PD_Code],0)),\"\")","v":9},{"$f":"IF(ROW()-ROW(Stock[[#Headers],[Product Code]])>ROWS(dProduct[PD_Code]),\"\",INDEX(dProduct[PD_Code],ROW()-ROW(Stock[[#Headers],[Product Code]])))","v":"99171"},{"$f":"IFERROR(INDEX(dProduct[NameTH],Stock[[#This Row],[Index]],0),\"\")","v":"09-ขนมปังไส้ถั่วดำ"},1500,{"$f":"IF(Stock[[#This Row],[Index]]=\"\",\"\",INDEX(dProduct[Unit],Stock[[#This Row],[Index]]))","v":"ชิ้น"},{"$f":"SUMPRODUCT((Transaction[Type]=\"รับ\")*(Transaction[Products]=Stock[[#This Row],[Products Name]])*Transaction[Qty In-Out])","v":0},{"$f":"SUMPRODUCT((Transaction[Type]=\"เบิก\")*(Transaction[Products]=Stock[[#This Row],[Products Name]])*Transaction[Qty In-Out])","v":0},100,{"$f":"Stock[[#This Row],[Opening Stock]]+Stock[[#This Row],[Received]]-Stock[[#This Row],[Deliver]]","v":1500},{"$f":"IFERROR(INDEX(dProduct[PriceCase],Stock[[#This Row],[Index]])*(1-INDEX(dProduct[%Discount],Stock[[#This Row],[Index]])),\"\")","v":5.5},{"$f":"IFERROR(Stock[[#This Row],[Stocks On Hand]]*Stock[[#This Row],[Price]],\"\")","v":8250},{"$f":"IF(Stock[[#This Row],[Index]]=\"\",\"\",IF(Stock[[#This Row],[Stocks On Hand]]<Stock[[#This Row],[Re-Order Point]],\"Yes\",\"No\"))","v":"No"}]
[null,{"$f":"IFERROR(IF(Stock[[#This Row],[Product Code]]=\"\",\"\",MATCH(C24,dProduct[PD_Code],0)),\"\")","v":10},{"$f":"IF(ROW()-ROW(Stock[[#Headers],[Product Code]])>ROWS(dProduct[PD_Code]),\"\",INDEX(dProduct[PD_Code],ROW()-ROW(Stock[[#Headers],[Product Code]])))","v":"99161"},{"$f":"IFERROR(INDEX(dProduct[NameTH],Stock[[#This Row],[Index]],0),\"\")","v":"10-ขนมปังไส้มันม่วง"},1500,{"$f":"IF(Stock[[#This Row],[Index]]=\"\",\"\",INDEX(dProduct[Unit],Stock[[#This Row],[Index]]))","v":"ชิ้น"},{"$f":"SUMPRODUCT((Transaction[Type]=\"รับ\")*(Transaction[Products]=Stock[[#This Row],[Products Name]])*Transaction[Qty In-Out])","v":0},{"$f":"SUMPRODUCT((Transaction[Type]=\"เบิก\")*(Transaction[Products]=Stock[[#This Row],[Products Name]])*Transaction[Qty In-Out])","v":0},100,{"$f":"Stock[[#This Row],[Opening Stock]]+Stock[[#This Row],[Received]]-Stock[[#This Row],[Deliver]]","v":1500},{"$f":"IFERROR(INDEX(dProduct[PriceCase],Stock[[#This Row],[Index]])*(1-INDEX(dProduct[%Discount],Stock[[#This Row],[Index]])),\"\")","v":5.5},{"$f":"IFERROR(Stock[[#This Row],[Stocks On Hand]]*Stock[[#This Row],[Price]],\"\")","v":8250},{"$f":"IF(Stock[[#This Row],[Index]]=\"\",\"\",IF(Stock[[#This Row],[Stocks On Hand]]<Stock[[#This Row],[Re-Order Point]],\"Yes\",\"No\"))","v":"No"}]
[null,{"$f":"IFERROR(IF(Stock[[#This Row],[Product Code]]=\"\",\"\",MATCH(C25,dProduct[PD_Code],0)),\"\")","v":11},{"$f":"IF(ROW()-ROW(Stock[[#Headers],[Product Code]])>ROWS(dProduct[PD_Code]),\"\",INDEX(dProduct[PD_Code],ROW()-ROW(Stock[[#Headers],[Product Code]])))","v":"9908"},{"$f":"IFERROR(INDEX(dProduct[NameTH],Stock[[#This Row],[Index]],0),\"\")","v":"11-เค้กกล้วยหอม"},1500,{"$f":"IF(Stock[[#This Row],[Index]]=\"\",\"\",INDEX(dProduct[Unit],Stock[[#This Row],[Index]]))","v":"ชิ้น"},{"$f":"SUMPRODUCT((Transaction[Type]=\"รับ\")*(Transaction[Products]=Stock[[#This Row],[Products Name]])*Transaction[Qty In-Out])","v":0},{"$f":"SUMPRODUCT((Transaction[Type]=\"เบิก\")*(Transaction[Products]=Stock[[#This Row],[Products Name]])*Transaction[Qty In-Out])","v":0},100,{"$f":"Stock[[#This Row],[Opening Stock]]+Stock[[#This Row],[Received]]-Stock[[#This Row],[Deliver]]","v":1500},{"$f":"IFERROR(INDEX(dProduct[PriceCase],Stock[[#This Row],[Index]])*(1-INDEX(dProduct[%Discount],Stock[[#This Row],[Index]])),\"\")","v":6.6000000000000005},{"$f":"IFERROR(Stock[[#This Row],[Stocks On Hand]]*Stock[[#This Row],[Price]],\"\")","v":9900},{"$f":"IF(Stock[[#This Row],[Index]]=\"\",\"\",IF(Stock[[#This Row],[Stocks On Hand]]<Stock[[#This Row],[Re-Order Point]],\"Yes\",\"No\"))","v":"No"}]
[null,{"$f":"IFERROR(IF(Stock[[#This Row],[Product Code]]=\"\",\"\",MATCH(C26,dProduct[PD_Code],0)),\"\")","v":12},{"$f":"IF(ROW()-ROW(Stock[[#Headers],[Product Code]])>ROWS(dProduct[PD_Code]),\"\",INDEX(dProduct[PD_Code],ROW()-ROW(Stock[[#Headers],[Product Code]])))","v":"9911"},{"$f":"IFERROR(INDEX(dProduct[NameTH],Stock[[#This Row],[Index]],0),\"\")","v":"12-เค้กบัตเตอร์"},1500,{"$f":"IF(Stock[[#This Row],[Index]]=\"\",\"\",INDEX(dProduct[Unit],Stock[[#This Row],[Index]]))","v":"ชิ้น"},{"$f":"SUMPRODUCT((Transaction[Type]=\"รับ\")*(Transaction[Products]=Stock[[#This Row],[Products Name]])*Transaction[Qty In-Out])","v":0},{"$f":"SUMPRODUCT((Transaction[Type]=\"เบิก\")*(Transaction[Products]=Stock[[#This Row],[Products Name]])*Transaction[Qty In-Out])","v":0},100,{"$f":"Stock[[#This Row],[Opening Stock]]+Stock[[#This Row],[Received]]-Stock[[#This Row],[Deliver]]","v":1500},{"$f":"IFERROR(INDEX(dProduct[PriceCase],Stock[[#This Row],[Index]])*(1-INDEX(dProduct[%Discount],Stock[[#This Row],[Index]])),\"\")","v":6.6000000000000005},{"$f":"IFERROR(Stock[[#This Row],[Stocks On Hand]]*Stock[[#This Row],[Price]],\"\")","v":9900},{"$f":"IF(Stock[[#This Row],[Index]]=\"\",\"\",IF(Stock[[#This Row],[Stocks On Hand]]<Stock[[#This Row],[Re-Order Point]],\"Yes\",\"No\"))","v":"No"}]
[null,{"$f":"IFERROR(IF(Stock[[#This Row],[Product Code]]=\"\",\"\",MATCH(C27,dProduct[PD_Code],0)),\"\")","v":13},{"$f":"IF(ROW()-ROW(Stock[[#Headers],[Product Code]])>ROWS(dProduct[PD_Code]),\"\",INDEX(dProduct[PD_Code],ROW()-ROW(Stock[[#Headers],[Product Code]])))","v":"9922"},{"$f":"IFERROR(INDEX(dProduct[NameTH],Stock[[#This Row],[Index]],0),\"\")","v":"13-ขนมปังโรลถั่วแดง"},1500,{"$f":"IF(Stock[[#This Row],[Index]]=\"\",\"\",INDEX(dProduct[Unit],Stock[[#This Row],[Index]]))","v":"ชิ้น"},{"$f":"SUMPRODUCT((Transaction[Type]=\"รับ\")*(Transaction[Products]=Stock[[#This Row],[Products Name]])*Transaction[Qty In-Out])","v":0},{"$f":"SUMPRODUCT((Transaction[Type]=\"เบิก\")*(Transaction[Products]=Stock[[#This Row],[Products Name]])*Transaction[Qty In-Out])","v":0},100,{"$f":"Stock[[#This Row],[Opening Stock]]+Stock[[#This Row],[Received]]-Stock[[#This Row],[Deliver]]","v":1500},{"$f":"IFERROR(INDEX(dProduct[PriceCase],Stock[[#This Row],[Index]])*(1-INDEX(dProduct[%Discount],Stock[[#This Row],[Index]])),\"\")","v":6.6000000000000005},{"$f":"IFERROR(Stock[[#This Row],[Stocks On Hand]]*Stock[[#This Row],[Price]],\"\")","v":9900},{"$f":"IF(Stock[[#This Row],[Index]]=\"\",\"\",IF(Stock[[#This Row],[Stocks On Hand]]<Stock[[#This Row],[Re-Order Point]],\"Yes\",\"No\"))","v":"No"}]
[null,{"$f":"IFERROR(IF(Stock[[#This Row],[Product Code]]=\"\",\"\",MATCH(C28,dProduct[PD_Code],0)),\"\")","v":14},{"$f":"IF(ROW()-ROW(Stock[[#Headers],[Product Code]])>ROWS(dProduct[PD_Code]),\"\",INDEX(dProduct[PD_Code],ROW()-ROW(Stock[[#Headers],[Product Code]])))","v":"9901"},{"$f":"IFERROR(INDEX(dProduct[NameTH],Stock[[#This Row],[Index]],0),\"\")","v":"14-ขนมปังไส้สังขยาใหญ่"},1500,{"$f":"IF(Stock[[#This Row],[Index]]=\"\",\"\",INDEX(dProduct[Unit],Stock[[#This Row],[Index]]))","v":"ชิ้น"},{"$f":"SUMPRODUCT((Transaction[Type]=\"รับ\")*(Transaction[Products]=Stock[[#This Row],[Products Name]])*Transaction[Qty In-Out])","v":0},{"$f":"SUMPRODUCT((Transaction[Type]=\"เบิก\")*(Transaction[Products]=Stock[[#This Row],[Products Name]])*Transaction[Qty In-Out])","v":0},100,{"$f":"Stock[[#This Row],[Opening Stock]]+Stock[[#This Row],[Received]]-Stock[[#This Row],[Deliver]]","v":1500},{"$f":"IFERROR(INDEX(dProduct[PriceCase],Stock[[#This Row],[Index]])*(1-INDEX(dProduct[%Discount],Stock[[#This Row],[Index]])),\"\")","v":6.6000000000000005},{"$f":"IFERROR(Stock[[#This Row],[Stocks On Hand]]*Stock[[#This Row],[Price]],\"\")","v":9900},{"$f":"IF(Stock[[#This Row],[Index]]=\"\",\"\",IF(Stock[[#This Row],[Stocks On Hand]]<Stock[[#This Row],[Re-Order Point]],\"Yes\",\"No\"))","v":"No"}]
[null,{"$f":"IFERROR(IF(Stock[[#This Row],[Product Code]]=\"\",\"\",MATCH(C29,dProduct[PD_Code],0)),\"\")","v":15},{"$f":"IF(ROW()-ROW(Stock[[#Headers],[Product Code]])>ROWS(dProduct[PD_Code]),\"\",INDEX(dProduct[PD_Code],ROW()-ROW(Stock[[#Headers],[Product Code]])))","v":"99148"},{"$f":"IFERROR(INDEX(dProduct[NameTH],Stock[[#This Row],[Index]],0),\"\")","v":"15-ขนมปังชนิดแผ่น(480กรัม)"},1500,{"$f":"IF(Stock[[#This Row],[Index]]=\"\",\"\",INDEX(dProduct[Unit],Stock[[#This Row],[Index]]))","v":"ชิ้น"},{"$f":"SUMPRODUCT((Transaction[Type]=\"รับ\")*(Transaction[Products]=Stock[[#This Row],[Products Name]])*Transaction[Qty In-Out])","v":0},{"$f":"SUMPRODUCT((Transaction[Type]=\"เบิก\")*(Transaction[Products]=Stock[[#This Row],[Products Name]])*Transaction[Qty In-Out])","v":0},100,{"$f":"Stock[[#This Row],[Opening Stock]]+Stock[[#This Row],[Received]]-Stock[[#This Row],[Deliver]]","v":1500},{"$f":"IFERROR(INDEX(dProduct[PriceCase],Stock[[#This Row],[Index]])*(1-INDEX(dProduct[%Discount],Stock[[#This Row],[Index]])),\"\")","v":22},{"$f":"IFERROR(Stock[[#This Row],[Stocks On Hand]]*Stock[[#This Row],[Price]],\"\")","v":33000},{"$f":"IF(Stock[[#This Row],[Index]]=\"\",\"\",IF(Stock[[#This Row],[Stocks On Hand]]<Stock[[#This Row],[Re-Order Point]],\"Yes\",\"No\"))","v":"No"}]
[null,{"$f":"IFERROR(IF(Stock[[#This Row],[Product Code]]=\"\",\"\",MATCH(C30,dProduct[PD_Code],0)),\"\")","v":16},{"$f":"IF(ROW()-ROW(Stock[[#Headers],[Product Code]])>ROWS(dProduct[PD_Code]),\"\",INDEX(dProduct[PD_Code],ROW()-ROW(Stock[[#Headers],[Product Code]])))","v":"9957"},{"$f":"IFERROR(INDEX(dProduct[NameTH],Stock[[#This Row],[Index]],0),\"\")","v":"16-โมจิไส้ถั่ว"},1500,{"$f":"IF(Stock[[#This Row],[Index]]=\"\",\"\",INDEX(dProduct[Unit],Stock[[#This Row],[Index]]))","v":"ชิ้น"},{"$f":"SUMPRODUCT((Transaction[Type]=\"รับ\")*(Transaction[Products]=Stock[[#This Row],[Products Name]])*Transaction[Qty In-Out])","v":0},{"$f":"SUMPRODUCT((Transaction[Type]=\"เบิก\")*(Transaction[Products]=Stock[[#This Row],[Products Name]])*Transaction[Qty In-Out])","v":0},100,{"$f":"Stock[[#This Row],[Opening Stock]]+Stock[[#This Row],[Received]]-Stock[[#This Row],[Deliver]]","v":1500},{"$f":"IFERROR(INDEX(dProduct[PriceCase],Stock[[#This Row],[Index]])*(1-INDEX(dProduct[%Discount],Stock[[#This Row],[Index]])),\"\")","v":5.5},{"$f":"IFERROR(Stock[[#This Row],[Stocks On Hand]]*Stock[[#This Row],[Price]],\"\")","v":8250},{"$f":"IF(Stock[[#This Row],[Index]]=\"\",\"\",IF(Stock[[#This Row],[Stocks On Hand]]<Stock[[#This Row],[Re-Order Point]],\"Yes\",\"No\"))","v":"No"}]
[null,{"$f":"IFERROR(IF(Stock[[#This Row],[Product Code]]=\"\",\"\",MATCH(C31,dProduct[PD_Code],0)),\"\")","v":17},{"$f":"IF(ROW()-ROW(Stock[[#Headers],[Product Code]])>ROWS(dProduct[PD_Code]),\"\",INDEX(dProduct[PD_Code],ROW()-ROW(Stock[[#Headers],[Product Code]])))","v":"99167"},{"$f":"IFERROR(INDEX(dProduct[NameTH],Stock[[#This Row],[Index]],0),\"\")","v":"17-โมจิไส้เผือก"},1500,{"$f":"IF(Stock[[#This Row],[Index]]=\"\",\"\",INDEX(dProduct[Unit],Stock[[#This Row],[Index]]))","v":"ชิ้น"},{"$f":"SUMPRODUCT((Transaction[Type]=\"รับ\")*(Transaction[Products]=Stock[[#This Row],[Products Name]])*Transaction[Qty In-Out])","v":0},{"$f":"SUMPRODUCT((Transaction[Type]=\"เบิก\")*(Transaction[Products]=Stock[[#This Row],[Products Name]])*Transaction[Qty In-Out])","v":0},100,{"$f":"Stock[[#This Row],[Opening Stock]]+Stock[[#This Row],[Received]]-Stock[[#This Row],[Deliver]]","v":1500},{"$f":"IFERROR(INDEX(dProduct[PriceCase],Stock[[#This Row],[Index]])*(1-INDEX(dProduct[%Discount],Stock[[#This Row],[Index]])),\"\")","v":5.5},{"$f":"IFERROR(Stock[[#This Row],[Stocks On Hand]]*Stock[[#This Row],[Price]],\"\")","v":8250},{"$f":"IF(Stock[[#This Row],[Index]]=\"\",\"\",IF(Stock[[#This Row],[Stocks On Hand]]<Stock[[#This Row],[Re-Order Point]],\"Yes\",\"No\"))","v":"No"}]
[null,{"$f":"IFERROR(IF(Stock[[#This Row],[Product Code]]=\"\",\"\",MATCH(C32,dProduct[PD_Code],0)),\"\")","v":18},{"$f":"IF(ROW()-ROW(Stock[[#Headers],[Product Code]])>ROWS(dProduct[PD_Code]),\"\",INDEX(dProduct[PD_Code],ROW()-ROW(Stock[[#Headers],[Product Code]])))","v":"99166"},{"$f":"IFERROR(INDEX(dProduct[NameTH],Stock[[#This Row],[Index]],0),\"\")","v":"18-โมจิไส้ถั่วไข่เค็ม"},1500,{"$f":"IF(Stock[[#This Row],[Index]]=\"\",\"\",INDEX(dProduct[Unit],Stock[[#This Row],[Index]]))","v":"ชิ้น"},{"$f":"SUMPRODUCT((Transaction[Type]=\"รับ\")*(Transaction[Products]=Stock[[#This Row],[Products Name]])*Transaction[Qty In-Out])","v":0},{"$f":"SUMPRODUCT((Transaction[Type]=\"เบิก\")*(Transaction[Products]=Stock[[#This Row],[Products Name]])*Transaction[Qty In-Out])","v":0},100,{"$f":"Stock[[#This Row],[Opening Stock]]+Stock[[#This Row],[Received]]-Stock[[#This Row],[Deliver]]","v":1500},{"$f":"IFERROR(INDEX(dProduct[PriceCase],Stock[[#This Row],[Index]])*(1-INDEX(dProduct[%Discount],Stock[[#This Row],[Index]])),\"\")","v":8.25},{"$f":"IFERROR(Stock[[#This Row],[Stocks On Hand]]*Stock[[#This Row],[Price]],\"\")","v":12375},{"$f":"IF(Stock[[#This Row],[Index]]=\"\",\"\",IF(Stock[[#This Row],[Stocks On Hand]]<Stock[[#This Row],[Re-Order Point]],\"Yes\",\"No\"))","v":"No"}]
[null,{"$f":"IFERROR(IF(Stock[[#This Row],[Product Code]]=\"\",\"\",MATCH(C33,dProduct[PD_Code],0)),\"\")","v":19},{"$f":"IF(ROW()-ROW(Stock[[#Headers],[Product Code]])>ROWS(dProduct[PD_Code]),\"\",INDEX(dProduct[PD_Code],ROW()-ROW(Stock[[#Headers],[Product Code]])))","v":"9912"},{"$f":"IFERROR(INDEX(dProduct[NameTH],Stock[[#This Row],[Index]],0),\"\")","v":"19-ขนมปังพิซซ่า"},1500,{"$f":"IF(Stock[[#This Row],[Index]]=\"\",\"\",INDEX(dProduct[Unit],Stock[[#This Row],[Index]]))","v":"ชิ้น"},{"$f":"SUMPRODUCT((Transaction[Type]=\"รับ\")*(Transaction[Products]=Stock[[#This Row],[Products Name]])*Transaction[Qty In-Out])","v":0},{"$f":"SUMPRODUCT((Transaction[Type]=\"เบิก\")*(Transaction[Products]=Stock[[#This Row],[Products Name]])*Transaction[Qty In-Out])","v":0},100,{"$f":"Stock[[#This Row],[Opening Stock]]+Stock[[#This Row],[Received]]-Stock[[#This Row],[Deliver]]","v":1500},{"$f":"IFERROR(INDEX(dProduct[PriceCase],Stock[[#This Row],[Index]])*(1-INDEX(dProduct[%Discount],Stock[[#This Row],[Index]])),\"\")","v":8.25},{"$f":"IFERROR(Stock[[#This Row],[Stocks On Hand]]*Stock[[#This Row],[Price]],\"\")","v":12375},{"$f":"IF(Stock[[#This Row],[Index]]=\"\",\"\",IF(Stock[[#This Row],[Stocks On Hand]]<Stock[[#This Row],[Re-Order Point]],\"Yes\",\"No\"))","v":"No"}]
[null,{"$f":"IFERROR(IF(Stock[[#This Row],[Product Code]]=\"\",\"\",MATCH(C34,dProduct[PD_Code],0)),\"\")","v":20},{"$f":"IF(ROW()-ROW(Stock[[#Headers],[Product Code]])>ROWS(dProduct[PD_Code]),\"\",INDEX(dProduct[PD_Code],ROW()-ROW(Stock[[#Headers],[Product Code]])))","v":"99158"},{"$f":"IFERROR(INDEX(dProduct[NameTH],Stock[[#This Row],[Index]],0),\"\")","v":"20-ขนมปังพิซซ่าปูอัดแฮม"},1500,{"$f":"IF(Stock[[#This Row],[Index]]=\"\",\"\",INDEX(dProduct[Unit],Stock[[#This Row],[Index]]))","v":"ชิ้น"},{"$f":"SUMPRODUCT((Transaction[Type]=\"รับ\")*(Transaction[Products]=Stock[[#This Row],[Products Name]])*Transaction[Qty In-Out])","v":0},{"$f":"SUMPRODUCT((Transaction[Type]=\"เบิก\")*(Transaction[Products]=Stock[[#This Row],[Products Name]])*Transaction[Qty In-Out])","v":0},100,{"$f":"Stock[[#This Row],[Opening Stock]]+Stock[[#This Row],[Received]]-Stock[[#This Row],[Deliver]]","v":1500},{"$f":"IFERROR(INDEX(dProduct[PriceCase],Stock[[#This Row],[Index]])*(1-INDEX(dProduct[%Discount],Stock[[#This Row],[Index]])),\"\")","v":8.25},{"$f":"IFERROR(Stock[[#This Row],[Stocks On Hand]]*Stock[[#This Row],[Price]],\"\")","v":12375},{"$f":"IF(Stock[[#This Row],[Index]]=\"\",\"\",IF(Stock[[#This Row],[Stocks On Hand]]<Stock[[#This Row],[Re-Order Point]],\"Yes\",\"No\"))","v":"No"}]
[null,{"$f":"IFERROR(IF(Stock[[#This Row],[Product Code]]=\"\",\"\",MATCH(C35,dProduct[PD_Code],0)),\"\")","v":21},{"$f":"IF(ROW()-ROW(Stock[[#Headers],[Product Code]])>ROWS(dProduct[PD_Code]),\"\",INDEX(dProduct[PD_Code],ROW()-ROW(Stock[[#Headers],[Product Code]])))","v":"9953"},{"$f":"IFERROR(INDEX(dProduct[NameTH],Stock[[#This Row],[Index]],0),\"\")","v":"21-ขนมปังไส้กรอก"},1500,{"$f":"IF(Stock[[#This Row],[Index]]=\"\",\"\",INDEX(dProduct[Unit],Stock[[#This Row],[Index]]))","v":"ชิ้น"},{"$f":"SUMPRODUCT((Transaction[Type]=\"รับ\")*(Transaction[Products]=Stock[[#This Row],[Products Name]])*Transaction[Qty In-Out])","v":0},{"$f":"SUMPRODUCT((Transaction[Type]=\"เบิก\")*(Transaction[Products]=Stock[[#This Row],[Products Name]])*Transaction[Qty In-Out])","v":0},100,{"$f":"Stock[[#This Row],[Opening Stock]]+Stock[[#This Row],[Received]]-Stock[[#This Row],[Deliver]]","v":1500},{"$f":"IFERROR(INDEX(dProduct[PriceCase],Stock[[#This Row],[Index]])*(1-INDEX(dProduct[%Discount],Stock[[#This Row],[Index]])),\"\")","v":8.25},{"$f":"IFERROR(Stock[[#This Row],[Stocks On Hand]]*Stock[[#This Row],[Price]],\"\")","v":12375},{"$f":"IF(Stock[[#This Row],[Index]]=\"\",\"\",IF(Stock[[#This Row],[Stocks On Hand]]<Stock[[#This Row],[Re-Order Point]],\"Yes\",\"No\"))","v":"No"}]
[null,{"$f":"IFERROR(IF(Stock[[#This Row],[Product Code]]=\"\",\"\",MATCH(C36,dProduct[PD_Code],0)),\"\")","v":22},{"$f":"IF(ROW()-ROW(Stock[[#Headers],[Product Code]])>ROWS(dProduct[PD_Code]),\"\",INDEX(dProduct[PD_Code],ROW()-ROW(Stock[[#Headers],[Product Code]])))","v":"99173"},{"$f":"IFERROR(INDEX(dProduct[NameTH],Stock[[#This Row],[Index]],0),\"\")","v":"22-ขนมปังไส้ครีมรสกาแฟ"},1500,{"$f":"IF(Stock[[#This Row],[Index]]=\"\",\"\",INDEX(dProduct[Unit],Stock[[#This Row],[Index]]))","v":"ชิ้น"},{"$f":"SUMPRODUCT((Transaction[Type]=\"รับ\")*(Transaction[Products]=Stock[[#This Row],[Products Name]])*Transaction[Qty In-Out])","v":0},{"$f":"SUMPRODUCT((Transaction[Type]=\"เบิก\")*(Transaction[Products]=Stock[[#This Row],[Products Name]])*Transaction[Qty In-Out])","v":0},100,{"$f":"Stock[[#This Row],[Opening Stock]]+Stock[[#This Row],[Received]]-Stock[[#This Row],[Deliver]]","v":1500},{"$f":"IFERROR(INDEX(dProduct[PriceCase],Stock[[#This Row],[Index]])*(1-INDEX(dProduct[%Discount],Stock[[#This Row],[Index]])),\"\")","v":6.6000000000000005},{"$f":"IFERROR(Stock[[#This Row],[Stocks On Hand]]*Stock[[#This Row],[Price]],\"\")","v":9900},{"$f":"IF(Stock[[#This Row],[Index]]=\"\",\"\",IF(Stock[[#This Row],[Stocks On Hand]]<Stock[[#This Row],[Re-Order Point]],\"Yes\",\"No\"))","v":"No"}]
[null,{"$f":"IFERROR(IF(Stock[[#This Row],[Product Code]]=\"\",\"\",MATCH(C37,dProduct[PD_Code],0)),\"\")","v":23},{"$f":"IF(ROW()-ROW(Stock[[#Headers],[Product Code]])>ROWS(dProduct[PD_Code]),\"\",INDEX(dProduct[PD_Code],ROW()-ROW(Stock[[#Headers],[Product Code]])))","v":"99175"},{"$f":"IFERROR(INDEX(dProduct[NameTH],Stock[[#This Row],[Index]],0),\"\")","v":"23-ครัวซองต์เนยสด"},1500,{"$f":"IF(Stock[[#This Row],[Index]]=\"\",\"\",INDEX(dProduct[Unit],Stock[[#This Row],[Index]]))","v":"ชิ้น"},{"$f":"SUMPRODUCT((Transaction[Type]=\"รับ\")*(Transaction[Products]=Stock[[#This Row],[Products Name]])*Transaction[Qty In-Out])","v":0},{"$f":"SUMPRODUCT((Transaction[Type]=\"เบิก\")*(Transaction[Products]=Stock[[#This Row],[Products Name]])*Transaction[Qty In-Out])","v":0},100,{"$f":"Stock[[#This Row],[Opening Stock]]+Stock[[#This Row],[Received]]-Stock[[#This Row],[Deliver]]","v":1500},{"$f":"IFERROR(INDEX(dProduct[PriceCase],Stock[[#This Row],[Index]])*(1-INDEX(dProduct[%Discount],Stock[[#This Row],[Index]])),\"\")","v":11},{"$f":"IFERROR(Stock[[#This Row],[Stocks On Hand]]*Stock[[#This Row],[Price]],\"\")","v":16500},{"$f":"IF(Stock[[#This Row],[Index]]=\"\",\"\",IF(Stock[[#This Row],[Stocks On Hand]]<Stock[[#This Row],[Re-Order Point]],\"Yes\",\"No\"))","v":"No"}]
[null,{"$f":"IFERROR(IF(Stock[[#This Row],[Product Code]]=\"\",\"\",MATCH(C38,dProduct[PD_Code],0)),\"\")","v":24},{"$f":"IF(ROW()-ROW(Stock[[#Headers],[Product Code]])>ROWS(dProduct[PD_Code]),\"\",INDEX(dProduct[PD_Code],ROW()-ROW(Stock[[#Headers],[Product Code]])))","v":"9909"},{"$f":"IFERROR(INDEX(dProduct[NameTH],Stock[[#This Row],[Index]],0),\"\")","v":"24-ขนมก้านบัว"},1500,{"$f":"IF(Stock[[#This Row],[Index]]=\"\",\"\",INDEX(dProduct[Unit],Stock[[#This Row],[Index]]))","v":"ชิ้น"},{"$f":"SUMPRODUCT((Transaction[Type]=\"รับ\")*(Transaction[Products]=Stock[[#This Row],[Products Name]])*Transaction[Qty In-Out])","v":0},{"$f":"SUMPRODUCT((Transaction[Type]=\"เบิก\")*(Transaction[Products]=Stock[[#This Row],[Products Name]])*Transaction[Qty In-Out])","v":0},100,{"$f":"Stock[[#This Row],[Opening Stock]]+Stock[[#This Row],[Received]]-Stock[[#This Row],[Deliver]]","v":1500},{"$f":"IFERROR(INDEX(dProduct[PriceCase],Stock[[#This Row],[Index]])*(1-INDEX(dProduct[%Discount],Stock[[#This Row],[Index]])),\"\")","v":8.25},{"$f":"IFERROR(Stock[[#This Row],[Stocks On Hand]]*Stock[[#This Row],[Price]],\"\")","v":12375},{"$f":"IF(Stock[[#This Row],[Index]]=\"\",\"\",IF(Stock[[#This Row],[Stocks On Hand]]<Stock[[#This Row],[Re-Order Point]],\"Yes\",\"No\"))","v":"No"}]
[null,{"$f":"IFERROR(IF(Stock[[#This Row],[Product Code]]=\"\",\"\",MATCH(C39,dProduct[PD_Code],0)),\"\")","v":25},{"$f":"IF(ROW()-ROW(Stock[[#Headers],[Product Code]])>ROWS(dProduct[PD_Code]),\"\",INDEX(dProduct[PD_Code],ROW()-ROW(Stock[[#Headers],[Product Code]])))","v":"99176"},{"$f":"IFERROR(INDEX(dProduct[NameTH],Stock[[#This Row],[Index]],0),\"\")","v":"25-ขนมปังกรอบเนยน้ำตาล"},1500,{"$f":"IF(Stock[[#This Row],[Index]]=\"\",\"\",INDEX(dProduct[Unit],Stock[[#This Row],[Index]]))","v":"ชิ้น"},{"$f":"SUMPRODUCT((Transaction[Type]=\"รับ\")*(Transaction[Products]=Stock[[#This Row],[Products Name]])*Transaction[Qty In-Out])","v":0},{"$f":"SUMPRODUCT((Transaction[Type]=\"เบิก\")*(Transaction[Products]=Stock[[#This Row],[Products Name]])*Transaction[Qty In-Out])","v":0},100,{"$f":"Stock[[#This Row],[Opening Stock]]+Stock[[#This Row],[Received]]-Stock[[#This Row],[Deliver]]","v":1500},{"$f":"IFERROR(INDEX(dProduct[PriceCase],Stock[[#This Row],[Index]])*(1-INDEX(dProduct[%Discount],Stock[[#This Row],[Index]])),\"\")","v":11},{"$f":"IFERROR(Stock[[#This Row],[Stocks On Hand]]*Stock[[#This Row],[Price]],\"\")","v":16500},{"$f":"IF(Stock[[#This Row],[Index]]=\"\",\"\",IF(Stock[[#This Row],[Stocks On Hand]]<Stock[[#This Row],[Re-Order Point]],\"Yes\",\"No\"))","v":"No"}]
[null,{"$f":"IFERROR(IF(Stock[[#This Row],[Product Code]]=\"\",\"\",MATCH(C40,dProduct[PD_Code],0)),\"\")","v":26},{"$f":"IF(ROW()-ROW(Stock[[#Headers],[Product Code]])>ROWS(dProduct[PD_Code]),\"\",INDEX(dProduct[PD_Code],ROW()-ROW(Stock[[#Headers],[Product Code]])))","v":"99177"},{"$f":"IFERROR(INDEX(dProduct[NameTH],Stock[[#This Row],[Index]],0),\"\")","v":"26-พายสับปะรด"},1500,{"$f":"IF(Stock[[#This Row],[Index]]=\"\",\"\",INDEX(dProduct[Unit],Stock[[#This Row],[Index]]))","v":"ชิ้น"},{"$f":"SUMPRODUCT((Transaction[Type]=\"รับ\")*(Transaction[Products]=Stock[[#This Row],[Products Name]])*Transaction[Qty In-Out])","v":0},{"$f":"SUMPRODUCT((Transaction[Type]=\"เบิก\")*(Transaction[Products]=Stock[[#This Row],[Products Name]])*Transaction[Qty In-Out])","v":0},100,{"$f":"Stock[[#This Row],[Opening Stock]]+Stock[[#This Row],[Received]]-Stock[[#This Row],[Deliver]]","v":1500},{"$f":"IFERROR(INDEX(dProduct[PriceCase],Stock[[#This Row],[Index]])*(1-INDEX(dProduct[%Discount],Stock[[#This Row],[Index]])),\"\")","v":11},{"$f":"IFERROR(Stock[[#This Row],[Stocks On Hand]]*Stock[[#This Row],[Price]],\"\")","v":16500},{"$f":"IF(Stock[[#This Row],[Index]]=\"\",\"\",IF(Stock[[#This Row],[Stocks On Hand]]<Stock[[#This Row],[Re-Order Point]],\"Yes\",\"No\"))","v":"No"}]
[null,{"$f":"IFERROR(IF(Stock[[#This Row],[Product Code]]=\"\",\"\",MATCH(C41,dProduct[PD_Code],0)),\"\")","v":27},{"$f":"IF(ROW()-ROW(Stock[[#Headers],[Product Code]])>ROWS(dProduct[PD_Code]),\"\",INDEX(dProduct[PD_Code],ROW()-ROW(Stock[[#Headers],[Product Code]])))","v":"99134"},{"$f":"IFERROR(INDEX(dProduct[NameTH],Stock[[#This Row],[Index]],0),\"\")","v":"27-ปังกรอบเนยสด"},1500,{"$f":"IF(Stock[[#This Row],[Index]]=\"\",\"\",INDEX(dProduct[Unit],Stock[[#This Row],[Index]]))","v":"ชิ้น"},{"$f":"SUMPRODUCT((Transaction[Type]=\"รับ\")*(Transaction[Products]=Stock[[#This Row],[Products Name]])*Transaction[Qty In-Out])","v":0},{"$f":"SUMPRODUCT((Transaction[Type]=\"เบิก\")*(Transaction[Products]=Stock[[#This Row],[Products Name]])*Transaction[Qty In-Out])","v":0},100,{"$f":"Stock[[#This Row],[Opening Stock]]+Stock[[#This Row],[Received]]-Stock[[#This Row],[Deliver]]","v":1500},{"$f":"IFERROR(INDEX(dProduct[PriceCase],Stock[[#This Row],[Index]])*(1-INDEX(dProduct[%Discount],Stock[[#This Row],[Index]])),\"\")","v":8.25},{"$f":"IFERROR(Stock[[#This Row],[Stocks On Hand]]*Stock[[#This Row],[Price]],\"\")","v":12375},{"$f":"IF(Stock[[#This Row],[Index]]=\"\",\"\",IF(Stock[[#This Row],[Stocks On Hand]]<Stock[[#This Row],[Re-Order Point]],\"Yes\",\"No\"))","v":"No"}]
[null,{"$f":"IFERROR(IF(Stock[[#This Row],[Product Code]]=\"\",\"\",MATCH(C42,dProduct[PD_Code],0)),\"\")","v":28},{"$f":"IF(ROW()-ROW(Stock[[#Headers],[Product Code]])>ROWS(dProduct[PD_Code]),\"\",INDEX(dProduct[PD_Code],ROW()-ROW(Stock[[#Headers],[Product Code]])))","v":"99135"},{"$f":"IFERROR(INDEX(dProduct[NameTH],Stock[[#This Row],[Index]],0),\"\")","v":"28-ปังกรอบกระเทียม"},1500,{"$f":"IF(Stock[[#This Row],[Index]]=\"\",\"\",INDEX(dProduct[Unit],Stock[[#This Row],[Index]]))","v":"ชิ้น"},{"$f":"SUMPRODUCT((Transaction[Type]=\"รับ\")*(Transaction[Products]=Stock[[#This Row],[Products Name]])*Transaction[Qty In-Out])","v":0},{"$f":"SUMPRODUCT((Transaction[Type]=\"เบิก\")*(Transaction[Products]=Stock[[#This Row],[Products Name]])*Transaction[Qty In-Out])","v":0},100,{"$f":"Stock[[#This Row],[Opening Stock]]+Stock[[#This Row],[Received]]-Stock[[#This Row],[Deliver]]","v":1500},{"$f":"IFERROR(INDEX(dProduct[PriceCase],Stock[[#This Row],[Index]])*(1-INDEX(dProduct[%Discount],Stock[[#This Row],[Index]])),\"\")","v":8.25},{"$f":"IFERROR(Stock[[#This Row],[Stocks On Hand]]*Stock[[#This Row],[Price]],\"\")","v":12375},{"$f":"IF(Stock[[#This Row],[Index]]=\"\",\"\",IF(Stock[[#This Row],[Stocks On Hand]]<Stock[[#This Row],[Re-Order Point]],\"Yes\",\"No\"))","v":"No"}]
[null,{"$f":"IFERROR(IF(Stock[[#This Row],[Product Code]]=\"\",\"\",MATCH(C43,dProduct[PD_Code],0)),\"\")","v":29},{"$f":"IF(ROW()-ROW(Stock[[#Headers],[Product Code]])>ROWS(dProduct[PD_Code]),\"\",INDEX(dProduct[PD_Code],ROW()-ROW(Stock[[#Headers],[Product Code]])))","v":"9921"},{"$f":"IFERROR(INDEX(dProduct[NameTH],Stock[[#This Row],[Index]],0),\"\")","v":"29-ขนมปังโรลมันเทศ"},1500,{"$f":"IF(Stock[[#This Row],[Index]]=\"\",\"\",INDEX(dProduct[Unit],Stock[[#This Row],[Index]]))","v":"ชิ้น"},{"$f":"SUMPRODUCT((Transaction[Type]=\"รับ\")*(Transaction[Products]=Stock[[#This Row],[Products Name]])*Transaction[Qty In-Out])","v":0},{"$f":"SUMPRODUCT((Transaction[Type]=\"เบิก\")*(Transaction[Products]=Stock[[#This Row],[Products Name]])*Transaction[Qty In-Out])","v":0},100,{"$f":"Stock[[#This Row],[Opening Stock]]+Stock[[#This Row],[Received]]-Stock[[#This Row],[Deliver]]","v":1500},{"$f":"IFERROR(INDEX(dProduct[PriceCase],Stock[[#This Row],[Index]])*(1-INDEX(dProduct[%Discount],Stock[[#This Row],[Index]])),\"\")","v":6.6000000000000005},{"$f":"IFERROR(Stock[[#This Row],[Stocks On Hand]]*Stock[[#This Row],[Price]],\"\")","v":9900},{"$f":"IF(Stock[[#This Row],[Index]]=\"\",\"\",IF(Stock[[#This Row],[Stocks On Hand]]<Stock[[#This Row],[Re-Order Point]],\"Yes\",\"No\"))","v":"No"}]
[null,{"$f":"IFERROR(IF(Stock[[#This Row],[Product Code]]=\"\",\"\",MATCH(C44,dProduct[PD_Code],0)),\"\")","v":30},{"$f":"IF(ROW()-ROW(Stock[[#Headers],[Product Code]])>ROWS(dProduct[PD_Code]),\"\",INDEX(dProduct[PD_Code],ROW()-ROW(Stock[[#Headers],[Product Code]])))","v":"99164"},{"$f":"IFERROR(INDEX(dProduct[NameTH],Stock[[#This Row],[Index]],0),\"\")","v":"30-บันเตยหอมไส้มันเทศ"},1500,{"$f":"IF(Stock[[#This Row],[Index]]=\"\",\"\",INDEX(dProduct[Unit],Stock[[#This Row],[Index]]))","v":"ชิ้น"},{"$f":"SUMPRODUCT((Transaction[Type]=\"รับ\")*(Transaction[Products]=Stock[[#This Row],[Products Name]])*Transaction[Qty In-Out])","v":0},{"$f":"SUMPRODUCT((Transaction[Type]=\"เบิก\")*(Transaction[Products]=Stock[[#This Row],[Products Name]])*Transaction[Qty In-Out])","v":0},100,{"$f":"Stock[[#This Row],[Opening Stock]]+Stock[[#This Row],[Received]]-Stock[[#This Row],[Deliver]]","v":1500},{"$f":"IFERROR(INDEX(dProduct[PriceCase],Stock[[#This Row],[Index]])*(1-INDEX(dProduct[%Discount],Stock[[#This Row],[Index]])),\"\")","v":5.5},{"$f":"IFERROR(Stock[[#This Row],[Stocks On Hand]]*Stock[[#This Row],[Price]],\"\")","v":8250},{"$f":"IF(Stock[[#This Row],[Index]]=\"\",\"\",IF(Stock[[#This Row],[Stocks On Hand]]<Stock[[#This Row],[Re-Order Point]],\"Yes\",\"No\"))","v":"No"}]
[null,{"$f":"IFERROR(IF(Stock[[#This Row],[Product Code]]=\"\",\"\",MATCH(C45,dProduct[PD_Code],0)),\"\")","v":31},{"$f":"IF(ROW()-ROW(Stock[[#Headers],[Product Code]])>ROWS(dProduct[PD_Code]),\"\",INDEX(dProduct[PD_Code],ROW()-ROW(Stock[[#Headers],[Product Code]])))","v":"99168"},{"$f":"IFERROR(INDEX(dProduct[NameTH],Stock[[#This Row],[Index]],0),\"\")","v":"31-โมจิชาเขียวมัทฉะไส้ถั่วแดง"},1500,{"$f":"IF(Stock[[#This Row],[Index]]=\"\",\"\",INDEX(dProduct[Unit],Stock[[#This Row],[Index]]))","v":"ชิ้น"},{"$f":"SUMPRODUCT((Transaction[Type]=\"รับ\")*(Transaction[Products]=Stock[[#This Row],[Products Name]])*Transaction[Qty In-Out])","v":0},{"$f":"SUMPRODUCT((Transaction[Type]=\"เบิก\")*(Transaction[Products]=Stock[[#This Row],[Products Name]])*Transaction[Qty In-Out])","v":0},100,{"$f":"Stock[[#This Row],[Opening Stock]]+Stock[[#This Row],[Received]]-Stock[[#This Row],[Deliver]]","v":1500},{"$f":"IFERROR(INDEX(dProduct[PriceCase],Stock[[#This Row],[Index]])*(1-INDEX(dProduct[%Discount],Stock[[#This Row],[Index]])),\"\")","v":5.5},{"$f":"IFERROR(Stock[[#This Row],[Stocks On Hand]]*Stock[[#This Row],[Price]],\"\")","v":8250},{"$f":"IF(Stock[[#This Row],[Index]]=\"\",\"\",IF(Stock[[#This Row],[Stocks On Hand]]<Stock[[#This Row],[Re-Order Point]],\"Yes\",\"No\"))","v":"No"}]
[null,{"$f":"IFERROR(IF(Stock[[#This Row],[Product Code]]=\"\",\"\",MATCH(C46,dProduct[PD_Code],0)),\"\")","v":""},{"$f":"IF(ROW()-ROW(Stock[[#Headers],[Product Code]])>ROWS(dProduct[PD_Code]),\"\",INDEX(dProduct[PD_Code],ROW()-ROW(Stock[[#Headers],[Product Code]])))","v":""},{"$f":"IFERROR(INDEX(dProduct[NameTH],Stock[[#This Row],[Index]],0),\"\")","v":""},1500,{"$f":"IF(Stock[[#This Row],[Index]]=\"\",\"\",INDEX(dProduct[Unit],Stock[[#This Row],[Index]]))","v":""},{"$f":"SUMPRODUCT((Transaction[Type]=\"รับ\")*(Transaction[Products]=Stock[[#This Row],[Products Name]])*Transaction[Qty In-Out])","v":0},{"$f":"SUMPRODUCT((Transaction[Type]=\"เบิก\")*(Transaction[Products]=Stock[[#This Row],[Products Name]])*Transaction[Qty In-Out])","v":0},100,{"$f":"Stock[[#This Row],[Opening Stock]]+Stock[[#This Row],[Received]]-Stock[[#This Row],[Deliver]]","v":1500},{"$f":"IFERROR(INDEX(dProduct[PriceCase],Stock[[#This Row],[Index]])*(1-INDEX(dProduct[%Discount],Stock[[#This Row],[Index]])),\"\")","v":""},{"$f":"IFERROR(Stock[[#This Row],[Stocks On Hand]]*Stock[[#This Row],[Price]],\"\")","v":""},{"$f":"IF(Stock[[#This Row],[Index]]=\"\",\"\",IF(Stock[[#This Row],[Stocks On Hand]]<Stock[[#This Row],[Re-Order Point]],\"Yes\",\"No\"))","v":""}]
[null,{"$f":"IFERROR(IF(Stock[[#This Row],[Product Code]]=\"\",\"\",MATCH(C47,dProduct[PD_Code],0)),\"\")","v":""},{"$f":"IF(ROW()-ROW(Stock[[#Headers],[Product Code]])>ROWS(dProduct[PD_Code]),\"\",INDEX(dProduct[PD_Code],ROW()-ROW(Stock[[#Headers],[Product Code]])))","v":""},{"$f":"IFERROR(INDEX(dProduct[NameTH],Stock[[#This Row],[Index]],0),\"\")","v":""},1500,{"$f":"IF(Stock[[#This Row],[Index]]=\"\",\"\",INDEX(dProduct[Unit],Stock[[#This Row],[Index]]))","v":""},{"$f":"SUMPRODUCT((Transaction[Type]=\"รับ\")*(Transaction[Products]=Stock[[#This Row],[Products Name]])*Transaction[Qty In-Out])","v":0},{"$f":"SUMPRODUCT((Transaction[Type]=\"เบิก\")*(Transaction[Products]=Stock[[#This Row],[Products Name]])*Transaction[Qty In-Out])","v":0},100,{"$f":"Stock[[#This Row],[Opening Stock]]+Stock[[#This Row],[Received]]-Stock[[#This Row],[Deliver]]","v":1500},{"$f":"IFERROR(INDEX(dProduct[PriceCase],Stock[[#This Row],[Index]])*(1-INDEX(dProduct[%Discount],Stock[[#This Row],[Index]])),\"\")","v":""},{"$f":"IFERROR(Stock[[#This Row],[Stocks On Hand]]*Stock[[#This Row],[Price]],\"\")","v":""},{"$f":"IF(Stock[[#This Row],[Index]]=\"\",\"\",IF(Stock[[#This Row],[Stocks On Hand]]<Stock[[#This Row],[Re-Order Point]],\"Yes\",\"No\"))","v":""}]
[null,{"$f":"IFERROR(IF(Stock[[#This Row],[Product Code]]=\"\",\"\",MATCH(C48,dProduct[PD_Code],0)),\"\")","v":""},{"$f":"IF(ROW()-ROW(Stock[[#Headers],[Product Code]])>ROWS(dProduct[PD_Code]),\"\",INDEX(dProduct[PD_Code],ROW()-ROW(Stock[[#Headers],[Product Code]])))","v":""},{"$f":"IFERROR(INDEX(dProduct[NameTH],Stock[[#This Row],[Index]],0),\"\")","v":""},null,{"$f":"IF(Stock[[#This Row],[Index]]=\"\",\"\",INDEX(dProduct[Unit],Stock[[#This Row],[Index]]))","v":""},{"$f":"SUMPRODUCT((Transaction[Type]=\"รับ\")*(Transaction[Products]=Stock[[#This Row],[Products Name]])*Transaction[Qty In-Out])","v":0},{"$f":"SUMPRODUCT((Transaction[Type]=\"เบิก\")*(Transaction[Products]=Stock[[#This Row],[Products Name]])*Transaction[Qty In-Out])","v":0},null,{"$f":"Stock[[#This Row],[Opening Stock]]+Stock[[#This Row],[Received]]-Stock[[#This Row],[Deliver]]","v":0},{"$f":"IFERROR(INDEX(dProduct[PriceCase],Stock[[#This Row],[Index]])*(1-INDEX(dProduct[%Discount],Stock[[#This Row],[Index]])),\"\")","v":""},{"$f":"IFERROR(Stock[[#This Row],[Stocks On Hand]]*Stock[[#This Row],[Price]],\"\")","v":""},{"$f":"IF(Stock[[#This Row],[Index]]=\"\",\"\",IF(Stock[[#This Row],[Stocks On Hand]]<Stock[[#This Row],[Re-Order Point]],\"Yes\",\"No\"))","v":""}]
[null,{"$f":"IFERROR(IF(Stock[[#This Row],[Product Code]]=\"\",\"\",MATCH(C49,dProduct[PD_Code],0)),\"\")","v":""},{"$f":"IF(ROW()-ROW(Stock[[#Headers],[Product Code]])>ROWS(dProduct[PD_Code]),\"\",INDEX(dProduct[PD_Code],ROW()-ROW(Stock[[#Headers],[Product Code]])))","v":""},{"$f":"IFERROR(INDEX(dProduct[NameTH],Stock[[#This Row],[Index]],0),\"\")","v":""},null,{"$f":"IF(Stock[[#This Row],[Index]]=\"\",\"\",INDEX(dProduct[Unit],Stock[[#This Row],[Index]]))","v":""},{"$f":"SUMPRODUCT((Transaction[Type]=\"รับ\")*(Transaction[Products]=Stock[[#This Row],[Products Name]])*Transaction[Qty In-Out])","v":0},{"$f":"SUMPRODUCT((Transaction[Type]=\"เบิก\")*(Transaction[Products]=Stock[[#This Row],[Products Name]])*Transaction[Qty In-Out])","v":0},null,{"$f":"Stock[[#This Row],[Opening Stock]]+Stock[[#This Row],[Received]]-Stock[[#This Row],[Deliver]]","v":0},{"$f":"IFERROR(INDEX(dProduct[PriceCase],Stock[[#This Row],[Index]])*(1-INDEX(dProduct[%Discount],Stock[[#This Row],[Index]])),\"\")","v":""},{"$f":"IFERROR(Stock[[#This Row],[Stocks On Hand]]*Stock[[#This Row],[Price]],\"\")","v":""},{"$f":"IF(Stock[[#This Row],[Index]]=\"\",\"\",IF(Stock[[#This Row],[Stocks On Hand]]<Stock[[#This Row],[Re-Order Point]],\"Yes\",\"No\"))","v":""}]
[null,{"$f":"IFERROR(IF(Stock[[#This Row],[Product Code]]=\"\",\"\",MATCH(C50,dProduct[PD_Code],0)),\"\")","v":""},{"$f":"IF(ROW()-ROW(Stock[[#Headers],[Product Code]])>ROWS(dProduct[PD_Code]),\"\",INDEX(dProduct[PD_Code],ROW()-ROW(Stock[[#Headers],[Product Code]])))","v":""},{"$f":"IFERROR(INDEX(dProduct[NameTH],Stock[[#This Row],[Index]],0),\"\")","v":""},null,{"$f":"IF(Stock[[#This Row],[Index]]=\"\",\"\",INDEX(dProduct[Unit],Stock[[#This Row],[Index]]))","v":""},{"$f":"SUMPRODUCT((Transaction[Type]=\"รับ\")*(Transaction[Products]=Stock[[#This Row],[Products Name]])*Transaction[Qty In-Out])","v":0},{"$f":"SUMPRODUCT((Transaction[Type]=\"เบิก\")*(Transaction[Products]=Stock[[#This Row],[Products Name]])*Transaction[Qty In-Out])","v":0},null,{"$f":"Stock[[#This Row],[Opening Stock]]+Stock[[#This Row],[Received]]-Stock[[#This Row],[Deliver]]","v":0},{"$f":"IFERROR(INDEX(dProduct[PriceCase],Stock[[#This Row],[Index]])*(1-INDEX(dProduct[%Discount],Stock[[#This Row],[Index]])),\"\")","v":""},{"$f":"IFERROR(Stock[[#This Row],[Stocks On Hand]]*Stock[[#This Row],[Price]],\"\")","v":""},{"$f":"IF(Stock[[#This Row],[Index]]=\"\",\"\",IF(Stock[[#This Row],[Stocks On Hand]]<Stock[[#This Row],[Re-Order Point]],\"Yes\",\"No\"))","v":""}]
[null,{"$f":"IFERROR(IF(Stock[[#This Row],[Product Code]]=\"\",\"\",MATCH(C51,dProduct[PD_Code],0)),\"\")","v":""},{"$f":"IF(ROW()-ROW(Stock[[#Headers],[Product Code]])>ROWS(dProduct[PD_Code]),\"\",INDEX(dProduct[PD_Code],ROW()-ROW(Stock[[#Headers],[Product Code]])))","v":""},{"$f":"IFERROR(INDEX(dProduct[NameTH],Stock[[#This Row],[Index]],0),\"\")","v":""},null,{"$f":"IF(Stock[[#This Row],[Index]]=\"\",\"\",INDEX(dProduct[Unit],Stock[[#This Row],[Index]]))","v":""},{"$f":"SUMPRODUCT((Transaction[Type]=\"รับ\")*(Transaction[Products]=Stock[[#This Row],[Products Name]])*Transaction[Qty In-Out])","v":0},{"$f":"SUMPRODUCT((Transaction[Type]=\"เบิก\")*(Transaction[Products]=Stock[[#This Row],[Products Name]])*Transaction[Qty In-Out])","v":0},null,{"$f":"Stock[[#This Row],[Opening Stock]]+Stock[[#This Row],[Received]]-Stock[[#This Row],[Deliver]]","v":0},{"$f":"IFERROR(INDEX(dProduct[PriceCase],Stock[[#This Row],[Index]])*(1-INDEX(dProduct[%Discount],Stock[[#This Row],[Index]])),\"\")","v":""},{"$f":"IFERROR(Stock[[#This Row],[Stocks On Hand]]*Stock[[#This Row],[Price]],\"\")","v":""},{"$f":"IF(Stock[[#This Row],[Index]]=\"\",\"\",IF(Stock[[#This Row],[Stocks On Hand]]<Stock[[#This Row],[Re-Order Point]],\"Yes\",\"No\"))","v":""}]
[null,{"$f":"IFERROR(IF(Stock[[#This Row],[Product Code]]=\"\",\"\",MATCH(C52,dProduct[PD_Code],0)),\"\")","v":""},{"$f":"IF(ROW()-ROW(Stock[[#Headers],[Product Code]])>ROWS(dProduct[PD_Code]),\"\",INDEX(dProduct[PD_Code],ROW()-ROW(Stock[[#Headers],[Product Code]])))","v":""},{"$f":"IFERROR(INDEX(dProduct[NameTH],Stock[[#This Row],[Index]],0),\"\")","v":""},null,{"$f":"IF(Stock[[#This Row],[Index]]=\"\",\"\",INDEX(dProduct[Unit],Stock[[#This Row],[Index]]))","v":""},{"$f":"SUMPRODUCT((Transaction[Type]=\"รับ\")*(Transaction[Products]=Stock[[#This Row],[Products Name]])*Transaction[Qty In-Out])","v":0},{"$f":"SUMPRODUCT((Transaction[Type]=\"เบิก\")*(Transaction[Products]=Stock[[#This Row],[Products Name]])*Transaction[Qty In-Out])","v":0},null,{"$f":"Stock[[#This Row],[Opening Stock]]+Stock[[#This Row],[Received]]-Stock[[#This Row],[Deliver]]","v":0},{"$f":"IFERROR(INDEX(dProduct[PriceCase],Stock[[#This Row],[Index]])*(1-INDEX(dProduct[%Discount],Stock[[#This Row],[Index]])),\"\")","v":""},{"$f":"IFERROR(Stock[[#This Row],[Stocks On Hand]]*Stock[[#This Row],[Price]],\"\")","v":""},{"$f":"IF(Stock[[#This Row],[Index]]=\"\",\"\",IF(Stock[[#This Row],[Stocks On Hand]]<Stock[[#This Row],[Re-Order Point]],\"Yes\",\"No\"))","v":""}]
[null,{"$f":"IFERROR(IF(Stock[[#This Row],[Product Code]]=\"\",\"\",MATCH(C53,dProduct[PD_Code],0)),\"\")","v":""},{"$f":"IF(ROW()-ROW(Stock[[#Headers],[Product Code]])>ROWS(dProduct[PD_Code]),\"\",INDEX(dProduct[PD_Code],ROW()-ROW(Stock[[#Headers],[Product Code]])))","v":""},{"$f":"IFERROR(INDEX(dProduct[NameTH],Stock[[#This Row],[Index]],0),\"\")","v":""},null,{"$f":"IF(Stock[[#This Row],[Index]]=\"\",\"\",INDEX(dProduct[Unit],Stock[[#This Row],[Index]]))","v":""},{"$f":"SUMPRODUCT((Transaction[Type]=\"รับ\")*(Transaction[Products]=Stock[[#This Row],[Products Name]])*Transaction[Qty In-Out])","v":0},{"$f":"SUMPRODUCT((Transaction[Type]=\"เบิก\")*(Transaction[Products]=Stock[[#This Row],[Products Name]])*Transaction[Qty In-Out])","v":0},null,{"$f":"Stock[[#This Row],[Opening Stock]]+Stock[[#This Row],[Received]]-Stock[[#This Row],[Deliver]]","v":0},{"$f":"IFERROR(INDEX(dProduct[PriceCase],Stock[[#This Row],[Index]])*(1-INDEX(dProduct[%Discount],Stock[[#This Row],[Index]])),\"\")","v":""},{"$f":"IFERROR(Stock[[#This Row],[Stocks On Hand]]*Stock[[#This Row],[Price]],\"\")","v":""},{"$f":"IF(Stock[[#This Row],[Index]]=\"\",\"\",IF(Stock[[#This Row],[Stocks On Hand]]<Stock[[#This Row],[Re-Order Point]],\"Yes\",\"No\"))","v":""}]
[null,{"$f":"IFERROR(IF(Stock[[#This Row],[Product Code]]=\"\",\"\",MATCH(C54,dProduct[PD_Code],0)),\"\")","v":""},{"$f":"IF(ROW()-ROW(Stock[[#Headers],[Product Code]])>ROWS(dProduct[PD_Code]),\"\",INDEX(dProduct[PD_Code],ROW()-ROW(Stock[[#Headers],[Product Code]])))","v":""},{"$f":"IFERROR(INDEX(dProduct[NameTH],Stock[[#This Row],[Index]],0),\"\")","v":""},null,{"$f":"IF(Stock[[#This Row],[Index]]=\"\",\"\",INDEX(dProduct[Unit],Stock[[#This Row],[Index]]))","v":""},{"$f":"SUMPRODUCT((Transaction[Type]=\"รับ\")*(Transaction[Products]=Stock[[#This Row],[Products Name]])*Transaction[Qty In-Out])","v":0},{"$f":"SUMPRODUCT((Transaction[Type]=\"เบิก\")*(Transaction[Products]=Stock[[#This Row],[Products Name]])*Transaction[Qty In-Out])","v":0},null,{"$f":"Stock[[#This Row],[Opening Stock]]+Stock[[#This Row],[Received]]-Stock[[#This Row],[Deliver]]","v":0},{"$f":"IFERROR(INDEX(dProduct[PriceCase],Stock[[#This Row],[Index]])*(1-INDEX(dProduct[%Discount],Stock[[#This Row],[Index]])),\"\")","v":""},{"$f":"IFERROR(Stock[[#This Row],[Stocks On Hand]]*Stock[[#This Row],[Price]],\"\")","v":""},{"$f":"IF(Stock[[#This Row],[Index]]=\"\",\"\",IF(Stock[[#This Row],[Stocks On Hand]]<Stock[[#This Row],[Re-Order Point]],\"Yes\",\"No\"))","v":""}]
[null,{"$f":"IFERROR(IF(Stock[[#This Row],[Product Code]]=\"\",\"\",MATCH(C55,dProduct[PD_Code],0)),\"\")","v":""},{"$f":"IF(ROW()-ROW(Stock[[#Headers],[Product Code]])>ROWS(dProduct[PD_Code]),\"\",INDEX(dProduct[PD_Code],ROW()-ROW(Stock[[#Headers],[Product Code]])))","v":""},{"$f":"IFERROR(INDEX(dProduct[NameTH],Stock[[#This Row],[Index]],0),\"\")","v":""},null,{"$f":"IF(Stock[[#This Row],[Index]]=\"\",\"\",INDEX(dProduct[Unit],Stock[[#This Row],[Index]]))","v":""},{"$f":"SUMPRODUCT((Transaction[Type]=\"รับ\")*(Transaction[Products]=Stock[[#This Row],[Products Name]])*Transaction[Qty In-Out])","v":0},{"$f":"SUMPRODUCT((Transaction[Type]=\"เบิก\")*(Transaction[Products]=Stock[[#This Row],[Products Name]])*Transaction[Qty In-Out])","v":0},null,{"$f":"Stock[[#This Row],[Opening Stock]]+Stock[[#This Row],[Received]]-Stock[[#This Row],[Deliver]]","v":0},{"$f":"IFERROR(INDEX(dProduct[PriceCase],Stock[[#This Row],[Index]])*(1-INDEX(dProduct[%Discount],Stock[[#This Row],[Index]])),\"\")","v":""},{"$f":"IFERROR(Stock[[#This Row],[Stocks On Hand]]*Stock[[#This Row],[Price]],\"\")","v":""},{"$f":"IF(Stock[[#This Row],[Index]]=\"\",\"\",IF(Stock[[#This Row],[Stocks On Hand]]<Stock[[#This Row],[Re-Order Point]],\"Yes\",\"No\"))","v":""}]

{"sheet":"Transaction","index":4,"n_rows":77,"n_cols":17,"rows_kept":77,"cut":false,"hidden":true,"merged":[[2,1,2,8],[16,12,16,13],[17,12,17,13]]}
[null,null,null,null,null,null,null,null,null,{"$f":"\"\"","v":""}]
[null,null,null,null,null,"SETTING","PRODUCTS","STOCK","REPORT",""]
[null,"ฟอร์มบันทึกรายการ รับ-เบิก สินค้ารายวัน (Received And Deliver Transaction Form)",null,null,null,null,null,null,null,""]
[null,null,"ประจำสาขา :",{"$f":"B_Name&\" (\"&BranchCode&\")\"","v":"โรงงานร่มเกล้า (00-FRK)"},null,{"$f":"\"ระหว่างวันที่ : \"&IF(COUNT(Transaction[Date])=0,\"\",TEXT(MIN(Transaction[Date]),\"[$-,107]d mmm yyyy\")&\" - \"&TEXT(MAX(Transaction[Date]),\"[$-,107]d mmm yyyy\"))","v":"ระหว่างวันที่ : 27 มิ.ย. 2561 - 1 ส.ค. 2561"},null,null,{"$f":"\"TR-Backup_\"&BranchCode&\"_\" &TEXT(MIN(Transaction[Date]),\"[$-,107]ddmmyy\")&\"-\"&TEXT(MAX(Transaction[Date]),\"[$-,107]ddmmyy\")","v":"TR-Backup_00-FRK_270661-010861"},""]
[null,null,null,null,null,null,null,null,null,""]
[null,"MODULE : DAILY RECORD DATA BY  VAN SALES (บันทึกรายการเบิกออกของสายวิ่ง)",null,null,null,null,null,null,null,""]
[null,"วันที่","สายวิ่ง","ประเภท","รายการสินค้า","จำนวนรับ-เบิก",{"$f":"\"สต๊อคคงเหลือ(\"&_xlfn.IFNA(INDEX(dProduct[Unit],MATCH(Transaction!E8,dProduct[NameTH],0)),\"หน่วย\")&\")\"","v":"สต๊อคคงเหลือ(หน่วย)"},null,null,""]
[null,"2018-08-01","KK01","เบิก",null,null,{"$f":"IF(E8=\"\",0,INDEX(Stock[Stocks On Hand],MATCH(E8,Stock[Products Name],0))-F8)","v":0},null,null,""]
[null,null,null,null,null,null,null,null,null,""]
[null,"ค้นรายการ","2018-06-28","PC02",{"$f":"IFERROR(MATCH(C10&D10,Transaction[Date]&Transaction[Route],0),2)+20","v":42},true,5,"รายการ",null,""]
[null,null,null,null,null,null,null,null,null,""]
[null,null,null,null,null,null,null,null,null,""]
[null,"MODULE : IMPORT ALL DELIVERY DATA BY SELECTED DATE (บันทึกรับเข้าจากโรงงาน)",null,null,null,null,null,null,null,""]
[null,null,null,null,null,null,null,null,null,""]
[null,null,null,null,null,null,null,null,null,""]
[null,null,null,null,null,null,null,null,null,""]
[null,null,null,null,null,null,null,null,null,"",null,null,"รายการทั้งหมด :",null,{"$f":"COUNT(P22:P76)","v":0}]
[null,null,null,null,null,null,null,null,null,"",null,null,"จำนวนสินค้า :",null,{"$f":"SUM(P22:P76)","v":0}]
[null,"วันที่","สายวิ่ง","ประเภท","รายการสินค้า","จำนวนรับ-เบิก","สต๊อคคงเหลือ","ราคาส่วนลด","มูลค่า(บาท)","",null,1,2,3,4,5]
[null,"Date","Route","Type","Products","Qty In-Out","Balance Stock","Discount_Price","Total","",null,"Date","Branch","Type","Products","Qty In-Out",{"$f":" \"\"","v":""}]
[null,null,null,null,null,null,{"$f":"IF(Transaction[[#This Row],[Products]]=\"\",\"\",BalanceStock)","v":""},{"$f":"IF(Transaction[[#This Row],[Products]]=\"\",\"\",(1-INDEX(dProduct[%Discount],MATCH(Transaction[[#This Row],[Products]],dProduct[NameTH],0)))*INDEX(dProduct[PriceCase],MATCH(Transaction[[#This Row],[Products]],dProduct[NameTH],0)))","v":""},{"$f":"IF(Transaction[[#This Row],[Products]]=\"\",0,Transaction[[#This Row],[Qty In-Out]]*Transaction[[#This Row],[Discount_Price]])","v":0},null,null,null,null,null,null,null,""]
[null,"2018-08-01","PC08","เบิก","01-ขนมปังไส้สังขยาเล็ก",50,{"$f":"IF(Transaction[[#This Row],[Products]]=\"\",\"\",BalanceStock)","v":{"$error":"#N/A"}},{"$f":"IF(Transaction[[#This Row],[Products]]=\"\",\"\",(1-INDEX(dProduct[%Discount],MATCH(Transaction[[#This Row],[Products]],dProduct[NameTH],0)))*INDEX(dProduct[PriceCase],MATCH(Transaction[[#This Row],[Products]],dProduct[NameTH],0)))","v":{"$error":"#N/A"}},{"$f":"IF(Transaction[[#This Row],[Products]]=\"\",0,Transaction[[#This Row],[Qty In-Out]]*Transaction[[#This Row],[Discount_Price]])","v":{"$error":"#N/A"}}," ",1,{"$f":"IFERROR(INDEX(Delivery_Conn,$K22,L$19),\"\")","v":""},"","","","",""]
[null,"2018-08-01","PC08","เบิก","02-ขนมปังไส้เผือก",50,{"$f":"IF(Transaction[[#This Row],[Products]]=\"\",\"\",BalanceStock)","v":{"$error":"#N/A"}},{"$f":"IF(Transaction[[#This Row],[Products]]=\"\",\"\",(1-INDEX(dProduct[%Discount],MATCH(Transaction[[#This Row],[Products]],dProduct[NameTH],0)))*INDEX(dProduct[PriceCase],MATCH(Transaction[[#This Row],[Products]],dProduct[NameTH],0)))","v":{"$error":"#N/A"}},{"$f":"IF(Transaction[[#This Row],[Products]]=\"\",0,Transaction[[#This Row],[Qty In-Out]]*Transaction[[#This Row],[Discount_Price]])","v":{"$error":"#N/A"}}," ",2,"","","","","",""]
[null,"2018-08-01","PC08","เบิก","03-ขนมปังไส้ถั่วแดง",50,{"$f":"IF(Transaction[[#This Row],[Products]]=\"\",\"\",BalanceStock)","v":{"$error":"#N/A"}},{"$f":"IF(Transaction[[#This Row],[Products]]=\"\",\"\",(1-INDEX(dProduct[%Discount],MATCH(Transaction[[#This Row],[Products]],dProduct[NameTH],0)))*INDEX(dProduct[PriceCase],MATCH(Transaction[[#This Row],[Products]],dProduct[NameTH],0)))","v":{"$error":"#N/A"}},{"$f":"IF(Transaction[[#This Row],[Products]]=\"\",0,Transaction[[#This Row],[Qty In-Out]]*Transaction[[#This Row],[Discount_Price]])","v":{"$error":"#N/A"}}," ",3,"","","","","",""]
[null,"2018-08-01","PC08","เบิก","04-โมจิไส้ถั่ว",50,{"$f":"IF(Transaction[[#This Row],[Products]]=\"\",\"\",BalanceStock)","v":{"$error":"#N/A"}},{"$f":"IF(Transaction[[#This Row],[Products]]=\"\",\"\",(1-INDEX(dProduct[%Discount],MATCH(Transaction[[#This Row],[Products]],dProduct[NameTH],0)))*INDEX(dProduct[PriceCase],MATCH(Transaction[[#This Row],[Products]],dProduct[NameTH],0)))","v":{"$error":"#N/A"}},{"$f":"IF(Transaction[[#This Row],[Products]]=\"\",0,Transaction[[#This Row],[Qty In-Out]]*Transaction[[#This Row],[Discount_Price]])","v":{"$error":"#N/A"}}," ",4,"","","","","",""]
[null,"2018-08-01","PC08","เบิก","05-ขนมปังไส้สังขยาใหญ่",50,{"$f":"IF(Transaction[[#This Row],[Products]]=\"\",\"\",BalanceStock)","v":{"$error":"#N/A"}},{"$f":"IF(Transaction[[#This Row],[Products]]=\"\",\"\",(1-INDEX(dProduct[%Discount],MATCH(Transaction[[#This Row],[Products]],dProduct[NameTH],0)))*INDEX(dProduct[PriceCase],MATCH(Transaction[[#This Row],[Products]],dProduct[NameTH],0)))","v":{"$error":"#N/A"}},{"$f":"IF(Transaction[[#This Row],[Products]]=\"\",0,Transaction[[#This Row],[Qty In-Out]]*Transaction[[#This Row],[Discount_Price]])","v":{"$error":"#N/A"}}," ",5,"","","","","",""]
[null,"2018-06-30","PC08","เบิก","01-ขนมปังไส้สังขยาเล็ก",5,{"$f":"IF(Transaction[[#This Row],[Products]]=\"\",\"\",BalanceStock)","v":{"$error":"#N/A"}},{"$f":"IF(Transaction[[#This Row],[Products]]=\"\",\"\",(1-INDEX(dProduct[%Discount],MATCH(Transaction[[#This Row],[Products]],dProduct[NameTH],0)))*INDEX(dProduct[PriceCase],MATCH(Transaction[[#This Row],[Products]],dProduct[NameTH],0)))","v":{"$error":"#N/A"}},{"$f":"IF(Transaction[[#This Row],[Products]]=\"\",0,Transaction[[#This Row],[Qty In-Out]]*Transaction[[#This Row],[Discount_Price]])","v":{"$error":"#N/A"}}," ",6,"","","","","",""]
[null,"2018-06-30","PC08","เบิก","02-ขนมปังไส้เผือก",5,{"$f":"IF(Transaction[[#This Row],[Products]]=\"\",\"\",BalanceStock)","v":{"$error":"#N/A"}},{"$f":"IF(Transaction[[#This Row],[Products]]=\"\",\"\",(1-INDEX(dProduct[%Discount],MATCH(Transaction[[#This Row],[Products]],dProduct[NameTH],0)))*INDEX(dProduct[PriceCase],MATCH(Transaction[[#This Row],[Products]],dProduct[NameTH],0)))","v":{"$error":"#N/A"}},{"$f":"IF(Transaction[[#This Row],[Products]]=\"\",0,Transaction[[#This Row],[Qty In-Out]]*Transaction[[#This Row],[Discount_Price]])","v":{"$error":"#N/A"}}," ",7,"","","","","",""]
[null,"2018-06-30","PC08","เบิก","03-ขนมปังไส้ถั่วแดง",5,{"$f":"IF(Transaction[[#This Row],[Products]]=\"\",\"\",BalanceStock)","v":{"$error":"#N/A"}},{"$f":"IF(Transaction[[#This Row],[Products]]=\"\",\"\",(1-INDEX(dProduct[%Discount],MATCH(Transaction[[#This Row],[Products]],dProduct[NameTH],0)))*INDEX(dProduct[PriceCase],MATCH(Transaction[[#This Row],[Products]],dProduct[NameTH],0)))","v":{"$error":"#N/A"}},{"$f":"IF(Transaction[[#This Row],[Products]]=\"\",0,Transaction[[#This Row],[Qty In-Out]]*Transaction[[#This Row],[Discount_Price]])","v":{"$error":"#N/A"}}," ",8,"","","","","",""]
[null,"2018-06-30","PC08","เบิก","04-โมจิไส้ถั่ว",5,{"$f":"IF(Transaction[[#This Row],[Products]]=\"\",\"\",BalanceStock)","v":{"$error":"#N/A"}},{"$f":"IF(Transaction[[#This Row],[Products]]=\"\",\"\",(1-INDEX(dProduct[%Discount],MATCH(Transaction[[#This Row],[Products]],dProduct[NameTH],0)))*INDEX(dProduct[PriceCase],MATCH(Transaction[[#This Row],[Products]],dProduct[NameTH],0)))","v":{"$error":"#N/A"}},{"$f":"IF(Transaction[[#This Row],[Products]]=\"\",0,Transaction[[#This Row],[Qty In-Out]]*Transaction[[#This Row],[Discount_Price]])","v":{"$error":"#N/A"}}," ",9,"","","","","",""]
[null,"2018-06-30","PC08","เบิก","05-ขนมปังไส้สังขยาใหญ่",5,{"$f":"IF(Transaction[[#This Row],[Products]]=\"\",\"\",BalanceStock)","v":{"$error":"#N/A"}},{"$f":"IF(Transaction[[#This Row],[Products]]=\"\",\"\",(1-INDEX(dProduct[%Discount],MATCH(Transaction[[#This Row],[Products]],dProduct[NameTH],0)))*INDEX(dProduct[PriceCase],MATCH(Transaction[[#This Row],[Products]],dProduct[NameTH],0)))","v":{"$error":"#N/A"}},{"$f":"IF(Transaction[[#This Row],[Products]]=\"\",0,Transaction[[#This Row],[Qty In-Out]]*Transaction[[#This Row],[Discount_Price]])","v":{"$error":"#N/A"}}," ",10,"","","","","",""]
[null,"2018-06-30","PC06","เบิก","01-ขนมปังไส้สังขยาเล็ก",20,{"$f":"IF(Transaction[[#This Row],[Products]]=\"\",\"\",BalanceStock)","v":{"$error":"#N/A"}},{"$f":"IF(Transaction[[#This Row],[Products]]=\"\",\"\",(1-INDEX(dProduct[%Discount],MATCH(Transaction[[#This Row],[Products]],dProduct[NameTH],0)))*INDEX(dProduct[PriceCase],MATCH(Transaction[[#This Row],[Products]],dProduct[NameTH],0)))","v":{"$error":"#N/A"}},{"$f":"IF(Transaction[[#This Row],[Products]]=\"\",0,Transaction[[#This Row],[Qty In-Out]]*Transaction[[#This Row],[Discount_Price]])","v":{"$error":"#N/A"}}," ",11,{"$f":"IFERROR(INDEX(Delivery_Conn,$K32,L$19),\"\")","v":""},"","","","",""]
[null,"2018-06-30","PC06","เบิก","02-ขนมปังไส้เผือก",20,{"$f":"IF(Transaction[[#This Row],[Products]]=\"\",\"\",BalanceStock)","v":{"$error":"#N/A"}},{"$f":"IF(Transaction[[#This Row],[Products]]=\"\",\"\",(1-INDEX(dProduct[%Discount],MATCH(Transaction[[#This Row],[Products]],dProduct[NameTH],0)))*INDEX(dProduct[PriceCase],MATCH(Transaction[[#This Row],[Products]],dProduct[NameTH],0)))","v":{"$error":"#N/A"}},{"$f":"IF(Transaction[[#This Row],[Products]]=\"\",0,Transaction[[#This Row],[Qty In-Out]]*Transaction[[#This Row],[Discount_Price]])","v":{"$error":"#N/A"}}," ",12,"","","","","",""]
[null,"2018-06-30","PC06","เบิก","03-ขนมปังไส้ถั่วแดง",20,{"$f":"IF(Transaction[[#This Row],[Products]]=\"\",\"\",BalanceStock)","v":{"$error":"#N/A"}},{"$f":"IF(Transaction[[#This Row],[Products]]=\"\",\"\",(1-INDEX(dProduct[%Discount],MATCH(Transaction[[#This Row],[Products]],dProduct[NameTH],0)))*INDEX(dProduct[PriceCase],MATCH(Transaction[[#This Row],[Products]],dProduct[NameTH],0)))","v":{"$error":"#N/A"}},{"$f":"IF(Transaction[[#This Row],[Products]]=\"\",0,Transaction[[#This Row],[Qty In-Out]]*Transaction[[#This Row],[Discount_Price]])","v":{"$error":"#N/A"}}," ",13,"","","","","",""]
[null,"2018-06-30","PC06","เบิก","04-โมจิไส้ถั่ว",20,{"$f":"IF(Transaction[[#This Row],[Products]]=\"\",\"\",BalanceStock)","v":{"$error":"#N/A"}},{"$f":"IF(Transaction[[#This Row],[Products]]=\"\",\"\",(1-INDEX(dProduct[%Discount],MATCH(Transaction[[#This Row],[Products]],dProduct[NameTH],0)))*INDEX(dProduct[PriceCase],MATCH(Transaction[[#This Row],[Products]],dProduct[NameTH],0)))","v":{"$error":"#N/A"}},{"$f":"IF(Transaction[[#This Row],[Products]]=\"\",0,Transaction[[#This Row],[Qty In-Out]]*Transaction[[#This Row],[Discount_Price]])","v":{"$error":"#N/A"}}," ",14,"","","","","",""]
[null,"2018-06-30","PC06","เบิก","05-ขนมปังไส้สังขยาใหญ่",20,{"$f":"IF(Transaction[[#This Row],[Products]]=\"\",\"\",BalanceStock)","v":{"$error":"#N/A"}},{"$f":"IF(Transaction[[#This Row],[Products]]=\"\",\"\",(1-INDEX(dProduct[%Discount],MATCH(Transaction[[#This Row],[Products]],dProduct[NameTH],0)))*INDEX(dProduct[PriceCase],MATCH(Transaction[[#This Row],[Products]],dProduct[NameTH],0)))","v":{"$error":"#N/A"}},{"$f":"IF(Transaction[[#This Row],[Products]]=\"\",0,Transaction[[#This Row],[Qty In-Out]]*Transaction[[#This Row],[Discount_Price]])","v":{"$error":"#N/A"}}," ",15,"","","","","",""]
[null,"2018-06-28","PC04","เบิก","01-ขนมปังไส้สังขยาเล็ก",50,{"$f":"IF(Transaction[[#This Row],[Products]]=\"\",\"\",BalanceStock)","v":{"$error":"#N/A"}},{"$f":"IF(Transaction[[#This Row],[Products]]=\"\",\"\",(1-INDEX(dProduct[%Discount],MATCH(Transaction[[#This Row],[Products]],dProduct[NameTH],0)))*INDEX(dProduct[PriceCase],MATCH(Transaction[[#This Row],[Products]],dProduct[NameTH],0)))","v":{"$error":"#N/A"}},{"$f":"IF(Transaction[[#This Row],[Products]]=\"\",0,Transaction[[#This Row],[Qty In-Out]]*Transaction[[#This Row],[Discount_Price]])","v":{"$error":"#N/A"}}," ",16,"","","","","",""]
[null,"2018-06-28","PC04","เบิก","02-ขนมปังไส้เผือก",60,{"$f":"IF(Transaction[[#This Row],[Products]]=\"\",\"\",BalanceStock)","v":{"$error":"#N/A"}},{"$f":"IF(Transaction[[#This Row],[Products]]=\"\",\"\",(1-INDEX(dProduct[%Discount],MATCH(Transaction[[#This Row],[Products]],dProduct[NameTH],0)))*INDEX(dProduct[PriceCase],MATCH(Transaction[[#This Row],[Products]],dProduct[NameTH],0)))","v":{"$error":"#N/A"}},{"$f":"IF(Transaction[[#This Row],[Products]]=\"\",0,Transaction[[#This Row],[Qty In-Out]]*Transaction[[#This Row],[Discount_Price]])","v":{"$error":"#N/A"}}," ",17,"","","","","",""]
[null,"2018-06-28","PC04","เบิก","03-ขนมปังไส้ถั่วแดง",40,{"$f":"IF(Transaction[[#This Row],[Products]]=\"\",\"\",BalanceStock)","v":{"$error":"#N/A"}},{"$f":"IF(Transaction[[#This Row],[Products]]=\"\",\"\",(1-INDEX(dProduct[%Discount],MATCH(Transaction[[#This Row],[Products]],dProduct[NameTH],0)))*INDEX(dProduct[PriceCase],MATCH(Transaction[[#This Row],[Products]],dProduct[NameTH],0)))","v":{"$error":"#N/A"}},{"$f":"IF(Transaction[[#This Row],[Products]]=\"\",0,Transaction[[#This Row],[Qty In-Out]]*Transaction[[#This Row],[Discount_Price]])","v":{"$error":"#N/A"}}," ",18,"","","","","",""]
[null,"2018-06-28","PC04","เบิก","04-โมจิไส้ถั่ว",30,{"$f":"IF(Transaction[[#This Row],[Products]]=\"\",\"\",BalanceStock)","v":{"$error":"#N/A"}},{"$f":"IF(Transaction[[#This Row],[Products]]=\"\",\"\",(1-INDEX(dProduct[%Discount],MATCH(Transaction[[#This Row],[Products]],dProduct[NameTH],0)))*INDEX(dProduct[PriceCase],MATCH(Transaction[[#This Row],[Products]],dProduct[NameTH],0)))","v":{"$error":"#N/A"}},{"$f":"IF(Transaction[[#This Row],[Products]]=\"\",0,Transaction[[#This Row],[Qty In-Out]]*Transaction[[#This Row],[Discount_Price]])","v":{"$error":"#N/A"}}," ",19,"","","","","",""]
[null,"2018-06-28","PC04","เบิก","05-ขนมปังไส้สังขยาใหญ่",15,{"$f":"IF(Transaction[[#This Row],[Products]]=\"\",\"\",BalanceStock)","v":{"$error":"#N/A"}},{"$f":"IF(Transaction[[#This Row],[Products]]=\"\",\"\",(1-INDEX(dProduct[%Discount],MATCH(Transaction[[#This Row],[Products]],dProduct[NameTH],0)))*INDEX(dProduct[PriceCase],MATCH(Transaction[[#This Row],[Products]],dProduct[NameTH],0)))","v":{"$error":"#N/A"}},{"$f":"IF(Transaction[[#This Row],[Products]]=\"\",0,Transaction[[#This Row],[Qty In-Out]]*Transaction[[#This Row],[Discount_Price]])","v":{"$error":"#N/A"}}," ",20,"","","","","",""]
[null,"2018-06-28","PC02","เบิก","02-ขนมปังไส้เผือก",25,{"$f":"IF(Transaction[[#This Row],[Products]]=\"\",\"\",BalanceStock)","v":{"$error":"#N/A"}},{"$f":"IF(Transaction[[#This Row],[Products]]=\"\",\"\",(1-INDEX(dProduct[%Discount],MATCH(Transaction[[#This Row],[Products]],dProduct[NameTH],0)))*INDEX(dProduct[PriceCase],MATCH(Transaction[[#This Row],[Products]],dProduct[NameTH],0)))","v":{"$error":"#N/A"}},{"$f":"IF(Transaction[[#This Row],[Products]]=\"\",0,Transaction[[#This Row],[Qty In-Out]]*Transaction[[#This Row],[Discount_Price]])","v":{"$error":"#N/A"}}," ",21,{"$f":"IFERROR(INDEX(Delivery_Conn,$K42,L$19),\"\")","v":""},"","","","",""]
[null,"2018-06-27","PC02","เบิก","01-ขนมปังไส้สังขยาเล็ก",50,{"$f":"IF(Transaction[[#This Row],[Products]]=\"\",\"\",BalanceStock)","v":{"$error":"#N/A"}},{"$f":"IF(Transaction[[#This Row],[Products]]=\"\",\"\",(1-INDEX(dProduct[%Discount],MATCH(Transaction[[#This Row],[Products]],dProduct[NameTH],0)))*INDEX(dProduct[PriceCase],MATCH(Transaction[[#This Row],[Products]],dProduct[NameTH],0)))","v":{"$error":"#N/A"}},{"$f":"IF(Transaction[[#This Row],[Products]]=\"\",0,Transaction[[#This Row],[Qty In-Out]]*Transaction[[#This Row],[Discount_Price]])","v":{"$error":"#N/A"}}," ",22,"","","","","",""]
[null,"2018-06-27","PC02","เบิก","02-ขนมปังไส้เผือก",50,{"$f":"IF(Transaction[[#This Row],[Products]]=\"\",\"\",BalanceStock)","v":{"$error":"#N/A"}},{"$f":"IF(Transaction[[#This Row],[Products]]=\"\",\"\",(1-INDEX(dProduct[%Discount],MATCH(Transaction[[#This Row],[Products]],dProduct[NameTH],0)))*INDEX(dProduct[PriceCase],MATCH(Transaction[[#This Row],[Products]],dProduct[NameTH],0)))","v":{"$error":"#N/A"}},{"$f":"IF(Transaction[[#This Row],[Products]]=\"\",0,Transaction[[#This Row],[Qty In-Out]]*Transaction[[#This Row],[Discount_Price]])","v":{"$error":"#N/A"}}," ",23,"","","","","",""]
[null,"2018-06-27","PC02","เบิก","03-ขนมปังไส้ถั่วแดง",50,{"$f":"IF(Transaction[[#This Row],[Products]]=\"\",\"\",BalanceStock)","v":{"$error":"#N/A"}},{"$f":"IF(Transaction[[#This Row],[Products]]=\"\",\"\",(1-INDEX(dProduct[%Discount],MATCH(Transaction[[#This Row],[Products]],dProduct[NameTH],0)))*INDEX(dProduct[PriceCase],MATCH(Transaction[[#This Row],[Products]],dProduct[NameTH],0)))","v":{"$error":"#N/A"}},{"$f":"IF(Transaction[[#This Row],[Products]]=\"\",0,Transaction[[#This Row],[Qty In-Out]]*Transaction[[#This Row],[Discount_Price]])","v":{"$error":"#N/A"}}," ",24,"","","","","",""]
[null,"2018-06-27","PC02","เบิก","04-โมจิไส้ถั่ว",50,{"$f":"IF(Transaction[[#This Row],[Products]]=\"\",\"\",BalanceStock)","v":{"$error":"#N/A"}},{"$f":"IF(Transaction[[#This Row],[Products]]=\"\",\"\",(1-INDEX(dProduct[%Discount],MATCH(Transaction[[#This Row],[Products]],dProduct[NameTH],0)))*INDEX(dProduct[PriceCase],MATCH(Transaction[[#This Row],[Products]],dProduct[NameTH],0)))","v":{"$error":"#N/A"}},{"$f":"IF(Transaction[[#This Row],[Products]]=\"\",0,Transaction[[#This Row],[Qty In-Out]]*Transaction[[#This Row],[Discount_Price]])","v":{"$error":"#N/A"}}," ",25,"","","","","",""]
[null,"2018-07-30","PC01","เบิก","01-ขนมปังไส้สังขยาเล็ก",120,{"$f":"IF(Transaction[[#This Row],[Products]]=\"\",\"\",BalanceStock)","v":{"$error":"#N/A"}},{"$f":"IF(Transaction[[#This Row],[Products]]=\"\",\"\",(1-INDEX(dProduct[%Discount],MATCH(Transaction[[#This Row],[Products]],dProduct[NameTH],0)))*INDEX(dProduct[PriceCase],MATCH(Transaction[[#This Row],[Products]],dProduct[NameTH],0)))","v":{"$error":"#N/A"}},{"$f":"IF(Transaction[[#This Row],[Products]]=\"\",0,Transaction[[#This Row],[Qty In-Out]]*Transaction[[#This Row],[Discount_Price]])","v":{"$error":"#N/A"}}," ",26,"","","","","",""]
[null,"2018-07-30","PC01","เบิก","02-ขนมปังไส้เผือก",120,{"$f":"IF(Transaction[[#This Row],[Products]]=\"\",\"\",BalanceStock)","v":{"$error":"#N/A"}},{"$f":"IF(Transaction[[#This Row],[Products]]=\"\",\"\",(1-INDEX(dProduct[%Discount],MATCH(Transaction[[#This Row],[Products]],dProduct[NameTH],0)))*INDEX(dProduct[PriceCase],MATCH(Transaction[[#This Row],[Products]],dProduct[NameTH],0)))","v":{"$error":"#N/A"}},{"$f":"IF(Transaction[[#This Row],[Products]]=\"\",0,Transaction[[#This Row],[Qty In-Out]]*Transaction[[#This Row],[Discount_Price]])","v":{"$error":"#N/A"}}," ",27,"","","","","",""]
[null,"2018-07-30","PC01","เบิก","03-ขนมปังไส้ถั่วแดง",120,{"$f":"IF(Transaction[[#This Row],[Products]]=\"\",\"\",BalanceStock)","v":{"$error":"#N/A"}},{"$f":"IF(Transaction[[#This Row],[Products]]=\"\",\"\",(1-INDEX(dProduct[%Discount],MATCH(Transaction[[#This Row],[Products]],dProduct[NameTH],0)))*INDEX(dProduct[PriceCase],MATCH(Transaction[[#This Row],[Products]],dProduct[NameTH],0)))","v":{"$error":"#N/A"}},{"$f":"IF(Transaction[[#This Row],[Products]]=\"\",0,Transaction[[#This Row],[Qty In-Out]]*Transaction[[#This Row],[Discount_Price]])","v":{"$error":"#N/A"}}," ",28,"","","","","",""]
[null,"2018-07-30","PC01","เบิก","04-โมจิไส้ถั่ว",80,{"$f":"IF(Transaction[[#This Row],[Products]]=\"\",\"\",BalanceStock)","v":{"$error":"#N/A"}},{"$f":"IF(Transaction[[#This Row],[Products]]=\"\",\"\",(1-INDEX(dProduct[%Discount],MATCH(Transaction[[#This Row],[Products]],dProduct[NameTH],0)))*INDEX(dProduct[PriceCase],MATCH(Transaction[[#This Row],[Products]],dProduct[NameTH],0)))","v":{"$error":"#N/A"}},{"$f":"IF(Transaction[[#This Row],[Products]]=\"\",0,Transaction[[#This Row],[Qty In-Out]]*Transaction[[#This Row],[Discount_Price]])","v":{"$error":"#N/A"}}," ",29,"","","","","",""]
[null,"2018-07-30","PC01","เบิก","05-ขนมปังไส้สังขยาใหญ่",50,{"$f":"IF(Transaction[[#This Row],[Products]]=\"\",\"\",BalanceStock)","v":{"$error":"#N/A"}},{"$f":"IF(Transaction[[#This Row],[Products]]=\"\",\"\",(1-INDEX(dProduct[%Discount],MATCH(Transaction[[#This Row],[Products]],dProduct[NameTH],0)))*INDEX(dProduct[PriceCase],MATCH(Transaction[[#This Row],[Products]],dProduct[NameTH],0)))","v":{"$error":"#N/A"}},{"$f":"IF(Transaction[[#This Row],[Products]]=\"\",0,Transaction[[#This Row],[Qty In-Out]]*Transaction[[#This Row],[Discount_Price]])","v":{"$error":"#N/A"}}," ",30,"","","","","",""]
[null,"2018-07-30","PC01","เบิก","06-ขนมปังไส้หมูหยองเล็ก",30,{"$f":"IF(Transaction[[#This Row],[Products]]=\"\",\"\",BalanceStock)","v":{"$error":"#N/A"}},{"$f":"IF(Transaction[[#This Row],[Products]]=\"\",\"\",(1-INDEX(dProduct[%Discount],MATCH(Transaction[[#This Row],[Products]],dProduct[NameTH],0)))*INDEX(dProduct[PriceCase],MATCH(Transaction[[#This Row],[Products]],dProduct[NameTH],0)))","v":{"$error":"#N/A"}},{"$f":"IF(Transaction[[#This Row],[Products]]=\"\",0,Transaction[[#This Row],[Qty In-Out]]*Transaction[[#This Row],[Discount_Price]])","v":{"$error":"#N/A"}}," ",31,{"$f":"IFERROR(INDEX(Delivery_Conn,$K52,L$19),\"\")","v":""},"","","","",""]
[null,"2018-07-30","PC01","เบิก","07-เค้กกล้วยหอม",120,{"$f":"IF(Transaction[[#This Row],[Products]]=\"\",\"\",BalanceStock)","v":{"$error":"#N/A"}},{"$f":"IF(Transaction[[#This Row],[Products]]=\"\",\"\",(1-INDEX(dProduct[%Discount],MATCH(Transaction[[#This Row],[Products]],dProduct[NameTH],0)))*INDEX(dProduct[PriceCase],MATCH(Transaction[[#This Row],[Products]],dProduct[NameTH],0)))","v":{"$error":"#N/A"}},{"$f":"IF(Transaction[[#This Row],[Products]]=\"\",0,Transaction[[#This Row],[Qty In-Out]]*Transaction[[#This Row],[Discount_Price]])","v":{"$error":"#N/A"}}," ",32,"","","","","",""]
[null,"2018-07-30","PC01","เบิก","08-เค้กบัตเตอร์",20,{"$f":"IF(Transaction[[#This Row],[Products]]=\"\",\"\",BalanceStock)","v":{"$error":"#N/A"}},{"$f":"IF(Transaction[[#This Row],[Products]]=\"\",\"\",(1-INDEX(dProduct[%Discount],MATCH(Transaction[[#This Row],[Products]],dProduct[NameTH],0)))*INDEX(dProduct[PriceCase],MATCH(Transaction[[#This Row],[Products]],dProduct[NameTH],0)))","v":{"$error":"#N/A"}},{"$f":"IF(Transaction[[#This Row],[Products]]=\"\",0,Transaction[[#This Row],[Qty In-Out]]*Transaction[[#This Row],[Discount_Price]])","v":{"$error":"#N/A"}}," ",33,"","","","","",""]
[null,"2018-07-30","PC01","เบิก","09-ขนมปังโรลมันเทศ",20,{"$f":"IF(Transaction[[#This Row],[Products]]=\"\",\"\",BalanceStock)","v":{"$error":"#N/A"}},{"$f":"IF(Transaction[[#This Row],[Products]]=\"\",\"\",(1-INDEX(dProduct[%Discount],MATCH(Transaction[[#This Row],[Products]],dProduct[NameTH],0)))*INDEX(dProduct[PriceCase],MATCH(Transaction[[#This Row],[Products]],dProduct[NameTH],0)))","v":{"$error":"#N/A"}},{"$f":"IF(Transaction[[#This Row],[Products]]=\"\",0,Transaction[[#This Row],[Qty In-Out]]*Transaction[[#This Row],[Discount_Price]])","v":{"$error":"#N/A"}}," ",34,"","","","","",""]
[null,"2018-07-30","PC01","เบิก","10-ขนมปังโรลถั่วแดง",120,{"$f":"IF(Transaction[[#This Row],[Products]]=\"\",\"\",BalanceStock)","v":{"$error":"#N/A"}},{"$f":"IF(Transaction[[#This Row],[Products]]=\"\",\"\",(1-INDEX(dProduct[%Discount],MATCH(Transaction[[#This Row],[Products]],dProduct[NameTH],0)))*INDEX(dProduct[PriceCase],MATCH(Transaction[[#This Row],[Products]],dProduct[NameTH],0)))","v":{"$error":"#N/A"}},{"$f":"IF(Transaction[[#This Row],[Products]]=\"\",0,Transaction[[#This Row],[Qty In-Out]]*Transaction[[#This Row],[Discount_Price]])","v":{"$error":"#N/A"}}," ",35,"","","","","",""]
[null,"2018-07-30","PC01","เบิก","12-ขนมปังพิซซ่า",70,{"$f":"IF(Transaction[[#This Row],[Products]]=\"\",\"\",BalanceStock)","v":{"$error":"#N/A"}},{"$f":"IF(Transaction[[#This Row],[Products]]=\"\",\"\",(1-INDEX(dProduct[%Discount],MATCH(Transaction[[#This Row],[Products]],dProduct[NameTH],0)))*INDEX(dProduct[PriceCase],MATCH(Transaction[[#This Row],[Products]],dProduct[NameTH],0)))","v":{"$error":"#N/A"}},{"$f":"IF(Transaction[[#This Row],[Products]]=\"\",0,Transaction[[#This Row],[Qty In-Out]]*Transaction[[#This Row],[Discount_Price]])","v":{"$error":"#N/A"}}," ",36,"","","","","",""]
[null,"2018-07-30","PC01","เบิก","13-ขนมปังหมูหยองน้ำสลัด",320,{"$f":"IF(Transaction[[#This Row],[Products]]=\"\",\"\",BalanceStock)","v":{"$error":"#N/A"}},{"$f":"IF(Transaction[[#This Row],[Products]]=\"\",\"\",(1-INDEX(dProduct[%Discount],MATCH(Transaction[[#This Row],[Products]],dProduct[NameTH],0)))*INDEX(dProduct[PriceCase],MATCH(Transaction[[#This Row],[Products]],dProduct[NameTH],0)))","v":{"$error":"#N/A"}},{"$f":"IF(Transaction[[#This Row],[Products]]=\"\",0,Transaction[[#This Row],[Qty In-Out]]*Transaction[[#This Row],[Discount_Price]])","v":{"$error":"#N/A"}}," ",37,"","","","","",""]
[null,"2018-07-30","PC01","เบิก","14-ขนมปังไส้กรอก",150,{"$f":"IF(Transaction[[#This Row],[Products]]=\"\",\"\",BalanceStock)","v":{"$error":"#N/A"}},{"$f":"IF(Transaction[[#This Row],[Products]]=\"\",\"\",(1-INDEX(dProduct[%Discount],MATCH(Transaction[[#This Row],[Products]],dProduct[NameTH],0)))*INDEX(dProduct[PriceCase],MATCH(Transaction[[#This Row],[Products]],dProduct[NameTH],0)))","v":{"$error":"#N/A"}},{"$f":"IF(Transaction[[#This Row],[Products]]=\"\",0,Transaction[[#This Row],[Qty In-Out]]*Transaction[[#This Row],[Discount_Price]])","v":{"$error":"#N/A"}}," ",38,"","","","","",""]
[null,"2018-07-30","PC01","เบิก","15-ขนมก้านบัว",40,{"$f":"IF(Transaction[[#This Row],[Products]]=\"\",\"\",BalanceStock)","v":{"$error":"#N/A"}},{"$f":"IF(Transaction[[#This Row],[Products]]=\"\",\"\",(1-INDEX(dProduct[%Discount],MATCH(Transaction[[#This Row],[Products]],dProduct[NameTH],0)))*INDEX(dProduct[PriceCase],MATCH(Transaction[[#This Row],[Products]],dProduct[NameTH],0)))","v":{"$error":"#N/A"}},{"$f":"IF(Transaction[[#This Row],[Products]]=\"\",0,Transaction[[#This Row],[Qty In-Out]]*Transaction[[#This Row],[Discount_Price]])","v":{"$error":"#N/A"}}," ",39,"","","","","",""]
[null,"2018-07-30","PC01","เบิก","16-ขนมปังไส้หมูหยองใหญ่",60,{"$f":"IF(Transaction[[#This Row],[Products]]=\"\",\"\",BalanceStock)","v":{"$error":"#N/A"}},{"$f":"IF(Transaction[[#This Row],[Products]]=\"\",\"\",(1-INDEX(dProduct[%Discount],MATCH(Transaction[[#This Row],[Products]],dProduct[NameTH],0)))*INDEX(dProduct[PriceCase],MATCH(Transaction[[#This Row],[Products]],dProduct[NameTH],0)))","v":{"$error":"#N/A"}},{"$f":"IF(Transaction[[#This Row],[Products]]=\"\",0,Transaction[[#This Row],[Qty In-Out]]*Transaction[[#This Row],[Discount_Price]])","v":{"$error":"#N/A"}}," ",40,"","","","","",""]
[null,"2018-07-30","PC01","เบิก","17-ขนมปังไส้ครีมสลัด",50,{"$f":"IF(Transaction[[#This Row],[Products]]=\"\",\"\",BalanceStock)","v":{"$error":"#N/A"}},{"$f":"IF(Transaction[[#This Row],[Products]]=\"\",\"\",(1-INDEX(dProduct[%Discount],MATCH(Transaction[[#This Row],[Products]],dProduct[NameTH],0)))*INDEX(dProduct[PriceCase],MATCH(Transaction[[#This Row],[Products]],dProduct[NameTH],0)))","v":{"$error":"#N/A"}},{"$f":"IF(Transaction[[#This Row],[Products]]=\"\",0,Transaction[[#This Row],[Qty In-Out]]*Transaction[[#This Row],[Discount_Price]])","v":{"$error":"#N/A"}}," ",41,{"$f":"IFERROR(INDEX(Delivery_Conn,$K62,L$19),\"\")","v":""},"","","","",""]
[null,"2018-07-30","PC01","เบิก","18-ขนมปังไก่หยองน้ำสลัด",60,{"$f":"IF(Transaction[[#This Row],[Products]]=\"\",\"\",BalanceStock)","v":{"$error":"#N/A"}},{"$f":"IF(Transaction[[#This Row],[Products]]=\"\",\"\",(1-INDEX(dProduct[%Discount],MATCH(Transaction[[#This Row],[Products]],dProduct[NameTH],0)))*INDEX(dProduct[PriceCase],MATCH(Transaction[[#This Row],[Products]],dProduct[NameTH],0)))","v":{"$error":"#N/A"}},{"$f":"IF(Transaction[[#This Row],[Products]]=\"\",0,Transaction[[#This Row],[Qty In-Out]]*Transaction[[#This Row],[Discount_Price]])","v":{"$error":"#N/A"}}," ",42,"","","","","",""]
[null,"2018-07-30","PC01","เบิก","20-ปังกรอบเนยสด",5,{"$f":"IF(Transaction[[#This Row],[Products]]=\"\",\"\",BalanceStock)","v":{"$error":"#N/A"}},{"$f":"IF(Transaction[[#This Row],[Products]]=\"\",\"\",(1-INDEX(dProduct[%Discount],MATCH(Transaction[[#This Row],[Products]],dProduct[NameTH],0)))*INDEX(dProduct[PriceCase],MATCH(Transaction[[#This Row],[Products]],dProduct[NameTH],0)))","v":{"$error":"#N/A"}},{"$f":"IF(Transaction[[#This Row],[Products]]=\"\",0,Transaction[[#This Row],[Qty In-Out]]*Transaction[[#This Row],[Discount_Price]])","v":{"$error":"#N/A"}}," ",43,"","","","","",""]
[null,"2018-07-30","PC01","เบิก","21-ปังกรอบกระเทียม",5,{"$f":"IF(Transaction[[#This Row],[Products]]=\"\",\"\",BalanceStock)","v":{"$error":"#N/A"}},{"$f":"IF(Transaction[[#This Row],[Products]]=\"\",\"\",(1-INDEX(dProduct[%Discount],MATCH(Transaction[[#This Row],[Products]],dProduct[NameTH],0)))*INDEX(dProduct[PriceCase],MATCH(Transaction[[#This Row],[Products]],dProduct[NameTH],0)))","v":{"$error":"#N/A"}},{"$f":"IF(Transaction[[#This Row],[Products]]=\"\",0,Transaction[[#This Row],[Qty In-Out]]*Transaction[[#This Row],[Discount_Price]])","v":{"$error":"#N/A"}}," ",44,"","","","","",""]
[null,"2018-07-30","PC01","เบิก","23-ขนมปังหมูหยองน้ำพริกเผา",40,{"$f":"IF(Transaction[[#This Row],[Products]]=\"\",\"\",BalanceStock)","v":{"$error":"#N/A"}},{"$f":"IF(Transaction[[#This Row],[Products]]=\"\",\"\",(1-INDEX(dProduct[%Discount],MATCH(Transaction[[#This Row],[Products]],dProduct[NameTH],0)))*INDEX(dProduct[PriceCase],MATCH(Transaction[[#This Row],[Products]],dProduct[NameTH],0)))","v":{"$error":"#N/A"}},{"$f":"IF(Transaction[[#This Row],[Products]]=\"\",0,Transaction[[#This Row],[Qty In-Out]]*Transaction[[#This Row],[Discount_Price]])","v":{"$error":"#N/A"}}," ",45,"","","","","",""]
[null,"2018-07-30","PC01","เบิก","31-ขนมปังแผ่นหน้าเนยสด",10,{"$f":"IF(Transaction[[#This Row],[Products]]=\"\",\"\",BalanceStock)","v":{"$error":"#N/A"}},{"$f":"IF(Transaction[[#This Row],[Products]]=\"\",\"\",(1-INDEX(dProduct[%Discount],MATCH(Transaction[[#This Row],[Products]],dProduct[NameTH],0)))*INDEX(dProduct[PriceCase],MATCH(Transaction[[#This Row],[Products]],dProduct[NameTH],0)))","v":{"$error":"#N/A"}},{"$f":"IF(Transaction[[#This Row],[Products]]=\"\",0,Transaction[[#This Row],[Qty In-Out]]*Transaction[[#This Row],[Discount_Price]])","v":{"$error":"#N/A"}}," ",46,"","","","","",""]
[null,"2018-07-30","PC01","เบิก","38-ขนมปังพิซซ่าปูอัดแฮม",20,{"$f":"IF(Transaction[[#This Row],[Products]]=\"\",\"\",BalanceStock)","v":{"$error":"#N/A"}},{"$f":"IF(Transaction[[#This Row],[Products]]=\"\",\"\",(1-INDEX(dProduct[%Discount],MATCH(Transaction[[#This Row],[Products]],dProduct[NameTH],0)))*INDEX(dProduct[PriceCase],MATCH(Transaction[[#This Row],[Products]],dProduct[NameTH],0)))","v":{"$error":"#N/A"}},{"$f":"IF(Transaction[[#This Row],[Products]]=\"\",0,Transaction[[#This Row],[Qty In-Out]]*Transaction[[#This Row],[Discount_Price]])","v":{"$error":"#N/A"}}," ",47,"","","","","",""]
[null,"2018-07-30","PC01","เบิก","39-ขนมปังไส้กรอกคอกเทลหมู",10,{"$f":"IF(Transaction[[#This Row],[Products]]=\"\",\"\",BalanceStock)","v":{"$error":"#N/A"}},{"$f":"IF(Transaction[[#This Row],[Products]]=\"\",\"\",(1-INDEX(dProduct[%Discount],MATCH(Transaction[[#This Row],[Products]],dProduct[NameTH],0)))*INDEX(dProduct[PriceCase],MATCH(Transaction[[#This Row],[Products]],dProduct[NameTH],0)))","v":{"$error":"#N/A"}},{"$f":"IF(Transaction[[#This Row],[Products]]=\"\",0,Transaction[[#This Row],[Qty In-Out]]*Transaction[[#This Row],[Discount_Price]])","v":{"$error":"#N/A"}}," ",48,"","","","","",""]
[null,null,null,null,null,null,{"$f":"IF(Transaction[[#This Row],[Products]]=\"\",\"\",BalanceStock)","v":""},{"$f":"IF(Transaction[[#This Row],[Products]]=\"\",\"\",(1-INDEX(dProduct[%Discount],MATCH(Transaction[[#This Row],[Products]],dProduct[NameTH],0)))*INDEX(dProduct[PriceCase],MATCH(Transaction[[#This Row],[Products]],dProduct[NameTH],0)))","v":""},{"$f":"IF(Transaction[[#This Row],[Products]]=\"\",0,Transaction[[#This Row],[Qty In-Out]]*Transaction[[#This Row],[Discount_Price]])","v":0}," ",49,"","","","","",""]
[null,null,null,null,null,null,null,null,null," ",50,"","","","","",""]
[null,null,null,null,null,null,null,null,null," ",51,"","","","","",""]
[null,null,null,null,null,null,null,null,null," ",52,"","","","","",""]
[null,null,null,null,null,null,null,null,null," ",53,"","","","","",""]
[null,null,null,null,null,null,null,null,null," ",54,"","","","","",""]
[null,null,null,null,null,null,null,null,null," ",55,"","","","","",""]
[null,null,null,null,null,null,null,null,null," "]

{"sheet":"Delivery_List","index":5,"n_rows":52,"n_cols":45,"rows_kept":52,"cut":false,"hidden":true,"merged":[[48,41,48,42],[48,30,48,31],[45,2,45,5],[36,3,36,5],[41,3,41,5],[42,3,42,5],[43,3,43,5],[44,3,44,5],[30,3,30,5],[31,3,31,5],[32,3,32,5],[33,3,33,5],[34,3,34,5],[35,3,35,5],[37,3,37,5],[38,3,38,5],[39,3,39,5],[40,3,40,5],[21,3,21,5],[22,3,22,5],[23,3,23,5],[24,3,24,5],[25,3,25,5],[26,3,26,5],[27,3,27,5],[28,3,28,5],[29,3,29,5],[50,6,50,7],[47,8,47,9],[50,8,50,9],[49,4,49,5],[46,2,46,5],[47,2,47,3],[48,2,48,3],[47,4,47,5],[48,4,48,5],[49,8,49,9],[48,8,48,9],[7,3,7,5],[7,7,7,9],[49,2,49,3],[2,13,2,18],[7,14,7,16],[7,18,7,20],[9,14,9,16],[10,14,10,16],[47,6,47,7],[2,2,2,7],[2,8,2,9],[11,3,11,5],[4,2,4,3],[9,3,9,5],[10,3,10,5],[12,3,12,5],[13,3,13,5],[14,3,14,5],[15,3,15,5],[16,3,16,5],[17,3,17,5],[18,3,18,5],[19,3,19,5],[20,3,20,5],[2,19,2,20],[4,13,4,14],[49,30,49,31],[45,24,45,27],[46,24,46,27],[47,24,47,25],[47,26,47,27],[47,28,47,29],[4,24,4,25],[49,13,49,14],[49,15,49,16],[49,19,49,20],[7,29,7,31],[48,19,48,20],[50,17,50,18],[50,19,50,20],[47,13,47,14],[47,15,47,16],[47,17,47,18],[47,19,47,20],[48,13,48,14],[48,15,48,16],[7,25,7,27],[9,25,9,27],[10,25,10,27],[45,13,45,16],[46,13,46,16],[2,35,2,40],[2,41,2,42],[4,35,4,36],[7,36,7,38],[7,40,7,42],[9,36,9,38],[10,36,10,38],[2,24,2,29],[2,30,2,31],[50,39,50,40],[50,41,50,42],[4,8,5,9],[4,19,5,20],[4,30,5,31],[4,41,5,42],[47,39,47,40],[47,41,47,42],[48,35,48,36],[48,37,48,38],[49,35,49,36],[49,37,49,38],[49,41,49,42],[45,35,45,38],[46,35,46,38],[47,35,47,36],[47,37,47,38],[50,28,50,29],[50,30,50,31],[47,30,47,31],[48,24,48,25],[48,26,48,27],[49,24,49,25],[49,26,49,27]]}
[null,null,null,null,null,"SETTING","PRODUCTS","TRANSACTION","ORDER","REPORT"]
[null,null,null,null,null,null,null,null,null,null,null,null,null,null,null,null,null,null,null,null,null,null,null,null,null,null,null,null,null,null,null,null,null,null,null,null,null,null,null,null,null,null,null,null,{"$f":"\"\"","v":""}]
[null,null,"ใบเบิกสินค้าประจำสายวิ่งรายวัน\n(DAILY VAN ROUTE'S DELIVERY DETAILS)",null,null,null,null,null,"PC01",null,null,null,null,"ใบเบิกสินค้าประจำสายวิ่งรายวัน\n(DAILY VAN ROUTE'S DELIVERY DETAILS)",null,null,null,null,null,{"$f":"LEFT(Select_Route,FIND(\"0\",Select_Route))&RIGHT(Select_Route)+1","v":"PC02"},null,null,null,null,"ใบเบิกสินค้าประจำสายวิ่งรายวัน\n(DAILY VAN ROUTE'S DELIVERY DETAILS)",null,null,null,null,null,{"$f":"LEFT(Select_Route,FIND(\"0\",Select_Route))&RIGHT(Select_Route)+2","v":"PC03"},null,null,null,null,"ใบเบิกสินค้าประจำสายวิ่งรายวัน\n(DAILY VAN ROUTE'S DELIVERY DETAILS)",null,null,null,null,null,{"$f":"LEFT(Select_Route,FIND(\"0\",Select_Route))&RIGHT(Select_Route)+3","v":"PC04"},null,null,""]
[null,null,null,null,null,null,null,null,null,null,null,null,null,null,null,null,null,null,null,null,null,null,null,null,null,null,null,null,null,null,null,null,null,null,null,null,null,null,null,null,null,null,null,null,""]
[null,null,"วันที่ขอเบิก :",null,30,"ก.ค.",2018,null,{"$f":"TEXT(Delivery_List!Select_Date,\"[$-,107]dddd\")","v":"จันทร์"},null,null,null,null,"วันที่ขอเบิก :",null,{"$f":"$E$5","v":30},{"$f":"$F$5","v":"ก.ค."},{"$f":"$G$5","v":2018},null,{"$f":"$I$5","v":"จันทร์"},null,null,null,null,"วันที่ขอเบิก :",null,{"$f":"$E$5","v":30},{"$f":"$F$5","v":"ก.ค."},{"$f":"$G$5","v":2018},null,{"$f":"$I$5","v":"จันทร์"},null,null,null,null,"วันที่ขอเบิก :",null,{"$f":"$E$5","v":30},{"$f":"$F$5","v":"ก.ค."},{"$f":"$G$5","v":2018},null,{"$f":"$I$5","v":"จันทร์"},null,null,""]
[null,null,null,null,null,null,null,null,null,null,null,null,null,null,null,null,null,null,null,null,null,null,null,null,null,null,null,null,null,null,null,null,null,null,null,null,null,null,null,null,null,null,null,null,""]
[null,null,null,null,null,null,null,null,null,null,null,null,null,null,null,null,null,null,null,null,null,null,null,null,null,null,null,null,null,null,null,null,null,null,null,null,null,null,null,null,null,null,null,null,""]
[null,null,"พข.",null,null,null,"ผชข.",null,null,null,null,null,null,"พข.",null,null,null,"ผชข.",null,null,null,null,null,null,"พข.",null,null,null,"ผชข.",null,null,null,null,null,null,"พข.",null,null,null,"ผชข.",null,null,null,null,""]
[null,null,null,null,null,null,null,null,null,null,null,null,null,null,null,null,null,null,null,null,null,null,null,null,null,null,null,null,null,null,null,null,null,null,null,null,null,null,null,null,null,null,null,null,""]
[null,null,"ลำดับ","รายการ",null,null,"ยกมา","เบิก","เหลือ","เสีย",null,null,null,"ลำดับ","รายการ",null,null,"ยกมา","เบิก","เหลือ","เสีย",null,null,null,"ลำดับ","รายการ",null,null,"ยกมา","เบิก","เหลือ","เสีย",null,null,null,"ลำดับ","รายการ",null,null,"ยกมา","เบิก","เหลือ","เสีย",null,""]
[null,null,"No.","Products Name",null,null,"(ชิ้น)","(ชิ้น)","(ชิ้น)","(ชิ้น)",null,null,null,"No.","Products Name",null,null,"(ชิ้น)","(ชิ้น)","(ชิ้น)","(ชิ้น)",null,null,null,"No.","Products Name",null,null,"(ชิ้น)","(ชิ้น)","(ชิ้น)","(ชิ้น)",null,null,null,"No.","Products Name",null,null,"(ชิ้น)","(ชิ้น)","(ชิ้น)","(ชิ้น)",null,""]
[{"$f":"IFERROR(IF(COUNT($A$11:$A11)+1>COUNTIF(Transaction[Route],I$3),\"\",_xlfn.AGGREGATE(15,6,(ROW(Transaction[Date])-ROW(Transaction[[#Headers],[Date]]))/((Transaction[Route]=I$3)*(Transaction[Products]=Delivery_List!$D12)*(Transaction[Date]=Delivery_List!Select_Date)*(Transaction[Type]=\"เบิก\")),1)),\"\")","v":27},{"$f":"IF(D12=\"\",\"\",INDEX(dProduct[Pcs/Unit],MATCH(Delivery_List!D12,dProduct[NameTH],0)))","v":{"$error":"#N/A"}},{"$f":"IF(A12=\"\",\"\",COUNT(A$12:A12))","v":1},"01-ขนมปังไส้สังขยาเล็ก",null,null,{"$f":"IF(D12=\"\",\"\",SUMPRODUCT((Transaction[Route]=I$3)*(Transaction[Products]=D12)*(Transaction[Type]=\"ยกมา\")*(Transaction[Date]=Delivery_List!Select_Date)*Transaction[Qty In-Out]))","v":0},{"$f":"IF(A12=\"\",\"\",INDEX(Transaction[Qty In-Out],A12))","v":120},null,null,{"$f":"IF(D12=\"\",\"\",INDEX(dProduct[Catagory],MATCH(Delivery_List!D12,dProduct[NameTH],0)))","v":{"$error":"#N/A"}},{"$f":"IFERROR(IF(COUNT($A$11:$A11)+1>COUNTIF(Transaction[Route],T$3),\"\",_xlfn.AGGREGATE(15,6,(ROW(Transaction[Date])-ROW(Transaction[[#Headers],[Date]]))/((Transaction[Route]=T$3)*(Transaction[Products]=Delivery_List!$D12)*(Transaction[Date]=Delivery_List!Select_Date)*(Transaction[Type]=\"เบิก\")),1)),\"\")","v":""},{"$f":"IF(O12=\"\",\"\",INDEX(dProduct[Pcs/Unit],MATCH(Delivery_List!O12,dProduct[NameTH],0)))","v":{"$error":"#N/A"}},{"$f":"IF(L12=\"\",\"\",COUNT(L$12:L12))","v":""},{"$f":"IF(D12=\"\",\"\",$D12)","v":"01-ขนมปังไส้สังขยาเล็ก"},null,null,{"$f":"IF(O12=\"\",\"\",SUMPRODUCT((Transaction[Route]=T$3)*(Transaction[Products]=O12)*(Transaction[Type]=\"ยกมา\")*(Transaction[Date]=Delivery_List!Select_Date)*Transaction[Qty In-Out]))","v":0},{"$f":"IF(L12=\"\",\"\",INDEX(Transaction[Qty In-Out],L12))","v":""},null,null,{"$f":"IF(O12=\"\",\"\",INDEX(dProduct[Catagory],MATCH(Delivery_List!O12,dProduct[NameTH],0)))","v":{"$error":"#N/A"}},{"$f":"IFERROR(IF(COUNT($A$11:$A11)+1>COUNTIF(Transaction[Route],AE$3),\"\",_xlfn.AGGREGATE(15,6,(ROW(Transaction[Date])-ROW(Transaction[[#Headers],[Date]]))/((Transaction[Route]=AE$3)*(Transaction[Products]=Delivery_List!$D12)*(Transaction[Date]=Delivery_List!Select_Date)*(Transaction[Type]=\"เบิก\")),1)),\"\")","v":""},{"$f":"IF(Z12=\"\",\"\",INDEX(dProduct[Pcs/Unit],MATCH(Delivery_List!Z12,dProduct[NameTH],0)))","v":{"$error":"#N/A"}},{"$f":"IF(W12=\"\",\"\",COUNT(W$12:W12))","v":""},{"$f":"IF(O12=\"\",\"\",$D12)","v":"01-ขนมปังไส้สังขยาเล็ก"},null,null,{"$f":"IF(Z12=\"\",\"\",SUMPRODUCT((Transaction[Route]=AE$3)*(Transaction[Products]=Z12)*(Transaction[Type]=\"ยกมา\")*(Transaction[Date]=Delivery_List!Select_Date)*Transaction[Qty In-Out]))","v":0},{"$f":"IF(W12=\"\",\"\",INDEX(Transaction[Qty In-Out],W12))","v":""},null,null,{"$f":"IF(Z12=\"\",\"\",INDEX(dProduct[Catagory],MATCH(Delivery_List!Z12,dProduct[NameTH],0)))","v":{"$error":"#N/A"}},{"$f":"IFERROR(IF(COUNT($A$11:$A11)+1>COUNTIF(Transaction[Route],AP$3),\"\",_xlfn.AGGREGATE(15,6,(ROW(Transaction[Date])-ROW(Transaction[[#Headers],[Date]]))/((Transaction[Route]=AP$3)*(Transaction[Products]=Delivery_List!$D12)*(Transaction[Date]=Delivery_List!Select_Date)*(Transaction[Type]=\"เบิก\")),1)),\"\")","v":""},{"$f":"IF(AK12=\"\",\"\",INDEX(dProduct[Pcs/Unit],MATCH(Delivery_List!AK12,dProduct[NameTH],0)))","v":{"$error":"#N/A"}},{"$f":"IF(AH12=\"\",\"\",COUNT(AH$12:AH12))","v":""},{"$f":"IF(Z12=\"\",\"\",$D12)","v":"01-ขนมปังไส้สังขยาเล็ก"},null,null,{"$f":"IF(AK12=\"\",\"\",SUMPRODUCT((Transaction[Route]=AP$3)*(Transaction[Products]=AK12)*(Transaction[Type]=\"ยกมา\")*(Transaction[Date]=Delivery_List!Select_Date)*Transaction[Qty In-Out]))","v":0},{"$f":"IF(AH12=\"\",\"\",INDEX(Transaction[Qty In-Out],AH12))","v":""},null,null,{"$f":"IF(AK12=\"\",\"\",INDEX(dProduct[Catagory],MATCH(Delivery_List!AK12,dProduct[NameTH],0)))","v":{"$error":"#N/A"}},""]
[{"$f":"IFERROR(IF(COUNT($A$11:$A12)+1>COUNTIF(Transaction[Route],I$3),\"\",_xlfn.AGGREGATE(15,6,(ROW(Transaction[Date])-ROW(Transaction[[#Headers],[Date]]))/((Transaction[Route]=I$3)*(Transaction[Products]=Delivery_List!$D13)*(Transaction[Date]=Delivery_List!Select_Date)*(Transaction[Type]=\"เบิก\")),1)),\"\")","v":28},{"$f":"IF(D13=\"\",\"\",INDEX(dProduct[Pcs/Unit],MATCH(Delivery_List!D13,dProduct[NameTH],0)))","v":{"$error":"#N/A"}},{"$f":"IF(A13=\"\",\"\",COUNT(A$12:A13))","v":2},"02-ขนมปังไส้เผือก",null,null,{"$f":"IF(D13=\"\",\"\",SUMPRODUCT((Transaction[Route]=I$3)*(Transaction[Products]=D13)*(Transaction[Type]=\"ยกมา\")*(Transaction[Date]=Delivery_List!Select_Date)*Transaction[Qty In-Out]))","v":0},{"$f":"IF(A13=\"\",\"\",INDEX(Transaction[Qty In-Out],A13))","v":120},null,null,{"$f":"IF(D13=\"\",\"\",INDEX(dProduct[Catagory],MATCH(Delivery_List!D13,dProduct[NameTH],0)))","v":{"$error":"#N/A"}},{"$f":"IFERROR(IF(COUNT($A$11:$A12)+1>COUNTIF(Transaction[Route],T$3),\"\",_xlfn.AGGREGATE(15,6,(ROW(Transaction[Date])-ROW(Transaction[[#Headers],[Date]]))/((Transaction[Route]=T$3)*(Transaction[Products]=Delivery_List!$D13)*(Transaction[Date]=Delivery_List!Select_Date)*(Transaction[Type]=\"เบิก\")),1)),\"\")","v":""},{"$f":"IF(O13=\"\",\"\",INDEX(dProduct[Pcs/Unit],MATCH(Delivery_List!O13,dProduct[NameTH],0)))","v":{"$error":"#N/A"}},{"$f":"IF(L13=\"\",\"\",COUNT(L$12:L13))","v":""},{"$f":"IF(D13=\"\",\"\",$D13)","v":"02-ขนมปังไส้เผือก"},null,null,{"$f":"IF(O13=\"\",\"\",SUMPRODUCT((Transaction[Route]=T$3)*(Transaction[Products]=O13)*(Transaction[Type]=\"ยกมา\")*(Transaction[Date]=Delivery_List!Select_Date)*Transaction[Qty In-Out]))","v":0},{"$f":"IF(L13=\"\",\"\",INDEX(Transaction[Qty In-Out],L13))","v":""},null,null,{"$f":"IF(O13=\"\",\"\",INDEX(dProduct[Catagory],MATCH(Delivery_List!O13,dProduct[NameTH],0)))","v":{"$error":"#N/A"}},{"$f":"IFERROR(IF(COUNT($A$11:$A12)+1>COUNTIF(Transaction[Route],AE$3),\"\",_xlfn.AGGREGATE(15,6,(ROW(Transaction[Date])-ROW(Transaction[[#Headers],[Date]]))/((Transaction[Route]=AE$3)*(Transaction[Products]=Delivery_List!$D13)*(Transaction[Date]=Delivery_List!Select_Date)*(Transaction[Type]=\"เบิก\")),1)),\"\")","v":""},{"$f":"IF(Z13=\"\",\"\",INDEX(dProduct[Pcs/Unit],MATCH(Delivery_List!Z13,dProduct[NameTH],0)))","v":{"$error":"#N/A"}},{"$f":"IF(W13=\"\",\"\",COUNT(W$12:W13))","v":""},{"$f":"IF(O13=\"\",\"\",$D13)","v":"02-ขนมปังไส้เผือก"},null,null,{"$f":"IF(Z13=\"\",\"\",SUMPRODUCT((Transaction[Route]=AE$3)*(Transaction[Products]=Z13)*(Transaction[Type]=\"ยกมา\")*(Transaction[Date]=Delivery_List!Select_Date)*Transaction[Qty In-Out]))","v":0},{"$f":"IF(W13=\"\",\"\",INDEX(Transaction[Qty In-Out],W13))","v":""},null,null,{"$f":"IF(Z13=\"\",\"\",INDEX(dProduct[Catagory],MATCH(Delivery_List!Z13,dProduct[NameTH],0)))","v":{"$error":"#N/A"}},{"$f":"IFERROR(IF(COUNT($A$11:$A12)+1>COUNTIF(Transaction[Route],AP$3),\"\",_xlfn.AGGREGATE(15,6,(ROW(Transaction[Date])-ROW(Transaction[[#Headers],[Date]]))/((Transaction[Route]=AP$3)*(Transaction[Products]=Delivery_List!$D13)*(Transaction[Date]=Delivery_List!Select_Date)*(Transaction[Type]=\"เบิก\")),1)),\"\")","v":""},{"$f":"IF(AK13=\"\",\"\",INDEX(dProduct[Pcs/Unit],MATCH(Delivery_List!AK13,dProduct[NameTH],0)))","v":{"$error":"#N/A"}},{"$f":"IF(AH13=\"\",\"\",COUNT(AH$12:AH13))","v":""},{"$f":"IF(Z13=\"\",\"\",$D13)","v":"02-ขนมปังไส้เผือก"},null,null,{"$f":"IF(AK13=\"\",\"\",SUMPRODUCT((Transaction[Route]=AP$3)*(Transaction[Products]=AK13)*(Transaction[Type]=\"ยกมา\")*(Transaction[Date]=Delivery_List!Select_Date)*Transaction[Qty In-Out]))","v":0},{"$f":"IF(AH13=\"\",\"\",INDEX(Transaction[Qty In-Out],AH13))","v":""},null,null,{"$f":"IF(AK13=\"\",\"\",INDEX(dProduct[Catagory],MATCH(Delivery_List!AK13,dProduct[NameTH],0)))","v":{"$error":"#N/A"}},""]
[{"$f":"IFERROR(IF(COUNT($A$11:$A13)+1>COUNTIF(Transaction[Route],I$3),\"\",_xlfn.AGGREGATE(15,6,(ROW(Transaction[Date])-ROW(Transaction[[#Headers],[Date]]))/((Transaction[Route]=I$3)*(Transaction[Products]=Delivery_List!$D14)*(Transaction[Date]=Delivery_List!Select_Date)*(Transaction[Type]=\"เบิก\")),1)),\"\")","v":29},{"$f":"IF(D14=\"\",\"\",INDEX(dProduct[Pcs/Unit],MATCH(Delivery_List!D14,dProduct[NameTH],0)))","v":{"$error":"#N/A"}},{"$f":"IF(A14=\"\",\"\",COUNT(A$12:A14))","v":3},"03-ขนมปังไส้ถั่วแดง",null,null,{"$f":"IF(D14=\"\",\"\",SUMPRODUCT((Transaction[Route]=I$3)*(Transaction[Products]=D14)*(Transaction[Type]=\"ยกมา\")*(Transaction[Date]=Delivery_List!Select_Date)*Transaction[Qty In-Out]))","v":0},{"$f":"IF(A14=\"\",\"\",INDEX(Transaction[Qty In-Out],A14))","v":120},null,null,{"$f":"IF(D14=\"\",\"\",INDEX(dProduct[Catagory],MATCH(Delivery_List!D14,dProduct[NameTH],0)))","v":{"$error":"#N/A"}},{"$f":"IFERROR(IF(COUNT($A$11:$A13)+1>COUNTIF(Transaction[Route],T$3),\"\",_xlfn.AGGREGATE(15,6,(ROW(Transaction[Date])-ROW(Transaction[[#Headers],[Date]]))/((Transaction[Route]=T$3)*(Transaction[Products]=Delivery_List!$D14)*(Transaction[Date]=Delivery_List!Select_Date)*(Transaction[Type]=\"เบิก\")),1)),\"\")","v":""},{"$f":"IF(O14=\"\",\"\",INDEX(dProduct[Pcs/Unit],MATCH(Delivery_List!O14,dProduct[NameTH],0)))","v":{"$error":"#N/A"}},{"$f":"IF(L14=\"\",\"\",COUNT(L$12:L14))","v":""},"03-ขนมปังไส้ถั่วแดง",null,null,{"$f":"IF(O14=\"\",\"\",SUMPRODUCT((Transaction[Route]=T$3)*(Transaction[Products]=O14)*(Transaction[Type]=\"ยกมา\")*(Transaction[Date]=Delivery_List!Select_Date)*Transaction[Qty In-Out]))","v":0},{"$f":"IF(L14=\"\",\"\",INDEX(Transaction[Qty In-Out],L14))","v":""},null,null,{"$f":"IF(O14=\"\",\"\",INDEX(dProduct[Catagory],MATCH(Delivery_List!O14,dProduct[NameTH],0)))","v":{"$error":"#N/A"}},{"$f":"IFERROR(IF(COUNT($A$11:$A13)+1>COUNTIF(Transaction[Route],AE$3),\"\",_xlfn.AGGREGATE(15,6,(ROW(Transaction[Date])-ROW(Transaction[[#Headers],[Date]]))/((Transaction[Route]=AE$3)*(Transaction[Products]=Delivery_List!$D14)*(Transaction[Date]=Delivery_List!Select_Date)*(Transaction[Type]=\"เบิก\")),1)),\"\")","v":""},{"$f":"IF(Z14=\"\",\"\",INDEX(dProduct[Pcs/Unit],MATCH(Delivery_List!Z14,dProduct[NameTH],0)))","v":{"$error":"#N/A"}},{"$f":"IF(W14=\"\",\"\",COUNT(W$12:W14))","v":""},"03-ขนมปังไส้ถั่วแดง",null,null,{"$f":"IF(Z14=\"\",\"\",SUMPRODUCT((Transaction[Route]=AE$3)*(Transaction[Products]=Z14)*(Transaction[Type]=\"ยกมา\")*(Transaction[Date]=Delivery_List!Select_Date)*Transaction[Qty In-Out]))","v":0},{"$f":"IF(W14=\"\",\"\",INDEX(Transaction[Qty In-Out],W14))","v":""},null,null,{"$f":"IF(Z14=\"\",\"\",INDEX(dProduct[Catagory],MATCH(Delivery_List!Z14,dProduct[NameTH],0)))","v":{"$error":"#N/A"}},{"$f":"IFERROR(IF(COUNT($A$11:$A13)+1>COUNTIF(Transaction[Route],AP$3),\"\",_xlfn.AGGREGATE(15,6,(ROW(Transaction[Date])-ROW(Transaction[[#Headers],[Date]]))/((Transaction[Route]=AP$3)*(Transaction[Products]=Delivery_List!$D14)*(Transaction[Date]=Delivery_List!Select_Date)*(Transaction[Type]=\"เบิก\")),1)),\"\")","v":""},{"$f":"IF(AK14=\"\",\"\",INDEX(dProduct[Pcs/Unit],MATCH(Delivery_List!AK14,dProduct[NameTH],0)))","v":{"$error":"#N/A"}},{"$f":"IF(AH14=\"\",\"\",COUNT(AH$12:AH14))","v":""},"03-ขนมปังไส้ถั่วแดง",null,null,{"$f":"IF(AK14=\"\",\"\",SUMPRODUCT((Transaction[Route]=AP$3)*(Transaction[Products]=AK14)*(Transaction[Type]=\"ยกมา\")*(Transaction[Date]=Delivery_List!Select_Date)*Transaction[Qty In-Out]))","v":0},{"$f":"IF(AH14=\"\",\"\",INDEX(Transaction[Qty In-Out],AH14))","v":""},null,null,{"$f":"IF(AK14=\"\",\"\",INDEX(dProduct[Catagory],MATCH(Delivery_List!AK14,dProduct[NameTH],0)))","v":{"$error":"#N/A"}},""]
[{"$f":"IFERROR(IF(COUNT($A$11:$A14)+1>COUNTIF(Transaction[Route],I$3),\"\",_xlfn.AGGREGATE(15,6,(ROW(Transaction[Date])-ROW(Transaction[[#Headers],[Date]]))/((Transaction[Route]=I$3)*(Transaction[Products]=Delivery_List!$D15)*(Transaction[Date]=Delivery_List!Select_Date)*(Transaction[Type]=\"เบิก\")),1)),\"\")","v":30},{"$f":"IF(D15=\"\",\"\",INDEX(dProduct[Pcs/Unit],MATCH(Delivery_List!D15,dProduct[NameTH],0)))","v":{"$error":"#N/A"}},{"$f":"IF(A15=\"\",\"\",COUNT(A$12:A15))","v":4},"04-โมจิไส้ถั่ว",null,null,{"$f":"IF(D15=\"\",\"\",SUMPRODUCT((Transaction[Route]=I$3)*(Transaction[Products]=D15)*(Transaction[Type]=\"ยกมา\")*(Transaction[Date]=Delivery_List!Select_Date)*Transaction[Qty In-Out]))","v":0},{"$f":"IF(A15=\"\",\"\",INDEX(Transaction[Qty In-Out],A15))","v":80},null,null,{"$f":"IF(D15=\"\",\"\",INDEX(dProduct[Catagory],MATCH(Delivery_List!D15,dProduct[NameTH],0)))","v":{"$error":"#N/A"}},{"$f":"IFERROR(IF(COUNT($A$11:$A14)+1>COUNTIF(Transaction[Route],T$3),\"\",_xlfn.AGGREGATE(15,6,(ROW(Transaction[Date])-ROW(Transaction[[#Headers],[Date]]))/((Transaction[Route]=T$3)*(Transaction[Products]=Delivery_List!$D15)*(Transaction[Date]=Delivery_List!Select_Date)*(Transaction[Type]=\"เบิก\")),1)),\"\")","v":""},{"$f":"IF(O15=\"\",\"\",INDEX(dProduct[Pcs/Unit],MATCH(Delivery_List!O15,dProduct[NameTH],0)))","v":{"$error":"#N/A"}},{"$f":"IF(L15=\"\",\"\",COUNT(L$12:L15))","v":""},"04-โมจิไส้ถั่ว",null,null,{"$f":"IF(O15=\"\",\"\",SUMPRODUCT((Transaction[Route]=T$3)*(Transaction[Products]=O15)*(Transaction[Type]=\"ยกมา\")*(Transaction[Date]=Delivery_List!Select_Date)*Transaction[Qty In-Out]))","v":0},{"$f":"IF(L15=\"\",\"\",INDEX(Transaction[Qty In-Out],L15))","v":""},null,null,{"$f":"IF(O15=\"\",\"\",INDEX(dProduct[Catagory],MATCH(Delivery_List!O15,dProduct[NameTH],0)))","v":{"$error":"#N/A"}},{"$f":"IFERROR(IF(COUNT($A$11:$A14)+1>COUNTIF(Transaction[Route],AE$3),\"\",_xlfn.AGGREGATE(15,6,(ROW(Transaction[Date])-ROW(Transaction[[#Headers],[Date]]))/((Transaction[Route]=AE$3)*(Transaction[Products]=Delivery_List!$D15)*(Transaction[Date]=Delivery_List!Select_Date)*(Transaction[Type]=\"เบิก\")),1)),\"\")","v":""},{"$f":"IF(Z15=\"\",\"\",INDEX(dProduct[Pcs/Unit],MATCH(Delivery_List!Z15,dProduct[NameTH],0)))","v":{"$error":"#N/A"}},{"$f":"IF(W15=\"\",\"\",COUNT(W$12:W15))","v":""},"04-โมจิไส้ถั่ว",null,null,{"$f":"IF(Z15=\"\",\"\",SUMPRODUCT((Transaction[Route]=AE$3)*(Transaction[Products]=Z15)*(Transaction[Type]=\"ยกมา\")*(Transaction[Date]=Delivery_List!Select_Date)*Transaction[Qty In-Out]))","v":0},{"$f":"IF(W15=\"\",\"\",INDEX(Transaction[Qty In-Out],W15))","v":""},null,null,{"$f":"IF(Z15=\"\",\"\",INDEX(dProduct[Catagory],MATCH(Delivery_List!Z15,dProduct[NameTH],0)))","v":{"$error":"#N/A"}},{"$f":"IFERROR(IF(COUNT($A$11:$A14)+1>COUNTIF(Transaction[Route],AP$3),\"\",_xlfn.AGGREGATE(15,6,(ROW(Transaction[Date])-ROW(Transaction[[#Headers],[Date]]))/((Transaction[Route]=AP$3)*(Transaction[Products]=Delivery_List!$D15)*(Transaction[Date]=Delivery_List!Select_Date)*(Transaction[Type]=\"เบิก\")),1)),\"\")","v":""},{"$f":"IF(AK15=\"\",\"\",INDEX(dProduct[Pcs/Unit],MATCH(Delivery_List!AK15,dProduct[NameTH],0)))","v":{"$error":"#N/A"}},{"$f":"IF(AH15=\"\",\"\",COUNT(AH$12:AH15))","v":""},"04-โมจิไส้ถั่ว",null,null,{"$f":"IF(AK15=\"\",\"\",SUMPRODUCT((Transaction[Route]=AP$3)*(Transaction[Products]=AK15)*(Transaction[Type]=\"ยกมา\")*(Transaction[Date]=Delivery_List!Select_Date)*Transaction[Qty In-Out]))","v":0},{"$f":"IF(AH15=\"\",\"\",INDEX(Transaction[Qty In-Out],AH15))","v":""},null,null,{"$f":"IF(AK15=\"\",\"\",INDEX(dProduct[Catagory],MATCH(Delivery_List!AK15,dProduct[NameTH],0)))","v":{"$error":"#N/A"}},""]
[{"$f":"IFERROR(IF(COUNT($A$11:$A15)+1>COUNTIF(Transaction[Route],I$3),\"\",_xlfn.AGGREGATE(15,6,(ROW(Transaction[Date])-ROW(Transaction[[#Headers],[Date]]))/((Transaction[Route]=I$3)*(Transaction[Products]=Delivery_List!$D16)*(Transaction[Date]=Delivery_List!Select_Date)*(Transaction[Type]=\"เบิก\")),1)),\"\")","v":31},{"$f":"IF(D16=\"\",\"\",INDEX(dProduct[Pcs/Unit],MATCH(Delivery_List!D16,dProduct[NameTH],0)))","v":{"$error":"#N/A"}},{"$f":"IF(A16=\"\",\"\",COUNT(A$12:A16))","v":5},"05-ขนมปังไส้สังขยาใหญ่",null,null,{"$f":"IF(D16=\"\",\"\",SUMPRODUCT((Transaction[Route]=I$3)*(Transaction[Products]=D16)*(Transaction[Type]=\"ยกมา\")*(Transaction[Date]=Delivery_List!Select_Date)*Transaction[Qty In-Out]))","v":0},{"$f":"IF(A16=\"\",\"\",INDEX(Transaction[Qty In-Out],A16))","v":50},null,null,{"$f":"IF(D16=\"\",\"\",INDEX(dProduct[Catagory],MATCH(Delivery_List!D16,dProduct[NameTH],0)))","v":{"$error":"#N/A"}},{"$f":"IFERROR(IF(COUNT($A$11:$A15)+1>COUNTIF(Transaction[Route],T$3),\"\",_xlfn.AGGREGATE(15,6,(ROW(Transaction[Date])-ROW(Transaction[[#Headers],[Date]]))/((Transaction[Route]=T$3)*(Transaction[Products]=Delivery_List!$D16)*(Transaction[Date]=Delivery_List!Select_Date)*(Transaction[Type]=\"เบิก\")),1)),\"\")","v":""},{"$f":"IF(O16=\"\",\"\",INDEX(dProduct[Pcs/Unit],MATCH(Delivery_List!O16,dProduct[NameTH],0)))","v":{"$error":"#N/A"}},{"$f":"IF(L16=\"\",\"\",COUNT(L$12:L16))","v":""},"05-ขนมปังไส้สังขยาใหญ่",null,null,{"$f":"IF(O16=\"\",\"\",SUMPRODUCT((Transaction[Route]=T$3)*(Transaction[Products]=O16)*(Transaction[Type]=\"ยกมา\")*(Transaction[Date]=Delivery_List!Select_Date)*Transaction[Qty In-Out]))","v":0},{"$f":"IF(L16=\"\",\"\",INDEX(Transaction[Qty In-Out],L16))","v":""},null,null,{"$f":"IF(O16=\"\",\"\",INDEX(dProduct[Catagory],MATCH(Delivery_List!O16,dProduct[NameTH],0)))","v":{"$error":"#N/A"}},{"$f":"IFERROR(IF(COUNT($A$11:$A15)+1>COUNTIF(Transaction[Route],AE$3),\"\",_xlfn.AGGREGATE(15,6,(ROW(Transaction[Date])-ROW(Transaction[[#Headers],[Date]]))/((Transaction[Route]=AE$3)*(Transaction[Products]=Delivery_List!$D16)*(Transaction[Date]=Delivery_List!Select_Date)*(Transaction[Type]=\"เบิก\")),1)),\"\")","v":""},{"$f":"IF(Z16=\"\",\"\",INDEX(dProduct[Pcs/Unit],MATCH(Delivery_List!Z16,dProduct[NameTH],0)))","v":{"$error":"#N/A"}},{"$f":"IF(W16=\"\",\"\",COUNT(W$12:W16))","v":""},"05-ขนมปังไส้สังขยาใหญ่",null,null,{"$f":"IF(Z16=\"\",\"\",SUMPRODUCT((Transaction[Route]=AE$3)*(Transaction[Products]=Z16)*(Transaction[Type]=\"ยกมา\")*(Transaction[Date]=Delivery_List!Select_Date)*Transaction[Qty In-Out]))","v":0},{"$f":"IF(W16=\"\",\"\",INDEX(Transaction[Qty In-Out],W16))","v":""},null,null,{"$f":"IF(Z16=\"\",\"\",INDEX(dProduct[Catagory],MATCH(Delivery_List!Z16,dProduct[NameTH],0)))","v":{"$error":"#N/A"}},{"$f":"IFERROR(IF(COUNT($A$11:$A15)+1>COUNTIF(Transaction[Route],AP$3),\"\",_xlfn.AGGREGATE(15,6,(ROW(Transaction[Date])-ROW(Transaction[[#Headers],[Date]]))/((Transaction[Route]=AP$3)*(Transaction[Products]=Delivery_List!$D16)*(Transaction[Date]=Delivery_List!Select_Date)*(Transaction[Type]=\"เบิก\")),1)),\"\")","v":""},{"$f":"IF(AK16=\"\",\"\",INDEX(dProduct[Pcs/Unit],MATCH(Delivery_List!AK16,dProduct[NameTH],0)))","v":{"$error":"#N/A"}},{"$f":"IF(AH16=\"\",\"\",COUNT(AH$12:AH16))","v":""},"05-ขนมปังไส้สังขยาใหญ่",null,null,{"$f":"IF(AK16=\"\",\"\",SUMPRODUCT((Transaction[Route]=AP$3)*(Transaction[Products]=AK16)*(Transaction[Type]=\"ยกมา\")*(Transaction[Date]=Delivery_List!Select_Date)*Transaction[Qty In-Out]))","v":0},{"$f":"IF(AH16=\"\",\"\",INDEX(Transaction[Qty In-Out],AH16))","v":""},null,null,{"$f":"IF(AK16=\"\",\"\",INDEX(dProduct[Catagory],MATCH(Delivery_List!AK16,dProduct[NameTH],0)))","v":{"$error":"#N/A"}},""]
[{"$f":"IFERROR(IF(COUNT($A$11:$A16)+1>COUNTIF(Transaction[Route],I$3),\"\",_xlfn.AGGREGATE(15,6,(ROW(Transaction[Date])-ROW(Transaction[[#Headers],[Date]]))/((Transaction[Route]=I$3)*(Transaction[Products]=Delivery_List!$D17)*(Transaction[Date]=Delivery_List!Select_Date)*(Transaction[Type]=\"เบิก\")),1)),\"\")","v":32},{"$f":"IF(D17=\"\",\"\",INDEX(dProduct[Pcs/Unit],MATCH(Delivery_List!D17,dProduct[NameTH],0)))","v":{"$error":"#N/A"}},{"$f":"IF(A17=\"\",\"\",COUNT(A$12:A17))","v":6},"06-ขนมปังไส้หมูหยองเล็ก",null,null,{"$f":"IF(D17=\"\",\"\",SUMPRODUCT((Transaction[Route]=I$3)*(Transaction[Products]=D17)*(Transaction[Type]=\"ยกมา\")*(Transaction[Date]=Delivery_List!Select_Date)*Transaction[Qty In-Out]))","v":0},{"$f":"IF(A17=\"\",\"\",INDEX(Transaction[Qty In-Out],A17))","v":30},null,null,{"$f":"IF(D17=\"\",\"\",INDEX(dProduct[Catagory],MATCH(Delivery_List!D17,dProduct[NameTH],0)))","v":{"$error":"#N/A"}},{"$f":"IFERROR(IF(COUNT($A$11:$A16)+1>COUNTIF(Transaction[Route],T$3),\"\",_xlfn.AGGREGATE(15,6,(ROW(Transaction[Date])-ROW(Transaction[[#Headers],[Date]]))/((Transaction[Route]=T$3)*(Transaction[Products]=Delivery_List!$D17)*(Transaction[Date]=Delivery_List!Select_Date)*(Transaction[Type]=\"เบิก\")),1)),\"\")","v":""},{"$f":"IF(O17=\"\",\"\",INDEX(dProduct[Pcs/Unit],MATCH(Delivery_List!O17,dProduct[NameTH],0)))","v":{"$error":"#N/A"}},{"$f":"IF(L17=\"\",\"\",COUNT(L$12:L17))","v":""},"06-ขนมปังไส้หมูหยองเล็ก",null,null,{"$f":"IF(O17=\"\",\"\",SUMPRODUCT((Transaction[Route]=T$3)*(Transaction[Products]=O17)*(Transaction[Type]=\"ยกมา\")*(Transaction[Date]=Delivery_List!Select_Date)*Transaction[Qty In-Out]))","v":0},{"$f":"IF(L17=\"\",\"\",INDEX(Transaction[Qty In-Out],L17))","v":""},null,null,{"$f":"IF(O17=\"\",\"\",INDEX(dProduct[Catagory],MATCH(Delivery_List!O17,dProduct[NameTH],0)))","v":{"$error":"#N/A"}},{"$f":"IFERROR(IF(COUNT($A$11:$A16)+1>COUNTIF(Transaction[Route],AE$3),\"\",_xlfn.AGGREGATE(15,6,(ROW(Transaction[Date])-ROW(Transaction[[#Headers],[Date]]))/((Transaction[Route]=AE$3)*(Transaction[Products]=Delivery_List!$D17)*(Transaction[Date]=Delivery_List!Select_Date)*(Transaction[Type]=\"เบิก\")),1)),\"\")","v":""},{"$f":"IF(Z17=\"\",\"\",INDEX(dProduct[Pcs/Unit],MATCH(Delivery_List!Z17,dProduct[NameTH],0)))","v":{"$error":"#N/A"}},{"$f":"IF(W17=\"\",\"\",COUNT(W$12:W17))","v":""},"06-ขนมปังไส้หมูหยองเล็ก",null,null,{"$f":"IF(Z17=\"\",\"\",SUMPRODUCT((Transaction[Route]=AE$3)*(Transaction[Products]=Z17)*(Transaction[Type]=\"ยกมา\")*(Transaction[Date]=Delivery_List!Select_Date)*Transaction[Qty In-Out]))","v":0},{"$f":"IF(W17=\"\",\"\",INDEX(Transaction[Qty In-Out],W17))","v":""},null,null,{"$f":"IF(Z17=\"\",\"\",INDEX(dProduct[Catagory],MATCH(Delivery_List!Z17,dProduct[NameTH],0)))","v":{"$error":"#N/A"}},{"$f":"IFERROR(IF(COUNT($A$11:$A16)+1>COUNTIF(Transaction[Route],AP$3),\"\",_xlfn.AGGREGATE(15,6,(ROW(Transaction[Date])-ROW(Transaction[[#Headers],[Date]]))/((Transaction[Route]=AP$3)*(Transaction[Products]=Delivery_List!$D17)*(Transaction[Date]=Delivery_List!Select_Date)*(Transaction[Type]=\"เบิก\")),1)),\"\")","v":""},{"$f":"IF(AK17=\"\",\"\",INDEX(dProduct[Pcs/Unit],MATCH(Delivery_List!AK17,dProduct[NameTH],0)))","v":{"$error":"#N/A"}},{"$f":"IF(AH17=\"\",\"\",COUNT(AH$12:AH17))","v":""},"06-ขนมปังไส้หมูหยองเล็ก",null,null,{"$f":"IF(AK17=\"\",\"\",SUMPRODUCT((Transaction[Route]=AP$3)*(Transaction[Products]=AK17)*(Transaction[Type]=\"ยกมา\")*(Transaction[Date]=Delivery_List!Select_Date)*Transaction[Qty In-Out]))","v":0},{"$f":"IF(AH17=\"\",\"\",INDEX(Transaction[Qty In-Out],AH17))","v":""},null,null,{"$f":"IF(AK17=\"\",\"\",INDEX(dProduct[Catagory],MATCH(Delivery_List!AK17,dProduct[NameTH],0)))","v":{"$error":"#N/A"}},""]
[{"$f":"IFERROR(IF(COUNT($A$11:$A17)+1>COUNTIF(Transaction[Route],I$3),\"\",_xlfn.AGGREGATE(15,6,(ROW(Transaction[Date])-ROW(Transaction[[#Headers],[Date]]))/((Transaction[Route]=I$3)*(Transaction[Products]=Delivery_List!$D18)*(Transaction[Date]=Delivery_List!Select_Date)*(Transaction[Type]=\"เบิก\")),1)),\"\")","v":33},{"$f":"IF(D18=\"\",\"\",INDEX(dProduct[Pcs/Unit],MATCH(Delivery_List!D18,dProduct[NameTH],0)))","v":{"$error":"#N/A"}},{"$f":"IF(A18=\"\",\"\",COUNT(A$12:A18))","v":7},"07-เค้กกล้วยหอม",null,null,{"$f":"IF(D18=\"\",\"\",SUMPRODUCT((Transaction[Route]=I$3)*(Transaction[Products]=D18)*(Transaction[Type]=\"ยกมา\")*(Transaction[Date]=Delivery_List!Select_Date)*Transaction[Qty In-Out]))","v":0},{"$f":"IF(A18=\"\",\"\",INDEX(Transaction[Qty In-Out],A18))","v":120},null,null,{"$f":"IF(D18=\"\",\"\",INDEX(dProduct[Catagory],MATCH(Delivery_List!D18,dProduct[NameTH],0)))","v":{"$error":"#N/A"}},{"$f":"IFERROR(IF(COUNT($A$11:$A17)+1>COUNTIF(Transaction[Route],T$3),\"\",_xlfn.AGGREGATE(15,6,(ROW(Transaction[Date])-ROW(Transaction[[#Headers],[Date]]))/((Transaction[Route]=T$3)*(Transaction[Products]=Delivery_List!$D18)*(Transaction[Date]=Delivery_List!Select_Date)*(Transaction[Type]=\"เบิก\")),1)),\"\")","v":""},{"$f":"IF(O18=\"\",\"\",INDEX(dProduct[Pcs/Unit],MATCH(Delivery_List!O18,dProduct[NameTH],0)))","v":{"$error":"#N/A"}},{"$f":"IF(L18=\"\",\"\",COUNT(L$12:L18))","v":""},"07-เค้กกล้วยหอม",null,null,{"$f":"IF(O18=\"\",\"\",SUMPRODUCT((Transaction[Route]=T$3)*(Transaction[Products]=O18)*(Transaction[Type]=\"ยกมา\")*(Transaction[Date]=Delivery_List!Select_Date)*Transaction[Qty In-Out]))","v":0},{"$f":"IF(L18=\"\",\"\",INDEX(Transaction[Qty In-Out],L18))","v":""},null,null,{"$f":"IF(O18=\"\",\"\",INDEX(dProduct[Catagory],MATCH(Delivery_List!O18,dProduct[NameTH],0)))","v":{"$error":"#N/A"}},{"$f":"IFERROR(IF(COUNT($A$11:$A17)+1>COUNTIF(Transaction[Route],AE$3),\"\",_xlfn.AGGREGATE(15,6,(ROW(Transaction[Date])-ROW(Transaction[[#Headers],[Date]]))/((Transaction[Route]=AE$3)*(Transaction[Products]=Delivery_List!$D18)*(Transaction[Date]=Delivery_List!Select_Date)*(Transaction[Type]=\"เบิก\")),1)),\"\")","v":""},{"$f":"IF(Z18=\"\",\"\",INDEX(dProduct[Pcs/Unit],MATCH(Delivery_List!Z18,dProduct[NameTH],0)))","v":{"$error":"#N/A"}},{"$f":"IF(W18=\"\",\"\",COUNT(W$12:W18))","v":""},"07-เค้กกล้วยหอม",null,null,{"$f":"IF(Z18=\"\",\"\",SUMPRODUCT((Transaction[Route]=AE$3)*(Transaction[Products]=Z18)*(Transaction[Type]=\"ยกมา\")*(Transaction[Date]=Delivery_List!Select_Date)*Transaction[Qty In-Out]))","v":0},{"$f":"IF(W18=\"\",\"\",INDEX(Transaction[Qty In-Out],W18))","v":""},null,null,{"$f":"IF(Z18=\"\",\"\",INDEX(dProduct[Catagory],MATCH(Delivery_List!Z18,dProduct[NameTH],0)))","v":{"$error":"#N/A"}},{"$f":"IFERROR(IF(COUNT($A$11:$A17)+1>COUNTIF(Transaction[Route],AP$3),\"\",_xlfn.AGGREGATE(15,6,(ROW(Transaction[Date])-ROW(Transaction[[#Headers],[Date]]))/((Transaction[Route]=AP$3)*(Transaction[Products]=Delivery_List!$D18)*(Transaction[Date]=Delivery_List!Select_Date)*(Transaction[Type]=\"เบิก\")),1)),\"\")","v":""},{"$f":"IF(AK18=\"\",\"\",INDEX(dProduct[Pcs/Unit],MATCH(Delivery_List!AK18,dProduct[NameTH],0)))","v":{"$error":"#N/A"}},{"$f":"IF(AH18=\"\",\"\",COUNT(AH$12:AH18))","v":""},"07-เค้กกล้วยหอม",null,null,{"$f":"IF(AK18=\"\",\"\",SUMPRODUCT((Transaction[Route]=AP$3)*(Transaction[Products]=AK18)*(Transaction[Type]=\"ยกมา\")*(Transaction[Date]=Delivery_List!Select_Date)*Transaction[Qty In-Out]))","v":0},{"$f":"IF(AH18=\"\",\"\",INDEX(Transaction[Qty In-Out],AH18))","v":""},null,null,{"$f":"IF(AK18=\"\",\"\",INDEX(dProduct[Catagory],MATCH(Delivery_List!AK18,dProduct[NameTH],0)))","v":{"$error":"#N/A"}},""]
[{"$f":"IFERROR(IF(COUNT($A$11:$A18)+1>COUNTIF(Transaction[Route],I$3),\"\",_xlfn.AGGREGATE(15,6,(ROW(Transaction[Date])-ROW(Transaction[[#Headers],[Date]]))/((Transaction[Route]=I$3)*(Transaction[Products]=Delivery_List!$D19)*(Transaction[Date]=Delivery_List!Select_Date)*(Transaction[Type]=\"เบิก\")),1)),\"\")","v":34},{"$f":"IF(D19=\"\",\"\",INDEX(dProduct[Pcs/Unit],MATCH(Delivery_List!D19,dProduct[NameTH],0)))","v":{"$error":"#N/A"}},{"$f":"IF(A19=\"\",\"\",COUNT(A$12:A19))","v":8},"08-เค้กบัตเตอร์",null,null,{"$f":"IF(D19=\"\",\"\",SUMPRODUCT((Transaction[Route]=I$3)*(Transaction[Products]=D19)*(Transaction[Type]=\"ยกมา\")*(Transaction[Date]=Delivery_List!Select_Date)*Transaction[Qty In-Out]))","v":0},{"$f":"IF(A19=\"\",\"\",INDEX(Transaction[Qty In-Out],A19))","v":20},null,null,{"$f":"IF(D19=\"\",\"\",INDEX(dProduct[Catagory],MATCH(Delivery_List!D19,dProduct[NameTH],0)))","v":{"$error":"#N/A"}},{"$f":"IFERROR(IF(COUNT($A$11:$A18)+1>COUNTIF(Transaction[Route],T$3),\"\",_xlfn.AGGREGATE(15,6,(ROW(Transaction[Date])-ROW(Transaction[[#Headers],[Date]]))/((Transaction[Route]=T$3)*(Transaction[Products]=Delivery_List!$D19)*(Transaction[Date]=Delivery_List!Select_Date)*(Transaction[Type]=\"เบิก\")),1)),\"\")","v":""},{"$f":"IF(O19=\"\",\"\",INDEX(dProduct[Pcs/Unit],MATCH(Delivery_List!O19,dProduct[NameTH],0)))","v":{"$error":"#N/A"}},{"$f":"IF(L19=\"\",\"\",COUNT(L$12:L19))","v":""},"08-เค้กบัตเตอร์",null,null,{"$f":"IF(O19=\"\",\"\",SUMPRODUCT((Transaction[Route]=T$3)*(Transaction[Products]=O19)*(Transaction[Type]=\"ยกมา\")*(Transaction[Date]=Delivery_List!Select_Date)*Transaction[Qty In-Out]))","v":0},{"$f":"IF(L19=\"\",\"\",INDEX(Transaction[Qty In-Out],L19))","v":""},null,null,{"$f":"IF(O19=\"\",\"\",INDEX(dProduct[Catagory],MATCH(Delivery_List!O19,dProduct[NameTH],0)))","v":{"$error":"#N/A"}},{"$f":"IFERROR(IF(COUNT($A$11:$A18)+1>COUNTIF(Transaction[Route],AE$3),\"\",_xlfn.AGGREGATE(15,6,(ROW(Transaction[Date])-ROW(Transaction[[#Headers],[Date]]))/((Transaction[Route]=AE$3)*(Transaction[Products]=Delivery_List!$D19)*(Transaction[Date]=Delivery_List!Select_Date)*(Transaction[Type]=\"เบิก\")),1)),\"\")","v":""},{"$f":"IF(Z19=\"\",\"\",INDEX(dProduct[Pcs/Unit],MATCH(Delivery_List!Z19,dProduct[NameTH],0)))","v":{"$error":"#N/A"}},{"$f":"IF(W19=\"\",\"\",COUNT(W$12:W19))","v":""},"08-เค้กบัตเตอร์",null,null,{"$f":"IF(Z19=\"\",\"\",SUMPRODUCT((Transaction[Route]=AE$3)*(Transaction[Products]=Z19)*(Transaction[Type]=\"ยกมา\")*(Transaction[Date]=Delivery_List!Select_Date)*Transaction[Qty In-Out]))","v":0},{"$f":"IF(W19=\"\",\"\",INDEX(Transaction[Qty In-Out],W19))","v":""},null,null,{"$f":"IF(Z19=\"\",\"\",INDEX(dProduct[Catagory],MATCH(Delivery_List!Z19,dProduct[NameTH],0)))","v":{"$error":"#N/A"}},{"$f":"IFERROR(IF(COUNT($A$11:$A18)+1>COUNTIF(Transaction[Route],AP$3),\"\",_xlfn.AGGREGATE(15,6,(ROW(Transaction[Date])-ROW(Transaction[[#Headers],[Date]]))/((Transaction[Route]=AP$3)*(Transaction[Products]=Delivery_List!$D19)*(Transaction[Date]=Delivery_List!Select_Date)*(Transaction[Type]=\"เบิก\")),1)),\"\")","v":""},{"$f":"IF(AK19=\"\",\"\",INDEX(dProduct[Pcs/Unit],MATCH(Delivery_List!AK19,dProduct[NameTH],0)))","v":{"$error":"#N/A"}},{"$f":"IF(AH19=\"\",\"\",COUNT(AH$12:AH19))","v":""},"08-เค้กบัตเตอร์",null,null,{"$f":"IF(AK19=\"\",\"\",SUMPRODUCT((Transaction[Route]=AP$3)*(Transaction[Products]=AK19)*(Transaction[Type]=\"ยกมา\")*(Transaction[Date]=Delivery_List!Select_Date)*Transaction[Qty In-Out]))","v":0},{"$f":"IF(AH19=\"\",\"\",INDEX(Transaction[Qty In-Out],AH19))","v":""},null,null,{"$f":"IF(AK19=\"\",\"\",INDEX(dProduct[Catagory],MATCH(Delivery_List!AK19,dProduct[NameTH],0)))","v":{"$error":"#N/A"}},""]
[{"$f":"IFERROR(IF(COUNT($A$11:$A19)+1>COUNTIF(Transaction[Route],I$3),\"\",_xlfn.AGGREGATE(15,6,(ROW(Transaction[Date])-ROW(Transaction[[#Headers],[Date]]))/((Transaction[Route]=I$3)*(Transaction[Products]=Delivery_List!$D20)*(Transaction[Date]=Delivery_List!Select_Date)*(Transaction[Type]=\"เบิก\")),1)),\"\")","v":35},{"$f":"IF(D20=\"\",\"\",INDEX(dProduct[Pcs/Unit],MATCH(Delivery_List!D20,dProduct[NameTH],0)))","v":{"$error":"#N/A"}},{"$f":"IF(A20=\"\",\"\",COUNT(A$12:A20))","v":9},"09-ขนมปังโรลมันเทศ",null,null,{"$f":"IF(D20=\"\",\"\",SUMPRODUCT((Transaction[Route]=I$3)*(Transaction[Products]=D20)*(Transaction[Type]=\"ยกมา\")*(Transaction[Date]=Delivery_List!Select_Date)*Transaction[Qty In-Out]))","v":0},{"$f":"IF(A20=\"\",\"\",INDEX(Transaction[Qty In-Out],A20))","v":20},null,null,{"$f":"IF(D20=\"\",\"\",INDEX(dProduct[Catagory],MATCH(Delivery_List!D20,dProduct[NameTH],0)))","v":{"$error":"#N/A"}},{"$f":"IFERROR(IF(COUNT($A$11:$A19)+1>COUNTIF(Transaction[Route],T$3),\"\",_xlfn.AGGREGATE(15,6,(ROW(Transaction[Date])-ROW(Transaction[[#Headers],[Date]]))/((Transaction[Route]=T$3)*(Transaction[Products]=Delivery_List!$D20)*(Transaction[Date]=Delivery_List!Select_Date)*(Transaction[Type]=\"เบิก\")),1)),\"\")","v":""},{"$f":"IF(O20=\"\",\"\",INDEX(dProduct[Pcs/Unit],MATCH(Delivery_List!O20,dProduct[NameTH],0)))","v":{"$error":"#N/A"}},{"$f":"IF(L20=\"\",\"\",COUNT(L$12:L20))","v":""},"09-ขนมปังโรลมันเทศ",null,null,{"$f":"IF(O20=\"\",\"\",SUMPRODUCT((Transaction[Route]=T$3)*(Transaction[Products]=O20)*(Transaction[Type]=\"ยกมา\")*(Transaction[Date]=Delivery_List!Select_Date)*Transaction[Qty In-Out]))","v":0},{"$f":"IF(L20=\"\",\"\",INDEX(Transaction[Qty In-Out],L20))","v":""},null,null,{"$f":"IF(O20=\"\",\"\",INDEX(dProduct[Catagory],MATCH(Delivery_List!O20,dProduct[NameTH],0)))","v":{"$error":"#N/A"}},{"$f":"IFERROR(IF(COUNT($A$11:$A19)+1>COUNTIF(Transaction[Route],AE$3),\"\",_xlfn.AGGREGATE(15,6,(ROW(Transaction[Date])-ROW(Transaction[[#Headers],[Date]]))/((Transaction[Route]=AE$3)*(Transaction[Products]=Delivery_List!$D20)*(Transaction[Date]=Delivery_List!Select_Date)*(Transaction[Type]=\"เบิก\")),1)),\"\")","v":""},{"$f":"IF(Z20=\"\",\"\",INDEX(dProduct[Pcs/Unit],MATCH(Delivery_List!Z20,dProduct[NameTH],0)))","v":{"$error":"#N/A"}},{"$f":"IF(W20=\"\",\"\",COUNT(W$12:W20))","v":""},"09-ขนมปังโรลมันเทศ",null,null,{"$f":"IF(Z20=\"\",\"\",SUMPRODUCT((Transaction[Route]=AE$3)*(Transaction[Products]=Z20)*(Transaction[Type]=\"ยกมา\")*(Transaction[Date]=Delivery_List!Select_Date)*Transaction[Qty In-Out]))","v":0},{"$f":"IF(W20=\"\",\"\",INDEX(Transaction[Qty In-Out],W20))","v":""},null,null,{"$f":"IF(Z20=\"\",\"\",INDEX(dProduct[Catagory],MATCH(Delivery_List!Z20,dProduct[NameTH],0)))","v":{"$error":"#N/A"}},{"$f":"IFERROR(IF(COUNT($A$11:$A19)+1>COUNTIF(Transaction[Route],AP$3),\"\",_xlfn.AGGREGATE(15,6,(ROW(Transaction[Date])-ROW(Transaction[[#Headers],[Date]]))/((Transaction[Route]=AP$3)*(Transaction[Products]=Delivery_List!$D20)*(Transaction[Date]=Delivery_List!Select_Date)*(Transaction[Type]=\"เบิก\")),1)),\"\")","v":""},{"$f":"IF(AK20=\"\",\"\",INDEX(dProduct[Pcs/Unit],MATCH(Delivery_List!AK20,dProduct[NameTH],0)))","v":{"$error":"#N/A"}},{"$f":"IF(AH20=\"\",\"\",COUNT(AH$12:AH20))","v":""},"09-ขนมปังโรลมันเทศ",null,null,{"$f":"IF(AK20=\"\",\"\",SUMPRODUCT((Transaction[Route]=AP$3)*(Transaction[Products]=AK20)*(Transaction[Type]=\"ยกมา\")*(Transaction[Date]=Delivery_List!Select_Date)*Transaction[Qty In-Out]))","v":0},{"$f":"IF(AH20=\"\",\"\",INDEX(Transaction[Qty In-Out],AH20))","v":""},null,null,{"$f":"IF(AK20=\"\",\"\",INDEX(dProduct[Catagory],MATCH(Delivery_List!AK20,dProduct[NameTH],0)))","v":{"$error":"#N/A"}},""]
[{"$f":"IFERROR(IF(COUNT($A$11:$A20)+1>COUNTIF(Transaction[Route],I$3),\"\",_xlfn.AGGREGATE(15,6,(ROW(Transaction[Date])-ROW(Transaction[[#Headers],[Date]]))/((Transaction[Route]=I$3)*(Transaction[Products]=Delivery_List!$D21)*(Transaction[Date]=Delivery_List!Select_Date)*(Transaction[Type]=\"เบิก\")),1)),\"\")","v":36},{"$f":"IF(D21=\"\",\"\",INDEX(dProduct[Pcs/Unit],MATCH(Delivery_List!D21,dProduct[NameTH],0)))","v":{"$error":"#N/A"}},{"$f":"IF(A21=\"\",\"\",COUNT(A$12:A21))","v":10},"10-ขนมปังโรลถั่วแดง",null,null,{"$f":"IF(D21=\"\",\"\",SUMPRODUCT((Transaction[Route]=I$3)*(Transaction[Products]=D21)*(Transaction[Type]=\"ยกมา\")*(Transaction[Date]=Delivery_List!Select_Date)*Transaction[Qty In-Out]))","v":0},{"$f":"IF(A21=\"\",\"\",INDEX(Transaction[Qty In-Out],A21))","v":120},null,null,{"$f":"IF(D21=\"\",\"\",INDEX(dProduct[Catagory],MATCH(Delivery_List!D21,dProduct[NameTH],0)))","v":{"$error":"#N/A"}},{"$f":"IFERROR(IF(COUNT($A$11:$A20)+1>COUNTIF(Transaction[Route],T$3),\"\",_xlfn.AGGREGATE(15,6,(ROW(Transaction[Date])-ROW(Transaction[[#Headers],[Date]]))/((Transaction[Route]=T$3)*(Transaction[Products]=Delivery_List!$D21)*(Transaction[Date]=Delivery_List!Select_Date)*(Transaction[Type]=\"เบิก\")),1)),\"\")","v":""},{"$f":"IF(O21=\"\",\"\",INDEX(dProduct[Pcs/Unit],MATCH(Delivery_List!O21,dProduct[NameTH],0)))","v":{"$error":"#N/A"}},{"$f":"IF(L21=\"\",\"\",COUNT(L$12:L21))","v":""},"10-ขนมปังโรลถั่วแดง",null,null,{"$f":"IF(O21=\"\",\"\",SUMPRODUCT((Transaction[Route]=T$3)*(Transaction[Products]=O21)*(Transaction[Type]=\"ยกมา\")*(Transaction[Date]=Delivery_List!Select_Date)*Transaction[Qty In-Out]))","v":0},{"$f":"IF(L21=\"\",\"\",INDEX(Transaction[Qty In-Out],L21))","v":""},null,null,{"$f":"IF(O21=\"\",\"\",INDEX(dProduct[Catagory],MATCH(Delivery_List!O21,dProduct[NameTH],0)))","v":{"$error":"#N/A"}},{"$f":"IFERROR(IF(COUNT($A$11:$A20)+1>COUNTIF(Transaction[Route],AE$3),\"\",_xlfn.AGGREGATE(15,6,(ROW(Transaction[Date])-ROW(Transaction[[#Headers],[Date]]))/((Transaction[Route]=AE$3)*(Transaction[Products]=Delivery_List!$D21)*(Transaction[Date]=Delivery_List!Select_Date)*(Transaction[Type]=\"เบิก\")),1)),\"\")","v":""},{"$f":"IF(Z21=\"\",\"\",INDEX(dProduct[Pcs/Unit],MATCH(Delivery_List!Z21,dProduct[NameTH],0)))","v":{"$error":"#N/A"}},{"$f":"IF(W21=\"\",\"\",COUNT(W$12:W21))","v":""},"10-ขนมปังโรลถั่วแดง",null,null,{"$f":"IF(Z21=\"\",\"\",SUMPRODUCT((Transaction[Route]=AE$3)*(Transaction[Products]=Z21)*(Transaction[Type]=\"ยกมา\")*(Transaction[Date]=Delivery_List!Select_Date)*Transaction[Qty In-Out]))","v":0},{"$f":"IF(W21=\"\",\"\",INDEX(Transaction[Qty In-Out],W21))","v":""},null,null,{"$f":"IF(Z21=\"\",\"\",INDEX(dProduct[Catagory],MATCH(Delivery_List!Z21,dProduct[NameTH],0)))","v":{"$error":"#N/A"}},{"$f":"IFERROR(IF(COUNT($A$11:$A20)+1>COUNTIF(Transaction[Route],AP$3),\"\",_xlfn.AGGREGATE(15,6,(ROW(Transaction[Date])-ROW(Transaction[[#Headers],[Date]]))/((Transaction[Route]=AP$3)*(Transaction[Products]=Delivery_List!$D21)*(Transaction[Date]=Delivery_List!Select_Date)*(Transaction[Type]=\"เบิก\")),1)),\"\")","v":""},{"$f":"IF(AK21=\"\",\"\",INDEX(dProduct[Pcs/Unit],MATCH(Delivery_List!AK21,dProduct[NameTH],0)))","v":{"$error":"#N/A"}},{"$f":"IF(AH21=\"\",\"\",COUNT(AH$12:AH21))","v":""},"10-ขนมปังโรลถั่วแดง",null,null,{"$f":"IF(AK21=\"\",\"\",SUMPRODUCT((Transaction[Route]=AP$3)*(Transaction[Products]=AK21)*(Transaction[Type]=\"ยกมา\")*(Transaction[Date]=Delivery_List!Select_Date)*Transaction[Qty In-Out]))","v":0},{"$f":"IF(AH21=\"\",\"\",INDEX(Transaction[Qty In-Out],AH21))","v":""},null,null,{"$f":"IF(AK21=\"\",\"\",INDEX(dProduct[Catagory],MATCH(Delivery_List!AK21,dProduct[NameTH],0)))","v":{"$error":"#N/A"}},""]
[{"$f":"IFERROR(IF(COUNT($A$11:$A21)+1>COUNTIF(Transaction[Route],I$3),\"\",_xlfn.AGGREGATE(15,6,(ROW(Transaction[Date])-ROW(Transaction[[#Headers],[Date]]))/((Transaction[Route]=I$3)*(Transaction[Products]=Delivery_List!$D22)*(Transaction[Date]=Delivery_List!Select_Date)*(Transaction[Type]=\"เบิก\")),1)),\"\")","v":""},{"$f":"IF(D22=\"\",\"\",INDEX(dProduct[Pcs/Unit],MATCH(Delivery_List!D22,dProduct[NameTH],0)))","v":{"$error":"#N/A"}},{"$f":"IF(A22=\"\",\"\",COUNT(A$12:A22))","v":""},"11-ขนมปังหมูหยองมายองเนส",null,null,{"$f":"IF(D22=\"\",\"\",SUMPRODUCT((Transaction[Route]=I$3)*(Transaction[Products]=D22)*(Transaction[Type]=\"ยกมา\")*(Transaction[Date]=Delivery_List!Select_Date)*Transaction[Qty In-Out]))","v":0},{"$f":"IF(A22=\"\",\"\",INDEX(Transaction[Qty In-Out],A22))","v":""},null,null,{"$f":"IF(D22=\"\",\"\",INDEX(dProduct[Catagory],MATCH(Delivery_List!D22,dProduct[NameTH],0)))","v":{"$error":"#N/A"}},{"$f":"IFERROR(IF(COUNT($A$11:$A21)+1>COUNTIF(Transaction[Route],T$3),\"\",_xlfn.AGGREGATE(15,6,(ROW(Transaction[Date])-ROW(Transaction[[#Headers],[Date]]))/((Transaction[Route]=T$3)*(Transaction[Products]=Delivery_List!$D22)*(Transaction[Date]=Delivery_List!Select_Date)*(Transaction[Type]=\"เบิก\")),1)),\"\")","v":""},{"$f":"IF(O22=\"\",\"\",INDEX(dProduct[Pcs/Unit],MATCH(Delivery_List!O22,dProduct[NameTH],0)))","v":{"$error":"#N/A"}},{"$f":"IF(L22=\"\",\"\",COUNT(L$12:L22))","v":""},"11-ขนมปังหมูหยองมายองเนส",null,null,{"$f":"IF(O22=\"\",\"\",SUMPRODUCT((Transaction[Route]=T$3)*(Transaction[Products]=O22)*(Transaction[Type]=\"ยกมา\")*(Transaction[Date]=Delivery_List!Select_Date)*Transaction[Qty In-Out]))","v":0},{"$f":"IF(L22=\"\",\"\",INDEX(Transaction[Qty In-Out],L22))","v":""},null,null,{"$f":"IF(O22=\"\",\"\",INDEX(dProduct[Catagory],MATCH(Delivery_List!O22,dProduct[NameTH],0)))","v":{"$error":"#N/A"}},{"$f":"IFERROR(IF(COUNT($A$11:$A21)+1>COUNTIF(Transaction[Route],AE$3),\"\",_xlfn.AGGREGATE(15,6,(ROW(Transaction[Date])-ROW(Transaction[[#Headers],[Date]]))/((Transaction[Route]=AE$3)*(Transaction[Products]=Delivery_List!$D22)*(Transaction[Date]=Delivery_List!Select_Date)*(Transaction[Type]=\"เบิก\")),1)),\"\")","v":""},{"$f":"IF(Z22=\"\",\"\",INDEX(dProduct[Pcs/Unit],MATCH(Delivery_List!Z22,dProduct[NameTH],0)))","v":{"$error":"#N/A"}},{"$f":"IF(W22=\"\",\"\",COUNT(W$12:W22))","v":""},"11-ขนมปังหมูหยองมายองเนส",null,null,{"$f":"IF(Z22=\"\",\"\",SUMPRODUCT((Transaction[Route]=AE$3)*(Transaction[Products]=Z22)*(Transaction[Type]=\"ยกมา\")*(Transaction[Date]=Delivery_List!Select_Date)*Transaction[Qty In-Out]))","v":0},{"$f":"IF(W22=\"\",\"\",INDEX(Transaction[Qty In-Out],W22))","v":""},null,null,{"$f":"IF(Z22=\"\",\"\",INDEX(dProduct[Catagory],MATCH(Delivery_List!Z22,dProduct[NameTH],0)))","v":{"$error":"#N/A"}},{"$f":"IFERROR(IF(COUNT($A$11:$A21)+1>COUNTIF(Transaction[Route],AP$3),\"\",_xlfn.AGGREGATE(15,6,(ROW(Transaction[Date])-ROW(Transaction[[#Headers],[Date]]))/((Transaction[Route]=AP$3)*(Transaction[Products]=Delivery_List!$D22)*(Transaction[Date]=Delivery_List!Select_Date)*(Transaction[Type]=\"เบิก\")),1)),\"\")","v":""},{"$f":"IF(AK22=\"\",\"\",INDEX(dProduct[Pcs/Unit],MATCH(Delivery_List!AK22,dProduct[NameTH],0)))","v":{"$error":"#N/A"}},{"$f":"IF(AH22=\"\",\"\",COUNT(AH$12:AH22))","v":""},"11-ขนมปังหมูหยองมายองเนส",null,null,{"$f":"IF(AK22=\"\",\"\",SUMPRODUCT((Transaction[Route]=AP$3)*(Transaction[Products]=AK22)*(Transaction[Type]=\"ยกมา\")*(Transaction[Date]=Delivery_List!Select_Date)*Transaction[Qty In-Out]))","v":0},{"$f":"IF(AH22=\"\",\"\",INDEX(Transaction[Qty In-Out],AH22))","v":""},null,null,{"$f":"IF(AK22=\"\",\"\",INDEX(dProduct[Catagory],MATCH(Delivery_List!AK22,dProduct[NameTH],0)))","v":{"$error":"#N/A"}},""]
[{"$f":"IFERROR(IF(COUNT($A$11:$A22)+1>COUNTIF(Transaction[Route],I$3),\"\",_xlfn.AGGREGATE(15,6,(ROW(Transaction[Date])-ROW(Transaction[[#Headers],[Date]]))/((Transaction[Route]=I$3)*(Transaction[Products]=Delivery_List!$D23)*(Transaction[Date]=Delivery_List!Select_Date)*(Transaction[Type]=\"เบิก\")),1)),\"\")","v":37},{"$f":"IF(D23=\"\",\"\",INDEX(dProduct[Pcs/Unit],MATCH(Delivery_List!D23,dProduct[NameTH],0)))","v":{"$error":"#N/A"}},{"$f":"IF(A23=\"\",\"\",COUNT(A$12:A23))","v":11},"12-ขนมปังพิซซ่า",null,null,{"$f":"IF(D23=\"\",\"\",SUMPRODUCT((Transaction[Route]=I$3)*(Transaction[Products]=D23)*(Transaction[Type]=\"ยกมา\")*(Transaction[Date]=Delivery_List!Select_Date)*Transaction[Qty In-Out]))","v":0},{"$f":"IF(A23=\"\",\"\",INDEX(Transaction[Qty In-Out],A23))","v":70},null,null,{"$f":"IF(D23=\"\",\"\",INDEX(dProduct[Catagory],MATCH(Delivery_List!D23,dProduct[NameTH],0)))","v":{"$error":"#N/A"}},{"$f":"IFERROR(IF(COUNT($A$11:$A22)+1>COUNTIF(Transaction[Route],T$3),\"\",_xlfn.AGGREGATE(15,6,(ROW(Transaction[Date])-ROW(Transaction[[#Headers],[Date]]))/((Transaction[Route]=T$3)*(Transaction[Products]=Delivery_List!$D23)*(Transaction[Date]=Delivery_List!Select_Date)*(Transaction[Type]=\"เบิก\")),1)),\"\")","v":""},{"$f":"IF(O23=\"\",\"\",INDEX(dProduct[Pcs/Unit],MATCH(Delivery_List!O23,dProduct[NameTH],0)))","v":{"$error":"#N/A"}},{"$f":"IF(L23=\"\",\"\",COUNT(L$12:L23))","v":""},"12-ขนมปังพิซซ่า",null,null,{"$f":"IF(O23=\"\",\"\",SUMPRODUCT((Transaction[Route]=T$3)*(Transaction[Products]=O23)*(Transaction[Type]=\"ยกมา\")*(Transaction[Date]=Delivery_List!Select_Date)*Transaction[Qty In-Out]))","v":0},{"$f":"IF(L23=\"\",\"\",INDEX(Transaction[Qty In-Out],L23))","v":""},null,null,{"$f":"IF(O23=\"\",\"\",INDEX(dProduct[Catagory],MATCH(Delivery_List!O23,dProduct[NameTH],0)))","v":{"$error":"#N/A"}},{"$f":"IFERROR(IF(COUNT($A$11:$A22)+1>COUNTIF(Transaction[Route],AE$3),\"\",_xlfn.AGGREGATE(15,6,(ROW(Transaction[Date])-ROW(Transaction[[#Headers],[Date]]))/((Transaction[Route]=AE$3)*(Transaction[Products]=Delivery_List!$D23)*(Transaction[Date]=Delivery_List!Select_Date)*(Transaction[Type]=\"เบิก\")),1)),\"\")","v":""},{"$f":"IF(Z23=\"\",\"\",INDEX(dProduct[Pcs/Unit],MATCH(Delivery_List!Z23,dProduct[NameTH],0)))","v":{"$error":"#N/A"}},{"$f":"IF(W23=\"\",\"\",COUNT(W$12:W23))","v":""},"12-ขนมปังพิซซ่า",null,null,{"$f":"IF(Z23=\"\",\"\",SUMPRODUCT((Transaction[Route]=AE$3)*(Transaction[Products]=Z23)*(Transaction[Type]=\"ยกมา\")*(Transaction[Date]=Delivery_List!Select_Date)*Transaction[Qty In-Out]))","v":0},{"$f":"IF(W23=\"\",\"\",INDEX(Transaction[Qty In-Out],W23))","v":""},null,null,{"$f":"IF(Z23=\"\",\"\",INDEX(dProduct[Catagory],MATCH(Delivery_List!Z23,dProduct[NameTH],0)))","v":{"$error":"#N/A"}},{"$f":"IFERROR(IF(COUNT($A$11:$A22)+1>COUNTIF(Transaction[Route],AP$3),\"\",_xlfn.AGGREGATE(15,6,(ROW(Transaction[Date])-ROW(Transaction[[#Headers],[Date]]))/((Transaction[Route]=AP$3)*(Transaction[Products]=Delivery_List!$D23)*(Transaction[Date]=Delivery_List!Select_Date)*(Transaction[Type]=\"เบิก\")),1)),\"\")","v":""},{"$f":"IF(AK23=\"\",\"\",INDEX(dProduct[Pcs/Unit],MATCH(Delivery_List!AK23,dProduct[NameTH],0)))","v":{"$error":"#N/A"}},{"$f":"IF(AH23=\"\",\"\",COUNT(AH$12:AH23))","v":""},"12-ขนมปังพิซซ่า",null,null,{"$f":"IF(AK23=\"\",\"\",SUMPRODUCT((Transaction[Route]=AP$3)*(Transaction[Products]=AK23)*(Transaction[Type]=\"ยกมา\")*(Transaction[Date]=Delivery_List!Select_Date)*Transaction[Qty In-Out]))","v":0},{"$f":"IF(AH23=\"\",\"\",INDEX(Transaction[Qty In-Out],AH23))","v":""},null,null,{"$f":"IF(AK23=\"\",\"\",INDEX(dProduct[Catagory],MATCH(Delivery_List!AK23,dProduct[NameTH],0)))","v":{"$error":"#N/A"}},""]
[{"$f":"IFERROR(IF(COUNT($A$11:$A23)+1>COUNTIF(Transaction[Route],I$3),\"\",_xlfn.AGGREGATE(15,6,(ROW(Transaction[Date])-ROW(Transaction[[#Headers],[Date]]))/((Transaction[Route]=I$3)*(Transaction[Products]=Delivery_List!$D24)*(Transaction[Date]=Delivery_List!Select_Date)*(Transaction[Type]=\"เบิก\")),1)),\"\")","v":38},{"$f":"IF(D24=\"\",\"\",INDEX(dProduct[Pcs/Unit],MATCH(Delivery_List!D24,dProduct[NameTH],0)))","v":{"$error":"#N/A"}},{"$f":"IF(A24=\"\",\"\",COUNT(A$12:A24))","v":12},"13-ขนมปังหมูหยองน้ำสลัด",null,null,{"$f":"IF(D24=\"\",\"\",SUMPRODUCT((Transaction[Route]=I$3)*(Transaction[Products]=D24)*(Transaction[Type]=\"ยกมา\")*(Transaction[Date]=Delivery_List!Select_Date)*Transaction[Qty In-Out]))","v":0},{"$f":"IF(A24=\"\",\"\",INDEX(Transaction[Qty In-Out],A24))","v":320},null,null,{"$f":"IF(D24=\"\",\"\",INDEX(dProduct[Catagory],MATCH(Delivery_List!D24,dProduct[NameTH],0)))","v":{"$error":"#N/A"}},{"$f":"IFERROR(IF(COUNT($A$11:$A23)+1>COUNTIF(Transaction[Route],T$3),\"\",_xlfn.AGGREGATE(15,6,(ROW(Transaction[Date])-ROW(Transaction[[#Headers],[Date]]))/((Transaction[Route]=T$3)*(Transaction[Products]=Delivery_List!$D24)*(Transaction[Date]=Delivery_List!Select_Date)*(Transaction[Type]=\"เบิก\")),1)),\"\")","v":""},{"$f":"IF(O24=\"\",\"\",INDEX(dProduct[Pcs/Unit],MATCH(Delivery_List!O24,dProduct[NameTH],0)))","v":{"$error":"#N/A"}},{"$f":"IF(L24=\"\",\"\",COUNT(L$12:L24))","v":""},"13-ขนมปังหมูหยองน้ำสลัด",null,null,{"$f":"IF(O24=\"\",\"\",SUMPRODUCT((Transaction[Route]=T$3)*(Transaction[Products]=O24)*(Transaction[Type]=\"ยกมา\")*(Transaction[Date]=Delivery_List!Select_Date)*Transaction[Qty In-Out]))","v":0},{"$f":"IF(L24=\"\",\"\",INDEX(Transaction[Qty In-Out],L24))","v":""},null,null,{"$f":"IF(O24=\"\",\"\",INDEX(dProduct[Catagory],MATCH(Delivery_List!O24,dProduct[NameTH],0)))","v":{"$error":"#N/A"}},{"$f":"IFERROR(IF(COUNT($A$11:$A23)+1>COUNTIF(Transaction[Route],AE$3),\"\",_xlfn.AGGREGATE(15,6,(ROW(Transaction[Date])-ROW(Transaction[[#Headers],[Date]]))/((Transaction[Route]=AE$3)*(Transaction[Products]=Delivery_List!$D24)*(Transaction[Date]=Delivery_List!Select_Date)*(Transaction[Type]=\"เบิก\")),1)),\"\")","v":""},{"$f":"IF(Z24=\"\",\"\",INDEX(dProduct[Pcs/Unit],MATCH(Delivery_List!Z24,dProduct[NameTH],0)))","v":{"$error":"#N/A"}},{"$f":"IF(W24=\"\",\"\",COUNT(W$12:W24))","v":""},"13-ขนมปังหมูหยองน้ำสลัด",null,null,{"$f":"IF(Z24=\"\",\"\",SUMPRODUCT((Transaction[Route]=AE$3)*(Transaction[Products]=Z24)*(Transaction[Type]=\"ยกมา\")*(Transaction[Date]=Delivery_List!Select_Date)*Transaction[Qty In-Out]))","v":0},{"$f":"IF(W24=\"\",\"\",INDEX(Transaction[Qty In-Out],W24))","v":""},null,null,{"$f":"IF(Z24=\"\",\"\",INDEX(dProduct[Catagory],MATCH(Delivery_List!Z24,dProduct[NameTH],0)))","v":{"$error":"#N/A"}},{"$f":"IFERROR(IF(COUNT($A$11:$A23)+1>COUNTIF(Transaction[Route],AP$3),\"\",_xlfn.AGGREGATE(15,6,(ROW(Transaction[Date])-ROW(Transaction[[#Headers],[Date]]))/((Transaction[Route]=AP$3)*(Transaction[Products]=Delivery_List!$D24)*(Transaction[Date]=Delivery_List!Select_Date)*(Transaction[Type]=\"เบิก\")),1)),\"\")","v":""},{"$f":"IF(AK24=\"\",\"\",INDEX(dProduct[Pcs/Unit],MATCH(Delivery_List!AK24,dProduct[NameTH],0)))","v":{"$error":"#N/A"}},{"$f":"IF(AH24=\"\",\"\",COUNT(AH$12:AH24))","v":""},"13-ขนมปังหมูหยองน้ำสลัด",null,null,{"$f":"IF(AK24=\"\",\"\",SUMPRODUCT((Transaction[Route]=AP$3)*(Transaction[Products]=AK24)*(Transaction[Type]=\"ยกมา\")*(Transaction[Date]=Delivery_List!Select_Date)*Transaction[Qty In-Out]))","v":0},{"$f":"IF(AH24=\"\",\"\",INDEX(Transaction[Qty In-Out],AH24))","v":""},null,null,{"$f":"IF(AK24=\"\",\"\",INDEX(dProduct[Catagory],MATCH(Delivery_List!AK24,dProduct[NameTH],0)))","v":{"$error":"#N/A"}},""]
[{"$f":"IFERROR(IF(COUNT($A$11:$A24)+1>COUNTIF(Transaction[Route],I$3),\"\",_xlfn.AGGREGATE(15,6,(ROW(Transaction[Date])-ROW(Transaction[[#Headers],[Date]]))/((Transaction[Route]=I$3)*(Transaction[Products]=Delivery_List!$D25)*(Transaction[Date]=Delivery_List!Select_Date)*(Transaction[Type]=\"เบิก\")),1)),\"\")","v":39},{"$f":"IF(D25=\"\",\"\",INDEX(dProduct[Pcs/Unit],MATCH(Delivery_List!D25,dProduct[NameTH],0)))","v":{"$error":"#N/A"}},{"$f":"IF(A25=\"\",\"\",COUNT(A$12:A25))","v":13},"14-ขนมปังไส้กรอก",null,null,{"$f":"IF(D25=\"\",\"\",SUMPRODUCT((Transaction[Route]=I$3)*(Transaction[Products]=D25)*(Transaction[Type]=\"ยกมา\")*(Transaction[Date]=Delivery_List!Select_Date)*Transaction[Qty In-Out]))","v":0},{"$f":"IF(A25=\"\",\"\",INDEX(Transaction[Qty In-Out],A25))","v":150},null,null,{"$f":"IF(D25=\"\",\"\",INDEX(dProduct[Catagory],MATCH(Delivery_List!D25,dProduct[NameTH],0)))","v":{"$error":"#N/A"}},{"$f":"IFERROR(IF(COUNT($A$11:$A24)+1>COUNTIF(Transaction[Route],T$3),\"\",_xlfn.AGGREGATE(15,6,(ROW(Transaction[Date])-ROW(Transaction[[#Headers],[Date]]))/((Transaction[Route]=T$3)*(Transaction[Products]=Delivery_List!$D25)*(Transaction[Date]=Delivery_List!Select_Date)*(Transaction[Type]=\"เบิก\")),1)),\"\")","v":""},{"$f":"IF(O25=\"\",\"\",INDEX(dProduct[Pcs/Unit],MATCH(Delivery_List!O25,dProduct[NameTH],0)))","v":{"$error":"#N/A"}},{"$f":"IF(L25=\"\",\"\",COUNT(L$12:L25))","v":""},"14-ขนมปังไส้กรอก",null,null,{"$f":"IF(O25=\"\",\"\",SUMPRODUCT((Transaction[Route]=T$3)*(Transaction[Products]=O25)*(Transaction[Type]=\"ยกมา\")*(Transaction[Date]=Delivery_List!Select_Date)*Transaction[Qty In-Out]))","v":0},{"$f":"IF(L25=\"\",\"\",INDEX(Transaction[Qty In-Out],L25))","v":""},null,null,{"$f":"IF(O25=\"\",\"\",INDEX(dProduct[Catagory],MATCH(Delivery_List!O25,dProduct[NameTH],0)))","v":{"$error":"#N/A"}},{"$f":"IFERROR(IF(COUNT($A$11:$A24)+1>COUNTIF(Transaction[Route],AE$3),\"\",_xlfn.AGGREGATE(15,6,(ROW(Transaction[Date])-ROW(Transaction[[#Headers],[Date]]))/((Transaction[Route]=AE$3)*(Transaction[Products]=Delivery_List!$D25)*(Transaction[Date]=Delivery_List!Select_Date)*(Transaction[Type]=\"เบิก\")),1)),\"\")","v":""},{"$f":"IF(Z25=\"\",\"\",INDEX(dProduct[Pcs/Unit],MATCH(Delivery_List!Z25,dProduct[NameTH],0)))","v":{"$error":"#N/A"}},{"$f":"IF(W25=\"\",\"\",COUNT(W$12:W25))","v":""},"14-ขนมปังไส้กรอก",null,null,{"$f":"IF(Z25=\"\",\"\",SUMPRODUCT((Transaction[Route]=AE$3)*(Transaction[Products]=Z25)*(Transaction[Type]=\"ยกมา\")*(Transaction[Date]=Delivery_List!Select_Date)*Transaction[Qty In-Out]))","v":0},{"$f":"IF(W25=\"\",\"\",INDEX(Transaction[Qty In-Out],W25))","v":""},null,null,{"$f":"IF(Z25=\"\",\"\",INDEX(dProduct[Catagory],MATCH(Delivery_List!Z25,dProduct[NameTH],0)))","v":{"$error":"#N/A"}},{"$f":"IFERROR(IF(COUNT($A$11:$A24)+1>COUNTIF(Transaction[Route],AP$3),\"\",_xlfn.AGGREGATE(15,6,(ROW(Transaction[Date])-ROW(Transaction[[#Headers],[Date]]))/((Transaction[Route]=AP$3)*(Transaction[Products]=Delivery_List!$D25)*(Transaction[Date]=Delivery_List!Select_Date)*(Transaction[Type]=\"เบิก\")),1)),\"\")","v":""},{"$f":"IF(AK25=\"\",\"\",INDEX(dProduct[Pcs/Unit],MATCH(Delivery_List!AK25,dProduct[NameTH],0)))","v":{"$error":"#N/A"}},{"$f":"IF(AH25=\"\",\"\",COUNT(AH$12:AH25))","v":""},"14-ขนมปังไส้กรอก",null,null,{"$f":"IF(AK25=\"\",\"\",SUMPRODUCT((Transaction[Route]=AP$3)*(Transaction[Products]=AK25)*(Transaction[Type]=\"ยกมา\")*(Transaction[Date]=Delivery_List!Select_Date)*Transaction[Qty In-Out]))","v":0},{"$f":"IF(AH25=\"\",\"\",INDEX(Transaction[Qty In-Out],AH25))","v":""},null,null,{"$f":"IF(AK25=\"\",\"\",INDEX(dProduct[Catagory],MATCH(Delivery_List!AK25,dProduct[NameTH],0)))","v":{"$error":"#N/A"}},""]
[{"$f":"IFERROR(IF(COUNT($A$11:$A25)+1>COUNTIF(Transaction[Route],I$3),\"\",_xlfn.AGGREGATE(15,6,(ROW(Transaction[Date])-ROW(Transaction[[#Headers],[Date]]))/((Transaction[Route]=I$3)*(Transaction[Products]=Delivery_List!$D26)*(Transaction[Date]=Delivery_List!Select_Date)*(Transaction[Type]=\"เบิก\")),1)),\"\")","v":40},{"$f":"IF(D26=\"\",\"\",INDEX(dProduct[Pcs/Unit],MATCH(Delivery_List!D26,dProduct[NameTH],0)))","v":{"$error":"#N/A"}},{"$f":"IF(A26=\"\",\"\",COUNT(A$12:A26))","v":14},"15-ขนมก้านบัว",null,null,{"$f":"IF(D26=\"\",\"\",SUMPRODUCT((Transaction[Route]=I$3)*(Transaction[Products]=D26)*(Transaction[Type]=\"ยกมา\")*(Transaction[Date]=Delivery_List!Select_Date)*Transaction[Qty In-Out]))","v":0},{"$f":"IF(A26=\"\",\"\",INDEX(Transaction[Qty In-Out],A26))","v":40},null,null,{"$f":"IF(D26=\"\",\"\",INDEX(dProduct[Catagory],MATCH(Delivery_List!D26,dProduct[NameTH],0)))","v":{"$error":"#N/A"}},{"$f":"IFERROR(IF(COUNT($A$11:$A25)+1>COUNTIF(Transaction[Route],T$3),\"\",_xlfn.AGGREGATE(15,6,(ROW(Transaction[Date])-ROW(Transaction[[#Headers],[Date]]))/((Transaction[Route]=T$3)*(Transaction[Products]=Delivery_List!$D26)*(Transaction[Date]=Delivery_List!Select_Date)*(Transaction[Type]=\"เบิก\")),1)),\"\")","v":""},{"$f":"IF(O26=\"\",\"\",INDEX(dProduct[Pcs/Unit],MATCH(Delivery_List!O26,dProduct[NameTH],0)))","v":{"$error":"#N/A"}},{"$f":"IF(L26=\"\",\"\",COUNT(L$12:L26))","v":""},"15-ขนมก้านบัว",null,null,{"$f":"IF(O26=\"\",\"\",SUMPRODUCT((Transaction[Route]=T$3)*(Transaction[Products]=O26)*(Transaction[Type]=\"ยกมา\")*(Transaction[Date]=Delivery_List!Select_Date)*Transaction[Qty In-Out]))","v":0},{"$f":"IF(L26=\"\",\"\",INDEX(Transaction[Qty In-Out],L26))","v":""},null,null,{"$f":"IF(O26=\"\",\"\",INDEX(dProduct[Catagory],MATCH(Delivery_List!O26,dProduct[NameTH],0)))","v":{"$error":"#N/A"}},{"$f":"IFERROR(IF(COUNT($A$11:$A25)+1>COUNTIF(Transaction[Route],AE$3),\"\",_xlfn.AGGREGATE(15,6,(ROW(Transaction[Date])-ROW(Transaction[[#Headers],[Date]]))/((Transaction[Route]=AE$3)*(Transaction[Products]=Delivery_List!$D26)*(Transaction[Date]=Delivery_List!Select_Date)*(Transaction[Type]=\"เบิก\")),1)),\"\")","v":""},{"$f":"IF(Z26=\"\",\"\",INDEX(dProduct[Pcs/Unit],MATCH(Delivery_List!Z26,dProduct[NameTH],0)))","v":{"$error":"#N/A"}},{"$f":"IF(W26=\"\",\"\",COUNT(W$12:W26))","v":""},"15-ขนมก้านบัว",null,null,{"$f":"IF(Z26=\"\",\"\",SUMPRODUCT((Transaction[Route]=AE$3)*(Transaction[Products]=Z26)*(Transaction[Type]=\"ยกมา\")*(Transaction[Date]=Delivery_List!Select_Date)*Transaction[Qty In-Out]))","v":0},{"$f":"IF(W26=\"\",\"\",INDEX(Transaction[Qty In-Out],W26))","v":""},null,null,{"$f":"IF(Z26=\"\",\"\",INDEX(dProduct[Catagory],MATCH(Delivery_List!Z26,dProduct[NameTH],0)))","v":{"$error":"#N/A"}},{"$f":"IFERROR(IF(COUNT($A$11:$A25)+1>COUNTIF(Transaction[Route],AP$3),\"\",_xlfn.AGGREGATE(15,6,(ROW(Transaction[Date])-ROW(Transaction[[#Headers],[Date]]))/((Transaction[Route]=AP$3)*(Transaction[Products]=Delivery_List!$D26)*(Transaction[Date]=Delivery_List!Select_Date)*(Transaction[Type]=\"เบิก\")),1)),\"\")","v":""},{"$f":"IF(AK26=\"\",\"\",INDEX(dProduct[Pcs/Unit],MATCH(Delivery_List!AK26,dProduct[NameTH],0)))","v":{"$error":"#N/A"}},{"$f":"IF(AH26=\"\",\"\",COUNT(AH$12:AH26))","v":""},"15-ขนมก้านบัว",null,null,{"$f":"IF(AK26=\"\",\"\",SUMPRODUCT((Transaction[Route]=AP$3)*(Transaction[Products]=AK26)*(Transaction[Type]=\"ยกมา\")*(Transaction[Date]=Delivery_List!Select_Date)*Transaction[Qty In-Out]))","v":0},{"$f":"IF(AH26=\"\",\"\",INDEX(Transaction[Qty In-Out],AH26))","v":""},null,null,{"$f":"IF(AK26=\"\",\"\",INDEX(dProduct[Catagory],MATCH(Delivery_List!AK26,dProduct[NameTH],0)))","v":{"$error":"#N/A"}},""]
[{"$f":"IFERROR(IF(COUNT($A$11:$A26)+1>COUNTIF(Transaction[Route],I$3),\"\",_xlfn.AGGREGATE(15,6,(ROW(Transaction[Date])-ROW(Transaction[[#Headers],[Date]]))/((Transaction[Route]=I$3)*(Transaction[Products]=Delivery_List!$D27)*(Transaction[Date]=Delivery_List!Select_Date)*(Transaction[Type]=\"เบิก\")),1)),\"\")","v":41},{"$f":"IF(D27=\"\",\"\",INDEX(dProduct[Pcs/Unit],MATCH(Delivery_List!D27,dProduct[NameTH],0)))","v":{"$error":"#N/A"}},{"$f":"IF(A27=\"\",\"\",COUNT(A$12:A27))","v":15},"16-ขนมปังไส้หมูหยองใหญ่",null,null,{"$f":"IF(D27=\"\",\"\",SUMPRODUCT((Transaction[Route]=I$3)*(Transaction[Products]=D27)*(Transaction[Type]=\"ยกมา\")*(Transaction[Date]=Delivery_List!Select_Date)*Transaction[Qty In-Out]))","v":0},{"$f":"IF(A27=\"\",\"\",INDEX(Transaction[Qty In-Out],A27))","v":60},null,null,{"$f":"IF(D27=\"\",\"\",INDEX(dProduct[Catagory],MATCH(Delivery_List!D27,dProduct[NameTH],0)))","v":{"$error":"#N/A"}},{"$f":"IFERROR(IF(COUNT($A$11:$A26)+1>COUNTIF(Transaction[Route],T$3),\"\",_xlfn.AGGREGATE(15,6,(ROW(Transaction[Date])-ROW(Transaction[[#Headers],[Date]]))/((Transaction[Route]=T$3)*(Transaction[Products]=Delivery_List!$D27)*(Transaction[Date]=Delivery_List!Select_Date)*(Transaction[Type]=\"เบิก\")),1)),\"\")","v":""},{"$f":"IF(O27=\"\",\"\",INDEX(dProduct[Pcs/Unit],MATCH(Delivery_List!O27,dProduct[NameTH],0)))","v":{"$error":"#N/A"}},{"$f":"IF(L27=\"\",\"\",COUNT(L$12:L27))","v":""},"16-ขนมปังไส้หมูหยองใหญ่",null,null,{"$f":"IF(O27=\"\",\"\",SUMPRODUCT((Transaction[Route]=T$3)*(Transaction[Products]=O27)*(Transaction[Type]=\"ยกมา\")*(Transaction[Date]=Delivery_List!Select_Date)*Transaction[Qty In-Out]))","v":0},{"$f":"IF(L27=\"\",\"\",INDEX(Transaction[Qty In-Out],L27))","v":""},null,null,{"$f":"IF(O27=\"\",\"\",INDEX(dProduct[Catagory],MATCH(Delivery_List!O27,dProduct[NameTH],0)))","v":{"$error":"#N/A"}},{"$f":"IFERROR(IF(COUNT($A$11:$A26)+1>COUNTIF(Transaction[Route],AE$3),\"\",_xlfn.AGGREGATE(15,6,(ROW(Transaction[Date])-ROW(Transaction[[#Headers],[Date]]))/((Transaction[Route]=AE$3)*(Transaction[Products]=Delivery_List!$D27)*(Transaction[Date]=Delivery_List!Select_Date)*(Transaction[Type]=\"เบิก\")),1)),\"\")","v":""},{"$f":"IF(Z27=\"\",\"\",INDEX(dProduct[Pcs/Unit],MATCH(Delivery_List!Z27,dProduct[NameTH],0)))","v":{"$error":"#N/A"}},{"$f":"IF(W27=\"\",\"\",COUNT(W$12:W27))","v":""},"16-ขนมปังไส้หมูหยองใหญ่",null,null,{"$f":"IF(Z27=\"\",\"\",SUMPRODUCT((Transaction[Route]=AE$3)*(Transaction[Products]=Z27)*(Transaction[Type]=\"ยกมา\")*(Transaction[Date]=Delivery_List!Select_Date)*Transaction[Qty In-Out]))","v":0},{"$f":"IF(W27=\"\",\"\",INDEX(Transaction[Qty In-Out],W27))","v":""},null,null,{"$f":"IF(Z27=\"\",\"\",INDEX(dProduct[Catagory],MATCH(Delivery_List!Z27,dProduct[NameTH],0)))","v":{"$error":"#N/A"}},{"$f":"IFERROR(IF(COUNT($A$11:$A26)+1>COUNTIF(Transaction[Route],AP$3),\"\",_xlfn.AGGREGATE(15,6,(ROW(Transaction[Date])-ROW(Transaction[[#Headers],[Date]]))/((Transaction[Route]=AP$3)*(Transaction[Products]=Delivery_List!$D27)*(Transaction[Date]=Delivery_List!Select_Date)*(Transaction[Type]=\"เบิก\")),1)),\"\")","v":""},{"$f":"IF(AK27=\"\",\"\",INDEX(dProduct[Pcs/Unit],MATCH(Delivery_List!AK27,dProduct[NameTH],0)))","v":{"$error":"#N/A"}},{"$f":"IF(AH27=\"\",\"\",COUNT(AH$12:AH27))","v":""},"16-ขนมปังไส้หมูหยองใหญ่",null,null,{"$f":"IF(AK27=\"\",\"\",SUMPRODUCT((Transaction[Route]=AP$3)*(Transaction[Products]=AK27)*(Transaction[Type]=\"ยกมา\")*(Transaction[Date]=Delivery_List!Select_Date)*Transaction[Qty In-Out]))","v":0},{"$f":"IF(AH27=\"\",\"\",INDEX(Transaction[Qty In-Out],AH27))","v":""},null,null,{"$f":"IF(AK27=\"\",\"\",INDEX(dProduct[Catagory],MATCH(Delivery_List!AK27,dProduct[NameTH],0)))","v":{"$error":"#N/A"}},""]
[{"$f":"IFERROR(IF(COUNT($A$11:$A27)+1>COUNTIF(Transaction[Route],I$3),\"\",_xlfn.AGGREGATE(15,6,(ROW(Transaction[Date])-ROW(Transaction[[#Headers],[Date]]))/((Transaction[Route]=I$3)*(Transaction[Products]=Delivery_List!$D28)*(Transaction[Date]=Delivery_List!Select_Date)*(Transaction[Type]=\"เบิก\")),1)),\"\")","v":42},{"$f":"IF(D28=\"\",\"\",INDEX(dProduct[Pcs/Unit],MATCH(Delivery_List!D28,dProduct[NameTH],0)))","v":{"$error":"#N/A"}},{"$f":"IF(A28=\"\",\"\",COUNT(A$12:A28))","v":16},"17-ขนมปังไส้ครีมสลัด",null,null,{"$f":"IF(D28=\"\",\"\",SUMPRODUCT((Transaction[Route]=I$3)*(Transaction[Products]=D28)*(Transaction[Type]=\"ยกมา\")*(Transaction[Date]=Delivery_List!Select_Date)*Transaction[Qty In-Out]))","v":0},{"$f":"IF(A28=\"\",\"\",INDEX(Transaction[Qty In-Out],A28))","v":50},null,null,{"$f":"IF(D28=\"\",\"\",INDEX(dProduct[Catagory],MATCH(Delivery_List!D28,dProduct[NameTH],0)))","v":{"$error":"#N/A"}},{"$f":"IFERROR(IF(COUNT($A$11:$A27)+1>COUNTIF(Transaction[Route],T$3),\"\",_xlfn.AGGREGATE(15,6,(ROW(Transaction[Date])-ROW(Transaction[[#Headers],[Date]]))/((Transaction[Route]=T$3)*(Transaction[Products]=Delivery_List!$D28)*(Transaction[Date]=Delivery_List!Select_Date)*(Transaction[Type]=\"เบิก\")),1)),\"\")","v":""},{"$f":"IF(O28=\"\",\"\",INDEX(dProduct[Pcs/Unit],MATCH(Delivery_List!O28,dProduct[NameTH],0)))","v":{"$error":"#N/A"}},{"$f":"IF(L28=\"\",\"\",COUNT(L$12:L28))","v":""},"17-ขนมปังไส้ครีมสลัด",null,null,{"$f":"IF(O28=\"\",\"\",SUMPRODUCT((Transaction[Route]=T$3)*(Transaction[Products]=O28)*(Transaction[Type]=\"ยกมา\")*(Transaction[Date]=Delivery_List!Select_Date)*Transaction[Qty In-Out]))","v":0},{"$f":"IF(L28=\"\",\"\",INDEX(Transaction[Qty In-Out],L28))","v":""},null,null,{"$f":"IF(O28=\"\",\"\",INDEX(dProduct[Catagory],MATCH(Delivery_List!O28,dProduct[NameTH],0)))","v":{"$error":"#N/A"}},{"$f":"IFERROR(IF(COUNT($A$11:$A27)+1>COUNTIF(Transaction[Route],AE$3),\"\",_xlfn.AGGREGATE(15,6,(ROW(Transaction[Date])-ROW(Transaction[[#Headers],[Date]]))/((Transaction[Route]=AE$3)*(Transaction[Products]=Delivery_List!$D28)*(Transaction[Date]=Delivery_List!Select_Date)*(Transaction[Type]=\"เบิก\")),1)),\"\")","v":""},{"$f":"IF(Z28=\"\",\"\",INDEX(dProduct[Pcs/Unit],MATCH(Delivery_List!Z28,dProduct[NameTH],0)))","v":{"$error":"#N/A"}},{"$f":"IF(W28=\"\",\"\",COUNT(W$12:W28))","v":""},"17-ขนมปังไส้ครีมสลัด",null,null,{"$f":"IF(Z28=\"\",\"\",SUMPRODUCT((Transaction[Route]=AE$3)*(Transaction[Products]=Z28)*(Transaction[Type]=\"ยกมา\")*(Transaction[Date]=Delivery_List!Select_Date)*Transaction[Qty In-Out]))","v":0},{"$f":"IF(W28=\"\",\"\",INDEX(Transaction[Qty In-Out],W28))","v":""},null,null,{"$f":"IF(Z28=\"\",\"\",INDEX(dProduct[Catagory],MATCH(Delivery_List!Z28,dProduct[NameTH],0)))","v":{"$error":"#N/A"}},{"$f":"IFERROR(IF(COUNT($A$11:$A27)+1>COUNTIF(Transaction[Route],AP$3),\"\",_xlfn.AGGREGATE(15,6,(ROW(Transaction[Date])-ROW(Transaction[[#Headers],[Date]]))/((Transaction[Route]=AP$3)*(Transaction[Products]=Delivery_List!$D28)*(Transaction[Date]=Delivery_List!Select_Date)*(Transaction[Type]=\"เบิก\")),1)),\"\")","v":""},{"$f":"IF(AK28=\"\",\"\",INDEX(dProduct[Pcs/Unit],MATCH(Delivery_List!AK28,dProduct[NameTH],0)))","v":{"$error":"#N/A"}},{"$f":"IF(AH28=\"\",\"\",COUNT(AH$12:AH28))","v":""},"17-ขนมปังไส้ครีมสลัด",null,null,{"$f":"IF(AK28=\"\",\"\",SUMPRODUCT((Transaction[Route]=AP$3)*(Transaction[Products]=AK28)*(Transaction[Type]=\"ยกมา\")*(Transaction[Date]=Delivery_List!Select_Date)*Transaction[Qty In-Out]))","v":0},{"$f":"IF(AH28=\"\",\"\",INDEX(Transaction[Qty In-Out],AH28))","v":""},null,null,{"$f":"IF(AK28=\"\",\"\",INDEX(dProduct[Catagory],MATCH(Delivery_List!AK28,dProduct[NameTH],0)))","v":{"$error":"#N/A"}},""]
[{"$f":"IFERROR(IF(COUNT($A$11:$A28)+1>COUNTIF(Transaction[Route],I$3),\"\",_xlfn.AGGREGATE(15,6,(ROW(Transaction[Date])-ROW(Transaction[[#Headers],[Date]]))/((Transaction[Route]=I$3)*(Transaction[Products]=Delivery_List!$D29)*(Transaction[Date]=Delivery_List!Select_Date)*(Transaction[Type]=\"เบิก\")),1)),\"\")","v":43},{"$f":"IF(D29=\"\",\"\",INDEX(dProduct[Pcs/Unit],MATCH(Delivery_List!D29,dProduct[NameTH],0)))","v":{"$error":"#N/A"}},{"$f":"IF(A29=\"\",\"\",COUNT(A$12:A29))","v":17},"18-ขนมปังไก่หยองน้ำสลัด",null,null,{"$f":"IF(D29=\"\",\"\",SUMPRODUCT((Transaction[Route]=I$3)*(Transaction[Products]=D29)*(Transaction[Type]=\"ยกมา\")*(Transaction[Date]=Delivery_List!Select_Date)*Transaction[Qty In-Out]))","v":0},{"$f":"IF(A29=\"\",\"\",INDEX(Transaction[Qty In-Out],A29))","v":60},null,null,{"$f":"IF(D29=\"\",\"\",INDEX(dProduct[Catagory],MATCH(Delivery_List!D29,dProduct[NameTH],0)))","v":{"$error":"#N/A"}},{"$f":"IFERROR(IF(COUNT($A$11:$A28)+1>COUNTIF(Transaction[Route],T$3),\"\",_xlfn.AGGREGATE(15,6,(ROW(Transaction[Date])-ROW(Transaction[[#Headers],[Date]]))/((Transaction[Route]=T$3)*(Transaction[Products]=Delivery_List!$D29)*(Transaction[Date]=Delivery_List!Select_Date)*(Transaction[Type]=\"เบิก\")),1)),\"\")","v":""},{"$f":"IF(O29=\"\",\"\",INDEX(dProduct[Pcs/Unit],MATCH(Delivery_List!O29,dProduct[NameTH],0)))","v":{"$error":"#N/A"}},{"$f":"IF(L29=\"\",\"\",COUNT(L$12:L29))","v":""},"18-ขนมปังไก่หยองน้ำสลัด",null,null,{"$f":"IF(O29=\"\",\"\",SUMPRODUCT((Transaction[Route]=T$3)*(Transaction[Products]=O29)*(Transaction[Type]=\"ยกมา\")*(Transaction[Date]=Delivery_List!Select_Date)*Transaction[Qty In-Out]))","v":0},{"$f":"IF(L29=\"\",\"\",INDEX(Transaction[Qty In-Out],L29))","v":""},null,null,{"$f":"IF(O29=\"\",\"\",INDEX(dProduct[Catagory],MATCH(Delivery_List!O29,dProduct[NameTH],0)))","v":{"$error":"#N/A"}},{"$f":"IFERROR(IF(COUNT($A$11:$A28)+1>COUNTIF(Transaction[Route],AE$3),\"\",_xlfn.AGGREGATE(15,6,(ROW(Transaction[Date])-ROW(Transaction[[#Headers],[Date]]))/((Transaction[Route]=AE$3)*(Transaction[Products]=Delivery_List!$D29)*(Transaction[Date]=Delivery_List!Select_Date)*(Transaction[Type]=\"เบิก\")),1)),\"\")","v":""},{"$f":"IF(Z29=\"\",\"\",INDEX(dProduct[Pcs/Unit],MATCH(Delivery_List!Z29,dProduct[NameTH],0)))","v":{"$error":"#N/A"}},{"$f":"IF(W29=\"\",\"\",COUNT(W$12:W29))","v":""},"18-ขนมปังไก่หยองน้ำสลัด",null,null,{"$f":"IF(Z29=\"\",\"\",SUMPRODUCT((Transaction[Route]=AE$3)*(Transaction[Products]=Z29)*(Transaction[Type]=\"ยกมา\")*(Transaction[Date]=Delivery_List!Select_Date)*Transaction[Qty In-Out]))","v":0},{"$f":"IF(W29=\"\",\"\",INDEX(Transaction[Qty In-Out],W29))","v":""},null,null,{"$f":"IF(Z29=\"\",\"\",INDEX(dProduct[Catagory],MATCH(Delivery_List!Z29,dProduct[NameTH],0)))","v":{"$error":"#N/A"}},{"$f":"IFERROR(IF(COUNT($A$11:$A28)+1>COUNTIF(Transaction[Route],AP$3),\"\",_xlfn.AGGREGATE(15,6,(ROW(Transaction[Date])-ROW(Transaction[[#Headers],[Date]]))/((Transaction[Route]=AP$3)*(Transaction[Products]=Delivery_List!$D29)*(Transaction[Date]=Delivery_List!Select_Date)*(Transaction[Type]=\"เบิก\")),1)),\"\")","v":""},{"$f":"IF(AK29=\"\",\"\",INDEX(dProduct[Pcs/Unit],MATCH(Delivery_List!AK29,dProduct[NameTH],0)))","v":{"$error":"#N/A"}},{"$f":"IF(AH29=\"\",\"\",COUNT(AH$12:AH29))","v":""},"18-ขนมปังไก่หยองน้ำสลัด",null,null,{"$f":"IF(AK29=\"\",\"\",SUMPRODUCT((Transaction[Route]=AP$3)*(Transaction[Products]=AK29)*(Transaction[Type]=\"ยกมา\")*(Transaction[Date]=Delivery_List!Select_Date)*Transaction[Qty In-Out]))","v":0},{"$f":"IF(AH29=\"\",\"\",INDEX(Transaction[Qty In-Out],AH29))","v":""},null,null,{"$f":"IF(AK29=\"\",\"\",INDEX(dProduct[Catagory],MATCH(Delivery_List!AK29,dProduct[NameTH],0)))","v":{"$error":"#N/A"}},""]
[{"$f":"IFERROR(IF(COUNT($A$11:$A29)+1>COUNTIF(Transaction[Route],I$3),\"\",_xlfn.AGGREGATE(15,6,(ROW(Transaction[Date])-ROW(Transaction[[#Headers],[Date]]))/((Transaction[Route]=I$3)*(Transaction[Products]=Delivery_List!$D30)*(Transaction[Date]=Delivery_List!Select_Date)*(Transaction[Type]=\"เบิก\")),1)),\"\")","v":44},{"$f":"IF(D30=\"\",\"\",INDEX(dProduct[Pcs/Unit],MATCH(Delivery_List!D30,dProduct[NameTH],0)))","v":{"$error":"#N/A"}},{"$f":"IF(A30=\"\",\"\",COUNT(A$12:A30))","v":18},"20-ปังกรอบเนยสด",null,null,{"$f":"IF(D30=\"\",\"\",SUMPRODUCT((Transaction[Route]=I$3)*(Transaction[Products]=D30)*(Transaction[Type]=\"ยกมา\")*(Transaction[Date]=Delivery_List!Select_Date)*Transaction[Qty In-Out]))","v":0},{"$f":"IF(A30=\"\",\"\",INDEX(Transaction[Qty In-Out],A30))","v":5},null,null,{"$f":"IF(D30=\"\",\"\",INDEX(dProduct[Catagory],MATCH(Delivery_List!D30,dProduct[NameTH],0)))","v":{"$error":"#N/A"}},{"$f":"IFERROR(IF(COUNT($A$11:$A29)+1>COUNTIF(Transaction[Route],T$3),\"\",_xlfn.AGGREGATE(15,6,(ROW(Transaction[Date])-ROW(Transaction[[#Headers],[Date]]))/((Transaction[Route]=T$3)*(Transaction[Products]=Delivery_List!$D30)*(Transaction[Date]=Delivery_List!Select_Date)*(Transaction[Type]=\"เบิก\")),1)),\"\")","v":""},{"$f":"IF(O30=\"\",\"\",INDEX(dProduct[Pcs/Unit],MATCH(Delivery_List!O30,dProduct[NameTH],0)))","v":{"$error":"#N/A"}},{"$f":"IF(L30=\"\",\"\",COUNT(L$12:L30))","v":""},"20-ปังกรอบเนยสด",null,null,{"$f":"IF(O30=\"\",\"\",SUMPRODUCT((Transaction[Route]=T$3)*(Transaction[Products]=O30)*(Transaction[Type]=\"ยกมา\")*(Transaction[Date]=Delivery_List!Select_Date)*Transaction[Qty In-Out]))","v":0},{"$f":"IF(L30=\"\",\"\",INDEX(Transaction[Qty In-Out],L30))","v":""},null,null,{"$f":"IF(O30=\"\",\"\",INDEX(dProduct[Catagory],MATCH(Delivery_List!O30,dProduct[NameTH],0)))","v":{"$error":"#N/A"}},{"$f":"IFERROR(IF(COUNT($A$11:$A29)+1>COUNTIF(Transaction[Route],AE$3),\"\",_xlfn.AGGREGATE(15,6,(ROW(Transaction[Date])-ROW(Transaction[[#Headers],[Date]]))/((Transaction[Route]=AE$3)*(Transaction[Products]=Delivery_List!$D30)*(Transaction[Date]=Delivery_List!Select_Date)*(Transaction[Type]=\"เบิก\")),1)),\"\")","v":""},{"$f":"IF(Z30=\"\",\"\",INDEX(dProduct[Pcs/Unit],MATCH(Delivery_List!Z30,dProduct[NameTH],0)))","v":{"$error":"#N/A"}},{"$f":"IF(W30=\"\",\"\",COUNT(W$12:W30))","v":""},"20-ปังกรอบเนยสด",null,null,{"$f":"IF(Z30=\"\",\"\",SUMPRODUCT((Transaction[Route]=AE$3)*(Transaction[Products]=Z30)*(Transaction[Type]=\"ยกมา\")*(Transaction[Date]=Delivery_List!Select_Date)*Transaction[Qty In-Out]))","v":0},{"$f":"IF(W30=\"\",\"\",INDEX(Transaction[Qty In-Out],W30))","v":""},null,null,{"$f":"IF(Z30=\"\",\"\",INDEX(dProduct[Catagory],MATCH(Delivery_List!Z30,dProduct[NameTH],0)))","v":{"$error":"#N/A"}},{"$f":"IFERROR(IF(COUNT($A$11:$A29)+1>COUNTIF(Transaction[Route],AP$3),\"\",_xlfn.AGGREGATE(15,6,(ROW(Transaction[Date])-ROW(Transaction[[#Headers],[Date]]))/((Transaction[Route]=AP$3)*(Transaction[Products]=Delivery_List!$D30)*(Transaction[Date]=Delivery_List!Select_Date)*(Transaction[Type]=\"เบิก\")),1)),\"\")","v":""},{"$f":"IF(AK30=\"\",\"\",INDEX(dProduct[Pcs/Unit],MATCH(Delivery_List!AK30,dProduct[NameTH],0)))","v":{"$error":"#N/A"}},{"$f":"IF(AH30=\"\",\"\",COUNT(AH$12:AH30))","v":""},"20-ปังกรอบเนยสด",null,null,{"$f":"IF(AK30=\"\",\"\",SUMPRODUCT((Transaction[Route]=AP$3)*(Transaction[Products]=AK30)*(Transaction[Type]=\"ยกมา\")*(Transaction[Date]=Delivery_List!Select_Date)*Transaction[Qty In-Out]))","v":0},{"$f":"IF(AH30=\"\",\"\",INDEX(Transaction[Qty In-Out],AH30))","v":""},null,null,{"$f":"IF(AK30=\"\",\"\",INDEX(dProduct[Catagory],MATCH(Delivery_List!AK30,dProduct[NameTH],0)))","v":{"$error":"#N/A"}},""]
[{"$f":"IFERROR(IF(COUNT($A$11:$A30)+1>COUNTIF(Transaction[Route],I$3),\"\",_xlfn.AGGREGATE(15,6,(ROW(Transaction[Date])-ROW(Transaction[[#Headers],[Date]]))/((Transaction[Route]=I$3)*(Transaction[Products]=Delivery_List!$D31)*(Transaction[Date]=Delivery_List!Select_Date)*(Transaction[Type]=\"เบิก\")),1)),\"\")","v":45},{"$f":"IF(D31=\"\",\"\",INDEX(dProduct[Pcs/Unit],MATCH(Delivery_List!D31,dProduct[NameTH],0)))","v":{"$error":"#N/A"}},{"$f":"IF(A31=\"\",\"\",COUNT(A$12:A31))","v":19},"21-ปังกรอบกระเทียม",null,null,{"$f":"IF(D31=\"\",\"\",SUMPRODUCT((Transaction[Route]=I$3)*(Transaction[Products]=D31)*(Transaction[Type]=\"ยกมา\")*(Transaction[Date]=Delivery_List!Select_Date)*Transaction[Qty In-Out]))","v":0},{"$f":"IF(A31=\"\",\"\",INDEX(Transaction[Qty In-Out],A31))","v":5},null,null,{"$f":"IF(D31=\"\",\"\",INDEX(dProduct[Catagory],MATCH(Delivery_List!D31,dProduct[NameTH],0)))","v":{"$error":"#N/A"}},{"$f":"IFERROR(IF(COUNT($A$11:$A30)+1>COUNTIF(Transaction[Route],T$3),\"\",_xlfn.AGGREGATE(15,6,(ROW(Transaction[Date])-ROW(Transaction[[#Headers],[Date]]))/((Transaction[Route]=T$3)*(Transaction[Products]=Delivery_List!$D31)*(Transaction[Date]=Delivery_List!Select_Date)*(Transaction[Type]=\"เบิก\")),1)),\"\")","v":""},{"$f":"IF(O31=\"\",\"\",INDEX(dProduct[Pcs/Unit],MATCH(Delivery_List!O31,dProduct[NameTH],0)))","v":{"$error":"#N/A"}},{"$f":"IF(L31=\"\",\"\",COUNT(L$12:L31))","v":""},"21-ปังกรอบกระเทียม",null,null,{"$f":"IF(O31=\"\",\"\",SUMPRODUCT((Transaction[Route]=T$3)*(Transaction[Products]=O31)*(Transaction[Type]=\"ยกมา\")*(Transaction[Date]=Delivery_List!Select_Date)*Transaction[Qty In-Out]))","v":0},{"$f":"IF(L31=\"\",\"\",INDEX(Transaction[Qty In-Out],L31))","v":""},null,null,{"$f":"IF(O31=\"\",\"\",INDEX(dProduct[Catagory],MATCH(Delivery_List!O31,dProduct[NameTH],0)))","v":{"$error":"#N/A"}},{"$f":"IFERROR(IF(COUNT($A$11:$A30)+1>COUNTIF(Transaction[Route],AE$3),\"\",_xlfn.AGGREGATE(15,6,(ROW(Transaction[Date])-ROW(Transaction[[#Headers],[Date]]))/((Transaction[Route]=AE$3)*(Transaction[Products]=Delivery_List!$D31)*(Transaction[Date]=Delivery_List!Select_Date)*(Transaction[Type]=\"เบิก\")),1)),\"\")","v":""},{"$f":"IF(Z31=\"\",\"\",INDEX(dProduct[Pcs/Unit],MATCH(Delivery_List!Z31,dProduct[NameTH],0)))","v":{"$error":"#N/A"}},{"$f":"IF(W31=\"\",\"\",COUNT(W$12:W31))","v":""},"21-ปังกรอบกระเทียม",null,null,{"$f":"IF(Z31=\"\",\"\",SUMPRODUCT((Transaction[Route]=AE$3)*(Transaction[Products]=Z31)*(Transaction[Type]=\"ยกมา\")*(Transaction[Date]=Delivery_List!Select_Date)*Transaction[Qty In-Out]))","v":0},{"$f":"IF(W31=\"\",\"\",INDEX(Transaction[Qty In-Out],W31))","v":""},null,null,{"$f":"IF(Z31=\"\",\"\",INDEX(dProduct[Catagory],MATCH(Delivery_List!Z31,dProduct[NameTH],0)))","v":{"$error":"#N/A"}},{"$f":"IFERROR(IF(COUNT($A$11:$A30)+1>COUNTIF(Transaction[Route],AP$3),\"\",_xlfn.AGGREGATE(15,6,(ROW(Transaction[Date])-ROW(Transaction[[#Headers],[Date]]))/((Transaction[Route]=AP$3)*(Transaction[Products]=Delivery_List!$D31)*(Transaction[Date]=Delivery_List!Select_Date)*(Transaction[Type]=\"เบิก\")),1)),\"\")","v":""},{"$f":"IF(AK31=\"\",\"\",INDEX(dProduct[Pcs/Unit],MATCH(Delivery_List!AK31,dProduct[NameTH],0)))","v":{"$error":"#N/A"}},{"$f":"IF(AH31=\"\",\"\",COUNT(AH$12:AH31))","v":""},"21-ปังกรอบกระเทียม",null,null,{"$f":"IF(AK31=\"\",\"\",SUMPRODUCT((Transaction[Route]=AP$3)*(Transaction[Products]=AK31)*(Transaction[Type]=\"ยกมา\")*(Transaction[Date]=Delivery_List!Select_Date)*Transaction[Qty In-Out]))","v":0},{"$f":"IF(AH31=\"\",\"\",INDEX(Transaction[Qty In-Out],AH31))","v":""},null,null,{"$f":"IF(AK31=\"\",\"\",INDEX(dProduct[Catagory],MATCH(Delivery_List!AK31,dProduct[NameTH],0)))","v":{"$error":"#N/A"}},""]
[{"$f":"IFERROR(IF(COUNT($A$11:$A31)+1>COUNTIF(Transaction[Route],I$3),\"\",_xlfn.AGGREGATE(15,6,(ROW(Transaction[Date])-ROW(Transaction[[#Headers],[Date]]))/((Transaction[Route]=I$3)*(Transaction[Products]=Delivery_List!$D32)*(Transaction[Date]=Delivery_List!Select_Date)*(Transaction[Type]=\"เบิก\")),1)),\"\")","v":46},{"$f":"IF(D32=\"\",\"\",INDEX(dProduct[Pcs/Unit],MATCH(Delivery_List!D32,dProduct[NameTH],0)))","v":{"$error":"#N/A"}},{"$f":"IF(A32=\"\",\"\",COUNT(A$12:A32))","v":20},"23-ขนมปังหมูหยองน้ำพริกเผา",null,null,{"$f":"IF(D32=\"\",\"\",SUMPRODUCT((Transaction[Route]=I$3)*(Transaction[Products]=D32)*(Transaction[Type]=\"ยกมา\")*(Transaction[Date]=Delivery_List!Select_Date)*Transaction[Qty In-Out]))","v":0},{"$f":"IF(A32=\"\",\"\",INDEX(Transaction[Qty In-Out],A32))","v":40},null,null,{"$f":"IF(D32=\"\",\"\",INDEX(dProduct[Catagory],MATCH(Delivery_List!D32,dProduct[NameTH],0)))","v":{"$error":"#N/A"}},{"$f":"IFERROR(IF(COUNT($A$11:$A31)+1>COUNTIF(Transaction[Route],T$3),\"\",_xlfn.AGGREGATE(15,6,(ROW(Transaction[Date])-ROW(Transaction[[#Headers],[Date]]))/((Transaction[Route]=T$3)*(Transaction[Products]=Delivery_List!$D32)*(Transaction[Date]=Delivery_List!Select_Date)*(Transaction[Type]=\"เบิก\")),1)),\"\")","v":""},{"$f":"IF(O32=\"\",\"\",INDEX(dProduct[Pcs/Unit],MATCH(Delivery_List!O32,dProduct[NameTH],0)))","v":{"$error":"#N/A"}},{"$f":"IF(L32=\"\",\"\",COUNT(L$12:L32))","v":""},"23-ขนมปังหมูหยองน้ำพริกเผา",null,null,{"$f":"IF(O32=\"\",\"\",SUMPRODUCT((Transaction[Route]=T$3)*(Transaction[Products]=O32)*(Transaction[Type]=\"ยกมา\")*(Transaction[Date]=Delivery_List!Select_Date)*Transaction[Qty In-Out]))","v":0},{"$f":"IF(L32=\"\",\"\",INDEX(Transaction[Qty In-Out],L32))","v":""},null,null,{"$f":"IF(O32=\"\",\"\",INDEX(dProduct[Catagory],MATCH(Delivery_List!O32,dProduct[NameTH],0)))","v":{"$error":"#N/A"}},{"$f":"IFERROR(IF(COUNT($A$11:$A31)+1>COUNTIF(Transaction[Route],AE$3),\"\",_xlfn.AGGREGATE(15,6,(ROW(Transaction[Date])-ROW(Transaction[[#Headers],[Date]]))/((Transaction[Route]=AE$3)*(Transaction[Products]=Delivery_List!$D32)*(Transaction[Date]=Delivery_List!Select_Date)*(Transaction[Type]=\"เบิก\")),1)),\"\")","v":""},{"$f":"IF(Z32=\"\",\"\",INDEX(dProduct[Pcs/Unit],MATCH(Delivery_List!Z32,dProduct[NameTH],0)))","v":{"$error":"#N/A"}},{"$f":"IF(W32=\"\",\"\",COUNT(W$12:W32))","v":""},"23-ขนมปังหมูหยองน้ำพริกเผา",null,null,{"$f":"IF(Z32=\"\",\"\",SUMPRODUCT((Transaction[Route]=AE$3)*(Transaction[Products]=Z32)*(Transaction[Type]=\"ยกมา\")*(Transaction[Date]=Delivery_List!Select_Date)*Transaction[Qty In-Out]))","v":0},{"$f":"IF(W32=\"\",\"\",INDEX(Transaction[Qty In-Out],W32))","v":""},null,null,{"$f":"IF(Z32=\"\",\"\",INDEX(dProduct[Catagory],MATCH(Delivery_List!Z32,dProduct[NameTH],0)))","v":{"$error":"#N/A"}},{"$f":"IFERROR(IF(COUNT($A$11:$A31)+1>COUNTIF(Transaction[Route],AP$3),\"\",_xlfn.AGGREGATE(15,6,(ROW(Transaction[Date])-ROW(Transaction[[#Headers],[Date]]))/((Transaction[Route]=AP$3)*(Transaction[Products]=Delivery_List!$D32)*(Transaction[Date]=Delivery_List!Select_Date)*(Transaction[Type]=\"เบิก\")),1)),\"\")","v":""},{"$f":"IF(AK32=\"\",\"\",INDEX(dProduct[Pcs/Unit],MATCH(Delivery_List!AK32,dProduct[NameTH],0)))","v":{"$error":"#N/A"}},{"$f":"IF(AH32=\"\",\"\",COUNT(AH$12:AH32))","v":""},"23-ขนมปังหมูหยองน้ำพริกเผา",null,null,{"$f":"IF(AK32=\"\",\"\",SUMPRODUCT((Transaction[Route]=AP$3)*(Transaction[Products]=AK32)*(Transaction[Type]=\"ยกมา\")*(Transaction[Date]=Delivery_List!Select_Date)*Transaction[Qty In-Out]))","v":0},{"$f":"IF(AH32=\"\",\"\",INDEX(Transaction[Qty In-Out],AH32))","v":""},null,null,{"$f":"IF(AK32=\"\",\"\",INDEX(dProduct[Catagory],MATCH(Delivery_List!AK32,dProduct[NameTH],0)))","v":{"$error":"#N/A"}},""]
[{"$f":"IFERROR(IF(COUNT($A$11:$A32)+1>COUNTIF(Transaction[Route],I$3),\"\",_xlfn.AGGREGATE(15,6,(ROW(Transaction[Date])-ROW(Transaction[[#Headers],[Date]]))/((Transaction[Route]=I$3)*(Transaction[Products]=Delivery_List!$D33)*(Transaction[Date]=Delivery_List!Select_Date)*(Transaction[Type]=\"เบิก\")),1)),\"\")","v":""},{"$f":"IF(D33=\"\",\"\",INDEX(dProduct[Pcs/Unit],MATCH(Delivery_List!D33,dProduct[NameTH],0)))","v":{"$error":"#N/A"}},{"$f":"IF(A33=\"\",\"\",COUNT(A$12:A33))","v":""},"28-ขนมปังชนิดแผ่น (460 กรัม)",null,null,{"$f":"IF(D33=\"\",\"\",SUMPRODUCT((Transaction[Route]=I$3)*(Transaction[Products]=D33)*(Transaction[Type]=\"ยกมา\")*(Transaction[Date]=Delivery_List!Select_Date)*Transaction[Qty In-Out]))","v":0},{"$f":"IF(A33=\"\",\"\",INDEX(Transaction[Qty In-Out],A33))","v":""},null,null,{"$f":"IF(D33=\"\",\"\",INDEX(dProduct[Catagory],MATCH(Delivery_List!D33,dProduct[NameTH],0)))","v":{"$error":"#N/A"}},{"$f":"IFERROR(IF(COUNT($A$11:$A32)+1>COUNTIF(Transaction[Route],T$3),\"\",_xlfn.AGGREGATE(15,6,(ROW(Transaction[Date])-ROW(Transaction[[#Headers],[Date]]))/((Transaction[Route]=T$3)*(Transaction[Products]=Delivery_List!$D33)*(Transaction[Date]=Delivery_List!Select_Date)*(Transaction[Type]=\"เบิก\")),1)),\"\")","v":""},{"$f":"IF(O33=\"\",\"\",INDEX(dProduct[Pcs/Unit],MATCH(Delivery_List!O33,dProduct[NameTH],0)))","v":{"$error":"#N/A"}},{"$f":"IF(L33=\"\",\"\",COUNT(L$12:L33))","v":""},"28-ขนมปังชนิดแผ่น (460 กรัม)",null,null,{"$f":"IF(O33=\"\",\"\",SUMPRODUCT((Transaction[Route]=T$3)*(Transaction[Products]=O33)*(Transaction[Type]=\"ยกมา\")*(Transaction[Date]=Delivery_List!Select_Date)*Transaction[Qty In-Out]))","v":0},{"$f":"IF(L33=\"\",\"\",INDEX(Transaction[Qty In-Out],L33))","v":""},null,null,{"$f":"IF(O33=\"\",\"\",INDEX(dProduct[Catagory],MATCH(Delivery_List!O33,dProduct[NameTH],0)))","v":{"$error":"#N/A"}},{"$f":"IFERROR(IF(COUNT($A$11:$A32)+1>COUNTIF(Transaction[Route],AE$3),\"\",_xlfn.AGGREGATE(15,6,(ROW(Transaction[Date])-ROW(Transaction[[#Headers],[Date]]))/((Transaction[Route]=AE$3)*(Transaction[Products]=Delivery_List!$D33)*(Transaction[Date]=Delivery_List!Select_Date)*(Transaction[Type]=\"เบิก\")),1)),\"\")","v":""},{"$f":"IF(Z33=\"\",\"\",INDEX(dProduct[Pcs/Unit],MATCH(Delivery_List!Z33,dProduct[NameTH],0)))","v":{"$error":"#N/A"}},{"$f":"IF(W33=\"\",\"\",COUNT(W$12:W33))","v":""},"28-ขนมปังชนิดแผ่น (460 กรัม)",null,null,{"$f":"IF(Z33=\"\",\"\",SUMPRODUCT((Transaction[Route]=AE$3)*(Transaction[Products]=Z33)*(Transaction[Type]=\"ยกมา\")*(Transaction[Date]=Delivery_List!Select_Date)*Transaction[Qty In-Out]))","v":0},{"$f":"IF(W33=\"\",\"\",INDEX(Transaction[Qty In-Out],W33))","v":""},null,null,{"$f":"IF(Z33=\"\",\"\",INDEX(dProduct[Catagory],MATCH(Delivery_List!Z33,dProduct[NameTH],0)))","v":{"$error":"#N/A"}},{"$f":"IFERROR(IF(COUNT($A$11:$A32)+1>COUNTIF(Transaction[Route],AP$3),\"\",_xlfn.AGGREGATE(15,6,(ROW(Transaction[Date])-ROW(Transaction[[#Headers],[Date]]))/((Transaction[Route]=AP$3)*(Transaction[Products]=Delivery_List!$D33)*(Transaction[Date]=Delivery_List!Select_Date)*(Transaction[Type]=\"เบิก\")),1)),\"\")","v":""},{"$f":"IF(AK33=\"\",\"\",INDEX(dProduct[Pcs/Unit],MATCH(Delivery_List!AK33,dProduct[NameTH],0)))","v":{"$error":"#N/A"}},{"$f":"IF(AH33=\"\",\"\",COUNT(AH$12:AH33))","v":""},"28-ขนมปังชนิดแผ่น (460 กรัม)",null,null,{"$f":"IF(AK33=\"\",\"\",SUMPRODUCT((Transaction[Route]=AP$3)*(Transaction[Products]=AK33)*(Transaction[Type]=\"ยกมา\")*(Transaction[Date]=Delivery_List!Select_Date)*Transaction[Qty In-Out]))","v":0},{"$f":"IF(AH33=\"\",\"\",INDEX(Transaction[Qty In-Out],AH33))","v":""},null,null,{"$f":"IF(AK33=\"\",\"\",INDEX(dProduct[Catagory],MATCH(Delivery_List!AK33,dProduct[NameTH],0)))","v":{"$error":"#N/A"}},""]
[{"$f":"IFERROR(IF(COUNT($A$11:$A33)+1>COUNTIF(Transaction[Route],I$3),\"\",_xlfn.AGGREGATE(15,6,(ROW(Transaction[Date])-ROW(Transaction[[#Headers],[Date]]))/((Transaction[Route]=I$3)*(Transaction[Products]=Delivery_List!$D34)*(Transaction[Date]=Delivery_List!Select_Date)*(Transaction[Type]=\"เบิก\")),1)),\"\")","v":47},{"$f":"IF(D34=\"\",\"\",INDEX(dProduct[Pcs/Unit],MATCH(Delivery_List!D34,dProduct[NameTH],0)))","v":{"$error":"#N/A"}},{"$f":"IF(A34=\"\",\"\",COUNT(A$12:A34))","v":21},"31-ขนมปังแผ่นหน้าเนยสด",null,null,{"$f":"IF(D34=\"\",\"\",SUMPRODUCT((Transaction[Route]=I$3)*(Transaction[Products]=D34)*(Transaction[Type]=\"ยกมา\")*(Transaction[Date]=Delivery_List!Select_Date)*Transaction[Qty In-Out]))","v":0},{"$f":"IF(A34=\"\",\"\",INDEX(Transaction[Qty In-Out],A34))","v":10},null,null,{"$f":"IF(D34=\"\",\"\",INDEX(dProduct[Catagory],MATCH(Delivery_List!D34,dProduct[NameTH],0)))","v":{"$error":"#N/A"}},{"$f":"IFERROR(IF(COUNT($A$11:$A33)+1>COUNTIF(Transaction[Route],T$3),\"\",_xlfn.AGGREGATE(15,6,(ROW(Transaction[Date])-ROW(Transaction[[#Headers],[Date]]))/((Transaction[Route]=T$3)*(Transaction[Products]=Delivery_List!$D34)*(Transaction[Date]=Delivery_List!Select_Date)*(Transaction[Type]=\"เบิก\")),1)),\"\")","v":""},{"$f":"IF(O34=\"\",\"\",INDEX(dProduct[Pcs/Unit],MATCH(Delivery_List!O34,dProduct[NameTH],0)))","v":{"$error":"#N/A"}},{"$f":"IF(L34=\"\",\"\",COUNT(L$12:L34))","v":""},"31-ขนมปังแผ่นหน้าเนยสด",null,null,{"$f":"IF(O34=\"\",\"\",SUMPRODUCT((Transaction[Route]=T$3)*(Transaction[Products]=O34)*(Transaction[Type]=\"ยกมา\")*(Transaction[Date]=Delivery_List!Select_Date)*Transaction[Qty In-Out]))","v":0},{"$f":"IF(L34=\"\",\"\",INDEX(Transaction[Qty In-Out],L34))","v":""},null,null,{"$f":"IF(O34=\"\",\"\",INDEX(dProduct[Catagory],MATCH(Delivery_List!O34,dProduct[NameTH],0)))","v":{"$error":"#N/A"}},{"$f":"IFERROR(IF(COUNT($A$11:$A33)+1>COUNTIF(Transaction[Route],AE$3),\"\",_xlfn.AGGREGATE(15,6,(ROW(Transaction[Date])-ROW(Transaction[[#Headers],[Date]]))/((Transaction[Route]=AE$3)*(Transaction[Products]=Delivery_List!$D34)*(Transaction[Date]=Delivery_List!Select_Date)*(Transaction[Type]=\"เบิก\")),1)),\"\")","v":""},{"$f":"IF(Z34=\"\",\"\",INDEX(dProduct[Pcs/Unit],MATCH(Delivery_List!Z34,dProduct[NameTH],0)))","v":{"$error":"#N/A"}},{"$f":"IF(W34=\"\",\"\",COUNT(W$12:W34))","v":""},"31-ขนมปังแผ่นหน้าเนยสด",null,null,{"$f":"IF(Z34=\"\",\"\",SUMPRODUCT((Transaction[Route]=AE$3)*(Transaction[Products]=Z34)*(Transaction[Type]=\"ยกมา\")*(Transaction[Date]=Delivery_List!Select_Date)*Transaction[Qty In-Out]))","v":0},{"$f":"IF(W34=\"\",\"\",INDEX(Transaction[Qty In-Out],W34))","v":""},null,null,{"$f":"IF(Z34=\"\",\"\",INDEX(dProduct[Catagory],MATCH(Delivery_List!Z34,dProduct[NameTH],0)))","v":{"$error":"#N/A"}},{"$f":"IFERROR(IF(COUNT($A$11:$A33)+1>COUNTIF(Transaction[Route],AP$3),\"\",_xlfn.AGGREGATE(15,6,(ROW(Transaction[Date])-ROW(Transaction[[#Headers],[Date]]))/((Transaction[Route]=AP$3)*(Transaction[Products]=Delivery_List!$D34)*(Transaction[Date]=Delivery_List!Select_Date)*(Transaction[Type]=\"เบิก\")),1)),\"\")","v":""},{"$f":"IF(AK34=\"\",\"\",INDEX(dProduct[Pcs/Unit],MATCH(Delivery_List!AK34,dProduct[NameTH],0)))","v":{"$error":"#N/A"}},{"$f":"IF(AH34=\"\",\"\",COUNT(AH$12:AH34))","v":""},"31-ขนมปังแผ่นหน้าเนยสด",null,null,{"$f":"IF(AK34=\"\",\"\",SUMPRODUCT((Transaction[Route]=AP$3)*(Transaction[Products]=AK34)*(Transaction[Type]=\"ยกมา\")*(Transaction[Date]=Delivery_List!Select_Date)*Transaction[Qty In-Out]))","v":0},{"$f":"IF(AH34=\"\",\"\",INDEX(Transaction[Qty In-Out],AH34))","v":""},null,null,{"$f":"IF(AK34=\"\",\"\",INDEX(dProduct[Catagory],MATCH(Delivery_List!AK34,dProduct[NameTH],0)))","v":{"$error":"#N/A"}},""]
[{"$f":"IFERROR(IF(COUNT($A$11:$A34)+1>COUNTIF(Transaction[Route],I$3),\"\",_xlfn.AGGREGATE(15,6,(ROW(Transaction[Date])-ROW(Transaction[[#Headers],[Date]]))/((Transaction[Route]=I$3)*(Transaction[Products]=Delivery_List!$D35)*(Transaction[Date]=Delivery_List!Select_Date)*(Transaction[Type]=\"เบิก\")),1)),\"\")","v":48},{"$f":"IF(D35=\"\",\"\",INDEX(dProduct[Pcs/Unit],MATCH(Delivery_List!D35,dProduct[NameTH],0)))","v":{"$error":"#N/A"}},{"$f":"IF(A35=\"\",\"\",COUNT(A$12:A35))","v":22},"38-ขนมปังพิซซ่าปูอัดแฮม",null,null,{"$f":"IF(D35=\"\",\"\",SUMPRODUCT((Transaction[Route]=I$3)*(Transaction[Products]=D35)*(Transaction[Type]=\"ยกมา\")*(Transaction[Date]=Delivery_List!Select_Date)*Transaction[Qty In-Out]))","v":0},{"$f":"IF(A35=\"\",\"\",INDEX(Transaction[Qty In-Out],A35))","v":20},null,null,{"$f":"IF(D35=\"\",\"\",INDEX(dProduct[Catagory],MATCH(Delivery_List!D35,dProduct[NameTH],0)))","v":{"$error":"#N/A"}},{"$f":"IFERROR(IF(COUNT($A$11:$A34)+1>COUNTIF(Transaction[Route],T$3),\"\",_xlfn.AGGREGATE(15,6,(ROW(Transaction[Date])-ROW(Transaction[[#Headers],[Date]]))/((Transaction[Route]=T$3)*(Transaction[Products]=Delivery_List!$D35)*(Transaction[Date]=Delivery_List!Select_Date)*(Transaction[Type]=\"เบิก\")),1)),\"\")","v":""},{"$f":"IF(O35=\"\",\"\",INDEX(dProduct[Pcs/Unit],MATCH(Delivery_List!O35,dProduct[NameTH],0)))","v":{"$error":"#N/A"}},{"$f":"IF(L35=\"\",\"\",COUNT(L$12:L35))","v":""},"38-ขนมปังพิซซ่าปูอัดแฮม",null,null,{"$f":"IF(O35=\"\",\"\",SUMPRODUCT((Transaction[Route]=T$3)*(Transaction[Products]=O35)*(Transaction[Type]=\"ยกมา\")*(Transaction[Date]=Delivery_List!Select_Date)*Transaction[Qty In-Out]))","v":0},{"$f":"IF(L35=\"\",\"\",INDEX(Transaction[Qty In-Out],L35))","v":""},null,null,{"$f":"IF(O35=\"\",\"\",INDEX(dProduct[Catagory],MATCH(Delivery_List!O35,dProduct[NameTH],0)))","v":{"$error":"#N/A"}},{"$f":"IFERROR(IF(COUNT($A$11:$A34)+1>COUNTIF(Transaction[Route],AE$3),\"\",_xlfn.AGGREGATE(15,6,(ROW(Transaction[Date])-ROW(Transaction[[#Headers],[Date]]))/((Transaction[Route]=AE$3)*(Transaction[Products]=Delivery_List!$D35)*(Transaction[Date]=Delivery_List!Select_Date)*(Transaction[Type]=\"เบิก\")),1)),\"\")","v":""},{"$f":"IF(Z35=\"\",\"\",INDEX(dProduct[Pcs/Unit],MATCH(Delivery_List!Z35,dProduct[NameTH],0)))","v":{"$error":"#N/A"}},{"$f":"IF(W35=\"\",\"\",COUNT(W$12:W35))","v":""},"38-ขนมปังพิซซ่าปูอัดแฮม",null,null,{"$f":"IF(Z35=\"\",\"\",SUMPRODUCT((Transaction[Route]=AE$3)*(Transaction[Products]=Z35)*(Transaction[Type]=\"ยกมา\")*(Transaction[Date]=Delivery_List!Select_Date)*Transaction[Qty In-Out]))","v":0},{"$f":"IF(W35=\"\",\"\",INDEX(Transaction[Qty In-Out],W35))","v":""},null,null,{"$f":"IF(Z35=\"\",\"\",INDEX(dProduct[Catagory],MATCH(Delivery_List!Z35,dProduct[NameTH],0)))","v":{"$error":"#N/A"}},{"$f":"IFERROR(IF(COUNT($A$11:$A34)+1>COUNTIF(Transaction[Route],AP$3),\"\",_xlfn.AGGREGATE(15,6,(ROW(Transaction[Date])-ROW(Transaction[[#Headers],[Date]]))/((Transaction[Route]=AP$3)*(Transaction[Products]=Delivery_List!$D35)*(Transaction[Date]=Delivery_List!Select_Date)*(Transaction[Type]=\"เบิก\")),1)),\"\")","v":""},{"$f":"IF(AK35=\"\",\"\",INDEX(dProduct[Pcs/Unit],MATCH(Delivery_List!AK35,dProduct[NameTH],0)))","v":{"$error":"#N/A"}},{"$f":"IF(AH35=\"\",\"\",COUNT(AH$12:AH35))","v":""},"38-ขนมปังพิซซ่าปูอัดแฮม",null,null,{"$f":"IF(AK35=\"\",\"\",SUMPRODUCT((Transaction[Route]=AP$3)*(Transaction[Products]=AK35)*(Transaction[Type]=\"ยกมา\")*(Transaction[Date]=Delivery_List!Select_Date)*Transaction[Qty In-Out]))","v":0},{"$f":"IF(AH35=\"\",\"\",INDEX(Transaction[Qty In-Out],AH35))","v":""},null,null,{"$f":"IF(AK35=\"\",\"\",INDEX(dProduct[Catagory],MATCH(Delivery_List!AK35,dProduct[NameTH],0)))","v":{"$error":"#N/A"}},""]
[{"$f":"IFERROR(IF(COUNT($A$11:$A35)+1>COUNTIF(Transaction[Route],I$3),\"\",_xlfn.AGGREGATE(15,6,(ROW(Transaction[Date])-ROW(Transaction[[#Headers],[Date]]))/((Transaction[Route]=I$3)*(Transaction[Products]=Delivery_List!$D36)*(Transaction[Date]=Delivery_List!Select_Date)*(Transaction[Type]=\"เบิก\")),1)),\"\")","v":49},{"$f":"IF(D36=\"\",\"\",INDEX(dProduct[Pcs/Unit],MATCH(Delivery_List!D36,dProduct[NameTH],0)))","v":{"$error":"#N/A"}},{"$f":"IF(A36=\"\",\"\",COUNT(A$12:A36))","v":23},"39-ขนมปังไส้กรอกคอกเทลหมู",null,null,{"$f":"IF(D36=\"\",\"\",SUMPRODUCT((Transaction[Route]=I$3)*(Transaction[Products]=D36)*(Transaction[Type]=\"ยกมา\")*(Transaction[Date]=Delivery_List!Select_Date)*Transaction[Qty In-Out]))","v":0},{"$f":"IF(A36=\"\",\"\",INDEX(Transaction[Qty In-Out],A36))","v":10},null,null,{"$f":"IF(D36=\"\",\"\",INDEX(dProduct[Catagory],MATCH(Delivery_List!D36,dProduct[NameTH],0)))","v":{"$error":"#N/A"}},{"$f":"IFERROR(IF(COUNT($A$11:$A35)+1>COUNTIF(Transaction[Route],T$3),\"\",_xlfn.AGGREGATE(15,6,(ROW(Transaction[Date])-ROW(Transaction[[#Headers],[Date]]))/((Transaction[Route]=T$3)*(Transaction[Products]=Delivery_List!$D36)*(Transaction[Date]=Delivery_List!Select_Date)*(Transaction[Type]=\"เบิก\")),1)),\"\")","v":""},{"$f":"IF(O36=\"\",\"\",INDEX(dProduct[Pcs/Unit],MATCH(Delivery_List!O36,dProduct[NameTH],0)))","v":{"$error":"#N/A"}},{"$f":"IF(L36=\"\",\"\",COUNT(L$12:L36))","v":""},"39-ขนมปังไส้กรอกคอกเทลหมู",null,null,{"$f":"IF(O36=\"\",\"\",SUMPRODUCT((Transaction[Route]=T$3)*(Transaction[Products]=O36)*(Transaction[Type]=\"ยกมา\")*(Transaction[Date]=Delivery_List!Select_Date)*Transaction[Qty In-Out]))","v":0},{"$f":"IF(L36=\"\",\"\",INDEX(Transaction[Qty In-Out],L36))","v":""},null,null,{"$f":"IF(O36=\"\",\"\",INDEX(dProduct[Catagory],MATCH(Delivery_List!O36,dProduct[NameTH],0)))","v":{"$error":"#N/A"}},{"$f":"IFERROR(IF(COUNT($A$11:$A35)+1>COUNTIF(Transaction[Route],AE$3),\"\",_xlfn.AGGREGATE(15,6,(ROW(Transaction[Date])-ROW(Transaction[[#Headers],[Date]]))/((Transaction[Route]=AE$3)*(Transaction[Products]=Delivery_List!$D36)*(Transaction[Date]=Delivery_List!Select_Date)*(Transaction[Type]=\"เบิก\")),1)),\"\")","v":""},{"$f":"IF(Z36=\"\",\"\",INDEX(dProduct[Pcs/Unit],MATCH(Delivery_List!Z36,dProduct[NameTH],0)))","v":{"$error":"#N/A"}},{"$f":"IF(W36=\"\",\"\",COUNT(W$12:W36))","v":""},"39-ขนมปังไส้กรอกคอกเทลหมู",null,null,{"$f":"IF(Z36=\"\",\"\",SUMPRODUCT((Transaction[Route]=AE$3)*(Transaction[Products]=Z36)*(Transaction[Type]=\"ยกมา\")*(Transaction[Date]=Delivery_List!Select_Date)*Transaction[Qty In-Out]))","v":0},{"$f":"IF(W36=\"\",\"\",INDEX(Transaction[Qty In-Out],W36))","v":""},null,null,{"$f":"IF(Z36=\"\",\"\",INDEX(dProduct[Catagory],MATCH(Delivery_List!Z36,dProduct[NameTH],0)))","v":{"$error":"#N/A"}},{"$f":"IFERROR(IF(COUNT($A$11:$A35)+1>COUNTIF(Transaction[Route],AP$3),\"\",_xlfn.AGGREGATE(15,6,(ROW(Transaction[Date])-ROW(Transaction[[#Headers],[Date]]))/((Transaction[Route]=AP$3)*(Transaction[Products]=Delivery_List!$D36)*(Transaction[Date]=Delivery_List!Select_Date)*(Transaction[Type]=\"เบิก\")),1)),\"\")","v":""},{"$f":"IF(AK36=\"\",\"\",INDEX(dProduct[Pcs/Unit],MATCH(Delivery_List!AK36,dProduct[NameTH],0)))","v":{"$error":"#N/A"}},{"$f":"IF(AH36=\"\",\"\",COUNT(AH$12:AH36))","v":""},"39-ขนมปังไส้กรอกคอกเทลหมู",null,null,{"$f":"IF(AK36=\"\",\"\",SUMPRODUCT((Transaction[Route]=AP$3)*(Transaction[Products]=AK36)*(Transaction[Type]=\"ยกมา\")*(Transaction[Date]=Delivery_List!Select_Date)*Transaction[Qty In-Out]))","v":0},{"$f":"IF(AH36=\"\",\"\",INDEX(Transaction[Qty In-Out],AH36))","v":""},null,null,{"$f":"IF(AK36=\"\",\"\",INDEX(dProduct[Catagory],MATCH(Delivery_List!AK36,dProduct[NameTH],0)))","v":{"$error":"#N/A"}},""]
[{"$f":"IFERROR(IF(COUNT($A$11:$A36)+1>COUNTIF(Transaction[Route],I$3),\"\",_xlfn.AGGREGATE(15,6,(ROW(Transaction[Date])-ROW(Transaction[[#Headers],[Date]]))/((Transaction[Route]=I$3)*(Transaction[Products]=Delivery_List!$D37)*(Transaction[Date]=Delivery_List!Select_Date)*(Transaction[Type]=\"เบิก\")),1)),\"\")","v":""},{"$f":"IF(D37=\"\",\"\",INDEX(dProduct[Pcs/Unit],MATCH(Delivery_List!D37,dProduct[NameTH],0)))","v":""},{"$f":"IF(A37=\"\",\"\",COUNT(A$12:A37))","v":""},null,null,null,{"$f":"IF(D37=\"\",\"\",SUMPRODUCT((Transaction[Route]=I$3)*(Transaction[Products]=D37)*(Transaction[Type]=\"ยกมา\")*(Transaction[Date]=Delivery_List!Select_Date)*Transaction[Qty In-Out]))","v":""},{"$f":"IF(A37=\"\",\"\",INDEX(Transaction[Qty In-Out],A37))","v":""},null,null,{"$f":"IF(D37=\"\",\"\",INDEX(dProduct[Catagory],MATCH(Delivery_List!D37,dProduct[NameTH],0)))","v":""},{"$f":"IFERROR(IF(COUNT($A$11:$A36)+1>COUNTIF(Transaction[Route],T$3),\"\",_xlfn.AGGREGATE(15,6,(ROW(Transaction[Date])-ROW(Transaction[[#Headers],[Date]]))/((Transaction[Route]=T$3)*(Transaction[Products]=Delivery_List!$D37)*(Transaction[Date]=Delivery_List!Select_Date)*(Transaction[Type]=\"เบิก\")),1)),\"\")","v":""},{"$f":"IF(O37=\"\",\"\",INDEX(dProduct[Pcs/Unit],MATCH(Delivery_List!O37,dProduct[NameTH],0)))","v":""},{"$f":"IF(L37=\"\",\"\",COUNT(L$12:L37))","v":""},"",null,null,{"$f":"IF(O37=\"\",\"\",SUMPRODUCT((Transaction[Route]=T$3)*(Transaction[Products]=O37)*(Transaction[Type]=\"ยกมา\")*(Transaction[Date]=Delivery_List!Select_Date)*Transaction[Qty In-Out]))","v":""},{"$f":"IF(L37=\"\",\"\",INDEX(Transaction[Qty In-Out],L37))","v":""},null,null,{"$f":"IF(O37=\"\",\"\",INDEX(dProduct[Catagory],MATCH(Delivery_List!O37,dProduct[NameTH],0)))","v":""},{"$f":"IFERROR(IF(COUNT($A$11:$A36)+1>COUNTIF(Transaction[Route],AE$3),\"\",_xlfn.AGGREGATE(15,6,(ROW(Transaction[Date])-ROW(Transaction[[#Headers],[Date]]))/((Transaction[Route]=AE$3)*(Transaction[Products]=Delivery_List!$D37)*(Transaction[Date]=Delivery_List!Select_Date)*(Transaction[Type]=\"เบิก\")),1)),\"\")","v":""},{"$f":"IF(Z37=\"\",\"\",INDEX(dProduct[Pcs/Unit],MATCH(Delivery_List!Z37,dProduct[NameTH],0)))","v":""},{"$f":"IF(W37=\"\",\"\",COUNT(W$12:W37))","v":""},"",null,null,{"$f":"IF(Z37=\"\",\"\",SUMPRODUCT((Transaction[Route]=AE$3)*(Transaction[Products]=Z37)*(Transaction[Type]=\"ยกมา\")*(Transaction[Date]=Delivery_List!Select_Date)*Transaction[Qty In-Out]))","v":""},{"$f":"IF(W37=\"\",\"\",INDEX(Transaction[Qty In-Out],W37))","v":""},null,null,{"$f":"IF(Z37=\"\",\"\",INDEX(dProduct[Catagory],MATCH(Delivery_List!Z37,dProduct[NameTH],0)))","v":""},{"$f":"IFERROR(IF(COUNT($A$11:$A36)+1>COUNTIF(Transaction[Route],AP$3),\"\",_xlfn.AGGREGATE(15,6,(ROW(Transaction[Date])-ROW(Transaction[[#Headers],[Date]]))/((Transaction[Route]=AP$3)*(Transaction[Products]=Delivery_List!$D37)*(Transaction[Date]=Delivery_List!Select_Date)*(Transaction[Type]=\"เบิก\")),1)),\"\")","v":""},{"$f":"IF(AK37=\"\",\"\",INDEX(dProduct[Pcs/Unit],MATCH(Delivery_List!AK37,dProduct[NameTH],0)))","v":""},{"$f":"IF(AH37=\"\",\"\",COUNT(AH$12:AH37))","v":""},"",null,null,{"$f":"IF(AK37=\"\",\"\",SUMPRODUCT((Transaction[Route]=AP$3)*(Transaction[Products]=AK37)*(Transaction[Type]=\"ยกมา\")*(Transaction[Date]=Delivery_List!Select_Date)*Transaction[Qty In-Out]))","v":""},{"$f":"IF(AH37=\"\",\"\",INDEX(Transaction[Qty In-Out],AH37))","v":""},null,null,{"$f":"IF(AK37=\"\",\"\",INDEX(dProduct[Catagory],MATCH(Delivery_List!AK37,dProduct[NameTH],0)))","v":""},""]
[{"$f":"IFERROR(IF(COUNT($A$11:$A37)+1>COUNTIF(Transaction[Route],I$3),\"\",_xlfn.AGGREGATE(15,6,(ROW(Transaction[Date])-ROW(Transaction[[#Headers],[Date]]))/((Transaction[Route]=I$3)*(Transaction[Products]=Delivery_List!$D38)*(Transaction[Date]=Delivery_List!Select_Date)*(Transaction[Type]=\"เบิก\")),1)),\"\")","v":""},{"$f":"IF(D38=\"\",\"\",INDEX(dProduct[Pcs/Unit],MATCH(Delivery_List!D38,dProduct[NameTH],0)))","v":""},{"$f":"IF(A38=\"\",\"\",COUNT(A$12:A38))","v":""},null,null,null,{"$f":"IF(D38=\"\",\"\",SUMPRODUCT((Transaction[Route]=I$3)*(Transaction[Products]=D38)*(Transaction[Type]=\"ยกมา\")*(Transaction[Date]=Delivery_List!Select_Date)*Transaction[Qty In-Out]))","v":""},{"$f":"IF(A38=\"\",\"\",INDEX(Transaction[Qty In-Out],A38))","v":""},null,null,{"$f":"IF(D38=\"\",\"\",INDEX(dProduct[Catagory],MATCH(Delivery_List!D38,dProduct[NameTH],0)))","v":""},{"$f":"IFERROR(IF(COUNT($A$11:$A37)+1>COUNTIF(Transaction[Route],T$3),\"\",_xlfn.AGGREGATE(15,6,(ROW(Transaction[Date])-ROW(Transaction[[#Headers],[Date]]))/((Transaction[Route]=T$3)*(Transaction[Products]=Delivery_List!$D38)*(Transaction[Date]=Delivery_List!Select_Date)*(Transaction[Type]=\"เบิก\")),1)),\"\")","v":""},{"$f":"IF(O38=\"\",\"\",INDEX(dProduct[Pcs/Unit],MATCH(Delivery_List!O38,dProduct[NameTH],0)))","v":""},{"$f":"IF(L38=\"\",\"\",COUNT(L$12:L38))","v":""},"",null,null,{"$f":"IF(O38=\"\",\"\",SUMPRODUCT((Transaction[Route]=T$3)*(Transaction[Products]=O38)*(Transaction[Type]=\"ยกมา\")*(Transaction[Date]=Delivery_List!Select_Date)*Transaction[Qty In-Out]))","v":""},{"$f":"IF(L38=\"\",\"\",INDEX(Transaction[Qty In-Out],L38))","v":""},null,null,{"$f":"IF(O38=\"\",\"\",INDEX(dProduct[Catagory],MATCH(Delivery_List!O38,dProduct[NameTH],0)))","v":""},{"$f":"IFERROR(IF(COUNT($A$11:$A37)+1>COUNTIF(Transaction[Route],AE$3),\"\",_xlfn.AGGREGATE(15,6,(ROW(Transaction[Date])-ROW(Transaction[[#Headers],[Date]]))/((Transaction[Route]=AE$3)*(Transaction[Products]=Delivery_List!$D38)*(Transaction[Date]=Delivery_List!Select_Date)*(Transaction[Type]=\"เบิก\")),1)),\"\")","v":""},{"$f":"IF(Z38=\"\",\"\",INDEX(dProduct[Pcs/Unit],MATCH(Delivery_List!Z38,dProduct[NameTH],0)))","v":""},{"$f":"IF(W38=\"\",\"\",COUNT(W$12:W38))","v":""},"",null,null,{"$f":"IF(Z38=\"\",\"\",SUMPRODUCT((Transaction[Route]=AE$3)*(Transaction[Products]=Z38)*(Transaction[Type]=\"ยกมา\")*(Transaction[Date]=Delivery_List!Select_Date)*Transaction[Qty In-Out]))","v":""},{"$f":"IF(W38=\"\",\"\",INDEX(Transaction[Qty In-Out],W38))","v":""},null,null,{"$f":"IF(Z38=\"\",\"\",INDEX(dProduct[Catagory],MATCH(Delivery_List!Z38,dProduct[NameTH],0)))","v":""},{"$f":"IFERROR(IF(COUNT($A$11:$A37)+1>COUNTIF(Transaction[Route],AP$3),\"\",_xlfn.AGGREGATE(15,6,(ROW(Transaction[Date])-ROW(Transaction[[#Headers],[Date]]))/((Transaction[Route]=AP$3)*(Transaction[Products]=Delivery_List!$D38)*(Transaction[Date]=Delivery_List!Select_Date)*(Transaction[Type]=\"เบิก\")),1)),\"\")","v":""},{"$f":"IF(AK38=\"\",\"\",INDEX(dProduct[Pcs/Unit],MATCH(Delivery_List!AK38,dProduct[NameTH],0)))","v":""},{"$f":"IF(AH38=\"\",\"\",COUNT(AH$12:AH38))","v":""},"",null,null,{"$f":"IF(AK38=\"\",\"\",SUMPRODUCT((Transaction[Route]=AP$3)*(Transaction[Products]=AK38)*(Transaction[Type]=\"ยกมา\")*(Transaction[Date]=Delivery_List!Select_Date)*Transaction[Qty In-Out]))","v":""},{"$f":"IF(AH38=\"\",\"\",INDEX(Transaction[Qty In-Out],AH38))","v":""},null,null,{"$f":"IF(AK38=\"\",\"\",INDEX(dProduct[Catagory],MATCH(Delivery_List!AK38,dProduct[NameTH],0)))","v":""},""]
[{"$f":"IFERROR(IF(COUNT($A$11:$A38)+1>COUNTIF(Transaction[Route],I$3),\"\",_xlfn.AGGREGATE(15,6,(ROW(Transaction[Date])-ROW(Transaction[[#Headers],[Date]]))/((Transaction[Route]=I$3)*(Transaction[Products]=Delivery_List!$D39)*(Transaction[Date]=Delivery_List!Select_Date)*(Transaction[Type]=\"เบิก\")),1)),\"\")","v":""},{"$f":"IF(D39=\"\",\"\",INDEX(dProduct[Pcs/Unit],MATCH(Delivery_List!D39,dProduct[NameTH],0)))","v":""},{"$f":"IF(A39=\"\",\"\",COUNT(A$12:A39))","v":""},null,null,null,{"$f":"IF(D39=\"\",\"\",SUMPRODUCT((Transaction[Route]=I$3)*(Transaction[Products]=D39)*(Transaction[Type]=\"ยกมา\")*(Transaction[Date]=Delivery_List!Select_Date)*Transaction[Qty In-Out]))","v":""},{"$f":"IF(A39=\"\",\"\",INDEX(Transaction[Qty In-Out],A39))","v":""},null,null,{"$f":"IF(D39=\"\",\"\",INDEX(dProduct[Catagory],MATCH(Delivery_List!D39,dProduct[NameTH],0)))","v":""},{"$f":"IFERROR(IF(COUNT($A$11:$A38)+1>COUNTIF(Transaction[Route],T$3),\"\",_xlfn.AGGREGATE(15,6,(ROW(Transaction[Date])-ROW(Transaction[[#Headers],[Date]]))/((Transaction[Route]=T$3)*(Transaction[Products]=Delivery_List!$D39)*(Transaction[Date]=Delivery_List!Select_Date)*(Transaction[Type]=\"เบิก\")),1)),\"\")","v":""},{"$f":"IF(O39=\"\",\"\",INDEX(dProduct[Pcs/Unit],MATCH(Delivery_List!O39,dProduct[NameTH],0)))","v":""},{"$f":"IF(L39=\"\",\"\",COUNT(L$12:L39))","v":""},"",null,null,{"$f":"IF(O39=\"\",\"\",SUMPRODUCT((Transaction[Route]=T$3)*(Transaction[Products]=O39)*(Transaction[Type]=\"ยกมา\")*(Transaction[Date]=Delivery_List!Select_Date)*Transaction[Qty In-Out]))","v":""},{"$f":"IF(L39=\"\",\"\",INDEX(Transaction[Qty In-Out],L39))","v":""},null,null,{"$f":"IF(O39=\"\",\"\",INDEX(dProduct[Catagory],MATCH(Delivery_List!O39,dProduct[NameTH],0)))","v":""},{"$f":"IFERROR(IF(COUNT($A$11:$A38)+1>COUNTIF(Transaction[Route],AE$3),\"\",_xlfn.AGGREGATE(15,6,(ROW(Transaction[Date])-ROW(Transaction[[#Headers],[Date]]))/((Transaction[Route]=AE$3)*(Transaction[Products]=Delivery_List!$D39)*(Transaction[Date]=Delivery_List!Select_Date)*(Transaction[Type]=\"เบิก\")),1)),\"\")","v":""},{"$f":"IF(Z39=\"\",\"\",INDEX(dProduct[Pcs/Unit],MATCH(Delivery_List!Z39,dProduct[NameTH],0)))","v":""},{"$f":"IF(W39=\"\",\"\",COUNT(W$12:W39))","v":""},"",null,null,{"$f":"IF(Z39=\"\",\"\",SUMPRODUCT((Transaction[Route]=AE$3)*(Transaction[Products]=Z39)*(Transaction[Type]=\"ยกมา\")*(Transaction[Date]=Delivery_List!Select_Date)*Transaction[Qty In-Out]))","v":""},{"$f":"IF(W39=\"\",\"\",INDEX(Transaction[Qty In-Out],W39))","v":""},null,null,{"$f":"IF(Z39=\"\",\"\",INDEX(dProduct[Catagory],MATCH(Delivery_List!Z39,dProduct[NameTH],0)))","v":""},{"$f":"IFERROR(IF(COUNT($A$11:$A38)+1>COUNTIF(Transaction[Route],AP$3),\"\",_xlfn.AGGREGATE(15,6,(ROW(Transaction[Date])-ROW(Transaction[[#Headers],[Date]]))/((Transaction[Route]=AP$3)*(Transaction[Products]=Delivery_List!$D39)*(Transaction[Date]=Delivery_List!Select_Date)*(Transaction[Type]=\"เบิก\")),1)),\"\")","v":""},{"$f":"IF(AK39=\"\",\"\",INDEX(dProduct[Pcs/Unit],MATCH(Delivery_List!AK39,dProduct[NameTH],0)))","v":""},{"$f":"IF(AH39=\"\",\"\",COUNT(AH$12:AH39))","v":""},"",null,null,{"$f":"IF(AK39=\"\",\"\",SUMPRODUCT((Transaction[Route]=AP$3)*(Transaction[Products]=AK39)*(Transaction[Type]=\"ยกมา\")*(Transaction[Date]=Delivery_List!Select_Date)*Transaction[Qty In-Out]))","v":""},{"$f":"IF(AH39=\"\",\"\",INDEX(Transaction[Qty In-Out],AH39))","v":""},null,null,{"$f":"IF(AK39=\"\",\"\",INDEX(dProduct[Catagory],MATCH(Delivery_List!AK39,dProduct[NameTH],0)))","v":""},""]
[{"$f":"IFERROR(IF(COUNT($A$11:$A39)+1>COUNTIF(Transaction[Route],I$3),\"\",_xlfn.AGGREGATE(15,6,(ROW(Transaction[Date])-ROW(Transaction[[#Headers],[Date]]))/((Transaction[Route]=I$3)*(Transaction[Products]=Delivery_List!$D40)*(Transaction[Date]=Delivery_List!Select_Date)*(Transaction[Type]=\"เบิก\")),1)),\"\")","v":""},{"$f":"IF(D40=\"\",\"\",INDEX(dProduct[Pcs/Unit],MATCH(Delivery_List!D40,dProduct[NameTH],0)))","v":""},{"$f":"IF(A40=\"\",\"\",COUNT(A$12:A40))","v":""},null,null,null,{"$f":"IF(D40=\"\",\"\",SUMPRODUCT((Transaction[Route]=I$3)*(Transaction[Products]=D40)*(Transaction[Type]=\"ยกมา\")*(Transaction[Date]=Delivery_List!Select_Date)*Transaction[Qty In-Out]))","v":""},{"$f":"IF(A40=\"\",\"\",INDEX(Transaction[Qty In-Out],A40))","v":""},null,null,{"$f":"IF(D40=\"\",\"\",INDEX(dProduct[Catagory],MATCH(Delivery_List!D40,dProduct[NameTH],0)))","v":""},{"$f":"IFERROR(IF(COUNT($A$11:$A39)+1>COUNTIF(Transaction[Route],T$3),\"\",_xlfn.AGGREGATE(15,6,(ROW(Transaction[Date])-ROW(Transaction[[#Headers],[Date]]))/((Transaction[Route]=T$3)*(Transaction[Products]=Delivery_List!$D40)*(Transaction[Date]=Delivery_List!Select_Date)*(Transaction[Type]=\"เบิก\")),1)),\"\")","v":""},{"$f":"IF(O40=\"\",\"\",INDEX(dProduct[Pcs/Unit],MATCH(Delivery_List!O40,dProduct[NameTH],0)))","v":""},{"$f":"IF(L40=\"\",\"\",COUNT(L$12:L40))","v":""},"",null,null,{"$f":"IF(O40=\"\",\"\",SUMPRODUCT((Transaction[Route]=T$3)*(Transaction[Products]=O40)*(Transaction[Type]=\"ยกมา\")*(Transaction[Date]=Delivery_List!Select_Date)*Transaction[Qty In-Out]))","v":""},{"$f":"IF(L40=\"\",\"\",INDEX(Transaction[Qty In-Out],L40))","v":""},null,null,{"$f":"IF(O40=\"\",\"\",INDEX(dProduct[Catagory],MATCH(Delivery_List!O40,dProduct[NameTH],0)))","v":""},{"$f":"IFERROR(IF(COUNT($A$11:$A39)+1>COUNTIF(Transaction[Route],AE$3),\"\",_xlfn.AGGREGATE(15,6,(ROW(Transaction[Date])-ROW(Transaction[[#Headers],[Date]]))/((Transaction[Route]=AE$3)*(Transaction[Products]=Delivery_List!$D40)*(Transaction[Date]=Delivery_List!Select_Date)*(Transaction[Type]=\"เบิก\")),1)),\"\")","v":""},{"$f":"IF(Z40=\"\",\"\",INDEX(dProduct[Pcs/Unit],MATCH(Delivery_List!Z40,dProduct[NameTH],0)))","v":""},{"$f":"IF(W40=\"\",\"\",COUNT(W$12:W40))","v":""},"",null,null,{"$f":"IF(Z40=\"\",\"\",SUMPRODUCT((Transaction[Route]=AE$3)*(Transaction[Products]=Z40)*(Transaction[Type]=\"ยกมา\")*(Transaction[Date]=Delivery_List!Select_Date)*Transaction[Qty In-Out]))","v":""},{"$f":"IF(W40=\"\",\"\",INDEX(Transaction[Qty In-Out],W40))","v":""},null,null,{"$f":"IF(Z40=\"\",\"\",INDEX(dProduct[Catagory],MATCH(Delivery_List!Z40,dProduct[NameTH],0)))","v":""},{"$f":"IFERROR(IF(COUNT($A$11:$A39)+1>COUNTIF(Transaction[Route],AP$3),\"\",_xlfn.AGGREGATE(15,6,(ROW(Transaction[Date])-ROW(Transaction[[#Headers],[Date]]))/((Transaction[Route]=AP$3)*(Transaction[Products]=Delivery_List!$D40)*(Transaction[Date]=Delivery_List!Select_Date)*(Transaction[Type]=\"เบิก\")),1)),\"\")","v":""},{"$f":"IF(AK40=\"\",\"\",INDEX(dProduct[Pcs/Unit],MATCH(Delivery_List!AK40,dProduct[NameTH],0)))","v":""},{"$f":"IF(AH40=\"\",\"\",COUNT(AH$12:AH40))","v":""},"",null,null,{"$f":"IF(AK40=\"\",\"\",SUMPRODUCT((Transaction[Route]=AP$3)*(Transaction[Products]=AK40)*(Transaction[Type]=\"ยกมา\")*(Transaction[Date]=Delivery_List!Select_Date)*Transaction[Qty In-Out]))","v":""},{"$f":"IF(AH40=\"\",\"\",INDEX(Transaction[Qty In-Out],AH40))","v":""},null,null,{"$f":"IF(AK40=\"\",\"\",INDEX(dProduct[Catagory],MATCH(Delivery_List!AK40,dProduct[NameTH],0)))","v":""},""]
[{"$f":"IFERROR(IF(COUNT($A$11:$A40)+1>COUNTIF(Transaction[Route],I$3),\"\",_xlfn.AGGREGATE(15,6,(ROW(Transaction[Date])-ROW(Transaction[[#Headers],[Date]]))/((Transaction[Route]=I$3)*(Transaction[Products]=Delivery_List!$D41)*(Transaction[Date]=Delivery_List!Select_Date)*(Transaction[Type]=\"เบิก\")),1)),\"\")","v":""},{"$f":"IF(D41=\"\",\"\",INDEX(dProduct[Pcs/Unit],MATCH(Delivery_List!D41,dProduct[NameTH],0)))","v":""},{"$f":"IF(A41=\"\",\"\",COUNT(A$12:A41))","v":""},null,null,null,{"$f":"IF(D41=\"\",\"\",SUMPRODUCT((Transaction[Route]=I$3)*(Transaction[Products]=D41)*(Transaction[Type]=\"ยกมา\")*(Transaction[Date]=Delivery_List!Select_Date)*Transaction[Qty In-Out]))","v":""},{"$f":"IF(A41=\"\",\"\",INDEX(Transaction[Qty In-Out],A41))","v":""},null,null,{"$f":"IF(D41=\"\",\"\",INDEX(dProduct[Catagory],MATCH(Delivery_List!D41,dProduct[NameTH],0)))","v":""},{"$f":"IFERROR(IF(COUNT($A$11:$A40)+1>COUNTIF(Transaction[Route],T$3),\"\",_xlfn.AGGREGATE(15,6,(ROW(Transaction[Date])-ROW(Transaction[[#Headers],[Date]]))/((Transaction[Route]=T$3)*(Transaction[Products]=Delivery_List!$D41)*(Transaction[Date]=Delivery_List!Select_Date)*(Transaction[Type]=\"เบิก\")),1)),\"\")","v":""},{"$f":"IF(O41=\"\",\"\",INDEX(dProduct[Pcs/Unit],MATCH(Delivery_List!O41,dProduct[NameTH],0)))","v":""},{"$f":"IF(L41=\"\",\"\",COUNT(L$12:L41))","v":""},"",null,null,{"$f":"IF(O41=\"\",\"\",SUMPRODUCT((Transaction[Route]=T$3)*(Transaction[Products]=O41)*(Transaction[Type]=\"ยกมา\")*(Transaction[Date]=Delivery_List!Select_Date)*Transaction[Qty In-Out]))","v":""},{"$f":"IF(L41=\"\",\"\",INDEX(Transaction[Qty In-Out],L41))","v":""},null,null,{"$f":"IF(O41=\"\",\"\",INDEX(dProduct[Catagory],MATCH(Delivery_List!O41,dProduct[NameTH],0)))","v":""},{"$f":"IFERROR(IF(COUNT($A$11:$A40)+1>COUNTIF(Transaction[Route],AE$3),\"\",_xlfn.AGGREGATE(15,6,(ROW(Transaction[Date])-ROW(Transaction[[#Headers],[Date]]))/((Transaction[Route]=AE$3)*(Transaction[Products]=Delivery_List!$D41)*(Transaction[Date]=Delivery_List!Select_Date)*(Transaction[Type]=\"เบิก\")),1)),\"\")","v":""},{"$f":"IF(Z41=\"\",\"\",INDEX(dProduct[Pcs/Unit],MATCH(Delivery_List!Z41,dProduct[NameTH],0)))","v":""},{"$f":"IF(W41=\"\",\"\",COUNT(W$12:W41))","v":""},"",null,null,{"$f":"IF(Z41=\"\",\"\",SUMPRODUCT((Transaction[Route]=AE$3)*(Transaction[Products]=Z41)*(Transaction[Type]=\"ยกมา\")*(Transaction[Date]=Delivery_List!Select_Date)*Transaction[Qty In-Out]))","v":""},{"$f":"IF(W41=\"\",\"\",INDEX(Transaction[Qty In-Out],W41))","v":""},null,null,{"$f":"IF(Z41=\"\",\"\",INDEX(dProduct[Catagory],MATCH(Delivery_List!Z41,dProduct[NameTH],0)))","v":""},{"$f":"IFERROR(IF(COUNT($A$11:$A40)+1>COUNTIF(Transaction[Route],AP$3),\"\",_xlfn.AGGREGATE(15,6,(ROW(Transaction[Date])-ROW(Transaction[[#Headers],[Date]]))/((Transaction[Route]=AP$3)*(Transaction[Products]=Delivery_List!$D41)*(Transaction[Date]=Delivery_List!Select_Date)*(Transaction[Type]=\"เบิก\")),1)),\"\")","v":""},{"$f":"IF(AK41=\"\",\"\",INDEX(dProduct[Pcs/Unit],MATCH(Delivery_List!AK41,dProduct[NameTH],0)))","v":""},{"$f":"IF(AH41=\"\",\"\",COUNT(AH$12:AH41))","v":""},"",null,null,{"$f":"IF(AK41=\"\",\"\",SUMPRODUCT((Transaction[Route]=AP$3)*(Transaction[Products]=AK41)*(Transaction[Type]=\"ยกมา\")*(Transaction[Date]=Delivery_List!Select_Date)*Transaction[Qty In-Out]))","v":""},{"$f":"IF(AH41=\"\",\"\",INDEX(Transaction[Qty In-Out],AH41))","v":""},null,null,{"$f":"IF(AK41=\"\",\"\",INDEX(dProduct[Catagory],MATCH(Delivery_List!AK41,dProduct[NameTH],0)))","v":""},""]
[{"$f":"IFERROR(IF(COUNT($A$11:$A41)+1>COUNTIF(Transaction[Route],I$3),\"\",_xlfn.AGGREGATE(15,6,(ROW(Transaction[Date])-ROW(Transaction[[#Headers],[Date]]))/((Transaction[Route]=I$3)*(Transaction[Products]=Delivery_List!$D42)*(Transaction[Date]=Delivery_List!Select_Date)*(Transaction[Type]=\"เบิก\")),1)),\"\")","v":""},{"$f":"IF(D42=\"\",\"\",INDEX(dProduct[Pcs/Unit],MATCH(Delivery_List!D42,dProduct[NameTH],0)))","v":""},{"$f":"IF(A42=\"\",\"\",COUNT(A$12:A42))","v":""},null,null,null,{"$f":"IF(D42=\"\",\"\",SUMPRODUCT((Transaction[Route]=I$3)*(Transaction[Products]=D42)*(Transaction[Type]=\"ยกมา\")*(Transaction[Date]=Delivery_List!Select_Date)*Transaction[Qty In-Out]))","v":""},{"$f":"IF(A42=\"\",\"\",INDEX(Transaction[Qty In-Out],A42))","v":""},null,null,{"$f":"IF(D42=\"\",\"\",INDEX(dProduct[Catagory],MATCH(Delivery_List!D42,dProduct[NameTH],0)))","v":""},{"$f":"IFERROR(IF(COUNT($A$11:$A41)+1>COUNTIF(Transaction[Route],T$3),\"\",_xlfn.AGGREGATE(15,6,(ROW(Transaction[Date])-ROW(Transaction[[#Headers],[Date]]))/((Transaction[Route]=T$3)*(Transaction[Products]=Delivery_List!$D42)*(Transaction[Date]=Delivery_List!Select_Date)*(Transaction[Type]=\"เบิก\")),1)),\"\")","v":""},{"$f":"IF(O42=\"\",\"\",INDEX(dProduct[Pcs/Unit],MATCH(Delivery_List!O42,dProduct[NameTH],0)))","v":""},{"$f":"IF(L42=\"\",\"\",COUNT(L$12:L42))","v":""},"",null,null,{"$f":"IF(O42=\"\",\"\",SUMPRODUCT((Transaction[Route]=T$3)*(Transaction[Products]=O42)*(Transaction[Type]=\"ยกมา\")*(Transaction[Date]=Delivery_List!Select_Date)*Transaction[Qty In-Out]))","v":""},{"$f":"IF(L42=\"\",\"\",INDEX(Transaction[Qty In-Out],L42))","v":""},null,null,{"$f":"IF(O42=\"\",\"\",INDEX(dProduct[Catagory],MATCH(Delivery_List!O42,dProduct[NameTH],0)))","v":""},{"$f":"IFERROR(IF(COUNT($A$11:$A41)+1>COUNTIF(Transaction[Route],AE$3),\"\",_xlfn.AGGREGATE(15,6,(ROW(Transaction[Date])-ROW(Transaction[[#Headers],[Date]]))/((Transaction[Route]=AE$3)*(Transaction[Products]=Delivery_List!$D42)*(Transaction[Date]=Delivery_List!Select_Date)*(Transaction[Type]=\"เบิก\")),1)),\"\")","v":""},{"$f":"IF(Z42=\"\",\"\",INDEX(dProduct[Pcs/Unit],MATCH(Delivery_List!Z42,dProduct[NameTH],0)))","v":""},{"$f":"IF(W42=\"\",\"\",COUNT(W$12:W42))","v":""},"",null,null,{"$f":"IF(Z42=\"\",\"\",SUMPRODUCT((Transaction[Route]=AE$3)*(Transaction[Products]=Z42)*(Transaction[Type]=\"ยกมา\")*(Transaction[Date]=Delivery_List!Select_Date)*Transaction[Qty In-Out]))","v":""},{"$f":"IF(W42=\"\",\"\",INDEX(Transaction[Qty In-Out],W42))","v":""},null,null,{"$f":"IF(Z42=\"\",\"\",INDEX(dProduct[Catagory],MATCH(Delivery_List!Z42,dProduct[NameTH],0)))","v":""},{"$f":"IFERROR(IF(COUNT($A$11:$A41)+1>COUNTIF(Transaction[Route],AP$3),\"\",_xlfn.AGGREGATE(15,6,(ROW(Transaction[Date])-ROW(Transaction[[#Headers],[Date]]))/((Transaction[Route]=AP$3)*(Transaction[Products]=Delivery_List!$D42)*(Transaction[Date]=Delivery_List!Select_Date)*(Transaction[Type]=\"เบิก\")),1)),\"\")","v":""},{"$f":"IF(AK42=\"\",\"\",INDEX(dProduct[Pcs/Unit],MATCH(Delivery_List!AK42,dProduct[NameTH],0)))","v":""},{"$f":"IF(AH42=\"\",\"\",COUNT(AH$12:AH42))","v":""},"",null,null,{"$f":"IF(AK42=\"\",\"\",SUMPRODUCT((Transaction[Route]=AP$3)*(Transaction[Products]=AK42)*(Transaction[Type]=\"ยกมา\")*(Transaction[Date]=Delivery_List!Select_Date)*Transaction[Qty In-Out]))","v":""},{"$f":"IF(AH42=\"\",\"\",INDEX(Transaction[Qty In-Out],AH42))","v":""},null,null,{"$f":"IF(AK42=\"\",\"\",INDEX(dProduct[Catagory],MATCH(Delivery_List!AK42,dProduct[NameTH],0)))","v":""},""]
[{"$f":"IFERROR(IF(COUNT($A$11:$A42)+1>COUNTIF(Transaction[Route],I$3),\"\",_xlfn.AGGREGATE(15,6,(ROW(Transaction[Date])-ROW(Transaction[[#Headers],[Date]]))/((Transaction[Route]=I$3)*(Transaction[Products]=Delivery_List!$D43)*(Transaction[Date]=Delivery_List!Select_Date)*(Transaction[Type]=\"เบิก\")),1)),\"\")","v":""},{"$f":"IF(D43=\"\",\"\",INDEX(dProduct[Pcs/Unit],MATCH(Delivery_List!D43,dProduct[NameTH],0)))","v":""},{"$f":"IF(A43=\"\",\"\",COUNT(A$12:A43))","v":""},null,null,null,{"$f":"IF(D43=\"\",\"\",SUMPRODUCT((Transaction[Route]=I$3)*(Transaction[Products]=D43)*(Transaction[Type]=\"ยกมา\")*(Transaction[Date]=Delivery_List!Select_Date)*Transaction[Qty In-Out]))","v":""},{"$f":"IF(A43=\"\",\"\",INDEX(Transaction[Qty In-Out],A43))","v":""},null,null,{"$f":"IF(D43=\"\",\"\",INDEX(dProduct[Catagory],MATCH(Delivery_List!D43,dProduct[NameTH],0)))","v":""},{"$f":"IFERROR(IF(COUNT($A$11:$A42)+1>COUNTIF(Transaction[Route],T$3),\"\",_xlfn.AGGREGATE(15,6,(ROW(Transaction[Date])-ROW(Transaction[[#Headers],[Date]]))/((Transaction[Route]=T$3)*(Transaction[Products]=Delivery_List!$D43)*(Transaction[Date]=Delivery_List!Select_Date)*(Transaction[Type]=\"เบิก\")),1)),\"\")","v":""},{"$f":"IF(O43=\"\",\"\",INDEX(dProduct[Pcs/Unit],MATCH(Delivery_List!O43,dProduct[NameTH],0)))","v":""},{"$f":"IF(L43=\"\",\"\",COUNT(L$12:L43))","v":""},"",null,null,{"$f":"IF(O43=\"\",\"\",SUMPRODUCT((Transaction[Route]=T$3)*(Transaction[Products]=O43)*(Transaction[Type]=\"ยกมา\")*(Transaction[Date]=Delivery_List!Select_Date)*Transaction[Qty In-Out]))","v":""},{"$f":"IF(L43=\"\",\"\",INDEX(Transaction[Qty In-Out],L43))","v":""},null,null,{"$f":"IF(O43=\"\",\"\",INDEX(dProduct[Catagory],MATCH(Delivery_List!O43,dProduct[NameTH],0)))","v":""},{"$f":"IFERROR(IF(COUNT($A$11:$A42)+1>COUNTIF(Transaction[Route],AE$3),\"\",_xlfn.AGGREGATE(15,6,(ROW(Transaction[Date])-ROW(Transaction[[#Headers],[Date]]))/((Transaction[Route]=AE$3)*(Transaction[Products]=Delivery_List!$D43)*(Transaction[Date]=Delivery_List!Select_Date)*(Transaction[Type]=\"เบิก\")),1)),\"\")","v":""},{"$f":"IF(Z43=\"\",\"\",INDEX(dProduct[Pcs/Unit],MATCH(Delivery_List!Z43,dProduct[NameTH],0)))","v":""},{"$f":"IF(W43=\"\",\"\",COUNT(W$12:W43))","v":""},"",null,null,{"$f":"IF(Z43=\"\",\"\",SUMPRODUCT((Transaction[Route]=AE$3)*(Transaction[Products]=Z43)*(Transaction[Type]=\"ยกมา\")*(Transaction[Date]=Delivery_List!Select_Date)*Transaction[Qty In-Out]))","v":""},{"$f":"IF(W43=\"\",\"\",INDEX(Transaction[Qty In-Out],W43))","v":""},null,null,{"$f":"IF(Z43=\"\",\"\",INDEX(dProduct[Catagory],MATCH(Delivery_List!Z43,dProduct[NameTH],0)))","v":""},{"$f":"IFERROR(IF(COUNT($A$11:$A42)+1>COUNTIF(Transaction[Route],AP$3),\"\",_xlfn.AGGREGATE(15,6,(ROW(Transaction[Date])-ROW(Transaction[[#Headers],[Date]]))/((Transaction[Route]=AP$3)*(Transaction[Products]=Delivery_List!$D43)*(Transaction[Date]=Delivery_List!Select_Date)*(Transaction[Type]=\"เบิก\")),1)),\"\")","v":""},{"$f":"IF(AK43=\"\",\"\",INDEX(dProduct[Pcs/Unit],MATCH(Delivery_List!AK43,dProduct[NameTH],0)))","v":""},{"$f":"IF(AH43=\"\",\"\",COUNT(AH$12:AH43))","v":""},"",null,null,{"$f":"IF(AK43=\"\",\"\",SUMPRODUCT((Transaction[Route]=AP$3)*(Transaction[Products]=AK43)*(Transaction[Type]=\"ยกมา\")*(Transaction[Date]=Delivery_List!Select_Date)*Transaction[Qty In-Out]))","v":""},{"$f":"IF(AH43=\"\",\"\",INDEX(Transaction[Qty In-Out],AH43))","v":""},null,null,{"$f":"IF(AK43=\"\",\"\",INDEX(dProduct[Catagory],MATCH(Delivery_List!AK43,dProduct[NameTH],0)))","v":""},""]
[{"$f":"IFERROR(IF(COUNT($A$11:$A43)+1>COUNTIF(Transaction[Route],I$3),\"\",_xlfn.AGGREGATE(15,6,(ROW(Transaction[Date])-ROW(Transaction[[#Headers],[Date]]))/((Transaction[Route]=I$3)*(Transaction[Products]=Delivery_List!$D44)*(Transaction[Date]=Delivery_List!Select_Date)*(Transaction[Type]=\"เบิก\")),1)),\"\")","v":""},{"$f":"IF(D44=\"\",\"\",INDEX(dProduct[Pcs/Unit],MATCH(Delivery_List!D44,dProduct[NameTH],0)))","v":""},{"$f":"IF(A44=\"\",\"\",COUNT(A$12:A44))","v":""},null,null,null,{"$f":"IF(D44=\"\",\"\",SUMPRODUCT((Transaction[Route]=I$3)*(Transaction[Products]=D44)*(Transaction[Type]=\"ยกมา\")*(Transaction[Date]=Delivery_List!Select_Date)*Transaction[Qty In-Out]))","v":""},{"$f":"IF(A44=\"\",\"\",INDEX(Transaction[Qty In-Out],A44))","v":""},null,null,{"$f":"IF(D44=\"\",\"\",INDEX(dProduct[Catagory],MATCH(Delivery_List!D44,dProduct[NameTH],0)))","v":""},{"$f":"IFERROR(IF(COUNT($A$11:$A43)+1>COUNTIF(Transaction[Route],T$3),\"\",_xlfn.AGGREGATE(15,6,(ROW(Transaction[Date])-ROW(Transaction[[#Headers],[Date]]))/((Transaction[Route]=T$3)*(Transaction[Products]=Delivery_List!$D44)*(Transaction[Date]=Delivery_List!Select_Date)*(Transaction[Type]=\"เบิก\")),1)),\"\")","v":""},{"$f":"IF(O44=\"\",\"\",INDEX(dProduct[Pcs/Unit],MATCH(Delivery_List!O44,dProduct[NameTH],0)))","v":""},{"$f":"IF(L44=\"\",\"\",COUNT(L$12:L44))","v":""},"",null,null,{"$f":"IF(O44=\"\",\"\",SUMPRODUCT((Transaction[Route]=T$3)*(Transaction[Products]=O44)*(Transaction[Type]=\"ยกมา\")*(Transaction[Date]=Delivery_List!Select_Date)*Transaction[Qty In-Out]))","v":""},{"$f":"IF(L44=\"\",\"\",INDEX(Transaction[Qty In-Out],L44))","v":""},null,null,{"$f":"IF(O44=\"\",\"\",INDEX(dProduct[Catagory],MATCH(Delivery_List!O44,dProduct[NameTH],0)))","v":""},{"$f":"IFERROR(IF(COUNT($A$11:$A43)+1>COUNTIF(Transaction[Route],AE$3),\"\",_xlfn.AGGREGATE(15,6,(ROW(Transaction[Date])-ROW(Transaction[[#Headers],[Date]]))/((Transaction[Route]=AE$3)*(Transaction[Products]=Delivery_List!$D44)*(Transaction[Date]=Delivery_List!Select_Date)*(Transaction[Type]=\"เบิก\")),1)),\"\")","v":""},{"$f":"IF(Z44=\"\",\"\",INDEX(dProduct[Pcs/Unit],MATCH(Delivery_List!Z44,dProduct[NameTH],0)))","v":""},{"$f":"IF(W44=\"\",\"\",COUNT(W$12:W44))","v":""},"",null,null,{"$f":"IF(Z44=\"\",\"\",SUMPRODUCT((Transaction[Route]=AE$3)*(Transaction[Products]=Z44)*(Transaction[Type]=\"ยกมา\")*(Transaction[Date]=Delivery_List!Select_Date)*Transaction[Qty In-Out]))","v":""},{"$f":"IF(W44=\"\",\"\",INDEX(Transaction[Qty In-Out],W44))","v":""},null,null,{"$f":"IF(Z44=\"\",\"\",INDEX(dProduct[Catagory],MATCH(Delivery_List!Z44,dProduct[NameTH],0)))","v":""},{"$f":"IFERROR(IF(COUNT($A$11:$A43)+1>COUNTIF(Transaction[Route],AP$3),\"\",_xlfn.AGGREGATE(15,6,(ROW(Transaction[Date])-ROW(Transaction[[#Headers],[Date]]))/((Transaction[Route]=AP$3)*(Transaction[Products]=Delivery_List!$D44)*(Transaction[Date]=Delivery_List!Select_Date)*(Transaction[Type]=\"เบิก\")),1)),\"\")","v":""},{"$f":"IF(AK44=\"\",\"\",INDEX(dProduct[Pcs/Unit],MATCH(Delivery_List!AK44,dProduct[NameTH],0)))","v":""},{"$f":"IF(AH44=\"\",\"\",COUNT(AH$12:AH44))","v":""},"",null,null,{"$f":"IF(AK44=\"\",\"\",SUMPRODUCT((Transaction[Route]=AP$3)*(Transaction[Products]=AK44)*(Transaction[Type]=\"ยกมา\")*(Transaction[Date]=Delivery_List!Select_Date)*Transaction[Qty In-Out]))","v":""},{"$f":"IF(AH44=\"\",\"\",INDEX(Transaction[Qty In-Out],AH44))","v":""},null,null,{"$f":"IF(AK44=\"\",\"\",INDEX(dProduct[Catagory],MATCH(Delivery_List!AK44,dProduct[NameTH],0)))","v":""},""]
[{"$f":"IFERROR(IF(COUNT($A$11:$A44)+1>COUNTIF(Transaction[Route],I$3),\"\",_xlfn.AGGREGATE(15,6,(ROW(Transaction[Date])-ROW(Transaction[[#Headers],[Date]]))/((Transaction[Route]=I$3)*(Transaction[Products]=Delivery_List!$D45)*(Transaction[Date]=Delivery_List!Select_Date)*(Transaction[Type]=\"เบิก\")),1)),\"\")","v":""},{"$f":"IF(D45=\"\",\"\",INDEX(dProduct[Pcs/Unit],MATCH(Delivery_List!D45,dProduct[NameTH],0)))","v":""},{"$f":"IF(A45=\"\",\"\",COUNT(A$12:A45))","v":""},null,null,null,{"$f":"IF(D45=\"\",\"\",SUMPRODUCT((Transaction[Route]=I$3)*(Transaction[Products]=D45)*(Transaction[Type]=\"ยกมา\")*(Transaction[Date]=Delivery_List!Select_Date)*Transaction[Qty In-Out]))","v":""},{"$f":"IF(A45=\"\",\"\",INDEX(Transaction[Qty In-Out],A45))","v":""},null,null,{"$f":"IF(D45=\"\",\"\",INDEX(dProduct[Catagory],MATCH(Delivery_List!D45,dProduct[NameTH],0)))","v":""},{"$f":"IFERROR(IF(COUNT($A$11:$A44)+1>COUNTIF(Transaction[Route],T$3),\"\",_xlfn.AGGREGATE(15,6,(ROW(Transaction[Date])-ROW(Transaction[[#Headers],[Date]]))/((Transaction[Route]=T$3)*(Transaction[Products]=Delivery_List!$D45)*(Transaction[Date]=Delivery_List!Select_Date)*(Transaction[Type]=\"เบิก\")),1)),\"\")","v":""},{"$f":"IF(O45=\"\",\"\",INDEX(dProduct[Pcs/Unit],MATCH(Delivery_List!O45,dProduct[NameTH],0)))","v":""},{"$f":"IF(L45=\"\",\"\",COUNT(L$12:L45))","v":""},"",null,null,{"$f":"IF(O45=\"\",\"\",SUMPRODUCT((Transaction[Route]=T$3)*(Transaction[Products]=O45)*(Transaction[Type]=\"ยกมา\")*(Transaction[Date]=Delivery_List!Select_Date)*Transaction[Qty In-Out]))","v":""},{"$f":"IF(L45=\"\",\"\",INDEX(Transaction[Qty In-Out],L45))","v":""},null,null,{"$f":"IF(O45=\"\",\"\",INDEX(dProduct[Catagory],MATCH(Delivery_List!O45,dProduct[NameTH],0)))","v":""},{"$f":"IFERROR(IF(COUNT($A$11:$A44)+1>COUNTIF(Transaction[Route],AE$3),\"\",_xlfn.AGGREGATE(15,6,(ROW(Transaction[Date])-ROW(Transaction[[#Headers],[Date]]))/((Transaction[Route]=AE$3)*(Transaction[Products]=Delivery_List!$D45)*(Transaction[Date]=Delivery_List!Select_Date)*(Transaction[Type]=\"เบิก\")),1)),\"\")","v":""},{"$f":"IF(Z45=\"\",\"\",INDEX(dProduct[Pcs/Unit],MATCH(Delivery_List!Z45,dProduct[NameTH],0)))","v":""},{"$f":"IF(W45=\"\",\"\",COUNT(W$12:W45))","v":""},"",null,null,{"$f":"IF(Z45=\"\",\"\",SUMPRODUCT((Transaction[Route]=AE$3)*(Transaction[Products]=Z45)*(Transaction[Type]=\"ยกมา\")*(Transaction[Date]=Delivery_List!Select_Date)*Transaction[Qty In-Out]))","v":""},{"$f":"IF(W45=\"\",\"\",INDEX(Transaction[Qty In-Out],W45))","v":""},null,null,{"$f":"IF(Z45=\"\",\"\",INDEX(dProduct[Catagory],MATCH(Delivery_List!Z45,dProduct[NameTH],0)))","v":""},{"$f":"IFERROR(IF(COUNT($A$11:$A44)+1>COUNTIF(Transaction[Route],AP$3),\"\",_xlfn.AGGREGATE(15,6,(ROW(Transaction[Date])-ROW(Transaction[[#Headers],[Date]]))/((Transaction[Route]=AP$3)*(Transaction[Products]=Delivery_List!$D45)*(Transaction[Date]=Delivery_List!Select_Date)*(Transaction[Type]=\"เบิก\")),1)),\"\")","v":""},{"$f":"IF(AK45=\"\",\"\",INDEX(dProduct[Pcs/Unit],MATCH(Delivery_List!AK45,dProduct[NameTH],0)))","v":""},{"$f":"IF(AH45=\"\",\"\",COUNT(AH$12:AH45))","v":""},"",null,null,{"$f":"IF(AK45=\"\",\"\",SUMPRODUCT((Transaction[Route]=AP$3)*(Transaction[Products]=AK45)*(Transaction[Type]=\"ยกมา\")*(Transaction[Date]=Delivery_List!Select_Date)*Transaction[Qty In-Out]))","v":""},{"$f":"IF(AH45=\"\",\"\",INDEX(Transaction[Qty In-Out],AH45))","v":""},null,null,{"$f":"IF(AK45=\"\",\"\",INDEX(dProduct[Catagory],MATCH(Delivery_List!AK45,dProduct[NameTH],0)))","v":""},""]
[null,null,"รวมของแห้ง",null,null,null,{"$f":"SUM(G$12:G$45)","v":0},{"$f":"SUM(H$12:H$45)","v":1640},{"$f":"SUM(I$12:I$45)","v":0},0,null,null,null,"รวมของแห้ง",null,null,null,{"$f":"SUM(R$12:R$45)","v":0},{"$f":"SUM(S$12:S$45)","v":0},{"$f":"SUM(T$12:T$45)","v":0},0,null,null,null,"รวมของแห้ง",null,null,null,{"$f":"SUM(AC$12:AC$45)","v":0},{"$f":"SUM(AD$12:AD$45)","v":0},{"$f":"SUM(AE$12:AE$45)","v":0},0,null,null,null,"รวมของแห้ง",null,null,null,{"$f":"SUM(AN$12:AN$45)","v":0},{"$f":"SUM(AO$12:AO$45)","v":0},{"$f":"SUM(AP$12:AP$45)","v":0},0,null,""]
[null,null,"ไม่รวมของแห้ง",null,null,null,{"$f":"SUMIF(K$12:K$45,\"ของสด\",G$12:G$45)","v":0},{"$f":"SUMIF(K$12:K$45,\"ของสด\",H$12:H$45)","v":0},{"$f":"SUMIF(K$12:K$45,\"ของสด\",I$12:I$45)","v":0},{"$f":"SUMIF(K$12:K$45,\"ของสด\",J$12:J$45)","v":0},null,null,null,"ไม่รวมของแห้ง",null,null,null,{"$f":"SUMIF(V$12:V$45,\"ของสด\",R$12:R$45)","v":0},{"$f":"SUMIF(V$12:V$45,\"ของสด\",S$12:S$45)","v":0},{"$f":"SUMIF(V$12:V$45,\"ของสด\",T$12:T$45)","v":0},{"$f":"SUMIF(V$12:V$45,\"ของสด\",U$12:U$45)","v":0},null,null,null,"ไม่รวมของแห้ง",null,null,null,{"$f":"SUMIF(AG$12:AG$45,\"ของสด\",AC$12:AC$45)","v":0},{"$f":"SUMIF(AG$12:AG$45,\"ของสด\",AD$12:AD$45)","v":0},{"$f":"SUMIF(AG$12:AG$45,\"ของสด\",AE$12:AE$45)","v":0},{"$f":"SUMIF(AG$12:AG$45,\"ของสด\",AF$12:AF$45)","v":0},null,null,null,"ไม่รวมของแห้ง",null,null,null,{"$f":"SUMIF(AR$12:AR$45,\"ของสด\",AN$12:AN$45)","v":0},{"$f":"SUMIF(AR$12:AR$45,\"ของสด\",AO$12:AO$45)","v":0},{"$f":"SUMIF(AR$12:AR$45,\"ของสด\",AP$12:AP$45)","v":0},{"$f":"SUMIF(AR$12:AR$45,\"ของสด\",AQ$12:AQ$45)","v":0},null,""]
[null,null,"ถาดขึ้น",null,null,null,"ผู้เบิก",null,null,null,null,null,null,"ถาดขึ้น",null,null,null,"ผู้เบิก",null,null,null,null,null,null,"ถาดขึ้น",null,null,null,"ผู้เบิก",null,null,null,null,null,null,"ถาดขึ้น",null,null,null,"ผู้เบิก",null,null,null,null,""]
[null,null,"ถาดกลับ",null,null,null,null,"เวลากลับ",null,null,null,null,null,"ถาดกลับ",null,null,null,null,"เวลากลับ",null,null,null,null,null,"ถาดกลับ",null,null,null,null,"เวลากลับ",null,null,null,null,null,"ถาดกลับ",null,null,null,null,"เวลากลับ",null,null,null,""]
[null,null,"ขนมเสีย",null,null,null,"กก.","ไมล์เข้า",null,null,null,null,null,"ขนมเสีย",null,null,null,"กก.","ไมล์เข้า",null,null,null,null,null,"ขนมเสีย",null,null,null,"กก.","ไมล์เข้า",null,null,null,null,null,"ขนมเสีย",null,null,null,"กก.","ไมล์เข้า",null,null,null,""]
[null,null,null,null,null,null,"ผู้ตรวจนับ",null,null,null,null,null,null,null,null,null,null,"ผู้ตรวจนับ",null,null,null,null,null,null,null,null,null,null,"ผู้ตรวจนับ",null,null,null,null,null,null,null,null,null,null,"ผู้ตรวจนับ",null,null,null,null,""]
[null,null,null,null,null,null,null,null,null,null,null,null,null,null,null,null,null,null,null,null,null,null,null,null,null,null,null,null,null,null,null,null,null,null,null,null,null,null,null,null,null,null,null,null,""]

{"sheet":"Factory_Order Frm","index":6,"n_rows":300,"n_cols":20,"rows_kept":300,"cut":false,"hidden":true,"merged":[[2,2,2,8],[16,3,16,8],[59,1,59,2],[4,7,4,8],[5,7,6,8],[7,7,7,8],[8,7,8,8]]}
[]
[null,null,null,null,null,"SETTING","PRODUCTS","STOCK","REPORT"]
[null,null,"แบบฟอร์มใบสั่งซื้อสินค้าประจำสาขา (Product Order Form)",null,null,null,null,null,null,{"$f":"B_Name","v":"โรงงานร่มเกล้า"}]
[]
[null,"เลขที่",{"$f":"\"PO_\"&RIGHT(BranchCode,2)&\"-\"&TEXT(OrderDate,\"[$-,107]yymmdd;@\")","v":"PO_RK-610806"},null,null,null,null,{"$f":"\"สาขา \"&B_Name","v":"สาขา โรงงานร่มเกล้า"}]
[null,null,null,null,null,null,null,{"$f":"\"เลขที่ \"&IFERROR(LEFT(B_Address,FIND(\"จ.\",B_Address)-1),LEFT(B_Address,FIND(\"แขวง\",B_Address)-1))","v":"เลขที่ 205/5 ถ.ร่มเกล้า "}]
[]
[null,null,null,null,null,null,null,{"$f":"IFERROR(RIGHT(B_Address,LEN(B_Address)-FIND(\"จ.\",B_Address)+1),MID(B_Address,FIND(\"แขวง\",B_Address),FIND(\"กรุง\",B_Address)-FIND(\"แขวง\",B_Address)))","v":"แขวงคลองสามประเวศ เขตลาดกระบัง "}]
[null,null,null,null,null,null,null,{"$f":"IF(ISERROR(FIND(\"จ.\",B_Address)),RIGHT(B_Address,LEN(B_Address)-FIND(\"กรุงเทพ\",B_Address)+1),\"\")","v":"กรุงเทพมหานคร 10520"}]
[null,null,null,null,1,"กรกฎาคม",{"$f":"TODAY()","v":"2022-07-14"}]
[null,"เรื่อง",{"$f":"\"ขอสั่งซื้อสินค้า เพื่อจัดจำหน่าย สาขา\"&B_Name &\"(\"&BranchCode&\")\"","v":"ขอสั่งซื้อสินค้า เพื่อจัดจำหน่าย สาขาโรงงานร่มเกล้า(00-FRK)"}]
[null,"เรียน",{"$f":"\"ผู้จัดการโรงงานระยอง (คุณ\"&INDEX(dBranches[Manager],MATCH(\"00-FRY\",dBranches[Code],0))&\" )\"","v":"ผู้จัดการโรงงานระยอง (คุณนรรฆวุฒิ จันทฤทธิ์ )"}]
[]
[null,null,{"$f":"\"เนื่องด้วย สาขา\"&B_Name&\" มีความประสงค์ขอสั่งซื้อสินค้า เพื่อจัดจำหน่าย ระหว่างวันที่  \"& TEXT($D$18,\"[$-,107]d mmm yyy\")","v":"เนื่องด้วย สาขาโรงงานร่มเกล้า มีความประสงค์ขอสั่งซื้อสินค้า เพื่อจัดจำหน่าย ระหว่างวันที่  6 ส.ค. 2561"}]
[null,{"$f":"\" ถึงวันที่ \"&TEXT($D$18+5,\"[$-,107]d mmm yyy\")&\"  จำนวนทั้งสิ้น \"&SUM(L20:L59)&\" รายการ \"&TEXT(SUM(D60:I60),\"#,##0\")&\" ถาด โดยมีรายละเอียดดังนี้\"","v":" ถึงวันที่ 11 ส.ค. 2561  จำนวนทั้งสิ้น 0 รายการ 0 ถาด โดยมีรายละเอียดดังนี้"},null,null,null,null,null,null,null,null,null,null,null,null,"Alphabet#",{"$f":"LEN(BranchCode)-FIND(\"-\",BranchCode)","v":3}]
[]
[null,null,null,"จำนวนสั่งซื้อ (ถาด)",null,null,null,null,null,null,null,null,null,null,"** สูตรนี้กำหนดไว้ที่ประมาณ 280 รายการ"]
[null,"ลำดับ","รายการสินค้า","2018-08-06",{"$f":"D18+1","v":"2018-08-07"},{"$f":"E18+1","v":"2018-08-08"},"2018-08-09","2018-08-10","2018-08-11","รวมทั้งสิ้น",null,null,null,null,"วันที่","สาขา","ประเภท","รายการสินค้า","จำนวนถาด","เกิน (ชิ้น)"]
[null,"No.","Items",2,3,4,5,6,7,"ถาด","Pcs/Tray",null,null,"Index","Date","Branch","Type","Products","Qty-Tray","Excess-Pcs"]
[null,{"$f":"IF($C20=\"\",\"\",ROWS($C$20:$C20))","v":1},{"$f":"IF(ROWS($C$20:$C20)>COUNTA(FRY_Product_List),\"\",INDEX(FRY_Product_List,ROWS($C$20:$C20)))","v":"01-ขนมปังหมูหยองน้ำสลัด"},{"$f":"IF($C20=\"\",\"\",ROUND(SUMPRODUCT((LEFT(Transaction[Route],Branch_Digit)=RIGHT(BranchCode,Branch_Digit))*(Transaction[Type]=\"เบิก\")*(Transaction[Products]='Factory_Order Frm'!$C20)*(Transaction[Date]=D$18)*(Transaction[Qty In-Out]))/'Factory_Order Frm'!$K20,0))","v":0},{"$f":"IF($C20=\"\",\"\",ROUND(SUMPRODUCT((LEFT(Transaction[Route],Branch_Digit)=RIGHT(BranchCode,Branch_Digit))*(Transaction[Type]=\"เบิก\")*(Transaction[Products]='Factory_Order Frm'!$C20)*(Transaction[Date]=E$18)*(Transaction[Qty In-Out]))/'Factory_Order Frm'!$K20,0))","v":0},{"$f":"IF($C20=\"\",\"\",ROUND(SUMPRODUCT((LEFT(Transaction[Route],Branch_Digit)=RIGHT(BranchCode,Branch_Digit))*(Transaction[Type]=\"เบิก\")*(Transaction[Products]='Factory_Order Frm'!$C20)*(Transaction[Date]=F$18)*(Transaction[Qty In-Out]))/'Factory_Order Frm'!$K20,0))","v":0},{"$f":"IF($C20=\"\",\"\",ROUND(SUMPRODUCT((LEFT(Transaction[Route],Branch_Digit)=RIGHT(BranchCode,Branch_Digit))*(Transaction[Type]=\"เบิก\")*(Transaction[Products]='Factory_Order Frm'!$C20)*(Transaction[Date]=G$18)*(Transaction[Qty In-Out]))/'Factory_Order Frm'!$K20,0))","v":0},{"$f":"IF($C20=\"\",\"\",ROUND(SUMPRODUCT((LEFT(Transaction[Route],Branch_Digit)=RIGHT(BranchCode,Branch_Digit))*(Transaction[Type]=\"เบิก\")*(Transaction[Products]='Factory_Order Frm'!$C20)*(Transaction[Date]=H$18)*(Transaction[Qty In-Out]))/'Factory_Order Frm'!$K20,0))","v":0},{"$f":"IF($C20=\"\",\"\",ROUND(SUMPRODUCT((LEFT(Transaction[Route],Branch_Digit)=RIGHT(BranchCode,Branch_Digit))*(Transaction[Type]=\"เบิก\")*(Transaction[Products]='Factory_Order Frm'!$C20)*(Transaction[Date]=I$18)*(Transaction[Qty In-Out]))/'Factory_Order Frm'!$K20,0))","v":0},{"$f":"IF($C20=\"\",\"\",SUM(D20:I20))","v":0},{"$f":"IF('Factory_Order Frm'!$C20=\"\",\"\",INDEX(dProduct[Pcs/Unit],MATCH('Factory_Order Frm'!$C20,dProduct[NameTH],)))","v":40},{"$f":"IF(OR(J20=0,J20=\"\"),0,1)","v":0},null,{"$f":"IF(Cumulative>(ROW()-ROW($O$20)),_xlfn.AGGREGATE(15,6,(ROW(OrderRange_Ref)-ROW($L$19))/(OFFSET(OrderRange_Ref,,0)>0),ROWS($L$20:$L20)),IF(OFFSET(Cumulative,,1)>(ROW()-ROW($O$20)),_xlfn.AGGREGATE(15,6,(ROW(OrderRange_Ref)-ROW($L$19))/(OFFSET(OrderRange_Ref,,1)>0),ROWS($L$20:$L20)-OFFSET(Cumulative,,0)),IF(OFFSET(Cumulative,,2)>(ROW()-ROW($O$20)),_xlfn.AGGREGATE(15,6,(ROW(OrderRange_Ref)-ROW($L$19))/(OFFSET(OrderRange_Ref,,2)>0),ROWS($L$20:$L20)-OFFSET(Cumulative,,1)),IF(OFFSET(Cumulative,,3)>(ROW()-ROW($O$20)),_xlfn.AGGREGATE(15,6,(ROW(OrderRange_Ref)-ROW($L$19))/(OFFSET(OrderRange_Ref,,3)>0),ROWS($L$20:$L20)-OFFSET(Cumulative,,2)),IF(OFFSET(Cumulative,,4)>(ROW()-ROW($O$20)),_xlfn.AGGREGATE(15,6,(ROW(OrderRange_Ref)-ROW($L$19))/(OFFSET(OrderRange_Ref,,4)>0),ROWS($L$20:$L20)-OFFSET(Cumulative,,3)),IF(OFFSET(Cumulative,,5)>(ROW()-ROW($O$20)),_xlfn.AGGREGATE(15,6,(ROW(OrderRange_Ref)-ROW($L$19))/(OFFSET(OrderRange_Ref,,5)>0),ROWS($L$20:$L20)-OFFSET(Cumulative,,4)),\"\"))))))","v":""},{"$f":"IF(Cumulative>(ROW()-ROW($O$20)),OrderDate,IF(OFFSET(Cumulative,,1)>(ROW()-ROW($O$20)),OrderDate+1,IF(OFFSET(Cumulative,,2)>(ROW()-ROW($O$20)),OrderDate+2,IF(OFFSET(Cumulative,,3)>(ROW()-ROW($O$20)),OrderDate+3,IF(OFFSET(Cumulative,,4)>(ROW()-ROW($O$20)),OrderDate+4,IF(OFFSET(Cumulative,,5)>(ROW()-ROW($O$20)),OrderDate+5,\"\"))))))","v":""},{"$f":"IF($O20<>\"\",BranchCode,\"\")","v":""},{"$f":"IF($O20<>\"\",\"จ่าย\",\"\")","v":""},{"$f":"IFERROR(INDEX($C$20:$C$54,$N20),\"\")","v":""},{"$f":"IF($N20=\"\",\"\",ROUND(SUMPRODUCT((LEFT(Transaction[Route],Branch_Digit)=RIGHT(BranchCode,Branch_Digit))*(Transaction[Type]=\"เบิก\")*(Transaction[Products]='Factory_Order Frm'!$R20)*(Transaction[Date]=$O20)*(Transaction[Qty In-Out]))/PcsPerTray,0))","v":""},{"$f":"IF($N20=\"\",\"\",MOD(SUMPRODUCT((LEFT(Transaction[Route],Branch_Digit)=RIGHT(BranchCode,Branch_Digit))*(Transaction[Type]=\"เบิก\")*(Transaction[Products]='Factory_Order Frm'!$R20)*(Transaction[Date]=$O20)*(Transaction[Qty In-Out])),PcsPerTray))","v":""}]
[null,{"$f":"IF($C21=\"\",\"\",ROWS($C$20:$C21))","v":2},{"$f":"IF(ROWS($C$20:$C21)>COUNTA(FRY_Product_List),\"\",INDEX(FRY_Product_List,ROWS($C$20:$C21)))","v":"02-ขนมปังหมูหยองน้ำพริกเผา"},{"$f":"IF($C21=\"\",\"\",ROUND(SUMPRODUCT((LEFT(Transaction[Route],Branch_Digit)=RIGHT(BranchCode,Branch_Digit))*(Transaction[Type]=\"เบิก\")*(Transaction[Products]='Factory_Order Frm'!$C21)*(Transaction[Date]=D$18)*(Transaction[Qty In-Out]))/'Factory_Order Frm'!$K21,0))","v":0},{"$f":"IF($C21=\"\",\"\",ROUND(SUMPRODUCT((LEFT(Transaction[Route],Branch_Digit)=RIGHT(BranchCode,Branch_Digit))*(Transaction[Type]=\"เบิก\")*(Transaction[Products]='Factory_Order Frm'!$C21)*(Transaction[Date]=E$18)*(Transaction[Qty In-Out]))/'Factory_Order Frm'!$K21,0))","v":0},{"$f":"IF($C21=\"\",\"\",ROUND(SUMPRODUCT((LEFT(Transaction[Route],Branch_Digit)=RIGHT(BranchCode,Branch_Digit))*(Transaction[Type]=\"เบิก\")*(Transaction[Products]='Factory_Order Frm'!$C21)*(Transaction[Date]=F$18)*(Transaction[Qty In-Out]))/'Factory_Order Frm'!$K21,0))","v":0},{"$f":"IF($C21=\"\",\"\",ROUND(SUMPRODUCT((LEFT(Transaction[Route],Branch_Digit)=RIGHT(BranchCode,Branch_Digit))*(Transaction[Type]=\"เบิก\")*(Transaction[Products]='Factory_Order Frm'!$C21)*(Transaction[Date]=G$18)*(Transaction[Qty In-Out]))/'Factory_Order Frm'!$K21,0))","v":0},{"$f":"IF($C21=\"\",\"\",ROUND(SUMPRODUCT((LEFT(Transaction[Route],Branch_Digit)=RIGHT(BranchCode,Branch_Digit))*(Transaction[Type]=\"เบิก\")*(Transaction[Products]='Factory_Order Frm'!$C21)*(Transaction[Date]=H$18)*(Transaction[Qty In-Out]))/'Factory_Order Frm'!$K21,0))","v":0},{"$f":"IF($C21=\"\",\"\",ROUND(SUMPRODUCT((LEFT(Transaction[Route],Branch_Digit)=RIGHT(BranchCode,Branch_Digit))*(Transaction[Type]=\"เบิก\")*(Transaction[Products]='Factory_Order Frm'!$C21)*(Transaction[Date]=I$18)*(Transaction[Qty In-Out]))/'Factory_Order Frm'!$K21,0))","v":0},{"$f":"IF($C21=\"\",\"\",SUM(D21:I21))","v":0},{"$f":"IF('Factory_Order Frm'!$C21=\"\",\"\",INDEX(dProduct[Pcs/Unit],MATCH('Factory_Order Frm'!$C21,dProduct[NameTH],)))","v":40},{"$f":"IF(OR(J21=0,J21=\"\"),0,1)","v":0},null,{"$f":"IF(Cumulative>(ROW()-ROW($O$20)),_xlfn.AGGREGATE(15,6,(ROW(OrderRange_Ref)-ROW($L$19))/(OFFSET(OrderRange_Ref,,0)>0),ROWS($L$20:$L21)),IF(OFFSET(Cumulative,,1)>(ROW()-ROW($O$20)),_xlfn.AGGREGATE(15,6,(ROW(OrderRange_Ref)-ROW($L$19))/(OFFSET(OrderRange_Ref,,1)>0),ROWS($L$20:$L21)-OFFSET(Cumulative,,0)),IF(OFFSET(Cumulative,,2)>(ROW()-ROW($O$20)),_xlfn.AGGREGATE(15,6,(ROW(OrderRange_Ref)-ROW($L$19))/(OFFSET(OrderRange_Ref,,2)>0),ROWS($L$20:$L21)-OFFSET(Cumulative,,1)),IF(OFFSET(Cumulative,,3)>(ROW()-ROW($O$20)),_xlfn.AGGREGATE(15,6,(ROW(OrderRange_Ref)-ROW($L$19))/(OFFSET(OrderRange_Ref,,3)>0),ROWS($L$20:$L21)-OFFSET(Cumulative,,2)),IF(OFFSET(Cumulative,,4)>(ROW()-ROW($O$20)),_xlfn.AGGREGATE(15,6,(ROW(OrderRange_Ref)-ROW($L$19))/(OFFSET(OrderRange_Ref,,4)>0),ROWS($L$20:$L21)-OFFSET(Cumulative,,3)),IF(OFFSET(Cumulative,,5)>(ROW()-ROW($O$20)),_xlfn.AGGREGATE(15,6,(ROW(OrderRange_Ref)-ROW($L$19))/(OFFSET(OrderRange_Ref,,5)>0),ROWS($L$20:$L21)-OFFSET(Cumulative,,4)),\"\"))))))","v":""},"","",{"$f":"IF($O21<>\"\",\"จ่าย\",\"\")","v":""},{"$f":"IFERROR(INDEX($C$20:$C$54,$N21),\"\")","v":""},{"$f":"IF($N21=\"\",\"\",ROUND(SUMPRODUCT((LEFT(Transaction[Route],Branch_Digit)=RIGHT(BranchCode,Branch_Digit))*(Transaction[Type]=\"เบิก\")*(Transaction[Products]='Factory_Order Frm'!$R21)*(Transaction[Date]=$O21)*(Transaction[Qty In-Out]))/PcsPerTray,0))","v":""},{"$f":"IF($N21=\"\",\"\",MOD(SUMPRODUCT((LEFT(Transaction[Route],Branch_Digit)=RIGHT(BranchCode,Branch_Digit))*(Transaction[Type]=\"เบิก\")*(Transaction[Products]='Factory_Order Frm'!$R21)*(Transaction[Date]=$O21)*(Transaction[Qty In-Out])),PcsPerTray))","v":""}]
[null,{"$f":"IF($C22=\"\",\"\",ROWS($C$20:$C22))","v":3},{"$f":"IF(ROWS($C$20:$C22)>COUNTA(FRY_Product_List),\"\",INDEX(FRY_Product_List,ROWS($C$20:$C22)))","v":"03-ขนมปังไก่หยองน้ำสลัด"},{"$f":"IF($C22=\"\",\"\",ROUND(SUMPRODUCT((LEFT(Transaction[Route],Branch_Digit)=RIGHT(BranchCode,Branch_Digit))*(Transaction[Type]=\"เบิก\")*(Transaction[Products]='Factory_Order Frm'!$C22)*(Transaction[Date]=D$18)*(Transaction[Qty In-Out]))/'Factory_Order Frm'!$K22,0))","v":0},{"$f":"IF($C22=\"\",\"\",ROUND(SUMPRODUCT((LEFT(Transaction[Route],Branch_Digit)=RIGHT(BranchCode,Branch_Digit))*(Transaction[Type]=\"เบิก\")*(Transaction[Products]='Factory_Order Frm'!$C22)*(Transaction[Date]=E$18)*(Transaction[Qty In-Out]))/'Factory_Order Frm'!$K22,0))","v":0},{"$f":"IF($C22=\"\",\"\",ROUND(SUMPRODUCT((LEFT(Transaction[Route],Branch_Digit)=RIGHT(BranchCode,Branch_Digit))*(Transaction[Type]=\"เบิก\")*(Transaction[Products]='Factory_Order Frm'!$C22)*(Transaction[Date]=F$18)*(Transaction[Qty In-Out]))/'Factory_Order Frm'!$K22,0))","v":0},{"$f":"IF($C22=\"\",\"\",ROUND(SUMPRODUCT((LEFT(Transaction[Route],Branch_Digit)=RIGHT(BranchCode,Branch_Digit))*(Transaction[Type]=\"เบิก\")*(Transaction[Products]='Factory_Order Frm'!$C22)*(Transaction[Date]=G$18)*(Transaction[Qty In-Out]))/'Factory_Order Frm'!$K22,0))","v":0},{"$f":"IF($C22=\"\",\"\",ROUND(SUMPRODUCT((LEFT(Transaction[Route],Branch_Digit)=RIGHT(BranchCode,Branch_Digit))*(Transaction[Type]=\"เบิก\")*(Transaction[Products]='Factory_Order Frm'!$C22)*(Transaction[Date]=H$18)*(Transaction[Qty In-Out]))/'Factory_Order Frm'!$K22,0))","v":0},{"$f":"IF($C22=\"\",\"\",ROUND(SUMPRODUCT((LEFT(Transaction[Route],Branch_Digit)=RIGHT(BranchCode,Branch_Digit))*(Transaction[Type]=\"เบิก\")*(Transaction[Products]='Factory_Order Frm'!$C22)*(Transaction[Date]=I$18)*(Transaction[Qty In-Out]))/'Factory_Order Frm'!$K22,0))","v":0},0,{"$f":"IF('Factory_Order Frm'!$C22=\"\",\"\",INDEX(dProduct[Pcs/Unit],MATCH('Factory_Order Frm'!$C22,dProduct[NameTH],)))","v":40},0,null,{"$f":"IF(Cumulative>(ROW()-ROW($O$20)),_xlfn.AGGREGATE(15,6,(ROW(OrderRange_Ref)-ROW($L$19))/(OFFSET(OrderRange_Ref,,0)>0),ROWS($L$20:$L22)),IF(OFFSET(Cumulative,,1)>(ROW()-ROW($O$20)),_xlfn.AGGREGATE(15,6,(ROW(OrderRange_Ref)-ROW($L$19))/(OFFSET(OrderRange_Ref,,1)>0),ROWS($L$20:$L22)-OFFSET(Cumulative,,0)),IF(OFFSET(Cumulative,,2)>(ROW()-ROW($O$20)),_xlfn.AGGREGATE(15,6,(ROW(OrderRange_Ref)-ROW($L$19))/(OFFSET(OrderRange_Ref,,2)>0),ROWS($L$20:$L22)-OFFSET(Cumulative,,1)),IF(OFFSET(Cumulative,,3)>(ROW()-ROW($O$20)),_xlfn.AGGREGATE(15,6,(ROW(OrderRange_Ref)-ROW($L$19))/(OFFSET(OrderRange_Ref,,3)>0),ROWS($L$20:$L22)-OFFSET(Cumulative,,2)),IF(OFFSET(Cumulative,,4)>(ROW()-ROW($O$20)),_xlfn.AGGREGATE(15,6,(ROW(OrderRange_Ref)-ROW($L$19))/(OFFSET(OrderRange_Ref,,4)>0),ROWS($L$20:$L22)-OFFSET(Cumulative,,3)),IF(OFFSET(Cumulative,,5)>(ROW()-ROW($O$20)),_xlfn.AGGREGATE(15,6,(ROW(OrderRange_Ref)-ROW($L$19))/(OFFSET(OrderRange_Ref,,5)>0),ROWS($L$20:$L22)-OFFSET(Cumulative,,4)),\"\"))))))","v":""},"","","","",{"$f":"IF($N22=\"\",\"\",ROUND(SUMPRODUCT((LEFT(Transaction[Route],Branch_Digit)=RIGHT(BranchCode,Branch_Digit))*(Transaction[Type]=\"เบิก\")*(Transaction[Products]='Factory_Order Frm'!$R22)*(Transaction[Date]=$O22)*(Transaction[Qty In-Out]))/PcsPerTray,0))","v":""},{"$f":"IF($N22=\"\",\"\",MOD(SUMPRODUCT((LEFT(Transaction[Route],Branch_Digit)=RIGHT(BranchCode,Branch_Digit))*(Transaction[Type]=\"เบิก\")*(Transaction[Products]='Factory_Order Frm'!$R22)*(Transaction[Date]=$O22)*(Transaction[Qty In-Out])),PcsPerTray))","v":""}]
[null,{"$f":"IF($C23=\"\",\"\",ROWS($C$20:$C23))","v":4},{"$f":"IF(ROWS($C$20:$C23)>COUNTA(FRY_Product_List),\"\",INDEX(FRY_Product_List,ROWS($C$20:$C23)))","v":"04-ขนมปังไส้ครีมสลัด"},{"$f":"IF($C23=\"\",\"\",ROUND(SUMPRODUCT((LEFT(Transaction[Route],Branch_Digit)=RIGHT(BranchCode,Branch_Digit))*(Transaction[Type]=\"เบิก\")*(Transaction[Products]='Factory_Order Frm'!$C23)*(Transaction[Date]=D$18)*(Transaction[Qty In-Out]))/'Factory_Order Frm'!$K23,0))","v":0},{"$f":"IF($C23=\"\",\"\",ROUND(SUMPRODUCT((LEFT(Transaction[Route],Branch_Digit)=RIGHT(BranchCode,Branch_Digit))*(Transaction[Type]=\"เบิก\")*(Transaction[Products]='Factory_Order Frm'!$C23)*(Transaction[Date]=E$18)*(Transaction[Qty In-Out]))/'Factory_Order Frm'!$K23,0))","v":0},{"$f":"IF($C23=\"\",\"\",ROUND(SUMPRODUCT((LEFT(Transaction[Route],Branch_Digit)=RIGHT(BranchCode,Branch_Digit))*(Transaction[Type]=\"เบิก\")*(Transaction[Products]='Factory_Order Frm'!$C23)*(Transaction[Date]=F$18)*(Transaction[Qty In-Out]))/'Factory_Order Frm'!$K23,0))","v":0},{"$f":"IF($C23=\"\",\"\",ROUND(SUMPRODUCT((LEFT(Transaction[Route],Branch_Digit)=RIGHT(BranchCode,Branch_Digit))*(Transaction[Type]=\"เบิก\")*(Transaction[Products]='Factory_Order Frm'!$C23)*(Transaction[Date]=G$18)*(Transaction[Qty In-Out]))/'Factory_Order Frm'!$K23,0))","v":0},{"$f":"IF($C23=\"\",\"\",ROUND(SUMPRODUCT((LEFT(Transaction[Route],Branch_Digit)=RIGHT(BranchCode,Branch_Digit))*(Transaction[Type]=\"เบิก\")*(Transaction[Products]='Factory_Order Frm'!$C23)*(Transaction[Date]=H$18)*(Transaction[Qty In-Out]))/'Factory_Order Frm'!$K23,0))","v":0},{"$f":"IF($C23=\"\",\"\",ROUND(SUMPRODUCT((LEFT(Transaction[Route],Branch_Digit)=RIGHT(BranchCode,Branch_Digit))*(Transaction[Type]=\"เบิก\")*(Transaction[Products]='Factory_Order Frm'!$C23)*(Transaction[Date]=I$18)*(Transaction[Qty In-Out]))/'Factory_Order Frm'!$K23,0))","v":0},0,{"$f":"IF('Factory_Order Frm'!$C23=\"\",\"\",INDEX(dProduct[Pcs/Unit],MATCH('Factory_Order Frm'!$C23,dProduct[NameTH],)))","v":50},0,null,{"$f":"IF(Cumulative>(ROW()-ROW($O$20)),_xlfn.AGGREGATE(15,6,(ROW(OrderRange_Ref)-ROW($L$19))/(OFFSET(OrderRange_Ref,,0)>0),ROWS($L$20:$L23)),IF(OFFSET(Cumulative,,1)>(ROW()-ROW($O$20)),_xlfn.AGGREGATE(15,6,(ROW(OrderRange_Ref)-ROW($L$19))/(OFFSET(OrderRange_Ref,,1)>0),ROWS($L$20:$L23)-OFFSET(Cumulative,,0)),IF(OFFSET(Cumulative,,2)>(ROW()-ROW($O$20)),_xlfn.AGGREGATE(15,6,(ROW(OrderRange_Ref)-ROW($L$19))/(OFFSET(OrderRange_Ref,,2)>0),ROWS($L$20:$L23)-OFFSET(Cumulative,,1)),IF(OFFSET(Cumulative,,3)>(ROW()-ROW($O$20)),_xlfn.AGGREGATE(15,6,(ROW(OrderRange_Ref)-ROW($L$19))/(OFFSET(OrderRange_Ref,,3)>0),ROWS($L$20:$L23)-OFFSET(Cumulative,,2)),IF(OFFSET(Cumulative,,4)>(ROW()-ROW($O$20)),_xlfn.AGGREGATE(15,6,(ROW(OrderRange_Ref)-ROW($L$19))/(OFFSET(OrderRange_Ref,,4)>0),ROWS($L$20:$L23)-OFFSET(Cumulative,,3)),IF(OFFSET(Cumulative,,5)>(ROW()-ROW($O$20)),_xlfn.AGGREGATE(15,6,(ROW(OrderRange_Ref)-ROW($L$19))/(OFFSET(OrderRange_Ref,,5)>0),ROWS($L$20:$L23)-OFFSET(Cumulative,,4)),\"\"))))))","v":""},"","","","",{"$f":"IF($N23=\"\",\"\",ROUND(SUMPRODUCT((LEFT(Transaction[Route],Branch_Digit)=RIGHT(BranchCode,Branch_Digit))*(Transaction[Type]=\"เบิก\")*(Transaction[Products]='Factory_Order Frm'!$R23)*(Transaction[Date]=$O23)*(Transaction[Qty In-Out]))/PcsPerTray,0))","v":""},{"$f":"IF($N23=\"\",\"\",MOD(SUMPRODUCT((LEFT(Transaction[Route],Branch_Digit)=RIGHT(BranchCode,Branch_Digit))*(Transaction[Type]=\"เบิก\")*(Transaction[Products]='Factory_Order Frm'!$R23)*(Transaction[Date]=$O23)*(Transaction[Qty In-Out])),PcsPerTray))","v":""}]
[null,{"$f":"IF($C24=\"\",\"\",ROWS($C$20:$C24))","v":5},{"$f":"IF(ROWS($C$20:$C24)>COUNTA(FRY_Product_List),\"\",INDEX(FRY_Product_List,ROWS($C$20:$C24)))","v":"05-ขนมปังเนยสด"},{"$f":"IF($C24=\"\",\"\",ROUND(SUMPRODUCT((LEFT(Transaction[Route],Branch_Digit)=RIGHT(BranchCode,Branch_Digit))*(Transaction[Type]=\"เบิก\")*(Transaction[Products]='Factory_Order Frm'!$C24)*(Transaction[Date]=D$18)*(Transaction[Qty In-Out]))/'Factory_Order Frm'!$K24,0))","v":0},{"$f":"IF($C24=\"\",\"\",ROUND(SUMPRODUCT((LEFT(Transaction[Route],Branch_Digit)=RIGHT(BranchCode,Branch_Digit))*(Transaction[Type]=\"เบิก\")*(Transaction[Products]='Factory_Order Frm'!$C24)*(Transaction[Date]=E$18)*(Transaction[Qty In-Out]))/'Factory_Order Frm'!$K24,0))","v":0},{"$f":"IF($C24=\"\",\"\",ROUND(SUMPRODUCT((LEFT(Transaction[Route],Branch_Digit)=RIGHT(BranchCode,Branch_Digit))*(Transaction[Type]=\"เบิก\")*(Transaction[Products]='Factory_Order Frm'!$C24)*(Transaction[Date]=F$18)*(Transaction[Qty In-Out]))/'Factory_Order Frm'!$K24,0))","v":0},{"$f":"IF($C24=\"\",\"\",ROUND(SUMPRODUCT((LEFT(Transaction[Route],Branch_Digit)=RIGHT(BranchCode,Branch_Digit))*(Transaction[Type]=\"เบิก\")*(Transaction[Products]='Factory_Order Frm'!$C24)*(Transaction[Date]=G$18)*(Transaction[Qty In-Out]))/'Factory_Order Frm'!$K24,0))","v":0},{"$f":"IF($C24=\"\",\"\",ROUND(SUMPRODUCT((LEFT(Transaction[Route],Branch_Digit)=RIGHT(BranchCode,Branch_Digit))*(Transaction[Type]=\"เบิก\")*(Transaction[Products]='Factory_Order Frm'!$C24)*(Transaction[Date]=H$18)*(Transaction[Qty In-Out]))/'Factory_Order Frm'!$K24,0))","v":0},{"$f":"IF($C24=\"\",\"\",ROUND(SUMPRODUCT((LEFT(Transaction[Route],Branch_Digit)=RIGHT(BranchCode,Branch_Digit))*(Transaction[Type]=\"เบิก\")*(Transaction[Products]='Factory_Order Frm'!$C24)*(Transaction[Date]=I$18)*(Transaction[Qty In-Out]))/'Factory_Order Frm'!$K24,0))","v":0},{"$f":"IF($C24=\"\",\"\",SUM(D24:I24))","v":0},{"$f":"IF('Factory_Order Frm'!$C24=\"\",\"\",INDEX(dProduct[Pcs/Unit],MATCH('Factory_Order Frm'!$C24,dProduct[NameTH],)))","v":40},0,null,{"$f":"IF(Cumulative>(ROW()-ROW($O$20)),_xlfn.AGGREGATE(15,6,(ROW(OrderRange_Ref)-ROW($L$19))/(OFFSET(OrderRange_Ref,,0)>0),ROWS($L$20:$L24)),IF(OFFSET(Cumulative,,1)>(ROW()-ROW($O$20)),_xlfn.AGGREGATE(15,6,(ROW(OrderRange_Ref)-ROW($L$19))/(OFFSET(OrderRange_Ref,,1)>0),ROWS($L$20:$L24)-OFFSET(Cumulative,,0)),IF(OFFSET(Cumulative,,2)>(ROW()-ROW($O$20)),_xlfn.AGGREGATE(15,6,(ROW(OrderRange_Ref)-ROW($L$19))/(OFFSET(OrderRange_Ref,,2)>0),ROWS($L$20:$L24)-OFFSET(Cumulative,,1)),IF(OFFSET(Cumulative,,3)>(ROW()-ROW($O$20)),_xlfn.AGGREGATE(15,6,(ROW(OrderRange_Ref)-ROW($L$19))/(OFFSET(OrderRange_Ref,,3)>0),ROWS($L$20:$L24)-OFFSET(Cumulative,,2)),IF(OFFSET(Cumulative,,4)>(ROW()-ROW($O$20)),_xlfn.AGGREGATE(15,6,(ROW(OrderRange_Ref)-ROW($L$19))/(OFFSET(OrderRange_Ref,,4)>0),ROWS($L$20:$L24)-OFFSET(Cumulative,,3)),IF(OFFSET(Cumulative,,5)>(ROW()-ROW($O$20)),_xlfn.AGGREGATE(15,6,(ROW(OrderRange_Ref)-ROW($L$19))/(OFFSET(OrderRange_Ref,,5)>0),ROWS($L$20:$L24)-OFFSET(Cumulative,,4)),\"\"))))))","v":""},"","","","",{"$f":"IF($N24=\"\",\"\",ROUND(SUMPRODUCT((LEFT(Transaction[Route],Branch_Digit)=RIGHT(BranchCode,Branch_Digit))*(Transaction[Type]=\"เบิก\")*(Transaction[Products]='Factory_Order Frm'!$R24)*(Transaction[Date]=$O24)*(Transaction[Qty In-Out]))/PcsPerTray,0))","v":""},{"$f":"IF($N24=\"\",\"\",MOD(SUMPRODUCT((LEFT(Transaction[Route],Branch_Digit)=RIGHT(BranchCode,Branch_Digit))*(Transaction[Type]=\"เบิก\")*(Transaction[Products]='Factory_Order Frm'!$R24)*(Transaction[Date]=$O24)*(Transaction[Qty In-Out])),PcsPerTray))","v":""}]
[null,{"$f":"IF($C25=\"\",\"\",ROWS($C$20:$C25))","v":6},{"$f":"IF(ROWS($C$20:$C25)>COUNTA(FRY_Product_List),\"\",INDEX(FRY_Product_List,ROWS($C$20:$C25)))","v":"06-ขนมปังไส้สังขยาเล็ก"},{"$f":"IF($C25=\"\",\"\",ROUND(SUMPRODUCT((LEFT(Transaction[Route],Branch_Digit)=RIGHT(BranchCode,Branch_Digit))*(Transaction[Type]=\"เบิก\")*(Transaction[Products]='Factory_Order Frm'!$C25)*(Transaction[Date]=D$18)*(Transaction[Qty In-Out]))/'Factory_Order Frm'!$K25,0))","v":0},{"$f":"IF($C25=\"\",\"\",ROUND(SUMPRODUCT((LEFT(Transaction[Route],Branch_Digit)=RIGHT(BranchCode,Branch_Digit))*(Transaction[Type]=\"เบิก\")*(Transaction[Products]='Factory_Order Frm'!$C25)*(Transaction[Date]=E$18)*(Transaction[Qty In-Out]))/'Factory_Order Frm'!$K25,0))","v":0},{"$f":"IF($C25=\"\",\"\",ROUND(SUMPRODUCT((LEFT(Transaction[Route],Branch_Digit)=RIGHT(BranchCode,Branch_Digit))*(Transaction[Type]=\"เบิก\")*(Transaction[Products]='Factory_Order Frm'!$C25)*(Transaction[Date]=F$18)*(Transaction[Qty In-Out]))/'Factory_Order Frm'!$K25,0))","v":0},{"$f":"IF($C25=\"\",\"\",ROUND(SUMPRODUCT((LEFT(Transaction[Route],Branch_Digit)=RIGHT(BranchCode,Branch_Digit))*(Transaction[Type]=\"เบิก\")*(Transaction[Products]='Factory_Order Frm'!$C25)*(Transaction[Date]=G$18)*(Transaction[Qty In-Out]))/'Factory_Order Frm'!$K25,0))","v":0},{"$f":"IF($C25=\"\",\"\",ROUND(SUMPRODUCT((LEFT(Transaction[Route],Branch_Digit)=RIGHT(BranchCode,Branch_Digit))*(Transaction[Type]=\"เบิก\")*(Transaction[Products]='Factory_Order Frm'!$C25)*(Transaction[Date]=H$18)*(Transaction[Qty In-Out]))/'Factory_Order Frm'!$K25,0))","v":0},{"$f":"IF($C25=\"\",\"\",ROUND(SUMPRODUCT((LEFT(Transaction[Route],Branch_Digit)=RIGHT(BranchCode,Branch_Digit))*(Transaction[Type]=\"เบิก\")*(Transaction[Products]='Factory_Order Frm'!$C25)*(Transaction[Date]=I$18)*(Transaction[Qty In-Out]))/'Factory_Order Frm'!$K25,0))","v":0},0,{"$f":"IF('Factory_Order Frm'!$C25=\"\",\"\",INDEX(dProduct[Pcs/Unit],MATCH('Factory_Order Frm'!$C25,dProduct[NameTH],)))","v":50},0,null,{"$f":"IF(Cumulative>(ROW()-ROW($O$20)),_xlfn.AGGREGATE(15,6,(ROW(OrderRange_Ref)-ROW($L$19))/(OFFSET(OrderRange_Ref,,0)>0),ROWS($L$20:$L25)),IF(OFFSET(Cumulative,,1)>(ROW()-ROW($O$20)),_xlfn.AGGREGATE(15,6,(ROW(OrderRange_Ref)-ROW($L$19))/(OFFSET(OrderRange_Ref,,1)>0),ROWS($L$20:$L25)-OFFSET(Cumulative,,0)),IF(OFFSET(Cumulative,,2)>(ROW()-ROW($O$20)),_xlfn.AGGREGATE(15,6,(ROW(OrderRange_Ref)-ROW($L$19))/(OFFSET(OrderRange_Ref,,2)>0),ROWS($L$20:$L25)-OFFSET(Cumulative,,1)),IF(OFFSET(Cumulative,,3)>(ROW()-ROW($O$20)),_xlfn.AGGREGATE(15,6,(ROW(OrderRange_Ref)-ROW($L$19))/(OFFSET(OrderRange_Ref,,3)>0),ROWS($L$20:$L25)-OFFSET(Cumulative,,2)),IF(OFFSET(Cumulative,,4)>(ROW()-ROW($O$20)),_xlfn.AGGREGATE(15,6,(ROW(OrderRange_Ref)-ROW($L$19))/(OFFSET(OrderRange_Ref,,4)>0),ROWS($L$20:$L25)-OFFSET(Cumulative,,3)),IF(OFFSET(Cumulative,,5)>(ROW()-ROW($O$20)),_xlfn.AGGREGATE(15,6,(ROW(OrderRange_Ref)-ROW($L$19))/(OFFSET(OrderRange_Ref,,5)>0),ROWS($L$20:$L25)-OFFSET(Cumulative,,4)),\"\"))))))","v":""},"","","","",{"$f":"IF($N25=\"\",\"\",ROUND(SUMPRODUCT((LEFT(Transaction[Route],Branch_Digit)=RIGHT(BranchCode,Branch_Digit))*(Transaction[Type]=\"เบิก\")*(Transaction[Products]='Factory_Order Frm'!$R25)*(Transaction[Date]=$O25)*(Transaction[Qty In-Out]))/PcsPerTray,0))","v":""},{"$f":"IF($N25=\"\",\"\",MOD(SUMPRODUCT((LEFT(Transaction[Route],Branch_Digit)=RIGHT(BranchCode,Branch_Digit))*(Transaction[Type]=\"เบิก\")*(Transaction[Products]='Factory_Order Frm'!$R25)*(Transaction[Date]=$O25)*(Transaction[Qty In-Out])),PcsPerTray))","v":""}]
[null,{"$f":"IF($C26=\"\",\"\",ROWS($C$20:$C26))","v":7},{"$f":"IF(ROWS($C$20:$C26)>COUNTA(FRY_Product_List),\"\",INDEX(FRY_Product_List,ROWS($C$20:$C26)))","v":"07-ขนมปังไส้เผือก"},{"$f":"IF($C26=\"\",\"\",ROUND(SUMPRODUCT((LEFT(Transaction[Route],Branch_Digit)=RIGHT(BranchCode,Branch_Digit))*(Transaction[Type]=\"เบิก\")*(Transaction[Products]='Factory_Order Frm'!$C26)*(Transaction[Date]=D$18)*(Transaction[Qty In-Out]))/'Factory_Order Frm'!$K26,0))","v":0},{"$f":"IF($C26=\"\",\"\",ROUND(SUMPRODUCT((LEFT(Transaction[Route],Branch_Digit)=RIGHT(BranchCode,Branch_Digit))*(Transaction[Type]=\"เบิก\")*(Transaction[Products]='Factory_Order Frm'!$C26)*(Transaction[Date]=E$18)*(Transaction[Qty In-Out]))/'Factory_Order Frm'!$K26,0))","v":0},{"$f":"IF($C26=\"\",\"\",ROUND(SUMPRODUCT((LEFT(Transaction[Route],Branch_Digit)=RIGHT(BranchCode,Branch_Digit))*(Transaction[Type]=\"เบิก\")*(Transaction[Products]='Factory_Order Frm'!$C26)*(Transaction[Date]=F$18)*(Transaction[Qty In-Out]))/'Factory_Order Frm'!$K26,0))","v":0},{"$f":"IF($C26=\"\",\"\",ROUND(SUMPRODUCT((LEFT(Transaction[Route],Branch_Digit)=RIGHT(BranchCode,Branch_Digit))*(Transaction[Type]=\"เบิก\")*(Transaction[Products]='Factory_Order Frm'!$C26)*(Transaction[Date]=G$18)*(Transaction[Qty In-Out]))/'Factory_Order Frm'!$K26,0))","v":0},{"$f":"IF($C26=\"\",\"\",ROUND(SUMPRODUCT((LEFT(Transaction[Route],Branch_Digit)=RIGHT(BranchCode,Branch_Digit))*(Transaction[Type]=\"เบิก\")*(Transaction[Products]='Factory_Order Frm'!$C26)*(Transaction[Date]=H$18)*(Transaction[Qty In-Out]))/'Factory_Order Frm'!$K26,0))","v":0},{"$f":"IF($C26=\"\",\"\",ROUND(SUMPRODUCT((LEFT(Transaction[Route],Branch_Digit)=RIGHT(BranchCode,Branch_Digit))*(Transaction[Type]=\"เบิก\")*(Transaction[Products]='Factory_Order Frm'!$C26)*(Transaction[Date]=I$18)*(Transaction[Qty In-Out]))/'Factory_Order Frm'!$K26,0))","v":0},0,{"$f":"IF('Factory_Order Frm'!$C26=\"\",\"\",INDEX(dProduct[Pcs/Unit],MATCH('Factory_Order Frm'!$C26,dProduct[NameTH],)))","v":50},0,null,{"$f":"IF(Cumulative>(ROW()-ROW($O$20)),_xlfn.AGGREGATE(15,6,(ROW(OrderRange_Ref)-ROW($L$19))/(OFFSET(OrderRange_Ref,,0)>0),ROWS($L$20:$L26)),IF(OFFSET(Cumulative,,1)>(ROW()-ROW($O$20)),_xlfn.AGGREGATE(15,6,(ROW(OrderRange_Ref)-ROW($L$19))/(OFFSET(OrderRange_Ref,,1)>0),ROWS($L$20:$L26)-OFFSET(Cumulative,,0)),IF(OFFSET(Cumulative,,2)>(ROW()-ROW($O$20)),_xlfn.AGGREGATE(15,6,(ROW(OrderRange_Ref)-ROW($L$19))/(OFFSET(OrderRange_Ref,,2)>0),ROWS($L$20:$L26)-OFFSET(Cumulative,,1)),IF(OFFSET(Cumulative,,3)>(ROW()-ROW($O$20)),_xlfn.AGGREGATE(15,6,(ROW(OrderRange_Ref)-ROW($L$19))/(OFFSET(OrderRange_Ref,,3)>0),ROWS($L$20:$L26)-OFFSET(Cumulative,,2)),IF(OFFSET(Cumulative,,4)>(ROW()-ROW($O$20)),_xlfn.AGGREGATE(15,6,(ROW(OrderRange_Ref)-ROW($L$19))/(OFFSET(OrderRange_Ref,,4)>0),ROWS($L$20:$L26)-OFFSET(Cumulative,,3)),IF(OFFSET(Cumulative,,5)>(ROW()-ROW($O$20)),_xlfn.AGGREGATE(15,6,(ROW(OrderRange_Ref)-ROW($L$19))/(OFFSET(OrderRange_Ref,,5)>0),ROWS($L$20:$L26)-OFFSET(Cumulative,,4)),\"\"))))))","v":""},"","","","",{"$f":"IF($N26=\"\",\"\",ROUND(SUMPRODUCT((LEFT(Transaction[Route],Branch_Digit)=RIGHT(BranchCode,Branch_Digit))*(Transaction[Type]=\"เบิก\")*(Transaction[Products]='Factory_Order Frm'!$R26)*(Transaction[Date]=$O26)*(Transaction[Qty In-Out]))/PcsPerTray,0))","v":""},{"$f":"IF($N26=\"\",\"\",MOD(SUMPRODUCT((LEFT(Transaction[Route],Branch_Digit)=RIGHT(BranchCode,Branch_Digit))*(Transaction[Type]=\"เบิก\")*(Transaction[Products]='Factory_Order Frm'!$R26)*(Transaction[Date]=$O26)*(Transaction[Qty In-Out])),PcsPerTray))","v":""}]
[null,{"$f":"IF($C27=\"\",\"\",ROWS($C$20:$C27))","v":8},{"$f":"IF(ROWS($C$20:$C27)>COUNTA(FRY_Product_List),\"\",INDEX(FRY_Product_List,ROWS($C$20:$C27)))","v":"08-ขนมปังไส้ถั่วแดง"},{"$f":"IF($C27=\"\",\"\",ROUND(SUMPRODUCT((LEFT(Transaction[Route],Branch_Digit)=RIGHT(BranchCode,Branch_Digit))*(Transaction[Type]=\"เบิก\")*(Transaction[Products]='Factory_Order Frm'!$C27)*(Transaction[Date]=D$18)*(Transaction[Qty In-Out]))/'Factory_Order Frm'!$K27,0))","v":0},{"$f":"IF($C27=\"\",\"\",ROUND(SUMPRODUCT((LEFT(Transaction[Route],Branch_Digit)=RIGHT(BranchCode,Branch_Digit))*(Transaction[Type]=\"เบิก\")*(Transaction[Products]='Factory_Order Frm'!$C27)*(Transaction[Date]=E$18)*(Transaction[Qty In-Out]))/'Factory_Order Frm'!$K27,0))","v":0},{"$f":"IF($C27=\"\",\"\",ROUND(SUMPRODUCT((LEFT(Transaction[Route],Branch_Digit)=RIGHT(BranchCode,Branch_Digit))*(Transaction[Type]=\"เบิก\")*(Transaction[Products]='Factory_Order Frm'!$C27)*(Transaction[Date]=F$18)*(Transaction[Qty In-Out]))/'Factory_Order Frm'!$K27,0))","v":0},{"$f":"IF($C27=\"\",\"\",ROUND(SUMPRODUCT((LEFT(Transaction[Route],Branch_Digit)=RIGHT(BranchCode,Branch_Digit))*(Transaction[Type]=\"เบิก\")*(Transaction[Products]='Factory_Order Frm'!$C27)*(Transaction[Date]=G$18)*(Transaction[Qty In-Out]))/'Factory_Order Frm'!$K27,0))","v":0},{"$f":"IF($C27=\"\",\"\",ROUND(SUMPRODUCT((LEFT(Transaction[Route],Branch_Digit)=RIGHT(BranchCode,Branch_Digit))*(Transaction[Type]=\"เบิก\")*(Transaction[Products]='Factory_Order Frm'!$C27)*(Transaction[Date]=H$18)*(Transaction[Qty In-Out]))/'Factory_Order Frm'!$K27,0))","v":0},{"$f":"IF($C27=\"\",\"\",ROUND(SUMPRODUCT((LEFT(Transaction[Route],Branch_Digit)=RIGHT(BranchCode,Branch_Digit))*(Transaction[Type]=\"เบิก\")*(Transaction[Products]='Factory_Order Frm'!$C27)*(Transaction[Date]=I$18)*(Transaction[Qty In-Out]))/'Factory_Order Frm'!$K27,0))","v":0},0,{"$f":"IF('Factory_Order Frm'!$C27=\"\",\"\",INDEX(dProduct[Pcs/Unit],MATCH('Factory_Order Frm'!$C27,dProduct[NameTH],)))","v":50},0,null,{"$f":"IF(Cumulative>(ROW()-ROW($O$20)),_xlfn.AGGREGATE(15,6,(ROW(OrderRange_Ref)-ROW($L$19))/(OFFSET(OrderRange_Ref,,0)>0),ROWS($L$20:$L27)),IF(OFFSET(Cumulative,,1)>(ROW()-ROW($O$20)),_xlfn.AGGREGATE(15,6,(ROW(OrderRange_Ref)-ROW($L$19))/(OFFSET(OrderRange_Ref,,1)>0),ROWS($L$20:$L27)-OFFSET(Cumulative,,0)),IF(OFFSET(Cumulative,,2)>(ROW()-ROW($O$20)),_xlfn.AGGREGATE(15,6,(ROW(OrderRange_Ref)-ROW($L$19))/(OFFSET(OrderRange_Ref,,2)>0),ROWS($L$20:$L27)-OFFSET(Cumulative,,1)),IF(OFFSET(Cumulative,,3)>(ROW()-ROW($O$20)),_xlfn.AGGREGATE(15,6,(ROW(OrderRange_Ref)-ROW($L$19))/(OFFSET(OrderRange_Ref,,3)>0),ROWS($L$20:$L27)-OFFSET(Cumulative,,2)),IF(OFFSET(Cumulative,,4)>(ROW()-ROW($O$20)),_xlfn.AGGREGATE(15,6,(ROW(OrderRange_Ref)-ROW($L$19))/(OFFSET(OrderRange_Ref,,4)>0),ROWS($L$20:$L27)-OFFSET(Cumulative,,3)),IF(OFFSET(Cumulative,,5)>(ROW()-ROW($O$20)),_xlfn.AGGREGATE(15,6,(ROW(OrderRange_Ref)-ROW($L$19))/(OFFSET(OrderRange_Ref,,5)>0),ROWS($L$20:$L27)-OFFSET(Cumulative,,4)),\"\"))))))","v":""},"","","","",{"$f":"IF($N27=\"\",\"\",ROUND(SUMPRODUCT((LEFT(Transaction[Route],Branch_Digit)=RIGHT(BranchCode,Branch_Digit))*(Transaction[Type]=\"เบิก\")*(Transaction[Products]='Factory_Order Frm'!$R27)*(Transaction[Date]=$O27)*(Transaction[Qty In-Out]))/PcsPerTray,0))","v":""},{"$f":"IF($N27=\"\",\"\",MOD(SUMPRODUCT((LEFT(Transaction[Route],Branch_Digit)=RIGHT(BranchCode,Branch_Digit))*(Transaction[Type]=\"เบิก\")*(Transaction[Products]='Factory_Order Frm'!$R27)*(Transaction[Date]=$O27)*(Transaction[Qty In-Out])),PcsPerTray))","v":""}]
[null,{"$f":"IF($C28=\"\",\"\",ROWS($C$20:$C28))","v":9},{"$f":"IF(ROWS($C$20:$C28)>COUNTA(FRY_Product_List),\"\",INDEX(FRY_Product_List,ROWS($C$20:$C28)))","v":"09-ขนมปังไส้ถั่วดำ"},{"$f":"IF($C28=\"\",\"\",ROUND(SUMPRODUCT((LEFT(Transaction[Route],Branch_Digit)=RIGHT(BranchCode,Branch_Digit))*(Transaction[Type]=\"เบิก\")*(Transaction[Products]='Factory_Order Frm'!$C28)*(Transaction[Date]=D$18)*(Transaction[Qty In-Out]))/'Factory_Order Frm'!$K28,0))","v":0},{"$f":"IF($C28=\"\",\"\",ROUND(SUMPRODUCT((LEFT(Transaction[Route],Branch_Digit)=RIGHT(BranchCode,Branch_Digit))*(Transaction[Type]=\"เบิก\")*(Transaction[Products]='Factory_Order Frm'!$C28)*(Transaction[Date]=E$18)*(Transaction[Qty In-Out]))/'Factory_Order Frm'!$K28,0))","v":0},{"$f":"IF($C28=\"\",\"\",ROUND(SUMPRODUCT((LEFT(Transaction[Route],Branch_Digit)=RIGHT(BranchCode,Branch_Digit))*(Transaction[Type]=\"เบิก\")*(Transaction[Products]='Factory_Order Frm'!$C28)*(Transaction[Date]=F$18)*(Transaction[Qty In-Out]))/'Factory_Order Frm'!$K28,0))","v":0},{"$f":"IF($C28=\"\",\"\",ROUND(SUMPRODUCT((LEFT(Transaction[Route],Branch_Digit)=RIGHT(BranchCode,Branch_Digit))*(Transaction[Type]=\"เบิก\")*(Transaction[Products]='Factory_Order Frm'!$C28)*(Transaction[Date]=G$18)*(Transaction[Qty In-Out]))/'Factory_Order Frm'!$K28,0))","v":0},{"$f":"IF($C28=\"\",\"\",ROUND(SUMPRODUCT((LEFT(Transaction[Route],Branch_Digit)=RIGHT(BranchCode,Branch_Digit))*(Transaction[Type]=\"เบิก\")*(Transaction[Products]='Factory_Order Frm'!$C28)*(Transaction[Date]=H$18)*(Transaction[Qty In-Out]))/'Factory_Order Frm'!$K28,0))","v":0},{"$f":"IF($C28=\"\",\"\",ROUND(SUMPRODUCT((LEFT(Transaction[Route],Branch_Digit)=RIGHT(BranchCode,Branch_Digit))*(Transaction[Type]=\"เบิก\")*(Transaction[Products]='Factory_Order Frm'!$C28)*(Transaction[Date]=I$18)*(Transaction[Qty In-Out]))/'Factory_Order Frm'!$K28,0))","v":0},0,{"$f":"IF('Factory_Order Frm'!$C28=\"\",\"\",INDEX(dProduct[Pcs/Unit],MATCH('Factory_Order Frm'!$C28,dProduct[NameTH],)))","v":50},0,null,{"$f":"IF(Cumulative>(ROW()-ROW($O$20)),_xlfn.AGGREGATE(15,6,(ROW(OrderRange_Ref)-ROW($L$19))/(OFFSET(OrderRange_Ref,,0)>0),ROWS($L$20:$L28)),IF(OFFSET(Cumulative,,1)>(ROW()-ROW($O$20)),_xlfn.AGGREGATE(15,6,(ROW(OrderRange_Ref)-ROW($L$19))/(OFFSET(OrderRange_Ref,,1)>0),ROWS($L$20:$L28)-OFFSET(Cumulative,,0)),IF(OFFSET(Cumulative,,2)>(ROW()-ROW($O$20)),_xlfn.AGGREGATE(15,6,(ROW(OrderRange_Ref)-ROW($L$19))/(OFFSET(OrderRange_Ref,,2)>0),ROWS($L$20:$L28)-OFFSET(Cumulative,,1)),IF(OFFSET(Cumulative,,3)>(ROW()-ROW($O$20)),_xlfn.AGGREGATE(15,6,(ROW(OrderRange_Ref)-ROW($L$19))/(OFFSET(OrderRange_Ref,,3)>0),ROWS($L$20:$L28)-OFFSET(Cumulative,,2)),IF(OFFSET(Cumulative,,4)>(ROW()-ROW($O$20)),_xlfn.AGGREGATE(15,6,(ROW(OrderRange_Ref)-ROW($L$19))/(OFFSET(OrderRange_Ref,,4)>0),ROWS($L$20:$L28)-OFFSET(Cumulative,,3)),IF(OFFSET(Cumulative,,5)>(ROW()-ROW($O$20)),_xlfn.AGGREGATE(15,6,(ROW(OrderRange_Ref)-ROW($L$19))/(OFFSET(OrderRange_Ref,,5)>0),ROWS($L$20:$L28)-OFFSET(Cumulative,,4)),\"\"))))))","v":""},"","","","",{"$f":"IF($N28=\"\",\"\",ROUND(SUMPRODUCT((LEFT(Transaction[Route],Branch_Digit)=RIGHT(BranchCode,Branch_Digit))*(Transaction[Type]=\"เบิก\")*(Transaction[Products]='Factory_Order Frm'!$R28)*(Transaction[Date]=$O28)*(Transaction[Qty In-Out]))/PcsPerTray,0))","v":""},{"$f":"IF($N28=\"\",\"\",MOD(SUMPRODUCT((LEFT(Transaction[Route],Branch_Digit)=RIGHT(BranchCode,Branch_Digit))*(Transaction[Type]=\"เบิก\")*(Transaction[Products]='Factory_Order Frm'!$R28)*(Transaction[Date]=$O28)*(Transaction[Qty In-Out])),PcsPerTray))","v":""}]
[null,{"$f":"IF($C29=\"\",\"\",ROWS($C$20:$C29))","v":10},{"$f":"IF(ROWS($C$20:$C29)>COUNTA(FRY_Product_List),\"\",INDEX(FRY_Product_List,ROWS($C$20:$C29)))","v":"10-ขนมปังไส้มันม่วง"},{"$f":"IF($C29=\"\",\"\",ROUND(SUMPRODUCT((LEFT(Transaction[Route],Branch_Digit)=RIGHT(BranchCode,Branch_Digit))*(Transaction[Type]=\"เบิก\")*(Transaction[Products]='Factory_Order Frm'!$C29)*(Transaction[Date]=D$18)*(Transaction[Qty In-Out]))/'Factory_Order Frm'!$K29,0))","v":0},{"$f":"IF($C29=\"\",\"\",ROUND(SUMPRODUCT((LEFT(Transaction[Route],Branch_Digit)=RIGHT(BranchCode,Branch_Digit))*(Transaction[Type]=\"เบิก\")*(Transaction[Products]='Factory_Order Frm'!$C29)*(Transaction[Date]=E$18)*(Transaction[Qty In-Out]))/'Factory_Order Frm'!$K29,0))","v":0},{"$f":"IF($C29=\"\",\"\",ROUND(SUMPRODUCT((LEFT(Transaction[Route],Branch_Digit)=RIGHT(BranchCode,Branch_Digit))*(Transaction[Type]=\"เบิก\")*(Transaction[Products]='Factory_Order Frm'!$C29)*(Transaction[Date]=F$18)*(Transaction[Qty In-Out]))/'Factory_Order Frm'!$K29,0))","v":0},{"$f":"IF($C29=\"\",\"\",ROUND(SUMPRODUCT((LEFT(Transaction[Route],Branch_Digit)=RIGHT(BranchCode,Branch_Digit))*(Transaction[Type]=\"เบิก\")*(Transaction[Products]='Factory_Order Frm'!$C29)*(Transaction[Date]=G$18)*(Transaction[Qty In-Out]))/'Factory_Order Frm'!$K29,0))","v":0},{"$f":"IF($C29=\"\",\"\",ROUND(SUMPRODUCT((LEFT(Transaction[Route],Branch_Digit)=RIGHT(BranchCode,Branch_Digit))*(Transaction[Type]=\"เบิก\")*(Transaction[Products]='Factory_Order Frm'!$C29)*(Transaction[Date]=H$18)*(Transaction[Qty In-Out]))/'Factory_Order Frm'!$K29,0))","v":0},{"$f":"IF($C29=\"\",\"\",ROUND(SUMPRODUCT((LEFT(Transaction[Route],Branch_Digit)=RIGHT(BranchCode,Branch_Digit))*(Transaction[Type]=\"เบิก\")*(Transaction[Products]='Factory_Order Frm'!$C29)*(Transaction[Date]=I$18)*(Transaction[Qty In-Out]))/'Factory_Order Frm'!$K29,0))","v":0},0,{"$f":"IF('Factory_Order Frm'!$C29=\"\",\"\",INDEX(dProduct[Pcs/Unit],MATCH('Factory_Order Frm'!$C29,dProduct[NameTH],)))","v":50},0,null,{"$f":"IF(Cumulative>(ROW()-ROW($O$20)),_xlfn.AGGREGATE(15,6,(ROW(OrderRange_Ref)-ROW($L$19))/(OFFSET(OrderRange_Ref,,0)>0),ROWS($L$20:$L29)),IF(OFFSET(Cumulative,,1)>(ROW()-ROW($O$20)),_xlfn.AGGREGATE(15,6,(ROW(OrderRange_Ref)-ROW($L$19))/(OFFSET(OrderRange_Ref,,1)>0),ROWS($L$20:$L29)-OFFSET(Cumulative,,0)),IF(OFFSET(Cumulative,,2)>(ROW()-ROW($O$20)),_xlfn.AGGREGATE(15,6,(ROW(OrderRange_Ref)-ROW($L$19))/(OFFSET(OrderRange_Ref,,2)>0),ROWS($L$20:$L29)-OFFSET(Cumulative,,1)),IF(OFFSET(Cumulative,,3)>(ROW()-ROW($O$20)),_xlfn.AGGREGATE(15,6,(ROW(OrderRange_Ref)-ROW($L$19))/(OFFSET(OrderRange_Ref,,3)>0),ROWS($L$20:$L29)-OFFSET(Cumulative,,2)),IF(OFFSET(Cumulative,,4)>(ROW()-ROW($O$20)),_xlfn.AGGREGATE(15,6,(ROW(OrderRange_Ref)-ROW($L$19))/(OFFSET(OrderRange_Ref,,4)>0),ROWS($L$20:$L29)-OFFSET(Cumulative,,3)),IF(OFFSET(Cumulative,,5)>(ROW()-ROW($O$20)),_xlfn.AGGREGATE(15,6,(ROW(OrderRange_Ref)-ROW($L$19))/(OFFSET(OrderRange_Ref,,5)>0),ROWS($L$20:$L29)-OFFSET(Cumulative,,4)),\"\"))))))","v":""},"","","","",{"$f":"IF($N29=\"\",\"\",ROUND(SUMPRODUCT((LEFT(Transaction[Route],Branch_Digit)=RIGHT(BranchCode,Branch_Digit))*(Transaction[Type]=\"เบิก\")*(Transaction[Products]='Factory_Order Frm'!$R29)*(Transaction[Date]=$O29)*(Transaction[Qty In-Out]))/PcsPerTray,0))","v":""},{"$f":"IF($N29=\"\",\"\",MOD(SUMPRODUCT((LEFT(Transaction[Route],Branch_Digit)=RIGHT(BranchCode,Branch_Digit))*(Transaction[Type]=\"เบิก\")*(Transaction[Products]='Factory_Order Frm'!$R29)*(Transaction[Date]=$O29)*(Transaction[Qty In-Out])),PcsPerTray))","v":""}]
[null,{"$f":"IF($C30=\"\",\"\",ROWS($C$20:$C30))","v":11},{"$f":"IF(ROWS($C$20:$C30)>COUNTA(FRY_Product_List),\"\",INDEX(FRY_Product_List,ROWS($C$20:$C30)))","v":"11-เค้กกล้วยหอม"},{"$f":"IF($C30=\"\",\"\",ROUND(SUMPRODUCT((LEFT(Transaction[Route],Branch_Digit)=RIGHT(BranchCode,Branch_Digit))*(Transaction[Type]=\"เบิก\")*(Transaction[Products]='Factory_Order Frm'!$C30)*(Transaction[Date]=D$18)*(Transaction[Qty In-Out]))/'Factory_Order Frm'!$K30,0))","v":0},{"$f":"IF($C30=\"\",\"\",ROUND(SUMPRODUCT((LEFT(Transaction[Route],Branch_Digit)=RIGHT(BranchCode,Branch_Digit))*(Transaction[Type]=\"เบิก\")*(Transaction[Products]='Factory_Order Frm'!$C30)*(Transaction[Date]=E$18)*(Transaction[Qty In-Out]))/'Factory_Order Frm'!$K30,0))","v":0},{"$f":"IF($C30=\"\",\"\",ROUND(SUMPRODUCT((LEFT(Transaction[Route],Branch_Digit)=RIGHT(BranchCode,Branch_Digit))*(Transaction[Type]=\"เบิก\")*(Transaction[Products]='Factory_Order Frm'!$C30)*(Transaction[Date]=F$18)*(Transaction[Qty In-Out]))/'Factory_Order Frm'!$K30,0))","v":0},{"$f":"IF($C30=\"\",\"\",ROUND(SUMPRODUCT((LEFT(Transaction[Route],Branch_Digit)=RIGHT(BranchCode,Branch_Digit))*(Transaction[Type]=\"เบิก\")*(Transaction[Products]='Factory_Order Frm'!$C30)*(Transaction[Date]=G$18)*(Transaction[Qty In-Out]))/'Factory_Order Frm'!$K30,0))","v":0},{"$f":"IF($C30=\"\",\"\",ROUND(SUMPRODUCT((LEFT(Transaction[Route],Branch_Digit)=RIGHT(BranchCode,Branch_Digit))*(Transaction[Type]=\"เบิก\")*(Transaction[Products]='Factory_Order Frm'!$C30)*(Transaction[Date]=H$18)*(Transaction[Qty In-Out]))/'Factory_Order Frm'!$K30,0))","v":0},{"$f":"IF($C30=\"\",\"\",ROUND(SUMPRODUCT((LEFT(Transaction[Route],Branch_Digit)=RIGHT(BranchCode,Branch_Digit))*(Transaction[Type]=\"เบิก\")*(Transaction[Products]='Factory_Order Frm'!$C30)*(Transaction[Date]=I$18)*(Transaction[Qty In-Out]))/'Factory_Order Frm'!$K30,0))","v":0},0,{"$f":"IF('Factory_Order Frm'!$C30=\"\",\"\",INDEX(dProduct[Pcs/Unit],MATCH('Factory_Order Frm'!$C30,dProduct[NameTH],)))","v":50},0,null,{"$f":"IF(Cumulative>(ROW()-ROW($O$20)),_xlfn.AGGREGATE(15,6,(ROW(OrderRange_Ref)-ROW($L$19))/(OFFSET(OrderRange_Ref,,0)>0),ROWS($L$20:$L30)),IF(OFFSET(Cumulative,,1)>(ROW()-ROW($O$20)),_xlfn.AGGREGATE(15,6,(ROW(OrderRange_Ref)-ROW($L$19))/(OFFSET(OrderRange_Ref,,1)>0),ROWS($L$20:$L30)-OFFSET(Cumulative,,0)),IF(OFFSET(Cumulative,,2)>(ROW()-ROW($O$20)),_xlfn.AGGREGATE(15,6,(ROW(OrderRange_Ref)-ROW($L$19))/(OFFSET(OrderRange_Ref,,2)>0),ROWS($L$20:$L30)-OFFSET(Cumulative,,1)),IF(OFFSET(Cumulative,,3)>(ROW()-ROW($O$20)),_xlfn.AGGREGATE(15,6,(ROW(OrderRange_Ref)-ROW($L$19))/(OFFSET(OrderRange_Ref,,3)>0),ROWS($L$20:$L30)-OFFSET(Cumulative,,2)),IF(OFFSET(Cumulative,,4)>(ROW()-ROW($O$20)),_xlfn.AGGREGATE(15,6,(ROW(OrderRange_Ref)-ROW($L$19))/(OFFSET(OrderRange_Ref,,4)>0),ROWS($L$20:$L30)-OFFSET(Cumulative,,3)),IF(OFFSET(Cumulative,,5)>(ROW()-ROW($O$20)),_xlfn.AGGREGATE(15,6,(ROW(OrderRange_Ref)-ROW($L$19))/(OFFSET(OrderRange_Ref,,5)>0),ROWS($L$20:$L30)-OFFSET(Cumulative,,4)),\"\"))))))","v":""},"","","","",{"$f":"IF($N30=\"\",\"\",ROUND(SUMPRODUCT((LEFT(Transaction[Route],Branch_Digit)=RIGHT(BranchCode,Branch_Digit))*(Transaction[Type]=\"เบิก\")*(Transaction[Products]='Factory_Order Frm'!$R30)*(Transaction[Date]=$O30)*(Transaction[Qty In-Out]))/PcsPerTray,0))","v":""},{"$f":"IF($N30=\"\",\"\",MOD(SUMPRODUCT((LEFT(Transaction[Route],Branch_Digit)=RIGHT(BranchCode,Branch_Digit))*(Transaction[Type]=\"เบิก\")*(Transaction[Products]='Factory_Order Frm'!$R30)*(Transaction[Date]=$O30)*(Transaction[Qty In-Out])),PcsPerTray))","v":""}]
[null,{"$f":"IF($C31=\"\",\"\",ROWS($C$20:$C31))","v":12},{"$f":"IF(ROWS($C$20:$C31)>COUNTA(FRY_Product_List),\"\",INDEX(FRY_Product_List,ROWS($C$20:$C31)))","v":"12-เค้กบัตเตอร์"},{"$f":"IF($C31=\"\",\"\",ROUND(SUMPRODUCT((LEFT(Transaction[Route],Branch_Digit)=RIGHT(BranchCode,Branch_Digit))*(Transaction[Type]=\"เบิก\")*(Transaction[Products]='Factory_Order Frm'!$C31)*(Transaction[Date]=D$18)*(Transaction[Qty In-Out]))/'Factory_Order Frm'!$K31,0))","v":0},{"$f":"IF($C31=\"\",\"\",ROUND(SUMPRODUCT((LEFT(Transaction[Route],Branch_Digit)=RIGHT(BranchCode,Branch_Digit))*(Transaction[Type]=\"เบิก\")*(Transaction[Products]='Factory_Order Frm'!$C31)*(Transaction[Date]=E$18)*(Transaction[Qty In-Out]))/'Factory_Order Frm'!$K31,0))","v":0},{"$f":"IF($C31=\"\",\"\",ROUND(SUMPRODUCT((LEFT(Transaction[Route],Branch_Digit)=RIGHT(BranchCode,Branch_Digit))*(Transaction[Type]=\"เบิก\")*(Transaction[Products]='Factory_Order Frm'!$C31)*(Transaction[Date]=F$18)*(Transaction[Qty In-Out]))/'Factory_Order Frm'!$K31,0))","v":0},{"$f":"IF($C31=\"\",\"\",ROUND(SUMPRODUCT((LEFT(Transaction[Route],Branch_Digit)=RIGHT(BranchCode,Branch_Digit))*(Transaction[Type]=\"เบิก\")*(Transaction[Products]='Factory_Order Frm'!$C31)*(Transaction[Date]=G$18)*(Transaction[Qty In-Out]))/'Factory_Order Frm'!$K31,0))","v":0},{"$f":"IF($C31=\"\",\"\",ROUND(SUMPRODUCT((LEFT(Transaction[Route],Branch_Digit)=RIGHT(BranchCode,Branch_Digit))*(Transaction[Type]=\"เบิก\")*(Transaction[Products]='Factory_Order Frm'!$C31)*(Transaction[Date]=H$18)*(Transaction[Qty In-Out]))/'Factory_Order Frm'!$K31,0))","v":0},{"$f":"IF($C31=\"\",\"\",ROUND(SUMPRODUCT((LEFT(Transaction[Route],Branch_Digit)=RIGHT(BranchCode,Branch_Digit))*(Transaction[Type]=\"เบิก\")*(Transaction[Products]='Factory_Order Frm'!$C31)*(Transaction[Date]=I$18)*(Transaction[Qty In-Out]))/'Factory_Order Frm'!$K31,0))","v":0},0,{"$f":"IF('Factory_Order Frm'!$C31=\"\",\"\",INDEX(dProduct[Pcs/Unit],MATCH('Factory_Order Frm'!$C31,dProduct[NameTH],)))","v":50},0,null,{"$f":"IF(Cumulative>(ROW()-ROW($O$20)),_xlfn.AGGREGATE(15,6,(ROW(OrderRange_Ref)-ROW($L$19))/(OFFSET(OrderRange_Ref,,0)>0),ROWS($L$20:$L31)),IF(OFFSET(Cumulative,,1)>(ROW()-ROW($O$20)),_xlfn.AGGREGATE(15,6,(ROW(OrderRange_Ref)-ROW($L$19))/(OFFSET(OrderRange_Ref,,1)>0),ROWS($L$20:$L31)-OFFSET(Cumulative,,0)),IF(OFFSET(Cumulative,,2)>(ROW()-ROW($O$20)),_xlfn.AGGREGATE(15,6,(ROW(OrderRange_Ref)-ROW($L$19))/(OFFSET(OrderRange_Ref,,2)>0),ROWS($L$20:$L31)-OFFSET(Cumulative,,1)),IF(OFFSET(Cumulative,,3)>(ROW()-ROW($O$20)),_xlfn.AGGREGATE(15,6,(ROW(OrderRange_Ref)-ROW($L$19))/(OFFSET(OrderRange_Ref,,3)>0),ROWS($L$20:$L31)-OFFSET(Cumulative,,2)),IF(OFFSET(Cumulative,,4)>(ROW()-ROW($O$20)),_xlfn.AGGREGATE(15,6,(ROW(OrderRange_Ref)-ROW($L$19))/(OFFSET(OrderRange_Ref,,4)>0),ROWS($L$20:$L31)-OFFSET(Cumulative,,3)),IF(OFFSET(Cumulative,,5)>(ROW()-ROW($O$20)),_xlfn.AGGREGATE(15,6,(ROW(OrderRange_Ref)-ROW($L$19))/(OFFSET(OrderRange_Ref,,5)>0),ROWS($L$20:$L31)-OFFSET(Cumulative,,4)),\"\"))))))","v":""},"","","","",{"$f":"IF($N31=\"\",\"\",ROUND(SUMPRODUCT((LEFT(Transaction[Route],Branch_Digit)=RIGHT(BranchCode,Branch_Digit))*(Transaction[Type]=\"เบิก\")*(Transaction[Products]='Factory_Order Frm'!$R31)*(Transaction[Date]=$O31)*(Transaction[Qty In-Out]))/PcsPerTray,0))","v":""},{"$f":"IF($N31=\"\",\"\",MOD(SUMPRODUCT((LEFT(Transaction[Route],Branch_Digit)=RIGHT(BranchCode,Branch_Digit))*(Transaction[Type]=\"เบิก\")*(Transaction[Products]='Factory_Order Frm'!$R31)*(Transaction[Date]=$O31)*(Transaction[Qty In-Out])),PcsPerTray))","v":""}]
[null,{"$f":"IF($C32=\"\",\"\",ROWS($C$20:$C32))","v":13},{"$f":"IF(ROWS($C$20:$C32)>COUNTA(FRY_Product_List),\"\",INDEX(FRY_Product_List,ROWS($C$20:$C32)))","v":"13-ขนมปังโรลถั่วแดง"},{"$f":"IF($C32=\"\",\"\",ROUND(SUMPRODUCT((LEFT(Transaction[Route],Branch_Digit)=RIGHT(BranchCode,Branch_Digit))*(Transaction[Type]=\"เบิก\")*(Transaction[Products]='Factory_Order Frm'!$C32)*(Transaction[Date]=D$18)*(Transaction[Qty In-Out]))/'Factory_Order Frm'!$K32,0))","v":0},{"$f":"IF($C32=\"\",\"\",ROUND(SUMPRODUCT((LEFT(Transaction[Route],Branch_Digit)=RIGHT(BranchCode,Branch_Digit))*(Transaction[Type]=\"เบิก\")*(Transaction[Products]='Factory_Order Frm'!$C32)*(Transaction[Date]=E$18)*(Transaction[Qty In-Out]))/'Factory_Order Frm'!$K32,0))","v":0},{"$f":"IF($C32=\"\",\"\",ROUND(SUMPRODUCT((LEFT(Transaction[Route],Branch_Digit)=RIGHT(BranchCode,Branch_Digit))*(Transaction[Type]=\"เบิก\")*(Transaction[Products]='Factory_Order Frm'!$C32)*(Transaction[Date]=F$18)*(Transaction[Qty In-Out]))/'Factory_Order Frm'!$K32,0))","v":0},{"$f":"IF($C32=\"\",\"\",ROUND(SUMPRODUCT((LEFT(Transaction[Route],Branch_Digit)=RIGHT(BranchCode,Branch_Digit))*(Transaction[Type]=\"เบิก\")*(Transaction[Products]='Factory_Order Frm'!$C32)*(Transaction[Date]=G$18)*(Transaction[Qty In-Out]))/'Factory_Order Frm'!$K32,0))","v":0},{"$f":"IF($C32=\"\",\"\",ROUND(SUMPRODUCT((LEFT(Transaction[Route],Branch_Digit)=RIGHT(BranchCode,Branch_Digit))*(Transaction[Type]=\"เบิก\")*(Transaction[Products]='Factory_Order Frm'!$C32)*(Transaction[Date]=H$18)*(Transaction[Qty In-Out]))/'Factory_Order Frm'!$K32,0))","v":0},{"$f":"IF($C32=\"\",\"\",ROUND(SUMPRODUCT((LEFT(Transaction[Route],Branch_Digit)=RIGHT(BranchCode,Branch_Digit))*(Transaction[Type]=\"เบิก\")*(Transaction[Products]='Factory_Order Frm'!$C32)*(Transaction[Date]=I$18)*(Transaction[Qty In-Out]))/'Factory_Order Frm'!$K32,0))","v":0},0,{"$f":"IF('Factory_Order Frm'!$C32=\"\",\"\",INDEX(dProduct[Pcs/Unit],MATCH('Factory_Order Frm'!$C32,dProduct[NameTH],)))","v":40},0,null,{"$f":"IF(Cumulative>(ROW()-ROW($O$20)),_xlfn.AGGREGATE(15,6,(ROW(OrderRange_Ref)-ROW($L$19))/(OFFSET(OrderRange_Ref,,0)>0),ROWS($L$20:$L32)),IF(OFFSET(Cumulative,,1)>(ROW()-ROW($O$20)),_xlfn.AGGREGATE(15,6,(ROW(OrderRange_Ref)-ROW($L$19))/(OFFSET(OrderRange_Ref,,1)>0),ROWS($L$20:$L32)-OFFSET(Cumulative,,0)),IF(OFFSET(Cumulative,,2)>(ROW()-ROW($O$20)),_xlfn.AGGREGATE(15,6,(ROW(OrderRange_Ref)-ROW($L$19))/(OFFSET(OrderRange_Ref,,2)>0),ROWS($L$20:$L32)-OFFSET(Cumulative,,1)),IF(OFFSET(Cumulative,,3)>(ROW()-ROW($O$20)),_xlfn.AGGREGATE(15,6,(ROW(OrderRange_Ref)-ROW($L$19))/(OFFSET(OrderRange_Ref,,3)>0),ROWS($L$20:$L32)-OFFSET(Cumulative,,2)),IF(OFFSET(Cumulative,,4)>(ROW()-ROW($O$20)),_xlfn.AGGREGATE(15,6,(ROW(OrderRange_Ref)-ROW($L$19))/(OFFSET(OrderRange_Ref,,4)>0),ROWS($L$20:$L32)-OFFSET(Cumulative,,3)),IF(OFFSET(Cumulative,,5)>(ROW()-ROW($O$20)),_xlfn.AGGREGATE(15,6,(ROW(OrderRange_Ref)-ROW($L$19))/(OFFSET(OrderRange_Ref,,5)>0),ROWS($L$20:$L32)-OFFSET(Cumulative,,4)),\"\"))))))","v":""},"","","","",{"$f":"IF($N32=\"\",\"\",ROUND(SUMPRODUCT((LEFT(Transaction[Route],Branch_Digit)=RIGHT(BranchCode,Branch_Digit))*(Transaction[Type]=\"เบิก\")*(Transaction[Products]='Factory_Order Frm'!$R32)*(Transaction[Date]=$O32)*(Transaction[Qty In-Out]))/PcsPerTray,0))","v":""},{"$f":"IF($N32=\"\",\"\",MOD(SUMPRODUCT((LEFT(Transaction[Route],Branch_Digit)=RIGHT(BranchCode,Branch_Digit))*(Transaction[Type]=\"เบิก\")*(Transaction[Products]='Factory_Order Frm'!$R32)*(Transaction[Date]=$O32)*(Transaction[Qty In-Out])),PcsPerTray))","v":""}]
[null,{"$f":"IF($C33=\"\",\"\",ROWS($C$20:$C33))","v":14},{"$f":"IF(ROWS($C$20:$C33)>COUNTA(FRY_Product_List),\"\",INDEX(FRY_Product_List,ROWS($C$20:$C33)))","v":"14-ขนมปังไส้สังขยาใหญ่"},{"$f":"IF($C33=\"\",\"\",ROUND(SUMPRODUCT((LEFT(Transaction[Route],Branch_Digit)=RIGHT(BranchCode,Branch_Digit))*(Transaction[Type]=\"เบิก\")*(Transaction[Products]='Factory_Order Frm'!$C33)*(Transaction[Date]=D$18)*(Transaction[Qty In-Out]))/'Factory_Order Frm'!$K33,0))","v":0},{"$f":"IF($C33=\"\",\"\",ROUND(SUMPRODUCT((LEFT(Transaction[Route],Branch_Digit)=RIGHT(BranchCode,Branch_Digit))*(Transaction[Type]=\"เบิก\")*(Transaction[Products]='Factory_Order Frm'!$C33)*(Transaction[Date]=E$18)*(Transaction[Qty In-Out]))/'Factory_Order Frm'!$K33,0))","v":0},{"$f":"IF($C33=\"\",\"\",ROUND(SUMPRODUCT((LEFT(Transaction[Route],Branch_Digit)=RIGHT(BranchCode,Branch_Digit))*(Transaction[Type]=\"เบิก\")*(Transaction[Products]='Factory_Order Frm'!$C33)*(Transaction[Date]=F$18)*(Transaction[Qty In-Out]))/'Factory_Order Frm'!$K33,0))","v":0},{"$f":"IF($C33=\"\",\"\",ROUND(SUMPRODUCT((LEFT(Transaction[Route],Branch_Digit)=RIGHT(BranchCode,Branch_Digit))*(Transaction[Type]=\"เบิก\")*(Transaction[Products]='Factory_Order Frm'!$C33)*(Transaction[Date]=G$18)*(Transaction[Qty In-Out]))/'Factory_Order Frm'!$K33,0))","v":0},{"$f":"IF($C33=\"\",\"\",ROUND(SUMPRODUCT((LEFT(Transaction[Route],Branch_Digit)=RIGHT(BranchCode,Branch_Digit))*(Transaction[Type]=\"เบิก\")*(Transaction[Products]='Factory_Order Frm'!$C33)*(Transaction[Date]=H$18)*(Transaction[Qty In-Out]))/'Factory_Order Frm'!$K33,0))","v":0},{"$f":"IF($C33=\"\",\"\",ROUND(SUMPRODUCT((LEFT(Transaction[Route],Branch_Digit)=RIGHT(BranchCode,Branch_Digit))*(Transaction[Type]=\"เบิก\")*(Transaction[Products]='Factory_Order Frm'!$C33)*(Transaction[Date]=I$18)*(Transaction[Qty In-Out]))/'Factory_Order Frm'!$K33,0))","v":0},0,{"$f":"IF('Factory_Order Frm'!$C33=\"\",\"\",INDEX(dProduct[Pcs/Unit],MATCH('Factory_Order Frm'!$C33,dProduct[NameTH],)))","v":50},0,null,{"$f":"IF(Cumulative>(ROW()-ROW($O$20)),_xlfn.AGGREGATE(15,6,(ROW(OrderRange_Ref)-ROW($L$19))/(OFFSET(OrderRange_Ref,,0)>0),ROWS($L$20:$L33)),IF(OFFSET(Cumulative,,1)>(ROW()-ROW($O$20)),_xlfn.AGGREGATE(15,6,(ROW(OrderRange_Ref)-ROW($L$19))/(OFFSET(OrderRange_Ref,,1)>0),ROWS($L$20:$L33)-OFFSET(Cumulative,,0)),IF(OFFSET(Cumulative,,2)>(ROW()-ROW($O$20)),_xlfn.AGGREGATE(15,6,(ROW(OrderRange_Ref)-ROW($L$19))/(OFFSET(OrderRange_Ref,,2)>0),ROWS($L$20:$L33)-OFFSET(Cumulative,,1)),IF(OFFSET(Cumulative,,3)>(ROW()-ROW($O$20)),_xlfn.AGGREGATE(15,6,(ROW(OrderRange_Ref)-ROW($L$19))/(OFFSET(OrderRange_Ref,,3)>0),ROWS($L$20:$L33)-OFFSET(Cumulative,,2)),IF(OFFSET(Cumulative,,4)>(ROW()-ROW($O$20)),_xlfn.AGGREGATE(15,6,(ROW(OrderRange_Ref)-ROW($L$19))/(OFFSET(OrderRange_Ref,,4)>0),ROWS($L$20:$L33)-OFFSET(Cumulative,,3)),IF(OFFSET(Cumulative,,5)>(ROW()-ROW($O$20)),_xlfn.AGGREGATE(15,6,(ROW(OrderRange_Ref)-ROW($L$19))/(OFFSET(OrderRange_Ref,,5)>0),ROWS($L$20:$L33)-OFFSET(Cumulative,,4)),\"\"))))))","v":""},"","","","",{"$f":"IF($N33=\"\",\"\",ROUND(SUMPRODUCT((LEFT(Transaction[Route],Branch_Digit)=RIGHT(BranchCode,Branch_Digit))*(Transaction[Type]=\"เบิก\")*(Transaction[Products]='Factory_Order Frm'!$R33)*(Transaction[Date]=$O33)*(Transaction[Qty In-Out]))/PcsPerTray,0))","v":""},{"$f":"IF($N33=\"\",\"\",MOD(SUMPRODUCT((LEFT(Transaction[Route],Branch_Digit)=RIGHT(BranchCode,Branch_Digit))*(Transaction[Type]=\"เบิก\")*(Transaction[Products]='Factory_Order Frm'!$R33)*(Transaction[Date]=$O33)*(Transaction[Qty In-Out])),PcsPerTray))","v":""}]
[null,{"$f":"IF($C34=\"\",\"\",ROWS($C$20:$C34))","v":15},{"$f":"IF(ROWS($C$20:$C34)>COUNTA(FRY_Product_List),\"\",INDEX(FRY_Product_List,ROWS($C$20:$C34)))","v":"15-ขนมปังชนิดแผ่น(480กรัม)"},{"$f":"IF($C34=\"\",\"\",ROUND(SUMPRODUCT((LEFT(Transaction[Route],Branch_Digit)=RIGHT(BranchCode,Branch_Digit))*(Transaction[Type]=\"เบิก\")*(Transaction[Products]='Factory_Order Frm'!$C34)*(Transaction[Date]=D$18)*(Transaction[Qty In-Out]))/'Factory_Order Frm'!$K34,0))","v":0},{"$f":"IF($C34=\"\",\"\",ROUND(SUMPRODUCT((LEFT(Transaction[Route],Branch_Digit)=RIGHT(BranchCode,Branch_Digit))*(Transaction[Type]=\"เบิก\")*(Transaction[Products]='Factory_Order Frm'!$C34)*(Transaction[Date]=E$18)*(Transaction[Qty In-Out]))/'Factory_Order Frm'!$K34,0))","v":0},{"$f":"IF($C34=\"\",\"\",ROUND(SUMPRODUCT((LEFT(Transaction[Route],Branch_Digit)=RIGHT(BranchCode,Branch_Digit))*(Transaction[Type]=\"เบิก\")*(Transaction[Products]='Factory_Order Frm'!$C34)*(Transaction[Date]=F$18)*(Transaction[Qty In-Out]))/'Factory_Order Frm'!$K34,0))","v":0},{"$f":"IF($C34=\"\",\"\",ROUND(SUMPRODUCT((LEFT(Transaction[Route],Branch_Digit)=RIGHT(BranchCode,Branch_Digit))*(Transaction[Type]=\"เบิก\")*(Transaction[Products]='Factory_Order Frm'!$C34)*(Transaction[Date]=G$18)*(Transaction[Qty In-Out]))/'Factory_Order Frm'!$K34,0))","v":0},{"$f":"IF($C34=\"\",\"\",ROUND(SUMPRODUCT((LEFT(Transaction[Route],Branch_Digit)=RIGHT(BranchCode,Branch_Digit))*(Transaction[Type]=\"เบิก\")*(Transaction[Products]='Factory_Order Frm'!$C34)*(Transaction[Date]=H$18)*(Transaction[Qty In-Out]))/'Factory_Order Frm'!$K34,0))","v":0},{"$f":"IF($C34=\"\",\"\",ROUND(SUMPRODUCT((LEFT(Transaction[Route],Branch_Digit)=RIGHT(BranchCode,Branch_Digit))*(Transaction[Type]=\"เบิก\")*(Transaction[Products]='Factory_Order Frm'!$C34)*(Transaction[Date]=I$18)*(Transaction[Qty In-Out]))/'Factory_Order Frm'!$K34,0))","v":0},0,{"$f":"IF('Factory_Order Frm'!$C34=\"\",\"\",INDEX(dProduct[Pcs/Unit],MATCH('Factory_Order Frm'!$C34,dProduct[NameTH],)))","v":10},0,null,{"$f":"IF(Cumulative>(ROW()-ROW($O$20)),_xlfn.AGGREGATE(15,6,(ROW(OrderRange_Ref)-ROW($L$19))/(OFFSET(OrderRange_Ref,,0)>0),ROWS($L$20:$L34)),IF(OFFSET(Cumulative,,1)>(ROW()-ROW($O$20)),_xlfn.AGGREGATE(15,6,(ROW(OrderRange_Ref)-ROW($L$19))/(OFFSET(OrderRange_Ref,,1)>0),ROWS($L$20:$L34)-OFFSET(Cumulative,,0)),IF(OFFSET(Cumulative,,2)>(ROW()-ROW($O$20)),_xlfn.AGGREGATE(15,6,(ROW(OrderRange_Ref)-ROW($L$19))/(OFFSET(OrderRange_Ref,,2)>0),ROWS($L$20:$L34)-OFFSET(Cumulative,,1)),IF(OFFSET(Cumulative,,3)>(ROW()-ROW($O$20)),_xlfn.AGGREGATE(15,6,(ROW(OrderRange_Ref)-ROW($L$19))/(OFFSET(OrderRange_Ref,,3)>0),ROWS($L$20:$L34)-OFFSET(Cumulative,,2)),IF(OFFSET(Cumulative,,4)>(ROW()-ROW($O$20)),_xlfn.AGGREGATE(15,6,(ROW(OrderRange_Ref)-ROW($L$19))/(OFFSET(OrderRange_Ref,,4)>0),ROWS($L$20:$L34)-OFFSET(Cumulative,,3)),IF(OFFSET(Cumulative,,5)>(ROW()-ROW($O$20)),_xlfn.AGGREGATE(15,6,(ROW(OrderRange_Ref)-ROW($L$19))/(OFFSET(OrderRange_Ref,,5)>0),ROWS($L$20:$L34)-OFFSET(Cumulative,,4)),\"\"))))))","v":""},"","","","",{"$f":"IF($N34=\"\",\"\",ROUND(SUMPRODUCT((LEFT(Transaction[Route],Branch_Digit)=RIGHT(BranchCode,Branch_Digit))*(Transaction[Type]=\"เบิก\")*(Transaction[Products]='Factory_Order Frm'!$R34)*(Transaction[Date]=$O34)*(Transaction[Qty In-Out]))/PcsPerTray,0))","v":""},{"$f":"IF($N34=\"\",\"\",MOD(SUMPRODUCT((LEFT(Transaction[Route],Branch_Digit)=RIGHT(BranchCode,Branch_Digit))*(Transaction[Type]=\"เบิก\")*(Transaction[Products]='Factory_Order Frm'!$R34)*(Transaction[Date]=$O34)*(Transaction[Qty In-Out])),PcsPerTray))","v":""}]
[null,{"$f":"IF($C35=\"\",\"\",ROWS($C$20:$C35))","v":16},{"$f":"IF(ROWS($C$20:$C35)>COUNTA(FRY_Product_List),\"\",INDEX(FRY_Product_List,ROWS($C$20:$C35)))","v":"16-โมจิไส้ถั่ว"},{"$f":"IF($C35=\"\",\"\",ROUND(SUMPRODUCT((LEFT(Transaction[Route],Branch_Digit)=RIGHT(BranchCode,Branch_Digit))*(Transaction[Type]=\"เบิก\")*(Transaction[Products]='Factory_Order Frm'!$C35)*(Transaction[Date]=D$18)*(Transaction[Qty In-Out]))/'Factory_Order Frm'!$K35,0))","v":0},{"$f":"IF($C35=\"\",\"\",ROUND(SUMPRODUCT((LEFT(Transaction[Route],Branch_Digit)=RIGHT(BranchCode,Branch_Digit))*(Transaction[Type]=\"เบิก\")*(Transaction[Products]='Factory_Order Frm'!$C35)*(Transaction[Date]=E$18)*(Transaction[Qty In-Out]))/'Factory_Order Frm'!$K35,0))","v":0},{"$f":"IF($C35=\"\",\"\",ROUND(SUMPRODUCT((LEFT(Transaction[Route],Branch_Digit)=RIGHT(BranchCode,Branch_Digit))*(Transaction[Type]=\"เบิก\")*(Transaction[Products]='Factory_Order Frm'!$C35)*(Transaction[Date]=F$18)*(Transaction[Qty In-Out]))/'Factory_Order Frm'!$K35,0))","v":0},{"$f":"IF($C35=\"\",\"\",ROUND(SUMPRODUCT((LEFT(Transaction[Route],Branch_Digit)=RIGHT(BranchCode,Branch_Digit))*(Transaction[Type]=\"เบิก\")*(Transaction[Products]='Factory_Order Frm'!$C35)*(Transaction[Date]=G$18)*(Transaction[Qty In-Out]))/'Factory_Order Frm'!$K35,0))","v":0},{"$f":"IF($C35=\"\",\"\",ROUND(SUMPRODUCT((LEFT(Transaction[Route],Branch_Digit)=RIGHT(BranchCode,Branch_Digit))*(Transaction[Type]=\"เบิก\")*(Transaction[Products]='Factory_Order Frm'!$C35)*(Transaction[Date]=H$18)*(Transaction[Qty In-Out]))/'Factory_Order Frm'!$K35,0))","v":0},{"$f":"IF($C35=\"\",\"\",ROUND(SUMPRODUCT((LEFT(Transaction[Route],Branch_Digit)=RIGHT(BranchCode,Branch_Digit))*(Transaction[Type]=\"เบิก\")*(Transaction[Products]='Factory_Order Frm'!$C35)*(Transaction[Date]=I$18)*(Transaction[Qty In-Out]))/'Factory_Order Frm'!$K35,0))","v":0},0,{"$f":"IF('Factory_Order Frm'!$C35=\"\",\"\",INDEX(dProduct[Pcs/Unit],MATCH('Factory_Order Frm'!$C35,dProduct[NameTH],)))","v":50},0,null,{"$f":"IF(Cumulative>(ROW()-ROW($O$20)),_xlfn.AGGREGATE(15,6,(ROW(OrderRange_Ref)-ROW($L$19))/(OFFSET(OrderRange_Ref,,0)>0),ROWS($L$20:$L35)),IF(OFFSET(Cumulative,,1)>(ROW()-ROW($O$20)),_xlfn.AGGREGATE(15,6,(ROW(OrderRange_Ref)-ROW($L$19))/(OFFSET(OrderRange_Ref,,1)>0),ROWS($L$20:$L35)-OFFSET(Cumulative,,0)),IF(OFFSET(Cumulative,,2)>(ROW()-ROW($O$20)),_xlfn.AGGREGATE(15,6,(ROW(OrderRange_Ref)-ROW($L$19))/(OFFSET(OrderRange_Ref,,2)>0),ROWS($L$20:$L35)-OFFSET(Cumulative,,1)),IF(OFFSET(Cumulative,,3)>(ROW()-ROW($O$20)),_xlfn.AGGREGATE(15,6,(ROW(OrderRange_Ref)-ROW($L$19))/(OFFSET(OrderRange_Ref,,3)>0),ROWS($L$20:$L35)-OFFSET(Cumulative,,2)),IF(OFFSET(Cumulative,,4)>(ROW()-ROW($O$20)),_xlfn.AGGREGATE(15,6,(ROW(OrderRange_Ref)-ROW($L$19))/(OFFSET(OrderRange_Ref,,4)>0),ROWS($L$20:$L35)-OFFSET(Cumulative,,3)),IF(OFFSET(Cumulative,,5)>(ROW()-ROW($O$20)),_xlfn.AGGREGATE(15,6,(ROW(OrderRange_Ref)-ROW($L$19))/(OFFSET(OrderRange_Ref,,5)>0),ROWS($L$20:$L35)-OFFSET(Cumulative,,4)),\"\"))))))","v":""},"","","","",{"$f":"IF($N35=\"\",\"\",ROUND(SUMPRODUCT((LEFT(Transaction[Route],Branch_Digit)=RIGHT(BranchCode,Branch_Digit))*(Transaction[Type]=\"เบิก\")*(Transaction[Products]='Factory_Order Frm'!$R35)*(Transaction[Date]=$O35)*(Transaction[Qty In-Out]))/PcsPerTray,0))","v":""},{"$f":"IF($N35=\"\",\"\",MOD(SUMPRODUCT((LEFT(Transaction[Route],Branch_Digit)=RIGHT(BranchCode,Branch_Digit))*(Transaction[Type]=\"เบิก\")*(Transaction[Products]='Factory_Order Frm'!$R35)*(Transaction[Date]=$O35)*(Transaction[Qty In-Out])),PcsPerTray))","v":""}]
[null,{"$f":"IF($C36=\"\",\"\",ROWS($C$20:$C36))","v":17},{"$f":"IF(ROWS($C$20:$C36)>COUNTA(FRY_Product_List),\"\",INDEX(FRY_Product_List,ROWS($C$20:$C36)))","v":"17-โมจิไส้เผือก"},{"$f":"IF($C36=\"\",\"\",ROUND(SUMPRODUCT((LEFT(Transaction[Route],Branch_Digit)=RIGHT(BranchCode,Branch_Digit))*(Transaction[Type]=\"เบิก\")*(Transaction[Products]='Factory_Order Frm'!$C36)*(Transaction[Date]=D$18)*(Transaction[Qty In-Out]))/'Factory_Order Frm'!$K36,0))","v":0},{"$f":"IF($C36=\"\",\"\",ROUND(SUMPRODUCT((LEFT(Transaction[Route],Branch_Digit)=RIGHT(BranchCode,Branch_Digit))*(Transaction[Type]=\"เบิก\")*(Transaction[Products]='Factory_Order Frm'!$C36)*(Transaction[Date]=E$18)*(Transaction[Qty In-Out]))/'Factory_Order Frm'!$K36,0))","v":0},{"$f":"IF($C36=\"\",\"\",ROUND(SUMPRODUCT((LEFT(Transaction[Route],Branch_Digit)=RIGHT(BranchCode,Branch_Digit))*(Transaction[Type]=\"เบิก\")*(Transaction[Products]='Factory_Order Frm'!$C36)*(Transaction[Date]=F$18)*(Transaction[Qty In-Out]))/'Factory_Order Frm'!$K36,0))","v":0},{"$f":"IF($C36=\"\",\"\",ROUND(SUMPRODUCT((LEFT(Transaction[Route],Branch_Digit)=RIGHT(BranchCode,Branch_Digit))*(Transaction[Type]=\"เบิก\")*(Transaction[Products]='Factory_Order Frm'!$C36)*(Transaction[Date]=G$18)*(Transaction[Qty In-Out]))/'Factory_Order Frm'!$K36,0))","v":0},{"$f":"IF($C36=\"\",\"\",ROUND(SUMPRODUCT((LEFT(Transaction[Route],Branch_Digit)=RIGHT(BranchCode,Branch_Digit))*(Transaction[Type]=\"เบิก\")*(Transaction[Products]='Factory_Order Frm'!$C36)*(Transaction[Date]=H$18)*(Transaction[Qty In-Out]))/'Factory_Order Frm'!$K36,0))","v":0},{"$f":"IF($C36=\"\",\"\",ROUND(SUMPRODUCT((LEFT(Transaction[Route],Branch_Digit)=RIGHT(BranchCode,Branch_Digit))*(Transaction[Type]=\"เบิก\")*(Transaction[Products]='Factory_Order Frm'!$C36)*(Transaction[Date]=I$18)*(Transaction[Qty In-Out]))/'Factory_Order Frm'!$K36,0))","v":0},0,{"$f":"IF('Factory_Order Frm'!$C36=\"\",\"\",INDEX(dProduct[Pcs/Unit],MATCH('Factory_Order Frm'!$C36,dProduct[NameTH],)))","v":50},0,null,{"$f":"IF(Cumulative>(ROW()-ROW($O$20)),_xlfn.AGGREGATE(15,6,(ROW(OrderRange_Ref)-ROW($L$19))/(OFFSET(OrderRange_Ref,,0)>0),ROWS($L$20:$L36)),IF(OFFSET(Cumulative,,1)>(ROW()-ROW($O$20)),_xlfn.AGGREGATE(15,6,(ROW(OrderRange_Ref)-ROW($L$19))/(OFFSET(OrderRange_Ref,,1)>0),ROWS($L$20:$L36)-OFFSET(Cumulative,,0)),IF(OFFSET(Cumulative,,2)>(ROW()-ROW($O$20)),_xlfn.AGGREGATE(15,6,(ROW(OrderRange_Ref)-ROW($L$19))/(OFFSET(OrderRange_Ref,,2)>0),ROWS($L$20:$L36)-OFFSET(Cumulative,,1)),IF(OFFSET(Cumulative,,3)>(ROW()-ROW($O$20)),_xlfn.AGGREGATE(15,6,(ROW(OrderRange_Ref)-ROW($L$19))/(OFFSET(OrderRange_Ref,,3)>0),ROWS($L$20:$L36)-OFFSET(Cumulative,,2)),IF(OFFSET(Cumulative,,4)>(ROW()-ROW($O$20)),_xlfn.AGGREGATE(15,6,(ROW(OrderRange_Ref)-ROW($L$19))/(OFFSET(OrderRange_Ref,,4)>0),ROWS($L$20:$L36)-OFFSET(Cumulative,,3)),IF(OFFSET(Cumulative,,5)>(ROW()-ROW($O$20)),_xlfn.AGGREGATE(15,6,(ROW(OrderRange_Ref)-ROW($L$19))/(OFFSET(OrderRange_Ref,,5)>0),ROWS($L$20:$L36)-OFFSET(Cumulative,,4)),\"\"))))))","v":""},"","","","",{"$f":"IF($N36=\"\",\"\",ROUND(SUMPRODUCT((LEFT(Transaction[Route],Branch_Digit)=RIGHT(BranchCode,Branch_Digit))*(Transaction[Type]=\"เบิก\")*(Transaction[Products]='Factory_Order Frm'!$R36)*(Transaction[Date]=$O36)*(Transaction[Qty In-Out]))/PcsPerTray,0))","v":""},{"$f":"IF($N36=\"\",\"\",MOD(SUMPRODUCT((LEFT(Transaction[Route],Branch_Digit)=RIGHT(BranchCode,Branch_Digit))*(Transaction[Type]=\"เบิก\")*(Transaction[Products]='Factory_Order Frm'!$R36)*(Transaction[Date]=$O36)*(Transaction[Qty In-Out])),PcsPerTray))","v":""}]
[null,{"$f":"IF($C37=\"\",\"\",ROWS($C$20:$C37))","v":18},{"$f":"IF(ROWS($C$20:$C37)>COUNTA(FRY_Product_List),\"\",INDEX(FRY_Product_List,ROWS($C$20:$C37)))","v":"18-โมจิไส้ถั่วไข่เค็ม"},{"$f":"IF($C37=\"\",\"\",ROUND(SUMPRODUCT((LEFT(Transaction[Route],Branch_Digit)=RIGHT(BranchCode,Branch_Digit))*(Transaction[Type]=\"เบิก\")*(Transaction[Products]='Factory_Order Frm'!$C37)*(Transaction[Date]=D$18)*(Transaction[Qty In-Out]))/'Factory_Order Frm'!$K37,0))","v":0},{"$f":"IF($C37=\"\",\"\",ROUND(SUMPRODUCT((LEFT(Transaction[Route],Branch_Digit)=RIGHT(BranchCode,Branch_Digit))*(Transaction[Type]=\"เบิก\")*(Transaction[Products]='Factory_Order Frm'!$C37)*(Transaction[Date]=E$18)*(Transaction[Qty In-Out]))/'Factory_Order Frm'!$K37,0))","v":0},{"$f":"IF($C37=\"\",\"\",ROUND(SUMPRODUCT((LEFT(Transaction[Route],Branch_Digit)=RIGHT(BranchCode,Branch_Digit))*(Transaction[Type]=\"เบิก\")*(Transaction[Products]='Factory_Order Frm'!$C37)*(Transaction[Date]=F$18)*(Transaction[Qty In-Out]))/'Factory_Order Frm'!$K37,0))","v":0},{"$f":"IF($C37=\"\",\"\",ROUND(SUMPRODUCT((LEFT(Transaction[Route],Branch_Digit)=RIGHT(BranchCode,Branch_Digit))*(Transaction[Type]=\"เบิก\")*(Transaction[Products]='Factory_Order Frm'!$C37)*(Transaction[Date]=G$18)*(Transaction[Qty In-Out]))/'Factory_Order Frm'!$K37,0))","v":0},{"$f":"IF($C37=\"\",\"\",ROUND(SUMPRODUCT((LEFT(Transaction[Route],Branch_Digit)=RIGHT(BranchCode,Branch_Digit))*(Transaction[Type]=\"เบิก\")*(Transaction[Products]='Factory_Order Frm'!$C37)*(Transaction[Date]=H$18)*(Transaction[Qty In-Out]))/'Factory_Order Frm'!$K37,0))","v":0},{"$f":"IF($C37=\"\",\"\",ROUND(SUMPRODUCT((LEFT(Transaction[Route],Branch_Digit)=RIGHT(BranchCode,Branch_Digit))*(Transaction[Type]=\"เบิก\")*(Transaction[Products]='Factory_Order Frm'!$C37)*(Transaction[Date]=I$18)*(Transaction[Qty In-Out]))/'Factory_Order Frm'!$K37,0))","v":0},0,{"$f":"IF('Factory_Order Frm'!$C37=\"\",\"\",INDEX(dProduct[Pcs/Unit],MATCH('Factory_Order Frm'!$C37,dProduct[NameTH],)))","v":50},0,null,{"$f":"IF(Cumulative>(ROW()-ROW($O$20)),_xlfn.AGGREGATE(15,6,(ROW(OrderRange_Ref)-ROW($L$19))/(OFFSET(OrderRange_Ref,,0)>0),ROWS($L$20:$L37)),IF(OFFSET(Cumulative,,1)>(ROW()-ROW($O$20)),_xlfn.AGGREGATE(15,6,(ROW(OrderRange_Ref)-ROW($L$19))/(OFFSET(OrderRange_Ref,,1)>0),ROWS($L$20:$L37)-OFFSET(Cumulative,,0)),IF(OFFSET(Cumulative,,2)>(ROW()-ROW($O$20)),_xlfn.AGGREGATE(15,6,(ROW(OrderRange_Ref)-ROW($L$19))/(OFFSET(OrderRange_Ref,,2)>0),ROWS($L$20:$L37)-OFFSET(Cumulative,,1)),IF(OFFSET(Cumulative,,3)>(ROW()-ROW($O$20)),_xlfn.AGGREGATE(15,6,(ROW(OrderRange_Ref)-ROW($L$19))/(OFFSET(OrderRange_Ref,,3)>0),ROWS($L$20:$L37)-OFFSET(Cumulative,,2)),IF(OFFSET(Cumulative,,4)>(ROW()-ROW($O$20)),_xlfn.AGGREGATE(15,6,(ROW(OrderRange_Ref)-ROW($L$19))/(OFFSET(OrderRange_Ref,,4)>0),ROWS($L$20:$L37)-OFFSET(Cumulative,,3)),IF(OFFSET(Cumulative,,5)>(ROW()-ROW($O$20)),_xlfn.AGGREGATE(15,6,(ROW(OrderRange_Ref)-ROW($L$19))/(OFFSET(OrderRange_Ref,,5)>0),ROWS($L$20:$L37)-OFFSET(Cumulative,,4)),\"\"))))))","v":""},"","","","",{"$f":"IF($N37=\"\",\"\",ROUND(SUMPRODUCT((LEFT(Transaction[Route],Branch_Digit)=RIGHT(BranchCode,Branch_Digit))*(Transaction[Type]=\"เบิก\")*(Transaction[Products]='Factory_Order Frm'!$R37)*(Transaction[Date]=$O37)*(Transaction[Qty In-Out]))/PcsPerTray,0))","v":""},{"$f":"IF($N37=\"\",\"\",MOD(SUMPRODUCT((LEFT(Transaction[Route],Branch_Digit)=RIGHT(BranchCode,Branch_Digit))*(Transaction[Type]=\"เบิก\")*(Transaction[Products]='Factory_Order Frm'!$R37)*(Transaction[Date]=$O37)*(Transaction[Qty In-Out])),PcsPerTray))","v":""}]
[null,{"$f":"IF($C38=\"\",\"\",ROWS($C$20:$C38))","v":19},{"$f":"IF(ROWS($C$20:$C38)>COUNTA(FRY_Product_List),\"\",INDEX(FRY_Product_List,ROWS($C$20:$C38)))","v":"19-ขนมปังพิซซ่า"},{"$f":"IF($C38=\"\",\"\",ROUND(SUMPRODUCT((LEFT(Transaction[Route],Branch_Digit)=RIGHT(BranchCode,Branch_Digit))*(Transaction[Type]=\"เบิก\")*(Transaction[Products]='Factory_Order Frm'!$C38)*(Transaction[Date]=D$18)*(Transaction[Qty In-Out]))/'Factory_Order Frm'!$K38,0))","v":0},{"$f":"IF($C38=\"\",\"\",ROUND(SUMPRODUCT((LEFT(Transaction[Route],Branch_Digit)=RIGHT(BranchCode,Branch_Digit))*(Transaction[Type]=\"เบิก\")*(Transaction[Products]='Factory_Order Frm'!$C38)*(Transaction[Date]=E$18)*(Transaction[Qty In-Out]))/'Factory_Order Frm'!$K38,0))","v":0},{"$f":"IF($C38=\"\",\"\",ROUND(SUMPRODUCT((LEFT(Transaction[Route],Branch_Digit)=RIGHT(BranchCode,Branch_Digit))*(Transaction[Type]=\"เบิก\")*(Transaction[Products]='Factory_Order Frm'!$C38)*(Transaction[Date]=F$18)*(Transaction[Qty In-Out]))/'Factory_Order Frm'!$K38,0))","v":0},{"$f":"IF($C38=\"\",\"\",ROUND(SUMPRODUCT((LEFT(Transaction[Route],Branch_Digit)=RIGHT(BranchCode,Branch_Digit))*(Transaction[Type]=\"เบิก\")*(Transaction[Products]='Factory_Order Frm'!$C38)*(Transaction[Date]=G$18)*(Transaction[Qty In-Out]))/'Factory_Order Frm'!$K38,0))","v":0},{"$f":"IF($C38=\"\",\"\",ROUND(SUMPRODUCT((LEFT(Transaction[Route],Branch_Digit)=RIGHT(BranchCode,Branch_Digit))*(Transaction[Type]=\"เบิก\")*(Transaction[Products]='Factory_Order Frm'!$C38)*(Transaction[Date]=H$18)*(Transaction[Qty In-Out]))/'Factory_Order Frm'!$K38,0))","v":0},{"$f":"IF($C38=\"\",\"\",ROUND(SUMPRODUCT((LEFT(Transaction[Route],Branch_Digit)=RIGHT(BranchCode,Branch_Digit))*(Transaction[Type]=\"เบิก\")*(Transaction[Products]='Factory_Order Frm'!$C38)*(Transaction[Date]=I$18)*(Transaction[Qty In-Out]))/'Factory_Order Frm'!$K38,0))","v":0},0,{"$f":"IF('Factory_Order Frm'!$C38=\"\",\"\",INDEX(dProduct[Pcs/Unit],MATCH('Factory_Order Frm'!$C38,dProduct[NameTH],)))","v":50},0,null,{"$f":"IF(Cumulative>(ROW()-ROW($O$20)),_xlfn.AGGREGATE(15,6,(ROW(OrderRange_Ref)-ROW($L$19))/(OFFSET(OrderRange_Ref,,0)>0),ROWS($L$20:$L38)),IF(OFFSET(Cumulative,,1)>(ROW()-ROW($O$20)),_xlfn.AGGREGATE(15,6,(ROW(OrderRange_Ref)-ROW($L$19))/(OFFSET(OrderRange_Ref,,1)>0),ROWS($L$20:$L38)-OFFSET(Cumulative,,0)),IF(OFFSET(Cumulative,,2)>(ROW()-ROW($O$20)),_xlfn.AGGREGATE(15,6,(ROW(OrderRange_Ref)-ROW($L$19))/(OFFSET(OrderRange_Ref,,2)>0),ROWS($L$20:$L38)-OFFSET(Cumulative,,1)),IF(OFFSET(Cumulative,,3)>(ROW()-ROW($O$20)),_xlfn.AGGREGATE(15,6,(ROW(OrderRange_Ref)-ROW($L$19))/(OFFSET(OrderRange_Ref,,3)>0),ROWS($L$20:$L38)-OFFSET(Cumulative,,2)),IF(OFFSET(Cumulative,,4)>(ROW()-ROW($O$20)),_xlfn.AGGREGATE(15,6,(ROW(OrderRange_Ref)-ROW($L$19))/(OFFSET(OrderRange_Ref,,4)>0),ROWS($L$20:$L38)-OFFSET(Cumulative,,3)),IF(OFFSET(Cumulative,,5)>(ROW()-ROW($O$20)),_xlfn.AGGREGATE(15,6,(ROW(OrderRange_Ref)-ROW($L$19))/(OFFSET(OrderRange_Ref,,5)>0),ROWS($L$20:$L38)-OFFSET(Cumulative,,4)),\"\"))))))","v":""},"","","","",{"$f":"IF($N38=\"\",\"\",ROUND(SUMPRODUCT((LEFT(Transaction[Route],Branch_Digit)=RIGHT(BranchCode,Branch_Digit))*(Transaction[Type]=\"เบิก\")*(Transaction[Products]='Factory_Order Frm'!$R38)*(Transaction[Date]=$O38)*(Transaction[Qty In-Out]))/PcsPerTray,0))","v":""},{"$f":"IF($N38=\"\",\"\",MOD(SUMPRODUCT((LEFT(Transaction[Route],Branch_Digit)=RIGHT(BranchCode,Branch_Digit))*(Transaction[Type]=\"เบิก\")*(Transaction[Products]='Factory_Order Frm'!$R38)*(Transaction[Date]=$O38)*(Transaction[Qty In-Out])),PcsPerTray))","v":""}]
[null,{"$f":"IF($C39=\"\",\"\",ROWS($C$20:$C39))","v":20},{"$f":"IF(ROWS($C$20:$C39)>COUNTA(FRY_Product_List),\"\",INDEX(FRY_Product_List,ROWS($C$20:$C39)))","v":"20-ขนมปังพิซซ่าปูอัดแฮม"},{"$f":"IF($C39=\"\",\"\",ROUND(SUMPRODUCT((LEFT(Transaction[Route],Branch_Digit)=RIGHT(BranchCode,Branch_Digit))*(Transaction[Type]=\"เบิก\")*(Transaction[Products]='Factory_Order Frm'!$C39)*(Transaction[Date]=D$18)*(Transaction[Qty In-Out]))/'Factory_Order Frm'!$K39,0))","v":0},{"$f":"IF($C39=\"\",\"\",ROUND(SUMPRODUCT((LEFT(Transaction[Route],Branch_Digit)=RIGHT(BranchCode,Branch_Digit))*(Transaction[Type]=\"เบิก\")*(Transaction[Products]='Factory_Order Frm'!$C39)*(Transaction[Date]=E$18)*(Transaction[Qty In-Out]))/'Factory_Order Frm'!$K39,0))","v":0},{"$f":"IF($C39=\"\",\"\",ROUND(SUMPRODUCT((LEFT(Transaction[Route],Branch_Digit)=RIGHT(BranchCode,Branch_Digit))*(Transaction[Type]=\"เบิก\")*(Transaction[Products]='Factory_Order Frm'!$C39)*(Transaction[Date]=F$18)*(Transaction[Qty In-Out]))/'Factory_Order Frm'!$K39,0))","v":0},{"$f":"IF($C39=\"\",\"\",ROUND(SUMPRODUCT((LEFT(Transaction[Route],Branch_Digit)=RIGHT(BranchCode,Branch_Digit))*(Transaction[Type]=\"เบิก\")*(Transaction[Products]='Factory_Order Frm'!$C39)*(Transaction[Date]=G$18)*(Transaction[Qty In-Out]))/'Factory_Order Frm'!$K39,0))","v":0},{"$f":"IF($C39=\"\",\"\",ROUND(SUMPRODUCT((LEFT(Transaction[Route],Branch_Digit)=RIGHT(BranchCode,Branch_Digit))*(Transaction[Type]=\"เบิก\")*(Transaction[Products]='Factory_Order Frm'!$C39)*(Transaction[Date]=H$18)*(Transaction[Qty In-Out]))/'Factory_Order Frm'!$K39,0))","v":0},{"$f":"IF($C39=\"\",\"\",ROUND(SUMPRODUCT((LEFT(Transaction[Route],Branch_Digit)=RIGHT(BranchCode,Branch_Digit))*(Transaction[Type]=\"เบิก\")*(Transaction[Products]='Factory_Order Frm'!$C39)*(Transaction[Date]=I$18)*(Transaction[Qty In-Out]))/'Factory_Order Frm'!$K39,0))","v":0},0,{"$f":"IF('Factory_Order Frm'!$C39=\"\",\"\",INDEX(dProduct[Pcs/Unit],MATCH('Factory_Order Frm'!$C39,dProduct[NameTH],)))","v":50},0,null,{"$f":"IF(Cumulative>(ROW()-ROW($O$20)),_xlfn.AGGREGATE(15,6,(ROW(OrderRange_Ref)-ROW($L$19))/(OFFSET(OrderRange_Ref,,0)>0),ROWS($L$20:$L39)),IF(OFFSET(Cumulative,,1)>(ROW()-ROW($O$20)),_xlfn.AGGREGATE(15,6,(ROW(OrderRange_Ref)-ROW($L$19))/(OFFSET(OrderRange_Ref,,1)>0),ROWS($L$20:$L39)-OFFSET(Cumulative,,0)),IF(OFFSET(Cumulative,,2)>(ROW()-ROW($O$20)),_xlfn.AGGREGATE(15,6,(ROW(OrderRange_Ref)-ROW($L$19))/(OFFSET(OrderRange_Ref,,2)>0),ROWS($L$20:$L39)-OFFSET(Cumulative,,1)),IF(OFFSET(Cumulative,,3)>(ROW()-ROW($O$20)),_xlfn.AGGREGATE(15,6,(ROW(OrderRange_Ref)-ROW($L$19))/(OFFSET(OrderRange_Ref,,3)>0),ROWS($L$20:$L39)-OFFSET(Cumulative,,2)),IF(OFFSET(Cumulative,,4)>(ROW()-ROW($O$20)),_xlfn.AGGREGATE(15,6,(ROW(OrderRange_Ref)-ROW($L$19))/(OFFSET(OrderRange_Ref,,4)>0),ROWS($L$20:$L39)-OFFSET(Cumulative,,3)),IF(OFFSET(Cumulative,,5)>(ROW()-ROW($O$20)),_xlfn.AGGREGATE(15,6,(ROW(OrderRange_Ref)-ROW($L$19))/(OFFSET(OrderRange_Ref,,5)>0),ROWS($L$20:$L39)-OFFSET(Cumulative,,4)),\"\"))))))","v":""},"","","","",{"$f":"IF($N39=\"\",\"\",ROUND(SUMPRODUCT((LEFT(Transaction[Route],Branch_Digit)=RIGHT(BranchCode,Branch_Digit))*(Transaction[Type]=\"เบิก\")*(Transaction[Products]='Factory_Order Frm'!$R39)*(Transaction[Date]=$O39)*(Transaction[Qty In-Out]))/PcsPerTray,0))","v":""},{"$f":"IF($N39=\"\",\"\",MOD(SUMPRODUCT((LEFT(Transaction[Route],Branch_Digit)=RIGHT(BranchCode,Branch_Digit))*(Transaction[Type]=\"เบิก\")*(Transaction[Products]='Factory_Order Frm'!$R39)*(Transaction[Date]=$O39)*(Transaction[Qty In-Out])),PcsPerTray))","v":""}]
[null,{"$f":"IF($C40=\"\",\"\",ROWS($C$20:$C40))","v":21},{"$f":"IF(ROWS($C$20:$C40)>COUNTA(FRY_Product_List),\"\",INDEX(FRY_Product_List,ROWS($C$20:$C40)))","v":"21-ขนมปังไส้กรอก"},{"$f":"IF($C40=\"\",\"\",ROUND(SUMPRODUCT((LEFT(Transaction[Route],Branch_Digit)=RIGHT(BranchCode,Branch_Digit))*(Transaction[Type]=\"เบิก\")*(Transaction[Products]='Factory_Order Frm'!$C40)*(Transaction[Date]=D$18)*(Transaction[Qty In-Out]))/'Factory_Order Frm'!$K40,0))","v":0},{"$f":"IF($C40=\"\",\"\",ROUND(SUMPRODUCT((LEFT(Transaction[Route],Branch_Digit)=RIGHT(BranchCode,Branch_Digit))*(Transaction[Type]=\"เบิก\")*(Transaction[Products]='Factory_Order Frm'!$C40)*(Transaction[Date]=E$18)*(Transaction[Qty In-Out]))/'Factory_Order Frm'!$K40,0))","v":0},{"$f":"IF($C40=\"\",\"\",ROUND(SUMPRODUCT((LEFT(Transaction[Route],Branch_Digit)=RIGHT(BranchCode,Branch_Digit))*(Transaction[Type]=\"เบิก\")*(Transaction[Products]='Factory_Order Frm'!$C40)*(Transaction[Date]=F$18)*(Transaction[Qty In-Out]))/'Factory_Order Frm'!$K40,0))","v":0},{"$f":"IF($C40=\"\",\"\",ROUND(SUMPRODUCT((LEFT(Transaction[Route],Branch_Digit)=RIGHT(BranchCode,Branch_Digit))*(Transaction[Type]=\"เบิก\")*(Transaction[Products]='Factory_Order Frm'!$C40)*(Transaction[Date]=G$18)*(Transaction[Qty In-Out]))/'Factory_Order Frm'!$K40,0))","v":0},{"$f":"IF($C40=\"\",\"\",ROUND(SUMPRODUCT((LEFT(Transaction[Route],Branch_Digit)=RIGHT(BranchCode,Branch_Digit))*(Transaction[Type]=\"เบิก\")*(Transaction[Products]='Factory_Order Frm'!$C40)*(Transaction[Date]=H$18)*(Transaction[Qty In-Out]))/'Factory_Order Frm'!$K40,0))","v":0},{"$f":"IF($C40=\"\",\"\",ROUND(SUMPRODUCT((LEFT(Transaction[Route],Branch_Digit)=RIGHT(BranchCode,Branch_Digit))*(Transaction[Type]=\"เบิก\")*(Transaction[Products]='Factory_Order Frm'!$C40)*(Transaction[Date]=I$18)*(Transaction[Qty In-Out]))/'Factory_Order Frm'!$K40,0))","v":0},0,{"$f":"IF('Factory_Order Frm'!$C40=\"\",\"\",INDEX(dProduct[Pcs/Unit],MATCH('Factory_Order Frm'!$C40,dProduct[NameTH],)))","v":50},0,null,{"$f":"IF(Cumulative>(ROW()-ROW($O$20)),_xlfn.AGGREGATE(15,6,(ROW(OrderRange_Ref)-ROW($L$19))/(OFFSET(OrderRange_Ref,,0)>0),ROWS($L$20:$L40)),IF(OFFSET(Cumulative,,1)>(ROW()-ROW($O$20)),_xlfn.AGGREGATE(15,6,(ROW(OrderRange_Ref)-ROW($L$19))/(OFFSET(OrderRange_Ref,,1)>0),ROWS($L$20:$L40)-OFFSET(Cumulative,,0)),IF(OFFSET(Cumulative,,2)>(ROW()-ROW($O$20)),_xlfn.AGGREGATE(15,6,(ROW(OrderRange_Ref)-ROW($L$19))/(OFFSET(OrderRange_Ref,,2)>0),ROWS($L$20:$L40)-OFFSET(Cumulative,,1)),IF(OFFSET(Cumulative,,3)>(ROW()-ROW($O$20)),_xlfn.AGGREGATE(15,6,(ROW(OrderRange_Ref)-ROW($L$19))/(OFFSET(OrderRange_Ref,,3)>0),ROWS($L$20:$L40)-OFFSET(Cumulative,,2)),IF(OFFSET(Cumulative,,4)>(ROW()-ROW($O$20)),_xlfn.AGGREGATE(15,6,(ROW(OrderRange_Ref)-ROW($L$19))/(OFFSET(OrderRange_Ref,,4)>0),ROWS($L$20:$L40)-OFFSET(Cumulative,,3)),IF(OFFSET(Cumulative,,5)>(ROW()-ROW($O$20)),_xlfn.AGGREGATE(15,6,(ROW(OrderRange_Ref)-ROW($L$19))/(OFFSET(OrderRange_Ref,,5)>0),ROWS($L$20:$L40)-OFFSET(Cumulative,,4)),\"\"))))))","v":""},"","","","",{"$f":"IF($N40=\"\",\"\",ROUND(SUMPRODUCT((LEFT(Transaction[Route],Branch_Digit)=RIGHT(BranchCode,Branch_Digit))*(Transaction[Type]=\"เบิก\")*(Transaction[Products]='Factory_Order Frm'!$R40)*(Transaction[Date]=$O40)*(Transaction[Qty In-Out]))/PcsPerTray,0))","v":""},{"$f":"IF($N40=\"\",\"\",MOD(SUMPRODUCT((LEFT(Transaction[Route],Branch_Digit)=RIGHT(BranchCode,Branch_Digit))*(Transaction[Type]=\"เบิก\")*(Transaction[Products]='Factory_Order Frm'!$R40)*(Transaction[Date]=$O40)*(Transaction[Qty In-Out])),PcsPerTray))","v":""}]
[null,{"$f":"IF($C41=\"\",\"\",ROWS($C$20:$C41))","v":22},{"$f":"IF(ROWS($C$20:$C41)>COUNTA(FRY_Product_List),\"\",INDEX(FRY_Product_List,ROWS($C$20:$C41)))","v":"22-ขนมปังไส้ครีมรสกาแฟ"},{"$f":"IF($C41=\"\",\"\",ROUND(SUMPRODUCT((LEFT(Transaction[Route],Branch_Digit)=RIGHT(BranchCode,Branch_Digit))*(Transaction[Type]=\"เบิก\")*(Transaction[Products]='Factory_Order Frm'!$C41)*(Transaction[Date]=D$18)*(Transaction[Qty In-Out]))/'Factory_Order Frm'!$K41,0))","v":0},{"$f":"IF($C41=\"\",\"\",ROUND(SUMPRODUCT((LEFT(Transaction[Route],Branch_Digit)=RIGHT(BranchCode,Branch_Digit))*(Transaction[Type]=\"เบิก\")*(Transaction[Products]='Factory_Order Frm'!$C41)*(Transaction[Date]=E$18)*(Transaction[Qty In-Out]))/'Factory_Order Frm'!$K41,0))","v":0},{"$f":"IF($C41=\"\",\"\",ROUND(SUMPRODUCT((LEFT(Transaction[Route],Branch_Digit)=RIGHT(BranchCode,Branch_Digit))*(Transaction[Type]=\"เบิก\")*(Transaction[Products]='Factory_Order Frm'!$C41)*(Transaction[Date]=F$18)*(Transaction[Qty In-Out]))/'Factory_Order Frm'!$K41,0))","v":0},{"$f":"IF($C41=\"\",\"\",ROUND(SUMPRODUCT((LEFT(Transaction[Route],Branch_Digit)=RIGHT(BranchCode,Branch_Digit))*(Transaction[Type]=\"เบิก\")*(Transaction[Products]='Factory_Order Frm'!$C41)*(Transaction[Date]=G$18)*(Transaction[Qty In-Out]))/'Factory_Order Frm'!$K41,0))","v":0},{"$f":"IF($C41=\"\",\"\",ROUND(SUMPRODUCT((LEFT(Transaction[Route],Branch_Digit)=RIGHT(BranchCode,Branch_Digit))*(Transaction[Type]=\"เบิก\")*(Transaction[Products]='Factory_Order Frm'!$C41)*(Transaction[Date]=H$18)*(Transaction[Qty In-Out]))/'Factory_Order Frm'!$K41,0))","v":0},{"$f":"IF($C41=\"\",\"\",ROUND(SUMPRODUCT((LEFT(Transaction[Route],Branch_Digit)=RIGHT(BranchCode,Branch_Digit))*(Transaction[Type]=\"เบิก\")*(Transaction[Products]='Factory_Order Frm'!$C41)*(Transaction[Date]=I$18)*(Transaction[Qty In-Out]))/'Factory_Order Frm'!$K41,0))","v":0},0,{"$f":"IF('Factory_Order Frm'!$C41=\"\",\"\",INDEX(dProduct[Pcs/Unit],MATCH('Factory_Order Frm'!$C41,dProduct[NameTH],)))","v":40},0,null,{"$f":"IF(Cumulative>(ROW()-ROW($O$20)),_xlfn.AGGREGATE(15,6,(ROW(OrderRange_Ref)-ROW($L$19))/(OFFSET(OrderRange_Ref,,0)>0),ROWS($L$20:$L41)),IF(OFFSET(Cumulative,,1)>(ROW()-ROW($O$20)),_xlfn.AGGREGATE(15,6,(ROW(OrderRange_Ref)-ROW($L$19))/(OFFSET(OrderRange_Ref,,1)>0),ROWS($L$20:$L41)-OFFSET(Cumulative,,0)),IF(OFFSET(Cumulative,,2)>(ROW()-ROW($O$20)),_xlfn.AGGREGATE(15,6,(ROW(OrderRange_Ref)-ROW($L$19))/(OFFSET(OrderRange_Ref,,2)>0),ROWS($L$20:$L41)-OFFSET(Cumulative,,1)),IF(OFFSET(Cumulative,,3)>(ROW()-ROW($O$20)),_xlfn.AGGREGATE(15,6,(ROW(OrderRange_Ref)-ROW($L$19))/(OFFSET(OrderRange_Ref,,3)>0),ROWS($L$20:$L41)-OFFSET(Cumulative,,2)),IF(OFFSET(Cumulative,,4)>(ROW()-ROW($O$20)),_xlfn.AGGREGATE(15,6,(ROW(OrderRange_Ref)-ROW($L$19))/(OFFSET(OrderRange_Ref,,4)>0),ROWS($L$20:$L41)-OFFSET(Cumulative,,3)),IF(OFFSET(Cumulative,,5)>(ROW()-ROW($O$20)),_xlfn.AGGREGATE(15,6,(ROW(OrderRange_Ref)-ROW($L$19))/(OFFSET(OrderRange_Ref,,5)>0),ROWS($L$20:$L41)-OFFSET(Cumulative,,4)),\"\"))))))","v":""},"","","","",{"$f":"IF($N41=\"\",\"\",ROUND(SUMPRODUCT((LEFT(Transaction[Route],Branch_Digit)=RIGHT(BranchCode,Branch_Digit))*(Transaction[Type]=\"เบิก\")*(Transaction[Products]='Factory_Order Frm'!$R41)*(Transaction[Date]=$O41)*(Transaction[Qty In-Out]))/PcsPerTray,0))","v":""},{"$f":"IF($N41=\"\",\"\",MOD(SUMPRODUCT((LEFT(Transaction[Route],Branch_Digit)=RIGHT(BranchCode,Branch_Digit))*(Transaction[Type]=\"เบิก\")*(Transaction[Products]='Factory_Order Frm'!$R41)*(Transaction[Date]=$O41)*(Transaction[Qty In-Out])),PcsPerTray))","v":""}]
[null,{"$f":"IF($C42=\"\",\"\",ROWS($C$20:$C42))","v":23},{"$f":"IF(ROWS($C$20:$C42)>COUNTA(FRY_Product_List),\"\",INDEX(FRY_Product_List,ROWS($C$20:$C42)))","v":"24-ขนมก้านบัว"},{"$f":"IF($C42=\"\",\"\",ROUND(SUMPRODUCT((LEFT(Transaction[Route],Branch_Digit)=RIGHT(BranchCode,Branch_Digit))*(Transaction[Type]=\"เบิก\")*(Transaction[Products]='Factory_Order Frm'!$C42)*(Transaction[Date]=D$18)*(Transaction[Qty In-Out]))/'Factory_Order Frm'!$K42,0))","v":0},{"$f":"IF($C42=\"\",\"\",ROUND(SUMPRODUCT((LEFT(Transaction[Route],Branch_Digit)=RIGHT(BranchCode,Branch_Digit))*(Transaction[Type]=\"เบิก\")*(Transaction[Products]='Factory_Order Frm'!$C42)*(Transaction[Date]=E$18)*(Transaction[Qty In-Out]))/'Factory_Order Frm'!$K42,0))","v":0},{"$f":"IF($C42=\"\",\"\",ROUND(SUMPRODUCT((LEFT(Transaction[Route],Branch_Digit)=RIGHT(BranchCode,Branch_Digit))*(Transaction[Type]=\"เบิก\")*(Transaction[Products]='Factory_Order Frm'!$C42)*(Transaction[Date]=F$18)*(Transaction[Qty In-Out]))/'Factory_Order Frm'!$K42,0))","v":0},{"$f":"IF($C42=\"\",\"\",ROUND(SUMPRODUCT((LEFT(Transaction[Route],Branch_Digit)=RIGHT(BranchCode,Branch_Digit))*(Transaction[Type]=\"เบิก\")*(Transaction[Products]='Factory_Order Frm'!$C42)*(Transaction[Date]=G$18)*(Transaction[Qty In-Out]))/'Factory_Order Frm'!$K42,0))","v":0},{"$f":"IF($C42=\"\",\"\",ROUND(SUMPRODUCT((LEFT(Transaction[Route],Branch_Digit)=RIGHT(BranchCode,Branch_Digit))*(Transaction[Type]=\"เบิก\")*(Transaction[Products]='Factory_Order Frm'!$C42)*(Transaction[Date]=H$18)*(Transaction[Qty In-Out]))/'Factory_Order Frm'!$K42,0))","v":0},{"$f":"IF($C42=\"\",\"\",ROUND(SUMPRODUCT((LEFT(Transaction[Route],Branch_Digit)=RIGHT(BranchCode,Branch_Digit))*(Transaction[Type]=\"เบิก\")*(Transaction[Products]='Factory_Order Frm'!$C42)*(Transaction[Date]=I$18)*(Transaction[Qty In-Out]))/'Factory_Order Frm'!$K42,0))","v":0},0,{"$f":"IF('Factory_Order Frm'!$C42=\"\",\"\",INDEX(dProduct[Pcs/Unit],MATCH('Factory_Order Frm'!$C42,dProduct[NameTH],)))","v":40},0,null,{"$f":"IF(Cumulative>(ROW()-ROW($O$20)),_xlfn.AGGREGATE(15,6,(ROW(OrderRange_Ref)-ROW($L$19))/(OFFSET(OrderRange_Ref,,0)>0),ROWS($L$20:$L42)),IF(OFFSET(Cumulative,,1)>(ROW()-ROW($O$20)),_xlfn.AGGREGATE(15,6,(ROW(OrderRange_Ref)-ROW($L$19))/(OFFSET(OrderRange_Ref,,1)>0),ROWS($L$20:$L42)-OFFSET(Cumulative,,0)),IF(OFFSET(Cumulative,,2)>(ROW()-ROW($O$20)),_xlfn.AGGREGATE(15,6,(ROW(OrderRange_Ref)-ROW($L$19))/(OFFSET(OrderRange_Ref,,2)>0),ROWS($L$20:$L42)-OFFSET(Cumulative,,1)),IF(OFFSET(Cumulative,,3)>(ROW()-ROW($O$20)),_xlfn.AGGREGATE(15,6,(ROW(OrderRange_Ref)-ROW($L$19))/(OFFSET(OrderRange_Ref,,3)>0),ROWS($L$20:$L42)-OFFSET(Cumulative,,2)),IF(OFFSET(Cumulative,,4)>(ROW()-ROW($O$20)),_xlfn.AGGREGATE(15,6,(ROW(OrderRange_Ref)-ROW($L$19))/(OFFSET(OrderRange_Ref,,4)>0),ROWS($L$20:$L42)-OFFSET(Cumulative,,3)),IF(OFFSET(Cumulative,,5)>(ROW()-ROW($O$20)),_xlfn.AGGREGATE(15,6,(ROW(OrderRange_Ref)-ROW($L$19))/(OFFSET(OrderRange_Ref,,5)>0),ROWS($L$20:$L42)-OFFSET(Cumulative,,4)),\"\"))))))","v":""},"","","","",{"$f":"IF($N42=\"\",\"\",ROUND(SUMPRODUCT((LEFT(Transaction[Route],Branch_Digit)=RIGHT(BranchCode,Branch_Digit))*(Transaction[Type]=\"เบิก\")*(Transaction[Products]='Factory_Order Frm'!$R42)*(Transaction[Date]=$O42)*(Transaction[Qty In-Out]))/PcsPerTray,0))","v":""},{"$f":"IF($N42=\"\",\"\",MOD(SUMPRODUCT((LEFT(Transaction[Route],Branch_Digit)=RIGHT(BranchCode,Branch_Digit))*(Transaction[Type]=\"เบิก\")*(Transaction[Products]='Factory_Order Frm'!$R42)*(Transaction[Date]=$O42)*(Transaction[Qty In-Out])),PcsPerTray))","v":""}]
[null,{"$f":"IF($C43=\"\",\"\",ROWS($C$20:$C43))","v":24},{"$f":"IF(ROWS($C$20:$C43)>COUNTA(FRY_Product_List),\"\",INDEX(FRY_Product_List,ROWS($C$20:$C43)))","v":"27-ปังกรอบเนยสด"},{"$f":"IF($C43=\"\",\"\",ROUND(SUMPRODUCT((LEFT(Transaction[Route],Branch_Digit)=RIGHT(BranchCode,Branch_Digit))*(Transaction[Type]=\"เบิก\")*(Transaction[Products]='Factory_Order Frm'!$C43)*(Transaction[Date]=D$18)*(Transaction[Qty In-Out]))/'Factory_Order Frm'!$K43,0))","v":0},{"$f":"IF($C43=\"\",\"\",ROUND(SUMPRODUCT((LEFT(Transaction[Route],Branch_Digit)=RIGHT(BranchCode,Branch_Digit))*(Transaction[Type]=\"เบิก\")*(Transaction[Products]='Factory_Order Frm'!$C43)*(Transaction[Date]=E$18)*(Transaction[Qty In-Out]))/'Factory_Order Frm'!$K43,0))","v":0},{"$f":"IF($C43=\"\",\"\",ROUND(SUMPRODUCT((LEFT(Transaction[Route],Branch_Digit)=RIGHT(BranchCode,Branch_Digit))*(Transaction[Type]=\"เบิก\")*(Transaction[Products]='Factory_Order Frm'!$C43)*(Transaction[Date]=F$18)*(Transaction[Qty In-Out]))/'Factory_Order Frm'!$K43,0))","v":0},{"$f":"IF($C43=\"\",\"\",ROUND(SUMPRODUCT((LEFT(Transaction[Route],Branch_Digit)=RIGHT(BranchCode,Branch_Digit))*(Transaction[Type]=\"เบิก\")*(Transaction[Products]='Factory_Order Frm'!$C43)*(Transaction[Date]=G$18)*(Transaction[Qty In-Out]))/'Factory_Order Frm'!$K43,0))","v":0},{"$f":"IF($C43=\"\",\"\",ROUND(SUMPRODUCT((LEFT(Transaction[Route],Branch_Digit)=RIGHT(BranchCode,Branch_Digit))*(Transaction[Type]=\"เบิก\")*(Transaction[Products]='Factory_Order Frm'!$C43)*(Transaction[Date]=H$18)*(Transaction[Qty In-Out]))/'Factory_Order Frm'!$K43,0))","v":0},{"$f":"IF($C43=\"\",\"\",ROUND(SUMPRODUCT((LEFT(Transaction[Route],Branch_Digit)=RIGHT(BranchCode,Branch_Digit))*(Transaction[Type]=\"เบิก\")*(Transaction[Products]='Factory_Order Frm'!$C43)*(Transaction[Date]=I$18)*(Transaction[Qty In-Out]))/'Factory_Order Frm'!$K43,0))","v":0},0,{"$f":"IF('Factory_Order Frm'!$C43=\"\",\"\",INDEX(dProduct[Pcs/Unit],MATCH('Factory_Order Frm'!$C43,dProduct[NameTH],)))","v":40},0,null,{"$f":"IF(Cumulative>(ROW()-ROW($O$20)),_xlfn.AGGREGATE(15,6,(ROW(OrderRange_Ref)-ROW($L$19))/(OFFSET(OrderRange_Ref,,0)>0),ROWS($L$20:$L43)),IF(OFFSET(Cumulative,,1)>(ROW()-ROW($O$20)),_xlfn.AGGREGATE(15,6,(ROW(OrderRange_Ref)-ROW($L$19))/(OFFSET(OrderRange_Ref,,1)>0),ROWS($L$20:$L43)-OFFSET(Cumulative,,0)),IF(OFFSET(Cumulative,,2)>(ROW()-ROW($O$20)),_xlfn.AGGREGATE(15,6,(ROW(OrderRange_Ref)-ROW($L$19))/(OFFSET(OrderRange_Ref,,2)>0),ROWS($L$20:$L43)-OFFSET(Cumulative,,1)),IF(OFFSET(Cumulative,,3)>(ROW()-ROW($O$20)),_xlfn.AGGREGATE(15,6,(ROW(OrderRange_Ref)-ROW($L$19))/(OFFSET(OrderRange_Ref,,3)>0),ROWS($L$20:$L43)-OFFSET(Cumulative,,2)),IF(OFFSET(Cumulative,,4)>(ROW()-ROW($O$20)),_xlfn.AGGREGATE(15,6,(ROW(OrderRange_Ref)-ROW($L$19))/(OFFSET(OrderRange_Ref,,4)>0),ROWS($L$20:$L43)-OFFSET(Cumulative,,3)),IF(OFFSET(Cumulative,,5)>(ROW()-ROW($O$20)),_xlfn.AGGREGATE(15,6,(ROW(OrderRange_Ref)-ROW($L$19))/(OFFSET(OrderRange_Ref,,5)>0),ROWS($L$20:$L43)-OFFSET(Cumulative,,4)),\"\"))))))","v":""},"","","","",{"$f":"IF($N43=\"\",\"\",ROUND(SUMPRODUCT((LEFT(Transaction[Route],Branch_Digit)=RIGHT(BranchCode,Branch_Digit))*(Transaction[Type]=\"เบิก\")*(Transaction[Products]='Factory_Order Frm'!$R43)*(Transaction[Date]=$O43)*(Transaction[Qty In-Out]))/PcsPerTray,0))","v":""},{"$f":"IF($N43=\"\",\"\",MOD(SUMPRODUCT((LEFT(Transaction[Route],Branch_Digit)=RIGHT(BranchCode,Branch_Digit))*(Transaction[Type]=\"เบิก\")*(Transaction[Products]='Factory_Order Frm'!$R43)*(Transaction[Date]=$O43)*(Transaction[Qty In-Out])),PcsPerTray))","v":""}]
[null,{"$f":"IF($C44=\"\",\"\",ROWS($C$20:$C44))","v":25},{"$f":"IF(ROWS($C$20:$C44)>COUNTA(FRY_Product_List),\"\",INDEX(FRY_Product_List,ROWS($C$20:$C44)))","v":"28-ปังกรอบกระเทียม"},{"$f":"IF($C44=\"\",\"\",ROUND(SUMPRODUCT((LEFT(Transaction[Route],Branch_Digit)=RIGHT(BranchCode,Branch_Digit))*(Transaction[Type]=\"เบิก\")*(Transaction[Products]='Factory_Order Frm'!$C44)*(Transaction[Date]=D$18)*(Transaction[Qty In-Out]))/'Factory_Order Frm'!$K44,0))","v":0},{"$f":"IF($C44=\"\",\"\",ROUND(SUMPRODUCT((LEFT(Transaction[Route],Branch_Digit)=RIGHT(BranchCode,Branch_Digit))*(Transaction[Type]=\"เบิก\")*(Transaction[Products]='Factory_Order Frm'!$C44)*(Transaction[Date]=E$18)*(Transaction[Qty In-Out]))/'Factory_Order Frm'!$K44,0))","v":0},{"$f":"IF($C44=\"\",\"\",ROUND(SUMPRODUCT((LEFT(Transaction[Route],Branch_Digit)=RIGHT(BranchCode,Branch_Digit))*(Transaction[Type]=\"เบิก\")*(Transaction[Products]='Factory_Order Frm'!$C44)*(Transaction[Date]=F$18)*(Transaction[Qty In-Out]))/'Factory_Order Frm'!$K44,0))","v":0},{"$f":"IF($C44=\"\",\"\",ROUND(SUMPRODUCT((LEFT(Transaction[Route],Branch_Digit)=RIGHT(BranchCode,Branch_Digit))*(Transaction[Type]=\"เบิก\")*(Transaction[Products]='Factory_Order Frm'!$C44)*(Transaction[Date]=G$18)*(Transaction[Qty In-Out]))/'Factory_Order Frm'!$K44,0))","v":0},{"$f":"IF($C44=\"\",\"\",ROUND(SUMPRODUCT((LEFT(Transaction[Route],Branch_Digit)=RIGHT(BranchCode,Branch_Digit))*(Transaction[Type]=\"เบิก\")*(Transaction[Products]='Factory_Order Frm'!$C44)*(Transaction[Date]=H$18)*(Transaction[Qty In-Out]))/'Factory_Order Frm'!$K44,0))","v":0},{"$f":"IF($C44=\"\",\"\",ROUND(SUMPRODUCT((LEFT(Transaction[Route],Branch_Digit)=RIGHT(BranchCode,Branch_Digit))*(Transaction[Type]=\"เบิก\")*(Transaction[Products]='Factory_Order Frm'!$C44)*(Transaction[Date]=I$18)*(Transaction[Qty In-Out]))/'Factory_Order Frm'!$K44,0))","v":0},0,{"$f":"IF('Factory_Order Frm'!$C44=\"\",\"\",INDEX(dProduct[Pcs/Unit],MATCH('Factory_Order Frm'!$C44,dProduct[NameTH],)))","v":40},0,null,{"$f":"IF(Cumulative>(ROW()-ROW($O$20)),_xlfn.AGGREGATE(15,6,(ROW(OrderRange_Ref)-ROW($L$19))/(OFFSET(OrderRange_Ref,,0)>0),ROWS($L$20:$L44)),IF(OFFSET(Cumulative,,1)>(ROW()-ROW($O$20)),_xlfn.AGGREGATE(15,6,(ROW(OrderRange_Ref)-ROW($L$19))/(OFFSET(OrderRange_Ref,,1)>0),ROWS($L$20:$L44)-OFFSET(Cumulative,,0)),IF(OFFSET(Cumulative,,2)>(ROW()-ROW($O$20)),_xlfn.AGGREGATE(15,6,(ROW(OrderRange_Ref)-ROW($L$19))/(OFFSET(OrderRange_Ref,,2)>0),ROWS($L$20:$L44)-OFFSET(Cumulative,,1)),IF(OFFSET(Cumulative,,3)>(ROW()-ROW($O$20)),_xlfn.AGGREGATE(15,6,(ROW(OrderRange_Ref)-ROW($L$19))/(OFFSET(OrderRange_Ref,,3)>0),ROWS($L$20:$L44)-OFFSET(Cumulative,,2)),IF(OFFSET(Cumulative,,4)>(ROW()-ROW($O$20)),_xlfn.AGGREGATE(15,6,(ROW(OrderRange_Ref)-ROW($L$19))/(OFFSET(OrderRange_Ref,,4)>0),ROWS($L$20:$L44)-OFFSET(Cumulative,,3)),IF(OFFSET(Cumulative,,5)>(ROW()-ROW($O$20)),_xlfn.AGGREGATE(15,6,(ROW(OrderRange_Ref)-ROW($L$19))/(OFFSET(OrderRange_Ref,,5)>0),ROWS($L$20:$L44)-OFFSET(Cumulative,,4)),\"\"))))))","v":""},"","","","",{"$f":"IF($N44=\"\",\"\",ROUND(SUMPRODUCT((LEFT(Transaction[Route],Branch_Digit)=RIGHT(BranchCode,Branch_Digit))*(Transaction[Type]=\"เบิก\")*(Transaction[Products]='Factory_Order Frm'!$R44)*(Transaction[Date]=$O44)*(Transaction[Qty In-Out]))/PcsPerTray,0))","v":""},{"$f":"IF($N44=\"\",\"\",MOD(SUMPRODUCT((LEFT(Transaction[Route],Branch_Digit)=RIGHT(BranchCode,Branch_Digit))*(Transaction[Type]=\"เบิก\")*(Transaction[Products]='Factory_Order Frm'!$R44)*(Transaction[Date]=$O44)*(Transaction[Qty In-Out])),PcsPerTray))","v":""}]
[null,{"$f":"IF($C45=\"\",\"\",ROWS($C$20:$C45))","v":26},{"$f":"IF(ROWS($C$20:$C45)>COUNTA(FRY_Product_List),\"\",INDEX(FRY_Product_List,ROWS($C$20:$C45)))","v":"29-ขนมปังโรลมันเทศ"},{"$f":"IF($C45=\"\",\"\",ROUND(SUMPRODUCT((LEFT(Transaction[Route],Branch_Digit)=RIGHT(BranchCode,Branch_Digit))*(Transaction[Type]=\"เบิก\")*(Transaction[Products]='Factory_Order Frm'!$C45)*(Transaction[Date]=D$18)*(Transaction[Qty In-Out]))/'Factory_Order Frm'!$K45,0))","v":0},{"$f":"IF($C45=\"\",\"\",ROUND(SUMPRODUCT((LEFT(Transaction[Route],Branch_Digit)=RIGHT(BranchCode,Branch_Digit))*(Transaction[Type]=\"เบิก\")*(Transaction[Products]='Factory_Order Frm'!$C45)*(Transaction[Date]=E$18)*(Transaction[Qty In-Out]))/'Factory_Order Frm'!$K45,0))","v":0},{"$f":"IF($C45=\"\",\"\",ROUND(SUMPRODUCT((LEFT(Transaction[Route],Branch_Digit)=RIGHT(BranchCode,Branch_Digit))*(Transaction[Type]=\"เบิก\")*(Transaction[Products]='Factory_Order Frm'!$C45)*(Transaction[Date]=F$18)*(Transaction[Qty In-Out]))/'Factory_Order Frm'!$K45,0))","v":0},{"$f":"IF($C45=\"\",\"\",ROUND(SUMPRODUCT((LEFT(Transaction[Route],Branch_Digit)=RIGHT(BranchCode,Branch_Digit))*(Transaction[Type]=\"เบิก\")*(Transaction[Products]='Factory_Order Frm'!$C45)*(Transaction[Date]=G$18)*(Transaction[Qty In-Out]))/'Factory_Order Frm'!$K45,0))","v":0},{"$f":"IF($C45=\"\",\"\",ROUND(SUMPRODUCT((LEFT(Transaction[Route],Branch_Digit)=RIGHT(BranchCode,Branch_Digit))*(Transaction[Type]=\"เบิก\")*(Transaction[Products]='Factory_Order Frm'!$C45)*(Transaction[Date]=H$18)*(Transaction[Qty In-Out]))/'Factory_Order Frm'!$K45,0))","v":0},{"$f":"IF($C45=\"\",\"\",ROUND(SUMPRODUCT((LEFT(Transaction[Route],Branch_Digit)=RIGHT(BranchCode,Branch_Digit))*(Transaction[Type]=\"เบิก\")*(Transaction[Products]='Factory_Order Frm'!$C45)*(Transaction[Date]=I$18)*(Transaction[Qty In-Out]))/'Factory_Order Frm'!$K45,0))","v":0},0,{"$f":"IF('Factory_Order Frm'!$C45=\"\",\"\",INDEX(dProduct[Pcs/Unit],MATCH('Factory_Order Frm'!$C45,dProduct[NameTH],)))","v":40},0,null,{"$f":"IF(Cumulative>(ROW()-ROW($O$20)),_xlfn.AGGREGATE(15,6,(ROW(OrderRange_Ref)-ROW($L$19))/(OFFSET(OrderRange_Ref,,0)>0),ROWS($L$20:$L45)),IF(OFFSET(Cumulative,,1)>(ROW()-ROW($O$20)),_xlfn.AGGREGATE(15,6,(ROW(OrderRange_Ref)-ROW($L$19))/(OFFSET(OrderRange_Ref,,1)>0),ROWS($L$20:$L45)-OFFSET(Cumulative,,0)),IF(OFFSET(Cumulative,,2)>(ROW()-ROW($O$20)),_xlfn.AGGREGATE(15,6,(ROW(OrderRange_Ref)-ROW($L$19))/(OFFSET(OrderRange_Ref,,2)>0),ROWS($L$20:$L45)-OFFSET(Cumulative,,1)),IF(OFFSET(Cumulative,,3)>(ROW()-ROW($O$20)),_xlfn.AGGREGATE(15,6,(ROW(OrderRange_Ref)-ROW($L$19))/(OFFSET(OrderRange_Ref,,3)>0),ROWS($L$20:$L45)-OFFSET(Cumulative,,2)),IF(OFFSET(Cumulative,,4)>(ROW()-ROW($O$20)),_xlfn.AGGREGATE(15,6,(ROW(OrderRange_Ref)-ROW($L$19))/(OFFSET(OrderRange_Ref,,4)>0),ROWS($L$20:$L45)-OFFSET(Cumulative,,3)),IF(OFFSET(Cumulative,,5)>(ROW()-ROW($O$20)),_xlfn.AGGREGATE(15,6,(ROW(OrderRange_Ref)-ROW($L$19))/(OFFSET(OrderRange_Ref,,5)>0),ROWS($L$20:$L45)-OFFSET(Cumulative,,4)),\"\"))))))","v":""},"","","","",{"$f":"IF($N45=\"\",\"\",ROUND(SUMPRODUCT((LEFT(Transaction[Route],Branch_Digit)=RIGHT(BranchCode,Branch_Digit))*(Transaction[Type]=\"เบิก\")*(Transaction[Products]='Factory_Order Frm'!$R45)*(Transaction[Date]=$O45)*(Transaction[Qty In-Out]))/PcsPerTray,0))","v":""},{"$f":"IF($N45=\"\",\"\",MOD(SUMPRODUCT((LEFT(Transaction[Route],Branch_Digit)=RIGHT(BranchCode,Branch_Digit))*(Transaction[Type]=\"เบิก\")*(Transaction[Products]='Factory_Order Frm'!$R45)*(Transaction[Date]=$O45)*(Transaction[Qty In-Out])),PcsPerTray))","v":""}]
[null,{"$f":"IF($C46=\"\",\"\",ROWS($C$20:$C46))","v":27},{"$f":"IF(ROWS($C$20:$C46)>COUNTA(FRY_Product_List),\"\",INDEX(FRY_Product_List,ROWS($C$20:$C46)))","v":"30-บันเตยหอมไส้มันเทศ"},{"$f":"IF($C46=\"\",\"\",ROUND(SUMPRODUCT((LEFT(Transaction[Route],Branch_Digit)=RIGHT(BranchCode,Branch_Digit))*(Transaction[Type]=\"เบิก\")*(Transaction[Products]='Factory_Order Frm'!$C46)*(Transaction[Date]=D$18)*(Transaction[Qty In-Out]))/'Factory_Order Frm'!$K46,0))","v":0},{"$f":"IF($C46=\"\",\"\",ROUND(SUMPRODUCT((LEFT(Transaction[Route],Branch_Digit)=RIGHT(BranchCode,Branch_Digit))*(Transaction[Type]=\"เบิก\")*(Transaction[Products]='Factory_Order Frm'!$C46)*(Transaction[Date]=E$18)*(Transaction[Qty In-Out]))/'Factory_Order Frm'!$K46,0))","v":0},{"$f":"IF($C46=\"\",\"\",ROUND(SUMPRODUCT((LEFT(Transaction[Route],Branch_Digit)=RIGHT(BranchCode,Branch_Digit))*(Transaction[Type]=\"เบิก\")*(Transaction[Products]='Factory_Order Frm'!$C46)*(Transaction[Date]=F$18)*(Transaction[Qty In-Out]))/'Factory_Order Frm'!$K46,0))","v":0},{"$f":"IF($C46=\"\",\"\",ROUND(SUMPRODUCT((LEFT(Transaction[Route],Branch_Digit)=RIGHT(BranchCode,Branch_Digit))*(Transaction[Type]=\"เบิก\")*(Transaction[Products]='Factory_Order Frm'!$C46)*(Transaction[Date]=G$18)*(Transaction[Qty In-Out]))/'Factory_Order Frm'!$K46,0))","v":0},{"$f":"IF($C46=\"\",\"\",ROUND(SUMPRODUCT((LEFT(Transaction[Route],Branch_Digit)=RIGHT(BranchCode,Branch_Digit))*(Transaction[Type]=\"เบิก\")*(Transaction[Products]='Factory_Order Frm'!$C46)*(Transaction[Date]=H$18)*(Transaction[Qty In-Out]))/'Factory_Order Frm'!$K46,0))","v":0},{"$f":"IF($C46=\"\",\"\",ROUND(SUMPRODUCT((LEFT(Transaction[Route],Branch_Digit)=RIGHT(BranchCode,Branch_Digit))*(Transaction[Type]=\"เบิก\")*(Transaction[Products]='Factory_Order Frm'!$C46)*(Transaction[Date]=I$18)*(Transaction[Qty In-Out]))/'Factory_Order Frm'!$K46,0))","v":0},0,{"$f":"IF('Factory_Order Frm'!$C46=\"\",\"\",INDEX(dProduct[Pcs/Unit],MATCH('Factory_Order Frm'!$C46,dProduct[NameTH],)))","v":50},0,null,{"$f":"IF(Cumulative>(ROW()-ROW($O$20)),_xlfn.AGGREGATE(15,6,(ROW(OrderRange_Ref)-ROW($L$19))/(OFFSET(OrderRange_Ref,,0)>0),ROWS($L$20:$L46)),IF(OFFSET(Cumulative,,1)>(ROW()-ROW($O$20)),_xlfn.AGGREGATE(15,6,(ROW(OrderRange_Ref)-ROW($L$19))/(OFFSET(OrderRange_Ref,,1)>0),ROWS($L$20:$L46)-OFFSET(Cumulative,,0)),IF(OFFSET(Cumulative,,2)>(ROW()-ROW($O$20)),_xlfn.AGGREGATE(15,6,(ROW(OrderRange_Ref)-ROW($L$19))/(OFFSET(OrderRange_Ref,,2)>0),ROWS($L$20:$L46)-OFFSET(Cumulative,,1)),IF(OFFSET(Cumulative,,3)>(ROW()-ROW($O$20)),_xlfn.AGGREGATE(15,6,(ROW(OrderRange_Ref)-ROW($L$19))/(OFFSET(OrderRange_Ref,,3)>0),ROWS($L$20:$L46)-OFFSET(Cumulative,,2)),IF(OFFSET(Cumulative,,4)>(ROW()-ROW($O$20)),_xlfn.AGGREGATE(15,6,(ROW(OrderRange_Ref)-ROW($L$19))/(OFFSET(OrderRange_Ref,,4)>0),ROWS($L$20:$L46)-OFFSET(Cumulative,,3)),IF(OFFSET(Cumulative,,5)>(ROW()-ROW($O$20)),_xlfn.AGGREGATE(15,6,(ROW(OrderRange_Ref)-ROW($L$19))/(OFFSET(OrderRange_Ref,,5)>0),ROWS($L$20:$L46)-OFFSET(Cumulative,,4)),\"\"))))))","v":""},"","","","",{"$f":"IF($N46=\"\",\"\",ROUND(SUMPRODUCT((LEFT(Transaction[Route],Branch_Digit)=RIGHT(BranchCode,Branch_Digit))*(Transaction[Type]=\"เบิก\")*(Transaction[Products]='Factory_Order Frm'!$R46)*(Transaction[Date]=$O46)*(Transaction[Qty In-Out]))/PcsPerTray,0))","v":""},{"$f":"IF($N46=\"\",\"\",MOD(SUMPRODUCT((LEFT(Transaction[Route],Branch_Digit)=RIGHT(BranchCode,Branch_Digit))*(Transaction[Type]=\"เบิก\")*(Transaction[Products]='Factory_Order Frm'!$R46)*(Transaction[Date]=$O46)*(Transaction[Qty In-Out])),PcsPerTray))","v":""}]
[null,{"$f":"IF($C47=\"\",\"\",ROWS($C$20:$C47))","v":28},{"$f":"IF(ROWS($C$20:$C47)>COUNTA(FRY_Product_List),\"\",INDEX(FRY_Product_List,ROWS($C$20:$C47)))","v":"31-โมจิชาเขียวมัทฉะไส้ถั่วแดง"},{"$f":"IF($C47=\"\",\"\",ROUND(SUMPRODUCT((LEFT(Transaction[Route],Branch_Digit)=RIGHT(BranchCode,Branch_Digit))*(Transaction[Type]=\"เบิก\")*(Transaction[Products]='Factory_Order Frm'!$C47)*(Transaction[Date]=D$18)*(Transaction[Qty In-Out]))/'Factory_Order Frm'!$K47,0))","v":0},{"$f":"IF($C47=\"\",\"\",ROUND(SUMPRODUCT((LEFT(Transaction[Route],Branch_Digit)=RIGHT(BranchCode,Branch_Digit))*(Transaction[Type]=\"เบิก\")*(Transaction[Products]='Factory_Order Frm'!$C47)*(Transaction[Date]=E$18)*(Transaction[Qty In-Out]))/'Factory_Order Frm'!$K47,0))","v":0},{"$f":"IF($C47=\"\",\"\",ROUND(SUMPRODUCT((LEFT(Transaction[Route],Branch_Digit)=RIGHT(BranchCode,Branch_Digit))*(Transaction[Type]=\"เบิก\")*(Transaction[Products]='Factory_Order Frm'!$C47)*(Transaction[Date]=F$18)*(Transaction[Qty In-Out]))/'Factory_Order Frm'!$K47,0))","v":0},{"$f":"IF($C47=\"\",\"\",ROUND(SUMPRODUCT((LEFT(Transaction[Route],Branch_Digit)=RIGHT(BranchCode,Branch_Digit))*(Transaction[Type]=\"เบิก\")*(Transaction[Products]='Factory_Order Frm'!$C47)*(Transaction[Date]=G$18)*(Transaction[Qty In-Out]))/'Factory_Order Frm'!$K47,0))","v":0},{"$f":"IF($C47=\"\",\"\",ROUND(SUMPRODUCT((LEFT(Transaction[Route],Branch_Digit)=RIGHT(BranchCode,Branch_Digit))*(Transaction[Type]=\"เบิก\")*(Transaction[Products]='Factory_Order Frm'!$C47)*(Transaction[Date]=H$18)*(Transaction[Qty In-Out]))/'Factory_Order Frm'!$K47,0))","v":0},{"$f":"IF($C47=\"\",\"\",ROUND(SUMPRODUCT((LEFT(Transaction[Route],Branch_Digit)=RIGHT(BranchCode,Branch_Digit))*(Transaction[Type]=\"เบิก\")*(Transaction[Products]='Factory_Order Frm'!$C47)*(Transaction[Date]=I$18)*(Transaction[Qty In-Out]))/'Factory_Order Frm'!$K47,0))","v":0},0,{"$f":"IF('Factory_Order Frm'!$C47=\"\",\"\",INDEX(dProduct[Pcs/Unit],MATCH('Factory_Order Frm'!$C47,dProduct[NameTH],)))","v":50},0,null,{"$f":"IF(Cumulative>(ROW()-ROW($O$20)),_xlfn.AGGREGATE(15,6,(ROW(OrderRange_Ref)-ROW($L$19))/(OFFSET(OrderRange_Ref,,0)>0),ROWS($L$20:$L47)),IF(OFFSET(Cumulative,,1)>(ROW()-ROW($O$20)),_xlfn.AGGREGATE(15,6,(ROW(OrderRange_Ref)-ROW($L$19))/(OFFSET(OrderRange_Ref,,1)>0),ROWS($L$20:$L47)-OFFSET(Cumulative,,0)),IF(OFFSET(Cumulative,,2)>(ROW()-ROW($O$20)),_xlfn.AGGREGATE(15,6,(ROW(OrderRange_Ref)-ROW($L$19))/(OFFSET(OrderRange_Ref,,2)>0),ROWS($L$20:$L47)-OFFSET(Cumulative,,1)),IF(OFFSET(Cumulative,,3)>(ROW()-ROW($O$20)),_xlfn.AGGREGATE(15,6,(ROW(OrderRange_Ref)-ROW($L$19))/(OFFSET(OrderRange_Ref,,3)>0),ROWS($L$20:$L47)-OFFSET(Cumulative,,2)),IF(OFFSET(Cumulative,,4)>(ROW()-ROW($O$20)),_xlfn.AGGREGATE(15,6,(ROW(OrderRange_Ref)-ROW($L$19))/(OFFSET(OrderRange_Ref,,4)>0),ROWS($L$20:$L47)-OFFSET(Cumulative,,3)),IF(OFFSET(Cumulative,,5)>(ROW()-ROW($O$20)),_xlfn.AGGREGATE(15,6,(ROW(OrderRange_Ref)-ROW($L$19))/(OFFSET(OrderRange_Ref,,5)>0),ROWS($L$20:$L47)-OFFSET(Cumulative,,4)),\"\"))))))","v":""},"","","","",{"$f":"IF($N47=\"\",\"\",ROUND(SUMPRODUCT((LEFT(Transaction[Route],Branch_Digit)=RIGHT(BranchCode,Branch_Digit))*(Transaction[Type]=\"เบิก\")*(Transaction[Products]='Factory_Order Frm'!$R47)*(Transaction[Date]=$O47)*(Transaction[Qty In-Out]))/PcsPerTray,0))","v":""},{"$f":"IF($N47=\"\",\"\",MOD(SUMPRODUCT((LEFT(Transaction[Route],Branch_Digit)=RIGHT(BranchCode,Branch_Digit))*(Transaction[Type]=\"เบิก\")*(Transaction[Products]='Factory_Order Frm'!$R47)*(Transaction[Date]=$O47)*(Transaction[Qty In-Out])),PcsPerTray))","v":""}]
[null,{"$f":"IF($C48=\"\",\"\",ROWS($C$20:$C48))","v":""},{"$f":"IF(ROWS($C$20:$C48)>COUNTA(FRY_Product_List),\"\",INDEX(FRY_Product_List,ROWS($C$20:$C48)))","v":""},{"$f":"IF($C48=\"\",\"\",ROUND(SUMPRODUCT((LEFT(Transaction[Route],Branch_Digit)=RIGHT(BranchCode,Branch_Digit))*(Transaction[Type]=\"เบิก\")*(Transaction[Products]='Factory_Order Frm'!$C48)*(Transaction[Date]=D$18)*(Transaction[Qty In-Out]))/'Factory_Order Frm'!$K48,0))","v":""},{"$f":"IF($C48=\"\",\"\",ROUND(SUMPRODUCT((LEFT(Transaction[Route],Branch_Digit)=RIGHT(BranchCode,Branch_Digit))*(Transaction[Type]=\"เบิก\")*(Transaction[Products]='Factory_Order Frm'!$C48)*(Transaction[Date]=E$18)*(Transaction[Qty In-Out]))/'Factory_Order Frm'!$K48,0))","v":""},{"$f":"IF($C48=\"\",\"\",ROUND(SUMPRODUCT((LEFT(Transaction[Route],Branch_Digit)=RIGHT(BranchCode,Branch_Digit))*(Transaction[Type]=\"เบิก\")*(Transaction[Products]='Factory_Order Frm'!$C48)*(Transaction[Date]=F$18)*(Transaction[Qty In-Out]))/'Factory_Order Frm'!$K48,0))","v":""},{"$f":"IF($C48=\"\",\"\",ROUND(SUMPRODUCT((LEFT(Transaction[Route],Branch_Digit)=RIGHT(BranchCode,Branch_Digit))*(Transaction[Type]=\"เบิก\")*(Transaction[Products]='Factory_Order Frm'!$C48)*(Transaction[Date]=G$18)*(Transaction[Qty In-Out]))/'Factory_Order Frm'!$K48,0))","v":""},{"$f":"IF($C48=\"\",\"\",ROUND(SUMPRODUCT((LEFT(Transaction[Route],Branch_Digit)=RIGHT(BranchCode,Branch_Digit))*(Transaction[Type]=\"เบิก\")*(Transaction[Products]='Factory_Order Frm'!$C48)*(Transaction[Date]=H$18)*(Transaction[Qty In-Out]))/'Factory_Order Frm'!$K48,0))","v":""},{"$f":"IF($C48=\"\",\"\",ROUND(SUMPRODUCT((LEFT(Transaction[Route],Branch_Digit)=RIGHT(BranchCode,Branch_Digit))*(Transaction[Type]=\"เบิก\")*(Transaction[Products]='Factory_Order Frm'!$C48)*(Transaction[Date]=I$18)*(Transaction[Qty In-Out]))/'Factory_Order Frm'!$K48,0))","v":""},"",{"$f":"IF('Factory_Order Frm'!$C48=\"\",\"\",INDEX(dProduct[Pcs/Unit],MATCH('Factory_Order Frm'!$C48,dProduct[NameTH],)))","v":""},0,null,{"$f":"IF(Cumulative>(ROW()-ROW($O$20)),_xlfn.AGGREGATE(15,6,(ROW(OrderRange_Ref)-ROW($L$19))/(OFFSET(OrderRange_Ref,,0)>0),ROWS($L$20:$L48)),IF(OFFSET(Cumulative,,1)>(ROW()-ROW($O$20)),_xlfn.AGGREGATE(15,6,(ROW(OrderRange_Ref)-ROW($L$19))/(OFFSET(OrderRange_Ref,,1)>0),ROWS($L$20:$L48)-OFFSET(Cumulative,,0)),IF(OFFSET(Cumulative,,2)>(ROW()-ROW($O$20)),_xlfn.AGGREGATE(15,6,(ROW(OrderRange_Ref)-ROW($L$19))/(OFFSET(OrderRange_Ref,,2)>0),ROWS($L$20:$L48)-OFFSET(Cumulative,,1)),IF(OFFSET(Cumulative,,3)>(ROW()-ROW($O$20)),_xlfn.AGGREGATE(15,6,(ROW(OrderRange_Ref)-ROW($L$19))/(OFFSET(OrderRange_Ref,,3)>0),ROWS($L$20:$L48)-OFFSET(Cumulative,,2)),IF(OFFSET(Cumulative,,4)>(ROW()-ROW($O$20)),_xlfn.AGGREGATE(15,6,(ROW(OrderRange_Ref)-ROW($L$19))/(OFFSET(OrderRange_Ref,,4)>0),ROWS($L$20:$L48)-OFFSET(Cumulative,,3)),IF(OFFSET(Cumulative,,5)>(ROW()-ROW($O$20)),_xlfn.AGGREGATE(15,6,(ROW(OrderRange_Ref)-ROW($L$19))/(OFFSET(OrderRange_Ref,,5)>0),ROWS($L$20:$L48)-OFFSET(Cumulative,,4)),\"\"))))))","v":""},"","","","",{"$f":"IF($N48=\"\",\"\",ROUND(SUMPRODUCT((LEFT(Transaction[Route],Branch_Digit)=RIGHT(BranchCode,Branch_Digit))*(Transaction[Type]=\"เบิก\")*(Transaction[Products]='Factory_Order Frm'!$R48)*(Transaction[Date]=$O48)*(Transaction[Qty In-Out]))/PcsPerTray,0))","v":""},{"$f":"IF($N48=\"\",\"\",MOD(SUMPRODUCT((LEFT(Transaction[Route],Branch_Digit)=RIGHT(BranchCode,Branch_Digit))*(Transaction[Type]=\"เบิก\")*(Transaction[Products]='Factory_Order Frm'!$R48)*(Transaction[Date]=$O48)*(Transaction[Qty In-Out])),PcsPerTray))","v":""}]
[null,{"$f":"IF($C49=\"\",\"\",ROWS($C$20:$C49))","v":""},{"$f":"IF(ROWS($C$20:$C49)>COUNTA(FRY_Product_List),\"\",INDEX(FRY_Product_List,ROWS($C$20:$C49)))","v":""},{"$f":"IF($C49=\"\",\"\",ROUND(SUMPRODUCT((LEFT(Transaction[Route],Branch_Digit)=RIGHT(BranchCode,Branch_Digit))*(Transaction[Type]=\"เบิก\")*(Transaction[Products]='Factory_Order Frm'!$C49)*(Transaction[Date]=D$18)*(Transaction[Qty In-Out]))/'Factory_Order Frm'!$K49,0))","v":""},{"$f":"IF($C49=\"\",\"\",ROUND(SUMPRODUCT((LEFT(Transaction[Route],Branch_Digit)=RIGHT(BranchCode,Branch_Digit))*(Transaction[Type]=\"เบิก\")*(Transaction[Products]='Factory_Order Frm'!$C49)*(Transaction[Date]=E$18)*(Transaction[Qty In-Out]))/'Factory_Order Frm'!$K49,0))","v":""},{"$f":"IF($C49=\"\",\"\",ROUND(SUMPRODUCT((LEFT(Transaction[Route],Branch_Digit)=RIGHT(BranchCode,Branch_Digit))*(Transaction[Type]=\"เบิก\")*(Transaction[Products]='Factory_Order Frm'!$C49)*(Transaction[Date]=F$18)*(Transaction[Qty In-Out]))/'Factory_Order Frm'!$K49,0))","v":""},{"$f":"IF($C49=\"\",\"\",ROUND(SUMPRODUCT((LEFT(Transaction[Route],Branch_Digit)=RIGHT(BranchCode,Branch_Digit))*(Transaction[Type]=\"เบิก\")*(Transaction[Products]='Factory_Order Frm'!$C49)*(Transaction[Date]=G$18)*(Transaction[Qty In-Out]))/'Factory_Order Frm'!$K49,0))","v":""},{"$f":"IF($C49=\"\",\"\",ROUND(SUMPRODUCT((LEFT(Transaction[Route],Branch_Digit)=RIGHT(BranchCode,Branch_Digit))*(Transaction[Type]=\"เบิก\")*(Transaction[Products]='Factory_Order Frm'!$C49)*(Transaction[Date]=H$18)*(Transaction[Qty In-Out]))/'Factory_Order Frm'!$K49,0))","v":""},{"$f":"IF($C49=\"\",\"\",ROUND(SUMPRODUCT((LEFT(Transaction[Route],Branch_Digit)=RIGHT(BranchCode,Branch_Digit))*(Transaction[Type]=\"เบิก\")*(Transaction[Products]='Factory_Order Frm'!$C49)*(Transaction[Date]=I$18)*(Transaction[Qty In-Out]))/'Factory_Order Frm'!$K49,0))","v":""},"",{"$f":"IF('Factory_Order Frm'!$C49=\"\",\"\",INDEX(dProduct[Pcs/Unit],MATCH('Factory_Order Frm'!$C49,dProduct[NameTH],)))","v":""},0,null,{"$f":"IF(Cumulative>(ROW()-ROW($O$20)),_xlfn.AGGREGATE(15,6,(ROW(OrderRange_Ref)-ROW($L$19))/(OFFSET(OrderRange_Ref,,0)>0),ROWS($L$20:$L49)),IF(OFFSET(Cumulative,,1)>(ROW()-ROW($O$20)),_xlfn.AGGREGATE(15,6,(ROW(OrderRange_Ref)-ROW($L$19))/(OFFSET(OrderRange_Ref,,1)>0),ROWS($L$20:$L49)-OFFSET(Cumulative,,0)),IF(OFFSET(Cumulative,,2)>(ROW()-ROW($O$20)),_xlfn.AGGREGATE(15,6,(ROW(OrderRange_Ref)-ROW($L$19))/(OFFSET(OrderRange_Ref,,2)>0),ROWS($L$20:$L49)-OFFSET(Cumulative,,1)),IF(OFFSET(Cumulative,,3)>(ROW()-ROW($O$20)),_xlfn.AGGREGATE(15,6,(ROW(OrderRange_Ref)-ROW($L$19))/(OFFSET(OrderRange_Ref,,3)>0),ROWS($L$20:$L49)-OFFSET(Cumulative,,2)),IF(OFFSET(Cumulative,,4)>(ROW()-ROW($O$20)),_xlfn.AGGREGATE(15,6,(ROW(OrderRange_Ref)-ROW($L$19))/(OFFSET(OrderRange_Ref,,4)>0),ROWS($L$20:$L49)-OFFSET(Cumulative,,3)),IF(OFFSET(Cumulative,,5)>(ROW()-ROW($O$20)),_xlfn.AGGREGATE(15,6,(ROW(OrderRange_Ref)-ROW($L$19))/(OFFSET(OrderRange_Ref,,5)>0),ROWS($L$20:$L49)-OFFSET(Cumulative,,4)),\"\"))))))","v":""},"","","","",{"$f":"IF($N49=\"\",\"\",ROUND(SUMPRODUCT((LEFT(Transaction[Route],Branch_Digit)=RIGHT(BranchCode,Branch_Digit))*(Transaction[Type]=\"เบิก\")*(Transaction[Products]='Factory_Order Frm'!$R49)*(Transaction[Date]=$O49)*(Transaction[Qty In-Out]))/PcsPerTray,0))","v":""},{"$f":"IF($N49=\"\",\"\",MOD(SUMPRODUCT((LEFT(Transaction[Route],Branch_Digit)=RIGHT(BranchCode,Branch_Digit))*(Transaction[Type]=\"เบิก\")*(Transaction[Products]='Factory_Order Frm'!$R49)*(Transaction[Date]=$O49)*(Transaction[Qty In-Out])),PcsPerTray))","v":""}]
[null,{"$f":"IF($C50=\"\",\"\",ROWS($C$20:$C50))","v":""},{"$f":"IF(ROWS($C$20:$C50)>COUNTA(FRY_Product_List),\"\",INDEX(FRY_Product_List,ROWS($C$20:$C50)))","v":""},{"$f":"IF($C50=\"\",\"\",ROUND(SUMPRODUCT((LEFT(Transaction[Route],Branch_Digit)=RIGHT(BranchCode,Branch_Digit))*(Transaction[Type]=\"เบิก\")*(Transaction[Products]='Factory_Order Frm'!$C50)*(Transaction[Date]=D$18)*(Transaction[Qty In-Out]))/'Factory_Order Frm'!$K50,0))","v":""},{"$f":"IF($C50=\"\",\"\",ROUND(SUMPRODUCT((LEFT(Transaction[Route],Branch_Digit)=RIGHT(BranchCode,Branch_Digit))*(Transaction[Type]=\"เบิก\")*(Transaction[Products]='Factory_Order Frm'!$C50)*(Transaction[Date]=E$18)*(Transaction[Qty In-Out]))/'Factory_Order Frm'!$K50,0))","v":""},{"$f":"IF($C50=\"\",\"\",ROUND(SUMPRODUCT((LEFT(Transaction[Route],Branch_Digit)=RIGHT(BranchCode,Branch_Digit))*(Transaction[Type]=\"เบิก\")*(Transaction[Products]='Factory_Order Frm'!$C50)*(Transaction[Date]=F$18)*(Transaction[Qty In-Out]))/'Factory_Order Frm'!$K50,0))","v":""},{"$f":"IF($C50=\"\",\"\",ROUND(SUMPRODUCT((LEFT(Transaction[Route],Branch_Digit)=RIGHT(BranchCode,Branch_Digit))*(Transaction[Type]=\"เบิก\")*(Transaction[Products]='Factory_Order Frm'!$C50)*(Transaction[Date]=G$18)*(Transaction[Qty In-Out]))/'Factory_Order Frm'!$K50,0))","v":""},{"$f":"IF($C50=\"\",\"\",ROUND(SUMPRODUCT((LEFT(Transaction[Route],Branch_Digit)=RIGHT(BranchCode,Branch_Digit))*(Transaction[Type]=\"เบิก\")*(Transaction[Products]='Factory_Order Frm'!$C50)*(Transaction[Date]=H$18)*(Transaction[Qty In-Out]))/'Factory_Order Frm'!$K50,0))","v":""},{"$f":"IF($C50=\"\",\"\",ROUND(SUMPRODUCT((LEFT(Transaction[Route],Branch_Digit)=RIGHT(BranchCode,Branch_Digit))*(Transaction[Type]=\"เบิก\")*(Transaction[Products]='Factory_Order Frm'!$C50)*(Transaction[Date]=I$18)*(Transaction[Qty In-Out]))/'Factory_Order Frm'!$K50,0))","v":""},"",{"$f":"IF('Factory_Order Frm'!$C50=\"\",\"\",INDEX(dProduct[Pcs/Unit],MATCH('Factory_Order Frm'!$C50,dProduct[NameTH],)))","v":""},0,null,{"$f":"IF(Cumulative>(ROW()-ROW($O$20)),_xlfn.AGGREGATE(15,6,(ROW(OrderRange_Ref)-ROW($L$19))/(OFFSET(OrderRange_Ref,,0)>0),ROWS($L$20:$L50)),IF(OFFSET(Cumulative,,1)>(ROW()-ROW($O$20)),_xlfn.AGGREGATE(15,6,(ROW(OrderRange_Ref)-ROW($L$19))/(OFFSET(OrderRange_Ref,,1)>0),ROWS($L$20:$L50)-OFFSET(Cumulative,,0)),IF(OFFSET(Cumulative,,2)>(ROW()-ROW($O$20)),_xlfn.AGGREGATE(15,6,(ROW(OrderRange_Ref)-ROW($L$19))/(OFFSET(OrderRange_Ref,,2)>0),ROWS($L$20:$L50)-OFFSET(Cumulative,,1)),IF(OFFSET(Cumulative,,3)>(ROW()-ROW($O$20)),_xlfn.AGGREGATE(15,6,(ROW(OrderRange_Ref)-ROW($L$19))/(OFFSET(OrderRange_Ref,,3)>0),ROWS($L$20:$L50)-OFFSET(Cumulative,,2)),IF(OFFSET(Cumulative,,4)>(ROW()-ROW($O$20)),_xlfn.AGGREGATE(15,6,(ROW(OrderRange_Ref)-ROW($L$19))/(OFFSET(OrderRange_Ref,,4)>0),ROWS($L$20:$L50)-OFFSET(Cumulative,,3)),IF(OFFSET(Cumulative,,5)>(ROW()-ROW($O$20)),_xlfn.AGGREGATE(15,6,(ROW(OrderRange_Ref)-ROW($L$19))/(OFFSET(OrderRange_Ref,,5)>0),ROWS($L$20:$L50)-OFFSET(Cumulative,,4)),\"\"))))))","v":""},"","","","",{"$f":"IF($N50=\"\",\"\",ROUND(SUMPRODUCT((LEFT(Transaction[Route],Branch_Digit)=RIGHT(BranchCode,Branch_Digit))*(Transaction[Type]=\"เบิก\")*(Transaction[Products]='Factory_Order Frm'!$R50)*(Transaction[Date]=$O50)*(Transaction[Qty In-Out]))/PcsPerTray,0))","v":""},{"$f":"IF($N50=\"\",\"\",MOD(SUMPRODUCT((LEFT(Transaction[Route],Branch_Digit)=RIGHT(BranchCode,Branch_Digit))*(Transaction[Type]=\"เบิก\")*(Transaction[Products]='Factory_Order Frm'!$R50)*(Transaction[Date]=$O50)*(Transaction[Qty In-Out])),PcsPerTray))","v":""}]
[null,{"$f":"IF($C51=\"\",\"\",ROWS($C$20:$C51))","v":""},{"$f":"IF(ROWS($C$20:$C51)>COUNTA(FRY_Product_List),\"\",INDEX(FRY_Product_List,ROWS($C$20:$C51)))","v":""},{"$f":"IF($C51=\"\",\"\",ROUND(SUMPRODUCT((LEFT(Transaction[Route],Branch_Digit)=RIGHT(BranchCode,Branch_Digit))*(Transaction[Type]=\"เบิก\")*(Transaction[Products]='Factory_Order Frm'!$C51)*(Transaction[Date]=D$18)*(Transaction[Qty In-Out]))/'Factory_Order Frm'!$K51,0))","v":""},{"$f":"IF($C51=\"\",\"\",ROUND(SUMPRODUCT((LEFT(Transaction[Route],Branch_Digit)=RIGHT(BranchCode,Branch_Digit))*(Transaction[Type]=\"เบิก\")*(Transaction[Products]='Factory_Order Frm'!$C51)*(Transaction[Date]=E$18)*(Transaction[Qty In-Out]))/'Factory_Order Frm'!$K51,0))","v":""},{"$f":"IF($C51=\"\",\"\",ROUND(SUMPRODUCT((LEFT(Transaction[Route],Branch_Digit)=RIGHT(BranchCode,Branch_Digit))*(Transaction[Type]=\"เบิก\")*(Transaction[Products]='Factory_Order Frm'!$C51)*(Transaction[Date]=F$18)*(Transaction[Qty In-Out]))/'Factory_Order Frm'!$K51,0))","v":""},{"$f":"IF($C51=\"\",\"\",ROUND(SUMPRODUCT((LEFT(Transaction[Route],Branch_Digit)=RIGHT(BranchCode,Branch_Digit))*(Transaction[Type]=\"เบิก\")*(Transaction[Products]='Factory_Order Frm'!$C51)*(Transaction[Date]=G$18)*(Transaction[Qty In-Out]))/'Factory_Order Frm'!$K51,0))","v":""},{"$f":"IF($C51=\"\",\"\",ROUND(SUMPRODUCT((LEFT(Transaction[Route],Branch_Digit)=RIGHT(BranchCode,Branch_Digit))*(Transaction[Type]=\"เบิก\")*(Transaction[Products]='Factory_Order Frm'!$C51)*(Transaction[Date]=H$18)*(Transaction[Qty In-Out]))/'Factory_Order Frm'!$K51,0))","v":""},{"$f":"IF($C51=\"\",\"\",ROUND(SUMPRODUCT((LEFT(Transaction[Route],Branch_Digit)=RIGHT(BranchCode,Branch_Digit))*(Transaction[Type]=\"เบิก\")*(Transaction[Products]='Factory_Order Frm'!$C51)*(Transaction[Date]=I$18)*(Transaction[Qty In-Out]))/'Factory_Order Frm'!$K51,0))","v":""},"",{"$f":"IF('Factory_Order Frm'!$C51=\"\",\"\",INDEX(dProduct[Pcs/Unit],MATCH('Factory_Order Frm'!$C51,dProduct[NameTH],)))","v":""},0,null,{"$f":"IF(Cumulative>(ROW()-ROW($O$20)),_xlfn.AGGREGATE(15,6,(ROW(OrderRange_Ref)-ROW($L$19))/(OFFSET(OrderRange_Ref,,0)>0),ROWS($L$20:$L51)),IF(OFFSET(Cumulative,,1)>(ROW()-ROW($O$20)),_xlfn.AGGREGATE(15,6,(ROW(OrderRange_Ref)-ROW($L$19))/(OFFSET(OrderRange_Ref,,1)>0),ROWS($L$20:$L51)-OFFSET(Cumulative,,0)),IF(OFFSET(Cumulative,,2)>(ROW()-ROW($O$20)),_xlfn.AGGREGATE(15,6,(ROW(OrderRange_Ref)-ROW($L$19))/(OFFSET(OrderRange_Ref,,2)>0),ROWS($L$20:$L51)-OFFSET(Cumulative,,1)),IF(OFFSET(Cumulative,,3)>(ROW()-ROW($O$20)),_xlfn.AGGREGATE(15,6,(ROW(OrderRange_Ref)-ROW($L$19))/(OFFSET(OrderRange_Ref,,3)>0),ROWS($L$20:$L51)-OFFSET(Cumulative,,2)),IF(OFFSET(Cumulative,,4)>(ROW()-ROW($O$20)),_xlfn.AGGREGATE(15,6,(ROW(OrderRange_Ref)-ROW($L$19))/(OFFSET(OrderRange_Ref,,4)>0),ROWS($L$20:$L51)-OFFSET(Cumulative,,3)),IF(OFFSET(Cumulative,,5)>(ROW()-ROW($O$20)),_xlfn.AGGREGATE(15,6,(ROW(OrderRange_Ref)-ROW($L$19))/(OFFSET(OrderRange_Ref,,5)>0),ROWS($L$20:$L51)-OFFSET(Cumulative,,4)),\"\"))))))","v":""},"","","","",{"$f":"IF($N51=\"\",\"\",ROUND(SUMPRODUCT((LEFT(Transaction[Route],Branch_Digit)=RIGHT(BranchCode,Branch_Digit))*(Transaction[Type]=\"เบิก\")*(Transaction[Products]='Factory_Order Frm'!$R51)*(Transaction[Date]=$O51)*(Transaction[Qty In-Out]))/PcsPerTray,0))","v":""},{"$f":"IF($N51=\"\",\"\",MOD(SUMPRODUCT((LEFT(Transaction[Route],Branch_Digit)=RIGHT(BranchCode,Branch_Digit))*(Transaction[Type]=\"เบิก\")*(Transaction[Products]='Factory_Order Frm'!$R51)*(Transaction[Date]=$O51)*(Transaction[Qty In-Out])),PcsPerTray))","v":""}]
[null,{"$f":"IF($C52=\"\",\"\",ROWS($C$20:$C52))","v":""},{"$f":"IF(ROWS($C$20:$C52)>COUNTA(FRY_Product_List),\"\",INDEX(FRY_Product_List,ROWS($C$20:$C52)))","v":""},{"$f":"IF($C52=\"\",\"\",ROUND(SUMPRODUCT((LEFT(Transaction[Route],Branch_Digit)=RIGHT(BranchCode,Branch_Digit))*(Transaction[Type]=\"เบิก\")*(Transaction[Products]='Factory_Order Frm'!$C52)*(Transaction[Date]=D$18)*(Transaction[Qty In-Out]))/'Factory_Order Frm'!$K52,0))","v":""},{"$f":"IF($C52=\"\",\"\",ROUND(SUMPRODUCT((LEFT(Transaction[Route],Branch_Digit)=RIGHT(BranchCode,Branch_Digit))*(Transaction[Type]=\"เบิก\")*(Transaction[Products]='Factory_Order Frm'!$C52)*(Transaction[Date]=E$18)*(Transaction[Qty In-Out]))/'Factory_Order Frm'!$K52,0))","v":""},{"$f":"IF($C52=\"\",\"\",ROUND(SUMPRODUCT((LEFT(Transaction[Route],Branch_Digit)=RIGHT(BranchCode,Branch_Digit))*(Transaction[Type]=\"เบิก\")*(Transaction[Products]='Factory_Order Frm'!$C52)*(Transaction[Date]=F$18)*(Transaction[Qty In-Out]))/'Factory_Order Frm'!$K52,0))","v":""},{"$f":"IF($C52=\"\",\"\",ROUND(SUMPRODUCT((LEFT(Transaction[Route],Branch_Digit)=RIGHT(BranchCode,Branch_Digit))*(Transaction[Type]=\"เบิก\")*(Transaction[Products]='Factory_Order Frm'!$C52)*(Transaction[Date]=G$18)*(Transaction[Qty In-Out]))/'Factory_Order Frm'!$K52,0))","v":""},{"$f":"IF($C52=\"\",\"\",ROUND(SUMPRODUCT((LEFT(Transaction[Route],Branch_Digit)=RIGHT(BranchCode,Branch_Digit))*(Transaction[Type]=\"เบิก\")*(Transaction[Products]='Factory_Order Frm'!$C52)*(Transaction[Date]=H$18)*(Transaction[Qty In-Out]))/'Factory_Order Frm'!$K52,0))","v":""},{"$f":"IF($C52=\"\",\"\",ROUND(SUMPRODUCT((LEFT(Transaction[Route],Branch_Digit)=RIGHT(BranchCode,Branch_Digit))*(Transaction[Type]=\"เบิก\")*(Transaction[Products]='Factory_Order Frm'!$C52)*(Transaction[Date]=I$18)*(Transaction[Qty In-Out]))/'Factory_Order Frm'!$K52,0))","v":""},"",{"$f":"IF('Factory_Order Frm'!$C52=\"\",\"\",INDEX(dProduct[Pcs/Unit],MATCH('Factory_Order Frm'!$C52,dProduct[NameTH],)))","v":""},0,null,{"$f":"IF(Cumulative>(ROW()-ROW($O$20)),_xlfn.AGGREGATE(15,6,(ROW(OrderRange_Ref)-ROW($L$19))/(OFFSET(OrderRange_Ref,,0)>0),ROWS($L$20:$L52)),IF(OFFSET(Cumulative,,1)>(ROW()-ROW($O$20)),_xlfn.AGGREGATE(15,6,(ROW(OrderRange_Ref)-ROW($L$19))/(OFFSET(OrderRange_Ref,,1)>0),ROWS($L$20:$L52)-OFFSET(Cumulative,,0)),IF(OFFSET(Cumulative,,2)>(ROW()-ROW($O$20)),_xlfn.AGGREGATE(15,6,(ROW(OrderRange_Ref)-ROW($L$19))/(OFFSET(OrderRange_Ref,,2)>0),ROWS($L$20:$L52)-OFFSET(Cumulative,,1)),IF(OFFSET(Cumulative,,3)>(ROW()-ROW($O$20)),_xlfn.AGGREGATE(15,6,(ROW(OrderRange_Ref)-ROW($L$19))/(OFFSET(OrderRange_Ref,,3)>0),ROWS($L$20:$L52)-OFFSET(Cumulative,,2)),IF(OFFSET(Cumulative,,4)>(ROW()-ROW($O$20)),_xlfn.AGGREGATE(15,6,(ROW(OrderRange_Ref)-ROW($L$19))/(OFFSET(OrderRange_Ref,,4)>0),ROWS($L$20:$L52)-OFFSET(Cumulative,,3)),IF(OFFSET(Cumulative,,5)>(ROW()-ROW($O$20)),_xlfn.AGGREGATE(15,6,(ROW(OrderRange_Ref)-ROW($L$19))/(OFFSET(OrderRange_Ref,,5)>0),ROWS($L$20:$L52)-OFFSET(Cumulative,,4)),\"\"))))))","v":""},"","","","",{"$f":"IF($N52=\"\",\"\",ROUND(SUMPRODUCT((LEFT(Transaction[Route],Branch_Digit)=RIGHT(BranchCode,Branch_Digit))*(Transaction[Type]=\"เบิก\")*(Transaction[Products]='Factory_Order Frm'!$R52)*(Transaction[Date]=$O52)*(Transaction[Qty In-Out]))/PcsPerTray,0))","v":""},{"$f":"IF($N52=\"\",\"\",MOD(SUMPRODUCT((LEFT(Transaction[Route],Branch_Digit)=RIGHT(BranchCode,Branch_Digit))*(Transaction[Type]=\"เบิก\")*(Transaction[Products]='Factory_Order Frm'!$R52)*(Transaction[Date]=$O52)*(Transaction[Qty In-Out])),PcsPerTray))","v":""}]
[null,{"$f":"IF($C53=\"\",\"\",ROWS($C$20:$C53))","v":""},{"$f":"IF(ROWS($C$20:$C53)>COUNTA(FRY_Product_List),\"\",INDEX(FRY_Product_List,ROWS($C$20:$C53)))","v":""},{"$f":"IF($C53=\"\",\"\",ROUND(SUMPRODUCT((LEFT(Transaction[Route],Branch_Digit)=RIGHT(BranchCode,Branch_Digit))*(Transaction[Type]=\"เบิก\")*(Transaction[Products]='Factory_Order Frm'!$C53)*(Transaction[Date]=D$18)*(Transaction[Qty In-Out]))/'Factory_Order Frm'!$K53,0))","v":""},{"$f":"IF($C53=\"\",\"\",ROUND(SUMPRODUCT((LEFT(Transaction[Route],Branch_Digit)=RIGHT(BranchCode,Branch_Digit))*(Transaction[Type]=\"เบิก\")*(Transaction[Products]='Factory_Order Frm'!$C53)*(Transaction[Date]=E$18)*(Transaction[Qty In-Out]))/'Factory_Order Frm'!$K53,0))","v":""},{"$f":"IF($C53=\"\",\"\",ROUND(SUMPRODUCT((LEFT(Transaction[Route],Branch_Digit)=RIGHT(BranchCode,Branch_Digit))*(Transaction[Type]=\"เบิก\")*(Transaction[Products]='Factory_Order Frm'!$C53)*(Transaction[Date]=F$18)*(Transaction[Qty In-Out]))/'Factory_Order Frm'!$K53,0))","v":""},{"$f":"IF($C53=\"\",\"\",ROUND(SUMPRODUCT((LEFT(Transaction[Route],Branch_Digit)=RIGHT(BranchCode,Branch_Digit))*(Transaction[Type]=\"เบิก\")*(Transaction[Products]='Factory_Order Frm'!$C53)*(Transaction[Date]=G$18)*(Transaction[Qty In-Out]))/'Factory_Order Frm'!$K53,0))","v":""},{"$f":"IF($C53=\"\",\"\",ROUND(SUMPRODUCT((LEFT(Transaction[Route],Branch_Digit)=RIGHT(BranchCode,Branch_Digit))*(Transaction[Type]=\"เบิก\")*(Transaction[Products]='Factory_Order Frm'!$C53)*(Transaction[Date]=H$18)*(Transaction[Qty In-Out]))/'Factory_Order Frm'!$K53,0))","v":""},{"$f":"IF($C53=\"\",\"\",ROUND(SUMPRODUCT((LEFT(Transaction[Route],Branch_Digit)=RIGHT(BranchCode,Branch_Digit))*(Transaction[Type]=\"เบิก\")*(Transaction[Products]='Factory_Order Frm'!$C53)*(Transaction[Date]=I$18)*(Transaction[Qty In-Out]))/'Factory_Order Frm'!$K53,0))","v":""},"",{"$f":"IF('Factory_Order Frm'!$C53=\"\",\"\",INDEX(dProduct[Pcs/Unit],MATCH('Factory_Order Frm'!$C53,dProduct[NameTH],)))","v":""},0,null,{"$f":"IF(Cumulative>(ROW()-ROW($O$20)),_xlfn.AGGREGATE(15,6,(ROW(OrderRange_Ref)-ROW($L$19))/(OFFSET(OrderRange_Ref,,0)>0),ROWS($L$20:$L53)),IF(OFFSET(Cumulative,,1)>(ROW()-ROW($O$20)),_xlfn.AGGREGATE(15,6,(ROW(OrderRange_Ref)-ROW($L$19))/(OFFSET(OrderRange_Ref,,1)>0),ROWS($L$20:$L53)-OFFSET(Cumulative,,0)),IF(OFFSET(Cumulative,,2)>(ROW()-ROW($O$20)),_xlfn.AGGREGATE(15,6,(ROW(OrderRange_Ref)-ROW($L$19))/(OFFSET(OrderRange_Ref,,2)>0),ROWS($L$20:$L53)-OFFSET(Cumulative,,1)),IF(OFFSET(Cumulative,,3)>(ROW()-ROW($O$20)),_xlfn.AGGREGATE(15,6,(ROW(OrderRange_Ref)-ROW($L$19))/(OFFSET(OrderRange_Ref,,3)>0),ROWS($L$20:$L53)-OFFSET(Cumulative,,2)),IF(OFFSET(Cumulative,,4)>(ROW()-ROW($O$20)),_xlfn.AGGREGATE(15,6,(ROW(OrderRange_Ref)-ROW($L$19))/(OFFSET(OrderRange_Ref,,4)>0),ROWS($L$20:$L53)-OFFSET(Cumulative,,3)),IF(OFFSET(Cumulative,,5)>(ROW()-ROW($O$20)),_xlfn.AGGREGATE(15,6,(ROW(OrderRange_Ref)-ROW($L$19))/(OFFSET(OrderRange_Ref,,5)>0),ROWS($L$20:$L53)-OFFSET(Cumulative,,4)),\"\"))))))","v":""},"","","","",{"$f":"IF($N53=\"\",\"\",ROUND(SUMPRODUCT((LEFT(Transaction[Route],Branch_Digit)=RIGHT(BranchCode,Branch_Digit))*(Transaction[Type]=\"เบิก\")*(Transaction[Products]='Factory_Order Frm'!$R53)*(Transaction[Date]=$O53)*(Transaction[Qty In-Out]))/PcsPerTray,0))","v":""},{"$f":"IF($N53=\"\",\"\",MOD(SUMPRODUCT((LEFT(Transaction[Route],Branch_Digit)=RIGHT(BranchCode,Branch_Digit))*(Transaction[Type]=\"เบิก\")*(Transaction[Products]='Factory_Order Frm'!$R53)*(Transaction[Date]=$O53)*(Transaction[Qty In-Out])),PcsPerTray))","v":""}]
[null,{"$f":"IF($C54=\"\",\"\",ROWS($C$20:$C54))","v":""},{"$f":"IF(ROWS($C$20:$C54)>COUNTA(FRY_Product_List),\"\",INDEX(FRY_Product_List,ROWS($C$20:$C54)))","v":""},{"$f":"IF($C54=\"\",\"\",ROUND(SUMPRODUCT((LEFT(Transaction[Route],Branch_Digit)=RIGHT(BranchCode,Branch_Digit))*(Transaction[Type]=\"เบิก\")*(Transaction[Products]='Factory_Order Frm'!$C54)*(Transaction[Date]=D$18)*(Transaction[Qty In-Out]))/'Factory_Order Frm'!$K54,0))","v":""},{"$f":"IF($C54=\"\",\"\",ROUND(SUMPRODUCT((LEFT(Transaction[Route],Branch_Digit)=RIGHT(BranchCode,Branch_Digit))*(Transaction[Type]=\"เบิก\")*(Transaction[Products]='Factory_Order Frm'!$C54)*(Transaction[Date]=E$18)*(Transaction[Qty In-Out]))/'Factory_Order Frm'!$K54,0))","v":""},{"$f":"IF($C54=\"\",\"\",ROUND(SUMPRODUCT((LEFT(Transaction[Route],Branch_Digit)=RIGHT(BranchCode,Branch_Digit))*(Transaction[Type]=\"เบิก\")*(Transaction[Products]='Factory_Order Frm'!$C54)*(Transaction[Date]=F$18)*(Transaction[Qty In-Out]))/'Factory_Order Frm'!$K54,0))","v":""},{"$f":"IF($C54=\"\",\"\",ROUND(SUMPRODUCT((LEFT(Transaction[Route],Branch_Digit)=RIGHT(BranchCode,Branch_Digit))*(Transaction[Type]=\"เบิก\")*(Transaction[Products]='Factory_Order Frm'!$C54)*(Transaction[Date]=G$18)*(Transaction[Qty In-Out]))/'Factory_Order Frm'!$K54,0))","v":""},{"$f":"IF($C54=\"\",\"\",ROUND(SUMPRODUCT((LEFT(Transaction[Route],Branch_Digit)=RIGHT(BranchCode,Branch_Digit))*(Transaction[Type]=\"เบิก\")*(Transaction[Products]='Factory_Order Frm'!$C54)*(Transaction[Date]=H$18)*(Transaction[Qty In-Out]))/'Factory_Order Frm'!$K54,0))","v":""},{"$f":"IF($C54=\"\",\"\",ROUND(SUMPRODUCT((LEFT(Transaction[Route],Branch_Digit)=RIGHT(BranchCode,Branch_Digit))*(Transaction[Type]=\"เบิก\")*(Transaction[Products]='Factory_Order Frm'!$C54)*(Transaction[Date]=I$18)*(Transaction[Qty In-Out]))/'Factory_Order Frm'!$K54,0))","v":""},"",{"$f":"IF('Factory_Order Frm'!$C54=\"\",\"\",INDEX(dProduct[Pcs/Unit],MATCH('Factory_Order Frm'!$C54,dProduct[NameTH],)))","v":""},0,null,{"$f":"IF(Cumulative>(ROW()-ROW($O$20)),_xlfn.AGGREGATE(15,6,(ROW(OrderRange_Ref)-ROW($L$19))/(OFFSET(OrderRange_Ref,,0)>0),ROWS($L$20:$L54)),IF(OFFSET(Cumulative,,1)>(ROW()-ROW($O$20)),_xlfn.AGGREGATE(15,6,(ROW(OrderRange_Ref)-ROW($L$19))/(OFFSET(OrderRange_Ref,,1)>0),ROWS($L$20:$L54)-OFFSET(Cumulative,,0)),IF(OFFSET(Cumulative,,2)>(ROW()-ROW($O$20)),_xlfn.AGGREGATE(15,6,(ROW(OrderRange_Ref)-ROW($L$19))/(OFFSET(OrderRange_Ref,,2)>0),ROWS($L$20:$L54)-OFFSET(Cumulative,,1)),IF(OFFSET(Cumulative,,3)>(ROW()-ROW($O$20)),_xlfn.AGGREGATE(15,6,(ROW(OrderRange_Ref)-ROW($L$19))/(OFFSET(OrderRange_Ref,,3)>0),ROWS($L$20:$L54)-OFFSET(Cumulative,,2)),IF(OFFSET(Cumulative,,4)>(ROW()-ROW($O$20)),_xlfn.AGGREGATE(15,6,(ROW(OrderRange_Ref)-ROW($L$19))/(OFFSET(OrderRange_Ref,,4)>0),ROWS($L$20:$L54)-OFFSET(Cumulative,,3)),IF(OFFSET(Cumulative,,5)>(ROW()-ROW($O$20)),_xlfn.AGGREGATE(15,6,(ROW(OrderRange_Ref)-ROW($L$19))/(OFFSET(OrderRange_Ref,,5)>0),ROWS($L$20:$L54)-OFFSET(Cumulative,,4)),\"\"))))))","v":""},"","","","",{"$f":"IF($N54=\"\",\"\",ROUND(SUMPRODUCT((LEFT(Transaction[Route],Branch_Digit)=RIGHT(BranchCode,Branch_Digit))*(Transaction[Type]=\"เบิก\")*(Transaction[Products]='Factory_Order Frm'!$R54)*(Transaction[Date]=$O54)*(Transaction[Qty In-Out]))/PcsPerTray,0))","v":""},{"$f":"IF($N54=\"\",\"\",MOD(SUMPRODUCT((LEFT(Transaction[Route],Branch_Digit)=RIGHT(BranchCode,Branch_Digit))*(Transaction[Type]=\"เบิก\")*(Transaction[Products]='Factory_Order Frm'!$R54)*(Transaction[Date]=$O54)*(Transaction[Qty In-Out])),PcsPerTray))","v":""}]
[null,{"$f":"IF($C55=\"\",\"\",ROWS($C$20:$C55))","v":""},{"$f":"IF(ROWS($C$20:$C55)>COUNTA(FRY_Product_List),\"\",INDEX(FRY_Product_List,ROWS($C$20:$C55)))","v":""},{"$f":"IF($C55=\"\",\"\",ROUND(SUMPRODUCT((LEFT(Transaction[Route],Branch_Digit)=RIGHT(BranchCode,Branch_Digit))*(Transaction[Type]=\"เบิก\")*(Transaction[Products]='Factory_Order Frm'!$C55)*(Transaction[Date]=D$18)*(Transaction[Qty In-Out]))/'Factory_Order Frm'!$K55,0))","v":""},{"$f":"IF($C55=\"\",\"\",ROUND(SUMPRODUCT((LEFT(Transaction[Route],Branch_Digit)=RIGHT(BranchCode,Branch_Digit))*(Transaction[Type]=\"เบิก\")*(Transaction[Products]='Factory_Order Frm'!$C55)*(Transaction[Date]=E$18)*(Transaction[Qty In-Out]))/'Factory_Order Frm'!$K55,0))","v":""},{"$f":"IF($C55=\"\",\"\",ROUND(SUMPRODUCT((LEFT(Transaction[Route],Branch_Digit)=RIGHT(BranchCode,Branch_Digit))*(Transaction[Type]=\"เบิก\")*(Transaction[Products]='Factory_Order Frm'!$C55)*(Transaction[Date]=F$18)*(Transaction[Qty In-Out]))/'Factory_Order Frm'!$K55,0))","v":""},{"$f":"IF($C55=\"\",\"\",ROUND(SUMPRODUCT((LEFT(Transaction[Route],Branch_Digit)=RIGHT(BranchCode,Branch_Digit))*(Transaction[Type]=\"เบิก\")*(Transaction[Products]='Factory_Order Frm'!$C55)*(Transaction[Date]=G$18)*(Transaction[Qty In-Out]))/'Factory_Order Frm'!$K55,0))","v":""},{"$f":"IF($C55=\"\",\"\",ROUND(SUMPRODUCT((LEFT(Transaction[Route],Branch_Digit)=RIGHT(BranchCode,Branch_Digit))*(Transaction[Type]=\"เบิก\")*(Transaction[Products]='Factory_Order Frm'!$C55)*(Transaction[Date]=H$18)*(Transaction[Qty In-Out]))/'Factory_Order Frm'!$K55,0))","v":""},{"$f":"IF($C55=\"\",\"\",ROUND(SUMPRODUCT((LEFT(Transaction[Route],Branch_Digit)=RIGHT(BranchCode,Branch_Digit))*(Transaction[Type]=\"เบิก\")*(Transaction[Products]='Factory_Order Frm'!$C55)*(Transaction[Date]=I$18)*(Transaction[Qty In-Out]))/'Factory_Order Frm'!$K55,0))","v":""},"",{"$f":"IF('Factory_Order Frm'!$C55=\"\",\"\",INDEX(dProduct[Pcs/Unit],MATCH('Factory_Order Frm'!$C55,dProduct[NameTH],)))","v":""},0,null,{"$f":"IF(Cumulative>(ROW()-ROW($O$20)),_xlfn.AGGREGATE(15,6,(ROW(OrderRange_Ref)-ROW($L$19))/(OFFSET(OrderRange_Ref,,0)>0),ROWS($L$20:$L55)),IF(OFFSET(Cumulative,,1)>(ROW()-ROW($O$20)),_xlfn.AGGREGATE(15,6,(ROW(OrderRange_Ref)-ROW($L$19))/(OFFSET(OrderRange_Ref,,1)>0),ROWS($L$20:$L55)-OFFSET(Cumulative,,0)),IF(OFFSET(Cumulative,,2)>(ROW()-ROW($O$20)),_xlfn.AGGREGATE(15,6,(ROW(OrderRange_Ref)-ROW($L$19))/(OFFSET(OrderRange_Ref,,2)>0),ROWS($L$20:$L55)-OFFSET(Cumulative,,1)),IF(OFFSET(Cumulative,,3)>(ROW()-ROW($O$20)),_xlfn.AGGREGATE(15,6,(ROW(OrderRange_Ref)-ROW($L$19))/(OFFSET(OrderRange_Ref,,3)>0),ROWS($L$20:$L55)-OFFSET(Cumulative,,2)),IF(OFFSET(Cumulative,,4)>(ROW()-ROW($O$20)),_xlfn.AGGREGATE(15,6,(ROW(OrderRange_Ref)-ROW($L$19))/(OFFSET(OrderRange_Ref,,4)>0),ROWS($L$20:$L55)-OFFSET(Cumulative,,3)),IF(OFFSET(Cumulative,,5)>(ROW()-ROW($O$20)),_xlfn.AGGREGATE(15,6,(ROW(OrderRange_Ref)-ROW($L$19))/(OFFSET(OrderRange_Ref,,5)>0),ROWS($L$20:$L55)-OFFSET(Cumulative,,4)),\"\"))))))","v":""},"","","","",{"$f":"IF($N55=\"\",\"\",ROUND(SUMPRODUCT((LEFT(Transaction[Route],Branch_Digit)=RIGHT(BranchCode,Branch_Digit))*(Transaction[Type]=\"เบิก\")*(Transaction[Products]='Factory_Order Frm'!$R55)*(Transaction[Date]=$O55)*(Transaction[Qty In-Out]))/PcsPerTray,0))","v":""},{"$f":"IF($N55=\"\",\"\",MOD(SUMPRODUCT((LEFT(Transaction[Route],Branch_Digit)=RIGHT(BranchCode,Branch_Digit))*(Transaction[Type]=\"เบิก\")*(Transaction[Products]='Factory_Order Frm'!$R55)*(Transaction[Date]=$O55)*(Transaction[Qty In-Out])),PcsPerTray))","v":""}]
[null,{"$f":"IF($C56=\"\",\"\",ROWS($C$20:$C56))","v":""},{"$f":"IF(ROWS($C$20:$C56)>COUNTA(FRY_Product_List),\"\",INDEX(FRY_Product_List,ROWS($C$20:$C56)))","v":""},{"$f":"IF($C56=\"\",\"\",ROUND(SUMPRODUCT((LEFT(Transaction[Route],Branch_Digit)=RIGHT(BranchCode,Branch_Digit))*(Transaction[Type]=\"เบิก\")*(Transaction[Products]='Factory_Order Frm'!$C56)*(Transaction[Date]=D$18)*(Transaction[Qty In-Out]))/'Factory_Order Frm'!$K56,0))","v":""},{"$f":"IF($C56=\"\",\"\",ROUND(SUMPRODUCT((LEFT(Transaction[Route],Branch_Digit)=RIGHT(BranchCode,Branch_Digit))*(Transaction[Type]=\"เบิก\")*(Transaction[Products]='Factory_Order Frm'!$C56)*(Transaction[Date]=E$18)*(Transaction[Qty In-Out]))/'Factory_Order Frm'!$K56,0))","v":""},{"$f":"IF($C56=\"\",\"\",ROUND(SUMPRODUCT((LEFT(Transaction[Route],Branch_Digit)=RIGHT(BranchCode,Branch_Digit))*(Transaction[Type]=\"เบิก\")*(Transaction[Products]='Factory_Order Frm'!$C56)*(Transaction[Date]=F$18)*(Transaction[Qty In-Out]))/'Factory_Order Frm'!$K56,0))","v":""},{"$f":"IF($C56=\"\",\"\",ROUND(SUMPRODUCT((LEFT(Transaction[Route],Branch_Digit)=RIGHT(BranchCode,Branch_Digit))*(Transaction[Type]=\"เบิก\")*(Transaction[Products]='Factory_Order Frm'!$C56)*(Transaction[Date]=G$18)*(Transaction[Qty In-Out]))/'Factory_Order Frm'!$K56,0))","v":""},{"$f":"IF($C56=\"\",\"\",ROUND(SUMPRODUCT((LEFT(Transaction[Route],Branch_Digit)=RIGHT(BranchCode,Branch_Digit))*(Transaction[Type]=\"เบิก\")*(Transaction[Products]='Factory_Order Frm'!$C56)*(Transaction[Date]=H$18)*(Transaction[Qty In-Out]))/'Factory_Order Frm'!$K56,0))","v":""},{"$f":"IF($C56=\"\",\"\",ROUND(SUMPRODUCT((LEFT(Transaction[Route],Branch_Digit)=RIGHT(BranchCode,Branch_Digit))*(Transaction[Type]=\"เบิก\")*(Transaction[Products]='Factory_Order Frm'!$C56)*(Transaction[Date]=I$18)*(Transaction[Qty In-Out]))/'Factory_Order Frm'!$K56,0))","v":""},"",{"$f":"IF('Factory_Order Frm'!$C56=\"\",\"\",INDEX(dProduct[Pcs/Unit],MATCH('Factory_Order Frm'!$C56,dProduct[NameTH],)))","v":""},0,null,{"$f":"IF(Cumulative>(ROW()-ROW($O$20)),_xlfn.AGGREGATE(15,6,(ROW(OrderRange_Ref)-ROW($L$19))/(OFFSET(OrderRange_Ref,,0)>0),ROWS($L$20:$L56)),IF(OFFSET(Cumulative,,1)>(ROW()-ROW($O$20)),_xlfn.AGGREGATE(15,6,(ROW(OrderRange_Ref)-ROW($L$19))/(OFFSET(OrderRange_Ref,,1)>0),ROWS($L$20:$L56)-OFFSET(Cumulative,,0)),IF(OFFSET(Cumulative,,2)>(ROW()-ROW($O$20)),_xlfn.AGGREGATE(15,6,(ROW(OrderRange_Ref)-ROW($L$19))/(OFFSET(OrderRange_Ref,,2)>0),ROWS($L$20:$L56)-OFFSET(Cumulative,,1)),IF(OFFSET(Cumulative,,3)>(ROW()-ROW($O$20)),_xlfn.AGGREGATE(15,6,(ROW(OrderRange_Ref)-ROW($L$19))/(OFFSET(OrderRange_Ref,,3)>0),ROWS($L$20:$L56)-OFFSET(Cumulative,,2)),IF(OFFSET(Cumulative,,4)>(ROW()-ROW($O$20)),_xlfn.AGGREGATE(15,6,(ROW(OrderRange_Ref)-ROW($L$19))/(OFFSET(OrderRange_Ref,,4)>0),ROWS($L$20:$L56)-OFFSET(Cumulative,,3)),IF(OFFSET(Cumulative,,5)>(ROW()-ROW($O$20)),_xlfn.AGGREGATE(15,6,(ROW(OrderRange_Ref)-ROW($L$19))/(OFFSET(OrderRange_Ref,,5)>0),ROWS($L$20:$L56)-OFFSET(Cumulative,,4)),\"\"))))))","v":""},"","","","",{"$f":"IF($N56=\"\",\"\",ROUND(SUMPRODUCT((LEFT(Transaction[Route],Branch_Digit)=RIGHT(BranchCode,Branch_Digit))*(Transaction[Type]=\"เบิก\")*(Transaction[Products]='Factory_Order Frm'!$R56)*(Transaction[Date]=$O56)*(Transaction[Qty In-Out]))/PcsPerTray,0))","v":""},{"$f":"IF($N56=\"\",\"\",MOD(SUMPRODUCT((LEFT(Transaction[Route],Branch_Digit)=RIGHT(BranchCode,Branch_Digit))*(Transaction[Type]=\"เบิก\")*(Transaction[Products]='Factory_Order Frm'!$R56)*(Transaction[Date]=$O56)*(Transaction[Qty In-Out])),PcsPerTray))","v":""}]
[null,{"$f":"IF($C57=\"\",\"\",ROWS($C$20:$C57))","v":""},{"$f":"IF(ROWS($C$20:$C57)>COUNTA(FRY_Product_List),\"\",INDEX(FRY_Product_List,ROWS($C$20:$C57)))","v":""},{"$f":"IF($C57=\"\",\"\",ROUND(SUMPRODUCT((LEFT(Transaction[Route],Branch_Digit)=RIGHT(BranchCode,Branch_Digit))*(Transaction[Type]=\"เบิก\")*(Transaction[Products]='Factory_Order Frm'!$C57)*(Transaction[Date]=D$18)*(Transaction[Qty In-Out]))/'Factory_Order Frm'!$K57,0))","v":""},{"$f":"IF($C57=\"\",\"\",ROUND(SUMPRODUCT((LEFT(Transaction[Route],Branch_Digit)=RIGHT(BranchCode,Branch_Digit))*(Transaction[Type]=\"เบิก\")*(Transaction[Products]='Factory_Order Frm'!$C57)*(Transaction[Date]=E$18)*(Transaction[Qty In-Out]))/'Factory_Order Frm'!$K57,0))","v":""},{"$f":"IF($C57=\"\",\"\",ROUND(SUMPRODUCT((LEFT(Transaction[Route],Branch_Digit)=RIGHT(BranchCode,Branch_Digit))*(Transaction[Type]=\"เบิก\")*(Transaction[Products]='Factory_Order Frm'!$C57)*(Transaction[Date]=F$18)*(Transaction[Qty In-Out]))/'Factory_Order Frm'!$K57,0))","v":""},{"$f":"IF($C57=\"\",\"\",ROUND(SUMPRODUCT((LEFT(Transaction[Route],Branch_Digit)=RIGHT(BranchCode,Branch_Digit))*(Transaction[Type]=\"เบิก\")*(Transaction[Products]='Factory_Order Frm'!$C57)*(Transaction[Date]=G$18)*(Transaction[Qty In-Out]))/'Factory_Order Frm'!$K57,0))","v":""},{"$f":"IF($C57=\"\",\"\",ROUND(SUMPRODUCT((LEFT(Transaction[Route],Branch_Digit)=RIGHT(BranchCode,Branch_Digit))*(Transaction[Type]=\"เบิก\")*(Transaction[Products]='Factory_Order Frm'!$C57)*(Transaction[Date]=H$18)*(Transaction[Qty In-Out]))/'Factory_Order Frm'!$K57,0))","v":""},{"$f":"IF($C57=\"\",\"\",ROUND(SUMPRODUCT((LEFT(Transaction[Route],Branch_Digit)=RIGHT(BranchCode,Branch_Digit))*(Transaction[Type]=\"เบิก\")*(Transaction[Products]='Factory_Order Frm'!$C57)*(Transaction[Date]=I$18)*(Transaction[Qty In-Out]))/'Factory_Order Frm'!$K57,0))","v":""},"",{"$f":"IF('Factory_Order Frm'!$C57=\"\",\"\",INDEX(dProduct[Pcs/Unit],MATCH('Factory_Order Frm'!$C57,dProduct[NameTH],)))","v":""},0,null,{"$f":"IF(Cumulative>(ROW()-ROW($O$20)),_xlfn.AGGREGATE(15,6,(ROW(OrderRange_Ref)-ROW($L$19))/(OFFSET(OrderRange_Ref,,0)>0),ROWS($L$20:$L57)),IF(OFFSET(Cumulative,,1)>(ROW()-ROW($O$20)),_xlfn.AGGREGATE(15,6,(ROW(OrderRange_Ref)-ROW($L$19))/(OFFSET(OrderRange_Ref,,1)>0),ROWS($L$20:$L57)-OFFSET(Cumulative,,0)),IF(OFFSET(Cumulative,,2)>(ROW()-ROW($O$20)),_xlfn.AGGREGATE(15,6,(ROW(OrderRange_Ref)-ROW($L$19))/(OFFSET(OrderRange_Ref,,2)>0),ROWS($L$20:$L57)-OFFSET(Cumulative,,1)),IF(OFFSET(Cumulative,,3)>(ROW()-ROW($O$20)),_xlfn.AGGREGATE(15,6,(ROW(OrderRange_Ref)-ROW($L$19))/(OFFSET(OrderRange_Ref,,3)>0),ROWS($L$20:$L57)-OFFSET(Cumulative,,2)),IF(OFFSET(Cumulative,,4)>(ROW()-ROW($O$20)),_xlfn.AGGREGATE(15,6,(ROW(OrderRange_Ref)-ROW($L$19))/(OFFSET(OrderRange_Ref,,4)>0),ROWS($L$20:$L57)-OFFSET(Cumulative,,3)),IF(OFFSET(Cumulative,,5)>(ROW()-ROW($O$20)),_xlfn.AGGREGATE(15,6,(ROW(OrderRange_Ref)-ROW($L$19))/(OFFSET(OrderRange_Ref,,5)>0),ROWS($L$20:$L57)-OFFSET(Cumulative,,4)),\"\"))))))","v":""},"","","","",{"$f":"IF($N57=\"\",\"\",ROUND(SUMPRODUCT((LEFT(Transaction[Route],Branch_Digit)=RIGHT(BranchCode,Branch_Digit))*(Transaction[Type]=\"เบิก\")*(Transaction[Products]='Factory_Order Frm'!$R57)*(Transaction[Date]=$O57)*(Transaction[Qty In-Out]))/PcsPerTray,0))","v":""},{"$f":"IF($N57=\"\",\"\",MOD(SUMPRODUCT((LEFT(Transaction[Route],Branch_Digit)=RIGHT(BranchCode,Branch_Digit))*(Transaction[Type]=\"เบิก\")*(Transaction[Products]='Factory_Order Frm'!$R57)*(Transaction[Date]=$O57)*(Transaction[Qty In-Out])),PcsPerTray))","v":""}]
[null,{"$f":"IF($C58=\"\",\"\",ROWS($C$20:$C58))","v":""},{"$f":"IF(ROWS($C$20:$C58)>COUNTA(FRY_Product_List),\"\",INDEX(FRY_Product_List,ROWS($C$20:$C58)))","v":""},{"$f":"IF($C58=\"\",\"\",ROUND(SUMPRODUCT((LEFT(Transaction[Route],Branch_Digit)=RIGHT(BranchCode,Branch_Digit))*(Transaction[Type]=\"เบิก\")*(Transaction[Products]='Factory_Order Frm'!$C58)*(Transaction[Date]=D$18)*(Transaction[Qty In-Out]))/'Factory_Order Frm'!$K58,0))","v":""},{"$f":"IF($C58=\"\",\"\",ROUND(SUMPRODUCT((LEFT(Transaction[Route],Branch_Digit)=RIGHT(BranchCode,Branch_Digit))*(Transaction[Type]=\"เบิก\")*(Transaction[Products]='Factory_Order Frm'!$C58)*(Transaction[Date]=E$18)*(Transaction[Qty In-Out]))/'Factory_Order Frm'!$K58,0))","v":""},{"$f":"IF($C58=\"\",\"\",ROUND(SUMPRODUCT((LEFT(Transaction[Route],Branch_Digit)=RIGHT(BranchCode,Branch_Digit))*(Transaction[Type]=\"เบิก\")*(Transaction[Products]='Factory_Order Frm'!$C58)*(Transaction[Date]=F$18)*(Transaction[Qty In-Out]))/'Factory_Order Frm'!$K58,0))","v":""},{"$f":"IF($C58=\"\",\"\",ROUND(SUMPRODUCT((LEFT(Transaction[Route],Branch_Digit)=RIGHT(BranchCode,Branch_Digit))*(Transaction[Type]=\"เบิก\")*(Transaction[Products]='Factory_Order Frm'!$C58)*(Transaction[Date]=G$18)*(Transaction[Qty In-Out]))/'Factory_Order Frm'!$K58,0))","v":""},{"$f":"IF($C58=\"\",\"\",ROUND(SUMPRODUCT((LEFT(Transaction[Route],Branch_Digit)=RIGHT(BranchCode,Branch_Digit))*(Transaction[Type]=\"เบิก\")*(Transaction[Products]='Factory_Order Frm'!$C58)*(Transaction[Date]=H$18)*(Transaction[Qty In-Out]))/'Factory_Order Frm'!$K58,0))","v":""},{"$f":"IF($C58=\"\",\"\",ROUND(SUMPRODUCT((LEFT(Transaction[Route],Branch_Digit)=RIGHT(BranchCode,Branch_Digit))*(Transaction[Type]=\"เบิก\")*(Transaction[Products]='Factory_Order Frm'!$C58)*(Transaction[Date]=I$18)*(Transaction[Qty In-Out]))/'Factory_Order Frm'!$K58,0))","v":""},"",{"$f":"IF('Factory_Order Frm'!$C58=\"\",\"\",INDEX(dProduct[Pcs/Unit],MATCH('Factory_Order Frm'!$C58,dProduct[NameTH],)))","v":""},0,null,{"$f":"IF(Cumulative>(ROW()-ROW($O$20)),_xlfn.AGGREGATE(15,6,(ROW(OrderRange_Ref)-ROW($L$19))/(OFFSET(OrderRange_Ref,,0)>0),ROWS($L$20:$L58)),IF(OFFSET(Cumulative,,1)>(ROW()-ROW($O$20)),_xlfn.AGGREGATE(15,6,(ROW(OrderRange_Ref)-ROW($L$19))/(OFFSET(OrderRange_Ref,,1)>0),ROWS($L$20:$L58)-OFFSET(Cumulative,,0)),IF(OFFSET(Cumulative,,2)>(ROW()-ROW($O$20)),_xlfn.AGGREGATE(15,6,(ROW(OrderRange_Ref)-ROW($L$19))/(OFFSET(OrderRange_Ref,,2)>0),ROWS($L$20:$L58)-OFFSET(Cumulative,,1)),IF(OFFSET(Cumulative,,3)>(ROW()-ROW($O$20)),_xlfn.AGGREGATE(15,6,(ROW(OrderRange_Ref)-ROW($L$19))/(OFFSET(OrderRange_Ref,,3)>0),ROWS($L$20:$L58)-OFFSET(Cumulative,,2)),IF(OFFSET(Cumulative,,4)>(ROW()-ROW($O$20)),_xlfn.AGGREGATE(15,6,(ROW(OrderRange_Ref)-ROW($L$19))/(OFFSET(OrderRange_Ref,,4)>0),ROWS($L$20:$L58)-OFFSET(Cumulative,,3)),IF(OFFSET(Cumulative,,5)>(ROW()-ROW($O$20)),_xlfn.AGGREGATE(15,6,(ROW(OrderRange_Ref)-ROW($L$19))/(OFFSET(OrderRange_Ref,,5)>0),ROWS($L$20:$L58)-OFFSET(Cumulative,,4)),\"\"))))))","v":""},"","","","",{"$f":"IF($N58=\"\",\"\",ROUND(SUMPRODUCT((LEFT(Transaction[Route],Branch_Digit)=RIGHT(BranchCode,Branch_Digit))*(Transaction[Type]=\"เบิก\")*(Transaction[Products]='Factory_Order Frm'!$R58)*(Transaction[Date]=$O58)*(Transaction[Qty In-Out]))/PcsPerTray,0))","v":""},{"$f":"IF($N58=\"\",\"\",MOD(SUMPRODUCT((LEFT(Transaction[Route],Branch_Digit)=RIGHT(BranchCode,Branch_Digit))*(Transaction[Type]=\"เบิก\")*(Transaction[Products]='Factory_Order Frm'!$R58)*(Transaction[Date]=$O58)*(Transaction[Qty In-Out])),PcsPerTray))","v":""}]
[null,{"$f":"IF($C59=\"\",\"\",ROWS($C$20:$C59))","v":""},{"$f":"IF(ROWS($C$20:$C59)>COUNTA(FRY_Product_List),\"\",INDEX(FRY_Product_List,ROWS($C$20:$C59)))","v":""},{"$f":"IF($C59=\"\",\"\",ROUND(SUMPRODUCT((LEFT(Transaction[Route],Branch_Digit)=RIGHT(BranchCode,Branch_Digit))*(Transaction[Type]=\"เบิก\")*(Transaction[Products]='Factory_Order Frm'!$C59)*(Transaction[Date]=D$18)*(Transaction[Qty In-Out]))/'Factory_Order Frm'!$K59,0))","v":""},{"$f":"IF($C59=\"\",\"\",ROUND(SUMPRODUCT((LEFT(Transaction[Route],Branch_Digit)=RIGHT(BranchCode,Branch_Digit))*(Transaction[Type]=\"เบิก\")*(Transaction[Products]='Factory_Order Frm'!$C59)*(Transaction[Date]=E$18)*(Transaction[Qty In-Out]))/'Factory_Order Frm'!$K59,0))","v":""},{"$f":"IF($C59=\"\",\"\",ROUND(SUMPRODUCT((LEFT(Transaction[Route],Branch_Digit)=RIGHT(BranchCode,Branch_Digit))*(Transaction[Type]=\"เบิก\")*(Transaction[Products]='Factory_Order Frm'!$C59)*(Transaction[Date]=F$18)*(Transaction[Qty In-Out]))/'Factory_Order Frm'!$K59,0))","v":""},{"$f":"IF($C59=\"\",\"\",ROUND(SUMPRODUCT((LEFT(Transaction[Route],Branch_Digit)=RIGHT(BranchCode,Branch_Digit))*(Transaction[Type]=\"เบิก\")*(Transaction[Products]='Factory_Order Frm'!$C59)*(Transaction[Date]=G$18)*(Transaction[Qty In-Out]))/'Factory_Order Frm'!$K59,0))","v":""},{"$f":"IF($C59=\"\",\"\",ROUND(SUMPRODUCT((LEFT(Transaction[Route],Branch_Digit)=RIGHT(BranchCode,Branch_Digit))*(Transaction[Type]=\"เบิก\")*(Transaction[Products]='Factory_Order Frm'!$C59)*(Transaction[Date]=H$18)*(Transaction[Qty In-Out]))/'Factory_Order Frm'!$K59,0))","v":""},{"$f":"IF($C59=\"\",\"\",ROUND(SUMPRODUCT((LEFT(Transaction[Route],Branch_Digit)=RIGHT(BranchCode,Branch_Digit))*(Transaction[Type]=\"เบิก\")*(Transaction[Products]='Factory_Order Frm'!$C59)*(Transaction[Date]=I$18)*(Transaction[Qty In-Out]))/'Factory_Order Frm'!$K59,0))","v":""},"",{"$f":"IF('Factory_Order Frm'!$C59=\"\",\"\",INDEX(dProduct[Pcs/Unit],MATCH('Factory_Order Frm'!$C59,dProduct[NameTH],)))","v":""},0,null,{"$f":"IF(Cumulative>(ROW()-ROW($O$20)),_xlfn.AGGREGATE(15,6,(ROW(OrderRange_Ref)-ROW($L$19))/(OFFSET(OrderRange_Ref,,0)>0),ROWS($L$20:$L59)),IF(OFFSET(Cumulative,,1)>(ROW()-ROW($O$20)),_xlfn.AGGREGATE(15,6,(ROW(OrderRange_Ref)-ROW($L$19))/(OFFSET(OrderRange_Ref,,1)>0),ROWS($L$20:$L59)-OFFSET(Cumulative,,0)),IF(OFFSET(Cumulative,,2)>(ROW()-ROW($O$20)),_xlfn.AGGREGATE(15,6,(ROW(OrderRange_Ref)-ROW($L$19))/(OFFSET(OrderRange_Ref,,2)>0),ROWS($L$20:$L59)-OFFSET(Cumulative,,1)),IF(OFFSET(Cumulative,,3)>(ROW()-ROW($O$20)),_xlfn.AGGREGATE(15,6,(ROW(OrderRange_Ref)-ROW($L$19))/(OFFSET(OrderRange_Ref,,3)>0),ROWS($L$20:$L59)-OFFSET(Cumulative,,2)),IF(OFFSET(Cumulative,,4)>(ROW()-ROW($O$20)),_xlfn.AGGREGATE(15,6,(ROW(OrderRange_Ref)-ROW($L$19))/(OFFSET(OrderRange_Ref,,4)>0),ROWS($L$20:$L59)-OFFSET(Cumulative,,3)),IF(OFFSET(Cumulative,,5)>(ROW()-ROW($O$20)),_xlfn.AGGREGATE(15,6,(ROW(OrderRange_Ref)-ROW($L$19))/(OFFSET(OrderRange_Ref,,5)>0),ROWS($L$20:$L59)-OFFSET(Cumulative,,4)),\"\"))))))","v":""},"","","","",{"$f":"IF($N59=\"\",\"\",ROUND(SUMPRODUCT((LEFT(Transaction[Route],Branch_Digit)=RIGHT(BranchCode,Branch_Digit))*(Transaction[Type]=\"เบิก\")*(Transaction[Products]='Factory_Order Frm'!$R59)*(Transaction[Date]=$O59)*(Transaction[Qty In-Out]))/PcsPerTray,0))","v":""},{"$f":"IF($N59=\"\",\"\",MOD(SUMPRODUCT((LEFT(Transaction[Route],Branch_Digit)=RIGHT(BranchCode,Branch_Digit))*(Transaction[Type]=\"เบิก\")*(Transaction[Products]='Factory_Order Frm'!$R59)*(Transaction[Date]=$O59)*(Transaction[Qty In-Out])),PcsPerTray))","v":""}]
[null,"รวมทั้งสิ้น (ถาด)",null,{"$f":"SUM(D20:D59)","v":0},{"$f":"SUM(E20:E59)","v":0},0,0,0,0,{"$f":"SUM(CheckZone)","v":0},null,{"$f":"SUM(L20:L59)","v":0},null,{"$f":"IF(Cumulative>(ROW()-ROW($O$20)),_xlfn.AGGREGATE(15,6,(ROW(OrderRange_Ref)-ROW($L$19))/(OFFSET(OrderRange_Ref,,0)>0),ROWS($L$20:$L60)),IF(OFFSET(Cumulative,,1)>(ROW()-ROW($O$20)),_xlfn.AGGREGATE(15,6,(ROW(OrderRange_Ref)-ROW($L$19))/(OFFSET(OrderRange_Ref,,1)>0),ROWS($L$20:$L60)-OFFSET(Cumulative,,0)),IF(OFFSET(Cumulative,,2)>(ROW()-ROW($O$20)),_xlfn.AGGREGATE(15,6,(ROW(OrderRange_Ref)-ROW($L$19))/(OFFSET(OrderRange_Ref,,2)>0),ROWS($L$20:$L60)-OFFSET(Cumulative,,1)),IF(OFFSET(Cumulative,,3)>(ROW()-ROW($O$20)),_xlfn.AGGREGATE(15,6,(ROW(OrderRange_Ref)-ROW($L$19))/(OFFSET(OrderRange_Ref,,3)>0),ROWS($L$20:$L60)-OFFSET(Cumulative,,2)),IF(OFFSET(Cumulative,,4)>(ROW()-ROW($O$20)),_xlfn.AGGREGATE(15,6,(ROW(OrderRange_Ref)-ROW($L$19))/(OFFSET(OrderRange_Ref,,4)>0),ROWS($L$20:$L60)-OFFSET(Cumulative,,3)),IF(OFFSET(Cumulative,,5)>(ROW()-ROW($O$20)),_xlfn.AGGREGATE(15,6,(ROW(OrderRange_Ref)-ROW($L$19))/(OFFSET(OrderRange_Ref,,5)>0),ROWS($L$20:$L60)-OFFSET(Cumulative,,4)),\"\"))))))","v":""},"","","","",{"$f":"IF($N60=\"\",\"\",ROUND(SUMPRODUCT((LEFT(Transaction[Route],Branch_Digit)=RIGHT(BranchCode,Branch_Digit))*(Transaction[Type]=\"เบิก\")*(Transaction[Products]='Factory_Order Frm'!$R60)*(Transaction[Date]=$O60)*(Transaction[Qty In-Out]))/PcsPerTray,0))","v":""},{"$f":"IF($N60=\"\",\"\",MOD(SUMPRODUCT((LEFT(Transaction[Route],Branch_Digit)=RIGHT(BranchCode,Branch_Digit))*(Transaction[Type]=\"เบิก\")*(Transaction[Products]='Factory_Order Frm'!$R60)*(Transaction[Date]=$O60)*(Transaction[Qty In-Out])),PcsPerTray))","v":""}]
[null,null,null,{"$f":"COUNTIF(D$20:D$59,\">0\")","v":0},{"$f":"D$61+COUNTIF(E$20:E$59,\">0\")","v":0},{"$f":"E$61+COUNTIF(F$20:F$59,\">0\")","v":0},{"$f":"F$61+COUNTIF(G$20:G$59,\">0\")","v":0},{"$f":"G$61+COUNTIF(H$20:H$59,\">0\")","v":0},{"$f":"H$61+COUNTIF(I$20:I$59,\">0\")","v":0},null,null,0,null,{"$f":"IF(Cumulative>(ROW()-ROW($O$20)),_xlfn.AGGREGATE(15,6,(ROW(OrderRange_Ref)-ROW($L$19))/(OFFSET(OrderRange_Ref,,0)>0),ROWS($L$20:$L61)),IF(OFFSET(Cumulative,,1)>(ROW()-ROW($O$20)),_xlfn.AGGREGATE(15,6,(ROW(OrderRange_Ref)-ROW($L$19))/(OFFSET(OrderRange_Ref,,1)>0),ROWS($L$20:$L61)-OFFSET(Cumulative,,0)),IF(OFFSET(Cumulative,,2)>(ROW()-ROW($O$20)),_xlfn.AGGREGATE(15,6,(ROW(OrderRange_Ref)-ROW($L$19))/(OFFSET(OrderRange_Ref,,2)>0),ROWS($L$20:$L61)-OFFSET(Cumulative,,1)),IF(OFFSET(Cumulative,,3)>(ROW()-ROW($O$20)),_xlfn.AGGREGATE(15,6,(ROW(OrderRange_Ref)-ROW($L$19))/(OFFSET(OrderRange_Ref,,3)>0),ROWS($L$20:$L61)-OFFSET(Cumulative,,2)),IF(OFFSET(Cumulative,,4)>(ROW()-ROW($O$20)),_xlfn.AGGREGATE(15,6,(ROW(OrderRange_Ref)-ROW($L$19))/(OFFSET(OrderRange_Ref,,4)>0),ROWS($L$20:$L61)-OFFSET(Cumulative,,3)),IF(OFFSET(Cumulative,,5)>(ROW()-ROW($O$20)),_xlfn.AGGREGATE(15,6,(ROW(OrderRange_Ref)-ROW($L$19))/(OFFSET(OrderRange_Ref,,5)>0),ROWS($L$20:$L61)-OFFSET(Cumulative,,4)),\"\"))))))","v":""},"","","","",{"$f":"IF($N61=\"\",\"\",ROUND(SUMPRODUCT((LEFT(Transaction[Route],Branch_Digit)=RIGHT(BranchCode,Branch_Digit))*(Transaction[Type]=\"เบิก\")*(Transaction[Products]='Factory_Order Frm'!$R61)*(Transaction[Date]=$O61)*(Transaction[Qty In-Out]))/PcsPerTray,0))","v":""},{"$f":"IF($N61=\"\",\"\",MOD(SUMPRODUCT((LEFT(Transaction[Route],Branch_Digit)=RIGHT(BranchCode,Branch_Digit))*(Transaction[Type]=\"เบิก\")*(Transaction[Products]='Factory_Order Frm'!$R61)*(Transaction[Date]=$O61)*(Transaction[Qty In-Out])),PcsPerTray))","v":""}]
[null,null,null,null,null,null,null,null,null,null,null,null,null,{"$f":"IF(Cumulative>(ROW()-ROW($O$20)),_xlfn.AGGREGATE(15,6,(ROW(OrderRange_Ref)-ROW($L$19))/(OFFSET(OrderRange_Ref,,0)>0),ROWS($L$20:$L62)),IF(OFFSET(Cumulative,,1)>(ROW()-ROW($O$20)),_xlfn.AGGREGATE(15,6,(ROW(OrderRange_Ref)-ROW($L$19))/(OFFSET(OrderRange_Ref,,1)>0),ROWS($L$20:$L62)-OFFSET(Cumulative,,0)),IF(OFFSET(Cumulative,,2)>(ROW()-ROW($O$20)),_xlfn.AGGREGATE(15,6,(ROW(OrderRange_Ref)-ROW($L$19))/(OFFSET(OrderRange_Ref,,2)>0),ROWS($L$20:$L62)-OFFSET(Cumulative,,1)),IF(OFFSET(Cumulative,,3)>(ROW()-ROW($O$20)),_xlfn.AGGREGATE(15,6,(ROW(OrderRange_Ref)-ROW($L$19))/(OFFSET(OrderRange_Ref,,3)>0),ROWS($L$20:$L62)-OFFSET(Cumulative,,2)),IF(OFFSET(Cumulative,,4)>(ROW()-ROW($O$20)),_xlfn.AGGREGATE(15,6,(ROW(OrderRange_Ref)-ROW($L$19))/(OFFSET(OrderRange_Ref,,4)>0),ROWS($L$20:$L62)-OFFSET(Cumulative,,3)),IF(OFFSET(Cumulative,,5)>(ROW()-ROW($O$20)),_xlfn.AGGREGATE(15,6,(ROW(OrderRange_Ref)-ROW($L$19))/(OFFSET(OrderRange_Ref,,5)>0),ROWS($L$20:$L62)-OFFSET(Cumulative,,4)),\"\"))))))","v":""},"","","","",{"$f":"IF($N62=\"\",\"\",ROUND(SUMPRODUCT((LEFT(Transaction[Route],Branch_Digit)=RIGHT(BranchCode,Branch_Digit))*(Transaction[Type]=\"เบิก\")*(Transaction[Products]='Factory_Order Frm'!$R62)*(Transaction[Date]=$O62)*(Transaction[Qty In-Out]))/PcsPerTray,0))","v":""},{"$f":"IF($N62=\"\",\"\",MOD(SUMPRODUCT((LEFT(Transaction[Route],Branch_Digit)=RIGHT(BranchCode,Branch_Digit))*(Transaction[Type]=\"เบิก\")*(Transaction[Products]='Factory_Order Frm'!$R62)*(Transaction[Date]=$O62)*(Transaction[Qty In-Out])),PcsPerTray))","v":""}]
[null,null,null,null,null,null,null,"ขอแสดงความนับถือ",null,null,null,null,null,{"$f":"IF(Cumulative>(ROW()-ROW($O$20)),_xlfn.AGGREGATE(15,6,(ROW(OrderRange_Ref)-ROW($L$19))/(OFFSET(OrderRange_Ref,,0)>0),ROWS($L$20:$L63)),IF(OFFSET(Cumulative,,1)>(ROW()-ROW($O$20)),_xlfn.AGGREGATE(15,6,(ROW(OrderRange_Ref)-ROW($L$19))/(OFFSET(OrderRange_Ref,,1)>0),ROWS($L$20:$L63)-OFFSET(Cumulative,,0)),IF(OFFSET(Cumulative,,2)>(ROW()-ROW($O$20)),_xlfn.AGGREGATE(15,6,(ROW(OrderRange_Ref)-ROW($L$19))/(OFFSET(OrderRange_Ref,,2)>0),ROWS($L$20:$L63)-OFFSET(Cumulative,,1)),IF(OFFSET(Cumulative,,3)>(ROW()-ROW($O$20)),_xlfn.AGGREGATE(15,6,(ROW(OrderRange_Ref)-ROW($L$19))/(OFFSET(OrderRange_Ref,,3)>0),ROWS($L$20:$L63)-OFFSET(Cumulative,,2)),IF(OFFSET(Cumulative,,4)>(ROW()-ROW($O$20)),_xlfn.AGGREGATE(15,6,(ROW(OrderRange_Ref)-ROW($L$19))/(OFFSET(OrderRange_Ref,,4)>0),ROWS($L$20:$L63)-OFFSET(Cumulative,,3)),IF(OFFSET(Cumulative,,5)>(ROW()-ROW($O$20)),_xlfn.AGGREGATE(15,6,(ROW(OrderRange_Ref)-ROW($L$19))/(OFFSET(OrderRange_Ref,,5)>0),ROWS($L$20:$L63)-OFFSET(Cumulative,,4)),\"\"))))))","v":""},"","","","",{"$f":"IF($N63=\"\",\"\",ROUND(SUMPRODUCT((LEFT(Transaction[Route],Branch_Digit)=RIGHT(BranchCode,Branch_Digit))*(Transaction[Type]=\"เบิก\")*(Transaction[Products]='Factory_Order Frm'!$R63)*(Transaction[Date]=$O63)*(Transaction[Qty In-Out]))/PcsPerTray,0))","v":""},{"$f":"IF($N63=\"\",\"\",MOD(SUMPRODUCT((LEFT(Transaction[Route],Branch_Digit)=RIGHT(BranchCode,Branch_Digit))*(Transaction[Type]=\"เบิก\")*(Transaction[Products]='Factory_Order Frm'!$R63)*(Transaction[Date]=$O63)*(Transaction[Qty In-Out])),PcsPerTray))","v":""}]
[null,null,null,null,null,null,null,null,null,null,null,null,null,{"$f":"IF(Cumulative>(ROW()-ROW($O$20)),_xlfn.AGGREGATE(15,6,(ROW(OrderRange_Ref)-ROW($L$19))/(OFFSET(OrderRange_Ref,,0)>0),ROWS($L$20:$L64)),IF(OFFSET(Cumulative,,1)>(ROW()-ROW($O$20)),_xlfn.AGGREGATE(15,6,(ROW(OrderRange_Ref)-ROW($L$19))/(OFFSET(OrderRange_Ref,,1)>0),ROWS($L$20:$L64)-OFFSET(Cumulative,,0)),IF(OFFSET(Cumulative,,2)>(ROW()-ROW($O$20)),_xlfn.AGGREGATE(15,6,(ROW(OrderRange_Ref)-ROW($L$19))/(OFFSET(OrderRange_Ref,,2)>0),ROWS($L$20:$L64)-OFFSET(Cumulative,,1)),IF(OFFSET(Cumulative,,3)>(ROW()-ROW($O$20)),_xlfn.AGGREGATE(15,6,(ROW(OrderRange_Ref)-ROW($L$19))/(OFFSET(OrderRange_Ref,,3)>0),ROWS($L$20:$L64)-OFFSET(Cumulative,,2)),IF(OFFSET(Cumulative,,4)>(ROW()-ROW($O$20)),_xlfn.AGGREGATE(15,6,(ROW(OrderRange_Ref)-ROW($L$19))/(OFFSET(OrderRange_Ref,,4)>0),ROWS($L$20:$L64)-OFFSET(Cumulative,,3)),IF(OFFSET(Cumulative,,5)>(ROW()-ROW($O$20)),_xlfn.AGGREGATE(15,6,(ROW(OrderRange_Ref)-ROW($L$19))/(OFFSET(OrderRange_Ref,,5)>0),ROWS($L$20:$L64)-OFFSET(Cumulative,,4)),\"\"))))))","v":""},"","","","",{"$f":"IF($N64=\"\",\"\",ROUND(SUMPRODUCT((LEFT(Transaction[Route],Branch_Digit)=RIGHT(BranchCode,Branch_Digit))*(Transaction[Type]=\"เบิก\")*(Transaction[Products]='Factory_Order Frm'!$R64)*(Transaction[Date]=$O64)*(Transaction[Qty In-Out]))/PcsPerTray,0))","v":""},{"$f":"IF($N64=\"\",\"\",MOD(SUMPRODUCT((LEFT(Transaction[Route],Branch_Digit)=RIGHT(BranchCode,Branch_Digit))*(Transaction[Type]=\"เบิก\")*(Transaction[Products]='Factory_Order Frm'!$R64)*(Transaction[Date]=$O64)*(Transaction[Qty In-Out])),PcsPerTray))","v":""}]
[null,null,null,null,null,null,null,null,null,null,null,null,null,{"$f":"IF(Cumulative>(ROW()-ROW($O$20)),_xlfn.AGGREGATE(15,6,(ROW(OrderRange_Ref)-ROW($L$19))/(OFFSET(OrderRange_Ref,,0)>0),ROWS($L$20:$L65)),IF(OFFSET(Cumulative,,1)>(ROW()-ROW($O$20)),_xlfn.AGGREGATE(15,6,(ROW(OrderRange_Ref)-ROW($L$19))/(OFFSET(OrderRange_Ref,,1)>0),ROWS($L$20:$L65)-OFFSET(Cumulative,,0)),IF(OFFSET(Cumulative,,2)>(ROW()-ROW($O$20)),_xlfn.AGGREGATE(15,6,(ROW(OrderRange_Ref)-ROW($L$19))/(OFFSET(OrderRange_Ref,,2)>0),ROWS($L$20:$L65)-OFFSET(Cumulative,,1)),IF(OFFSET(Cumulative,,3)>(ROW()-ROW($O$20)),_xlfn.AGGREGATE(15,6,(ROW(OrderRange_Ref)-ROW($L$19))/(OFFSET(OrderRange_Ref,,3)>0),ROWS($L$20:$L65)-OFFSET(Cumulative,,2)),IF(OFFSET(Cumulative,,4)>(ROW()-ROW($O$20)),_xlfn.AGGREGATE(15,6,(ROW(OrderRange_Ref)-ROW($L$19))/(OFFSET(OrderRange_Ref,,4)>0),ROWS($L$20:$L65)-OFFSET(Cumulative,,3)),IF(OFFSET(Cumulative,,5)>(ROW()-ROW($O$20)),_xlfn.AGGREGATE(15,6,(ROW(OrderRange_Ref)-ROW($L$19))/(OFFSET(OrderRange_Ref,,5)>0),ROWS($L$20:$L65)-OFFSET(Cumulative,,4)),\"\"))))))","v":""},"","","","",{"$f":"IF($N65=\"\",\"\",ROUND(SUMPRODUCT((LEFT(Transaction[Route],Branch_Digit)=RIGHT(BranchCode,Branch_Digit))*(Transaction[Type]=\"เบิก\")*(Transaction[Products]='Factory_Order Frm'!$R65)*(Transaction[Date]=$O65)*(Transaction[Qty In-Out]))/PcsPerTray,0))","v":""},{"$f":"IF($N65=\"\",\"\",MOD(SUMPRODUCT((LEFT(Transaction[Route],Branch_Digit)=RIGHT(BranchCode,Branch_Digit))*(Transaction[Type]=\"เบิก\")*(Transaction[Products]='Factory_Order Frm'!$R65)*(Transaction[Date]=$O65)*(Transaction[Qty In-Out])),PcsPerTray))","v":""}]
[null,null,null,null,null,null,null,"-----------------------------------------------------",null,null,null,null,null,{"$f":"IF(Cumulative>(ROW()-ROW($O$20)),_xlfn.AGGREGATE(15,6,(ROW(OrderRange_Ref)-ROW($L$19))/(OFFSET(OrderRange_Ref,,0)>0),ROWS($L$20:$L66)),IF(OFFSET(Cumulative,,1)>(ROW()-ROW($O$20)),_xlfn.AGGREGATE(15,6,(ROW(OrderRange_Ref)-ROW($L$19))/(OFFSET(OrderRange_Ref,,1)>0),ROWS($L$20:$L66)-OFFSET(Cumulative,,0)),IF(OFFSET(Cumulative,,2)>(ROW()-ROW($O$20)),_xlfn.AGGREGATE(15,6,(ROW(OrderRange_Ref)-ROW($L$19))/(OFFSET(OrderRange_Ref,,2)>0),ROWS($L$20:$L66)-OFFSET(Cumulative,,1)),IF(OFFSET(Cumulative,,3)>(ROW()-ROW($O$20)),_xlfn.AGGREGATE(15,6,(ROW(OrderRange_Ref)-ROW($L$19))/(OFFSET(OrderRange_Ref,,3)>0),ROWS($L$20:$L66)-OFFSET(Cumulative,,2)),IF(OFFSET(Cumulative,,4)>(ROW()-ROW($O$20)),_xlfn.AGGREGATE(15,6,(ROW(OrderRange_Ref)-ROW($L$19))/(OFFSET(OrderRange_Ref,,4)>0),ROWS($L$20:$L66)-OFFSET(Cumulative,,3)),IF(OFFSET(Cumulative,,5)>(ROW()-ROW($O$20)),_xlfn.AGGREGATE(15,6,(ROW(OrderRange_Ref)-ROW($L$19))/(OFFSET(OrderRange_Ref,,5)>0),ROWS($L$20:$L66)-OFFSET(Cumulative,,4)),\"\"))))))","v":""},"","","","",{"$f":"IF($N66=\"\",\"\",ROUND(SUMPRODUCT((LEFT(Transaction[Route],Branch_Digit)=RIGHT(BranchCode,Branch_Digit))*(Transaction[Type]=\"เบิก\")*(Transaction[Products]='Factory_Order Frm'!$R66)*(Transaction[Date]=$O66)*(Transaction[Qty In-Out]))/PcsPerTray,0))","v":""},{"$f":"IF($N66=\"\",\"\",MOD(SUMPRODUCT((LEFT(Transaction[Route],Branch_Digit)=RIGHT(BranchCode,Branch_Digit))*(Transaction[Type]=\"เบิก\")*(Transaction[Products]='Factory_Order Frm'!$R66)*(Transaction[Date]=$O66)*(Transaction[Qty In-Out])),PcsPerTray))","v":""}]
[null,null,null,null,null,null,null,{"$f":"\"( \"&INDEX(dBranches[Manager],MATCH(BranchCode,dBranches[Code],0))&\" )\"","v":"( นุกูล ปัญญานาค )"},null,null,null,null,null,{"$f":"IF(Cumulative>(ROW()-ROW($O$20)),_xlfn.AGGREGATE(15,6,(ROW(OrderRange_Ref)-ROW($L$19))/(OFFSET(OrderRange_Ref,,0)>0),ROWS($L$20:$L67)),IF(OFFSET(Cumulative,,1)>(ROW()-ROW($O$20)),_xlfn.AGGREGATE(15,6,(ROW(OrderRange_Ref)-ROW($L$19))/(OFFSET(OrderRange_Ref,,1)>0),ROWS($L$20:$L67)-OFFSET(Cumulative,,0)),IF(OFFSET(Cumulative,,2)>(ROW()-ROW($O$20)),_xlfn.AGGREGATE(15,6,(ROW(OrderRange_Ref)-ROW($L$19))/(OFFSET(OrderRange_Ref,,2)>0),ROWS($L$20:$L67)-OFFSET(Cumulative,,1)),IF(OFFSET(Cumulative,,3)>(ROW()-ROW($O$20)),_xlfn.AGGREGATE(15,6,(ROW(OrderRange_Ref)-ROW($L$19))/(OFFSET(OrderRange_Ref,,3)>0),ROWS($L$20:$L67)-OFFSET(Cumulative,,2)),IF(OFFSET(Cumulative,,4)>(ROW()-ROW($O$20)),_xlfn.AGGREGATE(15,6,(ROW(OrderRange_Ref)-ROW($L$19))/(OFFSET(OrderRange_Ref,,4)>0),ROWS($L$20:$L67)-OFFSET(Cumulative,,3)),IF(OFFSET(Cumulative,,5)>(ROW()-ROW($O$20)),_xlfn.AGGREGATE(15,6,(ROW(OrderRange_Ref)-ROW($L$19))/(OFFSET(OrderRange_Ref,,5)>0),ROWS($L$20:$L67)-OFFSET(Cumulative,,4)),\"\"))))))","v":""},"","","","",{"$f":"IF($N67=\"\",\"\",ROUND(SUMPRODUCT((LEFT(Transaction[Route],Branch_Digit)=RIGHT(BranchCode,Branch_Digit))*(Transaction[Type]=\"เบิก\")*(Transaction[Products]='Factory_Order Frm'!$R67)*(Transaction[Date]=$O67)*(Transaction[Qty In-Out]))/PcsPerTray,0))","v":""},{"$f":"IF($N67=\"\",\"\",MOD(SUMPRODUCT((LEFT(Transaction[Route],Branch_Digit)=RIGHT(BranchCode,Branch_Digit))*(Transaction[Type]=\"เบิก\")*(Transaction[Products]='Factory_Order Frm'!$R67)*(Transaction[Date]=$O67)*(Transaction[Qty In-Out])),PcsPerTray))","v":""}]
[null,null,null,null,null,null,null,{"$f":"\"ผู้จัดการสาขา\"&B_Name","v":"ผู้จัดการสาขาโรงงานร่มเกล้า"},null,null,null,null,null,{"$f":"IF(Cumulative>(ROW()-ROW($O$20)),_xlfn.AGGREGATE(15,6,(ROW(OrderRange_Ref)-ROW($L$19))/(OFFSET(OrderRange_Ref,,0)>0),ROWS($L$20:$L68)),IF(OFFSET(Cumulative,,1)>(ROW()-ROW($O$20)),_xlfn.AGGREGATE(15,6,(ROW(OrderRange_Ref)-ROW($L$19))/(OFFSET(OrderRange_Ref,,1)>0),ROWS($L$20:$L68)-OFFSET(Cumulative,,0)),IF(OFFSET(Cumulative,,2)>(ROW()-ROW($O$20)),_xlfn.AGGREGATE(15,6,(ROW(OrderRange_Ref)-ROW($L$19))/(OFFSET(OrderRange_Ref,,2)>0),ROWS($L$20:$L68)-OFFSET(Cumulative,,1)),IF(OFFSET(Cumulative,,3)>(ROW()-ROW($O$20)),_xlfn.AGGREGATE(15,6,(ROW(OrderRange_Ref)-ROW($L$19))/(OFFSET(OrderRange_Ref,,3)>0),ROWS($L$20:$L68)-OFFSET(Cumulative,,2)),IF(OFFSET(Cumulative,,4)>(ROW()-ROW($O$20)),_xlfn.AGGREGATE(15,6,(ROW(OrderRange_Ref)-ROW($L$19))/(OFFSET(OrderRange_Ref,,4)>0),ROWS($L$20:$L68)-OFFSET(Cumulative,,3)),IF(OFFSET(Cumulative,,5)>(ROW()-ROW($O$20)),_xlfn.AGGREGATE(15,6,(ROW(OrderRange_Ref)-ROW($L$19))/(OFFSET(OrderRange_Ref,,5)>0),ROWS($L$20:$L68)-OFFSET(Cumulative,,4)),\"\"))))))","v":""},"","","","",{"$f":"IF($N68=\"\",\"\",ROUND(SUMPRODUCT((LEFT(Transaction[Route],Branch_Digit)=RIGHT(BranchCode,Branch_Digit))*(Transaction[Type]=\"เบิก\")*(Transaction[Products]='Factory_Order Frm'!$R68)*(Transaction[Date]=$O68)*(Transaction[Qty In-Out]))/PcsPerTray,0))","v":""},{"$f":"IF($N68=\"\",\"\",MOD(SUMPRODUCT((LEFT(Transaction[Route],Branch_Digit)=RIGHT(BranchCode,Branch_Digit))*(Transaction[Type]=\"เบิก\")*(Transaction[Products]='Factory_Order Frm'!$R68)*(Transaction[Date]=$O68)*(Transaction[Qty In-Out])),PcsPerTray))","v":""}]
[null,null,null,null,null,null,null,null,null,null,null,null,null,{"$f":"IF(Cumulative>(ROW()-ROW($O$20)),_xlfn.AGGREGATE(15,6,(ROW(OrderRange_Ref)-ROW($L$19))/(OFFSET(OrderRange_Ref,,0)>0),ROWS($L$20:$L69)),IF(OFFSET(Cumulative,,1)>(ROW()-ROW($O$20)),_xlfn.AGGREGATE(15,6,(ROW(OrderRange_Ref)-ROW($L$19))/(OFFSET(OrderRange_Ref,,1)>0),ROWS($L$20:$L69)-OFFSET(Cumulative,,0)),IF(OFFSET(Cumulative,,2)>(ROW()-ROW($O$20)),_xlfn.AGGREGATE(15,6,(ROW(OrderRange_Ref)-ROW($L$19))/(OFFSET(OrderRange_Ref,,2)>0),ROWS($L$20:$L69)-OFFSET(Cumulative,,1)),IF(OFFSET(Cumulative,,3)>(ROW()-ROW($O$20)),_xlfn.AGGREGATE(15,6,(ROW(OrderRange_Ref)-ROW($L$19))/(OFFSET(OrderRange_Ref,,3)>0),ROWS($L$20:$L69)-OFFSET(Cumulative,,2)),IF(OFFSET(Cumulative,,4)>(ROW()-ROW($O$20)),_xlfn.AGGREGATE(15,6,(ROW(OrderRange_Ref)-ROW($L$19))/(OFFSET(OrderRange_Ref,,4)>0),ROWS($L$20:$L69)-OFFSET(Cumulative,,3)),IF(OFFSET(Cumulative,,5)>(ROW()-ROW($O$20)),_xlfn.AGGREGATE(15,6,(ROW(OrderRange_Ref)-ROW($L$19))/(OFFSET(OrderRange_Ref,,5)>0),ROWS($L$20:$L69)-OFFSET(Cumulative,,4)),\"\"))))))","v":""},"","","","",{"$f":"IF($N69=\"\",\"\",ROUND(SUMPRODUCT((LEFT(Transaction[Route],Branch_Digit)=RIGHT(BranchCode,Branch_Digit))*(Transaction[Type]=\"เบิก\")*(Transaction[Products]='Factory_Order Frm'!$R69)*(Transaction[Date]=$O69)*(Transaction[Qty In-Out]))/PcsPerTray,0))","v":""},{"$f":"IF($N69=\"\",\"\",MOD(SUMPRODUCT((LEFT(Transaction[Route],Branch_Digit)=RIGHT(BranchCode,Branch_Digit))*(Transaction[Type]=\"เบิก\")*(Transaction[Products]='Factory_Order Frm'!$R69)*(Transaction[Date]=$O69)*(Transaction[Qty In-Out])),PcsPerTray))","v":""}]
[null,null,null,null,null,null,null,null,null,null,null,null,null,{"$f":"IF(Cumulative>(ROW()-ROW($O$20)),_xlfn.AGGREGATE(15,6,(ROW(OrderRange_Ref)-ROW($L$19))/(OFFSET(OrderRange_Ref,,0)>0),ROWS($L$20:$L70)),IF(OFFSET(Cumulative,,1)>(ROW()-ROW($O$20)),_xlfn.AGGREGATE(15,6,(ROW(OrderRange_Ref)-ROW($L$19))/(OFFSET(OrderRange_Ref,,1)>0),ROWS($L$20:$L70)-OFFSET(Cumulative,,0)),IF(OFFSET(Cumulative,,2)>(ROW()-ROW($O$20)),_xlfn.AGGREGATE(15,6,(ROW(OrderRange_Ref)-ROW($L$19))/(OFFSET(OrderRange_Ref,,2)>0),ROWS($L$20:$L70)-OFFSET(Cumulative,,1)),IF(OFFSET(Cumulative,,3)>(ROW()-ROW($O$20)),_xlfn.AGGREGATE(15,6,(ROW(OrderRange_Ref)-ROW($L$19))/(OFFSET(OrderRange_Ref,,3)>0),ROWS($L$20:$L70)-OFFSET(Cumulative,,2)),IF(OFFSET(Cumulative,,4)>(ROW()-ROW($O$20)),_xlfn.AGGREGATE(15,6,(ROW(OrderRange_Ref)-ROW($L$19))/(OFFSET(OrderRange_Ref,,4)>0),ROWS($L$20:$L70)-OFFSET(Cumulative,,3)),IF(OFFSET(Cumulative,,5)>(ROW()-ROW($O$20)),_xlfn.AGGREGATE(15,6,(ROW(OrderRange_Ref)-ROW($L$19))/(OFFSET(OrderRange_Ref,,5)>0),ROWS($L$20:$L70)-OFFSET(Cumulative,,4)),\"\"))))))","v":""},"","","","",{"$f":"IF($N70=\"\",\"\",ROUND(SUMPRODUCT((LEFT(Transaction[Route],Branch_Digit)=RIGHT(BranchCode,Branch_Digit))*(Transaction[Type]=\"เบิก\")*(Transaction[Products]='Factory_Order Frm'!$R70)*(Transaction[Date]=$O70)*(Transaction[Qty In-Out]))/PcsPerTray,0))","v":""},{"$f":"IF($N70=\"\",\"\",MOD(SUMPRODUCT((LEFT(Transaction[Route],Branch_Digit)=RIGHT(BranchCode,Branch_Digit))*(Transaction[Type]=\"เบิก\")*(Transaction[Products]='Factory_Order Frm'!$R70)*(Transaction[Date]=$O70)*(Transaction[Qty In-Out])),PcsPerTray))","v":""}]
[null,null,null,null,null,null,null,"-----------------------------------------------------",null,null,null,null,null,{"$f":"IF(Cumulative>(ROW()-ROW($O$20)),_xlfn.AGGREGATE(15,6,(ROW(OrderRange_Ref)-ROW($L$19))/(OFFSET(OrderRange_Ref,,0)>0),ROWS($L$20:$L71)),IF(OFFSET(Cumulative,,1)>(ROW()-ROW($O$20)),_xlfn.AGGREGATE(15,6,(ROW(OrderRange_Ref)-ROW($L$19))/(OFFSET(OrderRange_Ref,,1)>0),ROWS($L$20:$L71)-OFFSET(Cumulative,,0)),IF(OFFSET(Cumulative,,2)>(ROW()-ROW($O$20)),_xlfn.AGGREGATE(15,6,(ROW(OrderRange_Ref)-ROW($L$19))/(OFFSET(OrderRange_Ref,,2)>0),ROWS($L$20:$L71)-OFFSET(Cumulative,,1)),IF(OFFSET(Cumulative,,3)>(ROW()-ROW($O$20)),_xlfn.AGGREGATE(15,6,(ROW(OrderRange_Ref)-ROW($L$19))/(OFFSET(OrderRange_Ref,,3)>0),ROWS($L$20:$L71)-OFFSET(Cumulative,,2)),IF(OFFSET(Cumulative,,4)>(ROW()-ROW($O$20)),_xlfn.AGGREGATE(15,6,(ROW(OrderRange_Ref)-ROW($L$19))/(OFFSET(OrderRange_Ref,,4)>0),ROWS($L$20:$L71)-OFFSET(Cumulative,,3)),IF(OFFSET(Cumulative,,5)>(ROW()-ROW($O$20)),_xlfn.AGGREGATE(15,6,(ROW(OrderRange_Ref)-ROW($L$19))/(OFFSET(OrderRange_Ref,,5)>0),ROWS($L$20:$L71)-OFFSET(Cumulative,,4)),\"\"))))))","v":""},"","","","",{"$f":"IF($N71=\"\",\"\",ROUND(SUMPRODUCT((LEFT(Transaction[Route],Branch_Digit)=RIGHT(BranchCode,Branch_Digit))*(Transaction[Type]=\"เบิก\")*(Transaction[Products]='Factory_Order Frm'!$R71)*(Transaction[Date]=$O71)*(Transaction[Qty In-Out]))/PcsPerTray,0))","v":""},{"$f":"IF($N71=\"\",\"\",MOD(SUMPRODUCT((LEFT(Transaction[Route],Branch_Digit)=RIGHT(BranchCode,Branch_Digit))*(Transaction[Type]=\"เบิก\")*(Transaction[Products]='Factory_Order Frm'!$R71)*(Transaction[Date]=$O71)*(Transaction[Qty In-Out])),PcsPerTray))","v":""}]
[null,null,null,null,null,null,null,{"$f":"\"( \"&INDEX(dBranches[Regional Manager],MATCH(BranchCode,dBranches[Code],0))&\" )\"","v":"(  )"},null,null,null,null,null,{"$f":"IF(Cumulative>(ROW()-ROW($O$20)),_xlfn.AGGREGATE(15,6,(ROW(OrderRange_Ref)-ROW($L$19))/(OFFSET(OrderRange_Ref,,0)>0),ROWS($L$20:$L72)),IF(OFFSET(Cumulative,,1)>(ROW()-ROW($O$20)),_xlfn.AGGREGATE(15,6,(ROW(OrderRange_Ref)-ROW($L$19))/(OFFSET(OrderRange_Ref,,1)>0),ROWS($L$20:$L72)-OFFSET(Cumulative,,0)),IF(OFFSET(Cumulative,,2)>(ROW()-ROW($O$20)),_xlfn.AGGREGATE(15,6,(ROW(OrderRange_Ref)-ROW($L$19))/(OFFSET(OrderRange_Ref,,2)>0),ROWS($L$20:$L72)-OFFSET(Cumulative,,1)),IF(OFFSET(Cumulative,,3)>(ROW()-ROW($O$20)),_xlfn.AGGREGATE(15,6,(ROW(OrderRange_Ref)-ROW($L$19))/(OFFSET(OrderRange_Ref,,3)>0),ROWS($L$20:$L72)-OFFSET(Cumulative,,2)),IF(OFFSET(Cumulative,,4)>(ROW()-ROW($O$20)),_xlfn.AGGREGATE(15,6,(ROW(OrderRange_Ref)-ROW($L$19))/(OFFSET(OrderRange_Ref,,4)>0),ROWS($L$20:$L72)-OFFSET(Cumulative,,3)),IF(OFFSET(Cumulative,,5)>(ROW()-ROW($O$20)),_xlfn.AGGREGATE(15,6,(ROW(OrderRange_Ref)-ROW($L$19))/(OFFSET(OrderRange_Ref,,5)>0),ROWS($L$20:$L72)-OFFSET(Cumulative,,4)),\"\"))))))","v":""},"","","","",{"$f":"IF($N72=\"\",\"\",ROUND(SUMPRODUCT((LEFT(Transaction[Route],Branch_Digit)=RIGHT(BranchCode,Branch_Digit))*(Transaction[Type]=\"เบิก\")*(Transaction[Products]='Factory_Order Frm'!$R72)*(Transaction[Date]=$O72)*(Transaction[Qty In-Out]))/PcsPerTray,0))","v":""},{"$f":"IF($N72=\"\",\"\",MOD(SUMPRODUCT((LEFT(Transaction[Route],Branch_Digit)=RIGHT(BranchCode,Branch_Digit))*(Transaction[Type]=\"เบิก\")*(Transaction[Products]='Factory_Order Frm'!$R72)*(Transaction[Date]=$O72)*(Transaction[Qty In-Out])),PcsPerTray))","v":""}]
[null,null,{"$f":"\"สาขา\"&B_Name","v":"สาขาโรงงานร่มเกล้า"},null,null,null,null,"ผู้จัดการภาค",null,null,null,null,null,{"$f":"IF(Cumulative>(ROW()-ROW($O$20)),_xlfn.AGGREGATE(15,6,(ROW(OrderRange_Ref)-ROW($L$19))/(OFFSET(OrderRange_Ref,,0)>0),ROWS($L$20:$L73)),IF(OFFSET(Cumulative,,1)>(ROW()-ROW($O$20)),_xlfn.AGGREGATE(15,6,(ROW(OrderRange_Ref)-ROW($L$19))/(OFFSET(OrderRange_Ref,,1)>0),ROWS($L$20:$L73)-OFFSET(Cumulative,,0)),IF(OFFSET(Cumulative,,2)>(ROW()-ROW($O$20)),_xlfn.AGGREGATE(15,6,(ROW(OrderRange_Ref)-ROW($L$19))/(OFFSET(OrderRange_Ref,,2)>0),ROWS($L$20:$L73)-OFFSET(Cumulative,,1)),IF(OFFSET(Cumulative,,3)>(ROW()-ROW($O$20)),_xlfn.AGGREGATE(15,6,(ROW(OrderRange_Ref)-ROW($L$19))/(OFFSET(OrderRange_Ref,,3)>0),ROWS($L$20:$L73)-OFFSET(Cumulative,,2)),IF(OFFSET(Cumulative,,4)>(ROW()-ROW($O$20)),_xlfn.AGGREGATE(15,6,(ROW(OrderRange_Ref)-ROW($L$19))/(OFFSET(OrderRange_Ref,,4)>0),ROWS($L$20:$L73)-OFFSET(Cumulative,,3)),IF(OFFSET(Cumulative,,5)>(ROW()-ROW($O$20)),_xlfn.AGGREGATE(15,6,(ROW(OrderRange_Ref)-ROW($L$19))/(OFFSET(OrderRange_Ref,,5)>0),ROWS($L$20:$L73)-OFFSET(Cumulative,,4)),\"\"))))))","v":""},"","","","",{"$f":"IF($N73=\"\",\"\",ROUND(SUMPRODUCT((LEFT(Transaction[Route],Branch_Digit)=RIGHT(BranchCode,Branch_Digit))*(Transaction[Type]=\"เบิก\")*(Transaction[Products]='Factory_Order Frm'!$R73)*(Transaction[Date]=$O73)*(Transaction[Qty In-Out]))/PcsPerTray,0))","v":""},{"$f":"IF($N73=\"\",\"\",MOD(SUMPRODUCT((LEFT(Transaction[Route],Branch_Digit)=RIGHT(BranchCode,Branch_Digit))*(Transaction[Type]=\"เบิก\")*(Transaction[Products]='Factory_Order Frm'!$R73)*(Transaction[Date]=$O73)*(Transaction[Qty In-Out])),PcsPerTray))","v":""}]
[null,null,{"$f":"\"โทร. \"&B_Tel","v":"โทร. 084-132-1000"},null,null,null,null,null,null,null,null,null,null,{"$f":"IF(Cumulative>(ROW()-ROW($O$20)),_xlfn.AGGREGATE(15,6,(ROW(OrderRange_Ref)-ROW($L$19))/(OFFSET(OrderRange_Ref,,0)>0),ROWS($L$20:$L74)),IF(OFFSET(Cumulative,,1)>(ROW()-ROW($O$20)),_xlfn.AGGREGATE(15,6,(ROW(OrderRange_Ref)-ROW($L$19))/(OFFSET(OrderRange_Ref,,1)>0),ROWS($L$20:$L74)-OFFSET(Cumulative,,0)),IF(OFFSET(Cumulative,,2)>(ROW()-ROW($O$20)),_xlfn.AGGREGATE(15,6,(ROW(OrderRange_Ref)-ROW($L$19))/(OFFSET(OrderRange_Ref,,2)>0),ROWS($L$20:$L74)-OFFSET(Cumulative,,1)),IF(OFFSET(Cumulative,,3)>(ROW()-ROW($O$20)),_xlfn.AGGREGATE(15,6,(ROW(OrderRange_Ref)-ROW($L$19))/(OFFSET(OrderRange_Ref,,3)>0),ROWS($L$20:$L74)-OFFSET(Cumulative,,2)),IF(OFFSET(Cumulative,,4)>(ROW()-ROW($O$20)),_xlfn.AGGREGATE(15,6,(ROW(OrderRange_Ref)-ROW($L$19))/(OFFSET(OrderRange_Ref,,4)>0),ROWS($L$20:$L74)-OFFSET(Cumulative,,3)),IF(OFFSET(Cumulative,,5)>(ROW()-ROW($O$20)),_xlfn.AGGREGATE(15,6,(ROW(OrderRange_Ref)-ROW($L$19))/(OFFSET(OrderRange_Ref,,5)>0),ROWS($L$20:$L74)-OFFSET(Cumulative,,4)),\"\"))))))","v":""},"","","","",{"$f":"IF($N74=\"\",\"\",ROUND(SUMPRODUCT((LEFT(Transaction[Route],Branch_Digit)=RIGHT(BranchCode,Branch_Digit))*(Transaction[Type]=\"เบิก\")*(Transaction[Products]='Factory_Order Frm'!$R74)*(Transaction[Date]=$O74)*(Transaction[Qty In-Out]))/PcsPerTray,0))","v":""},{"$f":"IF($N74=\"\",\"\",MOD(SUMPRODUCT((LEFT(Transaction[Route],Branch_Digit)=RIGHT(BranchCode,Branch_Digit))*(Transaction[Type]=\"เบิก\")*(Transaction[Products]='Factory_Order Frm'!$R74)*(Transaction[Date]=$O74)*(Transaction[Qty In-Out])),PcsPerTray))","v":""}]
[null,null,null,null,null,null,null,null,null,null,null,null,null,{"$f":"IF(Cumulative>(ROW()-ROW($O$20)),_xlfn.AGGREGATE(15,6,(ROW(OrderRange_Ref)-ROW($L$19))/(OFFSET(OrderRange_Ref,,0)>0),ROWS($L$20:$L75)),IF(OFFSET(Cumulative,,1)>(ROW()-ROW($O$20)),_xlfn.AGGREGATE(15,6,(ROW(OrderRange_Ref)-ROW($L$19))/(OFFSET(OrderRange_Ref,,1)>0),ROWS($L$20:$L75)-OFFSET(Cumulative,,0)),IF(OFFSET(Cumulative,,2)>(ROW()-ROW($O$20)),_xlfn.AGGREGATE(15,6,(ROW(OrderRange_Ref)-ROW($L$19))/(OFFSET(OrderRange_Ref,,2)>0),ROWS($L$20:$L75)-OFFSET(Cumulative,,1)),IF(OFFSET(Cumulative,,3)>(ROW()-ROW($O$20)),_xlfn.AGGREGATE(15,6,(ROW(OrderRange_Ref)-ROW($L$19))/(OFFSET(OrderRange_Ref,,3)>0),ROWS($L$20:$L75)-OFFSET(Cumulative,,2)),IF(OFFSET(Cumulative,,4)>(ROW()-ROW($O$20)),_xlfn.AGGREGATE(15,6,(ROW(OrderRange_Ref)-ROW($L$19))/(OFFSET(OrderRange_Ref,,4)>0),ROWS($L$20:$L75)-OFFSET(Cumulative,,3)),IF(OFFSET(Cumulative,,5)>(ROW()-ROW($O$20)),_xlfn.AGGREGATE(15,6,(ROW(OrderRange_Ref)-ROW($L$19))/(OFFSET(OrderRange_Ref,,5)>0),ROWS($L$20:$L75)-OFFSET(Cumulative,,4)),\"\"))))))","v":""},"","","","",{"$f":"IF($N75=\"\",\"\",ROUND(SUMPRODUCT((LEFT(Transaction[Route],Branch_Digit)=RIGHT(BranchCode,Branch_Digit))*(Transaction[Type]=\"เบิก\")*(Transaction[Products]='Factory_Order Frm'!$R75)*(Transaction[Date]=$O75)*(Transaction[Qty In-Out]))/PcsPerTray,0))","v":""},{"$f":"IF($N75=\"\",\"\",MOD(SUMPRODUCT((LEFT(Transaction[Route],Branch_Digit)=RIGHT(BranchCode,Branch_Digit))*(Transaction[Type]=\"เบิก\")*(Transaction[Products]='Factory_Order Frm'!$R75)*(Transaction[Date]=$O75)*(Transaction[Qty In-Out])),PcsPerTray))","v":""}]
[null,null,null,null,null,null,null,null,null,null,null,null,null,{"$f":"IF(Cumulative>(ROW()-ROW($O$20)),_xlfn.AGGREGATE(15,6,(ROW(OrderRange_Ref)-ROW($L$19))/(OFFSET(OrderRange_Ref,,0)>0),ROWS($L$20:$L76)),IF(OFFSET(Cumulative,,1)>(ROW()-ROW($O$20)),_xlfn.AGGREGATE(15,6,(ROW(OrderRange_Ref)-ROW($L$19))/(OFFSET(OrderRange_Ref,,1)>0),ROWS($L$20:$L76)-OFFSET(Cumulative,,0)),IF(OFFSET(Cumulative,,2)>(ROW()-ROW($O$20)),_xlfn.AGGREGATE(15,6,(ROW(OrderRange_Ref)-ROW($L$19))/(OFFSET(OrderRange_Ref,,2)>0),ROWS($L$20:$L76)-OFFSET(Cumulative,,1)),IF(OFFSET(Cumulative,,3)>(ROW()-ROW($O$20)),_xlfn.AGGREGATE(15,6,(ROW(OrderRange_Ref)-ROW($L$19))/(OFFSET(OrderRange_Ref,,3)>0),ROWS($L$20:$L76)-OFFSET(Cumulative,,2)),IF(OFFSET(Cumulative,,4)>(ROW()-ROW($O$20)),_xlfn.AGGREGATE(15,6,(ROW(OrderRange_Ref)-ROW($L$19))/(OFFSET(OrderRange_Ref,,4)>0),ROWS($L$20:$L76)-OFFSET(Cumulative,,3)),IF(OFFSET(Cumulative,,5)>(ROW()-ROW($O$20)),_xlfn.AGGREGATE(15,6,(ROW(OrderRange_Ref)-ROW($L$19))/(OFFSET(OrderRange_Ref,,5)>0),ROWS($L$20:$L76)-OFFSET(Cumulative,,4)),\"\"))))))","v":""},"","","","",{"$f":"IF($N76=\"\",\"\",ROUND(SUMPRODUCT((LEFT(Transaction[Route],Branch_Digit)=RIGHT(BranchCode,Branch_Digit))*(Transaction[Type]=\"เบิก\")*(Transaction[Products]='Factory_Order Frm'!$R76)*(Transaction[Date]=$O76)*(Transaction[Qty In-Out]))/PcsPerTray,0))","v":""},{"$f":"IF($N76=\"\",\"\",MOD(SUMPRODUCT((LEFT(Transaction[Route],Branch_Digit)=RIGHT(BranchCode,Branch_Digit))*(Transaction[Type]=\"เบิก\")*(Transaction[Products]='Factory_Order Frm'!$R76)*(Transaction[Date]=$O76)*(Transaction[Qty In-Out])),PcsPerTray))","v":""}]
[null,null,null,null,null,null,null,null,null,null,null,null,null,{"$f":"IF(Cumulative>(ROW()-ROW($O$20)),_xlfn.AGGREGATE(15,6,(ROW(OrderRange_Ref)-ROW($L$19))/(OFFSET(OrderRange_Ref,,0)>0),ROWS($L$20:$L77)),IF(OFFSET(Cumulative,,1)>(ROW()-ROW($O$20)),_xlfn.AGGREGATE(15,6,(ROW(OrderRange_Ref)-ROW($L$19))/(OFFSET(OrderRange_Ref,,1)>0),ROWS($L$20:$L77)-OFFSET(Cumulative,,0)),IF(OFFSET(Cumulative,,2)>(ROW()-ROW($O$20)),_xlfn.AGGREGATE(15,6,(ROW(OrderRange_Ref)-ROW($L$19))/(OFFSET(OrderRange_Ref,,2)>0),ROWS($L$20:$L77)-OFFSET(Cumulative,,1)),IF(OFFSET(Cumulative,,3)>(ROW()-ROW($O$20)),_xlfn.AGGREGATE(15,6,(ROW(OrderRange_Ref)-ROW($L$19))/(OFFSET(OrderRange_Ref,,3)>0),ROWS($L$20:$L77)-OFFSET(Cumulative,,2)),IF(OFFSET(Cumulative,,4)>(ROW()-ROW($O$20)),_xlfn.AGGREGATE(15,6,(ROW(OrderRange_Ref)-ROW($L$19))/(OFFSET(OrderRange_Ref,,4)>0),ROWS($L$20:$L77)-OFFSET(Cumulative,,3)),IF(OFFSET(Cumulative,,5)>(ROW()-ROW($O$20)),_xlfn.AGGREGATE(15,6,(ROW(OrderRange_Ref)-ROW($L$19))/(OFFSET(OrderRange_Ref,,5)>0),ROWS($L$20:$L77)-OFFSET(Cumulative,,4)),\"\"))))))","v":""},"","","","",{"$f":"IF($N77=\"\",\"\",ROUND(SUMPRODUCT((LEFT(Transaction[Route],Branch_Digit)=RIGHT(BranchCode,Branch_Digit))*(Transaction[Type]=\"เบิก\")*(Transaction[Products]='Factory_Order Frm'!$R77)*(Transaction[Date]=$O77)*(Transaction[Qty In-Out]))/PcsPerTray,0))","v":""},{"$f":"IF($N77=\"\",\"\",MOD(SUMPRODUCT((LEFT(Transaction[Route],Branch_Digit)=RIGHT(BranchCode,Branch_Digit))*(Transaction[Type]=\"เบิก\")*(Transaction[Products]='Factory_Order Frm'!$R77)*(Transaction[Date]=$O77)*(Transaction[Qty In-Out])),PcsPerTray))","v":""}]
[null,null,null,null,null,null,null,null,null,null,null,null,null,{"$f":"IF(Cumulative>(ROW()-ROW($O$20)),_xlfn.AGGREGATE(15,6,(ROW(OrderRange_Ref)-ROW($L$19))/(OFFSET(OrderRange_Ref,,0)>0),ROWS($L$20:$L78)),IF(OFFSET(Cumulative,,1)>(ROW()-ROW($O$20)),_xlfn.AGGREGATE(15,6,(ROW(OrderRange_Ref)-ROW($L$19))/(OFFSET(OrderRange_Ref,,1)>0),ROWS($L$20:$L78)-OFFSET(Cumulative,,0)),IF(OFFSET(Cumulative,,2)>(ROW()-ROW($O$20)),_xlfn.AGGREGATE(15,6,(ROW(OrderRange_Ref)-ROW($L$19))/(OFFSET(OrderRange_Ref,,2)>0),ROWS($L$20:$L78)-OFFSET(Cumulative,,1)),IF(OFFSET(Cumulative,,3)>(ROW()-ROW($O$20)),_xlfn.AGGREGATE(15,6,(ROW(OrderRange_Ref)-ROW($L$19))/(OFFSET(OrderRange_Ref,,3)>0),ROWS($L$20:$L78)-OFFSET(Cumulative,,2)),IF(OFFSET(Cumulative,,4)>(ROW()-ROW($O$20)),_xlfn.AGGREGATE(15,6,(ROW(OrderRange_Ref)-ROW($L$19))/(OFFSET(OrderRange_Ref,,4)>0),ROWS($L$20:$L78)-OFFSET(Cumulative,,3)),IF(OFFSET(Cumulative,,5)>(ROW()-ROW($O$20)),_xlfn.AGGREGATE(15,6,(ROW(OrderRange_Ref)-ROW($L$19))/(OFFSET(OrderRange_Ref,,5)>0),ROWS($L$20:$L78)-OFFSET(Cumulative,,4)),\"\"))))))","v":""},"","","","",{"$f":"IF($N78=\"\",\"\",ROUND(SUMPRODUCT((LEFT(Transaction[Route],Branch_Digit)=RIGHT(BranchCode,Branch_Digit))*(Transaction[Type]=\"เบิก\")*(Transaction[Products]='Factory_Order Frm'!$R78)*(Transaction[Date]=$O78)*(Transaction[Qty In-Out]))/PcsPerTray,0))","v":""},{"$f":"IF($N78=\"\",\"\",MOD(SUMPRODUCT((LEFT(Transaction[Route],Branch_Digit)=RIGHT(BranchCode,Branch_Digit))*(Transaction[Type]=\"เบิก\")*(Transaction[Products]='Factory_Order Frm'!$R78)*(Transaction[Date]=$O78)*(Transaction[Qty In-Out])),PcsPerTray))","v":""}]
[null,null,null,null,null,null,null,null,null,null,null,null,null,{"$f":"IF(Cumulative>(ROW()-ROW($O$20)),_xlfn.AGGREGATE(15,6,(ROW(OrderRange_Ref)-ROW($L$19))/(OFFSET(OrderRange_Ref,,0)>0),ROWS($L$20:$L79)),IF(OFFSET(Cumulative,,1)>(ROW()-ROW($O$20)),_xlfn.AGGREGATE(15,6,(ROW(OrderRange_Ref)-ROW($L$19))/(OFFSET(OrderRange_Ref,,1)>0),ROWS($L$20:$L79)-OFFSET(Cumulative,,0)),IF(OFFSET(Cumulative,,2)>(ROW()-ROW($O$20)),_xlfn.AGGREGATE(15,6,(ROW(OrderRange_Ref)-ROW($L$19))/(OFFSET(OrderRange_Ref,,2)>0),ROWS($L$20:$L79)-OFFSET(Cumulative,,1)),IF(OFFSET(Cumulative,,3)>(ROW()-ROW($O$20)),_xlfn.AGGREGATE(15,6,(ROW(OrderRange_Ref)-ROW($L$19))/(OFFSET(OrderRange_Ref,,3)>0),ROWS($L$20:$L79)-OFFSET(Cumulative,,2)),IF(OFFSET(Cumulative,,4)>(ROW()-ROW($O$20)),_xlfn.AGGREGATE(15,6,(ROW(OrderRange_Ref)-ROW($L$19))/(OFFSET(OrderRange_Ref,,4)>0),ROWS($L$20:$L79)-OFFSET(Cumulative,,3)),IF(OFFSET(Cumulative,,5)>(ROW()-ROW($O$20)),_xlfn.AGGREGATE(15,6,(ROW(OrderRange_Ref)-ROW($L$19))/(OFFSET(OrderRange_Ref,,5)>0),ROWS($L$20:$L79)-OFFSET(Cumulative,,4)),\"\"))))))","v":""},"","","","",{"$f":"IF($N79=\"\",\"\",ROUND(SUMPRODUCT((LEFT(Transaction[Route],Branch_Digit)=RIGHT(BranchCode,Branch_Digit))*(Transaction[Type]=\"เบิก\")*(Transaction[Products]='Factory_Order Frm'!$R79)*(Transaction[Date]=$O79)*(Transaction[Qty In-Out]))/PcsPerTray,0))","v":""},{"$f":"IF($N79=\"\",\"\",MOD(SUMPRODUCT((LEFT(Transaction[Route],Branch_Digit)=RIGHT(BranchCode,Branch_Digit))*(Transaction[Type]=\"เบิก\")*(Transaction[Products]='Factory_Order Frm'!$R79)*(Transaction[Date]=$O79)*(Transaction[Qty In-Out])),PcsPerTray))","v":""}]
[null,null,null,null,null,null,null,null,null,null,null,null,null,{"$f":"IF(Cumulative>(ROW()-ROW($O$20)),_xlfn.AGGREGATE(15,6,(ROW(OrderRange_Ref)-ROW($L$19))/(OFFSET(OrderRange_Ref,,0)>0),ROWS($L$20:$L80)),IF(OFFSET(Cumulative,,1)>(ROW()-ROW($O$20)),_xlfn.AGGREGATE(15,6,(ROW(OrderRange_Ref)-ROW($L$19))/(OFFSET(OrderRange_Ref,,1)>0),ROWS($L$20:$L80)-OFFSET(Cumulative,,0)),IF(OFFSET(Cumulative,,2)>(ROW()-ROW($O$20)),_xlfn.AGGREGATE(15,6,(ROW(OrderRange_Ref)-ROW($L$19))/(OFFSET(OrderRange_Ref,,2)>0),ROWS($L$20:$L80)-OFFSET(Cumulative,,1)),IF(OFFSET(Cumulative,,3)>(ROW()-ROW($O$20)),_xlfn.AGGREGATE(15,6,(ROW(OrderRange_Ref)-ROW($L$19))/(OFFSET(OrderRange_Ref,,3)>0),ROWS($L$20:$L80)-OFFSET(Cumulative,,2)),IF(OFFSET(Cumulative,,4)>(ROW()-ROW($O$20)),_xlfn.AGGREGATE(15,6,(ROW(OrderRange_Ref)-ROW($L$19))/(OFFSET(OrderRange_Ref,,4)>0),ROWS($L$20:$L80)-OFFSET(Cumulative,,3)),IF(OFFSET(Cumulative,,5)>(ROW()-ROW($O$20)),_xlfn.AGGREGATE(15,6,(ROW(OrderRange_Ref)-ROW($L$19))/(OFFSET(OrderRange_Ref,,5)>0),ROWS($L$20:$L80)-OFFSET(Cumulative,,4)),\"\"))))))","v":""},"","","","",{"$f":"IF($N80=\"\",\"\",ROUND(SUMPRODUCT((LEFT(Transaction[Route],Branch_Digit)=RIGHT(BranchCode,Branch_Digit))*(Transaction[Type]=\"เบิก\")*(Transaction[Products]='Factory_Order Frm'!$R80)*(Transaction[Date]=$O80)*(Transaction[Qty In-Out]))/PcsPerTray,0))","v":""},{"$f":"IF($N80=\"\",\"\",MOD(SUMPRODUCT((LEFT(Transaction[Route],Branch_Digit)=RIGHT(BranchCode,Branch_Digit))*(Transaction[Type]=\"เบิก\")*(Transaction[Products]='Factory_Order Frm'!$R80)*(Transaction[Date]=$O80)*(Transaction[Qty In-Out])),PcsPerTray))","v":""}]
[null,null,null,null,null,null,null,null,null,null,null,null,null,{"$f":"IF(Cumulative>(ROW()-ROW($O$20)),_xlfn.AGGREGATE(15,6,(ROW(OrderRange_Ref)-ROW($L$19))/(OFFSET(OrderRange_Ref,,0)>0),ROWS($L$20:$L81)),IF(OFFSET(Cumulative,,1)>(ROW()-ROW($O$20)),_xlfn.AGGREGATE(15,6,(ROW(OrderRange_Ref)-ROW($L$19))/(OFFSET(OrderRange_Ref,,1)>0),ROWS($L$20:$L81)-OFFSET(Cumulative,,0)),IF(OFFSET(Cumulative,,2)>(ROW()-ROW($O$20)),_xlfn.AGGREGATE(15,6,(ROW(OrderRange_Ref)-ROW($L$19))/(OFFSET(OrderRange_Ref,,2)>0),ROWS($L$20:$L81)-OFFSET(Cumulative,,1)),IF(OFFSET(Cumulative,,3)>(ROW()-ROW($O$20)),_xlfn.AGGREGATE(15,6,(ROW(OrderRange_Ref)-ROW($L$19))/(OFFSET(OrderRange_Ref,,3)>0),ROWS($L$20:$L81)-OFFSET(Cumulative,,2)),IF(OFFSET(Cumulative,,4)>(ROW()-ROW($O$20)),_xlfn.AGGREGATE(15,6,(ROW(OrderRange_Ref)-ROW($L$19))/(OFFSET(OrderRange_Ref,,4)>0),ROWS($L$20:$L81)-OFFSET(Cumulative,,3)),IF(OFFSET(Cumulative,,5)>(ROW()-ROW($O$20)),_xlfn.AGGREGATE(15,6,(ROW(OrderRange_Ref)-ROW($L$19))/(OFFSET(OrderRange_Ref,,5)>0),ROWS($L$20:$L81)-OFFSET(Cumulative,,4)),\"\"))))))","v":""},"","","","",{"$f":"IF($N81=\"\",\"\",ROUND(SUMPRODUCT((LEFT(Transaction[Route],Branch_Digit)=RIGHT(BranchCode,Branch_Digit))*(Transaction[Type]=\"เบิก\")*(Transaction[Products]='Factory_Order Frm'!$R81)*(Transaction[Date]=$O81)*(Transaction[Qty In-Out]))/PcsPerTray,0))","v":""},{"$f":"IF($N81=\"\",\"\",MOD(SUMPRODUCT((LEFT(Transaction[Route],Branch_Digit)=RIGHT(BranchCode,Branch_Digit))*(Transaction[Type]=\"เบิก\")*(Transaction[Products]='Factory_Order Frm'!$R81)*(Transaction[Date]=$O81)*(Transaction[Qty In-Out])),PcsPerTray))","v":""}]
[null,null,null,null,null,null,null,null,null,null,null,null,null,{"$f":"IF(Cumulative>(ROW()-ROW($O$20)),_xlfn.AGGREGATE(15,6,(ROW(OrderRange_Ref)-ROW($L$19))/(OFFSET(OrderRange_Ref,,0)>0),ROWS($L$20:$L82)),IF(OFFSET(Cumulative,,1)>(ROW()-ROW($O$20)),_xlfn.AGGREGATE(15,6,(ROW(OrderRange_Ref)-ROW($L$19))/(OFFSET(OrderRange_Ref,,1)>0),ROWS($L$20:$L82)-OFFSET(Cumulative,,0)),IF(OFFSET(Cumulative,,2)>(ROW()-ROW($O$20)),_xlfn.AGGREGATE(15,6,(ROW(OrderRange_Ref)-ROW($L$19))/(OFFSET(OrderRange_Ref,,2)>0),ROWS($L$20:$L82)-OFFSET(Cumulative,,1)),IF(OFFSET(Cumulative,,3)>(ROW()-ROW($O$20)),_xlfn.AGGREGATE(15,6,(ROW(OrderRange_Ref)-ROW($L$19))/(OFFSET(OrderRange_Ref,,3)>0),ROWS($L$20:$L82)-OFFSET(Cumulative,,2)),IF(OFFSET(Cumulative,,4)>(ROW()-ROW($O$20)),_xlfn.AGGREGATE(15,6,(ROW(OrderRange_Ref)-ROW($L$19))/(OFFSET(OrderRange_Ref,,4)>0),ROWS($L$20:$L82)-OFFSET(Cumulative,,3)),IF(OFFSET(Cumulative,,5)>(ROW()-ROW($O$20)),_xlfn.AGGREGATE(15,6,(ROW(OrderRange_Ref)-ROW($L$19))/(OFFSET(OrderRange_Ref,,5)>0),ROWS($L$20:$L82)-OFFSET(Cumulative,,4)),\"\"))))))","v":""},"","","","",{"$f":"IF($N82=\"\",\"\",ROUND(SUMPRODUCT((LEFT(Transaction[Route],Branch_Digit)=RIGHT(BranchCode,Branch_Digit))*(Transaction[Type]=\"เบิก\")*(Transaction[Products]='Factory_Order Frm'!$R82)*(Transaction[Date]=$O82)*(Transaction[Qty In-Out]))/PcsPerTray,0))","v":""},{"$f":"IF($N82=\"\",\"\",MOD(SUMPRODUCT((LEFT(Transaction[Route],Branch_Digit)=RIGHT(BranchCode,Branch_Digit))*(Transaction[Type]=\"เบิก\")*(Transaction[Products]='Factory_Order Frm'!$R82)*(Transaction[Date]=$O82)*(Transaction[Qty In-Out])),PcsPerTray))","v":""}]
[null,null,null,null,null,null,null,null,null,null,null,null,null,{"$f":"IF(Cumulative>(ROW()-ROW($O$20)),_xlfn.AGGREGATE(15,6,(ROW(OrderRange_Ref)-ROW($L$19))/(OFFSET(OrderRange_Ref,,0)>0),ROWS($L$20:$L83)),IF(OFFSET(Cumulative,,1)>(ROW()-ROW($O$20)),_xlfn.AGGREGATE(15,6,(ROW(OrderRange_Ref)-ROW($L$19))/(OFFSET(OrderRange_Ref,,1)>0),ROWS($L$20:$L83)-OFFSET(Cumulative,,0)),IF(OFFSET(Cumulative,,2)>(ROW()-ROW($O$20)),_xlfn.AGGREGATE(15,6,(ROW(OrderRange_Ref)-ROW($L$19))/(OFFSET(OrderRange_Ref,,2)>0),ROWS($L$20:$L83)-OFFSET(Cumulative,,1)),IF(OFFSET(Cumulative,,3)>(ROW()-ROW($O$20)),_xlfn.AGGREGATE(15,6,(ROW(OrderRange_Ref)-ROW($L$19))/(OFFSET(OrderRange_Ref,,3)>0),ROWS($L$20:$L83)-OFFSET(Cumulative,,2)),IF(OFFSET(Cumulative,,4)>(ROW()-ROW($O$20)),_xlfn.AGGREGATE(15,6,(ROW(OrderRange_Ref)-ROW($L$19))/(OFFSET(OrderRange_Ref,,4)>0),ROWS($L$20:$L83)-OFFSET(Cumulative,,3)),IF(OFFSET(Cumulative,,5)>(ROW()-ROW($O$20)),_xlfn.AGGREGATE(15,6,(ROW(OrderRange_Ref)-ROW($L$19))/(OFFSET(OrderRange_Ref,,5)>0),ROWS($L$20:$L83)-OFFSET(Cumulative,,4)),\"\"))))))","v":""},"","","","",{"$f":"IF($N83=\"\",\"\",ROUND(SUMPRODUCT((LEFT(Transaction[Route],Branch_Digit)=RIGHT(BranchCode,Branch_Digit))*(Transaction[Type]=\"เบิก\")*(Transaction[Products]='Factory_Order Frm'!$R83)*(Transaction[Date]=$O83)*(Transaction[Qty In-Out]))/PcsPerTray,0))","v":""},{"$f":"IF($N83=\"\",\"\",MOD(SUMPRODUCT((LEFT(Transaction[Route],Branch_Digit)=RIGHT(BranchCode,Branch_Digit))*(Transaction[Type]=\"เบิก\")*(Transaction[Products]='Factory_Order Frm'!$R83)*(Transaction[Date]=$O83)*(Transaction[Qty In-Out])),PcsPerTray))","v":""}]
[null,null,null,null,null,null,null,null,null,null,null,null,null,{"$f":"IF(Cumulative>(ROW()-ROW($O$20)),_xlfn.AGGREGATE(15,6,(ROW(OrderRange_Ref)-ROW($L$19))/(OFFSET(OrderRange_Ref,,0)>0),ROWS($L$20:$L84)),IF(OFFSET(Cumulative,,1)>(ROW()-ROW($O$20)),_xlfn.AGGREGATE(15,6,(ROW(OrderRange_Ref)-ROW($L$19))/(OFFSET(OrderRange_Ref,,1)>0),ROWS($L$20:$L84)-OFFSET(Cumulative,,0)),IF(OFFSET(Cumulative,,2)>(ROW()-ROW($O$20)),_xlfn.AGGREGATE(15,6,(ROW(OrderRange_Ref)-ROW($L$19))/(OFFSET(OrderRange_Ref,,2)>0),ROWS($L$20:$L84)-OFFSET(Cumulative,,1)),IF(OFFSET(Cumulative,,3)>(ROW()-ROW($O$20)),_xlfn.AGGREGATE(15,6,(ROW(OrderRange_Ref)-ROW($L$19))/(OFFSET(OrderRange_Ref,,3)>0),ROWS($L$20:$L84)-OFFSET(Cumulative,,2)),IF(OFFSET(Cumulative,,4)>(ROW()-ROW($O$20)),_xlfn.AGGREGATE(15,6,(ROW(OrderRange_Ref)-ROW($L$19))/(OFFSET(OrderRange_Ref,,4)>0),ROWS($L$20:$L84)-OFFSET(Cumulative,,3)),IF(OFFSET(Cumulative,,5)>(ROW()-ROW($O$20)),_xlfn.AGGREGATE(15,6,(ROW(OrderRange_Ref)-ROW($L$19))/(OFFSET(OrderRange_Ref,,5)>0),ROWS($L$20:$L84)-OFFSET(Cumulative,,4)),\"\"))))))","v":""},{"$f":"IF(Cumulative>(ROW()-ROW($O$20)),OrderDate,IF(OFFSET(Cumulative,,1)>(ROW()-ROW($O$20)),OrderDate+1,IF(OFFSET(Cumulative,,2)>(ROW()-ROW($O$20)),OrderDate+2,IF(OFFSET(Cumulative,,3)>(ROW()-ROW($O$20)),OrderDate+3,IF(OFFSET(Cumulative,,4)>(ROW()-ROW($O$20)),OrderDate+4,IF(OFFSET(Cumulative,,5)>(ROW()-ROW($O$20)),OrderDate+5,\"\"))))))","v":""},"","","",{"$f":"IF($N84=\"\",\"\",ROUND(SUMPRODUCT((LEFT(Transaction[Route],Branch_Digit)=RIGHT(BranchCode,Branch_Digit))*(Transaction[Type]=\"เบิก\")*(Transaction[Products]='Factory_Order Frm'!$R84)*(Transaction[Date]=$O84)*(Transaction[Qty In-Out]))/PcsPerTray,0))","v":""},{"$f":"IF($N84=\"\",\"\",MOD(SUMPRODUCT((LEFT(Transaction[Route],Branch_Digit)=RIGHT(BranchCode,Branch_Digit))*(Transaction[Type]=\"เบิก\")*(Transaction[Products]='Factory_Order Frm'!$R84)*(Transaction[Date]=$O84)*(Transaction[Qty In-Out])),PcsPerTray))","v":""}]
[null,null,null,null,null,null,null,null,null,null,null,null,null,{"$f":"IF(Cumulative>(ROW()-ROW($O$20)),_xlfn.AGGREGATE(15,6,(ROW(OrderRange_Ref)-ROW($L$19))/(OFFSET(OrderRange_Ref,,0)>0),ROWS($L$20:$L85)),IF(OFFSET(Cumulative,,1)>(ROW()-ROW($O$20)),_xlfn.AGGREGATE(15,6,(ROW(OrderRange_Ref)-ROW($L$19))/(OFFSET(OrderRange_Ref,,1)>0),ROWS($L$20:$L85)-OFFSET(Cumulative,,0)),IF(OFFSET(Cumulative,,2)>(ROW()-ROW($O$20)),_xlfn.AGGREGATE(15,6,(ROW(OrderRange_Ref)-ROW($L$19))/(OFFSET(OrderRange_Ref,,2)>0),ROWS($L$20:$L85)-OFFSET(Cumulative,,1)),IF(OFFSET(Cumulative,,3)>(ROW()-ROW($O$20)),_xlfn.AGGREGATE(15,6,(ROW(OrderRange_Ref)-ROW($L$19))/(OFFSET(OrderRange_Ref,,3)>0),ROWS($L$20:$L85)-OFFSET(Cumulative,,2)),IF(OFFSET(Cumulative,,4)>(ROW()-ROW($O$20)),_xlfn.AGGREGATE(15,6,(ROW(OrderRange_Ref)-ROW($L$19))/(OFFSET(OrderRange_Ref,,4)>0),ROWS($L$20:$L85)-OFFSET(Cumulative,,3)),IF(OFFSET(Cumulative,,5)>(ROW()-ROW($O$20)),_xlfn.AGGREGATE(15,6,(ROW(OrderRange_Ref)-ROW($L$19))/(OFFSET(OrderRange_Ref,,5)>0),ROWS($L$20:$L85)-OFFSET(Cumulative,,4)),\"\"))))))","v":""},"",{"$f":"IF($O85<>\"\",BranchCode,\"\")","v":""},{"$f":"IF($O85<>\"\",\"จ่าย\",\"\")","v":""},{"$f":"IFERROR(INDEX($C$20:$C$54,$N85),\"\")","v":""},{"$f":"IF($N85=\"\",\"\",ROUND(SUMPRODUCT((LEFT(Transaction[Route],Branch_Digit)=RIGHT(BranchCode,Branch_Digit))*(Transaction[Type]=\"เบิก\")*(Transaction[Products]='Factory_Order Frm'!$R85)*(Transaction[Date]=$O85)*(Transaction[Qty In-Out]))/PcsPerTray,0))","v":""},{"$f":"IF($N85=\"\",\"\",MOD(SUMPRODUCT((LEFT(Transaction[Route],Branch_Digit)=RIGHT(BranchCode,Branch_Digit))*(Transaction[Type]=\"เบิก\")*(Transaction[Products]='Factory_Order Frm'!$R85)*(Transaction[Date]=$O85)*(Transaction[Qty In-Out])),PcsPerTray))","v":""}]
[null,null,null,null,null,null,null,null,null,null,null,null,null,{"$f":"IF(Cumulative>(ROW()-ROW($O$20)),_xlfn.AGGREGATE(15,6,(ROW(OrderRange_Ref)-ROW($L$19))/(OFFSET(OrderRange_Ref,,0)>0),ROWS($L$20:$L86)),IF(OFFSET(Cumulative,,1)>(ROW()-ROW($O$20)),_xlfn.AGGREGATE(15,6,(ROW(OrderRange_Ref)-ROW($L$19))/(OFFSET(OrderRange_Ref,,1)>0),ROWS($L$20:$L86)-OFFSET(Cumulative,,0)),IF(OFFSET(Cumulative,,2)>(ROW()-ROW($O$20)),_xlfn.AGGREGATE(15,6,(ROW(OrderRange_Ref)-ROW($L$19))/(OFFSET(OrderRange_Ref,,2)>0),ROWS($L$20:$L86)-OFFSET(Cumulative,,1)),IF(OFFSET(Cumulative,,3)>(ROW()-ROW($O$20)),_xlfn.AGGREGATE(15,6,(ROW(OrderRange_Ref)-ROW($L$19))/(OFFSET(OrderRange_Ref,,3)>0),ROWS($L$20:$L86)-OFFSET(Cumulative,,2)),IF(OFFSET(Cumulative,,4)>(ROW()-ROW($O$20)),_xlfn.AGGREGATE(15,6,(ROW(OrderRange_Ref)-ROW($L$19))/(OFFSET(OrderRange_Ref,,4)>0),ROWS($L$20:$L86)-OFFSET(Cumulative,,3)),IF(OFFSET(Cumulative,,5)>(ROW()-ROW($O$20)),_xlfn.AGGREGATE(15,6,(ROW(OrderRange_Ref)-ROW($L$19))/(OFFSET(OrderRange_Ref,,5)>0),ROWS($L$20:$L86)-OFFSET(Cumulative,,4)),\"\"))))))","v":""},"","","","",{"$f":"IF($N86=\"\",\"\",ROUND(SUMPRODUCT((LEFT(Transaction[Route],Branch_Digit)=RIGHT(BranchCode,Branch_Digit))*(Transaction[Type]=\"เบิก\")*(Transaction[Products]='Factory_Order Frm'!$R86)*(Transaction[Date]=$O86)*(Transaction[Qty In-Out]))/PcsPerTray,0))","v":""},{"$f":"IF($N86=\"\",\"\",MOD(SUMPRODUCT((LEFT(Transaction[Route],Branch_Digit)=RIGHT(BranchCode,Branch_Digit))*(Transaction[Type]=\"เบิก\")*(Transaction[Products]='Factory_Order Frm'!$R86)*(Transaction[Date]=$O86)*(Transaction[Qty In-Out])),PcsPerTray))","v":""}]
[null,null,null,null,null,null,null,null,null,null,null,null,null,{"$f":"IF(Cumulative>(ROW()-ROW($O$20)),_xlfn.AGGREGATE(15,6,(ROW(OrderRange_Ref)-ROW($L$19))/(OFFSET(OrderRange_Ref,,0)>0),ROWS($L$20:$L87)),IF(OFFSET(Cumulative,,1)>(ROW()-ROW($O$20)),_xlfn.AGGREGATE(15,6,(ROW(OrderRange_Ref)-ROW($L$19))/(OFFSET(OrderRange_Ref,,1)>0),ROWS($L$20:$L87)-OFFSET(Cumulative,,0)),IF(OFFSET(Cumulative,,2)>(ROW()-ROW($O$20)),_xlfn.AGGREGATE(15,6,(ROW(OrderRange_Ref)-ROW($L$19))/(OFFSET(OrderRange_Ref,,2)>0),ROWS($L$20:$L87)-OFFSET(Cumulative,,1)),IF(OFFSET(Cumulative,,3)>(ROW()-ROW($O$20)),_xlfn.AGGREGATE(15,6,(ROW(OrderRange_Ref)-ROW($L$19))/(OFFSET(OrderRange_Ref,,3)>0),ROWS($L$20:$L87)-OFFSET(Cumulative,,2)),IF(OFFSET(Cumulative,,4)>(ROW()-ROW($O$20)),_xlfn.AGGREGATE(15,6,(ROW(OrderRange_Ref)-ROW($L$19))/(OFFSET(OrderRange_Ref,,4)>0),ROWS($L$20:$L87)-OFFSET(Cumulative,,3)),IF(OFFSET(Cumulative,,5)>(ROW()-ROW($O$20)),_xlfn.AGGREGATE(15,6,(ROW(OrderRange_Ref)-ROW($L$19))/(OFFSET(OrderRange_Ref,,5)>0),ROWS($L$20:$L87)-OFFSET(Cumulative,,4)),\"\"))))))","v":""},"","","","",{"$f":"IF($N87=\"\",\"\",ROUND(SUMPRODUCT((LEFT(Transaction[Route],Branch_Digit)=RIGHT(BranchCode,Branch_Digit))*(Transaction[Type]=\"เบิก\")*(Transaction[Products]='Factory_Order Frm'!$R87)*(Transaction[Date]=$O87)*(Transaction[Qty In-Out]))/PcsPerTray,0))","v":""},{"$f":"IF($N87=\"\",\"\",MOD(SUMPRODUCT((LEFT(Transaction[Route],Branch_Digit)=RIGHT(BranchCode,Branch_Digit))*(Transaction[Type]=\"เบิก\")*(Transaction[Products]='Factory_Order Frm'!$R87)*(Transaction[Date]=$O87)*(Transaction[Qty In-Out])),PcsPerTray))","v":""}]
[null,null,null,null,null,null,null,null,null,null,null,null,null,{"$f":"IF(Cumulative>(ROW()-ROW($O$20)),_xlfn.AGGREGATE(15,6,(ROW(OrderRange_Ref)-ROW($L$19))/(OFFSET(OrderRange_Ref,,0)>0),ROWS($L$20:$L88)),IF(OFFSET(Cumulative,,1)>(ROW()-ROW($O$20)),_xlfn.AGGREGATE(15,6,(ROW(OrderRange_Ref)-ROW($L$19))/(OFFSET(OrderRange_Ref,,1)>0),ROWS($L$20:$L88)-OFFSET(Cumulative,,0)),IF(OFFSET(Cumulative,,2)>(ROW()-ROW($O$20)),_xlfn.AGGREGATE(15,6,(ROW(OrderRange_Ref)-ROW($L$19))/(OFFSET(OrderRange_Ref,,2)>0),ROWS($L$20:$L88)-OFFSET(Cumulative,,1)),IF(OFFSET(Cumulative,,3)>(ROW()-ROW($O$20)),_xlfn.AGGREGATE(15,6,(ROW(OrderRange_Ref)-ROW($L$19))/(OFFSET(OrderRange_Ref,,3)>0),ROWS($L$20:$L88)-OFFSET(Cumulative,,2)),IF(OFFSET(Cumulative,,4)>(ROW()-ROW($O$20)),_xlfn.AGGREGATE(15,6,(ROW(OrderRange_Ref)-ROW($L$19))/(OFFSET(OrderRange_Ref,,4)>0),ROWS($L$20:$L88)-OFFSET(Cumulative,,3)),IF(OFFSET(Cumulative,,5)>(ROW()-ROW($O$20)),_xlfn.AGGREGATE(15,6,(ROW(OrderRange_Ref)-ROW($L$19))/(OFFSET(OrderRange_Ref,,5)>0),ROWS($L$20:$L88)-OFFSET(Cumulative,,4)),\"\"))))))","v":""},"","","","",{"$f":"IF($N88=\"\",\"\",ROUND(SUMPRODUCT((LEFT(Transaction[Route],Branch_Digit)=RIGHT(BranchCode,Branch_Digit))*(Transaction[Type]=\"เบิก\")*(Transaction[Products]='Factory_Order Frm'!$R88)*(Transaction[Date]=$O88)*(Transaction[Qty In-Out]))/PcsPerTray,0))","v":""},{"$f":"IF($N88=\"\",\"\",MOD(SUMPRODUCT((LEFT(Transaction[Route],Branch_Digit)=RIGHT(BranchCode,Branch_Digit))*(Transaction[Type]=\"เบิก\")*(Transaction[Products]='Factory_Order Frm'!$R88)*(Transaction[Date]=$O88)*(Transaction[Qty In-Out])),PcsPerTray))","v":""}]
[null,null,null,null,null,null,null,null,null,null,null,null,null,{"$f":"IF(Cumulative>(ROW()-ROW($O$20)),_xlfn.AGGREGATE(15,6,(ROW(OrderRange_Ref)-ROW($L$19))/(OFFSET(OrderRange_Ref,,0)>0),ROWS($L$20:$L89)),IF(OFFSET(Cumulative,,1)>(ROW()-ROW($O$20)),_xlfn.AGGREGATE(15,6,(ROW(OrderRange_Ref)-ROW($L$19))/(OFFSET(OrderRange_Ref,,1)>0),ROWS($L$20:$L89)-OFFSET(Cumulative,,0)),IF(OFFSET(Cumulative,,2)>(ROW()-ROW($O$20)),_xlfn.AGGREGATE(15,6,(ROW(OrderRange_Ref)-ROW($L$19))/(OFFSET(OrderRange_Ref,,2)>0),ROWS($L$20:$L89)-OFFSET(Cumulative,,1)),IF(OFFSET(Cumulative,,3)>(ROW()-ROW($O$20)),_xlfn.AGGREGATE(15,6,(ROW(OrderRange_Ref)-ROW($L$19))/(OFFSET(OrderRange_Ref,,3)>0),ROWS($L$20:$L89)-OFFSET(Cumulative,,2)),IF(OFFSET(Cumulative,,4)>(ROW()-ROW($O$20)),_xlfn.AGGREGATE(15,6,(ROW(OrderRange_Ref)-ROW($L$19))/(OFFSET(OrderRange_Ref,,4)>0),ROWS($L$20:$L89)-OFFSET(Cumulative,,3)),IF(OFFSET(Cumulative,,5)>(ROW()-ROW($O$20)),_xlfn.AGGREGATE(15,6,(ROW(OrderRange_Ref)-ROW($L$19))/(OFFSET(OrderRange_Ref,,5)>0),ROWS($L$20:$L89)-OFFSET(Cumulative,,4)),\"\"))))))","v":""},"","","","",{"$f":"IF($N89=\"\",\"\",ROUND(SUMPRODUCT((LEFT(Transaction[Route],Branch_Digit)=RIGHT(BranchCode,Branch_Digit))*(Transaction[Type]=\"เบิก\")*(Transaction[Products]='Factory_Order Frm'!$R89)*(Transaction[Date]=$O89)*(Transaction[Qty In-Out]))/PcsPerTray,0))","v":""},{"$f":"IF($N89=\"\",\"\",MOD(SUMPRODUCT((LEFT(Transaction[Route],Branch_Digit)=RIGHT(BranchCode,Branch_Digit))*(Transaction[Type]=\"เบิก\")*(Transaction[Products]='Factory_Order Frm'!$R89)*(Transaction[Date]=$O89)*(Transaction[Qty In-Out])),PcsPerTray))","v":""}]
[null,null,null,null,null,null,null,null,null,null,null,null,null,{"$f":"IF(Cumulative>(ROW()-ROW($O$20)),_xlfn.AGGREGATE(15,6,(ROW(OrderRange_Ref)-ROW($L$19))/(OFFSET(OrderRange_Ref,,0)>0),ROWS($L$20:$L90)),IF(OFFSET(Cumulative,,1)>(ROW()-ROW($O$20)),_xlfn.AGGREGATE(15,6,(ROW(OrderRange_Ref)-ROW($L$19))/(OFFSET(OrderRange_Ref,,1)>0),ROWS($L$20:$L90)-OFFSET(Cumulative,,0)),IF(OFFSET(Cumulative,,2)>(ROW()-ROW($O$20)),_xlfn.AGGREGATE(15,6,(ROW(OrderRange_Ref)-ROW($L$19))/(OFFSET(OrderRange_Ref,,2)>0),ROWS($L$20:$L90)-OFFSET(Cumulative,,1)),IF(OFFSET(Cumulative,,3)>(ROW()-ROW($O$20)),_xlfn.AGGREGATE(15,6,(ROW(OrderRange_Ref)-ROW($L$19))/(OFFSET(OrderRange_Ref,,3)>0),ROWS($L$20:$L90)-OFFSET(Cumulative,,2)),IF(OFFSET(Cumulative,,4)>(ROW()-ROW($O$20)),_xlfn.AGGREGATE(15,6,(ROW(OrderRange_Ref)-ROW($L$19))/(OFFSET(OrderRange_Ref,,4)>0),ROWS($L$20:$L90)-OFFSET(Cumulative,,3)),IF(OFFSET(Cumulative,,5)>(ROW()-ROW($O$20)),_xlfn.AGGREGATE(15,6,(ROW(OrderRange_Ref)-ROW($L$19))/(OFFSET(OrderRange_Ref,,5)>0),ROWS($L$20:$L90)-OFFSET(Cumulative,,4)),\"\"))))))","v":""},"","","","",{"$f":"IF($N90=\"\",\"\",ROUND(SUMPRODUCT((LEFT(Transaction[Route],Branch_Digit)=RIGHT(BranchCode,Branch_Digit))*(Transaction[Type]=\"เบิก\")*(Transaction[Products]='Factory_Order Frm'!$R90)*(Transaction[Date]=$O90)*(Transaction[Qty In-Out]))/PcsPerTray,0))","v":""},{"$f":"IF($N90=\"\",\"\",MOD(SUMPRODUCT((LEFT(Transaction[Route],Branch_Digit)=RIGHT(BranchCode,Branch_Digit))*(Transaction[Type]=\"เบิก\")*(Transaction[Products]='Factory_Order Frm'!$R90)*(Transaction[Date]=$O90)*(Transaction[Qty In-Out])),PcsPerTray))","v":""}]
[null,null,null,null,null,null,null,null,null,null,null,null,null,{"$f":"IF(Cumulative>(ROW()-ROW($O$20)),_xlfn.AGGREGATE(15,6,(ROW(OrderRange_Ref)-ROW($L$19))/(OFFSET(OrderRange_Ref,,0)>0),ROWS($L$20:$L91)),IF(OFFSET(Cumulative,,1)>(ROW()-ROW($O$20)),_xlfn.AGGREGATE(15,6,(ROW(OrderRange_Ref)-ROW($L$19))/(OFFSET(OrderRange_Ref,,1)>0),ROWS($L$20:$L91)-OFFSET(Cumulative,,0)),IF(OFFSET(Cumulative,,2)>(ROW()-ROW($O$20)),_xlfn.AGGREGATE(15,6,(ROW(OrderRange_Ref)-ROW($L$19))/(OFFSET(OrderRange_Ref,,2)>0),ROWS($L$20:$L91)-OFFSET(Cumulative,,1)),IF(OFFSET(Cumulative,,3)>(ROW()-ROW($O$20)),_xlfn.AGGREGATE(15,6,(ROW(OrderRange_Ref)-ROW($L$19))/(OFFSET(OrderRange_Ref,,3)>0),ROWS($L$20:$L91)-OFFSET(Cumulative,,2)),IF(OFFSET(Cumulative,,4)>(ROW()-ROW($O$20)),_xlfn.AGGREGATE(15,6,(ROW(OrderRange_Ref)-ROW($L$19))/(OFFSET(OrderRange_Ref,,4)>0),ROWS($L$20:$L91)-OFFSET(Cumulative,,3)),IF(OFFSET(Cumulative,,5)>(ROW()-ROW($O$20)),_xlfn.AGGREGATE(15,6,(ROW(OrderRange_Ref)-ROW($L$19))/(OFFSET(OrderRange_Ref,,5)>0),ROWS($L$20:$L91)-OFFSET(Cumulative,,4)),\"\"))))))","v":""},"","","","",{"$f":"IF($N91=\"\",\"\",ROUND(SUMPRODUCT((LEFT(Transaction[Route],Branch_Digit)=RIGHT(BranchCode,Branch_Digit))*(Transaction[Type]=\"เบิก\")*(Transaction[Products]='Factory_Order Frm'!$R91)*(Transaction[Date]=$O91)*(Transaction[Qty In-Out]))/PcsPerTray,0))","v":""},{"$f":"IF($N91=\"\",\"\",MOD(SUMPRODUCT((LEFT(Transaction[Route],Branch_Digit)=RIGHT(BranchCode,Branch_Digit))*(Transaction[Type]=\"เบิก\")*(Transaction[Products]='Factory_Order Frm'!$R91)*(Transaction[Date]=$O91)*(Transaction[Qty In-Out])),PcsPerTray))","v":""}]
[null,null,null,null,null,null,null,null,null,null,null,null,null,{"$f":"IF(Cumulative>(ROW()-ROW($O$20)),_xlfn.AGGREGATE(15,6,(ROW(OrderRange_Ref)-ROW($L$19))/(OFFSET(OrderRange_Ref,,0)>0),ROWS($L$20:$L92)),IF(OFFSET(Cumulative,,1)>(ROW()-ROW($O$20)),_xlfn.AGGREGATE(15,6,(ROW(OrderRange_Ref)-ROW($L$19))/(OFFSET(OrderRange_Ref,,1)>0),ROWS($L$20:$L92)-OFFSET(Cumulative,,0)),IF(OFFSET(Cumulative,,2)>(ROW()-ROW($O$20)),_xlfn.AGGREGATE(15,6,(ROW(OrderRange_Ref)-ROW($L$19))/(OFFSET(OrderRange_Ref,,2)>0),ROWS($L$20:$L92)-OFFSET(Cumulative,,1)),IF(OFFSET(Cumulative,,3)>(ROW()-ROW($O$20)),_xlfn.AGGREGATE(15,6,(ROW(OrderRange_Ref)-ROW($L$19))/(OFFSET(OrderRange_Ref,,3)>0),ROWS($L$20:$L92)-OFFSET(Cumulative,,2)),IF(OFFSET(Cumulative,,4)>(ROW()-ROW($O$20)),_xlfn.AGGREGATE(15,6,(ROW(OrderRange_Ref)-ROW($L$19))/(OFFSET(OrderRange_Ref,,4)>0),ROWS($L$20:$L92)-OFFSET(Cumulative,,3)),IF(OFFSET(Cumulative,,5)>(ROW()-ROW($O$20)),_xlfn.AGGREGATE(15,6,(ROW(OrderRange_Ref)-ROW($L$19))/(OFFSET(OrderRange_Ref,,5)>0),ROWS($L$20:$L92)-OFFSET(Cumulative,,4)),\"\"))))))","v":""},"","","","",{"$f":"IF($N92=\"\",\"\",ROUND(SUMPRODUCT((LEFT(Transaction[Route],Branch_Digit)=RIGHT(BranchCode,Branch_Digit))*(Transaction[Type]=\"เบิก\")*(Transaction[Products]='Factory_Order Frm'!$R92)*(Transaction[Date]=$O92)*(Transaction[Qty In-Out]))/PcsPerTray,0))","v":""},{"$f":"IF($N92=\"\",\"\",MOD(SUMPRODUCT((LEFT(Transaction[Route],Branch_Digit)=RIGHT(BranchCode,Branch_Digit))*(Transaction[Type]=\"เบิก\")*(Transaction[Products]='Factory_Order Frm'!$R92)*(Transaction[Date]=$O92)*(Transaction[Qty In-Out])),PcsPerTray))","v":""}]
[null,null,null,null,null,null,null,null,null,null,null,null,null,{"$f":"IF(Cumulative>(ROW()-ROW($O$20)),_xlfn.AGGREGATE(15,6,(ROW(OrderRange_Ref)-ROW($L$19))/(OFFSET(OrderRange_Ref,,0)>0),ROWS($L$20:$L93)),IF(OFFSET(Cumulative,,1)>(ROW()-ROW($O$20)),_xlfn.AGGREGATE(15,6,(ROW(OrderRange_Ref)-ROW($L$19))/(OFFSET(OrderRange_Ref,,1)>0),ROWS($L$20:$L93)-OFFSET(Cumulative,,0)),IF(OFFSET(Cumulative,,2)>(ROW()-ROW($O$20)),_xlfn.AGGREGATE(15,6,(ROW(OrderRange_Ref)-ROW($L$19))/(OFFSET(OrderRange_Ref,,2)>0),ROWS($L$20:$L93)-OFFSET(Cumulative,,1)),IF(OFFSET(Cumulative,,3)>(ROW()-ROW($O$20)),_xlfn.AGGREGATE(15,6,(ROW(OrderRange_Ref)-ROW($L$19))/(OFFSET(OrderRange_Ref,,3)>0),ROWS($L$20:$L93)-OFFSET(Cumulative,,2)),IF(OFFSET(Cumulative,,4)>(ROW()-ROW($O$20)),_xlfn.AGGREGATE(15,6,(ROW(OrderRange_Ref)-ROW($L$19))/(OFFSET(OrderRange_Ref,,4)>0),ROWS($L$20:$L93)-OFFSET(Cumulative,,3)),IF(OFFSET(Cumulative,,5)>(ROW()-ROW($O$20)),_xlfn.AGGREGATE(15,6,(ROW(OrderRange_Ref)-ROW($L$19))/(OFFSET(OrderRange_Ref,,5)>0),ROWS($L$20:$L93)-OFFSET(Cumulative,,4)),\"\"))))))","v":""},"","","","",{"$f":"IF($N93=\"\",\"\",ROUND(SUMPRODUCT((LEFT(Transaction[Route],Branch_Digit)=RIGHT(BranchCode,Branch_Digit))*(Transaction[Type]=\"เบิก\")*(Transaction[Products]='Factory_Order Frm'!$R93)*(Transaction[Date]=$O93)*(Transaction[Qty In-Out]))/PcsPerTray,0))","v":""},{"$f":"IF($N93=\"\",\"\",MOD(SUMPRODUCT((LEFT(Transaction[Route],Branch_Digit)=RIGHT(BranchCode,Branch_Digit))*(Transaction[Type]=\"เบิก\")*(Transaction[Products]='Factory_Order Frm'!$R93)*(Transaction[Date]=$O93)*(Transaction[Qty In-Out])),PcsPerTray))","v":""}]
[null,null,null,null,null,null,null,null,null,null,null,null,null,{"$f":"IF(Cumulative>(ROW()-ROW($O$20)),_xlfn.AGGREGATE(15,6,(ROW(OrderRange_Ref)-ROW($L$19))/(OFFSET(OrderRange_Ref,,0)>0),ROWS($L$20:$L94)),IF(OFFSET(Cumulative,,1)>(ROW()-ROW($O$20)),_xlfn.AGGREGATE(15,6,(ROW(OrderRange_Ref)-ROW($L$19))/(OFFSET(OrderRange_Ref,,1)>0),ROWS($L$20:$L94)-OFFSET(Cumulative,,0)),IF(OFFSET(Cumulative,,2)>(ROW()-ROW($O$20)),_xlfn.AGGREGATE(15,6,(ROW(OrderRange_Ref)-ROW($L$19))/(OFFSET(OrderRange_Ref,,2)>0),ROWS($L$20:$L94)-OFFSET(Cumulative,,1)),IF(OFFSET(Cumulative,,3)>(ROW()-ROW($O$20)),_xlfn.AGGREGATE(15,6,(ROW(OrderRange_Ref)-ROW($L$19))/(OFFSET(OrderRange_Ref,,3)>0),ROWS($L$20:$L94)-OFFSET(Cumulative,,2)),IF(OFFSET(Cumulative,,4)>(ROW()-ROW($O$20)),_xlfn.AGGREGATE(15,6,(ROW(OrderRange_Ref)-ROW($L$19))/(OFFSET(OrderRange_Ref,,4)>0),ROWS($L$20:$L94)-OFFSET(Cumulative,,3)),IF(OFFSET(Cumulative,,5)>(ROW()-ROW($O$20)),_xlfn.AGGREGATE(15,6,(ROW(OrderRange_Ref)-ROW($L$19))/(OFFSET(OrderRange_Ref,,5)>0),ROWS($L$20:$L94)-OFFSET(Cumulative,,4)),\"\"))))))","v":""},"","","","",{"$f":"IF($N94=\"\",\"\",ROUND(SUMPRODUCT((LEFT(Transaction[Route],Branch_Digit)=RIGHT(BranchCode,Branch_Digit))*(Transaction[Type]=\"เบิก\")*(Transaction[Products]='Factory_Order Frm'!$R94)*(Transaction[Date]=$O94)*(Transaction[Qty In-Out]))/PcsPerTray,0))","v":""},{"$f":"IF($N94=\"\",\"\",MOD(SUMPRODUCT((LEFT(Transaction[Route],Branch_Digit)=RIGHT(BranchCode,Branch_Digit))*(Transaction[Type]=\"เบิก\")*(Transaction[Products]='Factory_Order Frm'!$R94)*(Transaction[Date]=$O94)*(Transaction[Qty In-Out])),PcsPerTray))","v":""}]
[null,null,null,null,null,null,null,null,null,null,null,null,null,{"$f":"IF(Cumulative>(ROW()-ROW($O$20)),_xlfn.AGGREGATE(15,6,(ROW(OrderRange_Ref)-ROW($L$19))/(OFFSET(OrderRange_Ref,,0)>0),ROWS($L$20:$L95)),IF(OFFSET(Cumulative,,1)>(ROW()-ROW($O$20)),_xlfn.AGGREGATE(15,6,(ROW(OrderRange_Ref)-ROW($L$19))/(OFFSET(OrderRange_Ref,,1)>0),ROWS($L$20:$L95)-OFFSET(Cumulative,,0)),IF(OFFSET(Cumulative,,2)>(ROW()-ROW($O$20)),_xlfn.AGGREGATE(15,6,(ROW(OrderRange_Ref)-ROW($L$19))/(OFFSET(OrderRange_Ref,,2)>0),ROWS($L$20:$L95)-OFFSET(Cumulative,,1)),IF(OFFSET(Cumulative,,3)>(ROW()-ROW($O$20)),_xlfn.AGGREGATE(15,6,(ROW(OrderRange_Ref)-ROW($L$19))/(OFFSET(OrderRange_Ref,,3)>0),ROWS($L$20:$L95)-OFFSET(Cumulative,,2)),IF(OFFSET(Cumulative,,4)>(ROW()-ROW($O$20)),_xlfn.AGGREGATE(15,6,(ROW(OrderRange_Ref)-ROW($L$19))/(OFFSET(OrderRange_Ref,,4)>0),ROWS($L$20:$L95)-OFFSET(Cumulative,,3)),IF(OFFSET(Cumulative,,5)>(ROW()-ROW($O$20)),_xlfn.AGGREGATE(15,6,(ROW(OrderRange_Ref)-ROW($L$19))/(OFFSET(OrderRange_Ref,,5)>0),ROWS($L$20:$L95)-OFFSET(Cumulative,,4)),\"\"))))))","v":""},"","","","",{"$f":"IF($N95=\"\",\"\",ROUND(SUMPRODUCT((LEFT(Transaction[Route],Branch_Digit)=RIGHT(BranchCode,Branch_Digit))*(Transaction[Type]=\"เบิก\")*(Transaction[Products]='Factory_Order Frm'!$R95)*(Transaction[Date]=$O95)*(Transaction[Qty In-Out]))/PcsPerTray,0))","v":""},{"$f":"IF($N95=\"\",\"\",MOD(SUMPRODUCT((LEFT(Transaction[Route],Branch_Digit)=RIGHT(BranchCode,Branch_Digit))*(Transaction[Type]=\"เบิก\")*(Transaction[Products]='Factory_Order Frm'!$R95)*(Transaction[Date]=$O95)*(Transaction[Qty In-Out])),PcsPerTray))","v":""}]
[null,null,null,null,null,null,null,null,null,null,null,null,null,{"$f":"IF(Cumulative>(ROW()-ROW($O$20)),_xlfn.AGGREGATE(15,6,(ROW(OrderRange_Ref)-ROW($L$19))/(OFFSET(OrderRange_Ref,,0)>0),ROWS($L$20:$L96)),IF(OFFSET(Cumulative,,1)>(ROW()-ROW($O$20)),_xlfn.AGGREGATE(15,6,(ROW(OrderRange_Ref)-ROW($L$19))/(OFFSET(OrderRange_Ref,,1)>0),ROWS($L$20:$L96)-OFFSET(Cumulative,,0)),IF(OFFSET(Cumulative,,2)>(ROW()-ROW($O$20)),_xlfn.AGGREGATE(15,6,(ROW(OrderRange_Ref)-ROW($L$19))/(OFFSET(OrderRange_Ref,,2)>0),ROWS($L$20:$L96)-OFFSET(Cumulative,,1)),IF(OFFSET(Cumulative,,3)>(ROW()-ROW($O$20)),_xlfn.AGGREGATE(15,6,(ROW(OrderRange_Ref)-ROW($L$19))/(OFFSET(OrderRange_Ref,,3)>0),ROWS($L$20:$L96)-OFFSET(Cumulative,,2)),IF(OFFSET(Cumulative,,4)>(ROW()-ROW($O$20)),_xlfn.AGGREGATE(15,6,(ROW(OrderRange_Ref)-ROW($L$19))/(OFFSET(OrderRange_Ref,,4)>0),ROWS($L$20:$L96)-OFFSET(Cumulative,,3)),IF(OFFSET(Cumulative,,5)>(ROW()-ROW($O$20)),_xlfn.AGGREGATE(15,6,(ROW(OrderRange_Ref)-ROW($L$19))/(OFFSET(OrderRange_Ref,,5)>0),ROWS($L$20:$L96)-OFFSET(Cumulative,,4)),\"\"))))))","v":""},"","","","",{"$f":"IF($N96=\"\",\"\",ROUND(SUMPRODUCT((LEFT(Transaction[Route],Branch_Digit)=RIGHT(BranchCode,Branch_Digit))*(Transaction[Type]=\"เบิก\")*(Transaction[Products]='Factory_Order Frm'!$R96)*(Transaction[Date]=$O96)*(Transaction[Qty In-Out]))/PcsPerTray,0))","v":""},{"$f":"IF($N96=\"\",\"\",MOD(SUMPRODUCT((LEFT(Transaction[Route],Branch_Digit)=RIGHT(BranchCode,Branch_Digit))*(Transaction[Type]=\"เบิก\")*(Transaction[Products]='Factory_Order Frm'!$R96)*(Transaction[Date]=$O96)*(Transaction[Qty In-Out])),PcsPerTray))","v":""}]
[null,null,null,null,null,null,null,null,null,null,null,null,null,{"$f":"IF(Cumulative>(ROW()-ROW($O$20)),_xlfn.AGGREGATE(15,6,(ROW(OrderRange_Ref)-ROW($L$19))/(OFFSET(OrderRange_Ref,,0)>0),ROWS($L$20:$L97)),IF(OFFSET(Cumulative,,1)>(ROW()-ROW($O$20)),_xlfn.AGGREGATE(15,6,(ROW(OrderRange_Ref)-ROW($L$19))/(OFFSET(OrderRange_Ref,,1)>0),ROWS($L$20:$L97)-OFFSET(Cumulative,,0)),IF(OFFSET(Cumulative,,2)>(ROW()-ROW($O$20)),_xlfn.AGGREGATE(15,6,(ROW(OrderRange_Ref)-ROW($L$19))/(OFFSET(OrderRange_Ref,,2)>0),ROWS($L$20:$L97)-OFFSET(Cumulative,,1)),IF(OFFSET(Cumulative,,3)>(ROW()-ROW($O$20)),_xlfn.AGGREGATE(15,6,(ROW(OrderRange_Ref)-ROW($L$19))/(OFFSET(OrderRange_Ref,,3)>0),ROWS($L$20:$L97)-OFFSET(Cumulative,,2)),IF(OFFSET(Cumulative,,4)>(ROW()-ROW($O$20)),_xlfn.AGGREGATE(15,6,(ROW(OrderRange_Ref)-ROW($L$19))/(OFFSET(OrderRange_Ref,,4)>0),ROWS($L$20:$L97)-OFFSET(Cumulative,,3)),IF(OFFSET(Cumulative,,5)>(ROW()-ROW($O$20)),_xlfn.AGGREGATE(15,6,(ROW(OrderRange_Ref)-ROW($L$19))/(OFFSET(OrderRange_Ref,,5)>0),ROWS($L$20:$L97)-OFFSET(Cumulative,,4)),\"\"))))))","v":""},"","","","",{"$f":"IF($N97=\"\",\"\",ROUND(SUMPRODUCT((LEFT(Transaction[Route],Branch_Digit)=RIGHT(BranchCode,Branch_Digit))*(Transaction[Type]=\"เบิก\")*(Transaction[Products]='Factory_Order Frm'!$R97)*(Transaction[Date]=$O97)*(Transaction[Qty In-Out]))/PcsPerTray,0))","v":""},{"$f":"IF($N97=\"\",\"\",MOD(SUMPRODUCT((LEFT(Transaction[Route],Branch_Digit)=RIGHT(BranchCode,Branch_Digit))*(Transaction[Type]=\"เบิก\")*(Transaction[Products]='Factory_Order Frm'!$R97)*(Transaction[Date]=$O97)*(Transaction[Qty In-Out])),PcsPerTray))","v":""}]
[null,null,null,null,null,null,null,null,null,null,null,null,null,{"$f":"IF(Cumulative>(ROW()-ROW($O$20)),_xlfn.AGGREGATE(15,6,(ROW(OrderRange_Ref)-ROW($L$19))/(OFFSET(OrderRange_Ref,,0)>0),ROWS($L$20:$L98)),IF(OFFSET(Cumulative,,1)>(ROW()-ROW($O$20)),_xlfn.AGGREGATE(15,6,(ROW(OrderRange_Ref)-ROW($L$19))/(OFFSET(OrderRange_Ref,,1)>0),ROWS($L$20:$L98)-OFFSET(Cumulative,,0)),IF(OFFSET(Cumulative,,2)>(ROW()-ROW($O$20)),_xlfn.AGGREGATE(15,6,(ROW(OrderRange_Ref)-ROW($L$19))/(OFFSET(OrderRange_Ref,,2)>0),ROWS($L$20:$L98)-OFFSET(Cumulative,,1)),IF(OFFSET(Cumulative,,3)>(ROW()-ROW($O$20)),_xlfn.AGGREGATE(15,6,(ROW(OrderRange_Ref)-ROW($L$19))/(OFFSET(OrderRange_Ref,,3)>0),ROWS($L$20:$L98)-OFFSET(Cumulative,,2)),IF(OFFSET(Cumulative,,4)>(ROW()-ROW($O$20)),_xlfn.AGGREGATE(15,6,(ROW(OrderRange_Ref)-ROW($L$19))/(OFFSET(OrderRange_Ref,,4)>0),ROWS($L$20:$L98)-OFFSET(Cumulative,,3)),IF(OFFSET(Cumulative,,5)>(ROW()-ROW($O$20)),_xlfn.AGGREGATE(15,6,(ROW(OrderRange_Ref)-ROW($L$19))/(OFFSET(OrderRange_Ref,,5)>0),ROWS($L$20:$L98)-OFFSET(Cumulative,,4)),\"\"))))))","v":""},"","","","",{"$f":"IF($N98=\"\",\"\",ROUND(SUMPRODUCT((LEFT(Transaction[Route],Branch_Digit)=RIGHT(BranchCode,Branch_Digit))*(Transaction[Type]=\"เบิก\")*(Transaction[Products]='Factory_Order Frm'!$R98)*(Transaction[Date]=$O98)*(Transaction[Qty In-Out]))/PcsPerTray,0))","v":""},{"$f":"IF($N98=\"\",\"\",MOD(SUMPRODUCT((LEFT(Transaction[Route],Branch_Digit)=RIGHT(BranchCode,Branch_Digit))*(Transaction[Type]=\"เบิก\")*(Transaction[Products]='Factory_Order Frm'!$R98)*(Transaction[Date]=$O98)*(Transaction[Qty In-Out])),PcsPerTray))","v":""}]
[null,null,null,null,null,null,null,null,null,null,null,null,null,{"$f":"IF(Cumulative>(ROW()-ROW($O$20)),_xlfn.AGGREGATE(15,6,(ROW(OrderRange_Ref)-ROW($L$19))/(OFFSET(OrderRange_Ref,,0)>0),ROWS($L$20:$L99)),IF(OFFSET(Cumulative,,1)>(ROW()-ROW($O$20)),_xlfn.AGGREGATE(15,6,(ROW(OrderRange_Ref)-ROW($L$19))/(OFFSET(OrderRange_Ref,,1)>0),ROWS($L$20:$L99)-OFFSET(Cumulative,,0)),IF(OFFSET(Cumulative,,2)>(ROW()-ROW($O$20)),_xlfn.AGGREGATE(15,6,(ROW(OrderRange_Ref)-ROW($L$19))/(OFFSET(OrderRange_Ref,,2)>0),ROWS($L$20:$L99)-OFFSET(Cumulative,,1)),IF(OFFSET(Cumulative,,3)>(ROW()-ROW($O$20)),_xlfn.AGGREGATE(15,6,(ROW(OrderRange_Ref)-ROW($L$19))/(OFFSET(OrderRange_Ref,,3)>0),ROWS($L$20:$L99)-OFFSET(Cumulative,,2)),IF(OFFSET(Cumulative,,4)>(ROW()-ROW($O$20)),_xlfn.AGGREGATE(15,6,(ROW(OrderRange_Ref)-ROW($L$19))/(OFFSET(OrderRange_Ref,,4)>0),ROWS($L$20:$L99)-OFFSET(Cumulative,,3)),IF(OFFSET(Cumulative,,5)>(ROW()-ROW($O$20)),_xlfn.AGGREGATE(15,6,(ROW(OrderRange_Ref)-ROW($L$19))/(OFFSET(OrderRange_Ref,,5)>0),ROWS($L$20:$L99)-OFFSET(Cumulative,,4)),\"\"))))))","v":""},"","","","",{"$f":"IF($N99=\"\",\"\",ROUND(SUMPRODUCT((LEFT(Transaction[Route],Branch_Digit)=RIGHT(BranchCode,Branch_Digit))*(Transaction[Type]=\"เบิก\")*(Transaction[Products]='Factory_Order Frm'!$R99)*(Transaction[Date]=$O99)*(Transaction[Qty In-Out]))/PcsPerTray,0))","v":""},{"$f":"IF($N99=\"\",\"\",MOD(SUMPRODUCT((LEFT(Transaction[Route],Branch_Digit)=RIGHT(BranchCode,Branch_Digit))*(Transaction[Type]=\"เบิก\")*(Transaction[Products]='Factory_Order Frm'!$R99)*(Transaction[Date]=$O99)*(Transaction[Qty In-Out])),PcsPerTray))","v":""}]
[null,null,null,null,null,null,null,null,null,null,null,null,null,{"$f":"IF(Cumulative>(ROW()-ROW($O$20)),_xlfn.AGGREGATE(15,6,(ROW(OrderRange_Ref)-ROW($L$19))/(OFFSET(OrderRange_Ref,,0)>0),ROWS($L$20:$L100)),IF(OFFSET(Cumulative,,1)>(ROW()-ROW($O$20)),_xlfn.AGGREGATE(15,6,(ROW(OrderRange_Ref)-ROW($L$19))/(OFFSET(OrderRange_Ref,,1)>0),ROWS($L$20:$L100)-OFFSET(Cumulative,,0)),IF(OFFSET(Cumulative,,2)>(ROW()-ROW($O$20)),_xlfn.AGGREGATE(15,6,(ROW(OrderRange_Ref)-ROW($L$19))/(OFFSET(OrderRange_Ref,,2)>0),ROWS($L$20:$L100)-OFFSET(Cumulative,,1)),IF(OFFSET(Cumulative,,3)>(ROW()-ROW($O$20)),_xlfn.AGGREGATE(15,6,(ROW(OrderRange_Ref)-ROW($L$19))/(OFFSET(OrderRange_Ref,,3)>0),ROWS($L$20:$L100)-OFFSET(Cumulative,,2)),IF(OFFSET(Cumulative,,4)>(ROW()-ROW($O$20)),_xlfn.AGGREGATE(15,6,(ROW(OrderRange_Ref)-ROW($L$19))/(OFFSET(OrderRange_Ref,,4)>0),ROWS($L$20:$L100)-OFFSET(Cumulative,,3)),IF(OFFSET(Cumulative,,5)>(ROW()-ROW($O$20)),_xlfn.AGGREGATE(15,6,(ROW(OrderRange_Ref)-ROW($L$19))/(OFFSET(OrderRange_Ref,,5)>0),ROWS($L$20:$L100)-OFFSET(Cumulative,,4)),\"\"))))))","v":""},"","","","",{"$f":"IF($N100=\"\",\"\",ROUND(SUMPRODUCT((LEFT(Transaction[Route],Branch_Digit)=RIGHT(BranchCode,Branch_Digit))*(Transaction[Type]=\"เบิก\")*(Transaction[Products]='Factory_Order Frm'!$R100)*(Transaction[Date]=$O100)*(Transaction[Qty In-Out]))/PcsPerTray,0))","v":""},{"$f":"IF($N100=\"\",\"\",MOD(SUMPRODUCT((LEFT(Transaction[Route],Branch_Digit)=RIGHT(BranchCode,Branch_Digit))*(Transaction[Type]=\"เบิก\")*(Transaction[Products]='Factory_Order Frm'!$R100)*(Transaction[Date]=$O100)*(Transaction[Qty In-Out])),PcsPerTray))","v":""}]
[null,null,null,null,null,null,null,null,null,null,null,null,null,{"$f":"IF(Cumulative>(ROW()-ROW($O$20)),_xlfn.AGGREGATE(15,6,(ROW(OrderRange_Ref)-ROW($L$19))/(OFFSET(OrderRange_Ref,,0)>0),ROWS($L$20:$L101)),IF(OFFSET(Cumulative,,1)>(ROW()-ROW($O$20)),_xlfn.AGGREGATE(15,6,(ROW(OrderRange_Ref)-ROW($L$19))/(OFFSET(OrderRange_Ref,,1)>0),ROWS($L$20:$L101)-OFFSET(Cumulative,,0)),IF(OFFSET(Cumulative,,2)>(ROW()-ROW($O$20)),_xlfn.AGGREGATE(15,6,(ROW(OrderRange_Ref)-ROW($L$19))/(OFFSET(OrderRange_Ref,,2)>0),ROWS($L$20:$L101)-OFFSET(Cumulative,,1)),IF(OFFSET(Cumulative,,3)>(ROW()-ROW($O$20)),_xlfn.AGGREGATE(15,6,(ROW(OrderRange_Ref)-ROW($L$19))/(OFFSET(OrderRange_Ref,,3)>0),ROWS($L$20:$L101)-OFFSET(Cumulative,,2)),IF(OFFSET(Cumulative,,4)>(ROW()-ROW($O$20)),_xlfn.AGGREGATE(15,6,(ROW(OrderRange_Ref)-ROW($L$19))/(OFFSET(OrderRange_Ref,,4)>0),ROWS($L$20:$L101)-OFFSET(Cumulative,,3)),IF(OFFSET(Cumulative,,5)>(ROW()-ROW($O$20)),_xlfn.AGGREGATE(15,6,(ROW(OrderRange_Ref)-ROW($L$19))/(OFFSET(OrderRange_Ref,,5)>0),ROWS($L$20:$L101)-OFFSET(Cumulative,,4)),\"\"))))))","v":""},"","","","",{"$f":"IF($N101=\"\",\"\",ROUND(SUMPRODUCT((LEFT(Transaction[Route],Branch_Digit)=RIGHT(BranchCode,Branch_Digit))*(Transaction[Type]=\"เบิก\")*(Transaction[Products]='Factory_Order Frm'!$R101)*(Transaction[Date]=$O101)*(Transaction[Qty In-Out]))/PcsPerTray,0))","v":""},{"$f":"IF($N101=\"\",\"\",MOD(SUMPRODUCT((LEFT(Transaction[Route],Branch_Digit)=RIGHT(BranchCode,Branch_Digit))*(Transaction[Type]=\"เบิก\")*(Transaction[Products]='Factory_Order Frm'!$R101)*(Transaction[Date]=$O101)*(Transaction[Qty In-Out])),PcsPerTray))","v":""}]
[null,null,null,null,null,null,null,null,null,null,null,null,null,{"$f":"IF(Cumulative>(ROW()-ROW($O$20)),_xlfn.AGGREGATE(15,6,(ROW(OrderRange_Ref)-ROW($L$19))/(OFFSET(OrderRange_Ref,,0)>0),ROWS($L$20:$L102)),IF(OFFSET(Cumulative,,1)>(ROW()-ROW($O$20)),_xlfn.AGGREGATE(15,6,(ROW(OrderRange_Ref)-ROW($L$19))/(OFFSET(OrderRange_Ref,,1)>0),ROWS($L$20:$L102)-OFFSET(Cumulative,,0)),IF(OFFSET(Cumulative,,2)>(ROW()-ROW($O$20)),_xlfn.AGGREGATE(15,6,(ROW(OrderRange_Ref)-ROW($L$19))/(OFFSET(OrderRange_Ref,,2)>0),ROWS($L$20:$L102)-OFFSET(Cumulative,,1)),IF(OFFSET(Cumulative,,3)>(ROW()-ROW($O$20)),_xlfn.AGGREGATE(15,6,(ROW(OrderRange_Ref)-ROW($L$19))/(OFFSET(OrderRange_Ref,,3)>0),ROWS($L$20:$L102)-OFFSET(Cumulative,,2)),IF(OFFSET(Cumulative,,4)>(ROW()-ROW($O$20)),_xlfn.AGGREGATE(15,6,(ROW(OrderRange_Ref)-ROW($L$19))/(OFFSET(OrderRange_Ref,,4)>0),ROWS($L$20:$L102)-OFFSET(Cumulative,,3)),IF(OFFSET(Cumulative,,5)>(ROW()-ROW($O$20)),_xlfn.AGGREGATE(15,6,(ROW(OrderRange_Ref)-ROW($L$19))/(OFFSET(OrderRange_Ref,,5)>0),ROWS($L$20:$L102)-OFFSET(Cumulative,,4)),\"\"))))))","v":""},"","","","",{"$f":"IF($N102=\"\",\"\",ROUND(SUMPRODUCT((LEFT(Transaction[Route],Branch_Digit)=RIGHT(BranchCode,Branch_Digit))*(Transaction[Type]=\"เบิก\")*(Transaction[Products]='Factory_Order Frm'!$R102)*(Transaction[Date]=$O102)*(Transaction[Qty In-Out]))/PcsPerTray,0))","v":""},{"$f":"IF($N102=\"\",\"\",MOD(SUMPRODUCT((LEFT(Transaction[Route],Branch_Digit)=RIGHT(BranchCode,Branch_Digit))*(Transaction[Type]=\"เบิก\")*(Transaction[Products]='Factory_Order Frm'!$R102)*(Transaction[Date]=$O102)*(Transaction[Qty In-Out])),PcsPerTray))","v":""}]
[null,null,null,null,null,null,null,null,null,null,null,null,null,{"$f":"IF(Cumulative>(ROW()-ROW($O$20)),_xlfn.AGGREGATE(15,6,(ROW(OrderRange_Ref)-ROW($L$19))/(OFFSET(OrderRange_Ref,,0)>0),ROWS($L$20:$L103)),IF(OFFSET(Cumulative,,1)>(ROW()-ROW($O$20)),_xlfn.AGGREGATE(15,6,(ROW(OrderRange_Ref)-ROW($L$19))/(OFFSET(OrderRange_Ref,,1)>0),ROWS($L$20:$L103)-OFFSET(Cumulative,,0)),IF(OFFSET(Cumulative,,2)>(ROW()-ROW($O$20)),_xlfn.AGGREGATE(15,6,(ROW(OrderRange_Ref)-ROW($L$19))/(OFFSET(OrderRange_Ref,,2)>0),ROWS($L$20:$L103)-OFFSET(Cumulative,,1)),IF(OFFSET(Cumulative,,3)>(ROW()-ROW($O$20)),_xlfn.AGGREGATE(15,6,(ROW(OrderRange_Ref)-ROW($L$19))/(OFFSET(OrderRange_Ref,,3)>0),ROWS($L$20:$L103)-OFFSET(Cumulative,,2)),IF(OFFSET(Cumulative,,4)>(ROW()-ROW($O$20)),_xlfn.AGGREGATE(15,6,(ROW(OrderRange_Ref)-ROW($L$19))/(OFFSET(OrderRange_Ref,,4)>0),ROWS($L$20:$L103)-OFFSET(Cumulative,,3)),IF(OFFSET(Cumulative,,5)>(ROW()-ROW($O$20)),_xlfn.AGGREGATE(15,6,(ROW(OrderRange_Ref)-ROW($L$19))/(OFFSET(OrderRange_Ref,,5)>0),ROWS($L$20:$L103)-OFFSET(Cumulative,,4)),\"\"))))))","v":""},"","","","",{"$f":"IF($N103=\"\",\"\",ROUND(SUMPRODUCT((LEFT(Transaction[Route],Branch_Digit)=RIGHT(BranchCode,Branch_Digit))*(Transaction[Type]=\"เบิก\")*(Transaction[Products]='Factory_Order Frm'!$R103)*(Transaction[Date]=$O103)*(Transaction[Qty In-Out]))/PcsPerTray,0))","v":""},{"$f":"IF($N103=\"\",\"\",MOD(SUMPRODUCT((LEFT(Transaction[Route],Branch_Digit)=RIGHT(BranchCode,Branch_Digit))*(Transaction[Type]=\"เบิก\")*(Transaction[Products]='Factory_Order Frm'!$R103)*(Transaction[Date]=$O103)*(Transaction[Qty In-Out])),PcsPerTray))","v":""}]
[null,null,null,null,null,null,null,null,null,null,null,null,null,{"$f":"IF(Cumulative>(ROW()-ROW($O$20)),_xlfn.AGGREGATE(15,6,(ROW(OrderRange_Ref)-ROW($L$19))/(OFFSET(OrderRange_Ref,,0)>0),ROWS($L$20:$L104)),IF(OFFSET(Cumulative,,1)>(ROW()-ROW($O$20)),_xlfn.AGGREGATE(15,6,(ROW(OrderRange_Ref)-ROW($L$19))/(OFFSET(OrderRange_Ref,,1)>0),ROWS($L$20:$L104)-OFFSET(Cumulative,,0)),IF(OFFSET(Cumulative,,2)>(ROW()-ROW($O$20)),_xlfn.AGGREGATE(15,6,(ROW(OrderRange_Ref)-ROW($L$19))/(OFFSET(OrderRange_Ref,,2)>0),ROWS($L$20:$L104)-OFFSET(Cumulative,,1)),IF(OFFSET(Cumulative,,3)>(ROW()-ROW($O$20)),_xlfn.AGGREGATE(15,6,(ROW(OrderRange_Ref)-ROW($L$19))/(OFFSET(OrderRange_Ref,,3)>0),ROWS($L$20:$L104)-OFFSET(Cumulative,,2)),IF(OFFSET(Cumulative,,4)>(ROW()-ROW($O$20)),_xlfn.AGGREGATE(15,6,(ROW(OrderRange_Ref)-ROW($L$19))/(OFFSET(OrderRange_Ref,,4)>0),ROWS($L$20:$L104)-OFFSET(Cumulative,,3)),IF(OFFSET(Cumulative,,5)>(ROW()-ROW($O$20)),_xlfn.AGGREGATE(15,6,(ROW(OrderRange_Ref)-ROW($L$19))/(OFFSET(OrderRange_Ref,,5)>0),ROWS($L$20:$L104)-OFFSET(Cumulative,,4)),\"\"))))))","v":""},"","","","",{"$f":"IF($N104=\"\",\"\",ROUND(SUMPRODUCT((LEFT(Transaction[Route],Branch_Digit)=RIGHT(BranchCode,Branch_Digit))*(Transaction[Type]=\"เบิก\")*(Transaction[Products]='Factory_Order Frm'!$R104)*(Transaction[Date]=$O104)*(Transaction[Qty In-Out]))/PcsPerTray,0))","v":""},{"$f":"IF($N104=\"\",\"\",MOD(SUMPRODUCT((LEFT(Transaction[Route],Branch_Digit)=RIGHT(BranchCode,Branch_Digit))*(Transaction[Type]=\"เบิก\")*(Transaction[Products]='Factory_Order Frm'!$R104)*(Transaction[Date]=$O104)*(Transaction[Qty In-Out])),PcsPerTray))","v":""}]
[null,null,null,null,null,null,null,null,null,null,null,null,null,{"$f":"IF(Cumulative>(ROW()-ROW($O$20)),_xlfn.AGGREGATE(15,6,(ROW(OrderRange_Ref)-ROW($L$19))/(OFFSET(OrderRange_Ref,,0)>0),ROWS($L$20:$L105)),IF(OFFSET(Cumulative,,1)>(ROW()-ROW($O$20)),_xlfn.AGGREGATE(15,6,(ROW(OrderRange_Ref)-ROW($L$19))/(OFFSET(OrderRange_Ref,,1)>0),ROWS($L$20:$L105)-OFFSET(Cumulative,,0)),IF(OFFSET(Cumulative,,2)>(ROW()-ROW($O$20)),_xlfn.AGGREGATE(15,6,(ROW(OrderRange_Ref)-ROW($L$19))/(OFFSET(OrderRange_Ref,,2)>0),ROWS($L$20:$L105)-OFFSET(Cumulative,,1)),IF(OFFSET(Cumulative,,3)>(ROW()-ROW($O$20)),_xlfn.AGGREGATE(15,6,(ROW(OrderRange_Ref)-ROW($L$19))/(OFFSET(OrderRange_Ref,,3)>0),ROWS($L$20:$L105)-OFFSET(Cumulative,,2)),IF(OFFSET(Cumulative,,4)>(ROW()-ROW($O$20)),_xlfn.AGGREGATE(15,6,(ROW(OrderRange_Ref)-ROW($L$19))/(OFFSET(OrderRange_Ref,,4)>0),ROWS($L$20:$L105)-OFFSET(Cumulative,,3)),IF(OFFSET(Cumulative,,5)>(ROW()-ROW($O$20)),_xlfn.AGGREGATE(15,6,(ROW(OrderRange_Ref)-ROW($L$19))/(OFFSET(OrderRange_Ref,,5)>0),ROWS($L$20:$L105)-OFFSET(Cumulative,,4)),\"\"))))))","v":""},"","","","",{"$f":"IF($N105=\"\",\"\",ROUND(SUMPRODUCT((LEFT(Transaction[Route],Branch_Digit)=RIGHT(BranchCode,Branch_Digit))*(Transaction[Type]=\"เบิก\")*(Transaction[Products]='Factory_Order Frm'!$R105)*(Transaction[Date]=$O105)*(Transaction[Qty In-Out]))/PcsPerTray,0))","v":""},{"$f":"IF($N105=\"\",\"\",MOD(SUMPRODUCT((LEFT(Transaction[Route],Branch_Digit)=RIGHT(BranchCode,Branch_Digit))*(Transaction[Type]=\"เบิก\")*(Transaction[Products]='Factory_Order Frm'!$R105)*(Transaction[Date]=$O105)*(Transaction[Qty In-Out])),PcsPerTray))","v":""}]
[null,null,null,null,null,null,null,null,null,null,null,null,null,{"$f":"IF(Cumulative>(ROW()-ROW($O$20)),_xlfn.AGGREGATE(15,6,(ROW(OrderRange_Ref)-ROW($L$19))/(OFFSET(OrderRange_Ref,,0)>0),ROWS($L$20:$L106)),IF(OFFSET(Cumulative,,1)>(ROW()-ROW($O$20)),_xlfn.AGGREGATE(15,6,(ROW(OrderRange_Ref)-ROW($L$19))/(OFFSET(OrderRange_Ref,,1)>0),ROWS($L$20:$L106)-OFFSET(Cumulative,,0)),IF(OFFSET(Cumulative,,2)>(ROW()-ROW($O$20)),_xlfn.AGGREGATE(15,6,(ROW(OrderRange_Ref)-ROW($L$19))/(OFFSET(OrderRange_Ref,,2)>0),ROWS($L$20:$L106)-OFFSET(Cumulative,,1)),IF(OFFSET(Cumulative,,3)>(ROW()-ROW($O$20)),_xlfn.AGGREGATE(15,6,(ROW(OrderRange_Ref)-ROW($L$19))/(OFFSET(OrderRange_Ref,,3)>0),ROWS($L$20:$L106)-OFFSET(Cumulative,,2)),IF(OFFSET(Cumulative,,4)>(ROW()-ROW($O$20)),_xlfn.AGGREGATE(15,6,(ROW(OrderRange_Ref)-ROW($L$19))/(OFFSET(OrderRange_Ref,,4)>0),ROWS($L$20:$L106)-OFFSET(Cumulative,,3)),IF(OFFSET(Cumulative,,5)>(ROW()-ROW($O$20)),_xlfn.AGGREGATE(15,6,(ROW(OrderRange_Ref)-ROW($L$19))/(OFFSET(OrderRange_Ref,,5)>0),ROWS($L$20:$L106)-OFFSET(Cumulative,,4)),\"\"))))))","v":""},"","","","",{"$f":"IF($N106=\"\",\"\",ROUND(SUMPRODUCT((LEFT(Transaction[Route],Branch_Digit)=RIGHT(BranchCode,Branch_Digit))*(Transaction[Type]=\"เบิก\")*(Transaction[Products]='Factory_Order Frm'!$R106)*(Transaction[Date]=$O106)*(Transaction[Qty In-Out]))/PcsPerTray,0))","v":""},{"$f":"IF($N106=\"\",\"\",MOD(SUMPRODUCT((LEFT(Transaction[Route],Branch_Digit)=RIGHT(BranchCode,Branch_Digit))*(Transaction[Type]=\"เบิก\")*(Transaction[Products]='Factory_Order Frm'!$R106)*(Transaction[Date]=$O106)*(Transaction[Qty In-Out])),PcsPerTray))","v":""}]
[null,null,null,null,null,null,null,null,null,null,null,null,null,{"$f":"IF(Cumulative>(ROW()-ROW($O$20)),_xlfn.AGGREGATE(15,6,(ROW(OrderRange_Ref)-ROW($L$19))/(OFFSET(OrderRange_Ref,,0)>0),ROWS($L$20:$L107)),IF(OFFSET(Cumulative,,1)>(ROW()-ROW($O$20)),_xlfn.AGGREGATE(15,6,(ROW(OrderRange_Ref)-ROW($L$19))/(OFFSET(OrderRange_Ref,,1)>0),ROWS($L$20:$L107)-OFFSET(Cumulative,,0)),IF(OFFSET(Cumulative,,2)>(ROW()-ROW($O$20)),_xlfn.AGGREGATE(15,6,(ROW(OrderRange_Ref)-ROW($L$19))/(OFFSET(OrderRange_Ref,,2)>0),ROWS($L$20:$L107)-OFFSET(Cumulative,,1)),IF(OFFSET(Cumulative,,3)>(ROW()-ROW($O$20)),_xlfn.AGGREGATE(15,6,(ROW(OrderRange_Ref)-ROW($L$19))/(OFFSET(OrderRange_Ref,,3)>0),ROWS($L$20:$L107)-OFFSET(Cumulative,,2)),IF(OFFSET(Cumulative,,4)>(ROW()-ROW($O$20)),_xlfn.AGGREGATE(15,6,(ROW(OrderRange_Ref)-ROW($L$19))/(OFFSET(OrderRange_Ref,,4)>0),ROWS($L$20:$L107)-OFFSET(Cumulative,,3)),IF(OFFSET(Cumulative,,5)>(ROW()-ROW($O$20)),_xlfn.AGGREGATE(15,6,(ROW(OrderRange_Ref)-ROW($L$19))/(OFFSET(OrderRange_Ref,,5)>0),ROWS($L$20:$L107)-OFFSET(Cumulative,,4)),\"\"))))))","v":""},"","","","",{"$f":"IF($N107=\"\",\"\",ROUND(SUMPRODUCT((LEFT(Transaction[Route],Branch_Digit)=RIGHT(BranchCode,Branch_Digit))*(Transaction[Type]=\"เบิก\")*(Transaction[Products]='Factory_Order Frm'!$R107)*(Transaction[Date]=$O107)*(Transaction[Qty In-Out]))/PcsPerTray,0))","v":""},{"$f":"IF($N107=\"\",\"\",MOD(SUMPRODUCT((LEFT(Transaction[Route],Branch_Digit)=RIGHT(BranchCode,Branch_Digit))*(Transaction[Type]=\"เบิก\")*(Transaction[Products]='Factory_Order Frm'!$R107)*(Transaction[Date]=$O107)*(Transaction[Qty In-Out])),PcsPerTray))","v":""}]
[null,null,null,null,null,null,null,null,null,null,null,null,null,{"$f":"IF(Cumulative>(ROW()-ROW($O$20)),_xlfn.AGGREGATE(15,6,(ROW(OrderRange_Ref)-ROW($L$19))/(OFFSET(OrderRange_Ref,,0)>0),ROWS($L$20:$L108)),IF(OFFSET(Cumulative,,1)>(ROW()-ROW($O$20)),_xlfn.AGGREGATE(15,6,(ROW(OrderRange_Ref)-ROW($L$19))/(OFFSET(OrderRange_Ref,,1)>0),ROWS($L$20:$L108)-OFFSET(Cumulative,,0)),IF(OFFSET(Cumulative,,2)>(ROW()-ROW($O$20)),_xlfn.AGGREGATE(15,6,(ROW(OrderRange_Ref)-ROW($L$19))/(OFFSET(OrderRange_Ref,,2)>0),ROWS($L$20:$L108)-OFFSET(Cumulative,,1)),IF(OFFSET(Cumulative,,3)>(ROW()-ROW($O$20)),_xlfn.AGGREGATE(15,6,(ROW(OrderRange_Ref)-ROW($L$19))/(OFFSET(OrderRange_Ref,,3)>0),ROWS($L$20:$L108)-OFFSET(Cumulative,,2)),IF(OFFSET(Cumulative,,4)>(ROW()-ROW($O$20)),_xlfn.AGGREGATE(15,6,(ROW(OrderRange_Ref)-ROW($L$19))/(OFFSET(OrderRange_Ref,,4)>0),ROWS($L$20:$L108)-OFFSET(Cumulative,,3)),IF(OFFSET(Cumulative,,5)>(ROW()-ROW($O$20)),_xlfn.AGGREGATE(15,6,(ROW(OrderRange_Ref)-ROW($L$19))/(OFFSET(OrderRange_Ref,,5)>0),ROWS($L$20:$L108)-OFFSET(Cumulative,,4)),\"\"))))))","v":""},"","","","",{"$f":"IF($N108=\"\",\"\",ROUND(SUMPRODUCT((LEFT(Transaction[Route],Branch_Digit)=RIGHT(BranchCode,Branch_Digit))*(Transaction[Type]=\"เบิก\")*(Transaction[Products]='Factory_Order Frm'!$R108)*(Transaction[Date]=$O108)*(Transaction[Qty In-Out]))/PcsPerTray,0))","v":""},{"$f":"IF($N108=\"\",\"\",MOD(SUMPRODUCT((LEFT(Transaction[Route],Branch_Digit)=RIGHT(BranchCode,Branch_Digit))*(Transaction[Type]=\"เบิก\")*(Transaction[Products]='Factory_Order Frm'!$R108)*(Transaction[Date]=$O108)*(Transaction[Qty In-Out])),PcsPerTray))","v":""}]
[null,null,null,null,null,null,null,null,null,null,null,null,null,{"$f":"IF(Cumulative>(ROW()-ROW($O$20)),_xlfn.AGGREGATE(15,6,(ROW(OrderRange_Ref)-ROW($L$19))/(OFFSET(OrderRange_Ref,,0)>0),ROWS($L$20:$L109)),IF(OFFSET(Cumulative,,1)>(ROW()-ROW($O$20)),_xlfn.AGGREGATE(15,6,(ROW(OrderRange_Ref)-ROW($L$19))/(OFFSET(OrderRange_Ref,,1)>0),ROWS($L$20:$L109)-OFFSET(Cumulative,,0)),IF(OFFSET(Cumulative,,2)>(ROW()-ROW($O$20)),_xlfn.AGGREGATE(15,6,(ROW(OrderRange_Ref)-ROW($L$19))/(OFFSET(OrderRange_Ref,,2)>0),ROWS($L$20:$L109)-OFFSET(Cumulative,,1)),IF(OFFSET(Cumulative,,3)>(ROW()-ROW($O$20)),_xlfn.AGGREGATE(15,6,(ROW(OrderRange_Ref)-ROW($L$19))/(OFFSET(OrderRange_Ref,,3)>0),ROWS($L$20:$L109)-OFFSET(Cumulative,,2)),IF(OFFSET(Cumulative,,4)>(ROW()-ROW($O$20)),_xlfn.AGGREGATE(15,6,(ROW(OrderRange_Ref)-ROW($L$19))/(OFFSET(OrderRange_Ref,,4)>0),ROWS($L$20:$L109)-OFFSET(Cumulative,,3)),IF(OFFSET(Cumulative,,5)>(ROW()-ROW($O$20)),_xlfn.AGGREGATE(15,6,(ROW(OrderRange_Ref)-ROW($L$19))/(OFFSET(OrderRange_Ref,,5)>0),ROWS($L$20:$L109)-OFFSET(Cumulative,,4)),\"\"))))))","v":""},"","","","",{"$f":"IF($N109=\"\",\"\",ROUND(SUMPRODUCT((LEFT(Transaction[Route],Branch_Digit)=RIGHT(BranchCode,Branch_Digit))*(Transaction[Type]=\"เบิก\")*(Transaction[Products]='Factory_Order Frm'!$R109)*(Transaction[Date]=$O109)*(Transaction[Qty In-Out]))/PcsPerTray,0))","v":""},{"$f":"IF($N109=\"\",\"\",MOD(SUMPRODUCT((LEFT(Transaction[Route],Branch_Digit)=RIGHT(BranchCode,Branch_Digit))*(Transaction[Type]=\"เบิก\")*(Transaction[Products]='Factory_Order Frm'!$R109)*(Transaction[Date]=$O109)*(Transaction[Qty In-Out])),PcsPerTray))","v":""}]
[null,null,null,null,null,null,null,null,null,null,null,null,null,{"$f":"IF(Cumulative>(ROW()-ROW($O$20)),_xlfn.AGGREGATE(15,6,(ROW(OrderRange_Ref)-ROW($L$19))/(OFFSET(OrderRange_Ref,,0)>0),ROWS($L$20:$L110)),IF(OFFSET(Cumulative,,1)>(ROW()-ROW($O$20)),_xlfn.AGGREGATE(15,6,(ROW(OrderRange_Ref)-ROW($L$19))/(OFFSET(OrderRange_Ref,,1)>0),ROWS($L$20:$L110)-OFFSET(Cumulative,,0)),IF(OFFSET(Cumulative,,2)>(ROW()-ROW($O$20)),_xlfn.AGGREGATE(15,6,(ROW(OrderRange_Ref)-ROW($L$19))/(OFFSET(OrderRange_Ref,,2)>0),ROWS($L$20:$L110)-OFFSET(Cumulative,,1)),IF(OFFSET(Cumulative,,3)>(ROW()-ROW($O$20)),_xlfn.AGGREGATE(15,6,(ROW(OrderRange_Ref)-ROW($L$19))/(OFFSET(OrderRange_Ref,,3)>0),ROWS($L$20:$L110)-OFFSET(Cumulative,,2)),IF(OFFSET(Cumulative,,4)>(ROW()-ROW($O$20)),_xlfn.AGGREGATE(15,6,(ROW(OrderRange_Ref)-ROW($L$19))/(OFFSET(OrderRange_Ref,,4)>0),ROWS($L$20:$L110)-OFFSET(Cumulative,,3)),IF(OFFSET(Cumulative,,5)>(ROW()-ROW($O$20)),_xlfn.AGGREGATE(15,6,(ROW(OrderRange_Ref)-ROW($L$19))/(OFFSET(OrderRange_Ref,,5)>0),ROWS($L$20:$L110)-OFFSET(Cumulative,,4)),\"\"))))))","v":""},"","","","",{"$f":"IF($N110=\"\",\"\",ROUND(SUMPRODUCT((LEFT(Transaction[Route],Branch_Digit)=RIGHT(BranchCode,Branch_Digit))*(Transaction[Type]=\"เบิก\")*(Transaction[Products]='Factory_Order Frm'!$R110)*(Transaction[Date]=$O110)*(Transaction[Qty In-Out]))/PcsPerTray,0))","v":""},{"$f":"IF($N110=\"\",\"\",MOD(SUMPRODUCT((LEFT(Transaction[Route],Branch_Digit)=RIGHT(BranchCode,Branch_Digit))*(Transaction[Type]=\"เบิก\")*(Transaction[Products]='Factory_Order Frm'!$R110)*(Transaction[Date]=$O110)*(Transaction[Qty In-Out])),PcsPerTray))","v":""}]
[null,null,null,null,null,null,null,null,null,null,null,null,null,{"$f":"IF(Cumulative>(ROW()-ROW($O$20)),_xlfn.AGGREGATE(15,6,(ROW(OrderRange_Ref)-ROW($L$19))/(OFFSET(OrderRange_Ref,,0)>0),ROWS($L$20:$L111)),IF(OFFSET(Cumulative,,1)>(ROW()-ROW($O$20)),_xlfn.AGGREGATE(15,6,(ROW(OrderRange_Ref)-ROW($L$19))/(OFFSET(OrderRange_Ref,,1)>0),ROWS($L$20:$L111)-OFFSET(Cumulative,,0)),IF(OFFSET(Cumulative,,2)>(ROW()-ROW($O$20)),_xlfn.AGGREGATE(15,6,(ROW(OrderRange_Ref)-ROW($L$19))/(OFFSET(OrderRange_Ref,,2)>0),ROWS($L$20:$L111)-OFFSET(Cumulative,,1)),IF(OFFSET(Cumulative,,3)>(ROW()-ROW($O$20)),_xlfn.AGGREGATE(15,6,(ROW(OrderRange_Ref)-ROW($L$19))/(OFFSET(OrderRange_Ref,,3)>0),ROWS($L$20:$L111)-OFFSET(Cumulative,,2)),IF(OFFSET(Cumulative,,4)>(ROW()-ROW($O$20)),_xlfn.AGGREGATE(15,6,(ROW(OrderRange_Ref)-ROW($L$19))/(OFFSET(OrderRange_Ref,,4)>0),ROWS($L$20:$L111)-OFFSET(Cumulative,,3)),IF(OFFSET(Cumulative,,5)>(ROW()-ROW($O$20)),_xlfn.AGGREGATE(15,6,(ROW(OrderRange_Ref)-ROW($L$19))/(OFFSET(OrderRange_Ref,,5)>0),ROWS($L$20:$L111)-OFFSET(Cumulative,,4)),\"\"))))))","v":""},"","","","",{"$f":"IF($N111=\"\",\"\",ROUND(SUMPRODUCT((LEFT(Transaction[Route],Branch_Digit)=RIGHT(BranchCode,Branch_Digit))*(Transaction[Type]=\"เบิก\")*(Transaction[Products]='Factory_Order Frm'!$R111)*(Transaction[Date]=$O111)*(Transaction[Qty In-Out]))/PcsPerTray,0))","v":""},{"$f":"IF($N111=\"\",\"\",MOD(SUMPRODUCT((LEFT(Transaction[Route],Branch_Digit)=RIGHT(BranchCode,Branch_Digit))*(Transaction[Type]=\"เบิก\")*(Transaction[Products]='Factory_Order Frm'!$R111)*(Transaction[Date]=$O111)*(Transaction[Qty In-Out])),PcsPerTray))","v":""}]
[null,null,null,null,null,null,null,null,null,null,null,null,null,{"$f":"IF(Cumulative>(ROW()-ROW($O$20)),_xlfn.AGGREGATE(15,6,(ROW(OrderRange_Ref)-ROW($L$19))/(OFFSET(OrderRange_Ref,,0)>0),ROWS($L$20:$L112)),IF(OFFSET(Cumulative,,1)>(ROW()-ROW($O$20)),_xlfn.AGGREGATE(15,6,(ROW(OrderRange_Ref)-ROW($L$19))/(OFFSET(OrderRange_Ref,,1)>0),ROWS($L$20:$L112)-OFFSET(Cumulative,,0)),IF(OFFSET(Cumulative,,2)>(ROW()-ROW($O$20)),_xlfn.AGGREGATE(15,6,(ROW(OrderRange_Ref)-ROW($L$19))/(OFFSET(OrderRange_Ref,,2)>0),ROWS($L$20:$L112)-OFFSET(Cumulative,,1)),IF(OFFSET(Cumulative,,3)>(ROW()-ROW($O$20)),_xlfn.AGGREGATE(15,6,(ROW(OrderRange_Ref)-ROW($L$19))/(OFFSET(OrderRange_Ref,,3)>0),ROWS($L$20:$L112)-OFFSET(Cumulative,,2)),IF(OFFSET(Cumulative,,4)>(ROW()-ROW($O$20)),_xlfn.AGGREGATE(15,6,(ROW(OrderRange_Ref)-ROW($L$19))/(OFFSET(OrderRange_Ref,,4)>0),ROWS($L$20:$L112)-OFFSET(Cumulative,,3)),IF(OFFSET(Cumulative,,5)>(ROW()-ROW($O$20)),_xlfn.AGGREGATE(15,6,(ROW(OrderRange_Ref)-ROW($L$19))/(OFFSET(OrderRange_Ref,,5)>0),ROWS($L$20:$L112)-OFFSET(Cumulative,,4)),\"\"))))))","v":""},"","","","",{"$f":"IF($N112=\"\",\"\",ROUND(SUMPRODUCT((LEFT(Transaction[Route],Branch_Digit)=RIGHT(BranchCode,Branch_Digit))*(Transaction[Type]=\"เบิก\")*(Transaction[Products]='Factory_Order Frm'!$R112)*(Transaction[Date]=$O112)*(Transaction[Qty In-Out]))/PcsPerTray,0))","v":""},{"$f":"IF($N112=\"\",\"\",MOD(SUMPRODUCT((LEFT(Transaction[Route],Branch_Digit)=RIGHT(BranchCode,Branch_Digit))*(Transaction[Type]=\"เบิก\")*(Transaction[Products]='Factory_Order Frm'!$R112)*(Transaction[Date]=$O112)*(Transaction[Qty In-Out])),PcsPerTray))","v":""}]
[null,null,null,null,null,null,null,null,null,null,null,null,null,{"$f":"IF(Cumulative>(ROW()-ROW($O$20)),_xlfn.AGGREGATE(15,6,(ROW(OrderRange_Ref)-ROW($L$19))/(OFFSET(OrderRange_Ref,,0)>0),ROWS($L$20:$L113)),IF(OFFSET(Cumulative,,1)>(ROW()-ROW($O$20)),_xlfn.AGGREGATE(15,6,(ROW(OrderRange_Ref)-ROW($L$19))/(OFFSET(OrderRange_Ref,,1)>0),ROWS($L$20:$L113)-OFFSET(Cumulative,,0)),IF(OFFSET(Cumulative,,2)>(ROW()-ROW($O$20)),_xlfn.AGGREGATE(15,6,(ROW(OrderRange_Ref)-ROW($L$19))/(OFFSET(OrderRange_Ref,,2)>0),ROWS($L$20:$L113)-OFFSET(Cumulative,,1)),IF(OFFSET(Cumulative,,3)>(ROW()-ROW($O$20)),_xlfn.AGGREGATE(15,6,(ROW(OrderRange_Ref)-ROW($L$19))/(OFFSET(OrderRange_Ref,,3)>0),ROWS($L$20:$L113)-OFFSET(Cumulative,,2)),IF(OFFSET(Cumulative,,4)>(ROW()-ROW($O$20)),_xlfn.AGGREGATE(15,6,(ROW(OrderRange_Ref)-ROW($L$19))/(OFFSET(OrderRange_Ref,,4)>0),ROWS($L$20:$L113)-OFFSET(Cumulative,,3)),IF(OFFSET(Cumulative,,5)>(ROW()-ROW($O$20)),_xlfn.AGGREGATE(15,6,(ROW(OrderRange_Ref)-ROW($L$19))/(OFFSET(OrderRange_Ref,,5)>0),ROWS($L$20:$L113)-OFFSET(Cumulative,,4)),\"\"))))))","v":""},"","","","",{"$f":"IF($N113=\"\",\"\",ROUND(SUMPRODUCT((LEFT(Transaction[Route],Branch_Digit)=RIGHT(BranchCode,Branch_Digit))*(Transaction[Type]=\"เบิก\")*(Transaction[Products]='Factory_Order Frm'!$R113)*(Transaction[Date]=$O113)*(Transaction[Qty In-Out]))/PcsPerTray,0))","v":""},{"$f":"IF($N113=\"\",\"\",MOD(SUMPRODUCT((LEFT(Transaction[Route],Branch_Digit)=RIGHT(BranchCode,Branch_Digit))*(Transaction[Type]=\"เบิก\")*(Transaction[Products]='Factory_Order Frm'!$R113)*(Transaction[Date]=$O113)*(Transaction[Qty In-Out])),PcsPerTray))","v":""}]
[null,null,null,null,null,null,null,null,null,null,null,null,null,{"$f":"IF(Cumulative>(ROW()-ROW($O$20)),_xlfn.AGGREGATE(15,6,(ROW(OrderRange_Ref)-ROW($L$19))/(OFFSET(OrderRange_Ref,,0)>0),ROWS($L$20:$L114)),IF(OFFSET(Cumulative,,1)>(ROW()-ROW($O$20)),_xlfn.AGGREGATE(15,6,(ROW(OrderRange_Ref)-ROW($L$19))/(OFFSET(OrderRange_Ref,,1)>0),ROWS($L$20:$L114)-OFFSET(Cumulative,,0)),IF(OFFSET(Cumulative,,2)>(ROW()-ROW($O$20)),_xlfn.AGGREGATE(15,6,(ROW(OrderRange_Ref)-ROW($L$19))/(OFFSET(OrderRange_Ref,,2)>0),ROWS($L$20:$L114)-OFFSET(Cumulative,,1)),IF(OFFSET(Cumulative,,3)>(ROW()-ROW($O$20)),_xlfn.AGGREGATE(15,6,(ROW(OrderRange_Ref)-ROW($L$19))/(OFFSET(OrderRange_Ref,,3)>0),ROWS($L$20:$L114)-OFFSET(Cumulative,,2)),IF(OFFSET(Cumulative,,4)>(ROW()-ROW($O$20)),_xlfn.AGGREGATE(15,6,(ROW(OrderRange_Ref)-ROW($L$19))/(OFFSET(OrderRange_Ref,,4)>0),ROWS($L$20:$L114)-OFFSET(Cumulative,,3)),IF(OFFSET(Cumulative,,5)>(ROW()-ROW($O$20)),_xlfn.AGGREGATE(15,6,(ROW(OrderRange_Ref)-ROW($L$19))/(OFFSET(OrderRange_Ref,,5)>0),ROWS($L$20:$L114)-OFFSET(Cumulative,,4)),\"\"))))))","v":""},"","","","",{"$f":"IF($N114=\"\",\"\",ROUND(SUMPRODUCT((LEFT(Transaction[Route],Branch_Digit)=RIGHT(BranchCode,Branch_Digit))*(Transaction[Type]=\"เบิก\")*(Transaction[Products]='Factory_Order Frm'!$R114)*(Transaction[Date]=$O114)*(Transaction[Qty In-Out]))/PcsPerTray,0))","v":""},{"$f":"IF($N114=\"\",\"\",MOD(SUMPRODUCT((LEFT(Transaction[Route],Branch_Digit)=RIGHT(BranchCode,Branch_Digit))*(Transaction[Type]=\"เบิก\")*(Transaction[Products]='Factory_Order Frm'!$R114)*(Transaction[Date]=$O114)*(Transaction[Qty In-Out])),PcsPerTray))","v":""}]
[null,null,null,null,null,null,null,null,null,null,null,null,null,{"$f":"IF(Cumulative>(ROW()-ROW($O$20)),_xlfn.AGGREGATE(15,6,(ROW(OrderRange_Ref)-ROW($L$19))/(OFFSET(OrderRange_Ref,,0)>0),ROWS($L$20:$L115)),IF(OFFSET(Cumulative,,1)>(ROW()-ROW($O$20)),_xlfn.AGGREGATE(15,6,(ROW(OrderRange_Ref)-ROW($L$19))/(OFFSET(OrderRange_Ref,,1)>0),ROWS($L$20:$L115)-OFFSET(Cumulative,,0)),IF(OFFSET(Cumulative,,2)>(ROW()-ROW($O$20)),_xlfn.AGGREGATE(15,6,(ROW(OrderRange_Ref)-ROW($L$19))/(OFFSET(OrderRange_Ref,,2)>0),ROWS($L$20:$L115)-OFFSET(Cumulative,,1)),IF(OFFSET(Cumulative,,3)>(ROW()-ROW($O$20)),_xlfn.AGGREGATE(15,6,(ROW(OrderRange_Ref)-ROW($L$19))/(OFFSET(OrderRange_Ref,,3)>0),ROWS($L$20:$L115)-OFFSET(Cumulative,,2)),IF(OFFSET(Cumulative,,4)>(ROW()-ROW($O$20)),_xlfn.AGGREGATE(15,6,(ROW(OrderRange_Ref)-ROW($L$19))/(OFFSET(OrderRange_Ref,,4)>0),ROWS($L$20:$L115)-OFFSET(Cumulative,,3)),IF(OFFSET(Cumulative,,5)>(ROW()-ROW($O$20)),_xlfn.AGGREGATE(15,6,(ROW(OrderRange_Ref)-ROW($L$19))/(OFFSET(OrderRange_Ref,,5)>0),ROWS($L$20:$L115)-OFFSET(Cumulative,,4)),\"\"))))))","v":""},"","","","",{"$f":"IF($N115=\"\",\"\",ROUND(SUMPRODUCT((LEFT(Transaction[Route],Branch_Digit)=RIGHT(BranchCode,Branch_Digit))*(Transaction[Type]=\"เบิก\")*(Transaction[Products]='Factory_Order Frm'!$R115)*(Transaction[Date]=$O115)*(Transaction[Qty In-Out]))/PcsPerTray,0))","v":""},{"$f":"IF($N115=\"\",\"\",MOD(SUMPRODUCT((LEFT(Transaction[Route],Branch_Digit)=RIGHT(BranchCode,Branch_Digit))*(Transaction[Type]=\"เบิก\")*(Transaction[Products]='Factory_Order Frm'!$R115)*(Transaction[Date]=$O115)*(Transaction[Qty In-Out])),PcsPerTray))","v":""}]
[null,null,null,null,null,null,null,null,null,null,null,null,null,{"$f":"IF(Cumulative>(ROW()-ROW($O$20)),_xlfn.AGGREGATE(15,6,(ROW(OrderRange_Ref)-ROW($L$19))/(OFFSET(OrderRange_Ref,,0)>0),ROWS($L$20:$L116)),IF(OFFSET(Cumulative,,1)>(ROW()-ROW($O$20)),_xlfn.AGGREGATE(15,6,(ROW(OrderRange_Ref)-ROW($L$19))/(OFFSET(OrderRange_Ref,,1)>0),ROWS($L$20:$L116)-OFFSET(Cumulative,,0)),IF(OFFSET(Cumulative,,2)>(ROW()-ROW($O$20)),_xlfn.AGGREGATE(15,6,(ROW(OrderRange_Ref)-ROW($L$19))/(OFFSET(OrderRange_Ref,,2)>0),ROWS($L$20:$L116)-OFFSET(Cumulative,,1)),IF(OFFSET(Cumulative,,3)>(ROW()-ROW($O$20)),_xlfn.AGGREGATE(15,6,(ROW(OrderRange_Ref)-ROW($L$19))/(OFFSET(OrderRange_Ref,,3)>0),ROWS($L$20:$L116)-OFFSET(Cumulative,,2)),IF(OFFSET(Cumulative,,4)>(ROW()-ROW($O$20)),_xlfn.AGGREGATE(15,6,(ROW(OrderRange_Ref)-ROW($L$19))/(OFFSET(OrderRange_Ref,,4)>0),ROWS($L$20:$L116)-OFFSET(Cumulative,,3)),IF(OFFSET(Cumulative,,5)>(ROW()-ROW($O$20)),_xlfn.AGGREGATE(15,6,(ROW(OrderRange_Ref)-ROW($L$19))/(OFFSET(OrderRange_Ref,,5)>0),ROWS($L$20:$L116)-OFFSET(Cumulative,,4)),\"\"))))))","v":""},"","","","",{"$f":"IF($N116=\"\",\"\",ROUND(SUMPRODUCT((LEFT(Transaction[Route],Branch_Digit)=RIGHT(BranchCode,Branch_Digit))*(Transaction[Type]=\"เบิก\")*(Transaction[Products]='Factory_Order Frm'!$R116)*(Transaction[Date]=$O116)*(Transaction[Qty In-Out]))/PcsPerTray,0))","v":""},{"$f":"IF($N116=\"\",\"\",MOD(SUMPRODUCT((LEFT(Transaction[Route],Branch_Digit)=RIGHT(BranchCode,Branch_Digit))*(Transaction[Type]=\"เบิก\")*(Transaction[Products]='Factory_Order Frm'!$R116)*(Transaction[Date]=$O116)*(Transaction[Qty In-Out])),PcsPerTray))","v":""}]
[null,null,null,null,null,null,null,null,null,null,null,null,null,{"$f":"IF(Cumulative>(ROW()-ROW($O$20)),_xlfn.AGGREGATE(15,6,(ROW(OrderRange_Ref)-ROW($L$19))/(OFFSET(OrderRange_Ref,,0)>0),ROWS($L$20:$L117)),IF(OFFSET(Cumulative,,1)>(ROW()-ROW($O$20)),_xlfn.AGGREGATE(15,6,(ROW(OrderRange_Ref)-ROW($L$19))/(OFFSET(OrderRange_Ref,,1)>0),ROWS($L$20:$L117)-OFFSET(Cumulative,,0)),IF(OFFSET(Cumulative,,2)>(ROW()-ROW($O$20)),_xlfn.AGGREGATE(15,6,(ROW(OrderRange_Ref)-ROW($L$19))/(OFFSET(OrderRange_Ref,,2)>0),ROWS($L$20:$L117)-OFFSET(Cumulative,,1)),IF(OFFSET(Cumulative,,3)>(ROW()-ROW($O$20)),_xlfn.AGGREGATE(15,6,(ROW(OrderRange_Ref)-ROW($L$19))/(OFFSET(OrderRange_Ref,,3)>0),ROWS($L$20:$L117)-OFFSET(Cumulative,,2)),IF(OFFSET(Cumulative,,4)>(ROW()-ROW($O$20)),_xlfn.AGGREGATE(15,6,(ROW(OrderRange_Ref)-ROW($L$19))/(OFFSET(OrderRange_Ref,,4)>0),ROWS($L$20:$L117)-OFFSET(Cumulative,,3)),IF(OFFSET(Cumulative,,5)>(ROW()-ROW($O$20)),_xlfn.AGGREGATE(15,6,(ROW(OrderRange_Ref)-ROW($L$19))/(OFFSET(OrderRange_Ref,,5)>0),ROWS($L$20:$L117)-OFFSET(Cumulative,,4)),\"\"))))))","v":""},"","","","",{"$f":"IF($N117=\"\",\"\",ROUND(SUMPRODUCT((LEFT(Transaction[Route],Branch_Digit)=RIGHT(BranchCode,Branch_Digit))*(Transaction[Type]=\"เบิก\")*(Transaction[Products]='Factory_Order Frm'!$R117)*(Transaction[Date]=$O117)*(Transaction[Qty In-Out]))/PcsPerTray,0))","v":""},{"$f":"IF($N117=\"\",\"\",MOD(SUMPRODUCT((LEFT(Transaction[Route],Branch_Digit)=RIGHT(BranchCode,Branch_Digit))*(Transaction[Type]=\"เบิก\")*(Transaction[Products]='Factory_Order Frm'!$R117)*(Transaction[Date]=$O117)*(Transaction[Qty In-Out])),PcsPerTray))","v":""}]
[null,null,null,null,null,null,null,null,null,null,null,null,null,{"$f":"IF(Cumulative>(ROW()-ROW($O$20)),_xlfn.AGGREGATE(15,6,(ROW(OrderRange_Ref)-ROW($L$19))/(OFFSET(OrderRange_Ref,,0)>0),ROWS($L$20:$L118)),IF(OFFSET(Cumulative,,1)>(ROW()-ROW($O$20)),_xlfn.AGGREGATE(15,6,(ROW(OrderRange_Ref)-ROW($L$19))/(OFFSET(OrderRange_Ref,,1)>0),ROWS($L$20:$L118)-OFFSET(Cumulative,,0)),IF(OFFSET(Cumulative,,2)>(ROW()-ROW($O$20)),_xlfn.AGGREGATE(15,6,(ROW(OrderRange_Ref)-ROW($L$19))/(OFFSET(OrderRange_Ref,,2)>0),ROWS($L$20:$L118)-OFFSET(Cumulative,,1)),IF(OFFSET(Cumulative,,3)>(ROW()-ROW($O$20)),_xlfn.AGGREGATE(15,6,(ROW(OrderRange_Ref)-ROW($L$19))/(OFFSET(OrderRange_Ref,,3)>0),ROWS($L$20:$L118)-OFFSET(Cumulative,,2)),IF(OFFSET(Cumulative,,4)>(ROW()-ROW($O$20)),_xlfn.AGGREGATE(15,6,(ROW(OrderRange_Ref)-ROW($L$19))/(OFFSET(OrderRange_Ref,,4)>0),ROWS($L$20:$L118)-OFFSET(Cumulative,,3)),IF(OFFSET(Cumulative,,5)>(ROW()-ROW($O$20)),_xlfn.AGGREGATE(15,6,(ROW(OrderRange_Ref)-ROW($L$19))/(OFFSET(OrderRange_Ref,,5)>0),ROWS($L$20:$L118)-OFFSET(Cumulative,,4)),\"\"))))))","v":""},"","","","",{"$f":"IF($N118=\"\",\"\",ROUND(SUMPRODUCT((LEFT(Transaction[Route],Branch_Digit)=RIGHT(BranchCode,Branch_Digit))*(Transaction[Type]=\"เบิก\")*(Transaction[Products]='Factory_Order Frm'!$R118)*(Transaction[Date]=$O118)*(Transaction[Qty In-Out]))/PcsPerTray,0))","v":""},{"$f":"IF($N118=\"\",\"\",MOD(SUMPRODUCT((LEFT(Transaction[Route],Branch_Digit)=RIGHT(BranchCode,Branch_Digit))*(Transaction[Type]=\"เบิก\")*(Transaction[Products]='Factory_Order Frm'!$R118)*(Transaction[Date]=$O118)*(Transaction[Qty In-Out])),PcsPerTray))","v":""}]
[null,null,null,null,null,null,null,null,null,null,null,null,null,{"$f":"IF(Cumulative>(ROW()-ROW($O$20)),_xlfn.AGGREGATE(15,6,(ROW(OrderRange_Ref)-ROW($L$19))/(OFFSET(OrderRange_Ref,,0)>0),ROWS($L$20:$L119)),IF(OFFSET(Cumulative,,1)>(ROW()-ROW($O$20)),_xlfn.AGGREGATE(15,6,(ROW(OrderRange_Ref)-ROW($L$19))/(OFFSET(OrderRange_Ref,,1)>0),ROWS($L$20:$L119)-OFFSET(Cumulative,,0)),IF(OFFSET(Cumulative,,2)>(ROW()-ROW($O$20)),_xlfn.AGGREGATE(15,6,(ROW(OrderRange_Ref)-ROW($L$19))/(OFFSET(OrderRange_Ref,,2)>0),ROWS($L$20:$L119)-OFFSET(Cumulative,,1)),IF(OFFSET(Cumulative,,3)>(ROW()-ROW($O$20)),_xlfn.AGGREGATE(15,6,(ROW(OrderRange_Ref)-ROW($L$19))/(OFFSET(OrderRange_Ref,,3)>0),ROWS($L$20:$L119)-OFFSET(Cumulative,,2)),IF(OFFSET(Cumulative,,4)>(ROW()-ROW($O$20)),_xlfn.AGGREGATE(15,6,(ROW(OrderRange_Ref)-ROW($L$19))/(OFFSET(OrderRange_Ref,,4)>0),ROWS($L$20:$L119)-OFFSET(Cumulative,,3)),IF(OFFSET(Cumulative,,5)>(ROW()-ROW($O$20)),_xlfn.AGGREGATE(15,6,(ROW(OrderRange_Ref)-ROW($L$19))/(OFFSET(OrderRange_Ref,,5)>0),ROWS($L$20:$L119)-OFFSET(Cumulative,,4)),\"\"))))))","v":""},"","","","",{"$f":"IF($N119=\"\",\"\",ROUND(SUMPRODUCT((LEFT(Transaction[Route],Branch_Digit)=RIGHT(BranchCode,Branch_Digit))*(Transaction[Type]=\"เบิก\")*(Transaction[Products]='Factory_Order Frm'!$R119)*(Transaction[Date]=$O119)*(Transaction[Qty In-Out]))/PcsPerTray,0))","v":""},{"$f":"IF($N119=\"\",\"\",MOD(SUMPRODUCT((LEFT(Transaction[Route],Branch_Digit)=RIGHT(BranchCode,Branch_Digit))*(Transaction[Type]=\"เบิก\")*(Transaction[Products]='Factory_Order Frm'!$R119)*(Transaction[Date]=$O119)*(Transaction[Qty In-Out])),PcsPerTray))","v":""}]
[null,null,null,null,null,null,null,null,null,null,null,null,null,{"$f":"IF(Cumulative>(ROW()-ROW($O$20)),_xlfn.AGGREGATE(15,6,(ROW(OrderRange_Ref)-ROW($L$19))/(OFFSET(OrderRange_Ref,,0)>0),ROWS($L$20:$L120)),IF(OFFSET(Cumulative,,1)>(ROW()-ROW($O$20)),_xlfn.AGGREGATE(15,6,(ROW(OrderRange_Ref)-ROW($L$19))/(OFFSET(OrderRange_Ref,,1)>0),ROWS($L$20:$L120)-OFFSET(Cumulative,,0)),IF(OFFSET(Cumulative,,2)>(ROW()-ROW($O$20)),_xlfn.AGGREGATE(15,6,(ROW(OrderRange_Ref)-ROW($L$19))/(OFFSET(OrderRange_Ref,,2)>0),ROWS($L$20:$L120)-OFFSET(Cumulative,,1)),IF(OFFSET(Cumulative,,3)>(ROW()-ROW($O$20)),_xlfn.AGGREGATE(15,6,(ROW(OrderRange_Ref)-ROW($L$19))/(OFFSET(OrderRange_Ref,,3)>0),ROWS($L$20:$L120)-OFFSET(Cumulative,,2)),IF(OFFSET(Cumulative,,4)>(ROW()-ROW($O$20)),_xlfn.AGGREGATE(15,6,(ROW(OrderRange_Ref)-ROW($L$19))/(OFFSET(OrderRange_Ref,,4)>0),ROWS($L$20:$L120)-OFFSET(Cumulative,,3)),IF(OFFSET(Cumulative,,5)>(ROW()-ROW($O$20)),_xlfn.AGGREGATE(15,6,(ROW(OrderRange_Ref)-ROW($L$19))/(OFFSET(OrderRange_Ref,,5)>0),ROWS($L$20:$L120)-OFFSET(Cumulative,,4)),\"\"))))))","v":""},"","","","",{"$f":"IF($N120=\"\",\"\",ROUND(SUMPRODUCT((LEFT(Transaction[Route],Branch_Digit)=RIGHT(BranchCode,Branch_Digit))*(Transaction[Type]=\"เบิก\")*(Transaction[Products]='Factory_Order Frm'!$R120)*(Transaction[Date]=$O120)*(Transaction[Qty In-Out]))/PcsPerTray,0))","v":""},{"$f":"IF($N120=\"\",\"\",MOD(SUMPRODUCT((LEFT(Transaction[Route],Branch_Digit)=RIGHT(BranchCode,Branch_Digit))*(Transaction[Type]=\"เบิก\")*(Transaction[Products]='Factory_Order Frm'!$R120)*(Transaction[Date]=$O120)*(Transaction[Qty In-Out])),PcsPerTray))","v":""}]
[null,null,null,null,null,null,null,null,null,null,null,null,null,{"$f":"IF(Cumulative>(ROW()-ROW($O$20)),_xlfn.AGGREGATE(15,6,(ROW(OrderRange_Ref)-ROW($L$19))/(OFFSET(OrderRange_Ref,,0)>0),ROWS($L$20:$L121)),IF(OFFSET(Cumulative,,1)>(ROW()-ROW($O$20)),_xlfn.AGGREGATE(15,6,(ROW(OrderRange_Ref)-ROW($L$19))/(OFFSET(OrderRange_Ref,,1)>0),ROWS($L$20:$L121)-OFFSET(Cumulative,,0)),IF(OFFSET(Cumulative,,2)>(ROW()-ROW($O$20)),_xlfn.AGGREGATE(15,6,(ROW(OrderRange_Ref)-ROW($L$19))/(OFFSET(OrderRange_Ref,,2)>0),ROWS($L$20:$L121)-OFFSET(Cumulative,,1)),IF(OFFSET(Cumulative,,3)>(ROW()-ROW($O$20)),_xlfn.AGGREGATE(15,6,(ROW(OrderRange_Ref)-ROW($L$19))/(OFFSET(OrderRange_Ref,,3)>0),ROWS($L$20:$L121)-OFFSET(Cumulative,,2)),IF(OFFSET(Cumulative,,4)>(ROW()-ROW($O$20)),_xlfn.AGGREGATE(15,6,(ROW(OrderRange_Ref)-ROW($L$19))/(OFFSET(OrderRange_Ref,,4)>0),ROWS($L$20:$L121)-OFFSET(Cumulative,,3)),IF(OFFSET(Cumulative,,5)>(ROW()-ROW($O$20)),_xlfn.AGGREGATE(15,6,(ROW(OrderRange_Ref)-ROW($L$19))/(OFFSET(OrderRange_Ref,,5)>0),ROWS($L$20:$L121)-OFFSET(Cumulative,,4)),\"\"))))))","v":""},"","","","",{"$f":"IF($N121=\"\",\"\",ROUND(SUMPRODUCT((LEFT(Transaction[Route],Branch_Digit)=RIGHT(BranchCode,Branch_Digit))*(Transaction[Type]=\"เบิก\")*(Transaction[Products]='Factory_Order Frm'!$R121)*(Transaction[Date]=$O121)*(Transaction[Qty In-Out]))/PcsPerTray,0))","v":""},{"$f":"IF($N121=\"\",\"\",MOD(SUMPRODUCT((LEFT(Transaction[Route],Branch_Digit)=RIGHT(BranchCode,Branch_Digit))*(Transaction[Type]=\"เบิก\")*(Transaction[Products]='Factory_Order Frm'!$R121)*(Transaction[Date]=$O121)*(Transaction[Qty In-Out])),PcsPerTray))","v":""}]
[null,null,null,null,null,null,null,null,null,null,null,null,null,{"$f":"IF(Cumulative>(ROW()-ROW($O$20)),_xlfn.AGGREGATE(15,6,(ROW(OrderRange_Ref)-ROW($L$19))/(OFFSET(OrderRange_Ref,,0)>0),ROWS($L$20:$L122)),IF(OFFSET(Cumulative,,1)>(ROW()-ROW($O$20)),_xlfn.AGGREGATE(15,6,(ROW(OrderRange_Ref)-ROW($L$19))/(OFFSET(OrderRange_Ref,,1)>0),ROWS($L$20:$L122)-OFFSET(Cumulative,,0)),IF(OFFSET(Cumulative,,2)>(ROW()-ROW($O$20)),_xlfn.AGGREGATE(15,6,(ROW(OrderRange_Ref)-ROW($L$19))/(OFFSET(OrderRange_Ref,,2)>0),ROWS($L$20:$L122)-OFFSET(Cumulative,,1)),IF(OFFSET(Cumulative,,3)>(ROW()-ROW($O$20)),_xlfn.AGGREGATE(15,6,(ROW(OrderRange_Ref)-ROW($L$19))/(OFFSET(OrderRange_Ref,,3)>0),ROWS($L$20:$L122)-OFFSET(Cumulative,,2)),IF(OFFSET(Cumulative,,4)>(ROW()-ROW($O$20)),_xlfn.AGGREGATE(15,6,(ROW(OrderRange_Ref)-ROW($L$19))/(OFFSET(OrderRange_Ref,,4)>0),ROWS($L$20:$L122)-OFFSET(Cumulative,,3)),IF(OFFSET(Cumulative,,5)>(ROW()-ROW($O$20)),_xlfn.AGGREGATE(15,6,(ROW(OrderRange_Ref)-ROW($L$19))/(OFFSET(OrderRange_Ref,,5)>0),ROWS($L$20:$L122)-OFFSET(Cumulative,,4)),\"\"))))))","v":""},"","","","",{"$f":"IF($N122=\"\",\"\",ROUND(SUMPRODUCT((LEFT(Transaction[Route],Branch_Digit)=RIGHT(BranchCode,Branch_Digit))*(Transaction[Type]=\"เบิก\")*(Transaction[Products]='Factory_Order Frm'!$R122)*(Transaction[Date]=$O122)*(Transaction[Qty In-Out]))/PcsPerTray,0))","v":""},{"$f":"IF($N122=\"\",\"\",MOD(SUMPRODUCT((LEFT(Transaction[Route],Branch_Digit)=RIGHT(BranchCode,Branch_Digit))*(Transaction[Type]=\"เบิก\")*(Transaction[Products]='Factory_Order Frm'!$R122)*(Transaction[Date]=$O122)*(Transaction[Qty In-Out])),PcsPerTray))","v":""}]
[null,null,null,null,null,null,null,null,null,null,null,null,null,{"$f":"IF(Cumulative>(ROW()-ROW($O$20)),_xlfn.AGGREGATE(15,6,(ROW(OrderRange_Ref)-ROW($L$19))/(OFFSET(OrderRange_Ref,,0)>0),ROWS($L$20:$L123)),IF(OFFSET(Cumulative,,1)>(ROW()-ROW($O$20)),_xlfn.AGGREGATE(15,6,(ROW(OrderRange_Ref)-ROW($L$19))/(OFFSET(OrderRange_Ref,,1)>0),ROWS($L$20:$L123)-OFFSET(Cumulative,,0)),IF(OFFSET(Cumulative,,2)>(ROW()-ROW($O$20)),_xlfn.AGGREGATE(15,6,(ROW(OrderRange_Ref)-ROW($L$19))/(OFFSET(OrderRange_Ref,,2)>0),ROWS($L$20:$L123)-OFFSET(Cumulative,,1)),IF(OFFSET(Cumulative,,3)>(ROW()-ROW($O$20)),_xlfn.AGGREGATE(15,6,(ROW(OrderRange_Ref)-ROW($L$19))/(OFFSET(OrderRange_Ref,,3)>0),ROWS($L$20:$L123)-OFFSET(Cumulative,,2)),IF(OFFSET(Cumulative,,4)>(ROW()-ROW($O$20)),_xlfn.AGGREGATE(15,6,(ROW(OrderRange_Ref)-ROW($L$19))/(OFFSET(OrderRange_Ref,,4)>0),ROWS($L$20:$L123)-OFFSET(Cumulative,,3)),IF(OFFSET(Cumulative,,5)>(ROW()-ROW($O$20)),_xlfn.AGGREGATE(15,6,(ROW(OrderRange_Ref)-ROW($L$19))/(OFFSET(OrderRange_Ref,,5)>0),ROWS($L$20:$L123)-OFFSET(Cumulative,,4)),\"\"))))))","v":""},"","","","",{"$f":"IF($N123=\"\",\"\",ROUND(SUMPRODUCT((LEFT(Transaction[Route],Branch_Digit)=RIGHT(BranchCode,Branch_Digit))*(Transaction[Type]=\"เบิก\")*(Transaction[Products]='Factory_Order Frm'!$R123)*(Transaction[Date]=$O123)*(Transaction[Qty In-Out]))/PcsPerTray,0))","v":""},{"$f":"IF($N123=\"\",\"\",MOD(SUMPRODUCT((LEFT(Transaction[Route],Branch_Digit)=RIGHT(BranchCode,Branch_Digit))*(Transaction[Type]=\"เบิก\")*(Transaction[Products]='Factory_Order Frm'!$R123)*(Transaction[Date]=$O123)*(Transaction[Qty In-Out])),PcsPerTray))","v":""}]
[null,null,null,null,null,null,null,null,null,null,null,null,null,{"$f":"IF(Cumulative>(ROW()-ROW($O$20)),_xlfn.AGGREGATE(15,6,(ROW(OrderRange_Ref)-ROW($L$19))/(OFFSET(OrderRange_Ref,,0)>0),ROWS($L$20:$L124)),IF(OFFSET(Cumulative,,1)>(ROW()-ROW($O$20)),_xlfn.AGGREGATE(15,6,(ROW(OrderRange_Ref)-ROW($L$19))/(OFFSET(OrderRange_Ref,,1)>0),ROWS($L$20:$L124)-OFFSET(Cumulative,,0)),IF(OFFSET(Cumulative,,2)>(ROW()-ROW($O$20)),_xlfn.AGGREGATE(15,6,(ROW(OrderRange_Ref)-ROW($L$19))/(OFFSET(OrderRange_Ref,,2)>0),ROWS($L$20:$L124)-OFFSET(Cumulative,,1)),IF(OFFSET(Cumulative,,3)>(ROW()-ROW($O$20)),_xlfn.AGGREGATE(15,6,(ROW(OrderRange_Ref)-ROW($L$19))/(OFFSET(OrderRange_Ref,,3)>0),ROWS($L$20:$L124)-OFFSET(Cumulative,,2)),IF(OFFSET(Cumulative,,4)>(ROW()-ROW($O$20)),_xlfn.AGGREGATE(15,6,(ROW(OrderRange_Ref)-ROW($L$19))/(OFFSET(OrderRange_Ref,,4)>0),ROWS($L$20:$L124)-OFFSET(Cumulative,,3)),IF(OFFSET(Cumulative,,5)>(ROW()-ROW($O$20)),_xlfn.AGGREGATE(15,6,(ROW(OrderRange_Ref)-ROW($L$19))/(OFFSET(OrderRange_Ref,,5)>0),ROWS($L$20:$L124)-OFFSET(Cumulative,,4)),\"\"))))))","v":""},"","","","",{"$f":"IF($N124=\"\",\"\",ROUND(SUMPRODUCT((LEFT(Transaction[Route],Branch_Digit)=RIGHT(BranchCode,Branch_Digit))*(Transaction[Type]=\"เบิก\")*(Transaction[Products]='Factory_Order Frm'!$R124)*(Transaction[Date]=$O124)*(Transaction[Qty In-Out]))/PcsPerTray,0))","v":""},{"$f":"IF($N124=\"\",\"\",MOD(SUMPRODUCT((LEFT(Transaction[Route],Branch_Digit)=RIGHT(BranchCode,Branch_Digit))*(Transaction[Type]=\"เบิก\")*(Transaction[Products]='Factory_Order Frm'!$R124)*(Transaction[Date]=$O124)*(Transaction[Qty In-Out])),PcsPerTray))","v":""}]
[null,null,null,null,null,null,null,null,null,null,null,null,null,{"$f":"IF(Cumulative>(ROW()-ROW($O$20)),_xlfn.AGGREGATE(15,6,(ROW(OrderRange_Ref)-ROW($L$19))/(OFFSET(OrderRange_Ref,,0)>0),ROWS($L$20:$L125)),IF(OFFSET(Cumulative,,1)>(ROW()-ROW($O$20)),_xlfn.AGGREGATE(15,6,(ROW(OrderRange_Ref)-ROW($L$19))/(OFFSET(OrderRange_Ref,,1)>0),ROWS($L$20:$L125)-OFFSET(Cumulative,,0)),IF(OFFSET(Cumulative,,2)>(ROW()-ROW($O$20)),_xlfn.AGGREGATE(15,6,(ROW(OrderRange_Ref)-ROW($L$19))/(OFFSET(OrderRange_Ref,,2)>0),ROWS($L$20:$L125)-OFFSET(Cumulative,,1)),IF(OFFSET(Cumulative,,3)>(ROW()-ROW($O$20)),_xlfn.AGGREGATE(15,6,(ROW(OrderRange_Ref)-ROW($L$19))/(OFFSET(OrderRange_Ref,,3)>0),ROWS($L$20:$L125)-OFFSET(Cumulative,,2)),IF(OFFSET(Cumulative,,4)>(ROW()-ROW($O$20)),_xlfn.AGGREGATE(15,6,(ROW(OrderRange_Ref)-ROW($L$19))/(OFFSET(OrderRange_Ref,,4)>0),ROWS($L$20:$L125)-OFFSET(Cumulative,,3)),IF(OFFSET(Cumulative,,5)>(ROW()-ROW($O$20)),_xlfn.AGGREGATE(15,6,(ROW(OrderRange_Ref)-ROW($L$19))/(OFFSET(OrderRange_Ref,,5)>0),ROWS($L$20:$L125)-OFFSET(Cumulative,,4)),\"\"))))))","v":""},"","","","",{"$f":"IF($N125=\"\",\"\",ROUND(SUMPRODUCT((LEFT(Transaction[Route],Branch_Digit)=RIGHT(BranchCode,Branch_Digit))*(Transaction[Type]=\"เบิก\")*(Transaction[Products]='Factory_Order Frm'!$R125)*(Transaction[Date]=$O125)*(Transaction[Qty In-Out]))/PcsPerTray,0))","v":""},{"$f":"IF($N125=\"\",\"\",MOD(SUMPRODUCT((LEFT(Transaction[Route],Branch_Digit)=RIGHT(BranchCode,Branch_Digit))*(Transaction[Type]=\"เบิก\")*(Transaction[Products]='Factory_Order Frm'!$R125)*(Transaction[Date]=$O125)*(Transaction[Qty In-Out])),PcsPerTray))","v":""}]
[null,null,null,null,null,null,null,null,null,null,null,null,null,{"$f":"IF(Cumulative>(ROW()-ROW($O$20)),_xlfn.AGGREGATE(15,6,(ROW(OrderRange_Ref)-ROW($L$19))/(OFFSET(OrderRange_Ref,,0)>0),ROWS($L$20:$L126)),IF(OFFSET(Cumulative,,1)>(ROW()-ROW($O$20)),_xlfn.AGGREGATE(15,6,(ROW(OrderRange_Ref)-ROW($L$19))/(OFFSET(OrderRange_Ref,,1)>0),ROWS($L$20:$L126)-OFFSET(Cumulative,,0)),IF(OFFSET(Cumulative,,2)>(ROW()-ROW($O$20)),_xlfn.AGGREGATE(15,6,(ROW(OrderRange_Ref)-ROW($L$19))/(OFFSET(OrderRange_Ref,,2)>0),ROWS($L$20:$L126)-OFFSET(Cumulative,,1)),IF(OFFSET(Cumulative,,3)>(ROW()-ROW($O$20)),_xlfn.AGGREGATE(15,6,(ROW(OrderRange_Ref)-ROW($L$19))/(OFFSET(OrderRange_Ref,,3)>0),ROWS($L$20:$L126)-OFFSET(Cumulative,,2)),IF(OFFSET(Cumulative,,4)>(ROW()-ROW($O$20)),_xlfn.AGGREGATE(15,6,(ROW(OrderRange_Ref)-ROW($L$19))/(OFFSET(OrderRange_Ref,,4)>0),ROWS($L$20:$L126)-OFFSET(Cumulative,,3)),IF(OFFSET(Cumulative,,5)>(ROW()-ROW($O$20)),_xlfn.AGGREGATE(15,6,(ROW(OrderRange_Ref)-ROW($L$19))/(OFFSET(OrderRange_Ref,,5)>0),ROWS($L$20:$L126)-OFFSET(Cumulative,,4)),\"\"))))))","v":""},"","","","",{"$f":"IF($N126=\"\",\"\",ROUND(SUMPRODUCT((LEFT(Transaction[Route],Branch_Digit)=RIGHT(BranchCode,Branch_Digit))*(Transaction[Type]=\"เบิก\")*(Transaction[Products]='Factory_Order Frm'!$R126)*(Transaction[Date]=$O126)*(Transaction[Qty In-Out]))/PcsPerTray,0))","v":""},{"$f":"IF($N126=\"\",\"\",MOD(SUMPRODUCT((LEFT(Transaction[Route],Branch_Digit)=RIGHT(BranchCode,Branch_Digit))*(Transaction[Type]=\"เบิก\")*(Transaction[Products]='Factory_Order Frm'!$R126)*(Transaction[Date]=$O126)*(Transaction[Qty In-Out])),PcsPerTray))","v":""}]
[null,null,null,null,null,null,null,null,null,null,null,null,null,{"$f":"IF(Cumulative>(ROW()-ROW($O$20)),_xlfn.AGGREGATE(15,6,(ROW(OrderRange_Ref)-ROW($L$19))/(OFFSET(OrderRange_Ref,,0)>0),ROWS($L$20:$L127)),IF(OFFSET(Cumulative,,1)>(ROW()-ROW($O$20)),_xlfn.AGGREGATE(15,6,(ROW(OrderRange_Ref)-ROW($L$19))/(OFFSET(OrderRange_Ref,,1)>0),ROWS($L$20:$L127)-OFFSET(Cumulative,,0)),IF(OFFSET(Cumulative,,2)>(ROW()-ROW($O$20)),_xlfn.AGGREGATE(15,6,(ROW(OrderRange_Ref)-ROW($L$19))/(OFFSET(OrderRange_Ref,,2)>0),ROWS($L$20:$L127)-OFFSET(Cumulative,,1)),IF(OFFSET(Cumulative,,3)>(ROW()-ROW($O$20)),_xlfn.AGGREGATE(15,6,(ROW(OrderRange_Ref)-ROW($L$19))/(OFFSET(OrderRange_Ref,,3)>0),ROWS($L$20:$L127)-OFFSET(Cumulative,,2)),IF(OFFSET(Cumulative,,4)>(ROW()-ROW($O$20)),_xlfn.AGGREGATE(15,6,(ROW(OrderRange_Ref)-ROW($L$19))/(OFFSET(OrderRange_Ref,,4)>0),ROWS($L$20:$L127)-OFFSET(Cumulative,,3)),IF(OFFSET(Cumulative,,5)>(ROW()-ROW($O$20)),_xlfn.AGGREGATE(15,6,(ROW(OrderRange_Ref)-ROW($L$19))/(OFFSET(OrderRange_Ref,,5)>0),ROWS($L$20:$L127)-OFFSET(Cumulative,,4)),\"\"))))))","v":""},"","","","",{"$f":"IF($N127=\"\",\"\",ROUND(SUMPRODUCT((LEFT(Transaction[Route],Branch_Digit)=RIGHT(BranchCode,Branch_Digit))*(Transaction[Type]=\"เบิก\")*(Transaction[Products]='Factory_Order Frm'!$R127)*(Transaction[Date]=$O127)*(Transaction[Qty In-Out]))/PcsPerTray,0))","v":""},{"$f":"IF($N127=\"\",\"\",MOD(SUMPRODUCT((LEFT(Transaction[Route],Branch_Digit)=RIGHT(BranchCode,Branch_Digit))*(Transaction[Type]=\"เบิก\")*(Transaction[Products]='Factory_Order Frm'!$R127)*(Transaction[Date]=$O127)*(Transaction[Qty In-Out])),PcsPerTray))","v":""}]
[null,null,null,null,null,null,null,null,null,null,null,null,null,{"$f":"IF(Cumulative>(ROW()-ROW($O$20)),_xlfn.AGGREGATE(15,6,(ROW(OrderRange_Ref)-ROW($L$19))/(OFFSET(OrderRange_Ref,,0)>0),ROWS($L$20:$L128)),IF(OFFSET(Cumulative,,1)>(ROW()-ROW($O$20)),_xlfn.AGGREGATE(15,6,(ROW(OrderRange_Ref)-ROW($L$19))/(OFFSET(OrderRange_Ref,,1)>0),ROWS($L$20:$L128)-OFFSET(Cumulative,,0)),IF(OFFSET(Cumulative,,2)>(ROW()-ROW($O$20)),_xlfn.AGGREGATE(15,6,(ROW(OrderRange_Ref)-ROW($L$19))/(OFFSET(OrderRange_Ref,,2)>0),ROWS($L$20:$L128)-OFFSET(Cumulative,,1)),IF(OFFSET(Cumulative,,3)>(ROW()-ROW($O$20)),_xlfn.AGGREGATE(15,6,(ROW(OrderRange_Ref)-ROW($L$19))/(OFFSET(OrderRange_Ref,,3)>0),ROWS($L$20:$L128)-OFFSET(Cumulative,,2)),IF(OFFSET(Cumulative,,4)>(ROW()-ROW($O$20)),_xlfn.AGGREGATE(15,6,(ROW(OrderRange_Ref)-ROW($L$19))/(OFFSET(OrderRange_Ref,,4)>0),ROWS($L$20:$L128)-OFFSET(Cumulative,,3)),IF(OFFSET(Cumulative,,5)>(ROW()-ROW($O$20)),_xlfn.AGGREGATE(15,6,(ROW(OrderRange_Ref)-ROW($L$19))/(OFFSET(OrderRange_Ref,,5)>0),ROWS($L$20:$L128)-OFFSET(Cumulative,,4)),\"\"))))))","v":""},"","","","",{"$f":"IF($N128=\"\",\"\",ROUND(SUMPRODUCT((LEFT(Transaction[Route],Branch_Digit)=RIGHT(BranchCode,Branch_Digit))*(Transaction[Type]=\"เบิก\")*(Transaction[Products]='Factory_Order Frm'!$R128)*(Transaction[Date]=$O128)*(Transaction[Qty In-Out]))/PcsPerTray,0))","v":""},{"$f":"IF($N128=\"\",\"\",MOD(SUMPRODUCT((LEFT(Transaction[Route],Branch_Digit)=RIGHT(BranchCode,Branch_Digit))*(Transaction[Type]=\"เบิก\")*(Transaction[Products]='Factory_Order Frm'!$R128)*(Transaction[Date]=$O128)*(Transaction[Qty In-Out])),PcsPerTray))","v":""}]
[null,null,null,null,null,null,null,null,null,null,null,null,null,{"$f":"IF(Cumulative>(ROW()-ROW($O$20)),_xlfn.AGGREGATE(15,6,(ROW(OrderRange_Ref)-ROW($L$19))/(OFFSET(OrderRange_Ref,,0)>0),ROWS($L$20:$L129)),IF(OFFSET(Cumulative,,1)>(ROW()-ROW($O$20)),_xlfn.AGGREGATE(15,6,(ROW(OrderRange_Ref)-ROW($L$19))/(OFFSET(OrderRange_Ref,,1)>0),ROWS($L$20:$L129)-OFFSET(Cumulative,,0)),IF(OFFSET(Cumulative,,2)>(ROW()-ROW($O$20)),_xlfn.AGGREGATE(15,6,(ROW(OrderRange_Ref)-ROW($L$19))/(OFFSET(OrderRange_Ref,,2)>0),ROWS($L$20:$L129)-OFFSET(Cumulative,,1)),IF(OFFSET(Cumulative,,3)>(ROW()-ROW($O$20)),_xlfn.AGGREGATE(15,6,(ROW(OrderRange_Ref)-ROW($L$19))/(OFFSET(OrderRange_Ref,,3)>0),ROWS($L$20:$L129)-OFFSET(Cumulative,,2)),IF(OFFSET(Cumulative,,4)>(ROW()-ROW($O$20)),_xlfn.AGGREGATE(15,6,(ROW(OrderRange_Ref)-ROW($L$19))/(OFFSET(OrderRange_Ref,,4)>0),ROWS($L$20:$L129)-OFFSET(Cumulative,,3)),IF(OFFSET(Cumulative,,5)>(ROW()-ROW($O$20)),_xlfn.AGGREGATE(15,6,(ROW(OrderRange_Ref)-ROW($L$19))/(OFFSET(OrderRange_Ref,,5)>0),ROWS($L$20:$L129)-OFFSET(Cumulative,,4)),\"\"))))))","v":""},"","","","",{"$f":"IF($N129=\"\",\"\",ROUND(SUMPRODUCT((LEFT(Transaction[Route],Branch_Digit)=RIGHT(BranchCode,Branch_Digit))*(Transaction[Type]=\"เบิก\")*(Transaction[Products]='Factory_Order Frm'!$R129)*(Transaction[Date]=$O129)*(Transaction[Qty In-Out]))/PcsPerTray,0))","v":""},{"$f":"IF($N129=\"\",\"\",MOD(SUMPRODUCT((LEFT(Transaction[Route],Branch_Digit)=RIGHT(BranchCode,Branch_Digit))*(Transaction[Type]=\"เบิก\")*(Transaction[Products]='Factory_Order Frm'!$R129)*(Transaction[Date]=$O129)*(Transaction[Qty In-Out])),PcsPerTray))","v":""}]
[null,null,null,null,null,null,null,null,null,null,null,null,null,{"$f":"IF(Cumulative>(ROW()-ROW($O$20)),_xlfn.AGGREGATE(15,6,(ROW(OrderRange_Ref)-ROW($L$19))/(OFFSET(OrderRange_Ref,,0)>0),ROWS($L$20:$L130)),IF(OFFSET(Cumulative,,1)>(ROW()-ROW($O$20)),_xlfn.AGGREGATE(15,6,(ROW(OrderRange_Ref)-ROW($L$19))/(OFFSET(OrderRange_Ref,,1)>0),ROWS($L$20:$L130)-OFFSET(Cumulative,,0)),IF(OFFSET(Cumulative,,2)>(ROW()-ROW($O$20)),_xlfn.AGGREGATE(15,6,(ROW(OrderRange_Ref)-ROW($L$19))/(OFFSET(OrderRange_Ref,,2)>0),ROWS($L$20:$L130)-OFFSET(Cumulative,,1)),IF(OFFSET(Cumulative,,3)>(ROW()-ROW($O$20)),_xlfn.AGGREGATE(15,6,(ROW(OrderRange_Ref)-ROW($L$19))/(OFFSET(OrderRange_Ref,,3)>0),ROWS($L$20:$L130)-OFFSET(Cumulative,,2)),IF(OFFSET(Cumulative,,4)>(ROW()-ROW($O$20)),_xlfn.AGGREGATE(15,6,(ROW(OrderRange_Ref)-ROW($L$19))/(OFFSET(OrderRange_Ref,,4)>0),ROWS($L$20:$L130)-OFFSET(Cumulative,,3)),IF(OFFSET(Cumulative,,5)>(ROW()-ROW($O$20)),_xlfn.AGGREGATE(15,6,(ROW(OrderRange_Ref)-ROW($L$19))/(OFFSET(OrderRange_Ref,,5)>0),ROWS($L$20:$L130)-OFFSET(Cumulative,,4)),\"\"))))))","v":""},"","","","",{"$f":"IF($N130=\"\",\"\",ROUND(SUMPRODUCT((LEFT(Transaction[Route],Branch_Digit)=RIGHT(BranchCode,Branch_Digit))*(Transaction[Type]=\"เบิก\")*(Transaction[Products]='Factory_Order Frm'!$R130)*(Transaction[Date]=$O130)*(Transaction[Qty In-Out]))/PcsPerTray,0))","v":""},{"$f":"IF($N130=\"\",\"\",MOD(SUMPRODUCT((LEFT(Transaction[Route],Branch_Digit)=RIGHT(BranchCode,Branch_Digit))*(Transaction[Type]=\"เบิก\")*(Transaction[Products]='Factory_Order Frm'!$R130)*(Transaction[Date]=$O130)*(Transaction[Qty In-Out])),PcsPerTray))","v":""}]
[null,null,null,null,null,null,null,null,null,null,null,null,null,{"$f":"IF(Cumulative>(ROW()-ROW($O$20)),_xlfn.AGGREGATE(15,6,(ROW(OrderRange_Ref)-ROW($L$19))/(OFFSET(OrderRange_Ref,,0)>0),ROWS($L$20:$L131)),IF(OFFSET(Cumulative,,1)>(ROW()-ROW($O$20)),_xlfn.AGGREGATE(15,6,(ROW(OrderRange_Ref)-ROW($L$19))/(OFFSET(OrderRange_Ref,,1)>0),ROWS($L$20:$L131)-OFFSET(Cumulative,,0)),IF(OFFSET(Cumulative,,2)>(ROW()-ROW($O$20)),_xlfn.AGGREGATE(15,6,(ROW(OrderRange_Ref)-ROW($L$19))/(OFFSET(OrderRange_Ref,,2)>0),ROWS($L$20:$L131)-OFFSET(Cumulative,,1)),IF(OFFSET(Cumulative,,3)>(ROW()-ROW($O$20)),_xlfn.AGGREGATE(15,6,(ROW(OrderRange_Ref)-ROW($L$19))/(OFFSET(OrderRange_Ref,,3)>0),ROWS($L$20:$L131)-OFFSET(Cumulative,,2)),IF(OFFSET(Cumulative,,4)>(ROW()-ROW($O$20)),_xlfn.AGGREGATE(15,6,(ROW(OrderRange_Ref)-ROW($L$19))/(OFFSET(OrderRange_Ref,,4)>0),ROWS($L$20:$L131)-OFFSET(Cumulative,,3)),IF(OFFSET(Cumulative,,5)>(ROW()-ROW($O$20)),_xlfn.AGGREGATE(15,6,(ROW(OrderRange_Ref)-ROW($L$19))/(OFFSET(OrderRange_Ref,,5)>0),ROWS($L$20:$L131)-OFFSET(Cumulative,,4)),\"\"))))))","v":""},"","","","",{"$f":"IF($N131=\"\",\"\",ROUND(SUMPRODUCT((LEFT(Transaction[Route],Branch_Digit)=RIGHT(BranchCode,Branch_Digit))*(Transaction[Type]=\"เบิก\")*(Transaction[Products]='Factory_Order Frm'!$R131)*(Transaction[Date]=$O131)*(Transaction[Qty In-Out]))/PcsPerTray,0))","v":""},{"$f":"IF($N131=\"\",\"\",MOD(SUMPRODUCT((LEFT(Transaction[Route],Branch_Digit)=RIGHT(BranchCode,Branch_Digit))*(Transaction[Type]=\"เบิก\")*(Transaction[Products]='Factory_Order Frm'!$R131)*(Transaction[Date]=$O131)*(Transaction[Qty In-Out])),PcsPerTray))","v":""}]
[null,null,null,null,null,null,null,null,null,null,null,null,null,{"$f":"IF(Cumulative>(ROW()-ROW($O$20)),_xlfn.AGGREGATE(15,6,(ROW(OrderRange_Ref)-ROW($L$19))/(OFFSET(OrderRange_Ref,,0)>0),ROWS($L$20:$L132)),IF(OFFSET(Cumulative,,1)>(ROW()-ROW($O$20)),_xlfn.AGGREGATE(15,6,(ROW(OrderRange_Ref)-ROW($L$19))/(OFFSET(OrderRange_Ref,,1)>0),ROWS($L$20:$L132)-OFFSET(Cumulative,,0)),IF(OFFSET(Cumulative,,2)>(ROW()-ROW($O$20)),_xlfn.AGGREGATE(15,6,(ROW(OrderRange_Ref)-ROW($L$19))/(OFFSET(OrderRange_Ref,,2)>0),ROWS($L$20:$L132)-OFFSET(Cumulative,,1)),IF(OFFSET(Cumulative,,3)>(ROW()-ROW($O$20)),_xlfn.AGGREGATE(15,6,(ROW(OrderRange_Ref)-ROW($L$19))/(OFFSET(OrderRange_Ref,,3)>0),ROWS($L$20:$L132)-OFFSET(Cumulative,,2)),IF(OFFSET(Cumulative,,4)>(ROW()-ROW($O$20)),_xlfn.AGGREGATE(15,6,(ROW(OrderRange_Ref)-ROW($L$19))/(OFFSET(OrderRange_Ref,,4)>0),ROWS($L$20:$L132)-OFFSET(Cumulative,,3)),IF(OFFSET(Cumulative,,5)>(ROW()-ROW($O$20)),_xlfn.AGGREGATE(15,6,(ROW(OrderRange_Ref)-ROW($L$19))/(OFFSET(OrderRange_Ref,,5)>0),ROWS($L$20:$L132)-OFFSET(Cumulative,,4)),\"\"))))))","v":""},"","","","",{"$f":"IF($N132=\"\",\"\",ROUND(SUMPRODUCT((LEFT(Transaction[Route],Branch_Digit)=RIGHT(BranchCode,Branch_Digit))*(Transaction[Type]=\"เบิก\")*(Transaction[Products]='Factory_Order Frm'!$R132)*(Transaction[Date]=$O132)*(Transaction[Qty In-Out]))/PcsPerTray,0))","v":""},{"$f":"IF($N132=\"\",\"\",MOD(SUMPRODUCT((LEFT(Transaction[Route],Branch_Digit)=RIGHT(BranchCode,Branch_Digit))*(Transaction[Type]=\"เบิก\")*(Transaction[Products]='Factory_Order Frm'!$R132)*(Transaction[Date]=$O132)*(Transaction[Qty In-Out])),PcsPerTray))","v":""}]
[null,null,null,null,null,null,null,null,null,null,null,null,null,{"$f":"IF(Cumulative>(ROW()-ROW($O$20)),_xlfn.AGGREGATE(15,6,(ROW(OrderRange_Ref)-ROW($L$19))/(OFFSET(OrderRange_Ref,,0)>0),ROWS($L$20:$L133)),IF(OFFSET(Cumulative,,1)>(ROW()-ROW($O$20)),_xlfn.AGGREGATE(15,6,(ROW(OrderRange_Ref)-ROW($L$19))/(OFFSET(OrderRange_Ref,,1)>0),ROWS($L$20:$L133)-OFFSET(Cumulative,,0)),IF(OFFSET(Cumulative,,2)>(ROW()-ROW($O$20)),_xlfn.AGGREGATE(15,6,(ROW(OrderRange_Ref)-ROW($L$19))/(OFFSET(OrderRange_Ref,,2)>0),ROWS($L$20:$L133)-OFFSET(Cumulative,,1)),IF(OFFSET(Cumulative,,3)>(ROW()-ROW($O$20)),_xlfn.AGGREGATE(15,6,(ROW(OrderRange_Ref)-ROW($L$19))/(OFFSET(OrderRange_Ref,,3)>0),ROWS($L$20:$L133)-OFFSET(Cumulative,,2)),IF(OFFSET(Cumulative,,4)>(ROW()-ROW($O$20)),_xlfn.AGGREGATE(15,6,(ROW(OrderRange_Ref)-ROW($L$19))/(OFFSET(OrderRange_Ref,,4)>0),ROWS($L$20:$L133)-OFFSET(Cumulative,,3)),IF(OFFSET(Cumulative,,5)>(ROW()-ROW($O$20)),_xlfn.AGGREGATE(15,6,(ROW(OrderRange_Ref)-ROW($L$19))/(OFFSET(OrderRange_Ref,,5)>0),ROWS($L$20:$L133)-OFFSET(Cumulative,,4)),\"\"))))))","v":""},"","","","",{"$f":"IF($N133=\"\",\"\",ROUND(SUMPRODUCT((LEFT(Transaction[Route],Branch_Digit)=RIGHT(BranchCode,Branch_Digit))*(Transaction[Type]=\"เบิก\")*(Transaction[Products]='Factory_Order Frm'!$R133)*(Transaction[Date]=$O133)*(Transaction[Qty In-Out]))/PcsPerTray,0))","v":""},{"$f":"IF($N133=\"\",\"\",MOD(SUMPRODUCT((LEFT(Transaction[Route],Branch_Digit)=RIGHT(BranchCode,Branch_Digit))*(Transaction[Type]=\"เบิก\")*(Transaction[Products]='Factory_Order Frm'!$R133)*(Transaction[Date]=$O133)*(Transaction[Qty In-Out])),PcsPerTray))","v":""}]
[null,null,null,null,null,null,null,null,null,null,null,null,null,{"$f":"IF(Cumulative>(ROW()-ROW($O$20)),_xlfn.AGGREGATE(15,6,(ROW(OrderRange_Ref)-ROW($L$19))/(OFFSET(OrderRange_Ref,,0)>0),ROWS($L$20:$L134)),IF(OFFSET(Cumulative,,1)>(ROW()-ROW($O$20)),_xlfn.AGGREGATE(15,6,(ROW(OrderRange_Ref)-ROW($L$19))/(OFFSET(OrderRange_Ref,,1)>0),ROWS($L$20:$L134)-OFFSET(Cumulative,,0)),IF(OFFSET(Cumulative,,2)>(ROW()-ROW($O$20)),_xlfn.AGGREGATE(15,6,(ROW(OrderRange_Ref)-ROW($L$19))/(OFFSET(OrderRange_Ref,,2)>0),ROWS($L$20:$L134)-OFFSET(Cumulative,,1)),IF(OFFSET(Cumulative,,3)>(ROW()-ROW($O$20)),_xlfn.AGGREGATE(15,6,(ROW(OrderRange_Ref)-ROW($L$19))/(OFFSET(OrderRange_Ref,,3)>0),ROWS($L$20:$L134)-OFFSET(Cumulative,,2)),IF(OFFSET(Cumulative,,4)>(ROW()-ROW($O$20)),_xlfn.AGGREGATE(15,6,(ROW(OrderRange_Ref)-ROW($L$19))/(OFFSET(OrderRange_Ref,,4)>0),ROWS($L$20:$L134)-OFFSET(Cumulative,,3)),IF(OFFSET(Cumulative,,5)>(ROW()-ROW($O$20)),_xlfn.AGGREGATE(15,6,(ROW(OrderRange_Ref)-ROW($L$19))/(OFFSET(OrderRange_Ref,,5)>0),ROWS($L$20:$L134)-OFFSET(Cumulative,,4)),\"\"))))))","v":""},"","","","",{"$f":"IF($N134=\"\",\"\",ROUND(SUMPRODUCT((LEFT(Transaction[Route],Branch_Digit)=RIGHT(BranchCode,Branch_Digit))*(Transaction[Type]=\"เบิก\")*(Transaction[Products]='Factory_Order Frm'!$R134)*(Transaction[Date]=$O134)*(Transaction[Qty In-Out]))/PcsPerTray,0))","v":""},{"$f":"IF($N134=\"\",\"\",MOD(SUMPRODUCT((LEFT(Transaction[Route],Branch_Digit)=RIGHT(BranchCode,Branch_Digit))*(Transaction[Type]=\"เบิก\")*(Transaction[Products]='Factory_Order Frm'!$R134)*(Transaction[Date]=$O134)*(Transaction[Qty In-Out])),PcsPerTray))","v":""}]
[null,null,null,null,null,null,null,null,null,null,null,null,null,{"$f":"IF(Cumulative>(ROW()-ROW($O$20)),_xlfn.AGGREGATE(15,6,(ROW(OrderRange_Ref)-ROW($L$19))/(OFFSET(OrderRange_Ref,,0)>0),ROWS($L$20:$L135)),IF(OFFSET(Cumulative,,1)>(ROW()-ROW($O$20)),_xlfn.AGGREGATE(15,6,(ROW(OrderRange_Ref)-ROW($L$19))/(OFFSET(OrderRange_Ref,,1)>0),ROWS($L$20:$L135)-OFFSET(Cumulative,,0)),IF(OFFSET(Cumulative,,2)>(ROW()-ROW($O$20)),_xlfn.AGGREGATE(15,6,(ROW(OrderRange_Ref)-ROW($L$19))/(OFFSET(OrderRange_Ref,,2)>0),ROWS($L$20:$L135)-OFFSET(Cumulative,,1)),IF(OFFSET(Cumulative,,3)>(ROW()-ROW($O$20)),_xlfn.AGGREGATE(15,6,(ROW(OrderRange_Ref)-ROW($L$19))/(OFFSET(OrderRange_Ref,,3)>0),ROWS($L$20:$L135)-OFFSET(Cumulative,,2)),IF(OFFSET(Cumulative,,4)>(ROW()-ROW($O$20)),_xlfn.AGGREGATE(15,6,(ROW(OrderRange_Ref)-ROW($L$19))/(OFFSET(OrderRange_Ref,,4)>0),ROWS($L$20:$L135)-OFFSET(Cumulative,,3)),IF(OFFSET(Cumulative,,5)>(ROW()-ROW($O$20)),_xlfn.AGGREGATE(15,6,(ROW(OrderRange_Ref)-ROW($L$19))/(OFFSET(OrderRange_Ref,,5)>0),ROWS($L$20:$L135)-OFFSET(Cumulative,,4)),\"\"))))))","v":""},"","","","",{"$f":"IF($N135=\"\",\"\",ROUND(SUMPRODUCT((LEFT(Transaction[Route],Branch_Digit)=RIGHT(BranchCode,Branch_Digit))*(Transaction[Type]=\"เบิก\")*(Transaction[Products]='Factory_Order Frm'!$R135)*(Transaction[Date]=$O135)*(Transaction[Qty In-Out]))/PcsPerTray,0))","v":""},{"$f":"IF($N135=\"\",\"\",MOD(SUMPRODUCT((LEFT(Transaction[Route],Branch_Digit)=RIGHT(BranchCode,Branch_Digit))*(Transaction[Type]=\"เบิก\")*(Transaction[Products]='Factory_Order Frm'!$R135)*(Transaction[Date]=$O135)*(Transaction[Qty In-Out])),PcsPerTray))","v":""}]
[null,null,null,null,null,null,null,null,null,null,null,null,null,{"$f":"IF(Cumulative>(ROW()-ROW($O$20)),_xlfn.AGGREGATE(15,6,(ROW(OrderRange_Ref)-ROW($L$19))/(OFFSET(OrderRange_Ref,,0)>0),ROWS($L$20:$L136)),IF(OFFSET(Cumulative,,1)>(ROW()-ROW($O$20)),_xlfn.AGGREGATE(15,6,(ROW(OrderRange_Ref)-ROW($L$19))/(OFFSET(OrderRange_Ref,,1)>0),ROWS($L$20:$L136)-OFFSET(Cumulative,,0)),IF(OFFSET(Cumulative,,2)>(ROW()-ROW($O$20)),_xlfn.AGGREGATE(15,6,(ROW(OrderRange_Ref)-ROW($L$19))/(OFFSET(OrderRange_Ref,,2)>0),ROWS($L$20:$L136)-OFFSET(Cumulative,,1)),IF(OFFSET(Cumulative,,3)>(ROW()-ROW($O$20)),_xlfn.AGGREGATE(15,6,(ROW(OrderRange_Ref)-ROW($L$19))/(OFFSET(OrderRange_Ref,,3)>0),ROWS($L$20:$L136)-OFFSET(Cumulative,,2)),IF(OFFSET(Cumulative,,4)>(ROW()-ROW($O$20)),_xlfn.AGGREGATE(15,6,(ROW(OrderRange_Ref)-ROW($L$19))/(OFFSET(OrderRange_Ref,,4)>0),ROWS($L$20:$L136)-OFFSET(Cumulative,,3)),IF(OFFSET(Cumulative,,5)>(ROW()-ROW($O$20)),_xlfn.AGGREGATE(15,6,(ROW(OrderRange_Ref)-ROW($L$19))/(OFFSET(OrderRange_Ref,,5)>0),ROWS($L$20:$L136)-OFFSET(Cumulative,,4)),\"\"))))))","v":""},"","","","",{"$f":"IF($N136=\"\",\"\",ROUND(SUMPRODUCT((LEFT(Transaction[Route],Branch_Digit)=RIGHT(BranchCode,Branch_Digit))*(Transaction[Type]=\"เบิก\")*(Transaction[Products]='Factory_Order Frm'!$R136)*(Transaction[Date]=$O136)*(Transaction[Qty In-Out]))/PcsPerTray,0))","v":""},{"$f":"IF($N136=\"\",\"\",MOD(SUMPRODUCT((LEFT(Transaction[Route],Branch_Digit)=RIGHT(BranchCode,Branch_Digit))*(Transaction[Type]=\"เบิก\")*(Transaction[Products]='Factory_Order Frm'!$R136)*(Transaction[Date]=$O136)*(Transaction[Qty In-Out])),PcsPerTray))","v":""}]
[null,null,null,null,null,null,null,null,null,null,null,null,null,{"$f":"IF(Cumulative>(ROW()-ROW($O$20)),_xlfn.AGGREGATE(15,6,(ROW(OrderRange_Ref)-ROW($L$19))/(OFFSET(OrderRange_Ref,,0)>0),ROWS($L$20:$L137)),IF(OFFSET(Cumulative,,1)>(ROW()-ROW($O$20)),_xlfn.AGGREGATE(15,6,(ROW(OrderRange_Ref)-ROW($L$19))/(OFFSET(OrderRange_Ref,,1)>0),ROWS($L$20:$L137)-OFFSET(Cumulative,,0)),IF(OFFSET(Cumulative,,2)>(ROW()-ROW($O$20)),_xlfn.AGGREGATE(15,6,(ROW(OrderRange_Ref)-ROW($L$19))/(OFFSET(OrderRange_Ref,,2)>0),ROWS($L$20:$L137)-OFFSET(Cumulative,,1)),IF(OFFSET(Cumulative,,3)>(ROW()-ROW($O$20)),_xlfn.AGGREGATE(15,6,(ROW(OrderRange_Ref)-ROW($L$19))/(OFFSET(OrderRange_Ref,,3)>0),ROWS($L$20:$L137)-OFFSET(Cumulative,,2)),IF(OFFSET(Cumulative,,4)>(ROW()-ROW($O$20)),_xlfn.AGGREGATE(15,6,(ROW(OrderRange_Ref)-ROW($L$19))/(OFFSET(OrderRange_Ref,,4)>0),ROWS($L$20:$L137)-OFFSET(Cumulative,,3)),IF(OFFSET(Cumulative,,5)>(ROW()-ROW($O$20)),_xlfn.AGGREGATE(15,6,(ROW(OrderRange_Ref)-ROW($L$19))/(OFFSET(OrderRange_Ref,,5)>0),ROWS($L$20:$L137)-OFFSET(Cumulative,,4)),\"\"))))))","v":""},"","","","",{"$f":"IF($N137=\"\",\"\",ROUND(SUMPRODUCT((LEFT(Transaction[Route],Branch_Digit)=RIGHT(BranchCode,Branch_Digit))*(Transaction[Type]=\"เบิก\")*(Transaction[Products]='Factory_Order Frm'!$R137)*(Transaction[Date]=$O137)*(Transaction[Qty In-Out]))/PcsPerTray,0))","v":""},{"$f":"IF($N137=\"\",\"\",MOD(SUMPRODUCT((LEFT(Transaction[Route],Branch_Digit)=RIGHT(BranchCode,Branch_Digit))*(Transaction[Type]=\"เบิก\")*(Transaction[Products]='Factory_Order Frm'!$R137)*(Transaction[Date]=$O137)*(Transaction[Qty In-Out])),PcsPerTray))","v":""}]
[null,null,null,null,null,null,null,null,null,null,null,null,null,{"$f":"IF(Cumulative>(ROW()-ROW($O$20)),_xlfn.AGGREGATE(15,6,(ROW(OrderRange_Ref)-ROW($L$19))/(OFFSET(OrderRange_Ref,,0)>0),ROWS($L$20:$L138)),IF(OFFSET(Cumulative,,1)>(ROW()-ROW($O$20)),_xlfn.AGGREGATE(15,6,(ROW(OrderRange_Ref)-ROW($L$19))/(OFFSET(OrderRange_Ref,,1)>0),ROWS($L$20:$L138)-OFFSET(Cumulative,,0)),IF(OFFSET(Cumulative,,2)>(ROW()-ROW($O$20)),_xlfn.AGGREGATE(15,6,(ROW(OrderRange_Ref)-ROW($L$19))/(OFFSET(OrderRange_Ref,,2)>0),ROWS($L$20:$L138)-OFFSET(Cumulative,,1)),IF(OFFSET(Cumulative,,3)>(ROW()-ROW($O$20)),_xlfn.AGGREGATE(15,6,(ROW(OrderRange_Ref)-ROW($L$19))/(OFFSET(OrderRange_Ref,,3)>0),ROWS($L$20:$L138)-OFFSET(Cumulative,,2)),IF(OFFSET(Cumulative,,4)>(ROW()-ROW($O$20)),_xlfn.AGGREGATE(15,6,(ROW(OrderRange_Ref)-ROW($L$19))/(OFFSET(OrderRange_Ref,,4)>0),ROWS($L$20:$L138)-OFFSET(Cumulative,,3)),IF(OFFSET(Cumulative,,5)>(ROW()-ROW($O$20)),_xlfn.AGGREGATE(15,6,(ROW(OrderRange_Ref)-ROW($L$19))/(OFFSET(OrderRange_Ref,,5)>0),ROWS($L$20:$L138)-OFFSET(Cumulative,,4)),\"\"))))))","v":""},"","","","",{"$f":"IF($N138=\"\",\"\",ROUND(SUMPRODUCT((LEFT(Transaction[Route],Branch_Digit)=RIGHT(BranchCode,Branch_Digit))*(Transaction[Type]=\"เบิก\")*(Transaction[Products]='Factory_Order Frm'!$R138)*(Transaction[Date]=$O138)*(Transaction[Qty In-Out]))/PcsPerTray,0))","v":""},{"$f":"IF($N138=\"\",\"\",MOD(SUMPRODUCT((LEFT(Transaction[Route],Branch_Digit)=RIGHT(BranchCode,Branch_Digit))*(Transaction[Type]=\"เบิก\")*(Transaction[Products]='Factory_Order Frm'!$R138)*(Transaction[Date]=$O138)*(Transaction[Qty In-Out])),PcsPerTray))","v":""}]
[null,null,null,null,null,null,null,null,null,null,null,null,null,{"$f":"IF(Cumulative>(ROW()-ROW($O$20)),_xlfn.AGGREGATE(15,6,(ROW(OrderRange_Ref)-ROW($L$19))/(OFFSET(OrderRange_Ref,,0)>0),ROWS($L$20:$L139)),IF(OFFSET(Cumulative,,1)>(ROW()-ROW($O$20)),_xlfn.AGGREGATE(15,6,(ROW(OrderRange_Ref)-ROW($L$19))/(OFFSET(OrderRange_Ref,,1)>0),ROWS($L$20:$L139)-OFFSET(Cumulative,,0)),IF(OFFSET(Cumulative,,2)>(ROW()-ROW($O$20)),_xlfn.AGGREGATE(15,6,(ROW(OrderRange_Ref)-ROW($L$19))/(OFFSET(OrderRange_Ref,,2)>0),ROWS($L$20:$L139)-OFFSET(Cumulative,,1)),IF(OFFSET(Cumulative,,3)>(ROW()-ROW($O$20)),_xlfn.AGGREGATE(15,6,(ROW(OrderRange_Ref)-ROW($L$19))/(OFFSET(OrderRange_Ref,,3)>0),ROWS($L$20:$L139)-OFFSET(Cumulative,,2)),IF(OFFSET(Cumulative,,4)>(ROW()-ROW($O$20)),_xlfn.AGGREGATE(15,6,(ROW(OrderRange_Ref)-ROW($L$19))/(OFFSET(OrderRange_Ref,,4)>0),ROWS($L$20:$L139)-OFFSET(Cumulative,,3)),IF(OFFSET(Cumulative,,5)>(ROW()-ROW($O$20)),_xlfn.AGGREGATE(15,6,(ROW(OrderRange_Ref)-ROW($L$19))/(OFFSET(OrderRange_Ref,,5)>0),ROWS($L$20:$L139)-OFFSET(Cumulative,,4)),\"\"))))))","v":""},"","","","",{"$f":"IF($N139=\"\",\"\",ROUND(SUMPRODUCT((LEFT(Transaction[Route],Branch_Digit)=RIGHT(BranchCode,Branch_Digit))*(Transaction[Type]=\"เบิก\")*(Transaction[Products]='Factory_Order Frm'!$R139)*(Transaction[Date]=$O139)*(Transaction[Qty In-Out]))/PcsPerTray,0))","v":""},{"$f":"IF($N139=\"\",\"\",MOD(SUMPRODUCT((LEFT(Transaction[Route],Branch_Digit)=RIGHT(BranchCode,Branch_Digit))*(Transaction[Type]=\"เบิก\")*(Transaction[Products]='Factory_Order Frm'!$R139)*(Transaction[Date]=$O139)*(Transaction[Qty In-Out])),PcsPerTray))","v":""}]
[null,null,null,null,null,null,null,null,null,null,null,null,null,{"$f":"IF(Cumulative>(ROW()-ROW($O$20)),_xlfn.AGGREGATE(15,6,(ROW(OrderRange_Ref)-ROW($L$19))/(OFFSET(OrderRange_Ref,,0)>0),ROWS($L$20:$L140)),IF(OFFSET(Cumulative,,1)>(ROW()-ROW($O$20)),_xlfn.AGGREGATE(15,6,(ROW(OrderRange_Ref)-ROW($L$19))/(OFFSET(OrderRange_Ref,,1)>0),ROWS($L$20:$L140)-OFFSET(Cumulative,,0)),IF(OFFSET(Cumulative,,2)>(ROW()-ROW($O$20)),_xlfn.AGGREGATE(15,6,(ROW(OrderRange_Ref)-ROW($L$19))/(OFFSET(OrderRange_Ref,,2)>0),ROWS($L$20:$L140)-OFFSET(Cumulative,,1)),IF(OFFSET(Cumulative,,3)>(ROW()-ROW($O$20)),_xlfn.AGGREGATE(15,6,(ROW(OrderRange_Ref)-ROW($L$19))/(OFFSET(OrderRange_Ref,,3)>0),ROWS($L$20:$L140)-OFFSET(Cumulative,,2)),IF(OFFSET(Cumulative,,4)>(ROW()-ROW($O$20)),_xlfn.AGGREGATE(15,6,(ROW(OrderRange_Ref)-ROW($L$19))/(OFFSET(OrderRange_Ref,,4)>0),ROWS($L$20:$L140)-OFFSET(Cumulative,,3)),IF(OFFSET(Cumulative,,5)>(ROW()-ROW($O$20)),_xlfn.AGGREGATE(15,6,(ROW(OrderRange_Ref)-ROW($L$19))/(OFFSET(OrderRange_Ref,,5)>0),ROWS($L$20:$L140)-OFFSET(Cumulative,,4)),\"\"))))))","v":""},"","","","",{"$f":"IF($N140=\"\",\"\",ROUND(SUMPRODUCT((LEFT(Transaction[Route],Branch_Digit)=RIGHT(BranchCode,Branch_Digit))*(Transaction[Type]=\"เบิก\")*(Transaction[Products]='Factory_Order Frm'!$R140)*(Transaction[Date]=$O140)*(Transaction[Qty In-Out]))/PcsPerTray,0))","v":""},{"$f":"IF($N140=\"\",\"\",MOD(SUMPRODUCT((LEFT(Transaction[Route],Branch_Digit)=RIGHT(BranchCode,Branch_Digit))*(Transaction[Type]=\"เบิก\")*(Transaction[Products]='Factory_Order Frm'!$R140)*(Transaction[Date]=$O140)*(Transaction[Qty In-Out])),PcsPerTray))","v":""}]
[null,null,null,null,null,null,null,null,null,null,null,null,null,{"$f":"IF(Cumulative>(ROW()-ROW($O$20)),_xlfn.AGGREGATE(15,6,(ROW(OrderRange_Ref)-ROW($L$19))/(OFFSET(OrderRange_Ref,,0)>0),ROWS($L$20:$L141)),IF(OFFSET(Cumulative,,1)>(ROW()-ROW($O$20)),_xlfn.AGGREGATE(15,6,(ROW(OrderRange_Ref)-ROW($L$19))/(OFFSET(OrderRange_Ref,,1)>0),ROWS($L$20:$L141)-OFFSET(Cumulative,,0)),IF(OFFSET(Cumulative,,2)>(ROW()-ROW($O$20)),_xlfn.AGGREGATE(15,6,(ROW(OrderRange_Ref)-ROW($L$19))/(OFFSET(OrderRange_Ref,,2)>0),ROWS($L$20:$L141)-OFFSET(Cumulative,,1)),IF(OFFSET(Cumulative,,3)>(ROW()-ROW($O$20)),_xlfn.AGGREGATE(15,6,(ROW(OrderRange_Ref)-ROW($L$19))/(OFFSET(OrderRange_Ref,,3)>0),ROWS($L$20:$L141)-OFFSET(Cumulative,,2)),IF(OFFSET(Cumulative,,4)>(ROW()-ROW($O$20)),_xlfn.AGGREGATE(15,6,(ROW(OrderRange_Ref)-ROW($L$19))/(OFFSET(OrderRange_Ref,,4)>0),ROWS($L$20:$L141)-OFFSET(Cumulative,,3)),IF(OFFSET(Cumulative,,5)>(ROW()-ROW($O$20)),_xlfn.AGGREGATE(15,6,(ROW(OrderRange_Ref)-ROW($L$19))/(OFFSET(OrderRange_Ref,,5)>0),ROWS($L$20:$L141)-OFFSET(Cumulative,,4)),\"\"))))))","v":""},"","","","",{"$f":"IF($N141=\"\",\"\",ROUND(SUMPRODUCT((LEFT(Transaction[Route],Branch_Digit)=RIGHT(BranchCode,Branch_Digit))*(Transaction[Type]=\"เบิก\")*(Transaction[Products]='Factory_Order Frm'!$R141)*(Transaction[Date]=$O141)*(Transaction[Qty In-Out]))/PcsPerTray,0))","v":""},{"$f":"IF($N141=\"\",\"\",MOD(SUMPRODUCT((LEFT(Transaction[Route],Branch_Digit)=RIGHT(BranchCode,Branch_Digit))*(Transaction[Type]=\"เบิก\")*(Transaction[Products]='Factory_Order Frm'!$R141)*(Transaction[Date]=$O141)*(Transaction[Qty In-Out])),PcsPerTray))","v":""}]
[null,null,null,null,null,null,null,null,null,null,null,null,null,{"$f":"IF(Cumulative>(ROW()-ROW($O$20)),_xlfn.AGGREGATE(15,6,(ROW(OrderRange_Ref)-ROW($L$19))/(OFFSET(OrderRange_Ref,,0)>0),ROWS($L$20:$L142)),IF(OFFSET(Cumulative,,1)>(ROW()-ROW($O$20)),_xlfn.AGGREGATE(15,6,(ROW(OrderRange_Ref)-ROW($L$19))/(OFFSET(OrderRange_Ref,,1)>0),ROWS($L$20:$L142)-OFFSET(Cumulative,,0)),IF(OFFSET(Cumulative,,2)>(ROW()-ROW($O$20)),_xlfn.AGGREGATE(15,6,(ROW(OrderRange_Ref)-ROW($L$19))/(OFFSET(OrderRange_Ref,,2)>0),ROWS($L$20:$L142)-OFFSET(Cumulative,,1)),IF(OFFSET(Cumulative,,3)>(ROW()-ROW($O$20)),_xlfn.AGGREGATE(15,6,(ROW(OrderRange_Ref)-ROW($L$19))/(OFFSET(OrderRange_Ref,,3)>0),ROWS($L$20:$L142)-OFFSET(Cumulative,,2)),IF(OFFSET(Cumulative,,4)>(ROW()-ROW($O$20)),_xlfn.AGGREGATE(15,6,(ROW(OrderRange_Ref)-ROW($L$19))/(OFFSET(OrderRange_Ref,,4)>0),ROWS($L$20:$L142)-OFFSET(Cumulative,,3)),IF(OFFSET(Cumulative,,5)>(ROW()-ROW($O$20)),_xlfn.AGGREGATE(15,6,(ROW(OrderRange_Ref)-ROW($L$19))/(OFFSET(OrderRange_Ref,,5)>0),ROWS($L$20:$L142)-OFFSET(Cumulative,,4)),\"\"))))))","v":""},"","","","",{"$f":"IF($N142=\"\",\"\",ROUND(SUMPRODUCT((LEFT(Transaction[Route],Branch_Digit)=RIGHT(BranchCode,Branch_Digit))*(Transaction[Type]=\"เบิก\")*(Transaction[Products]='Factory_Order Frm'!$R142)*(Transaction[Date]=$O142)*(Transaction[Qty In-Out]))/PcsPerTray,0))","v":""},{"$f":"IF($N142=\"\",\"\",MOD(SUMPRODUCT((LEFT(Transaction[Route],Branch_Digit)=RIGHT(BranchCode,Branch_Digit))*(Transaction[Type]=\"เบิก\")*(Transaction[Products]='Factory_Order Frm'!$R142)*(Transaction[Date]=$O142)*(Transaction[Qty In-Out])),PcsPerTray))","v":""}]
[null,null,null,null,null,null,null,null,null,null,null,null,null,{"$f":"IF(Cumulative>(ROW()-ROW($O$20)),_xlfn.AGGREGATE(15,6,(ROW(OrderRange_Ref)-ROW($L$19))/(OFFSET(OrderRange_Ref,,0)>0),ROWS($L$20:$L143)),IF(OFFSET(Cumulative,,1)>(ROW()-ROW($O$20)),_xlfn.AGGREGATE(15,6,(ROW(OrderRange_Ref)-ROW($L$19))/(OFFSET(OrderRange_Ref,,1)>0),ROWS($L$20:$L143)-OFFSET(Cumulative,,0)),IF(OFFSET(Cumulative,,2)>(ROW()-ROW($O$20)),_xlfn.AGGREGATE(15,6,(ROW(OrderRange_Ref)-ROW($L$19))/(OFFSET(OrderRange_Ref,,2)>0),ROWS($L$20:$L143)-OFFSET(Cumulative,,1)),IF(OFFSET(Cumulative,,3)>(ROW()-ROW($O$20)),_xlfn.AGGREGATE(15,6,(ROW(OrderRange_Ref)-ROW($L$19))/(OFFSET(OrderRange_Ref,,3)>0),ROWS($L$20:$L143)-OFFSET(Cumulative,,2)),IF(OFFSET(Cumulative,,4)>(ROW()-ROW($O$20)),_xlfn.AGGREGATE(15,6,(ROW(OrderRange_Ref)-ROW($L$19))/(OFFSET(OrderRange_Ref,,4)>0),ROWS($L$20:$L143)-OFFSET(Cumulative,,3)),IF(OFFSET(Cumulative,,5)>(ROW()-ROW($O$20)),_xlfn.AGGREGATE(15,6,(ROW(OrderRange_Ref)-ROW($L$19))/(OFFSET(OrderRange_Ref,,5)>0),ROWS($L$20:$L143)-OFFSET(Cumulative,,4)),\"\"))))))","v":""},"","","","",{"$f":"IF($N143=\"\",\"\",ROUND(SUMPRODUCT((LEFT(Transaction[Route],Branch_Digit)=RIGHT(BranchCode,Branch_Digit))*(Transaction[Type]=\"เบิก\")*(Transaction[Products]='Factory_Order Frm'!$R143)*(Transaction[Date]=$O143)*(Transaction[Qty In-Out]))/PcsPerTray,0))","v":""},{"$f":"IF($N143=\"\",\"\",MOD(SUMPRODUCT((LEFT(Transaction[Route],Branch_Digit)=RIGHT(BranchCode,Branch_Digit))*(Transaction[Type]=\"เบิก\")*(Transaction[Products]='Factory_Order Frm'!$R143)*(Transaction[Date]=$O143)*(Transaction[Qty In-Out])),PcsPerTray))","v":""}]
[null,null,null,null,null,null,null,null,null,null,null,null,null,{"$f":"IF(Cumulative>(ROW()-ROW($O$20)),_xlfn.AGGREGATE(15,6,(ROW(OrderRange_Ref)-ROW($L$19))/(OFFSET(OrderRange_Ref,,0)>0),ROWS($L$20:$L144)),IF(OFFSET(Cumulative,,1)>(ROW()-ROW($O$20)),_xlfn.AGGREGATE(15,6,(ROW(OrderRange_Ref)-ROW($L$19))/(OFFSET(OrderRange_Ref,,1)>0),ROWS($L$20:$L144)-OFFSET(Cumulative,,0)),IF(OFFSET(Cumulative,,2)>(ROW()-ROW($O$20)),_xlfn.AGGREGATE(15,6,(ROW(OrderRange_Ref)-ROW($L$19))/(OFFSET(OrderRange_Ref,,2)>0),ROWS($L$20:$L144)-OFFSET(Cumulative,,1)),IF(OFFSET(Cumulative,,3)>(ROW()-ROW($O$20)),_xlfn.AGGREGATE(15,6,(ROW(OrderRange_Ref)-ROW($L$19))/(OFFSET(OrderRange_Ref,,3)>0),ROWS($L$20:$L144)-OFFSET(Cumulative,,2)),IF(OFFSET(Cumulative,,4)>(ROW()-ROW($O$20)),_xlfn.AGGREGATE(15,6,(ROW(OrderRange_Ref)-ROW($L$19))/(OFFSET(OrderRange_Ref,,4)>0),ROWS($L$20:$L144)-OFFSET(Cumulative,,3)),IF(OFFSET(Cumulative,,5)>(ROW()-ROW($O$20)),_xlfn.AGGREGATE(15,6,(ROW(OrderRange_Ref)-ROW($L$19))/(OFFSET(OrderRange_Ref,,5)>0),ROWS($L$20:$L144)-OFFSET(Cumulative,,4)),\"\"))))))","v":""},"","","","",{"$f":"IF($N144=\"\",\"\",ROUND(SUMPRODUCT((LEFT(Transaction[Route],Branch_Digit)=RIGHT(BranchCode,Branch_Digit))*(Transaction[Type]=\"เบิก\")*(Transaction[Products]='Factory_Order Frm'!$R144)*(Transaction[Date]=$O144)*(Transaction[Qty In-Out]))/PcsPerTray,0))","v":""},{"$f":"IF($N144=\"\",\"\",MOD(SUMPRODUCT((LEFT(Transaction[Route],Branch_Digit)=RIGHT(BranchCode,Branch_Digit))*(Transaction[Type]=\"เบิก\")*(Transaction[Products]='Factory_Order Frm'!$R144)*(Transaction[Date]=$O144)*(Transaction[Qty In-Out])),PcsPerTray))","v":""}]
[null,null,null,null,null,null,null,null,null,null,null,null,null,{"$f":"IF(Cumulative>(ROW()-ROW($O$20)),_xlfn.AGGREGATE(15,6,(ROW(OrderRange_Ref)-ROW($L$19))/(OFFSET(OrderRange_Ref,,0)>0),ROWS($L$20:$L145)),IF(OFFSET(Cumulative,,1)>(ROW()-ROW($O$20)),_xlfn.AGGREGATE(15,6,(ROW(OrderRange_Ref)-ROW($L$19))/(OFFSET(OrderRange_Ref,,1)>0),ROWS($L$20:$L145)-OFFSET(Cumulative,,0)),IF(OFFSET(Cumulative,,2)>(ROW()-ROW($O$20)),_xlfn.AGGREGATE(15,6,(ROW(OrderRange_Ref)-ROW($L$19))/(OFFSET(OrderRange_Ref,,2)>0),ROWS($L$20:$L145)-OFFSET(Cumulative,,1)),IF(OFFSET(Cumulative,,3)>(ROW()-ROW($O$20)),_xlfn.AGGREGATE(15,6,(ROW(OrderRange_Ref)-ROW($L$19))/(OFFSET(OrderRange_Ref,,3)>0),ROWS($L$20:$L145)-OFFSET(Cumulative,,2)),IF(OFFSET(Cumulative,,4)>(ROW()-ROW($O$20)),_xlfn.AGGREGATE(15,6,(ROW(OrderRange_Ref)-ROW($L$19))/(OFFSET(OrderRange_Ref,,4)>0),ROWS($L$20:$L145)-OFFSET(Cumulative,,3)),IF(OFFSET(Cumulative,,5)>(ROW()-ROW($O$20)),_xlfn.AGGREGATE(15,6,(ROW(OrderRange_Ref)-ROW($L$19))/(OFFSET(OrderRange_Ref,,5)>0),ROWS($L$20:$L145)-OFFSET(Cumulative,,4)),\"\"))))))","v":""},"","","","",{"$f":"IF($N145=\"\",\"\",ROUND(SUMPRODUCT((LEFT(Transaction[Route],Branch_Digit)=RIGHT(BranchCode,Branch_Digit))*(Transaction[Type]=\"เบิก\")*(Transaction[Products]='Factory_Order Frm'!$R145)*(Transaction[Date]=$O145)*(Transaction[Qty In-Out]))/PcsPerTray,0))","v":""},{"$f":"IF($N145=\"\",\"\",MOD(SUMPRODUCT((LEFT(Transaction[Route],Branch_Digit)=RIGHT(BranchCode,Branch_Digit))*(Transaction[Type]=\"เบิก\")*(Transaction[Products]='Factory_Order Frm'!$R145)*(Transaction[Date]=$O145)*(Transaction[Qty In-Out])),PcsPerTray))","v":""}]
[null,null,null,null,null,null,null,null,null,null,null,null,null,{"$f":"IF(Cumulative>(ROW()-ROW($O$20)),_xlfn.AGGREGATE(15,6,(ROW(OrderRange_Ref)-ROW($L$19))/(OFFSET(OrderRange_Ref,,0)>0),ROWS($L$20:$L146)),IF(OFFSET(Cumulative,,1)>(ROW()-ROW($O$20)),_xlfn.AGGREGATE(15,6,(ROW(OrderRange_Ref)-ROW($L$19))/(OFFSET(OrderRange_Ref,,1)>0),ROWS($L$20:$L146)-OFFSET(Cumulative,,0)),IF(OFFSET(Cumulative,,2)>(ROW()-ROW($O$20)),_xlfn.AGGREGATE(15,6,(ROW(OrderRange_Ref)-ROW($L$19))/(OFFSET(OrderRange_Ref,,2)>0),ROWS($L$20:$L146)-OFFSET(Cumulative,,1)),IF(OFFSET(Cumulative,,3)>(ROW()-ROW($O$20)),_xlfn.AGGREGATE(15,6,(ROW(OrderRange_Ref)-ROW($L$19))/(OFFSET(OrderRange_Ref,,3)>0),ROWS($L$20:$L146)-OFFSET(Cumulative,,2)),IF(OFFSET(Cumulative,,4)>(ROW()-ROW($O$20)),_xlfn.AGGREGATE(15,6,(ROW(OrderRange_Ref)-ROW($L$19))/(OFFSET(OrderRange_Ref,,4)>0),ROWS($L$20:$L146)-OFFSET(Cumulative,,3)),IF(OFFSET(Cumulative,,5)>(ROW()-ROW($O$20)),_xlfn.AGGREGATE(15,6,(ROW(OrderRange_Ref)-ROW($L$19))/(OFFSET(OrderRange_Ref,,5)>0),ROWS($L$20:$L146)-OFFSET(Cumulative,,4)),\"\"))))))","v":""},"","","","",{"$f":"IF($N146=\"\",\"\",ROUND(SUMPRODUCT((LEFT(Transaction[Route],Branch_Digit)=RIGHT(BranchCode,Branch_Digit))*(Transaction[Type]=\"เบิก\")*(Transaction[Products]='Factory_Order Frm'!$R146)*(Transaction[Date]=$O146)*(Transaction[Qty In-Out]))/PcsPerTray,0))","v":""},{"$f":"IF($N146=\"\",\"\",MOD(SUMPRODUCT((LEFT(Transaction[Route],Branch_Digit)=RIGHT(BranchCode,Branch_Digit))*(Transaction[Type]=\"เบิก\")*(Transaction[Products]='Factory_Order Frm'!$R146)*(Transaction[Date]=$O146)*(Transaction[Qty In-Out])),PcsPerTray))","v":""}]
[null,null,null,null,null,null,null,null,null,null,null,null,null,{"$f":"IF(Cumulative>(ROW()-ROW($O$20)),_xlfn.AGGREGATE(15,6,(ROW(OrderRange_Ref)-ROW($L$19))/(OFFSET(OrderRange_Ref,,0)>0),ROWS($L$20:$L147)),IF(OFFSET(Cumulative,,1)>(ROW()-ROW($O$20)),_xlfn.AGGREGATE(15,6,(ROW(OrderRange_Ref)-ROW($L$19))/(OFFSET(OrderRange_Ref,,1)>0),ROWS($L$20:$L147)-OFFSET(Cumulative,,0)),IF(OFFSET(Cumulative,,2)>(ROW()-ROW($O$20)),_xlfn.AGGREGATE(15,6,(ROW(OrderRange_Ref)-ROW($L$19))/(OFFSET(OrderRange_Ref,,2)>0),ROWS($L$20:$L147)-OFFSET(Cumulative,,1)),IF(OFFSET(Cumulative,,3)>(ROW()-ROW($O$20)),_xlfn.AGGREGATE(15,6,(ROW(OrderRange_Ref)-ROW($L$19))/(OFFSET(OrderRange_Ref,,3)>0),ROWS($L$20:$L147)-OFFSET(Cumulative,,2)),IF(OFFSET(Cumulative,,4)>(ROW()-ROW($O$20)),_xlfn.AGGREGATE(15,6,(ROW(OrderRange_Ref)-ROW($L$19))/(OFFSET(OrderRange_Ref,,4)>0),ROWS($L$20:$L147)-OFFSET(Cumulative,,3)),IF(OFFSET(Cumulative,,5)>(ROW()-ROW($O$20)),_xlfn.AGGREGATE(15,6,(ROW(OrderRange_Ref)-ROW($L$19))/(OFFSET(OrderRange_Ref,,5)>0),ROWS($L$20:$L147)-OFFSET(Cumulative,,4)),\"\"))))))","v":""},"","","","",{"$f":"IF($N147=\"\",\"\",ROUND(SUMPRODUCT((LEFT(Transaction[Route],Branch_Digit)=RIGHT(BranchCode,Branch_Digit))*(Transaction[Type]=\"เบิก\")*(Transaction[Products]='Factory_Order Frm'!$R147)*(Transaction[Date]=$O147)*(Transaction[Qty In-Out]))/PcsPerTray,0))","v":""},{"$f":"IF($N147=\"\",\"\",MOD(SUMPRODUCT((LEFT(Transaction[Route],Branch_Digit)=RIGHT(BranchCode,Branch_Digit))*(Transaction[Type]=\"เบิก\")*(Transaction[Products]='Factory_Order Frm'!$R147)*(Transaction[Date]=$O147)*(Transaction[Qty In-Out])),PcsPerTray))","v":""}]
[null,null,null,null,null,null,null,null,null,null,null,null,null,{"$f":"IF(Cumulative>(ROW()-ROW($O$20)),_xlfn.AGGREGATE(15,6,(ROW(OrderRange_Ref)-ROW($L$19))/(OFFSET(OrderRange_Ref,,0)>0),ROWS($L$20:$L148)),IF(OFFSET(Cumulative,,1)>(ROW()-ROW($O$20)),_xlfn.AGGREGATE(15,6,(ROW(OrderRange_Ref)-ROW($L$19))/(OFFSET(OrderRange_Ref,,1)>0),ROWS($L$20:$L148)-OFFSET(Cumulative,,0)),IF(OFFSET(Cumulative,,2)>(ROW()-ROW($O$20)),_xlfn.AGGREGATE(15,6,(ROW(OrderRange_Ref)-ROW($L$19))/(OFFSET(OrderRange_Ref,,2)>0),ROWS($L$20:$L148)-OFFSET(Cumulative,,1)),IF(OFFSET(Cumulative,,3)>(ROW()-ROW($O$20)),_xlfn.AGGREGATE(15,6,(ROW(OrderRange_Ref)-ROW($L$19))/(OFFSET(OrderRange_Ref,,3)>0),ROWS($L$20:$L148)-OFFSET(Cumulative,,2)),IF(OFFSET(Cumulative,,4)>(ROW()-ROW($O$20)),_xlfn.AGGREGATE(15,6,(ROW(OrderRange_Ref)-ROW($L$19))/(OFFSET(OrderRange_Ref,,4)>0),ROWS($L$20:$L148)-OFFSET(Cumulative,,3)),IF(OFFSET(Cumulative,,5)>(ROW()-ROW($O$20)),_xlfn.AGGREGATE(15,6,(ROW(OrderRange_Ref)-ROW($L$19))/(OFFSET(OrderRange_Ref,,5)>0),ROWS($L$20:$L148)-OFFSET(Cumulative,,4)),\"\"))))))","v":""},{"$f":"IF(Cumulative>(ROW()-ROW($O$20)),OrderDate,IF(OFFSET(Cumulative,,1)>(ROW()-ROW($O$20)),OrderDate+1,IF(OFFSET(Cumulative,,2)>(ROW()-ROW($O$20)),OrderDate+2,IF(OFFSET(Cumulative,,3)>(ROW()-ROW($O$20)),OrderDate+3,IF(OFFSET(Cumulative,,4)>(ROW()-ROW($O$20)),OrderDate+4,IF(OFFSET(Cumulative,,5)>(ROW()-ROW($O$20)),OrderDate+5,\"\"))))))","v":""},"","","",{"$f":"IF($N148=\"\",\"\",ROUND(SUMPRODUCT((LEFT(Transaction[Route],Branch_Digit)=RIGHT(BranchCode,Branch_Digit))*(Transaction[Type]=\"เบิก\")*(Transaction[Products]='Factory_Order Frm'!$R148)*(Transaction[Date]=$O148)*(Transaction[Qty In-Out]))/PcsPerTray,0))","v":""},{"$f":"IF($N148=\"\",\"\",MOD(SUMPRODUCT((LEFT(Transaction[Route],Branch_Digit)=RIGHT(BranchCode,Branch_Digit))*(Transaction[Type]=\"เบิก\")*(Transaction[Products]='Factory_Order Frm'!$R148)*(Transaction[Date]=$O148)*(Transaction[Qty In-Out])),PcsPerTray))","v":""}]
[null,null,null,null,null,null,null,null,null,null,null,null,null,{"$f":"IF(Cumulative>(ROW()-ROW($O$20)),_xlfn.AGGREGATE(15,6,(ROW(OrderRange_Ref)-ROW($L$19))/(OFFSET(OrderRange_Ref,,0)>0),ROWS($L$20:$L149)),IF(OFFSET(Cumulative,,1)>(ROW()-ROW($O$20)),_xlfn.AGGREGATE(15,6,(ROW(OrderRange_Ref)-ROW($L$19))/(OFFSET(OrderRange_Ref,,1)>0),ROWS($L$20:$L149)-OFFSET(Cumulative,,0)),IF(OFFSET(Cumulative,,2)>(ROW()-ROW($O$20)),_xlfn.AGGREGATE(15,6,(ROW(OrderRange_Ref)-ROW($L$19))/(OFFSET(OrderRange_Ref,,2)>0),ROWS($L$20:$L149)-OFFSET(Cumulative,,1)),IF(OFFSET(Cumulative,,3)>(ROW()-ROW($O$20)),_xlfn.AGGREGATE(15,6,(ROW(OrderRange_Ref)-ROW($L$19))/(OFFSET(OrderRange_Ref,,3)>0),ROWS($L$20:$L149)-OFFSET(Cumulative,,2)),IF(OFFSET(Cumulative,,4)>(ROW()-ROW($O$20)),_xlfn.AGGREGATE(15,6,(ROW(OrderRange_Ref)-ROW($L$19))/(OFFSET(OrderRange_Ref,,4)>0),ROWS($L$20:$L149)-OFFSET(Cumulative,,3)),IF(OFFSET(Cumulative,,5)>(ROW()-ROW($O$20)),_xlfn.AGGREGATE(15,6,(ROW(OrderRange_Ref)-ROW($L$19))/(OFFSET(OrderRange_Ref,,5)>0),ROWS($L$20:$L149)-OFFSET(Cumulative,,4)),\"\"))))))","v":""},"",{"$f":"IF($O149<>\"\",BranchCode,\"\")","v":""},{"$f":"IF($O149<>\"\",\"จ่าย\",\"\")","v":""},{"$f":"IFERROR(INDEX($C$20:$C$54,$N149),\"\")","v":""},{"$f":"IF($N149=\"\",\"\",ROUND(SUMPRODUCT((LEFT(Transaction[Route],Branch_Digit)=RIGHT(BranchCode,Branch_Digit))*(Transaction[Type]=\"เบิก\")*(Transaction[Products]='Factory_Order Frm'!$R149)*(Transaction[Date]=$O149)*(Transaction[Qty In-Out]))/PcsPerTray,0))","v":""},{"$f":"IF($N149=\"\",\"\",MOD(SUMPRODUCT((LEFT(Transaction[Route],Branch_Digit)=RIGHT(BranchCode,Branch_Digit))*(Transaction[Type]=\"เบิก\")*(Transaction[Products]='Factory_Order Frm'!$R149)*(Transaction[Date]=$O149)*(Transaction[Qty In-Out])),PcsPerTray))","v":""}]
[null,null,null,null,null,null,null,null,null,null,null,null,null,{"$f":"IF(Cumulative>(ROW()-ROW($O$20)),_xlfn.AGGREGATE(15,6,(ROW(OrderRange_Ref)-ROW($L$19))/(OFFSET(OrderRange_Ref,,0)>0),ROWS($L$20:$L150)),IF(OFFSET(Cumulative,,1)>(ROW()-ROW($O$20)),_xlfn.AGGREGATE(15,6,(ROW(OrderRange_Ref)-ROW($L$19))/(OFFSET(OrderRange_Ref,,1)>0),ROWS($L$20:$L150)-OFFSET(Cumulative,,0)),IF(OFFSET(Cumulative,,2)>(ROW()-ROW($O$20)),_xlfn.AGGREGATE(15,6,(ROW(OrderRange_Ref)-ROW($L$19))/(OFFSET(OrderRange_Ref,,2)>0),ROWS($L$20:$L150)-OFFSET(Cumulative,,1)),IF(OFFSET(Cumulative,,3)>(ROW()-ROW($O$20)),_xlfn.AGGREGATE(15,6,(ROW(OrderRange_Ref)-ROW($L$19))/(OFFSET(OrderRange_Ref,,3)>0),ROWS($L$20:$L150)-OFFSET(Cumulative,,2)),IF(OFFSET(Cumulative,,4)>(ROW()-ROW($O$20)),_xlfn.AGGREGATE(15,6,(ROW(OrderRange_Ref)-ROW($L$19))/(OFFSET(OrderRange_Ref,,4)>0),ROWS($L$20:$L150)-OFFSET(Cumulative,,3)),IF(OFFSET(Cumulative,,5)>(ROW()-ROW($O$20)),_xlfn.AGGREGATE(15,6,(ROW(OrderRange_Ref)-ROW($L$19))/(OFFSET(OrderRange_Ref,,5)>0),ROWS($L$20:$L150)-OFFSET(Cumulative,,4)),\"\"))))))","v":""},"","","","",{"$f":"IF($N150=\"\",\"\",ROUND(SUMPRODUCT((LEFT(Transaction[Route],Branch_Digit)=RIGHT(BranchCode,Branch_Digit))*(Transaction[Type]=\"เบิก\")*(Transaction[Products]='Factory_Order Frm'!$R150)*(Transaction[Date]=$O150)*(Transaction[Qty In-Out]))/PcsPerTray,0))","v":""},{"$f":"IF($N150=\"\",\"\",MOD(SUMPRODUCT((LEFT(Transaction[Route],Branch_Digit)=RIGHT(BranchCode,Branch_Digit))*(Transaction[Type]=\"เบิก\")*(Transaction[Products]='Factory_Order Frm'!$R150)*(Transaction[Date]=$O150)*(Transaction[Qty In-Out])),PcsPerTray))","v":""}]
[null,null,null,null,null,null,null,null,null,null,null,null,null,{"$f":"IF(Cumulative>(ROW()-ROW($O$20)),_xlfn.AGGREGATE(15,6,(ROW(OrderRange_Ref)-ROW($L$19))/(OFFSET(OrderRange_Ref,,0)>0),ROWS($L$20:$L151)),IF(OFFSET(Cumulative,,1)>(ROW()-ROW($O$20)),_xlfn.AGGREGATE(15,6,(ROW(OrderRange_Ref)-ROW($L$19))/(OFFSET(OrderRange_Ref,,1)>0),ROWS($L$20:$L151)-OFFSET(Cumulative,,0)),IF(OFFSET(Cumulative,,2)>(ROW()-ROW($O$20)),_xlfn.AGGREGATE(15,6,(ROW(OrderRange_Ref)-ROW($L$19))/(OFFSET(OrderRange_Ref,,2)>0),ROWS($L$20:$L151)-OFFSET(Cumulative,,1)),IF(OFFSET(Cumulative,,3)>(ROW()-ROW($O$20)),_xlfn.AGGREGATE(15,6,(ROW(OrderRange_Ref)-ROW($L$19))/(OFFSET(OrderRange_Ref,,3)>0),ROWS($L$20:$L151)-OFFSET(Cumulative,,2)),IF(OFFSET(Cumulative,,4)>(ROW()-ROW($O$20)),_xlfn.AGGREGATE(15,6,(ROW(OrderRange_Ref)-ROW($L$19))/(OFFSET(OrderRange_Ref,,4)>0),ROWS($L$20:$L151)-OFFSET(Cumulative,,3)),IF(OFFSET(Cumulative,,5)>(ROW()-ROW($O$20)),_xlfn.AGGREGATE(15,6,(ROW(OrderRange_Ref)-ROW($L$19))/(OFFSET(OrderRange_Ref,,5)>0),ROWS($L$20:$L151)-OFFSET(Cumulative,,4)),\"\"))))))","v":""},"","","","",{"$f":"IF($N151=\"\",\"\",ROUND(SUMPRODUCT((LEFT(Transaction[Route],Branch_Digit)=RIGHT(BranchCode,Branch_Digit))*(Transaction[Type]=\"เบิก\")*(Transaction[Products]='Factory_Order Frm'!$R151)*(Transaction[Date]=$O151)*(Transaction[Qty In-Out]))/PcsPerTray,0))","v":""},{"$f":"IF($N151=\"\",\"\",MOD(SUMPRODUCT((LEFT(Transaction[Route],Branch_Digit)=RIGHT(BranchCode,Branch_Digit))*(Transaction[Type]=\"เบิก\")*(Transaction[Products]='Factory_Order Frm'!$R151)*(Transaction[Date]=$O151)*(Transaction[Qty In-Out])),PcsPerTray))","v":""}]
[null,null,null,null,null,null,null,null,null,null,null,null,null,{"$f":"IF(Cumulative>(ROW()-ROW($O$20)),_xlfn.AGGREGATE(15,6,(ROW(OrderRange_Ref)-ROW($L$19))/(OFFSET(OrderRange_Ref,,0)>0),ROWS($L$20:$L152)),IF(OFFSET(Cumulative,,1)>(ROW()-ROW($O$20)),_xlfn.AGGREGATE(15,6,(ROW(OrderRange_Ref)-ROW($L$19))/(OFFSET(OrderRange_Ref,,1)>0),ROWS($L$20:$L152)-OFFSET(Cumulative,,0)),IF(OFFSET(Cumulative,,2)>(ROW()-ROW($O$20)),_xlfn.AGGREGATE(15,6,(ROW(OrderRange_Ref)-ROW($L$19))/(OFFSET(OrderRange_Ref,,2)>0),ROWS($L$20:$L152)-OFFSET(Cumulative,,1)),IF(OFFSET(Cumulative,,3)>(ROW()-ROW($O$20)),_xlfn.AGGREGATE(15,6,(ROW(OrderRange_Ref)-ROW($L$19))/(OFFSET(OrderRange_Ref,,3)>0),ROWS($L$20:$L152)-OFFSET(Cumulative,,2)),IF(OFFSET(Cumulative,,4)>(ROW()-ROW($O$20)),_xlfn.AGGREGATE(15,6,(ROW(OrderRange_Ref)-ROW($L$19))/(OFFSET(OrderRange_Ref,,4)>0),ROWS($L$20:$L152)-OFFSET(Cumulative,,3)),IF(OFFSET(Cumulative,,5)>(ROW()-ROW($O$20)),_xlfn.AGGREGATE(15,6,(ROW(OrderRange_Ref)-ROW($L$19))/(OFFSET(OrderRange_Ref,,5)>0),ROWS($L$20:$L152)-OFFSET(Cumulative,,4)),\"\"))))))","v":""},"","","","",{"$f":"IF($N152=\"\",\"\",ROUND(SUMPRODUCT((LEFT(Transaction[Route],Branch_Digit)=RIGHT(BranchCode,Branch_Digit))*(Transaction[Type]=\"เบิก\")*(Transaction[Products]='Factory_Order Frm'!$R152)*(Transaction[Date]=$O152)*(Transaction[Qty In-Out]))/PcsPerTray,0))","v":""},{"$f":"IF($N152=\"\",\"\",MOD(SUMPRODUCT((LEFT(Transaction[Route],Branch_Digit)=RIGHT(BranchCode,Branch_Digit))*(Transaction[Type]=\"เบิก\")*(Transaction[Products]='Factory_Order Frm'!$R152)*(Transaction[Date]=$O152)*(Transaction[Qty In-Out])),PcsPerTray))","v":""}]
[null,null,null,null,null,null,null,null,null,null,null,null,null,{"$f":"IF(Cumulative>(ROW()-ROW($O$20)),_xlfn.AGGREGATE(15,6,(ROW(OrderRange_Ref)-ROW($L$19))/(OFFSET(OrderRange_Ref,,0)>0),ROWS($L$20:$L153)),IF(OFFSET(Cumulative,,1)>(ROW()-ROW($O$20)),_xlfn.AGGREGATE(15,6,(ROW(OrderRange_Ref)-ROW($L$19))/(OFFSET(OrderRange_Ref,,1)>0),ROWS($L$20:$L153)-OFFSET(Cumulative,,0)),IF(OFFSET(Cumulative,,2)>(ROW()-ROW($O$20)),_xlfn.AGGREGATE(15,6,(ROW(OrderRange_Ref)-ROW($L$19))/(OFFSET(OrderRange_Ref,,2)>0),ROWS($L$20:$L153)-OFFSET(Cumulative,,1)),IF(OFFSET(Cumulative,,3)>(ROW()-ROW($O$20)),_xlfn.AGGREGATE(15,6,(ROW(OrderRange_Ref)-ROW($L$19))/(OFFSET(OrderRange_Ref,,3)>0),ROWS($L$20:$L153)-OFFSET(Cumulative,,2)),IF(OFFSET(Cumulative,,4)>(ROW()-ROW($O$20)),_xlfn.AGGREGATE(15,6,(ROW(OrderRange_Ref)-ROW($L$19))/(OFFSET(OrderRange_Ref,,4)>0),ROWS($L$20:$L153)-OFFSET(Cumulative,,3)),IF(OFFSET(Cumulative,,5)>(ROW()-ROW($O$20)),_xlfn.AGGREGATE(15,6,(ROW(OrderRange_Ref)-ROW($L$19))/(OFFSET(OrderRange_Ref,,5)>0),ROWS($L$20:$L153)-OFFSET(Cumulative,,4)),\"\"))))))","v":""},"","","","",{"$f":"IF($N153=\"\",\"\",ROUND(SUMPRODUCT((LEFT(Transaction[Route],Branch_Digit)=RIGHT(BranchCode,Branch_Digit))*(Transaction[Type]=\"เบิก\")*(Transaction[Products]='Factory_Order Frm'!$R153)*(Transaction[Date]=$O153)*(Transaction[Qty In-Out]))/PcsPerTray,0))","v":""},{"$f":"IF($N153=\"\",\"\",MOD(SUMPRODUCT((LEFT(Transaction[Route],Branch_Digit)=RIGHT(BranchCode,Branch_Digit))*(Transaction[Type]=\"เบิก\")*(Transaction[Products]='Factory_Order Frm'!$R153)*(Transaction[Date]=$O153)*(Transaction[Qty In-Out])),PcsPerTray))","v":""}]
[null,null,null,null,null,null,null,null,null,null,null,null,null,{"$f":"IF(Cumulative>(ROW()-ROW($O$20)),_xlfn.AGGREGATE(15,6,(ROW(OrderRange_Ref)-ROW($L$19))/(OFFSET(OrderRange_Ref,,0)>0),ROWS($L$20:$L154)),IF(OFFSET(Cumulative,,1)>(ROW()-ROW($O$20)),_xlfn.AGGREGATE(15,6,(ROW(OrderRange_Ref)-ROW($L$19))/(OFFSET(OrderRange_Ref,,1)>0),ROWS($L$20:$L154)-OFFSET(Cumulative,,0)),IF(OFFSET(Cumulative,,2)>(ROW()-ROW($O$20)),_xlfn.AGGREGATE(15,6,(ROW(OrderRange_Ref)-ROW($L$19))/(OFFSET(OrderRange_Ref,,2)>0),ROWS($L$20:$L154)-OFFSET(Cumulative,,1)),IF(OFFSET(Cumulative,,3)>(ROW()-ROW($O$20)),_xlfn.AGGREGATE(15,6,(ROW(OrderRange_Ref)-ROW($L$19))/(OFFSET(OrderRange_Ref,,3)>0),ROWS($L$20:$L154)-OFFSET(Cumulative,,2)),IF(OFFSET(Cumulative,,4)>(ROW()-ROW($O$20)),_xlfn.AGGREGATE(15,6,(ROW(OrderRange_Ref)-ROW($L$19))/(OFFSET(OrderRange_Ref,,4)>0),ROWS($L$20:$L154)-OFFSET(Cumulative,,3)),IF(OFFSET(Cumulative,,5)>(ROW()-ROW($O$20)),_xlfn.AGGREGATE(15,6,(ROW(OrderRange_Ref)-ROW($L$19))/(OFFSET(OrderRange_Ref,,5)>0),ROWS($L$20:$L154)-OFFSET(Cumulative,,4)),\"\"))))))","v":""},"","","","",{"$f":"IF($N154=\"\",\"\",ROUND(SUMPRODUCT((LEFT(Transaction[Route],Branch_Digit)=RIGHT(BranchCode,Branch_Digit))*(Transaction[Type]=\"เบิก\")*(Transaction[Products]='Factory_Order Frm'!$R154)*(Transaction[Date]=$O154)*(Transaction[Qty In-Out]))/PcsPerTray,0))","v":""},{"$f":"IF($N154=\"\",\"\",MOD(SUMPRODUCT((LEFT(Transaction[Route],Branch_Digit)=RIGHT(BranchCode,Branch_Digit))*(Transaction[Type]=\"เบิก\")*(Transaction[Products]='Factory_Order Frm'!$R154)*(Transaction[Date]=$O154)*(Transaction[Qty In-Out])),PcsPerTray))","v":""}]
[null,null,null,null,null,null,null,null,null,null,null,null,null,{"$f":"IF(Cumulative>(ROW()-ROW($O$20)),_xlfn.AGGREGATE(15,6,(ROW(OrderRange_Ref)-ROW($L$19))/(OFFSET(OrderRange_Ref,,0)>0),ROWS($L$20:$L155)),IF(OFFSET(Cumulative,,1)>(ROW()-ROW($O$20)),_xlfn.AGGREGATE(15,6,(ROW(OrderRange_Ref)-ROW($L$19))/(OFFSET(OrderRange_Ref,,1)>0),ROWS($L$20:$L155)-OFFSET(Cumulative,,0)),IF(OFFSET(Cumulative,,2)>(ROW()-ROW($O$20)),_xlfn.AGGREGATE(15,6,(ROW(OrderRange_Ref)-ROW($L$19))/(OFFSET(OrderRange_Ref,,2)>0),ROWS($L$20:$L155)-OFFSET(Cumulative,,1)),IF(OFFSET(Cumulative,,3)>(ROW()-ROW($O$20)),_xlfn.AGGREGATE(15,6,(ROW(OrderRange_Ref)-ROW($L$19))/(OFFSET(OrderRange_Ref,,3)>0),ROWS($L$20:$L155)-OFFSET(Cumulative,,2)),IF(OFFSET(Cumulative,,4)>(ROW()-ROW($O$20)),_xlfn.AGGREGATE(15,6,(ROW(OrderRange_Ref)-ROW($L$19))/(OFFSET(OrderRange_Ref,,4)>0),ROWS($L$20:$L155)-OFFSET(Cumulative,,3)),IF(OFFSET(Cumulative,,5)>(ROW()-ROW($O$20)),_xlfn.AGGREGATE(15,6,(ROW(OrderRange_Ref)-ROW($L$19))/(OFFSET(OrderRange_Ref,,5)>0),ROWS($L$20:$L155)-OFFSET(Cumulative,,4)),\"\"))))))","v":""},"","","","",{"$f":"IF($N155=\"\",\"\",ROUND(SUMPRODUCT((LEFT(Transaction[Route],Branch_Digit)=RIGHT(BranchCode,Branch_Digit))*(Transaction[Type]=\"เบิก\")*(Transaction[Products]='Factory_Order Frm'!$R155)*(Transaction[Date]=$O155)*(Transaction[Qty In-Out]))/PcsPerTray,0))","v":""},{"$f":"IF($N155=\"\",\"\",MOD(SUMPRODUCT((LEFT(Transaction[Route],Branch_Digit)=RIGHT(BranchCode,Branch_Digit))*(Transaction[Type]=\"เบิก\")*(Transaction[Products]='Factory_Order Frm'!$R155)*(Transaction[Date]=$O155)*(Transaction[Qty In-Out])),PcsPerTray))","v":""}]
[null,null,null,null,null,null,null,null,null,null,null,null,null,{"$f":"IF(Cumulative>(ROW()-ROW($O$20)),_xlfn.AGGREGATE(15,6,(ROW(OrderRange_Ref)-ROW($L$19))/(OFFSET(OrderRange_Ref,,0)>0),ROWS($L$20:$L156)),IF(OFFSET(Cumulative,,1)>(ROW()-ROW($O$20)),_xlfn.AGGREGATE(15,6,(ROW(OrderRange_Ref)-ROW($L$19))/(OFFSET(OrderRange_Ref,,1)>0),ROWS($L$20:$L156)-OFFSET(Cumulative,,0)),IF(OFFSET(Cumulative,,2)>(ROW()-ROW($O$20)),_xlfn.AGGREGATE(15,6,(ROW(OrderRange_Ref)-ROW($L$19))/(OFFSET(OrderRange_Ref,,2)>0),ROWS($L$20:$L156)-OFFSET(Cumulative,,1)),IF(OFFSET(Cumulative,,3)>(ROW()-ROW($O$20)),_xlfn.AGGREGATE(15,6,(ROW(OrderRange_Ref)-ROW($L$19))/(OFFSET(OrderRange_Ref,,3)>0),ROWS($L$20:$L156)-OFFSET(Cumulative,,2)),IF(OFFSET(Cumulative,,4)>(ROW()-ROW($O$20)),_xlfn.AGGREGATE(15,6,(ROW(OrderRange_Ref)-ROW($L$19))/(OFFSET(OrderRange_Ref,,4)>0),ROWS($L$20:$L156)-OFFSET(Cumulative,,3)),IF(OFFSET(Cumulative,,5)>(ROW()-ROW($O$20)),_xlfn.AGGREGATE(15,6,(ROW(OrderRange_Ref)-ROW($L$19))/(OFFSET(OrderRange_Ref,,5)>0),ROWS($L$20:$L156)-OFFSET(Cumulative,,4)),\"\"))))))","v":""},"","","","",{"$f":"IF($N156=\"\",\"\",ROUND(SUMPRODUCT((LEFT(Transaction[Route],Branch_Digit)=RIGHT(BranchCode,Branch_Digit))*(Transaction[Type]=\"เบิก\")*(Transaction[Products]='Factory_Order Frm'!$R156)*(Transaction[Date]=$O156)*(Transaction[Qty In-Out]))/PcsPerTray,0))","v":""},{"$f":"IF($N156=\"\",\"\",MOD(SUMPRODUCT((LEFT(Transaction[Route],Branch_Digit)=RIGHT(BranchCode,Branch_Digit))*(Transaction[Type]=\"เบิก\")*(Transaction[Products]='Factory_Order Frm'!$R156)*(Transaction[Date]=$O156)*(Transaction[Qty In-Out])),PcsPerTray))","v":""}]
[null,null,null,null,null,null,null,null,null,null,null,null,null,{"$f":"IF(Cumulative>(ROW()-ROW($O$20)),_xlfn.AGGREGATE(15,6,(ROW(OrderRange_Ref)-ROW($L$19))/(OFFSET(OrderRange_Ref,,0)>0),ROWS($L$20:$L157)),IF(OFFSET(Cumulative,,1)>(ROW()-ROW($O$20)),_xlfn.AGGREGATE(15,6,(ROW(OrderRange_Ref)-ROW($L$19))/(OFFSET(OrderRange_Ref,,1)>0),ROWS($L$20:$L157)-OFFSET(Cumulative,,0)),IF(OFFSET(Cumulative,,2)>(ROW()-ROW($O$20)),_xlfn.AGGREGATE(15,6,(ROW(OrderRange_Ref)-ROW($L$19))/(OFFSET(OrderRange_Ref,,2)>0),ROWS($L$20:$L157)-OFFSET(Cumulative,,1)),IF(OFFSET(Cumulative,,3)>(ROW()-ROW($O$20)),_xlfn.AGGREGATE(15,6,(ROW(OrderRange_Ref)-ROW($L$19))/(OFFSET(OrderRange_Ref,,3)>0),ROWS($L$20:$L157)-OFFSET(Cumulative,,2)),IF(OFFSET(Cumulative,,4)>(ROW()-ROW($O$20)),_xlfn.AGGREGATE(15,6,(ROW(OrderRange_Ref)-ROW($L$19))/(OFFSET(OrderRange_Ref,,4)>0),ROWS($L$20:$L157)-OFFSET(Cumulative,,3)),IF(OFFSET(Cumulative,,5)>(ROW()-ROW($O$20)),_xlfn.AGGREGATE(15,6,(ROW(OrderRange_Ref)-ROW($L$19))/(OFFSET(OrderRange_Ref,,5)>0),ROWS($L$20:$L157)-OFFSET(Cumulative,,4)),\"\"))))))","v":""},"","","","",{"$f":"IF($N157=\"\",\"\",ROUND(SUMPRODUCT((LEFT(Transaction[Route],Branch_Digit)=RIGHT(BranchCode,Branch_Digit))*(Transaction[Type]=\"เบิก\")*(Transaction[Products]='Factory_Order Frm'!$R157)*(Transaction[Date]=$O157)*(Transaction[Qty In-Out]))/PcsPerTray,0))","v":""},{"$f":"IF($N157=\"\",\"\",MOD(SUMPRODUCT((LEFT(Transaction[Route],Branch_Digit)=RIGHT(BranchCode,Branch_Digit))*(Transaction[Type]=\"เบิก\")*(Transaction[Products]='Factory_Order Frm'!$R157)*(Transaction[Date]=$O157)*(Transaction[Qty In-Out])),PcsPerTray))","v":""}]
[null,null,null,null,null,null,null,null,null,null,null,null,null,{"$f":"IF(Cumulative>(ROW()-ROW($O$20)),_xlfn.AGGREGATE(15,6,(ROW(OrderRange_Ref)-ROW($L$19))/(OFFSET(OrderRange_Ref,,0)>0),ROWS($L$20:$L158)),IF(OFFSET(Cumulative,,1)>(ROW()-ROW($O$20)),_xlfn.AGGREGATE(15,6,(ROW(OrderRange_Ref)-ROW($L$19))/(OFFSET(OrderRange_Ref,,1)>0),ROWS($L$20:$L158)-OFFSET(Cumulative,,0)),IF(OFFSET(Cumulative,,2)>(ROW()-ROW($O$20)),_xlfn.AGGREGATE(15,6,(ROW(OrderRange_Ref)-ROW($L$19))/(OFFSET(OrderRange_Ref,,2)>0),ROWS($L$20:$L158)-OFFSET(Cumulative,,1)),IF(OFFSET(Cumulative,,3)>(ROW()-ROW($O$20)),_xlfn.AGGREGATE(15,6,(ROW(OrderRange_Ref)-ROW($L$19))/(OFFSET(OrderRange_Ref,,3)>0),ROWS($L$20:$L158)-OFFSET(Cumulative,,2)),IF(OFFSET(Cumulative,,4)>(ROW()-ROW($O$20)),_xlfn.AGGREGATE(15,6,(ROW(OrderRange_Ref)-ROW($L$19))/(OFFSET(OrderRange_Ref,,4)>0),ROWS($L$20:$L158)-OFFSET(Cumulative,,3)),IF(OFFSET(Cumulative,,5)>(ROW()-ROW($O$20)),_xlfn.AGGREGATE(15,6,(ROW(OrderRange_Ref)-ROW($L$19))/(OFFSET(OrderRange_Ref,,5)>0),ROWS($L$20:$L158)-OFFSET(Cumulative,,4)),\"\"))))))","v":""},"","","","",{"$f":"IF($N158=\"\",\"\",ROUND(SUMPRODUCT((LEFT(Transaction[Route],Branch_Digit)=RIGHT(BranchCode,Branch_Digit))*(Transaction[Type]=\"เบิก\")*(Transaction[Products]='Factory_Order Frm'!$R158)*(Transaction[Date]=$O158)*(Transaction[Qty In-Out]))/PcsPerTray,0))","v":""},{"$f":"IF($N158=\"\",\"\",MOD(SUMPRODUCT((LEFT(Transaction[Route],Branch_Digit)=RIGHT(BranchCode,Branch_Digit))*(Transaction[Type]=\"เบิก\")*(Transaction[Products]='Factory_Order Frm'!$R158)*(Transaction[Date]=$O158)*(Transaction[Qty In-Out])),PcsPerTray))","v":""}]
[null,null,null,null,null,null,null,null,null,null,null,null,null,{"$f":"IF(Cumulative>(ROW()-ROW($O$20)),_xlfn.AGGREGATE(15,6,(ROW(OrderRange_Ref)-ROW($L$19))/(OFFSET(OrderRange_Ref,,0)>0),ROWS($L$20:$L159)),IF(OFFSET(Cumulative,,1)>(ROW()-ROW($O$20)),_xlfn.AGGREGATE(15,6,(ROW(OrderRange_Ref)-ROW($L$19))/(OFFSET(OrderRange_Ref,,1)>0),ROWS($L$20:$L159)-OFFSET(Cumulative,,0)),IF(OFFSET(Cumulative,,2)>(ROW()-ROW($O$20)),_xlfn.AGGREGATE(15,6,(ROW(OrderRange_Ref)-ROW($L$19))/(OFFSET(OrderRange_Ref,,2)>0),ROWS($L$20:$L159)-OFFSET(Cumulative,,1)),IF(OFFSET(Cumulative,,3)>(ROW()-ROW($O$20)),_xlfn.AGGREGATE(15,6,(ROW(OrderRange_Ref)-ROW($L$19))/(OFFSET(OrderRange_Ref,,3)>0),ROWS($L$20:$L159)-OFFSET(Cumulative,,2)),IF(OFFSET(Cumulative,,4)>(ROW()-ROW($O$20)),_xlfn.AGGREGATE(15,6,(ROW(OrderRange_Ref)-ROW($L$19))/(OFFSET(OrderRange_Ref,,4)>0),ROWS($L$20:$L159)-OFFSET(Cumulative,,3)),IF(OFFSET(Cumulative,,5)>(ROW()-ROW($O$20)),_xlfn.AGGREGATE(15,6,(ROW(OrderRange_Ref)-ROW($L$19))/(OFFSET(OrderRange_Ref,,5)>0),ROWS($L$20:$L159)-OFFSET(Cumulative,,4)),\"\"))))))","v":""},"","","","",{"$f":"IF($N159=\"\",\"\",ROUND(SUMPRODUCT((LEFT(Transaction[Route],Branch_Digit)=RIGHT(BranchCode,Branch_Digit))*(Transaction[Type]=\"เบิก\")*(Transaction[Products]='Factory_Order Frm'!$R159)*(Transaction[Date]=$O159)*(Transaction[Qty In-Out]))/PcsPerTray,0))","v":""},{"$f":"IF($N159=\"\",\"\",MOD(SUMPRODUCT((LEFT(Transaction[Route],Branch_Digit)=RIGHT(BranchCode,Branch_Digit))*(Transaction[Type]=\"เบิก\")*(Transaction[Products]='Factory_Order Frm'!$R159)*(Transaction[Date]=$O159)*(Transaction[Qty In-Out])),PcsPerTray))","v":""}]
[null,null,null,null,null,null,null,null,null,null,null,null,null,{"$f":"IF(Cumulative>(ROW()-ROW($O$20)),_xlfn.AGGREGATE(15,6,(ROW(OrderRange_Ref)-ROW($L$19))/(OFFSET(OrderRange_Ref,,0)>0),ROWS($L$20:$L160)),IF(OFFSET(Cumulative,,1)>(ROW()-ROW($O$20)),_xlfn.AGGREGATE(15,6,(ROW(OrderRange_Ref)-ROW($L$19))/(OFFSET(OrderRange_Ref,,1)>0),ROWS($L$20:$L160)-OFFSET(Cumulative,,0)),IF(OFFSET(Cumulative,,2)>(ROW()-ROW($O$20)),_xlfn.AGGREGATE(15,6,(ROW(OrderRange_Ref)-ROW($L$19))/(OFFSET(OrderRange_Ref,,2)>0),ROWS($L$20:$L160)-OFFSET(Cumulative,,1)),IF(OFFSET(Cumulative,,3)>(ROW()-ROW($O$20)),_xlfn.AGGREGATE(15,6,(ROW(OrderRange_Ref)-ROW($L$19))/(OFFSET(OrderRange_Ref,,3)>0),ROWS($L$20:$L160)-OFFSET(Cumulative,,2)),IF(OFFSET(Cumulative,,4)>(ROW()-ROW($O$20)),_xlfn.AGGREGATE(15,6,(ROW(OrderRange_Ref)-ROW($L$19))/(OFFSET(OrderRange_Ref,,4)>0),ROWS($L$20:$L160)-OFFSET(Cumulative,,3)),IF(OFFSET(Cumulative,,5)>(ROW()-ROW($O$20)),_xlfn.AGGREGATE(15,6,(ROW(OrderRange_Ref)-ROW($L$19))/(OFFSET(OrderRange_Ref,,5)>0),ROWS($L$20:$L160)-OFFSET(Cumulative,,4)),\"\"))))))","v":""},"","","","",{"$f":"IF($N160=\"\",\"\",ROUND(SUMPRODUCT((LEFT(Transaction[Route],Branch_Digit)=RIGHT(BranchCode,Branch_Digit))*(Transaction[Type]=\"เบิก\")*(Transaction[Products]='Factory_Order Frm'!$R160)*(Transaction[Date]=$O160)*(Transaction[Qty In-Out]))/PcsPerTray,0))","v":""},{"$f":"IF($N160=\"\",\"\",MOD(SUMPRODUCT((LEFT(Transaction[Route],Branch_Digit)=RIGHT(BranchCode,Branch_Digit))*(Transaction[Type]=\"เบิก\")*(Transaction[Products]='Factory_Order Frm'!$R160)*(Transaction[Date]=$O160)*(Transaction[Qty In-Out])),PcsPerTray))","v":""}]
[null,null,null,null,null,null,null,null,null,null,null,null,null,{"$f":"IF(Cumulative>(ROW()-ROW($O$20)),_xlfn.AGGREGATE(15,6,(ROW(OrderRange_Ref)-ROW($L$19))/(OFFSET(OrderRange_Ref,,0)>0),ROWS($L$20:$L161)),IF(OFFSET(Cumulative,,1)>(ROW()-ROW($O$20)),_xlfn.AGGREGATE(15,6,(ROW(OrderRange_Ref)-ROW($L$19))/(OFFSET(OrderRange_Ref,,1)>0),ROWS($L$20:$L161)-OFFSET(Cumulative,,0)),IF(OFFSET(Cumulative,,2)>(ROW()-ROW($O$20)),_xlfn.AGGREGATE(15,6,(ROW(OrderRange_Ref)-ROW($L$19))/(OFFSET(OrderRange_Ref,,2)>0),ROWS($L$20:$L161)-OFFSET(Cumulative,,1)),IF(OFFSET(Cumulative,,3)>(ROW()-ROW($O$20)),_xlfn.AGGREGATE(15,6,(ROW(OrderRange_Ref)-ROW($L$19))/(OFFSET(OrderRange_Ref,,3)>0),ROWS($L$20:$L161)-OFFSET(Cumulative,,2)),IF(OFFSET(Cumulative,,4)>(ROW()-ROW($O$20)),_xlfn.AGGREGATE(15,6,(ROW(OrderRange_Ref)-ROW($L$19))/(OFFSET(OrderRange_Ref,,4)>0),ROWS($L$20:$L161)-OFFSET(Cumulative,,3)),IF(OFFSET(Cumulative,,5)>(ROW()-ROW($O$20)),_xlfn.AGGREGATE(15,6,(ROW(OrderRange_Ref)-ROW($L$19))/(OFFSET(OrderRange_Ref,,5)>0),ROWS($L$20:$L161)-OFFSET(Cumulative,,4)),\"\"))))))","v":""},"","","","",{"$f":"IF($N161=\"\",\"\",ROUND(SUMPRODUCT((LEFT(Transaction[Route],Branch_Digit)=RIGHT(BranchCode,Branch_Digit))*(Transaction[Type]=\"เบิก\")*(Transaction[Products]='Factory_Order Frm'!$R161)*(Transaction[Date]=$O161)*(Transaction[Qty In-Out]))/PcsPerTray,0))","v":""},{"$f":"IF($N161=\"\",\"\",MOD(SUMPRODUCT((LEFT(Transaction[Route],Branch_Digit)=RIGHT(BranchCode,Branch_Digit))*(Transaction[Type]=\"เบิก\")*(Transaction[Products]='Factory_Order Frm'!$R161)*(Transaction[Date]=$O161)*(Transaction[Qty In-Out])),PcsPerTray))","v":""}]
[null,null,null,null,null,null,null,null,null,null,null,null,null,{"$f":"IF(Cumulative>(ROW()-ROW($O$20)),_xlfn.AGGREGATE(15,6,(ROW(OrderRange_Ref)-ROW($L$19))/(OFFSET(OrderRange_Ref,,0)>0),ROWS($L$20:$L162)),IF(OFFSET(Cumulative,,1)>(ROW()-ROW($O$20)),_xlfn.AGGREGATE(15,6,(ROW(OrderRange_Ref)-ROW($L$19))/(OFFSET(OrderRange_Ref,,1)>0),ROWS($L$20:$L162)-OFFSET(Cumulative,,0)),IF(OFFSET(Cumulative,,2)>(ROW()-ROW($O$20)),_xlfn.AGGREGATE(15,6,(ROW(OrderRange_Ref)-ROW($L$19))/(OFFSET(OrderRange_Ref,,2)>0),ROWS($L$20:$L162)-OFFSET(Cumulative,,1)),IF(OFFSET(Cumulative,,3)>(ROW()-ROW($O$20)),_xlfn.AGGREGATE(15,6,(ROW(OrderRange_Ref)-ROW($L$19))/(OFFSET(OrderRange_Ref,,3)>0),ROWS($L$20:$L162)-OFFSET(Cumulative,,2)),IF(OFFSET(Cumulative,,4)>(ROW()-ROW($O$20)),_xlfn.AGGREGATE(15,6,(ROW(OrderRange_Ref)-ROW($L$19))/(OFFSET(OrderRange_Ref,,4)>0),ROWS($L$20:$L162)-OFFSET(Cumulative,,3)),IF(OFFSET(Cumulative,,5)>(ROW()-ROW($O$20)),_xlfn.AGGREGATE(15,6,(ROW(OrderRange_Ref)-ROW($L$19))/(OFFSET(OrderRange_Ref,,5)>0),ROWS($L$20:$L162)-OFFSET(Cumulative,,4)),\"\"))))))","v":""},"","","","",{"$f":"IF($N162=\"\",\"\",ROUND(SUMPRODUCT((LEFT(Transaction[Route],Branch_Digit)=RIGHT(BranchCode,Branch_Digit))*(Transaction[Type]=\"เบิก\")*(Transaction[Products]='Factory_Order Frm'!$R162)*(Transaction[Date]=$O162)*(Transaction[Qty In-Out]))/PcsPerTray,0))","v":""},{"$f":"IF($N162=\"\",\"\",MOD(SUMPRODUCT((LEFT(Transaction[Route],Branch_Digit)=RIGHT(BranchCode,Branch_Digit))*(Transaction[Type]=\"เบิก\")*(Transaction[Products]='Factory_Order Frm'!$R162)*(Transaction[Date]=$O162)*(Transaction[Qty In-Out])),PcsPerTray))","v":""}]
[null,null,null,null,null,null,null,null,null,null,null,null,null,{"$f":"IF(Cumulative>(ROW()-ROW($O$20)),_xlfn.AGGREGATE(15,6,(ROW(OrderRange_Ref)-ROW($L$19))/(OFFSET(OrderRange_Ref,,0)>0),ROWS($L$20:$L163)),IF(OFFSET(Cumulative,,1)>(ROW()-ROW($O$20)),_xlfn.AGGREGATE(15,6,(ROW(OrderRange_Ref)-ROW($L$19))/(OFFSET(OrderRange_Ref,,1)>0),ROWS($L$20:$L163)-OFFSET(Cumulative,,0)),IF(OFFSET(Cumulative,,2)>(ROW()-ROW($O$20)),_xlfn.AGGREGATE(15,6,(ROW(OrderRange_Ref)-ROW($L$19))/(OFFSET(OrderRange_Ref,,2)>0),ROWS($L$20:$L163)-OFFSET(Cumulative,,1)),IF(OFFSET(Cumulative,,3)>(ROW()-ROW($O$20)),_xlfn.AGGREGATE(15,6,(ROW(OrderRange_Ref)-ROW($L$19))/(OFFSET(OrderRange_Ref,,3)>0),ROWS($L$20:$L163)-OFFSET(Cumulative,,2)),IF(OFFSET(Cumulative,,4)>(ROW()-ROW($O$20)),_xlfn.AGGREGATE(15,6,(ROW(OrderRange_Ref)-ROW($L$19))/(OFFSET(OrderRange_Ref,,4)>0),ROWS($L$20:$L163)-OFFSET(Cumulative,,3)),IF(OFFSET(Cumulative,,5)>(ROW()-ROW($O$20)),_xlfn.AGGREGATE(15,6,(ROW(OrderRange_Ref)-ROW($L$19))/(OFFSET(OrderRange_Ref,,5)>0),ROWS($L$20:$L163)-OFFSET(Cumulative,,4)),\"\"))))))","v":""},"","","","",{"$f":"IF($N163=\"\",\"\",ROUND(SUMPRODUCT((LEFT(Transaction[Route],Branch_Digit)=RIGHT(BranchCode,Branch_Digit))*(Transaction[Type]=\"เบิก\")*(Transaction[Products]='Factory_Order Frm'!$R163)*(Transaction[Date]=$O163)*(Transaction[Qty In-Out]))/PcsPerTray,0))","v":""},{"$f":"IF($N163=\"\",\"\",MOD(SUMPRODUCT((LEFT(Transaction[Route],Branch_Digit)=RIGHT(BranchCode,Branch_Digit))*(Transaction[Type]=\"เบิก\")*(Transaction[Products]='Factory_Order Frm'!$R163)*(Transaction[Date]=$O163)*(Transaction[Qty In-Out])),PcsPerTray))","v":""}]
[null,null,null,null,null,null,null,null,null,null,null,null,null,{"$f":"IF(Cumulative>(ROW()-ROW($O$20)),_xlfn.AGGREGATE(15,6,(ROW(OrderRange_Ref)-ROW($L$19))/(OFFSET(OrderRange_Ref,,0)>0),ROWS($L$20:$L164)),IF(OFFSET(Cumulative,,1)>(ROW()-ROW($O$20)),_xlfn.AGGREGATE(15,6,(ROW(OrderRange_Ref)-ROW($L$19))/(OFFSET(OrderRange_Ref,,1)>0),ROWS($L$20:$L164)-OFFSET(Cumulative,,0)),IF(OFFSET(Cumulative,,2)>(ROW()-ROW($O$20)),_xlfn.AGGREGATE(15,6,(ROW(OrderRange_Ref)-ROW($L$19))/(OFFSET(OrderRange_Ref,,2)>0),ROWS($L$20:$L164)-OFFSET(Cumulative,,1)),IF(OFFSET(Cumulative,,3)>(ROW()-ROW($O$20)),_xlfn.AGGREGATE(15,6,(ROW(OrderRange_Ref)-ROW($L$19))/(OFFSET(OrderRange_Ref,,3)>0),ROWS($L$20:$L164)-OFFSET(Cumulative,,2)),IF(OFFSET(Cumulative,,4)>(ROW()-ROW($O$20)),_xlfn.AGGREGATE(15,6,(ROW(OrderRange_Ref)-ROW($L$19))/(OFFSET(OrderRange_Ref,,4)>0),ROWS($L$20:$L164)-OFFSET(Cumulative,,3)),IF(OFFSET(Cumulative,,5)>(ROW()-ROW($O$20)),_xlfn.AGGREGATE(15,6,(ROW(OrderRange_Ref)-ROW($L$19))/(OFFSET(OrderRange_Ref,,5)>0),ROWS($L$20:$L164)-OFFSET(Cumulative,,4)),\"\"))))))","v":""},"","","","",{"$f":"IF($N164=\"\",\"\",ROUND(SUMPRODUCT((LEFT(Transaction[Route],Branch_Digit)=RIGHT(BranchCode,Branch_Digit))*(Transaction[Type]=\"เบิก\")*(Transaction[Products]='Factory_Order Frm'!$R164)*(Transaction[Date]=$O164)*(Transaction[Qty In-Out]))/PcsPerTray,0))","v":""},{"$f":"IF($N164=\"\",\"\",MOD(SUMPRODUCT((LEFT(Transaction[Route],Branch_Digit)=RIGHT(BranchCode,Branch_Digit))*(Transaction[Type]=\"เบิก\")*(Transaction[Products]='Factory_Order Frm'!$R164)*(Transaction[Date]=$O164)*(Transaction[Qty In-Out])),PcsPerTray))","v":""}]
[null,null,null,null,null,null,null,null,null,null,null,null,null,{"$f":"IF(Cumulative>(ROW()-ROW($O$20)),_xlfn.AGGREGATE(15,6,(ROW(OrderRange_Ref)-ROW($L$19))/(OFFSET(OrderRange_Ref,,0)>0),ROWS($L$20:$L165)),IF(OFFSET(Cumulative,,1)>(ROW()-ROW($O$20)),_xlfn.AGGREGATE(15,6,(ROW(OrderRange_Ref)-ROW($L$19))/(OFFSET(OrderRange_Ref,,1)>0),ROWS($L$20:$L165)-OFFSET(Cumulative,,0)),IF(OFFSET(Cumulative,,2)>(ROW()-ROW($O$20)),_xlfn.AGGREGATE(15,6,(ROW(OrderRange_Ref)-ROW($L$19))/(OFFSET(OrderRange_Ref,,2)>0),ROWS($L$20:$L165)-OFFSET(Cumulative,,1)),IF(OFFSET(Cumulative,,3)>(ROW()-ROW($O$20)),_xlfn.AGGREGATE(15,6,(ROW(OrderRange_Ref)-ROW($L$19))/(OFFSET(OrderRange_Ref,,3)>0),ROWS($L$20:$L165)-OFFSET(Cumulative,,2)),IF(OFFSET(Cumulative,,4)>(ROW()-ROW($O$20)),_xlfn.AGGREGATE(15,6,(ROW(OrderRange_Ref)-ROW($L$19))/(OFFSET(OrderRange_Ref,,4)>0),ROWS($L$20:$L165)-OFFSET(Cumulative,,3)),IF(OFFSET(Cumulative,,5)>(ROW()-ROW($O$20)),_xlfn.AGGREGATE(15,6,(ROW(OrderRange_Ref)-ROW($L$19))/(OFFSET(OrderRange_Ref,,5)>0),ROWS($L$20:$L165)-OFFSET(Cumulative,,4)),\"\"))))))","v":""},"","","","",{"$f":"IF($N165=\"\",\"\",ROUND(SUMPRODUCT((LEFT(Transaction[Route],Branch_Digit)=RIGHT(BranchCode,Branch_Digit))*(Transaction[Type]=\"เบิก\")*(Transaction[Products]='Factory_Order Frm'!$R165)*(Transaction[Date]=$O165)*(Transaction[Qty In-Out]))/PcsPerTray,0))","v":""},{"$f":"IF($N165=\"\",\"\",MOD(SUMPRODUCT((LEFT(Transaction[Route],Branch_Digit)=RIGHT(BranchCode,Branch_Digit))*(Transaction[Type]=\"เบิก\")*(Transaction[Products]='Factory_Order Frm'!$R165)*(Transaction[Date]=$O165)*(Transaction[Qty In-Out])),PcsPerTray))","v":""}]
[null,null,null,null,null,null,null,null,null,null,null,null,null,{"$f":"IF(Cumulative>(ROW()-ROW($O$20)),_xlfn.AGGREGATE(15,6,(ROW(OrderRange_Ref)-ROW($L$19))/(OFFSET(OrderRange_Ref,,0)>0),ROWS($L$20:$L166)),IF(OFFSET(Cumulative,,1)>(ROW()-ROW($O$20)),_xlfn.AGGREGATE(15,6,(ROW(OrderRange_Ref)-ROW($L$19))/(OFFSET(OrderRange_Ref,,1)>0),ROWS($L$20:$L166)-OFFSET(Cumulative,,0)),IF(OFFSET(Cumulative,,2)>(ROW()-ROW($O$20)),_xlfn.AGGREGATE(15,6,(ROW(OrderRange_Ref)-ROW($L$19))/(OFFSET(OrderRange_Ref,,2)>0),ROWS($L$20:$L166)-OFFSET(Cumulative,,1)),IF(OFFSET(Cumulative,,3)>(ROW()-ROW($O$20)),_xlfn.AGGREGATE(15,6,(ROW(OrderRange_Ref)-ROW($L$19))/(OFFSET(OrderRange_Ref,,3)>0),ROWS($L$20:$L166)-OFFSET(Cumulative,,2)),IF(OFFSET(Cumulative,,4)>(ROW()-ROW($O$20)),_xlfn.AGGREGATE(15,6,(ROW(OrderRange_Ref)-ROW($L$19))/(OFFSET(OrderRange_Ref,,4)>0),ROWS($L$20:$L166)-OFFSET(Cumulative,,3)),IF(OFFSET(Cumulative,,5)>(ROW()-ROW($O$20)),_xlfn.AGGREGATE(15,6,(ROW(OrderRange_Ref)-ROW($L$19))/(OFFSET(OrderRange_Ref,,5)>0),ROWS($L$20:$L166)-OFFSET(Cumulative,,4)),\"\"))))))","v":""},"","","","",{"$f":"IF($N166=\"\",\"\",ROUND(SUMPRODUCT((LEFT(Transaction[Route],Branch_Digit)=RIGHT(BranchCode,Branch_Digit))*(Transaction[Type]=\"เบิก\")*(Transaction[Products]='Factory_Order Frm'!$R166)*(Transaction[Date]=$O166)*(Transaction[Qty In-Out]))/PcsPerTray,0))","v":""},{"$f":"IF($N166=\"\",\"\",MOD(SUMPRODUCT((LEFT(Transaction[Route],Branch_Digit)=RIGHT(BranchCode,Branch_Digit))*(Transaction[Type]=\"เบิก\")*(Transaction[Products]='Factory_Order Frm'!$R166)*(Transaction[Date]=$O166)*(Transaction[Qty In-Out])),PcsPerTray))","v":""}]
[null,null,null,null,null,null,null,null,null,null,null,null,null,{"$f":"IF(Cumulative>(ROW()-ROW($O$20)),_xlfn.AGGREGATE(15,6,(ROW(OrderRange_Ref)-ROW($L$19))/(OFFSET(OrderRange_Ref,,0)>0),ROWS($L$20:$L167)),IF(OFFSET(Cumulative,,1)>(ROW()-ROW($O$20)),_xlfn.AGGREGATE(15,6,(ROW(OrderRange_Ref)-ROW($L$19))/(OFFSET(OrderRange_Ref,,1)>0),ROWS($L$20:$L167)-OFFSET(Cumulative,,0)),IF(OFFSET(Cumulative,,2)>(ROW()-ROW($O$20)),_xlfn.AGGREGATE(15,6,(ROW(OrderRange_Ref)-ROW($L$19))/(OFFSET(OrderRange_Ref,,2)>0),ROWS($L$20:$L167)-OFFSET(Cumulative,,1)),IF(OFFSET(Cumulative,,3)>(ROW()-ROW($O$20)),_xlfn.AGGREGATE(15,6,(ROW(OrderRange_Ref)-ROW($L$19))/(OFFSET(OrderRange_Ref,,3)>0),ROWS($L$20:$L167)-OFFSET(Cumulative,,2)),IF(OFFSET(Cumulative,,4)>(ROW()-ROW($O$20)),_xlfn.AGGREGATE(15,6,(ROW(OrderRange_Ref)-ROW($L$19))/(OFFSET(OrderRange_Ref,,4)>0),ROWS($L$20:$L167)-OFFSET(Cumulative,,3)),IF(OFFSET(Cumulative,,5)>(ROW()-ROW($O$20)),_xlfn.AGGREGATE(15,6,(ROW(OrderRange_Ref)-ROW($L$19))/(OFFSET(OrderRange_Ref,,5)>0),ROWS($L$20:$L167)-OFFSET(Cumulative,,4)),\"\"))))))","v":""},"","","","",{"$f":"IF($N167=\"\",\"\",ROUND(SUMPRODUCT((LEFT(Transaction[Route],Branch_Digit)=RIGHT(BranchCode,Branch_Digit))*(Transaction[Type]=\"เบิก\")*(Transaction[Products]='Factory_Order Frm'!$R167)*(Transaction[Date]=$O167)*(Transaction[Qty In-Out]))/PcsPerTray,0))","v":""},{"$f":"IF($N167=\"\",\"\",MOD(SUMPRODUCT((LEFT(Transaction[Route],Branch_Digit)=RIGHT(BranchCode,Branch_Digit))*(Transaction[Type]=\"เบิก\")*(Transaction[Products]='Factory_Order Frm'!$R167)*(Transaction[Date]=$O167)*(Transaction[Qty In-Out])),PcsPerTray))","v":""}]
[null,null,null,null,null,null,null,null,null,null,null,null,null,{"$f":"IF(Cumulative>(ROW()-ROW($O$20)),_xlfn.AGGREGATE(15,6,(ROW(OrderRange_Ref)-ROW($L$19))/(OFFSET(OrderRange_Ref,,0)>0),ROWS($L$20:$L168)),IF(OFFSET(Cumulative,,1)>(ROW()-ROW($O$20)),_xlfn.AGGREGATE(15,6,(ROW(OrderRange_Ref)-ROW($L$19))/(OFFSET(OrderRange_Ref,,1)>0),ROWS($L$20:$L168)-OFFSET(Cumulative,,0)),IF(OFFSET(Cumulative,,2)>(ROW()-ROW($O$20)),_xlfn.AGGREGATE(15,6,(ROW(OrderRange_Ref)-ROW($L$19))/(OFFSET(OrderRange_Ref,,2)>0),ROWS($L$20:$L168)-OFFSET(Cumulative,,1)),IF(OFFSET(Cumulative,,3)>(ROW()-ROW($O$20)),_xlfn.AGGREGATE(15,6,(ROW(OrderRange_Ref)-ROW($L$19))/(OFFSET(OrderRange_Ref,,3)>0),ROWS($L$20:$L168)-OFFSET(Cumulative,,2)),IF(OFFSET(Cumulative,,4)>(ROW()-ROW($O$20)),_xlfn.AGGREGATE(15,6,(ROW(OrderRange_Ref)-ROW($L$19))/(OFFSET(OrderRange_Ref,,4)>0),ROWS($L$20:$L168)-OFFSET(Cumulative,,3)),IF(OFFSET(Cumulative,,5)>(ROW()-ROW($O$20)),_xlfn.AGGREGATE(15,6,(ROW(OrderRange_Ref)-ROW($L$19))/(OFFSET(OrderRange_Ref,,5)>0),ROWS($L$20:$L168)-OFFSET(Cumulative,,4)),\"\"))))))","v":""},"","","","",{"$f":"IF($N168=\"\",\"\",ROUND(SUMPRODUCT((LEFT(Transaction[Route],Branch_Digit)=RIGHT(BranchCode,Branch_Digit))*(Transaction[Type]=\"เบิก\")*(Transaction[Products]='Factory_Order Frm'!$R168)*(Transaction[Date]=$O168)*(Transaction[Qty In-Out]))/PcsPerTray,0))","v":""},{"$f":"IF($N168=\"\",\"\",MOD(SUMPRODUCT((LEFT(Transaction[Route],Branch_Digit)=RIGHT(BranchCode,Branch_Digit))*(Transaction[Type]=\"เบิก\")*(Transaction[Products]='Factory_Order Frm'!$R168)*(Transaction[Date]=$O168)*(Transaction[Qty In-Out])),PcsPerTray))","v":""}]
[null,null,null,null,null,null,null,null,null,null,null,null,null,{"$f":"IF(Cumulative>(ROW()-ROW($O$20)),_xlfn.AGGREGATE(15,6,(ROW(OrderRange_Ref)-ROW($L$19))/(OFFSET(OrderRange_Ref,,0)>0),ROWS($L$20:$L169)),IF(OFFSET(Cumulative,,1)>(ROW()-ROW($O$20)),_xlfn.AGGREGATE(15,6,(ROW(OrderRange_Ref)-ROW($L$19))/(OFFSET(OrderRange_Ref,,1)>0),ROWS($L$20:$L169)-OFFSET(Cumulative,,0)),IF(OFFSET(Cumulative,,2)>(ROW()-ROW($O$20)),_xlfn.AGGREGATE(15,6,(ROW(OrderRange_Ref)-ROW($L$19))/(OFFSET(OrderRange_Ref,,2)>0),ROWS($L$20:$L169)-OFFSET(Cumulative,,1)),IF(OFFSET(Cumulative,,3)>(ROW()-ROW($O$20)),_xlfn.AGGREGATE(15,6,(ROW(OrderRange_Ref)-ROW($L$19))/(OFFSET(OrderRange_Ref,,3)>0),ROWS($L$20:$L169)-OFFSET(Cumulative,,2)),IF(OFFSET(Cumulative,,4)>(ROW()-ROW($O$20)),_xlfn.AGGREGATE(15,6,(ROW(OrderRange_Ref)-ROW($L$19))/(OFFSET(OrderRange_Ref,,4)>0),ROWS($L$20:$L169)-OFFSET(Cumulative,,3)),IF(OFFSET(Cumulative,,5)>(ROW()-ROW($O$20)),_xlfn.AGGREGATE(15,6,(ROW(OrderRange_Ref)-ROW($L$19))/(OFFSET(OrderRange_Ref,,5)>0),ROWS($L$20:$L169)-OFFSET(Cumulative,,4)),\"\"))))))","v":""},"","","","",{"$f":"IF($N169=\"\",\"\",ROUND(SUMPRODUCT((LEFT(Transaction[Route],Branch_Digit)=RIGHT(BranchCode,Branch_Digit))*(Transaction[Type]=\"เบิก\")*(Transaction[Products]='Factory_Order Frm'!$R169)*(Transaction[Date]=$O169)*(Transaction[Qty In-Out]))/PcsPerTray,0))","v":""},{"$f":"IF($N169=\"\",\"\",MOD(SUMPRODUCT((LEFT(Transaction[Route],Branch_Digit)=RIGHT(BranchCode,Branch_Digit))*(Transaction[Type]=\"เบิก\")*(Transaction[Products]='Factory_Order Frm'!$R169)*(Transaction[Date]=$O169)*(Transaction[Qty In-Out])),PcsPerTray))","v":""}]
[null,null,null,null,null,null,null,null,null,null,null,null,null,{"$f":"IF(Cumulative>(ROW()-ROW($O$20)),_xlfn.AGGREGATE(15,6,(ROW(OrderRange_Ref)-ROW($L$19))/(OFFSET(OrderRange_Ref,,0)>0),ROWS($L$20:$L170)),IF(OFFSET(Cumulative,,1)>(ROW()-ROW($O$20)),_xlfn.AGGREGATE(15,6,(ROW(OrderRange_Ref)-ROW($L$19))/(OFFSET(OrderRange_Ref,,1)>0),ROWS($L$20:$L170)-OFFSET(Cumulative,,0)),IF(OFFSET(Cumulative,,2)>(ROW()-ROW($O$20)),_xlfn.AGGREGATE(15,6,(ROW(OrderRange_Ref)-ROW($L$19))/(OFFSET(OrderRange_Ref,,2)>0),ROWS($L$20:$L170)-OFFSET(Cumulative,,1)),IF(OFFSET(Cumulative,,3)>(ROW()-ROW($O$20)),_xlfn.AGGREGATE(15,6,(ROW(OrderRange_Ref)-ROW($L$19))/(OFFSET(OrderRange_Ref,,3)>0),ROWS($L$20:$L170)-OFFSET(Cumulative,,2)),IF(OFFSET(Cumulative,,4)>(ROW()-ROW($O$20)),_xlfn.AGGREGATE(15,6,(ROW(OrderRange_Ref)-ROW($L$19))/(OFFSET(OrderRange_Ref,,4)>0),ROWS($L$20:$L170)-OFFSET(Cumulative,,3)),IF(OFFSET(Cumulative,,5)>(ROW()-ROW($O$20)),_xlfn.AGGREGATE(15,6,(ROW(OrderRange_Ref)-ROW($L$19))/(OFFSET(OrderRange_Ref,,5)>0),ROWS($L$20:$L170)-OFFSET(Cumulative,,4)),\"\"))))))","v":""},"","","","",{"$f":"IF($N170=\"\",\"\",ROUND(SUMPRODUCT((LEFT(Transaction[Route],Branch_Digit)=RIGHT(BranchCode,Branch_Digit))*(Transaction[Type]=\"เบิก\")*(Transaction[Products]='Factory_Order Frm'!$R170)*(Transaction[Date]=$O170)*(Transaction[Qty In-Out]))/PcsPerTray,0))","v":""},{"$f":"IF($N170=\"\",\"\",MOD(SUMPRODUCT((LEFT(Transaction[Route],Branch_Digit)=RIGHT(BranchCode,Branch_Digit))*(Transaction[Type]=\"เบิก\")*(Transaction[Products]='Factory_Order Frm'!$R170)*(Transaction[Date]=$O170)*(Transaction[Qty In-Out])),PcsPerTray))","v":""}]
[null,null,null,null,null,null,null,null,null,null,null,null,null,{"$f":"IF(Cumulative>(ROW()-ROW($O$20)),_xlfn.AGGREGATE(15,6,(ROW(OrderRange_Ref)-ROW($L$19))/(OFFSET(OrderRange_Ref,,0)>0),ROWS($L$20:$L171)),IF(OFFSET(Cumulative,,1)>(ROW()-ROW($O$20)),_xlfn.AGGREGATE(15,6,(ROW(OrderRange_Ref)-ROW($L$19))/(OFFSET(OrderRange_Ref,,1)>0),ROWS($L$20:$L171)-OFFSET(Cumulative,,0)),IF(OFFSET(Cumulative,,2)>(ROW()-ROW($O$20)),_xlfn.AGGREGATE(15,6,(ROW(OrderRange_Ref)-ROW($L$19))/(OFFSET(OrderRange_Ref,,2)>0),ROWS($L$20:$L171)-OFFSET(Cumulative,,1)),IF(OFFSET(Cumulative,,3)>(ROW()-ROW($O$20)),_xlfn.AGGREGATE(15,6,(ROW(OrderRange_Ref)-ROW($L$19))/(OFFSET(OrderRange_Ref,,3)>0),ROWS($L$20:$L171)-OFFSET(Cumulative,,2)),IF(OFFSET(Cumulative,,4)>(ROW()-ROW($O$20)),_xlfn.AGGREGATE(15,6,(ROW(OrderRange_Ref)-ROW($L$19))/(OFFSET(OrderRange_Ref,,4)>0),ROWS($L$20:$L171)-OFFSET(Cumulative,,3)),IF(OFFSET(Cumulative,,5)>(ROW()-ROW($O$20)),_xlfn.AGGREGATE(15,6,(ROW(OrderRange_Ref)-ROW($L$19))/(OFFSET(OrderRange_Ref,,5)>0),ROWS($L$20:$L171)-OFFSET(Cumulative,,4)),\"\"))))))","v":""},"","","","",{"$f":"IF($N171=\"\",\"\",ROUND(SUMPRODUCT((LEFT(Transaction[Route],Branch_Digit)=RIGHT(BranchCode,Branch_Digit))*(Transaction[Type]=\"เบิก\")*(Transaction[Products]='Factory_Order Frm'!$R171)*(Transaction[Date]=$O171)*(Transaction[Qty In-Out]))/PcsPerTray,0))","v":""},{"$f":"IF($N171=\"\",\"\",MOD(SUMPRODUCT((LEFT(Transaction[Route],Branch_Digit)=RIGHT(BranchCode,Branch_Digit))*(Transaction[Type]=\"เบิก\")*(Transaction[Products]='Factory_Order Frm'!$R171)*(Transaction[Date]=$O171)*(Transaction[Qty In-Out])),PcsPerTray))","v":""}]
[null,null,null,null,null,null,null,null,null,null,null,null,null,{"$f":"IF(Cumulative>(ROW()-ROW($O$20)),_xlfn.AGGREGATE(15,6,(ROW(OrderRange_Ref)-ROW($L$19))/(OFFSET(OrderRange_Ref,,0)>0),ROWS($L$20:$L172)),IF(OFFSET(Cumulative,,1)>(ROW()-ROW($O$20)),_xlfn.AGGREGATE(15,6,(ROW(OrderRange_Ref)-ROW($L$19))/(OFFSET(OrderRange_Ref,,1)>0),ROWS($L$20:$L172)-OFFSET(Cumulative,,0)),IF(OFFSET(Cumulative,,2)>(ROW()-ROW($O$20)),_xlfn.AGGREGATE(15,6,(ROW(OrderRange_Ref)-ROW($L$19))/(OFFSET(OrderRange_Ref,,2)>0),ROWS($L$20:$L172)-OFFSET(Cumulative,,1)),IF(OFFSET(Cumulative,,3)>(ROW()-ROW($O$20)),_xlfn.AGGREGATE(15,6,(ROW(OrderRange_Ref)-ROW($L$19))/(OFFSET(OrderRange_Ref,,3)>0),ROWS($L$20:$L172)-OFFSET(Cumulative,,2)),IF(OFFSET(Cumulative,,4)>(ROW()-ROW($O$20)),_xlfn.AGGREGATE(15,6,(ROW(OrderRange_Ref)-ROW($L$19))/(OFFSET(OrderRange_Ref,,4)>0),ROWS($L$20:$L172)-OFFSET(Cumulative,,3)),IF(OFFSET(Cumulative,,5)>(ROW()-ROW($O$20)),_xlfn.AGGREGATE(15,6,(ROW(OrderRange_Ref)-ROW($L$19))/(OFFSET(OrderRange_Ref,,5)>0),ROWS($L$20:$L172)-OFFSET(Cumulative,,4)),\"\"))))))","v":""},"","","","",{"$f":"IF($N172=\"\",\"\",ROUND(SUMPRODUCT((LEFT(Transaction[Route],Branch_Digit)=RIGHT(BranchCode,Branch_Digit))*(Transaction[Type]=\"เบิก\")*(Transaction[Products]='Factory_Order Frm'!$R172)*(Transaction[Date]=$O172)*(Transaction[Qty In-Out]))/PcsPerTray,0))","v":""},{"$f":"IF($N172=\"\",\"\",MOD(SUMPRODUCT((LEFT(Transaction[Route],Branch_Digit)=RIGHT(BranchCode,Branch_Digit))*(Transaction[Type]=\"เบิก\")*(Transaction[Products]='Factory_Order Frm'!$R172)*(Transaction[Date]=$O172)*(Transaction[Qty In-Out])),PcsPerTray))","v":""}]
[null,null,null,null,null,null,null,null,null,null,null,null,null,{"$f":"IF(Cumulative>(ROW()-ROW($O$20)),_xlfn.AGGREGATE(15,6,(ROW(OrderRange_Ref)-ROW($L$19))/(OFFSET(OrderRange_Ref,,0)>0),ROWS($L$20:$L173)),IF(OFFSET(Cumulative,,1)>(ROW()-ROW($O$20)),_xlfn.AGGREGATE(15,6,(ROW(OrderRange_Ref)-ROW($L$19))/(OFFSET(OrderRange_Ref,,1)>0),ROWS($L$20:$L173)-OFFSET(Cumulative,,0)),IF(OFFSET(Cumulative,,2)>(ROW()-ROW($O$20)),_xlfn.AGGREGATE(15,6,(ROW(OrderRange_Ref)-ROW($L$19))/(OFFSET(OrderRange_Ref,,2)>0),ROWS($L$20:$L173)-OFFSET(Cumulative,,1)),IF(OFFSET(Cumulative,,3)>(ROW()-ROW($O$20)),_xlfn.AGGREGATE(15,6,(ROW(OrderRange_Ref)-ROW($L$19))/(OFFSET(OrderRange_Ref,,3)>0),ROWS($L$20:$L173)-OFFSET(Cumulative,,2)),IF(OFFSET(Cumulative,,4)>(ROW()-ROW($O$20)),_xlfn.AGGREGATE(15,6,(ROW(OrderRange_Ref)-ROW($L$19))/(OFFSET(OrderRange_Ref,,4)>0),ROWS($L$20:$L173)-OFFSET(Cumulative,,3)),IF(OFFSET(Cumulative,,5)>(ROW()-ROW($O$20)),_xlfn.AGGREGATE(15,6,(ROW(OrderRange_Ref)-ROW($L$19))/(OFFSET(OrderRange_Ref,,5)>0),ROWS($L$20:$L173)-OFFSET(Cumulative,,4)),\"\"))))))","v":""},"","","","",{"$f":"IF($N173=\"\",\"\",ROUND(SUMPRODUCT((LEFT(Transaction[Route],Branch_Digit)=RIGHT(BranchCode,Branch_Digit))*(Transaction[Type]=\"เบิก\")*(Transaction[Products]='Factory_Order Frm'!$R173)*(Transaction[Date]=$O173)*(Transaction[Qty In-Out]))/PcsPerTray,0))","v":""},{"$f":"IF($N173=\"\",\"\",MOD(SUMPRODUCT((LEFT(Transaction[Route],Branch_Digit)=RIGHT(BranchCode,Branch_Digit))*(Transaction[Type]=\"เบิก\")*(Transaction[Products]='Factory_Order Frm'!$R173)*(Transaction[Date]=$O173)*(Transaction[Qty In-Out])),PcsPerTray))","v":""}]
[null,null,null,null,null,null,null,null,null,null,null,null,null,{"$f":"IF(Cumulative>(ROW()-ROW($O$20)),_xlfn.AGGREGATE(15,6,(ROW(OrderRange_Ref)-ROW($L$19))/(OFFSET(OrderRange_Ref,,0)>0),ROWS($L$20:$L174)),IF(OFFSET(Cumulative,,1)>(ROW()-ROW($O$20)),_xlfn.AGGREGATE(15,6,(ROW(OrderRange_Ref)-ROW($L$19))/(OFFSET(OrderRange_Ref,,1)>0),ROWS($L$20:$L174)-OFFSET(Cumulative,,0)),IF(OFFSET(Cumulative,,2)>(ROW()-ROW($O$20)),_xlfn.AGGREGATE(15,6,(ROW(OrderRange_Ref)-ROW($L$19))/(OFFSET(OrderRange_Ref,,2)>0),ROWS($L$20:$L174)-OFFSET(Cumulative,,1)),IF(OFFSET(Cumulative,,3)>(ROW()-ROW($O$20)),_xlfn.AGGREGATE(15,6,(ROW(OrderRange_Ref)-ROW($L$19))/(OFFSET(OrderRange_Ref,,3)>0),ROWS($L$20:$L174)-OFFSET(Cumulative,,2)),IF(OFFSET(Cumulative,,4)>(ROW()-ROW($O$20)),_xlfn.AGGREGATE(15,6,(ROW(OrderRange_Ref)-ROW($L$19))/(OFFSET(OrderRange_Ref,,4)>0),ROWS($L$20:$L174)-OFFSET(Cumulative,,3)),IF(OFFSET(Cumulative,,5)>(ROW()-ROW($O$20)),_xlfn.AGGREGATE(15,6,(ROW(OrderRange_Ref)-ROW($L$19))/(OFFSET(OrderRange_Ref,,5)>0),ROWS($L$20:$L174)-OFFSET(Cumulative,,4)),\"\"))))))","v":""},"","","","",{"$f":"IF($N174=\"\",\"\",ROUND(SUMPRODUCT((LEFT(Transaction[Route],Branch_Digit)=RIGHT(BranchCode,Branch_Digit))*(Transaction[Type]=\"เบิก\")*(Transaction[Products]='Factory_Order Frm'!$R174)*(Transaction[Date]=$O174)*(Transaction[Qty In-Out]))/PcsPerTray,0))","v":""},{"$f":"IF($N174=\"\",\"\",MOD(SUMPRODUCT((LEFT(Transaction[Route],Branch_Digit)=RIGHT(BranchCode,Branch_Digit))*(Transaction[Type]=\"เบิก\")*(Transaction[Products]='Factory_Order Frm'!$R174)*(Transaction[Date]=$O174)*(Transaction[Qty In-Out])),PcsPerTray))","v":""}]
[null,null,null,null,null,null,null,null,null,null,null,null,null,{"$f":"IF(Cumulative>(ROW()-ROW($O$20)),_xlfn.AGGREGATE(15,6,(ROW(OrderRange_Ref)-ROW($L$19))/(OFFSET(OrderRange_Ref,,0)>0),ROWS($L$20:$L175)),IF(OFFSET(Cumulative,,1)>(ROW()-ROW($O$20)),_xlfn.AGGREGATE(15,6,(ROW(OrderRange_Ref)-ROW($L$19))/(OFFSET(OrderRange_Ref,,1)>0),ROWS($L$20:$L175)-OFFSET(Cumulative,,0)),IF(OFFSET(Cumulative,,2)>(ROW()-ROW($O$20)),_xlfn.AGGREGATE(15,6,(ROW(OrderRange_Ref)-ROW($L$19))/(OFFSET(OrderRange_Ref,,2)>0),ROWS($L$20:$L175)-OFFSET(Cumulative,,1)),IF(OFFSET(Cumulative,,3)>(ROW()-ROW($O$20)),_xlfn.AGGREGATE(15,6,(ROW(OrderRange_Ref)-ROW($L$19))/(OFFSET(OrderRange_Ref,,3)>0),ROWS($L$20:$L175)-OFFSET(Cumulative,,2)),IF(OFFSET(Cumulative,,4)>(ROW()-ROW($O$20)),_xlfn.AGGREGATE(15,6,(ROW(OrderRange_Ref)-ROW($L$19))/(OFFSET(OrderRange_Ref,,4)>0),ROWS($L$20:$L175)-OFFSET(Cumulative,,3)),IF(OFFSET(Cumulative,,5)>(ROW()-ROW($O$20)),_xlfn.AGGREGATE(15,6,(ROW(OrderRange_Ref)-ROW($L$19))/(OFFSET(OrderRange_Ref,,5)>0),ROWS($L$20:$L175)-OFFSET(Cumulative,,4)),\"\"))))))","v":""},"","","","",{"$f":"IF($N175=\"\",\"\",ROUND(SUMPRODUCT((LEFT(Transaction[Route],Branch_Digit)=RIGHT(BranchCode,Branch_Digit))*(Transaction[Type]=\"เบิก\")*(Transaction[Products]='Factory_Order Frm'!$R175)*(Transaction[Date]=$O175)*(Transaction[Qty In-Out]))/PcsPerTray,0))","v":""},{"$f":"IF($N175=\"\",\"\",MOD(SUMPRODUCT((LEFT(Transaction[Route],Branch_Digit)=RIGHT(BranchCode,Branch_Digit))*(Transaction[Type]=\"เบิก\")*(Transaction[Products]='Factory_Order Frm'!$R175)*(Transaction[Date]=$O175)*(Transaction[Qty In-Out])),PcsPerTray))","v":""}]
[null,null,null,null,null,null,null,null,null,null,null,null,null,{"$f":"IF(Cumulative>(ROW()-ROW($O$20)),_xlfn.AGGREGATE(15,6,(ROW(OrderRange_Ref)-ROW($L$19))/(OFFSET(OrderRange_Ref,,0)>0),ROWS($L$20:$L176)),IF(OFFSET(Cumulative,,1)>(ROW()-ROW($O$20)),_xlfn.AGGREGATE(15,6,(ROW(OrderRange_Ref)-ROW($L$19))/(OFFSET(OrderRange_Ref,,1)>0),ROWS($L$20:$L176)-OFFSET(Cumulative,,0)),IF(OFFSET(Cumulative,,2)>(ROW()-ROW($O$20)),_xlfn.AGGREGATE(15,6,(ROW(OrderRange_Ref)-ROW($L$19))/(OFFSET(OrderRange_Ref,,2)>0),ROWS($L$20:$L176)-OFFSET(Cumulative,,1)),IF(OFFSET(Cumulative,,3)>(ROW()-ROW($O$20)),_xlfn.AGGREGATE(15,6,(ROW(OrderRange_Ref)-ROW($L$19))/(OFFSET(OrderRange_Ref,,3)>0),ROWS($L$20:$L176)-OFFSET(Cumulative,,2)),IF(OFFSET(Cumulative,,4)>(ROW()-ROW($O$20)),_xlfn.AGGREGATE(15,6,(ROW(OrderRange_Ref)-ROW($L$19))/(OFFSET(OrderRange_Ref,,4)>0),ROWS($L$20:$L176)-OFFSET(Cumulative,,3)),IF(OFFSET(Cumulative,,5)>(ROW()-ROW($O$20)),_xlfn.AGGREGATE(15,6,(ROW(OrderRange_Ref)-ROW($L$19))/(OFFSET(OrderRange_Ref,,5)>0),ROWS($L$20:$L176)-OFFSET(Cumulative,,4)),\"\"))))))","v":""},"","","","",{"$f":"IF($N176=\"\",\"\",ROUND(SUMPRODUCT((LEFT(Transaction[Route],Branch_Digit)=RIGHT(BranchCode,Branch_Digit))*(Transaction[Type]=\"เบิก\")*(Transaction[Products]='Factory_Order Frm'!$R176)*(Transaction[Date]=$O176)*(Transaction[Qty In-Out]))/PcsPerTray,0))","v":""},{"$f":"IF($N176=\"\",\"\",MOD(SUMPRODUCT((LEFT(Transaction[Route],Branch_Digit)=RIGHT(BranchCode,Branch_Digit))*(Transaction[Type]=\"เบิก\")*(Transaction[Products]='Factory_Order Frm'!$R176)*(Transaction[Date]=$O176)*(Transaction[Qty In-Out])),PcsPerTray))","v":""}]
[null,null,null,null,null,null,null,null,null,null,null,null,null,{"$f":"IF(Cumulative>(ROW()-ROW($O$20)),_xlfn.AGGREGATE(15,6,(ROW(OrderRange_Ref)-ROW($L$19))/(OFFSET(OrderRange_Ref,,0)>0),ROWS($L$20:$L177)),IF(OFFSET(Cumulative,,1)>(ROW()-ROW($O$20)),_xlfn.AGGREGATE(15,6,(ROW(OrderRange_Ref)-ROW($L$19))/(OFFSET(OrderRange_Ref,,1)>0),ROWS($L$20:$L177)-OFFSET(Cumulative,,0)),IF(OFFSET(Cumulative,,2)>(ROW()-ROW($O$20)),_xlfn.AGGREGATE(15,6,(ROW(OrderRange_Ref)-ROW($L$19))/(OFFSET(OrderRange_Ref,,2)>0),ROWS($L$20:$L177)-OFFSET(Cumulative,,1)),IF(OFFSET(Cumulative,,3)>(ROW()-ROW($O$20)),_xlfn.AGGREGATE(15,6,(ROW(OrderRange_Ref)-ROW($L$19))/(OFFSET(OrderRange_Ref,,3)>0),ROWS($L$20:$L177)-OFFSET(Cumulative,,2)),IF(OFFSET(Cumulative,,4)>(ROW()-ROW($O$20)),_xlfn.AGGREGATE(15,6,(ROW(OrderRange_Ref)-ROW($L$19))/(OFFSET(OrderRange_Ref,,4)>0),ROWS($L$20:$L177)-OFFSET(Cumulative,,3)),IF(OFFSET(Cumulative,,5)>(ROW()-ROW($O$20)),_xlfn.AGGREGATE(15,6,(ROW(OrderRange_Ref)-ROW($L$19))/(OFFSET(OrderRange_Ref,,5)>0),ROWS($L$20:$L177)-OFFSET(Cumulative,,4)),\"\"))))))","v":""},"","","","",{"$f":"IF($N177=\"\",\"\",ROUND(SUMPRODUCT((LEFT(Transaction[Route],Branch_Digit)=RIGHT(BranchCode,Branch_Digit))*(Transaction[Type]=\"เบิก\")*(Transaction[Products]='Factory_Order Frm'!$R177)*(Transaction[Date]=$O177)*(Transaction[Qty In-Out]))/PcsPerTray,0))","v":""},{"$f":"IF($N177=\"\",\"\",MOD(SUMPRODUCT((LEFT(Transaction[Route],Branch_Digit)=RIGHT(BranchCode,Branch_Digit))*(Transaction[Type]=\"เบิก\")*(Transaction[Products]='Factory_Order Frm'!$R177)*(Transaction[Date]=$O177)*(Transaction[Qty In-Out])),PcsPerTray))","v":""}]
[null,null,null,null,null,null,null,null,null,null,null,null,null,{"$f":"IF(Cumulative>(ROW()-ROW($O$20)),_xlfn.AGGREGATE(15,6,(ROW(OrderRange_Ref)-ROW($L$19))/(OFFSET(OrderRange_Ref,,0)>0),ROWS($L$20:$L178)),IF(OFFSET(Cumulative,,1)>(ROW()-ROW($O$20)),_xlfn.AGGREGATE(15,6,(ROW(OrderRange_Ref)-ROW($L$19))/(OFFSET(OrderRange_Ref,,1)>0),ROWS($L$20:$L178)-OFFSET(Cumulative,,0)),IF(OFFSET(Cumulative,,2)>(ROW()-ROW($O$20)),_xlfn.AGGREGATE(15,6,(ROW(OrderRange_Ref)-ROW($L$19))/(OFFSET(OrderRange_Ref,,2)>0),ROWS($L$20:$L178)-OFFSET(Cumulative,,1)),IF(OFFSET(Cumulative,,3)>(ROW()-ROW($O$20)),_xlfn.AGGREGATE(15,6,(ROW(OrderRange_Ref)-ROW($L$19))/(OFFSET(OrderRange_Ref,,3)>0),ROWS($L$20:$L178)-OFFSET(Cumulative,,2)),IF(OFFSET(Cumulative,,4)>(ROW()-ROW($O$20)),_xlfn.AGGREGATE(15,6,(ROW(OrderRange_Ref)-ROW($L$19))/(OFFSET(OrderRange_Ref,,4)>0),ROWS($L$20:$L178)-OFFSET(Cumulative,,3)),IF(OFFSET(Cumulative,,5)>(ROW()-ROW($O$20)),_xlfn.AGGREGATE(15,6,(ROW(OrderRange_Ref)-ROW($L$19))/(OFFSET(OrderRange_Ref,,5)>0),ROWS($L$20:$L178)-OFFSET(Cumulative,,4)),\"\"))))))","v":""},"","","","",{"$f":"IF($N178=\"\",\"\",ROUND(SUMPRODUCT((LEFT(Transaction[Route],Branch_Digit)=RIGHT(BranchCode,Branch_Digit))*(Transaction[Type]=\"เบิก\")*(Transaction[Products]='Factory_Order Frm'!$R178)*(Transaction[Date]=$O178)*(Transaction[Qty In-Out]))/PcsPerTray,0))","v":""},{"$f":"IF($N178=\"\",\"\",MOD(SUMPRODUCT((LEFT(Transaction[Route],Branch_Digit)=RIGHT(BranchCode,Branch_Digit))*(Transaction[Type]=\"เบิก\")*(Transaction[Products]='Factory_Order Frm'!$R178)*(Transaction[Date]=$O178)*(Transaction[Qty In-Out])),PcsPerTray))","v":""}]
[null,null,null,null,null,null,null,null,null,null,null,null,null,{"$f":"IF(Cumulative>(ROW()-ROW($O$20)),_xlfn.AGGREGATE(15,6,(ROW(OrderRange_Ref)-ROW($L$19))/(OFFSET(OrderRange_Ref,,0)>0),ROWS($L$20:$L179)),IF(OFFSET(Cumulative,,1)>(ROW()-ROW($O$20)),_xlfn.AGGREGATE(15,6,(ROW(OrderRange_Ref)-ROW($L$19))/(OFFSET(OrderRange_Ref,,1)>0),ROWS($L$20:$L179)-OFFSET(Cumulative,,0)),IF(OFFSET(Cumulative,,2)>(ROW()-ROW($O$20)),_xlfn.AGGREGATE(15,6,(ROW(OrderRange_Ref)-ROW($L$19))/(OFFSET(OrderRange_Ref,,2)>0),ROWS($L$20:$L179)-OFFSET(Cumulative,,1)),IF(OFFSET(Cumulative,,3)>(ROW()-ROW($O$20)),_xlfn.AGGREGATE(15,6,(ROW(OrderRange_Ref)-ROW($L$19))/(OFFSET(OrderRange_Ref,,3)>0),ROWS($L$20:$L179)-OFFSET(Cumulative,,2)),IF(OFFSET(Cumulative,,4)>(ROW()-ROW($O$20)),_xlfn.AGGREGATE(15,6,(ROW(OrderRange_Ref)-ROW($L$19))/(OFFSET(OrderRange_Ref,,4)>0),ROWS($L$20:$L179)-OFFSET(Cumulative,,3)),IF(OFFSET(Cumulative,,5)>(ROW()-ROW($O$20)),_xlfn.AGGREGATE(15,6,(ROW(OrderRange_Ref)-ROW($L$19))/(OFFSET(OrderRange_Ref,,5)>0),ROWS($L$20:$L179)-OFFSET(Cumulative,,4)),\"\"))))))","v":""},"","","","",{"$f":"IF($N179=\"\",\"\",ROUND(SUMPRODUCT((LEFT(Transaction[Route],Branch_Digit)=RIGHT(BranchCode,Branch_Digit))*(Transaction[Type]=\"เบิก\")*(Transaction[Products]='Factory_Order Frm'!$R179)*(Transaction[Date]=$O179)*(Transaction[Qty In-Out]))/PcsPerTray,0))","v":""},{"$f":"IF($N179=\"\",\"\",MOD(SUMPRODUCT((LEFT(Transaction[Route],Branch_Digit)=RIGHT(BranchCode,Branch_Digit))*(Transaction[Type]=\"เบิก\")*(Transaction[Products]='Factory_Order Frm'!$R179)*(Transaction[Date]=$O179)*(Transaction[Qty In-Out])),PcsPerTray))","v":""}]
[null,null,null,null,null,null,null,null,null,null,null,null,null,{"$f":"IF(Cumulative>(ROW()-ROW($O$20)),_xlfn.AGGREGATE(15,6,(ROW(OrderRange_Ref)-ROW($L$19))/(OFFSET(OrderRange_Ref,,0)>0),ROWS($L$20:$L180)),IF(OFFSET(Cumulative,,1)>(ROW()-ROW($O$20)),_xlfn.AGGREGATE(15,6,(ROW(OrderRange_Ref)-ROW($L$19))/(OFFSET(OrderRange_Ref,,1)>0),ROWS($L$20:$L180)-OFFSET(Cumulative,,0)),IF(OFFSET(Cumulative,,2)>(ROW()-ROW($O$20)),_xlfn.AGGREGATE(15,6,(ROW(OrderRange_Ref)-ROW($L$19))/(OFFSET(OrderRange_Ref,,2)>0),ROWS($L$20:$L180)-OFFSET(Cumulative,,1)),IF(OFFSET(Cumulative,,3)>(ROW()-ROW($O$20)),_xlfn.AGGREGATE(15,6,(ROW(OrderRange_Ref)-ROW($L$19))/(OFFSET(OrderRange_Ref,,3)>0),ROWS($L$20:$L180)-OFFSET(Cumulative,,2)),IF(OFFSET(Cumulative,,4)>(ROW()-ROW($O$20)),_xlfn.AGGREGATE(15,6,(ROW(OrderRange_Ref)-ROW($L$19))/(OFFSET(OrderRange_Ref,,4)>0),ROWS($L$20:$L180)-OFFSET(Cumulative,,3)),IF(OFFSET(Cumulative,,5)>(ROW()-ROW($O$20)),_xlfn.AGGREGATE(15,6,(ROW(OrderRange_Ref)-ROW($L$19))/(OFFSET(OrderRange_Ref,,5)>0),ROWS($L$20:$L180)-OFFSET(Cumulative,,4)),\"\"))))))","v":""},"","","","",{"$f":"IF($N180=\"\",\"\",ROUND(SUMPRODUCT((LEFT(Transaction[Route],Branch_Digit)=RIGHT(BranchCode,Branch_Digit))*(Transaction[Type]=\"เบิก\")*(Transaction[Products]='Factory_Order Frm'!$R180)*(Transaction[Date]=$O180)*(Transaction[Qty In-Out]))/PcsPerTray,0))","v":""},{"$f":"IF($N180=\"\",\"\",MOD(SUMPRODUCT((LEFT(Transaction[Route],Branch_Digit)=RIGHT(BranchCode,Branch_Digit))*(Transaction[Type]=\"เบิก\")*(Transaction[Products]='Factory_Order Frm'!$R180)*(Transaction[Date]=$O180)*(Transaction[Qty In-Out])),PcsPerTray))","v":""}]
[null,null,null,null,null,null,null,null,null,null,null,null,null,{"$f":"IF(Cumulative>(ROW()-ROW($O$20)),_xlfn.AGGREGATE(15,6,(ROW(OrderRange_Ref)-ROW($L$19))/(OFFSET(OrderRange_Ref,,0)>0),ROWS($L$20:$L181)),IF(OFFSET(Cumulative,,1)>(ROW()-ROW($O$20)),_xlfn.AGGREGATE(15,6,(ROW(OrderRange_Ref)-ROW($L$19))/(OFFSET(OrderRange_Ref,,1)>0),ROWS($L$20:$L181)-OFFSET(Cumulative,,0)),IF(OFFSET(Cumulative,,2)>(ROW()-ROW($O$20)),_xlfn.AGGREGATE(15,6,(ROW(OrderRange_Ref)-ROW($L$19))/(OFFSET(OrderRange_Ref,,2)>0),ROWS($L$20:$L181)-OFFSET(Cumulative,,1)),IF(OFFSET(Cumulative,,3)>(ROW()-ROW($O$20)),_xlfn.AGGREGATE(15,6,(ROW(OrderRange_Ref)-ROW($L$19))/(OFFSET(OrderRange_Ref,,3)>0),ROWS($L$20:$L181)-OFFSET(Cumulative,,2)),IF(OFFSET(Cumulative,,4)>(ROW()-ROW($O$20)),_xlfn.AGGREGATE(15,6,(ROW(OrderRange_Ref)-ROW($L$19))/(OFFSET(OrderRange_Ref,,4)>0),ROWS($L$20:$L181)-OFFSET(Cumulative,,3)),IF(OFFSET(Cumulative,,5)>(ROW()-ROW($O$20)),_xlfn.AGGREGATE(15,6,(ROW(OrderRange_Ref)-ROW($L$19))/(OFFSET(OrderRange_Ref,,5)>0),ROWS($L$20:$L181)-OFFSET(Cumulative,,4)),\"\"))))))","v":""},"","","","",{"$f":"IF($N181=\"\",\"\",ROUND(SUMPRODUCT((LEFT(Transaction[Route],Branch_Digit)=RIGHT(BranchCode,Branch_Digit))*(Transaction[Type]=\"เบิก\")*(Transaction[Products]='Factory_Order Frm'!$R181)*(Transaction[Date]=$O181)*(Transaction[Qty In-Out]))/PcsPerTray,0))","v":""},{"$f":"IF($N181=\"\",\"\",MOD(SUMPRODUCT((LEFT(Transaction[Route],Branch_Digit)=RIGHT(BranchCode,Branch_Digit))*(Transaction[Type]=\"เบิก\")*(Transaction[Products]='Factory_Order Frm'!$R181)*(Transaction[Date]=$O181)*(Transaction[Qty In-Out])),PcsPerTray))","v":""}]
[null,null,null,null,null,null,null,null,null,null,null,null,null,{"$f":"IF(Cumulative>(ROW()-ROW($O$20)),_xlfn.AGGREGATE(15,6,(ROW(OrderRange_Ref)-ROW($L$19))/(OFFSET(OrderRange_Ref,,0)>0),ROWS($L$20:$L182)),IF(OFFSET(Cumulative,,1)>(ROW()-ROW($O$20)),_xlfn.AGGREGATE(15,6,(ROW(OrderRange_Ref)-ROW($L$19))/(OFFSET(OrderRange_Ref,,1)>0),ROWS($L$20:$L182)-OFFSET(Cumulative,,0)),IF(OFFSET(Cumulative,,2)>(ROW()-ROW($O$20)),_xlfn.AGGREGATE(15,6,(ROW(OrderRange_Ref)-ROW($L$19))/(OFFSET(OrderRange_Ref,,2)>0),ROWS($L$20:$L182)-OFFSET(Cumulative,,1)),IF(OFFSET(Cumulative,,3)>(ROW()-ROW($O$20)),_xlfn.AGGREGATE(15,6,(ROW(OrderRange_Ref)-ROW($L$19))/(OFFSET(OrderRange_Ref,,3)>0),ROWS($L$20:$L182)-OFFSET(Cumulative,,2)),IF(OFFSET(Cumulative,,4)>(ROW()-ROW($O$20)),_xlfn.AGGREGATE(15,6,(ROW(OrderRange_Ref)-ROW($L$19))/(OFFSET(OrderRange_Ref,,4)>0),ROWS($L$20:$L182)-OFFSET(Cumulative,,3)),IF(OFFSET(Cumulative,,5)>(ROW()-ROW($O$20)),_xlfn.AGGREGATE(15,6,(ROW(OrderRange_Ref)-ROW($L$19))/(OFFSET(OrderRange_Ref,,5)>0),ROWS($L$20:$L182)-OFFSET(Cumulative,,4)),\"\"))))))","v":""},"","","","",{"$f":"IF($N182=\"\",\"\",ROUND(SUMPRODUCT((LEFT(Transaction[Route],Branch_Digit)=RIGHT(BranchCode,Branch_Digit))*(Transaction[Type]=\"เบิก\")*(Transaction[Products]='Factory_Order Frm'!$R182)*(Transaction[Date]=$O182)*(Transaction[Qty In-Out]))/PcsPerTray,0))","v":""},{"$f":"IF($N182=\"\",\"\",MOD(SUMPRODUCT((LEFT(Transaction[Route],Branch_Digit)=RIGHT(BranchCode,Branch_Digit))*(Transaction[Type]=\"เบิก\")*(Transaction[Products]='Factory_Order Frm'!$R182)*(Transaction[Date]=$O182)*(Transaction[Qty In-Out])),PcsPerTray))","v":""}]
[null,null,null,null,null,null,null,null,null,null,null,null,null,{"$f":"IF(Cumulative>(ROW()-ROW($O$20)),_xlfn.AGGREGATE(15,6,(ROW(OrderRange_Ref)-ROW($L$19))/(OFFSET(OrderRange_Ref,,0)>0),ROWS($L$20:$L183)),IF(OFFSET(Cumulative,,1)>(ROW()-ROW($O$20)),_xlfn.AGGREGATE(15,6,(ROW(OrderRange_Ref)-ROW($L$19))/(OFFSET(OrderRange_Ref,,1)>0),ROWS($L$20:$L183)-OFFSET(Cumulative,,0)),IF(OFFSET(Cumulative,,2)>(ROW()-ROW($O$20)),_xlfn.AGGREGATE(15,6,(ROW(OrderRange_Ref)-ROW($L$19))/(OFFSET(OrderRange_Ref,,2)>0),ROWS($L$20:$L183)-OFFSET(Cumulative,,1)),IF(OFFSET(Cumulative,,3)>(ROW()-ROW($O$20)),_xlfn.AGGREGATE(15,6,(ROW(OrderRange_Ref)-ROW($L$19))/(OFFSET(OrderRange_Ref,,3)>0),ROWS($L$20:$L183)-OFFSET(Cumulative,,2)),IF(OFFSET(Cumulative,,4)>(ROW()-ROW($O$20)),_xlfn.AGGREGATE(15,6,(ROW(OrderRange_Ref)-ROW($L$19))/(OFFSET(OrderRange_Ref,,4)>0),ROWS($L$20:$L183)-OFFSET(Cumulative,,3)),IF(OFFSET(Cumulative,,5)>(ROW()-ROW($O$20)),_xlfn.AGGREGATE(15,6,(ROW(OrderRange_Ref)-ROW($L$19))/(OFFSET(OrderRange_Ref,,5)>0),ROWS($L$20:$L183)-OFFSET(Cumulative,,4)),\"\"))))))","v":""},"","","","",{"$f":"IF($N183=\"\",\"\",ROUND(SUMPRODUCT((LEFT(Transaction[Route],Branch_Digit)=RIGHT(BranchCode,Branch_Digit))*(Transaction[Type]=\"เบิก\")*(Transaction[Products]='Factory_Order Frm'!$R183)*(Transaction[Date]=$O183)*(Transaction[Qty In-Out]))/PcsPerTray,0))","v":""},{"$f":"IF($N183=\"\",\"\",MOD(SUMPRODUCT((LEFT(Transaction[Route],Branch_Digit)=RIGHT(BranchCode,Branch_Digit))*(Transaction[Type]=\"เบิก\")*(Transaction[Products]='Factory_Order Frm'!$R183)*(Transaction[Date]=$O183)*(Transaction[Qty In-Out])),PcsPerTray))","v":""}]
[null,null,null,null,null,null,null,null,null,null,null,null,null,{"$f":"IF(Cumulative>(ROW()-ROW($O$20)),_xlfn.AGGREGATE(15,6,(ROW(OrderRange_Ref)-ROW($L$19))/(OFFSET(OrderRange_Ref,,0)>0),ROWS($L$20:$L184)),IF(OFFSET(Cumulative,,1)>(ROW()-ROW($O$20)),_xlfn.AGGREGATE(15,6,(ROW(OrderRange_Ref)-ROW($L$19))/(OFFSET(OrderRange_Ref,,1)>0),ROWS($L$20:$L184)-OFFSET(Cumulative,,0)),IF(OFFSET(Cumulative,,2)>(ROW()-ROW($O$20)),_xlfn.AGGREGATE(15,6,(ROW(OrderRange_Ref)-ROW($L$19))/(OFFSET(OrderRange_Ref,,2)>0),ROWS($L$20:$L184)-OFFSET(Cumulative,,1)),IF(OFFSET(Cumulative,,3)>(ROW()-ROW($O$20)),_xlfn.AGGREGATE(15,6,(ROW(OrderRange_Ref)-ROW($L$19))/(OFFSET(OrderRange_Ref,,3)>0),ROWS($L$20:$L184)-OFFSET(Cumulative,,2)),IF(OFFSET(Cumulative,,4)>(ROW()-ROW($O$20)),_xlfn.AGGREGATE(15,6,(ROW(OrderRange_Ref)-ROW($L$19))/(OFFSET(OrderRange_Ref,,4)>0),ROWS($L$20:$L184)-OFFSET(Cumulative,,3)),IF(OFFSET(Cumulative,,5)>(ROW()-ROW($O$20)),_xlfn.AGGREGATE(15,6,(ROW(OrderRange_Ref)-ROW($L$19))/(OFFSET(OrderRange_Ref,,5)>0),ROWS($L$20:$L184)-OFFSET(Cumulative,,4)),\"\"))))))","v":""},"","","","",{"$f":"IF($N184=\"\",\"\",ROUND(SUMPRODUCT((LEFT(Transaction[Route],Branch_Digit)=RIGHT(BranchCode,Branch_Digit))*(Transaction[Type]=\"เบิก\")*(Transaction[Products]='Factory_Order Frm'!$R184)*(Transaction[Date]=$O184)*(Transaction[Qty In-Out]))/PcsPerTray,0))","v":""},{"$f":"IF($N184=\"\",\"\",MOD(SUMPRODUCT((LEFT(Transaction[Route],Branch_Digit)=RIGHT(BranchCode,Branch_Digit))*(Transaction[Type]=\"เบิก\")*(Transaction[Products]='Factory_Order Frm'!$R184)*(Transaction[Date]=$O184)*(Transaction[Qty In-Out])),PcsPerTray))","v":""}]
[null,null,null,null,null,null,null,null,null,null,null,null,null,{"$f":"IF(Cumulative>(ROW()-ROW($O$20)),_xlfn.AGGREGATE(15,6,(ROW(OrderRange_Ref)-ROW($L$19))/(OFFSET(OrderRange_Ref,,0)>0),ROWS($L$20:$L185)),IF(OFFSET(Cumulative,,1)>(ROW()-ROW($O$20)),_xlfn.AGGREGATE(15,6,(ROW(OrderRange_Ref)-ROW($L$19))/(OFFSET(OrderRange_Ref,,1)>0),ROWS($L$20:$L185)-OFFSET(Cumulative,,0)),IF(OFFSET(Cumulative,,2)>(ROW()-ROW($O$20)),_xlfn.AGGREGATE(15,6,(ROW(OrderRange_Ref)-ROW($L$19))/(OFFSET(OrderRange_Ref,,2)>0),ROWS($L$20:$L185)-OFFSET(Cumulative,,1)),IF(OFFSET(Cumulative,,3)>(ROW()-ROW($O$20)),_xlfn.AGGREGATE(15,6,(ROW(OrderRange_Ref)-ROW($L$19))/(OFFSET(OrderRange_Ref,,3)>0),ROWS($L$20:$L185)-OFFSET(Cumulative,,2)),IF(OFFSET(Cumulative,,4)>(ROW()-ROW($O$20)),_xlfn.AGGREGATE(15,6,(ROW(OrderRange_Ref)-ROW($L$19))/(OFFSET(OrderRange_Ref,,4)>0),ROWS($L$20:$L185)-OFFSET(Cumulative,,3)),IF(OFFSET(Cumulative,,5)>(ROW()-ROW($O$20)),_xlfn.AGGREGATE(15,6,(ROW(OrderRange_Ref)-ROW($L$19))/(OFFSET(OrderRange_Ref,,5)>0),ROWS($L$20:$L185)-OFFSET(Cumulative,,4)),\"\"))))))","v":""},"","","","",{"$f":"IF($N185=\"\",\"\",ROUND(SUMPRODUCT((LEFT(Transaction[Route],Branch_Digit)=RIGHT(BranchCode,Branch_Digit))*(Transaction[Type]=\"เบิก\")*(Transaction[Products]='Factory_Order Frm'!$R185)*(Transaction[Date]=$O185)*(Transaction[Qty In-Out]))/PcsPerTray,0))","v":""},{"$f":"IF($N185=\"\",\"\",MOD(SUMPRODUCT((LEFT(Transaction[Route],Branch_Digit)=RIGHT(BranchCode,Branch_Digit))*(Transaction[Type]=\"เบิก\")*(Transaction[Products]='Factory_Order Frm'!$R185)*(Transaction[Date]=$O185)*(Transaction[Qty In-Out])),PcsPerTray))","v":""}]
[null,null,null,null,null,null,null,null,null,null,null,null,null,{"$f":"IF(Cumulative>(ROW()-ROW($O$20)),_xlfn.AGGREGATE(15,6,(ROW(OrderRange_Ref)-ROW($L$19))/(OFFSET(OrderRange_Ref,,0)>0),ROWS($L$20:$L186)),IF(OFFSET(Cumulative,,1)>(ROW()-ROW($O$20)),_xlfn.AGGREGATE(15,6,(ROW(OrderRange_Ref)-ROW($L$19))/(OFFSET(OrderRange_Ref,,1)>0),ROWS($L$20:$L186)-OFFSET(Cumulative,,0)),IF(OFFSET(Cumulative,,2)>(ROW()-ROW($O$20)),_xlfn.AGGREGATE(15,6,(ROW(OrderRange_Ref)-ROW($L$19))/(OFFSET(OrderRange_Ref,,2)>0),ROWS($L$20:$L186)-OFFSET(Cumulative,,1)),IF(OFFSET(Cumulative,,3)>(ROW()-ROW($O$20)),_xlfn.AGGREGATE(15,6,(ROW(OrderRange_Ref)-ROW($L$19))/(OFFSET(OrderRange_Ref,,3)>0),ROWS($L$20:$L186)-OFFSET(Cumulative,,2)),IF(OFFSET(Cumulative,,4)>(ROW()-ROW($O$20)),_xlfn.AGGREGATE(15,6,(ROW(OrderRange_Ref)-ROW($L$19))/(OFFSET(OrderRange_Ref,,4)>0),ROWS($L$20:$L186)-OFFSET(Cumulative,,3)),IF(OFFSET(Cumulative,,5)>(ROW()-ROW($O$20)),_xlfn.AGGREGATE(15,6,(ROW(OrderRange_Ref)-ROW($L$19))/(OFFSET(OrderRange_Ref,,5)>0),ROWS($L$20:$L186)-OFFSET(Cumulative,,4)),\"\"))))))","v":""},"","","","",{"$f":"IF($N186=\"\",\"\",ROUND(SUMPRODUCT((LEFT(Transaction[Route],Branch_Digit)=RIGHT(BranchCode,Branch_Digit))*(Transaction[Type]=\"เบิก\")*(Transaction[Products]='Factory_Order Frm'!$R186)*(Transaction[Date]=$O186)*(Transaction[Qty In-Out]))/PcsPerTray,0))","v":""},{"$f":"IF($N186=\"\",\"\",MOD(SUMPRODUCT((LEFT(Transaction[Route],Branch_Digit)=RIGHT(BranchCode,Branch_Digit))*(Transaction[Type]=\"เบิก\")*(Transaction[Products]='Factory_Order Frm'!$R186)*(Transaction[Date]=$O186)*(Transaction[Qty In-Out])),PcsPerTray))","v":""}]
[null,null,null,null,null,null,null,null,null,null,null,null,null,{"$f":"IF(Cumulative>(ROW()-ROW($O$20)),_xlfn.AGGREGATE(15,6,(ROW(OrderRange_Ref)-ROW($L$19))/(OFFSET(OrderRange_Ref,,0)>0),ROWS($L$20:$L187)),IF(OFFSET(Cumulative,,1)>(ROW()-ROW($O$20)),_xlfn.AGGREGATE(15,6,(ROW(OrderRange_Ref)-ROW($L$19))/(OFFSET(OrderRange_Ref,,1)>0),ROWS($L$20:$L187)-OFFSET(Cumulative,,0)),IF(OFFSET(Cumulative,,2)>(ROW()-ROW($O$20)),_xlfn.AGGREGATE(15,6,(ROW(OrderRange_Ref)-ROW($L$19))/(OFFSET(OrderRange_Ref,,2)>0),ROWS($L$20:$L187)-OFFSET(Cumulative,,1)),IF(OFFSET(Cumulative,,3)>(ROW()-ROW($O$20)),_xlfn.AGGREGATE(15,6,(ROW(OrderRange_Ref)-ROW($L$19))/(OFFSET(OrderRange_Ref,,3)>0),ROWS($L$20:$L187)-OFFSET(Cumulative,,2)),IF(OFFSET(Cumulative,,4)>(ROW()-ROW($O$20)),_xlfn.AGGREGATE(15,6,(ROW(OrderRange_Ref)-ROW($L$19))/(OFFSET(OrderRange_Ref,,4)>0),ROWS($L$20:$L187)-OFFSET(Cumulative,,3)),IF(OFFSET(Cumulative,,5)>(ROW()-ROW($O$20)),_xlfn.AGGREGATE(15,6,(ROW(OrderRange_Ref)-ROW($L$19))/(OFFSET(OrderRange_Ref,,5)>0),ROWS($L$20:$L187)-OFFSET(Cumulative,,4)),\"\"))))))","v":""},"","","","",{"$f":"IF($N187=\"\",\"\",ROUND(SUMPRODUCT((LEFT(Transaction[Route],Branch_Digit)=RIGHT(BranchCode,Branch_Digit))*(Transaction[Type]=\"เบิก\")*(Transaction[Products]='Factory_Order Frm'!$R187)*(Transaction[Date]=$O187)*(Transaction[Qty In-Out]))/PcsPerTray,0))","v":""},{"$f":"IF($N187=\"\",\"\",MOD(SUMPRODUCT((LEFT(Transaction[Route],Branch_Digit)=RIGHT(BranchCode,Branch_Digit))*(Transaction[Type]=\"เบิก\")*(Transaction[Products]='Factory_Order Frm'!$R187)*(Transaction[Date]=$O187)*(Transaction[Qty In-Out])),PcsPerTray))","v":""}]
[null,null,null,null,null,null,null,null,null,null,null,null,null,{"$f":"IF(Cumulative>(ROW()-ROW($O$20)),_xlfn.AGGREGATE(15,6,(ROW(OrderRange_Ref)-ROW($L$19))/(OFFSET(OrderRange_Ref,,0)>0),ROWS($L$20:$L188)),IF(OFFSET(Cumulative,,1)>(ROW()-ROW($O$20)),_xlfn.AGGREGATE(15,6,(ROW(OrderRange_Ref)-ROW($L$19))/(OFFSET(OrderRange_Ref,,1)>0),ROWS($L$20:$L188)-OFFSET(Cumulative,,0)),IF(OFFSET(Cumulative,,2)>(ROW()-ROW($O$20)),_xlfn.AGGREGATE(15,6,(ROW(OrderRange_Ref)-ROW($L$19))/(OFFSET(OrderRange_Ref,,2)>0),ROWS($L$20:$L188)-OFFSET(Cumulative,,1)),IF(OFFSET(Cumulative,,3)>(ROW()-ROW($O$20)),_xlfn.AGGREGATE(15,6,(ROW(OrderRange_Ref)-ROW($L$19))/(OFFSET(OrderRange_Ref,,3)>0),ROWS($L$20:$L188)-OFFSET(Cumulative,,2)),IF(OFFSET(Cumulative,,4)>(ROW()-ROW($O$20)),_xlfn.AGGREGATE(15,6,(ROW(OrderRange_Ref)-ROW($L$19))/(OFFSET(OrderRange_Ref,,4)>0),ROWS($L$20:$L188)-OFFSET(Cumulative,,3)),IF(OFFSET(Cumulative,,5)>(ROW()-ROW($O$20)),_xlfn.AGGREGATE(15,6,(ROW(OrderRange_Ref)-ROW($L$19))/(OFFSET(OrderRange_Ref,,5)>0),ROWS($L$20:$L188)-OFFSET(Cumulative,,4)),\"\"))))))","v":""},"","","","",{"$f":"IF($N188=\"\",\"\",ROUND(SUMPRODUCT((LEFT(Transaction[Route],Branch_Digit)=RIGHT(BranchCode,Branch_Digit))*(Transaction[Type]=\"เบิก\")*(Transaction[Products]='Factory_Order Frm'!$R188)*(Transaction[Date]=$O188)*(Transaction[Qty In-Out]))/PcsPerTray,0))","v":""},{"$f":"IF($N188=\"\",\"\",MOD(SUMPRODUCT((LEFT(Transaction[Route],Branch_Digit)=RIGHT(BranchCode,Branch_Digit))*(Transaction[Type]=\"เบิก\")*(Transaction[Products]='Factory_Order Frm'!$R188)*(Transaction[Date]=$O188)*(Transaction[Qty In-Out])),PcsPerTray))","v":""}]
[null,null,null,null,null,null,null,null,null,null,null,null,null,{"$f":"IF(Cumulative>(ROW()-ROW($O$20)),_xlfn.AGGREGATE(15,6,(ROW(OrderRange_Ref)-ROW($L$19))/(OFFSET(OrderRange_Ref,,0)>0),ROWS($L$20:$L189)),IF(OFFSET(Cumulative,,1)>(ROW()-ROW($O$20)),_xlfn.AGGREGATE(15,6,(ROW(OrderRange_Ref)-ROW($L$19))/(OFFSET(OrderRange_Ref,,1)>0),ROWS($L$20:$L189)-OFFSET(Cumulative,,0)),IF(OFFSET(Cumulative,,2)>(ROW()-ROW($O$20)),_xlfn.AGGREGATE(15,6,(ROW(OrderRange_Ref)-ROW($L$19))/(OFFSET(OrderRange_Ref,,2)>0),ROWS($L$20:$L189)-OFFSET(Cumulative,,1)),IF(OFFSET(Cumulative,,3)>(ROW()-ROW($O$20)),_xlfn.AGGREGATE(15,6,(ROW(OrderRange_Ref)-ROW($L$19))/(OFFSET(OrderRange_Ref,,3)>0),ROWS($L$20:$L189)-OFFSET(Cumulative,,2)),IF(OFFSET(Cumulative,,4)>(ROW()-ROW($O$20)),_xlfn.AGGREGATE(15,6,(ROW(OrderRange_Ref)-ROW($L$19))/(OFFSET(OrderRange_Ref,,4)>0),ROWS($L$20:$L189)-OFFSET(Cumulative,,3)),IF(OFFSET(Cumulative,,5)>(ROW()-ROW($O$20)),_xlfn.AGGREGATE(15,6,(ROW(OrderRange_Ref)-ROW($L$19))/(OFFSET(OrderRange_Ref,,5)>0),ROWS($L$20:$L189)-OFFSET(Cumulative,,4)),\"\"))))))","v":""},"","","","",{"$f":"IF($N189=\"\",\"\",ROUND(SUMPRODUCT((LEFT(Transaction[Route],Branch_Digit)=RIGHT(BranchCode,Branch_Digit))*(Transaction[Type]=\"เบิก\")*(Transaction[Products]='Factory_Order Frm'!$R189)*(Transaction[Date]=$O189)*(Transaction[Qty In-Out]))/PcsPerTray,0))","v":""},{"$f":"IF($N189=\"\",\"\",MOD(SUMPRODUCT((LEFT(Transaction[Route],Branch_Digit)=RIGHT(BranchCode,Branch_Digit))*(Transaction[Type]=\"เบิก\")*(Transaction[Products]='Factory_Order Frm'!$R189)*(Transaction[Date]=$O189)*(Transaction[Qty In-Out])),PcsPerTray))","v":""}]
[null,null,null,null,null,null,null,null,null,null,null,null,null,{"$f":"IF(Cumulative>(ROW()-ROW($O$20)),_xlfn.AGGREGATE(15,6,(ROW(OrderRange_Ref)-ROW($L$19))/(OFFSET(OrderRange_Ref,,0)>0),ROWS($L$20:$L190)),IF(OFFSET(Cumulative,,1)>(ROW()-ROW($O$20)),_xlfn.AGGREGATE(15,6,(ROW(OrderRange_Ref)-ROW($L$19))/(OFFSET(OrderRange_Ref,,1)>0),ROWS($L$20:$L190)-OFFSET(Cumulative,,0)),IF(OFFSET(Cumulative,,2)>(ROW()-ROW($O$20)),_xlfn.AGGREGATE(15,6,(ROW(OrderRange_Ref)-ROW($L$19))/(OFFSET(OrderRange_Ref,,2)>0),ROWS($L$20:$L190)-OFFSET(Cumulative,,1)),IF(OFFSET(Cumulative,,3)>(ROW()-ROW($O$20)),_xlfn.AGGREGATE(15,6,(ROW(OrderRange_Ref)-ROW($L$19))/(OFFSET(OrderRange_Ref,,3)>0),ROWS($L$20:$L190)-OFFSET(Cumulative,,2)),IF(OFFSET(Cumulative,,4)>(ROW()-ROW($O$20)),_xlfn.AGGREGATE(15,6,(ROW(OrderRange_Ref)-ROW($L$19))/(OFFSET(OrderRange_Ref,,4)>0),ROWS($L$20:$L190)-OFFSET(Cumulative,,3)),IF(OFFSET(Cumulative,,5)>(ROW()-ROW($O$20)),_xlfn.AGGREGATE(15,6,(ROW(OrderRange_Ref)-ROW($L$19))/(OFFSET(OrderRange_Ref,,5)>0),ROWS($L$20:$L190)-OFFSET(Cumulative,,4)),\"\"))))))","v":""},"","","","",{"$f":"IF($N190=\"\",\"\",ROUND(SUMPRODUCT((LEFT(Transaction[Route],Branch_Digit)=RIGHT(BranchCode,Branch_Digit))*(Transaction[Type]=\"เบิก\")*(Transaction[Products]='Factory_Order Frm'!$R190)*(Transaction[Date]=$O190)*(Transaction[Qty In-Out]))/PcsPerTray,0))","v":""},{"$f":"IF($N190=\"\",\"\",MOD(SUMPRODUCT((LEFT(Transaction[Route],Branch_Digit)=RIGHT(BranchCode,Branch_Digit))*(Transaction[Type]=\"เบิก\")*(Transaction[Products]='Factory_Order Frm'!$R190)*(Transaction[Date]=$O190)*(Transaction[Qty In-Out])),PcsPerTray))","v":""}]
[null,null,null,null,null,null,null,null,null,null,null,null,null,{"$f":"IF(Cumulative>(ROW()-ROW($O$20)),_xlfn.AGGREGATE(15,6,(ROW(OrderRange_Ref)-ROW($L$19))/(OFFSET(OrderRange_Ref,,0)>0),ROWS($L$20:$L191)),IF(OFFSET(Cumulative,,1)>(ROW()-ROW($O$20)),_xlfn.AGGREGATE(15,6,(ROW(OrderRange_Ref)-ROW($L$19))/(OFFSET(OrderRange_Ref,,1)>0),ROWS($L$20:$L191)-OFFSET(Cumulative,,0)),IF(OFFSET(Cumulative,,2)>(ROW()-ROW($O$20)),_xlfn.AGGREGATE(15,6,(ROW(OrderRange_Ref)-ROW($L$19))/(OFFSET(OrderRange_Ref,,2)>0),ROWS($L$20:$L191)-OFFSET(Cumulative,,1)),IF(OFFSET(Cumulative,,3)>(ROW()-ROW($O$20)),_xlfn.AGGREGATE(15,6,(ROW(OrderRange_Ref)-ROW($L$19))/(OFFSET(OrderRange_Ref,,3)>0),ROWS($L$20:$L191)-OFFSET(Cumulative,,2)),IF(OFFSET(Cumulative,,4)>(ROW()-ROW($O$20)),_xlfn.AGGREGATE(15,6,(ROW(OrderRange_Ref)-ROW($L$19))/(OFFSET(OrderRange_Ref,,4)>0),ROWS($L$20:$L191)-OFFSET(Cumulative,,3)),IF(OFFSET(Cumulative,,5)>(ROW()-ROW($O$20)),_xlfn.AGGREGATE(15,6,(ROW(OrderRange_Ref)-ROW($L$19))/(OFFSET(OrderRange_Ref,,5)>0),ROWS($L$20:$L191)-OFFSET(Cumulative,,4)),\"\"))))))","v":""},"","","","",{"$f":"IF($N191=\"\",\"\",ROUND(SUMPRODUCT((LEFT(Transaction[Route],Branch_Digit)=RIGHT(BranchCode,Branch_Digit))*(Transaction[Type]=\"เบิก\")*(Transaction[Products]='Factory_Order Frm'!$R191)*(Transaction[Date]=$O191)*(Transaction[Qty In-Out]))/PcsPerTray,0))","v":""},{"$f":"IF($N191=\"\",\"\",MOD(SUMPRODUCT((LEFT(Transaction[Route],Branch_Digit)=RIGHT(BranchCode,Branch_Digit))*(Transaction[Type]=\"เบิก\")*(Transaction[Products]='Factory_Order Frm'!$R191)*(Transaction[Date]=$O191)*(Transaction[Qty In-Out])),PcsPerTray))","v":""}]
[null,null,null,null,null,null,null,null,null,null,null,null,null,{"$f":"IF(Cumulative>(ROW()-ROW($O$20)),_xlfn.AGGREGATE(15,6,(ROW(OrderRange_Ref)-ROW($L$19))/(OFFSET(OrderRange_Ref,,0)>0),ROWS($L$20:$L192)),IF(OFFSET(Cumulative,,1)>(ROW()-ROW($O$20)),_xlfn.AGGREGATE(15,6,(ROW(OrderRange_Ref)-ROW($L$19))/(OFFSET(OrderRange_Ref,,1)>0),ROWS($L$20:$L192)-OFFSET(Cumulative,,0)),IF(OFFSET(Cumulative,,2)>(ROW()-ROW($O$20)),_xlfn.AGGREGATE(15,6,(ROW(OrderRange_Ref)-ROW($L$19))/(OFFSET(OrderRange_Ref,,2)>0),ROWS($L$20:$L192)-OFFSET(Cumulative,,1)),IF(OFFSET(Cumulative,,3)>(ROW()-ROW($O$20)),_xlfn.AGGREGATE(15,6,(ROW(OrderRange_Ref)-ROW($L$19))/(OFFSET(OrderRange_Ref,,3)>0),ROWS($L$20:$L192)-OFFSET(Cumulative,,2)),IF(OFFSET(Cumulative,,4)>(ROW()-ROW($O$20)),_xlfn.AGGREGATE(15,6,(ROW(OrderRange_Ref)-ROW($L$19))/(OFFSET(OrderRange_Ref,,4)>0),ROWS($L$20:$L192)-OFFSET(Cumulative,,3)),IF(OFFSET(Cumulative,,5)>(ROW()-ROW($O$20)),_xlfn.AGGREGATE(15,6,(ROW(OrderRange_Ref)-ROW($L$19))/(OFFSET(OrderRange_Ref,,5)>0),ROWS($L$20:$L192)-OFFSET(Cumulative,,4)),\"\"))))))","v":""},"","","","",{"$f":"IF($N192=\"\",\"\",ROUND(SUMPRODUCT((LEFT(Transaction[Route],Branch_Digit)=RIGHT(BranchCode,Branch_Digit))*(Transaction[Type]=\"เบิก\")*(Transaction[Products]='Factory_Order Frm'!$R192)*(Transaction[Date]=$O192)*(Transaction[Qty In-Out]))/PcsPerTray,0))","v":""},{"$f":"IF($N192=\"\",\"\",MOD(SUMPRODUCT((LEFT(Transaction[Route],Branch_Digit)=RIGHT(BranchCode,Branch_Digit))*(Transaction[Type]=\"เบิก\")*(Transaction[Products]='Factory_Order Frm'!$R192)*(Transaction[Date]=$O192)*(Transaction[Qty In-Out])),PcsPerTray))","v":""}]
[null,null,null,null,null,null,null,null,null,null,null,null,null,{"$f":"IF(Cumulative>(ROW()-ROW($O$20)),_xlfn.AGGREGATE(15,6,(ROW(OrderRange_Ref)-ROW($L$19))/(OFFSET(OrderRange_Ref,,0)>0),ROWS($L$20:$L193)),IF(OFFSET(Cumulative,,1)>(ROW()-ROW($O$20)),_xlfn.AGGREGATE(15,6,(ROW(OrderRange_Ref)-ROW($L$19))/(OFFSET(OrderRange_Ref,,1)>0),ROWS($L$20:$L193)-OFFSET(Cumulative,,0)),IF(OFFSET(Cumulative,,2)>(ROW()-ROW($O$20)),_xlfn.AGGREGATE(15,6,(ROW(OrderRange_Ref)-ROW($L$19))/(OFFSET(OrderRange_Ref,,2)>0),ROWS($L$20:$L193)-OFFSET(Cumulative,,1)),IF(OFFSET(Cumulative,,3)>(ROW()-ROW($O$20)),_xlfn.AGGREGATE(15,6,(ROW(OrderRange_Ref)-ROW($L$19))/(OFFSET(OrderRange_Ref,,3)>0),ROWS($L$20:$L193)-OFFSET(Cumulative,,2)),IF(OFFSET(Cumulative,,4)>(ROW()-ROW($O$20)),_xlfn.AGGREGATE(15,6,(ROW(OrderRange_Ref)-ROW($L$19))/(OFFSET(OrderRange_Ref,,4)>0),ROWS($L$20:$L193)-OFFSET(Cumulative,,3)),IF(OFFSET(Cumulative,,5)>(ROW()-ROW($O$20)),_xlfn.AGGREGATE(15,6,(ROW(OrderRange_Ref)-ROW($L$19))/(OFFSET(OrderRange_Ref,,5)>0),ROWS($L$20:$L193)-OFFSET(Cumulative,,4)),\"\"))))))","v":""},"","","","",{"$f":"IF($N193=\"\",\"\",ROUND(SUMPRODUCT((LEFT(Transaction[Route],Branch_Digit)=RIGHT(BranchCode,Branch_Digit))*(Transaction[Type]=\"เบิก\")*(Transaction[Products]='Factory_Order Frm'!$R193)*(Transaction[Date]=$O193)*(Transaction[Qty In-Out]))/PcsPerTray,0))","v":""},{"$f":"IF($N193=\"\",\"\",MOD(SUMPRODUCT((LEFT(Transaction[Route],Branch_Digit)=RIGHT(BranchCode,Branch_Digit))*(Transaction[Type]=\"เบิก\")*(Transaction[Products]='Factory_Order Frm'!$R193)*(Transaction[Date]=$O193)*(Transaction[Qty In-Out])),PcsPerTray))","v":""}]
[null,null,null,null,null,null,null,null,null,null,null,null,null,{"$f":"IF(Cumulative>(ROW()-ROW($O$20)),_xlfn.AGGREGATE(15,6,(ROW(OrderRange_Ref)-ROW($L$19))/(OFFSET(OrderRange_Ref,,0)>0),ROWS($L$20:$L194)),IF(OFFSET(Cumulative,,1)>(ROW()-ROW($O$20)),_xlfn.AGGREGATE(15,6,(ROW(OrderRange_Ref)-ROW($L$19))/(OFFSET(OrderRange_Ref,,1)>0),ROWS($L$20:$L194)-OFFSET(Cumulative,,0)),IF(OFFSET(Cumulative,,2)>(ROW()-ROW($O$20)),_xlfn.AGGREGATE(15,6,(ROW(OrderRange_Ref)-ROW($L$19))/(OFFSET(OrderRange_Ref,,2)>0),ROWS($L$20:$L194)-OFFSET(Cumulative,,1)),IF(OFFSET(Cumulative,,3)>(ROW()-ROW($O$20)),_xlfn.AGGREGATE(15,6,(ROW(OrderRange_Ref)-ROW($L$19))/(OFFSET(OrderRange_Ref,,3)>0),ROWS($L$20:$L194)-OFFSET(Cumulative,,2)),IF(OFFSET(Cumulative,,4)>(ROW()-ROW($O$20)),_xlfn.AGGREGATE(15,6,(ROW(OrderRange_Ref)-ROW($L$19))/(OFFSET(OrderRange_Ref,,4)>0),ROWS($L$20:$L194)-OFFSET(Cumulative,,3)),IF(OFFSET(Cumulative,,5)>(ROW()-ROW($O$20)),_xlfn.AGGREGATE(15,6,(ROW(OrderRange_Ref)-ROW($L$19))/(OFFSET(OrderRange_Ref,,5)>0),ROWS($L$20:$L194)-OFFSET(Cumulative,,4)),\"\"))))))","v":""},"","","","",{"$f":"IF($N194=\"\",\"\",ROUND(SUMPRODUCT((LEFT(Transaction[Route],Branch_Digit)=RIGHT(BranchCode,Branch_Digit))*(Transaction[Type]=\"เบิก\")*(Transaction[Products]='Factory_Order Frm'!$R194)*(Transaction[Date]=$O194)*(Transaction[Qty In-Out]))/PcsPerTray,0))","v":""},{"$f":"IF($N194=\"\",\"\",MOD(SUMPRODUCT((LEFT(Transaction[Route],Branch_Digit)=RIGHT(BranchCode,Branch_Digit))*(Transaction[Type]=\"เบิก\")*(Transaction[Products]='Factory_Order Frm'!$R194)*(Transaction[Date]=$O194)*(Transaction[Qty In-Out])),PcsPerTray))","v":""}]
[null,null,null,null,null,null,null,null,null,null,null,null,null,{"$f":"IF(Cumulative>(ROW()-ROW($O$20)),_xlfn.AGGREGATE(15,6,(ROW(OrderRange_Ref)-ROW($L$19))/(OFFSET(OrderRange_Ref,,0)>0),ROWS($L$20:$L195)),IF(OFFSET(Cumulative,,1)>(ROW()-ROW($O$20)),_xlfn.AGGREGATE(15,6,(ROW(OrderRange_Ref)-ROW($L$19))/(OFFSET(OrderRange_Ref,,1)>0),ROWS($L$20:$L195)-OFFSET(Cumulative,,0)),IF(OFFSET(Cumulative,,2)>(ROW()-ROW($O$20)),_xlfn.AGGREGATE(15,6,(ROW(OrderRange_Ref)-ROW($L$19))/(OFFSET(OrderRange_Ref,,2)>0),ROWS($L$20:$L195)-OFFSET(Cumulative,,1)),IF(OFFSET(Cumulative,,3)>(ROW()-ROW($O$20)),_xlfn.AGGREGATE(15,6,(ROW(OrderRange_Ref)-ROW($L$19))/(OFFSET(OrderRange_Ref,,3)>0),ROWS($L$20:$L195)-OFFSET(Cumulative,,2)),IF(OFFSET(Cumulative,,4)>(ROW()-ROW($O$20)),_xlfn.AGGREGATE(15,6,(ROW(OrderRange_Ref)-ROW($L$19))/(OFFSET(OrderRange_Ref,,4)>0),ROWS($L$20:$L195)-OFFSET(Cumulative,,3)),IF(OFFSET(Cumulative,,5)>(ROW()-ROW($O$20)),_xlfn.AGGREGATE(15,6,(ROW(OrderRange_Ref)-ROW($L$19))/(OFFSET(OrderRange_Ref,,5)>0),ROWS($L$20:$L195)-OFFSET(Cumulative,,4)),\"\"))))))","v":""},"","","","",{"$f":"IF($N195=\"\",\"\",ROUND(SUMPRODUCT((LEFT(Transaction[Route],Branch_Digit)=RIGHT(BranchCode,Branch_Digit))*(Transaction[Type]=\"เบิก\")*(Transaction[Products]='Factory_Order Frm'!$R195)*(Transaction[Date]=$O195)*(Transaction[Qty In-Out]))/PcsPerTray,0))","v":""},{"$f":"IF($N195=\"\",\"\",MOD(SUMPRODUCT((LEFT(Transaction[Route],Branch_Digit)=RIGHT(BranchCode,Branch_Digit))*(Transaction[Type]=\"เบิก\")*(Transaction[Products]='Factory_Order Frm'!$R195)*(Transaction[Date]=$O195)*(Transaction[Qty In-Out])),PcsPerTray))","v":""}]
[null,null,null,null,null,null,null,null,null,null,null,null,null,{"$f":"IF(Cumulative>(ROW()-ROW($O$20)),_xlfn.AGGREGATE(15,6,(ROW(OrderRange_Ref)-ROW($L$19))/(OFFSET(OrderRange_Ref,,0)>0),ROWS($L$20:$L196)),IF(OFFSET(Cumulative,,1)>(ROW()-ROW($O$20)),_xlfn.AGGREGATE(15,6,(ROW(OrderRange_Ref)-ROW($L$19))/(OFFSET(OrderRange_Ref,,1)>0),ROWS($L$20:$L196)-OFFSET(Cumulative,,0)),IF(OFFSET(Cumulative,,2)>(ROW()-ROW($O$20)),_xlfn.AGGREGATE(15,6,(ROW(OrderRange_Ref)-ROW($L$19))/(OFFSET(OrderRange_Ref,,2)>0),ROWS($L$20:$L196)-OFFSET(Cumulative,,1)),IF(OFFSET(Cumulative,,3)>(ROW()-ROW($O$20)),_xlfn.AGGREGATE(15,6,(ROW(OrderRange_Ref)-ROW($L$19))/(OFFSET(OrderRange_Ref,,3)>0),ROWS($L$20:$L196)-OFFSET(Cumulative,,2)),IF(OFFSET(Cumulative,,4)>(ROW()-ROW($O$20)),_xlfn.AGGREGATE(15,6,(ROW(OrderRange_Ref)-ROW($L$19))/(OFFSET(OrderRange_Ref,,4)>0),ROWS($L$20:$L196)-OFFSET(Cumulative,,3)),IF(OFFSET(Cumulative,,5)>(ROW()-ROW($O$20)),_xlfn.AGGREGATE(15,6,(ROW(OrderRange_Ref)-ROW($L$19))/(OFFSET(OrderRange_Ref,,5)>0),ROWS($L$20:$L196)-OFFSET(Cumulative,,4)),\"\"))))))","v":""},"","","","",{"$f":"IF($N196=\"\",\"\",ROUND(SUMPRODUCT((LEFT(Transaction[Route],Branch_Digit)=RIGHT(BranchCode,Branch_Digit))*(Transaction[Type]=\"เบิก\")*(Transaction[Products]='Factory_Order Frm'!$R196)*(Transaction[Date]=$O196)*(Transaction[Qty In-Out]))/PcsPerTray,0))","v":""},{"$f":"IF($N196=\"\",\"\",MOD(SUMPRODUCT((LEFT(Transaction[Route],Branch_Digit)=RIGHT(BranchCode,Branch_Digit))*(Transaction[Type]=\"เบิก\")*(Transaction[Products]='Factory_Order Frm'!$R196)*(Transaction[Date]=$O196)*(Transaction[Qty In-Out])),PcsPerTray))","v":""}]
[null,null,null,null,null,null,null,null,null,null,null,null,null,{"$f":"IF(Cumulative>(ROW()-ROW($O$20)),_xlfn.AGGREGATE(15,6,(ROW(OrderRange_Ref)-ROW($L$19))/(OFFSET(OrderRange_Ref,,0)>0),ROWS($L$20:$L197)),IF(OFFSET(Cumulative,,1)>(ROW()-ROW($O$20)),_xlfn.AGGREGATE(15,6,(ROW(OrderRange_Ref)-ROW($L$19))/(OFFSET(OrderRange_Ref,,1)>0),ROWS($L$20:$L197)-OFFSET(Cumulative,,0)),IF(OFFSET(Cumulative,,2)>(ROW()-ROW($O$20)),_xlfn.AGGREGATE(15,6,(ROW(OrderRange_Ref)-ROW($L$19))/(OFFSET(OrderRange_Ref,,2)>0),ROWS($L$20:$L197)-OFFSET(Cumulative,,1)),IF(OFFSET(Cumulative,,3)>(ROW()-ROW($O$20)),_xlfn.AGGREGATE(15,6,(ROW(OrderRange_Ref)-ROW($L$19))/(OFFSET(OrderRange_Ref,,3)>0),ROWS($L$20:$L197)-OFFSET(Cumulative,,2)),IF(OFFSET(Cumulative,,4)>(ROW()-ROW($O$20)),_xlfn.AGGREGATE(15,6,(ROW(OrderRange_Ref)-ROW($L$19))/(OFFSET(OrderRange_Ref,,4)>0),ROWS($L$20:$L197)-OFFSET(Cumulative,,3)),IF(OFFSET(Cumulative,,5)>(ROW()-ROW($O$20)),_xlfn.AGGREGATE(15,6,(ROW(OrderRange_Ref)-ROW($L$19))/(OFFSET(OrderRange_Ref,,5)>0),ROWS($L$20:$L197)-OFFSET(Cumulative,,4)),\"\"))))))","v":""},"","","","",{"$f":"IF($N197=\"\",\"\",ROUND(SUMPRODUCT((LEFT(Transaction[Route],Branch_Digit)=RIGHT(BranchCode,Branch_Digit))*(Transaction[Type]=\"เบิก\")*(Transaction[Products]='Factory_Order Frm'!$R197)*(Transaction[Date]=$O197)*(Transaction[Qty In-Out]))/PcsPerTray,0))","v":""},{"$f":"IF($N197=\"\",\"\",MOD(SUMPRODUCT((LEFT(Transaction[Route],Branch_Digit)=RIGHT(BranchCode,Branch_Digit))*(Transaction[Type]=\"เบิก\")*(Transaction[Products]='Factory_Order Frm'!$R197)*(Transaction[Date]=$O197)*(Transaction[Qty In-Out])),PcsPerTray))","v":""}]
[null,null,null,null,null,null,null,null,null,null,null,null,null,{"$f":"IF(Cumulative>(ROW()-ROW($O$20)),_xlfn.AGGREGATE(15,6,(ROW(OrderRange_Ref)-ROW($L$19))/(OFFSET(OrderRange_Ref,,0)>0),ROWS($L$20:$L198)),IF(OFFSET(Cumulative,,1)>(ROW()-ROW($O$20)),_xlfn.AGGREGATE(15,6,(ROW(OrderRange_Ref)-ROW($L$19))/(OFFSET(OrderRange_Ref,,1)>0),ROWS($L$20:$L198)-OFFSET(Cumulative,,0)),IF(OFFSET(Cumulative,,2)>(ROW()-ROW($O$20)),_xlfn.AGGREGATE(15,6,(ROW(OrderRange_Ref)-ROW($L$19))/(OFFSET(OrderRange_Ref,,2)>0),ROWS($L$20:$L198)-OFFSET(Cumulative,,1)),IF(OFFSET(Cumulative,,3)>(ROW()-ROW($O$20)),_xlfn.AGGREGATE(15,6,(ROW(OrderRange_Ref)-ROW($L$19))/(OFFSET(OrderRange_Ref,,3)>0),ROWS($L$20:$L198)-OFFSET(Cumulative,,2)),IF(OFFSET(Cumulative,,4)>(ROW()-ROW($O$20)),_xlfn.AGGREGATE(15,6,(ROW(OrderRange_Ref)-ROW($L$19))/(OFFSET(OrderRange_Ref,,4)>0),ROWS($L$20:$L198)-OFFSET(Cumulative,,3)),IF(OFFSET(Cumulative,,5)>(ROW()-ROW($O$20)),_xlfn.AGGREGATE(15,6,(ROW(OrderRange_Ref)-ROW($L$19))/(OFFSET(OrderRange_Ref,,5)>0),ROWS($L$20:$L198)-OFFSET(Cumulative,,4)),\"\"))))))","v":""},"","","","",{"$f":"IF($N198=\"\",\"\",ROUND(SUMPRODUCT((LEFT(Transaction[Route],Branch_Digit)=RIGHT(BranchCode,Branch_Digit))*(Transaction[Type]=\"เบิก\")*(Transaction[Products]='Factory_Order Frm'!$R198)*(Transaction[Date]=$O198)*(Transaction[Qty In-Out]))/PcsPerTray,0))","v":""},{"$f":"IF($N198=\"\",\"\",MOD(SUMPRODUCT((LEFT(Transaction[Route],Branch_Digit)=RIGHT(BranchCode,Branch_Digit))*(Transaction[Type]=\"เบิก\")*(Transaction[Products]='Factory_Order Frm'!$R198)*(Transaction[Date]=$O198)*(Transaction[Qty In-Out])),PcsPerTray))","v":""}]
[null,null,null,null,null,null,null,null,null,null,null,null,null,{"$f":"IF(Cumulative>(ROW()-ROW($O$20)),_xlfn.AGGREGATE(15,6,(ROW(OrderRange_Ref)-ROW($L$19))/(OFFSET(OrderRange_Ref,,0)>0),ROWS($L$20:$L199)),IF(OFFSET(Cumulative,,1)>(ROW()-ROW($O$20)),_xlfn.AGGREGATE(15,6,(ROW(OrderRange_Ref)-ROW($L$19))/(OFFSET(OrderRange_Ref,,1)>0),ROWS($L$20:$L199)-OFFSET(Cumulative,,0)),IF(OFFSET(Cumulative,,2)>(ROW()-ROW($O$20)),_xlfn.AGGREGATE(15,6,(ROW(OrderRange_Ref)-ROW($L$19))/(OFFSET(OrderRange_Ref,,2)>0),ROWS($L$20:$L199)-OFFSET(Cumulative,,1)),IF(OFFSET(Cumulative,,3)>(ROW()-ROW($O$20)),_xlfn.AGGREGATE(15,6,(ROW(OrderRange_Ref)-ROW($L$19))/(OFFSET(OrderRange_Ref,,3)>0),ROWS($L$20:$L199)-OFFSET(Cumulative,,2)),IF(OFFSET(Cumulative,,4)>(ROW()-ROW($O$20)),_xlfn.AGGREGATE(15,6,(ROW(OrderRange_Ref)-ROW($L$19))/(OFFSET(OrderRange_Ref,,4)>0),ROWS($L$20:$L199)-OFFSET(Cumulative,,3)),IF(OFFSET(Cumulative,,5)>(ROW()-ROW($O$20)),_xlfn.AGGREGATE(15,6,(ROW(OrderRange_Ref)-ROW($L$19))/(OFFSET(OrderRange_Ref,,5)>0),ROWS($L$20:$L199)-OFFSET(Cumulative,,4)),\"\"))))))","v":""},"","","","",{"$f":"IF($N199=\"\",\"\",ROUND(SUMPRODUCT((LEFT(Transaction[Route],Branch_Digit)=RIGHT(BranchCode,Branch_Digit))*(Transaction[Type]=\"เบิก\")*(Transaction[Products]='Factory_Order Frm'!$R199)*(Transaction[Date]=$O199)*(Transaction[Qty In-Out]))/PcsPerTray,0))","v":""},{"$f":"IF($N199=\"\",\"\",MOD(SUMPRODUCT((LEFT(Transaction[Route],Branch_Digit)=RIGHT(BranchCode,Branch_Digit))*(Transaction[Type]=\"เบิก\")*(Transaction[Products]='Factory_Order Frm'!$R199)*(Transaction[Date]=$O199)*(Transaction[Qty In-Out])),PcsPerTray))","v":""}]
[null,null,null,null,null,null,null,null,null,null,null,null,null,{"$f":"IF(Cumulative>(ROW()-ROW($O$20)),_xlfn.AGGREGATE(15,6,(ROW(OrderRange_Ref)-ROW($L$19))/(OFFSET(OrderRange_Ref,,0)>0),ROWS($L$20:$L200)),IF(OFFSET(Cumulative,,1)>(ROW()-ROW($O$20)),_xlfn.AGGREGATE(15,6,(ROW(OrderRange_Ref)-ROW($L$19))/(OFFSET(OrderRange_Ref,,1)>0),ROWS($L$20:$L200)-OFFSET(Cumulative,,0)),IF(OFFSET(Cumulative,,2)>(ROW()-ROW($O$20)),_xlfn.AGGREGATE(15,6,(ROW(OrderRange_Ref)-ROW($L$19))/(OFFSET(OrderRange_Ref,,2)>0),ROWS($L$20:$L200)-OFFSET(Cumulative,,1)),IF(OFFSET(Cumulative,,3)>(ROW()-ROW($O$20)),_xlfn.AGGREGATE(15,6,(ROW(OrderRange_Ref)-ROW($L$19))/(OFFSET(OrderRange_Ref,,3)>0),ROWS($L$20:$L200)-OFFSET(Cumulative,,2)),IF(OFFSET(Cumulative,,4)>(ROW()-ROW($O$20)),_xlfn.AGGREGATE(15,6,(ROW(OrderRange_Ref)-ROW($L$19))/(OFFSET(OrderRange_Ref,,4)>0),ROWS($L$20:$L200)-OFFSET(Cumulative,,3)),IF(OFFSET(Cumulative,,5)>(ROW()-ROW($O$20)),_xlfn.AGGREGATE(15,6,(ROW(OrderRange_Ref)-ROW($L$19))/(OFFSET(OrderRange_Ref,,5)>0),ROWS($L$20:$L200)-OFFSET(Cumulative,,4)),\"\"))))))","v":""},"","","","",{"$f":"IF($N200=\"\",\"\",ROUND(SUMPRODUCT((LEFT(Transaction[Route],Branch_Digit)=RIGHT(BranchCode,Branch_Digit))*(Transaction[Type]=\"เบิก\")*(Transaction[Products]='Factory_Order Frm'!$R200)*(Transaction[Date]=$O200)*(Transaction[Qty In-Out]))/PcsPerTray,0))","v":""},{"$f":"IF($N200=\"\",\"\",MOD(SUMPRODUCT((LEFT(Transaction[Route],Branch_Digit)=RIGHT(BranchCode,Branch_Digit))*(Transaction[Type]=\"เบิก\")*(Transaction[Products]='Factory_Order Frm'!$R200)*(Transaction[Date]=$O200)*(Transaction[Qty In-Out])),PcsPerTray))","v":""}]
[null,null,null,null,null,null,null,null,null,null,null,null,null,{"$f":"IF(Cumulative>(ROW()-ROW($O$20)),_xlfn.AGGREGATE(15,6,(ROW(OrderRange_Ref)-ROW($L$19))/(OFFSET(OrderRange_Ref,,0)>0),ROWS($L$20:$L201)),IF(OFFSET(Cumulative,,1)>(ROW()-ROW($O$20)),_xlfn.AGGREGATE(15,6,(ROW(OrderRange_Ref)-ROW($L$19))/(OFFSET(OrderRange_Ref,,1)>0),ROWS($L$20:$L201)-OFFSET(Cumulative,,0)),IF(OFFSET(Cumulative,,2)>(ROW()-ROW($O$20)),_xlfn.AGGREGATE(15,6,(ROW(OrderRange_Ref)-ROW($L$19))/(OFFSET(OrderRange_Ref,,2)>0),ROWS($L$20:$L201)-OFFSET(Cumulative,,1)),IF(OFFSET(Cumulative,,3)>(ROW()-ROW($O$20)),_xlfn.AGGREGATE(15,6,(ROW(OrderRange_Ref)-ROW($L$19))/(OFFSET(OrderRange_Ref,,3)>0),ROWS($L$20:$L201)-OFFSET(Cumulative,,2)),IF(OFFSET(Cumulative,,4)>(ROW()-ROW($O$20)),_xlfn.AGGREGATE(15,6,(ROW(OrderRange_Ref)-ROW($L$19))/(OFFSET(OrderRange_Ref,,4)>0),ROWS($L$20:$L201)-OFFSET(Cumulative,,3)),IF(OFFSET(Cumulative,,5)>(ROW()-ROW($O$20)),_xlfn.AGGREGATE(15,6,(ROW(OrderRange_Ref)-ROW($L$19))/(OFFSET(OrderRange_Ref,,5)>0),ROWS($L$20:$L201)-OFFSET(Cumulative,,4)),\"\"))))))","v":""},"","","","",{"$f":"IF($N201=\"\",\"\",ROUND(SUMPRODUCT((LEFT(Transaction[Route],Branch_Digit)=RIGHT(BranchCode,Branch_Digit))*(Transaction[Type]=\"เบิก\")*(Transaction[Products]='Factory_Order Frm'!$R201)*(Transaction[Date]=$O201)*(Transaction[Qty In-Out]))/PcsPerTray,0))","v":""},{"$f":"IF($N201=\"\",\"\",MOD(SUMPRODUCT((LEFT(Transaction[Route],Branch_Digit)=RIGHT(BranchCode,Branch_Digit))*(Transaction[Type]=\"เบิก\")*(Transaction[Products]='Factory_Order Frm'!$R201)*(Transaction[Date]=$O201)*(Transaction[Qty In-Out])),PcsPerTray))","v":""}]
[null,null,null,null,null,null,null,null,null,null,null,null,null,{"$f":"IF(Cumulative>(ROW()-ROW($O$20)),_xlfn.AGGREGATE(15,6,(ROW(OrderRange_Ref)-ROW($L$19))/(OFFSET(OrderRange_Ref,,0)>0),ROWS($L$20:$L202)),IF(OFFSET(Cumulative,,1)>(ROW()-ROW($O$20)),_xlfn.AGGREGATE(15,6,(ROW(OrderRange_Ref)-ROW($L$19))/(OFFSET(OrderRange_Ref,,1)>0),ROWS($L$20:$L202)-OFFSET(Cumulative,,0)),IF(OFFSET(Cumulative,,2)>(ROW()-ROW($O$20)),_xlfn.AGGREGATE(15,6,(ROW(OrderRange_Ref)-ROW($L$19))/(OFFSET(OrderRange_Ref,,2)>0),ROWS($L$20:$L202)-OFFSET(Cumulative,,1)),IF(OFFSET(Cumulative,,3)>(ROW()-ROW($O$20)),_xlfn.AGGREGATE(15,6,(ROW(OrderRange_Ref)-ROW($L$19))/(OFFSET(OrderRange_Ref,,3)>0),ROWS($L$20:$L202)-OFFSET(Cumulative,,2)),IF(OFFSET(Cumulative,,4)>(ROW()-ROW($O$20)),_xlfn.AGGREGATE(15,6,(ROW(OrderRange_Ref)-ROW($L$19))/(OFFSET(OrderRange_Ref,,4)>0),ROWS($L$20:$L202)-OFFSET(Cumulative,,3)),IF(OFFSET(Cumulative,,5)>(ROW()-ROW($O$20)),_xlfn.AGGREGATE(15,6,(ROW(OrderRange_Ref)-ROW($L$19))/(OFFSET(OrderRange_Ref,,5)>0),ROWS($L$20:$L202)-OFFSET(Cumulative,,4)),\"\"))))))","v":""},"","","","",{"$f":"IF($N202=\"\",\"\",ROUND(SUMPRODUCT((LEFT(Transaction[Route],Branch_Digit)=RIGHT(BranchCode,Branch_Digit))*(Transaction[Type]=\"เบิก\")*(Transaction[Products]='Factory_Order Frm'!$R202)*(Transaction[Date]=$O202)*(Transaction[Qty In-Out]))/PcsPerTray,0))","v":""},{"$f":"IF($N202=\"\",\"\",MOD(SUMPRODUCT((LEFT(Transaction[Route],Branch_Digit)=RIGHT(BranchCode,Branch_Digit))*(Transaction[Type]=\"เบิก\")*(Transaction[Products]='Factory_Order Frm'!$R202)*(Transaction[Date]=$O202)*(Transaction[Qty In-Out])),PcsPerTray))","v":""}]
[null,null,null,null,null,null,null,null,null,null,null,null,null,{"$f":"IF(Cumulative>(ROW()-ROW($O$20)),_xlfn.AGGREGATE(15,6,(ROW(OrderRange_Ref)-ROW($L$19))/(OFFSET(OrderRange_Ref,,0)>0),ROWS($L$20:$L203)),IF(OFFSET(Cumulative,,1)>(ROW()-ROW($O$20)),_xlfn.AGGREGATE(15,6,(ROW(OrderRange_Ref)-ROW($L$19))/(OFFSET(OrderRange_Ref,,1)>0),ROWS($L$20:$L203)-OFFSET(Cumulative,,0)),IF(OFFSET(Cumulative,,2)>(ROW()-ROW($O$20)),_xlfn.AGGREGATE(15,6,(ROW(OrderRange_Ref)-ROW($L$19))/(OFFSET(OrderRange_Ref,,2)>0),ROWS($L$20:$L203)-OFFSET(Cumulative,,1)),IF(OFFSET(Cumulative,,3)>(ROW()-ROW($O$20)),_xlfn.AGGREGATE(15,6,(ROW(OrderRange_Ref)-ROW($L$19))/(OFFSET(OrderRange_Ref,,3)>0),ROWS($L$20:$L203)-OFFSET(Cumulative,,2)),IF(OFFSET(Cumulative,,4)>(ROW()-ROW($O$20)),_xlfn.AGGREGATE(15,6,(ROW(OrderRange_Ref)-ROW($L$19))/(OFFSET(OrderRange_Ref,,4)>0),ROWS($L$20:$L203)-OFFSET(Cumulative,,3)),IF(OFFSET(Cumulative,,5)>(ROW()-ROW($O$20)),_xlfn.AGGREGATE(15,6,(ROW(OrderRange_Ref)-ROW($L$19))/(OFFSET(OrderRange_Ref,,5)>0),ROWS($L$20:$L203)-OFFSET(Cumulative,,4)),\"\"))))))","v":""},"","","","",{"$f":"IF($N203=\"\",\"\",ROUND(SUMPRODUCT((LEFT(Transaction[Route],Branch_Digit)=RIGHT(BranchCode,Branch_Digit))*(Transaction[Type]=\"เบิก\")*(Transaction[Products]='Factory_Order Frm'!$R203)*(Transaction[Date]=$O203)*(Transaction[Qty In-Out]))/PcsPerTray,0))","v":""},{"$f":"IF($N203=\"\",\"\",MOD(SUMPRODUCT((LEFT(Transaction[Route],Branch_Digit)=RIGHT(BranchCode,Branch_Digit))*(Transaction[Type]=\"เบิก\")*(Transaction[Products]='Factory_Order Frm'!$R203)*(Transaction[Date]=$O203)*(Transaction[Qty In-Out])),PcsPerTray))","v":""}]
[null,null,null,null,null,null,null,null,null,null,null,null,null,{"$f":"IF(Cumulative>(ROW()-ROW($O$20)),_xlfn.AGGREGATE(15,6,(ROW(OrderRange_Ref)-ROW($L$19))/(OFFSET(OrderRange_Ref,,0)>0),ROWS($L$20:$L204)),IF(OFFSET(Cumulative,,1)>(ROW()-ROW($O$20)),_xlfn.AGGREGATE(15,6,(ROW(OrderRange_Ref)-ROW($L$19))/(OFFSET(OrderRange_Ref,,1)>0),ROWS($L$20:$L204)-OFFSET(Cumulative,,0)),IF(OFFSET(Cumulative,,2)>(ROW()-ROW($O$20)),_xlfn.AGGREGATE(15,6,(ROW(OrderRange_Ref)-ROW($L$19))/(OFFSET(OrderRange_Ref,,2)>0),ROWS($L$20:$L204)-OFFSET(Cumulative,,1)),IF(OFFSET(Cumulative,,3)>(ROW()-ROW($O$20)),_xlfn.AGGREGATE(15,6,(ROW(OrderRange_Ref)-ROW($L$19))/(OFFSET(OrderRange_Ref,,3)>0),ROWS($L$20:$L204)-OFFSET(Cumulative,,2)),IF(OFFSET(Cumulative,,4)>(ROW()-ROW($O$20)),_xlfn.AGGREGATE(15,6,(ROW(OrderRange_Ref)-ROW($L$19))/(OFFSET(OrderRange_Ref,,4)>0),ROWS($L$20:$L204)-OFFSET(Cumulative,,3)),IF(OFFSET(Cumulative,,5)>(ROW()-ROW($O$20)),_xlfn.AGGREGATE(15,6,(ROW(OrderRange_Ref)-ROW($L$19))/(OFFSET(OrderRange_Ref,,5)>0),ROWS($L$20:$L204)-OFFSET(Cumulative,,4)),\"\"))))))","v":""},"","","","",{"$f":"IF($N204=\"\",\"\",ROUND(SUMPRODUCT((LEFT(Transaction[Route],Branch_Digit)=RIGHT(BranchCode,Branch_Digit))*(Transaction[Type]=\"เบิก\")*(Transaction[Products]='Factory_Order Frm'!$R204)*(Transaction[Date]=$O204)*(Transaction[Qty In-Out]))/PcsPerTray,0))","v":""},{"$f":"IF($N204=\"\",\"\",MOD(SUMPRODUCT((LEFT(Transaction[Route],Branch_Digit)=RIGHT(BranchCode,Branch_Digit))*(Transaction[Type]=\"เบิก\")*(Transaction[Products]='Factory_Order Frm'!$R204)*(Transaction[Date]=$O204)*(Transaction[Qty In-Out])),PcsPerTray))","v":""}]
[null,null,null,null,null,null,null,null,null,null,null,null,null,{"$f":"IF(Cumulative>(ROW()-ROW($O$20)),_xlfn.AGGREGATE(15,6,(ROW(OrderRange_Ref)-ROW($L$19))/(OFFSET(OrderRange_Ref,,0)>0),ROWS($L$20:$L205)),IF(OFFSET(Cumulative,,1)>(ROW()-ROW($O$20)),_xlfn.AGGREGATE(15,6,(ROW(OrderRange_Ref)-ROW($L$19))/(OFFSET(OrderRange_Ref,,1)>0),ROWS($L$20:$L205)-OFFSET(Cumulative,,0)),IF(OFFSET(Cumulative,,2)>(ROW()-ROW($O$20)),_xlfn.AGGREGATE(15,6,(ROW(OrderRange_Ref)-ROW($L$19))/(OFFSET(OrderRange_Ref,,2)>0),ROWS($L$20:$L205)-OFFSET(Cumulative,,1)),IF(OFFSET(Cumulative,,3)>(ROW()-ROW($O$20)),_xlfn.AGGREGATE(15,6,(ROW(OrderRange_Ref)-ROW($L$19))/(OFFSET(OrderRange_Ref,,3)>0),ROWS($L$20:$L205)-OFFSET(Cumulative,,2)),IF(OFFSET(Cumulative,,4)>(ROW()-ROW($O$20)),_xlfn.AGGREGATE(15,6,(ROW(OrderRange_Ref)-ROW($L$19))/(OFFSET(OrderRange_Ref,,4)>0),ROWS($L$20:$L205)-OFFSET(Cumulative,,3)),IF(OFFSET(Cumulative,,5)>(ROW()-ROW($O$20)),_xlfn.AGGREGATE(15,6,(ROW(OrderRange_Ref)-ROW($L$19))/(OFFSET(OrderRange_Ref,,5)>0),ROWS($L$20:$L205)-OFFSET(Cumulative,,4)),\"\"))))))","v":""},"","","","",{"$f":"IF($N205=\"\",\"\",ROUND(SUMPRODUCT((LEFT(Transaction[Route],Branch_Digit)=RIGHT(BranchCode,Branch_Digit))*(Transaction[Type]=\"เบิก\")*(Transaction[Products]='Factory_Order Frm'!$R205)*(Transaction[Date]=$O205)*(Transaction[Qty In-Out]))/PcsPerTray,0))","v":""},{"$f":"IF($N205=\"\",\"\",MOD(SUMPRODUCT((LEFT(Transaction[Route],Branch_Digit)=RIGHT(BranchCode,Branch_Digit))*(Transaction[Type]=\"เบิก\")*(Transaction[Products]='Factory_Order Frm'!$R205)*(Transaction[Date]=$O205)*(Transaction[Qty In-Out])),PcsPerTray))","v":""}]
[null,null,null,null,null,null,null,null,null,null,null,null,null,{"$f":"IF(Cumulative>(ROW()-ROW($O$20)),_xlfn.AGGREGATE(15,6,(ROW(OrderRange_Ref)-ROW($L$19))/(OFFSET(OrderRange_Ref,,0)>0),ROWS($L$20:$L206)),IF(OFFSET(Cumulative,,1)>(ROW()-ROW($O$20)),_xlfn.AGGREGATE(15,6,(ROW(OrderRange_Ref)-ROW($L$19))/(OFFSET(OrderRange_Ref,,1)>0),ROWS($L$20:$L206)-OFFSET(Cumulative,,0)),IF(OFFSET(Cumulative,,2)>(ROW()-ROW($O$20)),_xlfn.AGGREGATE(15,6,(ROW(OrderRange_Ref)-ROW($L$19))/(OFFSET(OrderRange_Ref,,2)>0),ROWS($L$20:$L206)-OFFSET(Cumulative,,1)),IF(OFFSET(Cumulative,,3)>(ROW()-ROW($O$20)),_xlfn.AGGREGATE(15,6,(ROW(OrderRange_Ref)-ROW($L$19))/(OFFSET(OrderRange_Ref,,3)>0),ROWS($L$20:$L206)-OFFSET(Cumulative,,2)),IF(OFFSET(Cumulative,,4)>(ROW()-ROW($O$20)),_xlfn.AGGREGATE(15,6,(ROW(OrderRange_Ref)-ROW($L$19))/(OFFSET(OrderRange_Ref,,4)>0),ROWS($L$20:$L206)-OFFSET(Cumulative,,3)),IF(OFFSET(Cumulative,,5)>(ROW()-ROW($O$20)),_xlfn.AGGREGATE(15,6,(ROW(OrderRange_Ref)-ROW($L$19))/(OFFSET(OrderRange_Ref,,5)>0),ROWS($L$20:$L206)-OFFSET(Cumulative,,4)),\"\"))))))","v":""},"","","","",{"$f":"IF($N206=\"\",\"\",ROUND(SUMPRODUCT((LEFT(Transaction[Route],Branch_Digit)=RIGHT(BranchCode,Branch_Digit))*(Transaction[Type]=\"เบิก\")*(Transaction[Products]='Factory_Order Frm'!$R206)*(Transaction[Date]=$O206)*(Transaction[Qty In-Out]))/PcsPerTray,0))","v":""},{"$f":"IF($N206=\"\",\"\",MOD(SUMPRODUCT((LEFT(Transaction[Route],Branch_Digit)=RIGHT(BranchCode,Branch_Digit))*(Transaction[Type]=\"เบิก\")*(Transaction[Products]='Factory_Order Frm'!$R206)*(Transaction[Date]=$O206)*(Transaction[Qty In-Out])),PcsPerTray))","v":""}]
[null,null,null,null,null,null,null,null,null,null,null,null,null,{"$f":"IF(Cumulative>(ROW()-ROW($O$20)),_xlfn.AGGREGATE(15,6,(ROW(OrderRange_Ref)-ROW($L$19))/(OFFSET(OrderRange_Ref,,0)>0),ROWS($L$20:$L207)),IF(OFFSET(Cumulative,,1)>(ROW()-ROW($O$20)),_xlfn.AGGREGATE(15,6,(ROW(OrderRange_Ref)-ROW($L$19))/(OFFSET(OrderRange_Ref,,1)>0),ROWS($L$20:$L207)-OFFSET(Cumulative,,0)),IF(OFFSET(Cumulative,,2)>(ROW()-ROW($O$20)),_xlfn.AGGREGATE(15,6,(ROW(OrderRange_Ref)-ROW($L$19))/(OFFSET(OrderRange_Ref,,2)>0),ROWS($L$20:$L207)-OFFSET(Cumulative,,1)),IF(OFFSET(Cumulative,,3)>(ROW()-ROW($O$20)),_xlfn.AGGREGATE(15,6,(ROW(OrderRange_Ref)-ROW($L$19))/(OFFSET(OrderRange_Ref,,3)>0),ROWS($L$20:$L207)-OFFSET(Cumulative,,2)),IF(OFFSET(Cumulative,,4)>(ROW()-ROW($O$20)),_xlfn.AGGREGATE(15,6,(ROW(OrderRange_Ref)-ROW($L$19))/(OFFSET(OrderRange_Ref,,4)>0),ROWS($L$20:$L207)-OFFSET(Cumulative,,3)),IF(OFFSET(Cumulative,,5)>(ROW()-ROW($O$20)),_xlfn.AGGREGATE(15,6,(ROW(OrderRange_Ref)-ROW($L$19))/(OFFSET(OrderRange_Ref,,5)>0),ROWS($L$20:$L207)-OFFSET(Cumulative,,4)),\"\"))))))","v":""},"","","","",{"$f":"IF($N207=\"\",\"\",ROUND(SUMPRODUCT((LEFT(Transaction[Route],Branch_Digit)=RIGHT(BranchCode,Branch_Digit))*(Transaction[Type]=\"เบิก\")*(Transaction[Products]='Factory_Order Frm'!$R207)*(Transaction[Date]=$O207)*(Transaction[Qty In-Out]))/PcsPerTray,0))","v":""},{"$f":"IF($N207=\"\",\"\",MOD(SUMPRODUCT((LEFT(Transaction[Route],Branch_Digit)=RIGHT(BranchCode,Branch_Digit))*(Transaction[Type]=\"เบิก\")*(Transaction[Products]='Factory_Order Frm'!$R207)*(Transaction[Date]=$O207)*(Transaction[Qty In-Out])),PcsPerTray))","v":""}]
[null,null,null,null,null,null,null,null,null,null,null,null,null,{"$f":"IF(Cumulative>(ROW()-ROW($O$20)),_xlfn.AGGREGATE(15,6,(ROW(OrderRange_Ref)-ROW($L$19))/(OFFSET(OrderRange_Ref,,0)>0),ROWS($L$20:$L208)),IF(OFFSET(Cumulative,,1)>(ROW()-ROW($O$20)),_xlfn.AGGREGATE(15,6,(ROW(OrderRange_Ref)-ROW($L$19))/(OFFSET(OrderRange_Ref,,1)>0),ROWS($L$20:$L208)-OFFSET(Cumulative,,0)),IF(OFFSET(Cumulative,,2)>(ROW()-ROW($O$20)),_xlfn.AGGREGATE(15,6,(ROW(OrderRange_Ref)-ROW($L$19))/(OFFSET(OrderRange_Ref,,2)>0),ROWS($L$20:$L208)-OFFSET(Cumulative,,1)),IF(OFFSET(Cumulative,,3)>(ROW()-ROW($O$20)),_xlfn.AGGREGATE(15,6,(ROW(OrderRange_Ref)-ROW($L$19))/(OFFSET(OrderRange_Ref,,3)>0),ROWS($L$20:$L208)-OFFSET(Cumulative,,2)),IF(OFFSET(Cumulative,,4)>(ROW()-ROW($O$20)),_xlfn.AGGREGATE(15,6,(ROW(OrderRange_Ref)-ROW($L$19))/(OFFSET(OrderRange_Ref,,4)>0),ROWS($L$20:$L208)-OFFSET(Cumulative,,3)),IF(OFFSET(Cumulative,,5)>(ROW()-ROW($O$20)),_xlfn.AGGREGATE(15,6,(ROW(OrderRange_Ref)-ROW($L$19))/(OFFSET(OrderRange_Ref,,5)>0),ROWS($L$20:$L208)-OFFSET(Cumulative,,4)),\"\"))))))","v":""},"","","","",{"$f":"IF($N208=\"\",\"\",ROUND(SUMPRODUCT((LEFT(Transaction[Route],Branch_Digit)=RIGHT(BranchCode,Branch_Digit))*(Transaction[Type]=\"เบิก\")*(Transaction[Products]='Factory_Order Frm'!$R208)*(Transaction[Date]=$O208)*(Transaction[Qty In-Out]))/PcsPerTray,0))","v":""},{"$f":"IF($N208=\"\",\"\",MOD(SUMPRODUCT((LEFT(Transaction[Route],Branch_Digit)=RIGHT(BranchCode,Branch_Digit))*(Transaction[Type]=\"เบิก\")*(Transaction[Products]='Factory_Order Frm'!$R208)*(Transaction[Date]=$O208)*(Transaction[Qty In-Out])),PcsPerTray))","v":""}]
[null,null,null,null,null,null,null,null,null,null,null,null,null,{"$f":"IF(Cumulative>(ROW()-ROW($O$20)),_xlfn.AGGREGATE(15,6,(ROW(OrderRange_Ref)-ROW($L$19))/(OFFSET(OrderRange_Ref,,0)>0),ROWS($L$20:$L209)),IF(OFFSET(Cumulative,,1)>(ROW()-ROW($O$20)),_xlfn.AGGREGATE(15,6,(ROW(OrderRange_Ref)-ROW($L$19))/(OFFSET(OrderRange_Ref,,1)>0),ROWS($L$20:$L209)-OFFSET(Cumulative,,0)),IF(OFFSET(Cumulative,,2)>(ROW()-ROW($O$20)),_xlfn.AGGREGATE(15,6,(ROW(OrderRange_Ref)-ROW($L$19))/(OFFSET(OrderRange_Ref,,2)>0),ROWS($L$20:$L209)-OFFSET(Cumulative,,1)),IF(OFFSET(Cumulative,,3)>(ROW()-ROW($O$20)),_xlfn.AGGREGATE(15,6,(ROW(OrderRange_Ref)-ROW($L$19))/(OFFSET(OrderRange_Ref,,3)>0),ROWS($L$20:$L209)-OFFSET(Cumulative,,2)),IF(OFFSET(Cumulative,,4)>(ROW()-ROW($O$20)),_xlfn.AGGREGATE(15,6,(ROW(OrderRange_Ref)-ROW($L$19))/(OFFSET(OrderRange_Ref,,4)>0),ROWS($L$20:$L209)-OFFSET(Cumulative,,3)),IF(OFFSET(Cumulative,,5)>(ROW()-ROW($O$20)),_xlfn.AGGREGATE(15,6,(ROW(OrderRange_Ref)-ROW($L$19))/(OFFSET(OrderRange_Ref,,5)>0),ROWS($L$20:$L209)-OFFSET(Cumulative,,4)),\"\"))))))","v":""},"","","","",{"$f":"IF($N209=\"\",\"\",ROUND(SUMPRODUCT((LEFT(Transaction[Route],Branch_Digit)=RIGHT(BranchCode,Branch_Digit))*(Transaction[Type]=\"เบิก\")*(Transaction[Products]='Factory_Order Frm'!$R209)*(Transaction[Date]=$O209)*(Transaction[Qty In-Out]))/PcsPerTray,0))","v":""},{"$f":"IF($N209=\"\",\"\",MOD(SUMPRODUCT((LEFT(Transaction[Route],Branch_Digit)=RIGHT(BranchCode,Branch_Digit))*(Transaction[Type]=\"เบิก\")*(Transaction[Products]='Factory_Order Frm'!$R209)*(Transaction[Date]=$O209)*(Transaction[Qty In-Out])),PcsPerTray))","v":""}]
[null,null,null,null,null,null,null,null,null,null,null,null,null,{"$f":"IF(Cumulative>(ROW()-ROW($O$20)),_xlfn.AGGREGATE(15,6,(ROW(OrderRange_Ref)-ROW($L$19))/(OFFSET(OrderRange_Ref,,0)>0),ROWS($L$20:$L210)),IF(OFFSET(Cumulative,,1)>(ROW()-ROW($O$20)),_xlfn.AGGREGATE(15,6,(ROW(OrderRange_Ref)-ROW($L$19))/(OFFSET(OrderRange_Ref,,1)>0),ROWS($L$20:$L210)-OFFSET(Cumulative,,0)),IF(OFFSET(Cumulative,,2)>(ROW()-ROW($O$20)),_xlfn.AGGREGATE(15,6,(ROW(OrderRange_Ref)-ROW($L$19))/(OFFSET(OrderRange_Ref,,2)>0),ROWS($L$20:$L210)-OFFSET(Cumulative,,1)),IF(OFFSET(Cumulative,,3)>(ROW()-ROW($O$20)),_xlfn.AGGREGATE(15,6,(ROW(OrderRange_Ref)-ROW($L$19))/(OFFSET(OrderRange_Ref,,3)>0),ROWS($L$20:$L210)-OFFSET(Cumulative,,2)),IF(OFFSET(Cumulative,,4)>(ROW()-ROW($O$20)),_xlfn.AGGREGATE(15,6,(ROW(OrderRange_Ref)-ROW($L$19))/(OFFSET(OrderRange_Ref,,4)>0),ROWS($L$20:$L210)-OFFSET(Cumulative,,3)),IF(OFFSET(Cumulative,,5)>(ROW()-ROW($O$20)),_xlfn.AGGREGATE(15,6,(ROW(OrderRange_Ref)-ROW($L$19))/(OFFSET(OrderRange_Ref,,5)>0),ROWS($L$20:$L210)-OFFSET(Cumulative,,4)),\"\"))))))","v":""},"","","","",{"$f":"IF($N210=\"\",\"\",ROUND(SUMPRODUCT((LEFT(Transaction[Route],Branch_Digit)=RIGHT(BranchCode,Branch_Digit))*(Transaction[Type]=\"เบิก\")*(Transaction[Products]='Factory_Order Frm'!$R210)*(Transaction[Date]=$O210)*(Transaction[Qty In-Out]))/PcsPerTray,0))","v":""},{"$f":"IF($N210=\"\",\"\",MOD(SUMPRODUCT((LEFT(Transaction[Route],Branch_Digit)=RIGHT(BranchCode,Branch_Digit))*(Transaction[Type]=\"เบิก\")*(Transaction[Products]='Factory_Order Frm'!$R210)*(Transaction[Date]=$O210)*(Transaction[Qty In-Out])),PcsPerTray))","v":""}]
[null,null,null,null,null,null,null,null,null,null,null,null,null,{"$f":"IF(Cumulative>(ROW()-ROW($O$20)),_xlfn.AGGREGATE(15,6,(ROW(OrderRange_Ref)-ROW($L$19))/(OFFSET(OrderRange_Ref,,0)>0),ROWS($L$20:$L211)),IF(OFFSET(Cumulative,,1)>(ROW()-ROW($O$20)),_xlfn.AGGREGATE(15,6,(ROW(OrderRange_Ref)-ROW($L$19))/(OFFSET(OrderRange_Ref,,1)>0),ROWS($L$20:$L211)-OFFSET(Cumulative,,0)),IF(OFFSET(Cumulative,,2)>(ROW()-ROW($O$20)),_xlfn.AGGREGATE(15,6,(ROW(OrderRange_Ref)-ROW($L$19))/(OFFSET(OrderRange_Ref,,2)>0),ROWS($L$20:$L211)-OFFSET(Cumulative,,1)),IF(OFFSET(Cumulative,,3)>(ROW()-ROW($O$20)),_xlfn.AGGREGATE(15,6,(ROW(OrderRange_Ref)-ROW($L$19))/(OFFSET(OrderRange_Ref,,3)>0),ROWS($L$20:$L211)-OFFSET(Cumulative,,2)),IF(OFFSET(Cumulative,,4)>(ROW()-ROW($O$20)),_xlfn.AGGREGATE(15,6,(ROW(OrderRange_Ref)-ROW($L$19))/(OFFSET(OrderRange_Ref,,4)>0),ROWS($L$20:$L211)-OFFSET(Cumulative,,3)),IF(OFFSET(Cumulative,,5)>(ROW()-ROW($O$20)),_xlfn.AGGREGATE(15,6,(ROW(OrderRange_Ref)-ROW($L$19))/(OFFSET(OrderRange_Ref,,5)>0),ROWS($L$20:$L211)-OFFSET(Cumulative,,4)),\"\"))))))","v":""},"","","","",{"$f":"IF($N211=\"\",\"\",ROUND(SUMPRODUCT((LEFT(Transaction[Route],Branch_Digit)=RIGHT(BranchCode,Branch_Digit))*(Transaction[Type]=\"เบิก\")*(Transaction[Products]='Factory_Order Frm'!$R211)*(Transaction[Date]=$O211)*(Transaction[Qty In-Out]))/PcsPerTray,0))","v":""},{"$f":"IF($N211=\"\",\"\",MOD(SUMPRODUCT((LEFT(Transaction[Route],Branch_Digit)=RIGHT(BranchCode,Branch_Digit))*(Transaction[Type]=\"เบิก\")*(Transaction[Products]='Factory_Order Frm'!$R211)*(Transaction[Date]=$O211)*(Transaction[Qty In-Out])),PcsPerTray))","v":""}]
[null,null,null,null,null,null,null,null,null,null,null,null,null,{"$f":"IF(Cumulative>(ROW()-ROW($O$20)),_xlfn.AGGREGATE(15,6,(ROW(OrderRange_Ref)-ROW($L$19))/(OFFSET(OrderRange_Ref,,0)>0),ROWS($L$20:$L212)),IF(OFFSET(Cumulative,,1)>(ROW()-ROW($O$20)),_xlfn.AGGREGATE(15,6,(ROW(OrderRange_Ref)-ROW($L$19))/(OFFSET(OrderRange_Ref,,1)>0),ROWS($L$20:$L212)-OFFSET(Cumulative,,0)),IF(OFFSET(Cumulative,,2)>(ROW()-ROW($O$20)),_xlfn.AGGREGATE(15,6,(ROW(OrderRange_Ref)-ROW($L$19))/(OFFSET(OrderRange_Ref,,2)>0),ROWS($L$20:$L212)-OFFSET(Cumulative,,1)),IF(OFFSET(Cumulative,,3)>(ROW()-ROW($O$20)),_xlfn.AGGREGATE(15,6,(ROW(OrderRange_Ref)-ROW($L$19))/(OFFSET(OrderRange_Ref,,3)>0),ROWS($L$20:$L212)-OFFSET(Cumulative,,2)),IF(OFFSET(Cumulative,,4)>(ROW()-ROW($O$20)),_xlfn.AGGREGATE(15,6,(ROW(OrderRange_Ref)-ROW($L$19))/(OFFSET(OrderRange_Ref,,4)>0),ROWS($L$20:$L212)-OFFSET(Cumulative,,3)),IF(OFFSET(Cumulative,,5)>(ROW()-ROW($O$20)),_xlfn.AGGREGATE(15,6,(ROW(OrderRange_Ref)-ROW($L$19))/(OFFSET(OrderRange_Ref,,5)>0),ROWS($L$20:$L212)-OFFSET(Cumulative,,4)),\"\"))))))","v":""},{"$f":"IF(Cumulative>(ROW()-ROW($O$20)),OrderDate,IF(OFFSET(Cumulative,,1)>(ROW()-ROW($O$20)),OrderDate+1,IF(OFFSET(Cumulative,,2)>(ROW()-ROW($O$20)),OrderDate+2,IF(OFFSET(Cumulative,,3)>(ROW()-ROW($O$20)),OrderDate+3,IF(OFFSET(Cumulative,,4)>(ROW()-ROW($O$20)),OrderDate+4,IF(OFFSET(Cumulative,,5)>(ROW()-ROW($O$20)),OrderDate+5,\"\"))))))","v":""},"","","",{"$f":"IF($N212=\"\",\"\",ROUND(SUMPRODUCT((LEFT(Transaction[Route],Branch_Digit)=RIGHT(BranchCode,Branch_Digit))*(Transaction[Type]=\"เบิก\")*(Transaction[Products]='Factory_Order Frm'!$R212)*(Transaction[Date]=$O212)*(Transaction[Qty In-Out]))/PcsPerTray,0))","v":""},{"$f":"IF($N212=\"\",\"\",MOD(SUMPRODUCT((LEFT(Transaction[Route],Branch_Digit)=RIGHT(BranchCode,Branch_Digit))*(Transaction[Type]=\"เบิก\")*(Transaction[Products]='Factory_Order Frm'!$R212)*(Transaction[Date]=$O212)*(Transaction[Qty In-Out])),PcsPerTray))","v":""}]
[null,null,null,null,null,null,null,null,null,null,null,null,null,{"$f":"IF(Cumulative>(ROW()-ROW($O$20)),_xlfn.AGGREGATE(15,6,(ROW(OrderRange_Ref)-ROW($L$19))/(OFFSET(OrderRange_Ref,,0)>0),ROWS($L$20:$L213)),IF(OFFSET(Cumulative,,1)>(ROW()-ROW($O$20)),_xlfn.AGGREGATE(15,6,(ROW(OrderRange_Ref)-ROW($L$19))/(OFFSET(OrderRange_Ref,,1)>0),ROWS($L$20:$L213)-OFFSET(Cumulative,,0)),IF(OFFSET(Cumulative,,2)>(ROW()-ROW($O$20)),_xlfn.AGGREGATE(15,6,(ROW(OrderRange_Ref)-ROW($L$19))/(OFFSET(OrderRange_Ref,,2)>0),ROWS($L$20:$L213)-OFFSET(Cumulative,,1)),IF(OFFSET(Cumulative,,3)>(ROW()-ROW($O$20)),_xlfn.AGGREGATE(15,6,(ROW(OrderRange_Ref)-ROW($L$19))/(OFFSET(OrderRange_Ref,,3)>0),ROWS($L$20:$L213)-OFFSET(Cumulative,,2)),IF(OFFSET(Cumulative,,4)>(ROW()-ROW($O$20)),_xlfn.AGGREGATE(15,6,(ROW(OrderRange_Ref)-ROW($L$19))/(OFFSET(OrderRange_Ref,,4)>0),ROWS($L$20:$L213)-OFFSET(Cumulative,,3)),IF(OFFSET(Cumulative,,5)>(ROW()-ROW($O$20)),_xlfn.AGGREGATE(15,6,(ROW(OrderRange_Ref)-ROW($L$19))/(OFFSET(OrderRange_Ref,,5)>0),ROWS($L$20:$L213)-OFFSET(Cumulative,,4)),\"\"))))))","v":""},"",{"$f":"IF($O213<>\"\",BranchCode,\"\")","v":""},{"$f":"IF($O213<>\"\",\"จ่าย\",\"\")","v":""},{"$f":"IFERROR(INDEX($C$20:$C$54,$N213),\"\")","v":""},{"$f":"IF($N213=\"\",\"\",ROUND(SUMPRODUCT((LEFT(Transaction[Route],Branch_Digit)=RIGHT(BranchCode,Branch_Digit))*(Transaction[Type]=\"เบิก\")*(Transaction[Products]='Factory_Order Frm'!$R213)*(Transaction[Date]=$O213)*(Transaction[Qty In-Out]))/PcsPerTray,0))","v":""},{"$f":"IF($N213=\"\",\"\",MOD(SUMPRODUCT((LEFT(Transaction[Route],Branch_Digit)=RIGHT(BranchCode,Branch_Digit))*(Transaction[Type]=\"เบิก\")*(Transaction[Products]='Factory_Order Frm'!$R213)*(Transaction[Date]=$O213)*(Transaction[Qty In-Out])),PcsPerTray))","v":""}]
[null,null,null,null,null,null,null,null,null,null,null,null,null,{"$f":"IF(Cumulative>(ROW()-ROW($O$20)),_xlfn.AGGREGATE(15,6,(ROW(OrderRange_Ref)-ROW($L$19))/(OFFSET(OrderRange_Ref,,0)>0),ROWS($L$20:$L214)),IF(OFFSET(Cumulative,,1)>(ROW()-ROW($O$20)),_xlfn.AGGREGATE(15,6,(ROW(OrderRange_Ref)-ROW($L$19))/(OFFSET(OrderRange_Ref,,1)>0),ROWS($L$20:$L214)-OFFSET(Cumulative,,0)),IF(OFFSET(Cumulative,,2)>(ROW()-ROW($O$20)),_xlfn.AGGREGATE(15,6,(ROW(OrderRange_Ref)-ROW($L$19))/(OFFSET(OrderRange_Ref,,2)>0),ROWS($L$20:$L214)-OFFSET(Cumulative,,1)),IF(OFFSET(Cumulative,,3)>(ROW()-ROW($O$20)),_xlfn.AGGREGATE(15,6,(ROW(OrderRange_Ref)-ROW($L$19))/(OFFSET(OrderRange_Ref,,3)>0),ROWS($L$20:$L214)-OFFSET(Cumulative,,2)),IF(OFFSET(Cumulative,,4)>(ROW()-ROW($O$20)),_xlfn.AGGREGATE(15,6,(ROW(OrderRange_Ref)-ROW($L$19))/(OFFSET(OrderRange_Ref,,4)>0),ROWS($L$20:$L214)-OFFSET(Cumulative,,3)),IF(OFFSET(Cumulative,,5)>(ROW()-ROW($O$20)),_xlfn.AGGREGATE(15,6,(ROW(OrderRange_Ref)-ROW($L$19))/(OFFSET(OrderRange_Ref,,5)>0),ROWS($L$20:$L214)-OFFSET(Cumulative,,4)),\"\"))))))","v":""},"","","","",{"$f":"IF($N214=\"\",\"\",ROUND(SUMPRODUCT((LEFT(Transaction[Route],Branch_Digit)=RIGHT(BranchCode,Branch_Digit))*(Transaction[Type]=\"เบิก\")*(Transaction[Products]='Factory_Order Frm'!$R214)*(Transaction[Date]=$O214)*(Transaction[Qty In-Out]))/PcsPerTray,0))","v":""},{"$f":"IF($N214=\"\",\"\",MOD(SUMPRODUCT((LEFT(Transaction[Route],Branch_Digit)=RIGHT(BranchCode,Branch_Digit))*(Transaction[Type]=\"เบิก\")*(Transaction[Products]='Factory_Order Frm'!$R214)*(Transaction[Date]=$O214)*(Transaction[Qty In-Out])),PcsPerTray))","v":""}]
[null,null,null,null,null,null,null,null,null,null,null,null,null,{"$f":"IF(Cumulative>(ROW()-ROW($O$20)),_xlfn.AGGREGATE(15,6,(ROW(OrderRange_Ref)-ROW($L$19))/(OFFSET(OrderRange_Ref,,0)>0),ROWS($L$20:$L215)),IF(OFFSET(Cumulative,,1)>(ROW()-ROW($O$20)),_xlfn.AGGREGATE(15,6,(ROW(OrderRange_Ref)-ROW($L$19))/(OFFSET(OrderRange_Ref,,1)>0),ROWS($L$20:$L215)-OFFSET(Cumulative,,0)),IF(OFFSET(Cumulative,,2)>(ROW()-ROW($O$20)),_xlfn.AGGREGATE(15,6,(ROW(OrderRange_Ref)-ROW($L$19))/(OFFSET(OrderRange_Ref,,2)>0),ROWS($L$20:$L215)-OFFSET(Cumulative,,1)),IF(OFFSET(Cumulative,,3)>(ROW()-ROW($O$20)),_xlfn.AGGREGATE(15,6,(ROW(OrderRange_Ref)-ROW($L$19))/(OFFSET(OrderRange_Ref,,3)>0),ROWS($L$20:$L215)-OFFSET(Cumulative,,2)),IF(OFFSET(Cumulative,,4)>(ROW()-ROW($O$20)),_xlfn.AGGREGATE(15,6,(ROW(OrderRange_Ref)-ROW($L$19))/(OFFSET(OrderRange_Ref,,4)>0),ROWS($L$20:$L215)-OFFSET(Cumulative,,3)),IF(OFFSET(Cumulative,,5)>(ROW()-ROW($O$20)),_xlfn.AGGREGATE(15,6,(ROW(OrderRange_Ref)-ROW($L$19))/(OFFSET(OrderRange_Ref,,5)>0),ROWS($L$20:$L215)-OFFSET(Cumulative,,4)),\"\"))))))","v":""},"","","","",{"$f":"IF($N215=\"\",\"\",ROUND(SUMPRODUCT((LEFT(Transaction[Route],Branch_Digit)=RIGHT(BranchCode,Branch_Digit))*(Transaction[Type]=\"เบิก\")*(Transaction[Products]='Factory_Order Frm'!$R215)*(Transaction[Date]=$O215)*(Transaction[Qty In-Out]))/PcsPerTray,0))","v":""},{"$f":"IF($N215=\"\",\"\",MOD(SUMPRODUCT((LEFT(Transaction[Route],Branch_Digit)=RIGHT(BranchCode,Branch_Digit))*(Transaction[Type]=\"เบิก\")*(Transaction[Products]='Factory_Order Frm'!$R215)*(Transaction[Date]=$O215)*(Transaction[Qty In-Out])),PcsPerTray))","v":""}]
[null,null,null,null,null,null,null,null,null,null,null,null,null,{"$f":"IF(Cumulative>(ROW()-ROW($O$20)),_xlfn.AGGREGATE(15,6,(ROW(OrderRange_Ref)-ROW($L$19))/(OFFSET(OrderRange_Ref,,0)>0),ROWS($L$20:$L216)),IF(OFFSET(Cumulative,,1)>(ROW()-ROW($O$20)),_xlfn.AGGREGATE(15,6,(ROW(OrderRange_Ref)-ROW($L$19))/(OFFSET(OrderRange_Ref,,1)>0),ROWS($L$20:$L216)-OFFSET(Cumulative,,0)),IF(OFFSET(Cumulative,,2)>(ROW()-ROW($O$20)),_xlfn.AGGREGATE(15,6,(ROW(OrderRange_Ref)-ROW($L$19))/(OFFSET(OrderRange_Ref,,2)>0),ROWS($L$20:$L216)-OFFSET(Cumulative,,1)),IF(OFFSET(Cumulative,,3)>(ROW()-ROW($O$20)),_xlfn.AGGREGATE(15,6,(ROW(OrderRange_Ref)-ROW($L$19))/(OFFSET(OrderRange_Ref,,3)>0),ROWS($L$20:$L216)-OFFSET(Cumulative,,2)),IF(OFFSET(Cumulative,,4)>(ROW()-ROW($O$20)),_xlfn.AGGREGATE(15,6,(ROW(OrderRange_Ref)-ROW($L$19))/(OFFSET(OrderRange_Ref,,4)>0),ROWS($L$20:$L216)-OFFSET(Cumulative,,3)),IF(OFFSET(Cumulative,,5)>(ROW()-ROW($O$20)),_xlfn.AGGREGATE(15,6,(ROW(OrderRange_Ref)-ROW($L$19))/(OFFSET(OrderRange_Ref,,5)>0),ROWS($L$20:$L216)-OFFSET(Cumulative,,4)),\"\"))))))","v":""},"","","","",{"$f":"IF($N216=\"\",\"\",ROUND(SUMPRODUCT((LEFT(Transaction[Route],Branch_Digit)=RIGHT(BranchCode,Branch_Digit))*(Transaction[Type]=\"เบิก\")*(Transaction[Products]='Factory_Order Frm'!$R216)*(Transaction[Date]=$O216)*(Transaction[Qty In-Out]))/PcsPerTray,0))","v":""},{"$f":"IF($N216=\"\",\"\",MOD(SUMPRODUCT((LEFT(Transaction[Route],Branch_Digit)=RIGHT(BranchCode,Branch_Digit))*(Transaction[Type]=\"เบิก\")*(Transaction[Products]='Factory_Order Frm'!$R216)*(Transaction[Date]=$O216)*(Transaction[Qty In-Out])),PcsPerTray))","v":""}]
[null,null,null,null,null,null,null,null,null,null,null,null,null,{"$f":"IF(Cumulative>(ROW()-ROW($O$20)),_xlfn.AGGREGATE(15,6,(ROW(OrderRange_Ref)-ROW($L$19))/(OFFSET(OrderRange_Ref,,0)>0),ROWS($L$20:$L217)),IF(OFFSET(Cumulative,,1)>(ROW()-ROW($O$20)),_xlfn.AGGREGATE(15,6,(ROW(OrderRange_Ref)-ROW($L$19))/(OFFSET(OrderRange_Ref,,1)>0),ROWS($L$20:$L217)-OFFSET(Cumulative,,0)),IF(OFFSET(Cumulative,,2)>(ROW()-ROW($O$20)),_xlfn.AGGREGATE(15,6,(ROW(OrderRange_Ref)-ROW($L$19))/(OFFSET(OrderRange_Ref,,2)>0),ROWS($L$20:$L217)-OFFSET(Cumulative,,1)),IF(OFFSET(Cumulative,,3)>(ROW()-ROW($O$20)),_xlfn.AGGREGATE(15,6,(ROW(OrderRange_Ref)-ROW($L$19))/(OFFSET(OrderRange_Ref,,3)>0),ROWS($L$20:$L217)-OFFSET(Cumulative,,2)),IF(OFFSET(Cumulative,,4)>(ROW()-ROW($O$20)),_xlfn.AGGREGATE(15,6,(ROW(OrderRange_Ref)-ROW($L$19))/(OFFSET(OrderRange_Ref,,4)>0),ROWS($L$20:$L217)-OFFSET(Cumulative,,3)),IF(OFFSET(Cumulative,,5)>(ROW()-ROW($O$20)),_xlfn.AGGREGATE(15,6,(ROW(OrderRange_Ref)-ROW($L$19))/(OFFSET(OrderRange_Ref,,5)>0),ROWS($L$20:$L217)-OFFSET(Cumulative,,4)),\"\"))))))","v":""},"","","","",{"$f":"IF($N217=\"\",\"\",ROUND(SUMPRODUCT((LEFT(Transaction[Route],Branch_Digit)=RIGHT(BranchCode,Branch_Digit))*(Transaction[Type]=\"เบิก\")*(Transaction[Products]='Factory_Order Frm'!$R217)*(Transaction[Date]=$O217)*(Transaction[Qty In-Out]))/PcsPerTray,0))","v":""},{"$f":"IF($N217=\"\",\"\",MOD(SUMPRODUCT((LEFT(Transaction[Route],Branch_Digit)=RIGHT(BranchCode,Branch_Digit))*(Transaction[Type]=\"เบิก\")*(Transaction[Products]='Factory_Order Frm'!$R217)*(Transaction[Date]=$O217)*(Transaction[Qty In-Out])),PcsPerTray))","v":""}]
[null,null,null,null,null,null,null,null,null,null,null,null,null,{"$f":"IF(Cumulative>(ROW()-ROW($O$20)),_xlfn.AGGREGATE(15,6,(ROW(OrderRange_Ref)-ROW($L$19))/(OFFSET(OrderRange_Ref,,0)>0),ROWS($L$20:$L218)),IF(OFFSET(Cumulative,,1)>(ROW()-ROW($O$20)),_xlfn.AGGREGATE(15,6,(ROW(OrderRange_Ref)-ROW($L$19))/(OFFSET(OrderRange_Ref,,1)>0),ROWS($L$20:$L218)-OFFSET(Cumulative,,0)),IF(OFFSET(Cumulative,,2)>(ROW()-ROW($O$20)),_xlfn.AGGREGATE(15,6,(ROW(OrderRange_Ref)-ROW($L$19))/(OFFSET(OrderRange_Ref,,2)>0),ROWS($L$20:$L218)-OFFSET(Cumulative,,1)),IF(OFFSET(Cumulative,,3)>(ROW()-ROW($O$20)),_xlfn.AGGREGATE(15,6,(ROW(OrderRange_Ref)-ROW($L$19))/(OFFSET(OrderRange_Ref,,3)>0),ROWS($L$20:$L218)-OFFSET(Cumulative,,2)),IF(OFFSET(Cumulative,,4)>(ROW()-ROW($O$20)),_xlfn.AGGREGATE(15,6,(ROW(OrderRange_Ref)-ROW($L$19))/(OFFSET(OrderRange_Ref,,4)>0),ROWS($L$20:$L218)-OFFSET(Cumulative,,3)),IF(OFFSET(Cumulative,,5)>(ROW()-ROW($O$20)),_xlfn.AGGREGATE(15,6,(ROW(OrderRange_Ref)-ROW($L$19))/(OFFSET(OrderRange_Ref,,5)>0),ROWS($L$20:$L218)-OFFSET(Cumulative,,4)),\"\"))))))","v":""},"","","","",{"$f":"IF($N218=\"\",\"\",ROUND(SUMPRODUCT((LEFT(Transaction[Route],Branch_Digit)=RIGHT(BranchCode,Branch_Digit))*(Transaction[Type]=\"เบิก\")*(Transaction[Products]='Factory_Order Frm'!$R218)*(Transaction[Date]=$O218)*(Transaction[Qty In-Out]))/PcsPerTray,0))","v":""},{"$f":"IF($N218=\"\",\"\",MOD(SUMPRODUCT((LEFT(Transaction[Route],Branch_Digit)=RIGHT(BranchCode,Branch_Digit))*(Transaction[Type]=\"เบิก\")*(Transaction[Products]='Factory_Order Frm'!$R218)*(Transaction[Date]=$O218)*(Transaction[Qty In-Out])),PcsPerTray))","v":""}]
[null,null,null,null,null,null,null,null,null,null,null,null,null,{"$f":"IF(Cumulative>(ROW()-ROW($O$20)),_xlfn.AGGREGATE(15,6,(ROW(OrderRange_Ref)-ROW($L$19))/(OFFSET(OrderRange_Ref,,0)>0),ROWS($L$20:$L219)),IF(OFFSET(Cumulative,,1)>(ROW()-ROW($O$20)),_xlfn.AGGREGATE(15,6,(ROW(OrderRange_Ref)-ROW($L$19))/(OFFSET(OrderRange_Ref,,1)>0),ROWS($L$20:$L219)-OFFSET(Cumulative,,0)),IF(OFFSET(Cumulative,,2)>(ROW()-ROW($O$20)),_xlfn.AGGREGATE(15,6,(ROW(OrderRange_Ref)-ROW($L$19))/(OFFSET(OrderRange_Ref,,2)>0),ROWS($L$20:$L219)-OFFSET(Cumulative,,1)),IF(OFFSET(Cumulative,,3)>(ROW()-ROW($O$20)),_xlfn.AGGREGATE(15,6,(ROW(OrderRange_Ref)-ROW($L$19))/(OFFSET(OrderRange_Ref,,3)>0),ROWS($L$20:$L219)-OFFSET(Cumulative,,2)),IF(OFFSET(Cumulative,,4)>(ROW()-ROW($O$20)),_xlfn.AGGREGATE(15,6,(ROW(OrderRange_Ref)-ROW($L$19))/(OFFSET(OrderRange_Ref,,4)>0),ROWS($L$20:$L219)-OFFSET(Cumulative,,3)),IF(OFFSET(Cumulative,,5)>(ROW()-ROW($O$20)),_xlfn.AGGREGATE(15,6,(ROW(OrderRange_Ref)-ROW($L$19))/(OFFSET(OrderRange_Ref,,5)>0),ROWS($L$20:$L219)-OFFSET(Cumulative,,4)),\"\"))))))","v":""},"","","","",{"$f":"IF($N219=\"\",\"\",ROUND(SUMPRODUCT((LEFT(Transaction[Route],Branch_Digit)=RIGHT(BranchCode,Branch_Digit))*(Transaction[Type]=\"เบิก\")*(Transaction[Products]='Factory_Order Frm'!$R219)*(Transaction[Date]=$O219)*(Transaction[Qty In-Out]))/PcsPerTray,0))","v":""},{"$f":"IF($N219=\"\",\"\",MOD(SUMPRODUCT((LEFT(Transaction[Route],Branch_Digit)=RIGHT(BranchCode,Branch_Digit))*(Transaction[Type]=\"เบิก\")*(Transaction[Products]='Factory_Order Frm'!$R219)*(Transaction[Date]=$O219)*(Transaction[Qty In-Out])),PcsPerTray))","v":""}]
[null,null,null,null,null,null,null,null,null,null,null,null,null,{"$f":"IF(Cumulative>(ROW()-ROW($O$20)),_xlfn.AGGREGATE(15,6,(ROW(OrderRange_Ref)-ROW($L$19))/(OFFSET(OrderRange_Ref,,0)>0),ROWS($L$20:$L220)),IF(OFFSET(Cumulative,,1)>(ROW()-ROW($O$20)),_xlfn.AGGREGATE(15,6,(ROW(OrderRange_Ref)-ROW($L$19))/(OFFSET(OrderRange_Ref,,1)>0),ROWS($L$20:$L220)-OFFSET(Cumulative,,0)),IF(OFFSET(Cumulative,,2)>(ROW()-ROW($O$20)),_xlfn.AGGREGATE(15,6,(ROW(OrderRange_Ref)-ROW($L$19))/(OFFSET(OrderRange_Ref,,2)>0),ROWS($L$20:$L220)-OFFSET(Cumulative,,1)),IF(OFFSET(Cumulative,,3)>(ROW()-ROW($O$20)),_xlfn.AGGREGATE(15,6,(ROW(OrderRange_Ref)-ROW($L$19))/(OFFSET(OrderRange_Ref,,3)>0),ROWS($L$20:$L220)-OFFSET(Cumulative,,2)),IF(OFFSET(Cumulative,,4)>(ROW()-ROW($O$20)),_xlfn.AGGREGATE(15,6,(ROW(OrderRange_Ref)-ROW($L$19))/(OFFSET(OrderRange_Ref,,4)>0),ROWS($L$20:$L220)-OFFSET(Cumulative,,3)),IF(OFFSET(Cumulative,,5)>(ROW()-ROW($O$20)),_xlfn.AGGREGATE(15,6,(ROW(OrderRange_Ref)-ROW($L$19))/(OFFSET(OrderRange_Ref,,5)>0),ROWS($L$20:$L220)-OFFSET(Cumulative,,4)),\"\"))))))","v":""},"","","","",{"$f":"IF($N220=\"\",\"\",ROUND(SUMPRODUCT((LEFT(Transaction[Route],Branch_Digit)=RIGHT(BranchCode,Branch_Digit))*(Transaction[Type]=\"เบิก\")*(Transaction[Products]='Factory_Order Frm'!$R220)*(Transaction[Date]=$O220)*(Transaction[Qty In-Out]))/PcsPerTray,0))","v":""},{"$f":"IF($N220=\"\",\"\",MOD(SUMPRODUCT((LEFT(Transaction[Route],Branch_Digit)=RIGHT(BranchCode,Branch_Digit))*(Transaction[Type]=\"เบิก\")*(Transaction[Products]='Factory_Order Frm'!$R220)*(Transaction[Date]=$O220)*(Transaction[Qty In-Out])),PcsPerTray))","v":""}]
[null,null,null,null,null,null,null,null,null,null,null,null,null,{"$f":"IF(Cumulative>(ROW()-ROW($O$20)),_xlfn.AGGREGATE(15,6,(ROW(OrderRange_Ref)-ROW($L$19))/(OFFSET(OrderRange_Ref,,0)>0),ROWS($L$20:$L221)),IF(OFFSET(Cumulative,,1)>(ROW()-ROW($O$20)),_xlfn.AGGREGATE(15,6,(ROW(OrderRange_Ref)-ROW($L$19))/(OFFSET(OrderRange_Ref,,1)>0),ROWS($L$20:$L221)-OFFSET(Cumulative,,0)),IF(OFFSET(Cumulative,,2)>(ROW()-ROW($O$20)),_xlfn.AGGREGATE(15,6,(ROW(OrderRange_Ref)-ROW($L$19))/(OFFSET(OrderRange_Ref,,2)>0),ROWS($L$20:$L221)-OFFSET(Cumulative,,1)),IF(OFFSET(Cumulative,,3)>(ROW()-ROW($O$20)),_xlfn.AGGREGATE(15,6,(ROW(OrderRange_Ref)-ROW($L$19))/(OFFSET(OrderRange_Ref,,3)>0),ROWS($L$20:$L221)-OFFSET(Cumulative,,2)),IF(OFFSET(Cumulative,,4)>(ROW()-ROW($O$20)),_xlfn.AGGREGATE(15,6,(ROW(OrderRange_Ref)-ROW($L$19))/(OFFSET(OrderRange_Ref,,4)>0),ROWS($L$20:$L221)-OFFSET(Cumulative,,3)),IF(OFFSET(Cumulative,,5)>(ROW()-ROW($O$20)),_xlfn.AGGREGATE(15,6,(ROW(OrderRange_Ref)-ROW($L$19))/(OFFSET(OrderRange_Ref,,5)>0),ROWS($L$20:$L221)-OFFSET(Cumulative,,4)),\"\"))))))","v":""},"","","","",{"$f":"IF($N221=\"\",\"\",ROUND(SUMPRODUCT((LEFT(Transaction[Route],Branch_Digit)=RIGHT(BranchCode,Branch_Digit))*(Transaction[Type]=\"เบิก\")*(Transaction[Products]='Factory_Order Frm'!$R221)*(Transaction[Date]=$O221)*(Transaction[Qty In-Out]))/PcsPerTray,0))","v":""},{"$f":"IF($N221=\"\",\"\",MOD(SUMPRODUCT((LEFT(Transaction[Route],Branch_Digit)=RIGHT(BranchCode,Branch_Digit))*(Transaction[Type]=\"เบิก\")*(Transaction[Products]='Factory_Order Frm'!$R221)*(Transaction[Date]=$O221)*(Transaction[Qty In-Out])),PcsPerTray))","v":""}]
[null,null,null,null,null,null,null,null,null,null,null,null,null,{"$f":"IF(Cumulative>(ROW()-ROW($O$20)),_xlfn.AGGREGATE(15,6,(ROW(OrderRange_Ref)-ROW($L$19))/(OFFSET(OrderRange_Ref,,0)>0),ROWS($L$20:$L222)),IF(OFFSET(Cumulative,,1)>(ROW()-ROW($O$20)),_xlfn.AGGREGATE(15,6,(ROW(OrderRange_Ref)-ROW($L$19))/(OFFSET(OrderRange_Ref,,1)>0),ROWS($L$20:$L222)-OFFSET(Cumulative,,0)),IF(OFFSET(Cumulative,,2)>(ROW()-ROW($O$20)),_xlfn.AGGREGATE(15,6,(ROW(OrderRange_Ref)-ROW($L$19))/(OFFSET(OrderRange_Ref,,2)>0),ROWS($L$20:$L222)-OFFSET(Cumulative,,1)),IF(OFFSET(Cumulative,,3)>(ROW()-ROW($O$20)),_xlfn.AGGREGATE(15,6,(ROW(OrderRange_Ref)-ROW($L$19))/(OFFSET(OrderRange_Ref,,3)>0),ROWS($L$20:$L222)-OFFSET(Cumulative,,2)),IF(OFFSET(Cumulative,,4)>(ROW()-ROW($O$20)),_xlfn.AGGREGATE(15,6,(ROW(OrderRange_Ref)-ROW($L$19))/(OFFSET(OrderRange_Ref,,4)>0),ROWS($L$20:$L222)-OFFSET(Cumulative,,3)),IF(OFFSET(Cumulative,,5)>(ROW()-ROW($O$20)),_xlfn.AGGREGATE(15,6,(ROW(OrderRange_Ref)-ROW($L$19))/(OFFSET(OrderRange_Ref,,5)>0),ROWS($L$20:$L222)-OFFSET(Cumulative,,4)),\"\"))))))","v":""},"","","","",{"$f":"IF($N222=\"\",\"\",ROUND(SUMPRODUCT((LEFT(Transaction[Route],Branch_Digit)=RIGHT(BranchCode,Branch_Digit))*(Transaction[Type]=\"เบิก\")*(Transaction[Products]='Factory_Order Frm'!$R222)*(Transaction[Date]=$O222)*(Transaction[Qty In-Out]))/PcsPerTray,0))","v":""},{"$f":"IF($N222=\"\",\"\",MOD(SUMPRODUCT((LEFT(Transaction[Route],Branch_Digit)=RIGHT(BranchCode,Branch_Digit))*(Transaction[Type]=\"เบิก\")*(Transaction[Products]='Factory_Order Frm'!$R222)*(Transaction[Date]=$O222)*(Transaction[Qty In-Out])),PcsPerTray))","v":""}]
[null,null,null,null,null,null,null,null,null,null,null,null,null,{"$f":"IF(Cumulative>(ROW()-ROW($O$20)),_xlfn.AGGREGATE(15,6,(ROW(OrderRange_Ref)-ROW($L$19))/(OFFSET(OrderRange_Ref,,0)>0),ROWS($L$20:$L223)),IF(OFFSET(Cumulative,,1)>(ROW()-ROW($O$20)),_xlfn.AGGREGATE(15,6,(ROW(OrderRange_Ref)-ROW($L$19))/(OFFSET(OrderRange_Ref,,1)>0),ROWS($L$20:$L223)-OFFSET(Cumulative,,0)),IF(OFFSET(Cumulative,,2)>(ROW()-ROW($O$20)),_xlfn.AGGREGATE(15,6,(ROW(OrderRange_Ref)-ROW($L$19))/(OFFSET(OrderRange_Ref,,2)>0),ROWS($L$20:$L223)-OFFSET(Cumulative,,1)),IF(OFFSET(Cumulative,,3)>(ROW()-ROW($O$20)),_xlfn.AGGREGATE(15,6,(ROW(OrderRange_Ref)-ROW($L$19))/(OFFSET(OrderRange_Ref,,3)>0),ROWS($L$20:$L223)-OFFSET(Cumulative,,2)),IF(OFFSET(Cumulative,,4)>(ROW()-ROW($O$20)),_xlfn.AGGREGATE(15,6,(ROW(OrderRange_Ref)-ROW($L$19))/(OFFSET(OrderRange_Ref,,4)>0),ROWS($L$20:$L223)-OFFSET(Cumulative,,3)),IF(OFFSET(Cumulative,,5)>(ROW()-ROW($O$20)),_xlfn.AGGREGATE(15,6,(ROW(OrderRange_Ref)-ROW($L$19))/(OFFSET(OrderRange_Ref,,5)>0),ROWS($L$20:$L223)-OFFSET(Cumulative,,4)),\"\"))))))","v":""},"","","","",{"$f":"IF($N223=\"\",\"\",ROUND(SUMPRODUCT((LEFT(Transaction[Route],Branch_Digit)=RIGHT(BranchCode,Branch_Digit))*(Transaction[Type]=\"เบิก\")*(Transaction[Products]='Factory_Order Frm'!$R223)*(Transaction[Date]=$O223)*(Transaction[Qty In-Out]))/PcsPerTray,0))","v":""},{"$f":"IF($N223=\"\",\"\",MOD(SUMPRODUCT((LEFT(Transaction[Route],Branch_Digit)=RIGHT(BranchCode,Branch_Digit))*(Transaction[Type]=\"เบิก\")*(Transaction[Products]='Factory_Order Frm'!$R223)*(Transaction[Date]=$O223)*(Transaction[Qty In-Out])),PcsPerTray))","v":""}]
[null,null,null,null,null,null,null,null,null,null,null,null,null,{"$f":"IF(Cumulative>(ROW()-ROW($O$20)),_xlfn.AGGREGATE(15,6,(ROW(OrderRange_Ref)-ROW($L$19))/(OFFSET(OrderRange_Ref,,0)>0),ROWS($L$20:$L224)),IF(OFFSET(Cumulative,,1)>(ROW()-ROW($O$20)),_xlfn.AGGREGATE(15,6,(ROW(OrderRange_Ref)-ROW($L$19))/(OFFSET(OrderRange_Ref,,1)>0),ROWS($L$20:$L224)-OFFSET(Cumulative,,0)),IF(OFFSET(Cumulative,,2)>(ROW()-ROW($O$20)),_xlfn.AGGREGATE(15,6,(ROW(OrderRange_Ref)-ROW($L$19))/(OFFSET(OrderRange_Ref,,2)>0),ROWS($L$20:$L224)-OFFSET(Cumulative,,1)),IF(OFFSET(Cumulative,,3)>(ROW()-ROW($O$20)),_xlfn.AGGREGATE(15,6,(ROW(OrderRange_Ref)-ROW($L$19))/(OFFSET(OrderRange_Ref,,3)>0),ROWS($L$20:$L224)-OFFSET(Cumulative,,2)),IF(OFFSET(Cumulative,,4)>(ROW()-ROW($O$20)),_xlfn.AGGREGATE(15,6,(ROW(OrderRange_Ref)-ROW($L$19))/(OFFSET(OrderRange_Ref,,4)>0),ROWS($L$20:$L224)-OFFSET(Cumulative,,3)),IF(OFFSET(Cumulative,,5)>(ROW()-ROW($O$20)),_xlfn.AGGREGATE(15,6,(ROW(OrderRange_Ref)-ROW($L$19))/(OFFSET(OrderRange_Ref,,5)>0),ROWS($L$20:$L224)-OFFSET(Cumulative,,4)),\"\"))))))","v":""},"","","","",{"$f":"IF($N224=\"\",\"\",ROUND(SUMPRODUCT((LEFT(Transaction[Route],Branch_Digit)=RIGHT(BranchCode,Branch_Digit))*(Transaction[Type]=\"เบิก\")*(Transaction[Products]='Factory_Order Frm'!$R224)*(Transaction[Date]=$O224)*(Transaction[Qty In-Out]))/PcsPerTray,0))","v":""},{"$f":"IF($N224=\"\",\"\",MOD(SUMPRODUCT((LEFT(Transaction[Route],Branch_Digit)=RIGHT(BranchCode,Branch_Digit))*(Transaction[Type]=\"เบิก\")*(Transaction[Products]='Factory_Order Frm'!$R224)*(Transaction[Date]=$O224)*(Transaction[Qty In-Out])),PcsPerTray))","v":""}]
[null,null,null,null,null,null,null,null,null,null,null,null,null,{"$f":"IF(Cumulative>(ROW()-ROW($O$20)),_xlfn.AGGREGATE(15,6,(ROW(OrderRange_Ref)-ROW($L$19))/(OFFSET(OrderRange_Ref,,0)>0),ROWS($L$20:$L225)),IF(OFFSET(Cumulative,,1)>(ROW()-ROW($O$20)),_xlfn.AGGREGATE(15,6,(ROW(OrderRange_Ref)-ROW($L$19))/(OFFSET(OrderRange_Ref,,1)>0),ROWS($L$20:$L225)-OFFSET(Cumulative,,0)),IF(OFFSET(Cumulative,,2)>(ROW()-ROW($O$20)),_xlfn.AGGREGATE(15,6,(ROW(OrderRange_Ref)-ROW($L$19))/(OFFSET(OrderRange_Ref,,2)>0),ROWS($L$20:$L225)-OFFSET(Cumulative,,1)),IF(OFFSET(Cumulative,,3)>(ROW()-ROW($O$20)),_xlfn.AGGREGATE(15,6,(ROW(OrderRange_Ref)-ROW($L$19))/(OFFSET(OrderRange_Ref,,3)>0),ROWS($L$20:$L225)-OFFSET(Cumulative,,2)),IF(OFFSET(Cumulative,,4)>(ROW()-ROW($O$20)),_xlfn.AGGREGATE(15,6,(ROW(OrderRange_Ref)-ROW($L$19))/(OFFSET(OrderRange_Ref,,4)>0),ROWS($L$20:$L225)-OFFSET(Cumulative,,3)),IF(OFFSET(Cumulative,,5)>(ROW()-ROW($O$20)),_xlfn.AGGREGATE(15,6,(ROW(OrderRange_Ref)-ROW($L$19))/(OFFSET(OrderRange_Ref,,5)>0),ROWS($L$20:$L225)-OFFSET(Cumulative,,4)),\"\"))))))","v":""},"","","","",{"$f":"IF($N225=\"\",\"\",ROUND(SUMPRODUCT((LEFT(Transaction[Route],Branch_Digit)=RIGHT(BranchCode,Branch_Digit))*(Transaction[Type]=\"เบิก\")*(Transaction[Products]='Factory_Order Frm'!$R225)*(Transaction[Date]=$O225)*(Transaction[Qty In-Out]))/PcsPerTray,0))","v":""},{"$f":"IF($N225=\"\",\"\",MOD(SUMPRODUCT((LEFT(Transaction[Route],Branch_Digit)=RIGHT(BranchCode,Branch_Digit))*(Transaction[Type]=\"เบิก\")*(Transaction[Products]='Factory_Order Frm'!$R225)*(Transaction[Date]=$O225)*(Transaction[Qty In-Out])),PcsPerTray))","v":""}]
[null,null,null,null,null,null,null,null,null,null,null,null,null,{"$f":"IF(Cumulative>(ROW()-ROW($O$20)),_xlfn.AGGREGATE(15,6,(ROW(OrderRange_Ref)-ROW($L$19))/(OFFSET(OrderRange_Ref,,0)>0),ROWS($L$20:$L226)),IF(OFFSET(Cumulative,,1)>(ROW()-ROW($O$20)),_xlfn.AGGREGATE(15,6,(ROW(OrderRange_Ref)-ROW($L$19))/(OFFSET(OrderRange_Ref,,1)>0),ROWS($L$20:$L226)-OFFSET(Cumulative,,0)),IF(OFFSET(Cumulative,,2)>(ROW()-ROW($O$20)),_xlfn.AGGREGATE(15,6,(ROW(OrderRange_Ref)-ROW($L$19))/(OFFSET(OrderRange_Ref,,2)>0),ROWS($L$20:$L226)-OFFSET(Cumulative,,1)),IF(OFFSET(Cumulative,,3)>(ROW()-ROW($O$20)),_xlfn.AGGREGATE(15,6,(ROW(OrderRange_Ref)-ROW($L$19))/(OFFSET(OrderRange_Ref,,3)>0),ROWS($L$20:$L226)-OFFSET(Cumulative,,2)),IF(OFFSET(Cumulative,,4)>(ROW()-ROW($O$20)),_xlfn.AGGREGATE(15,6,(ROW(OrderRange_Ref)-ROW($L$19))/(OFFSET(OrderRange_Ref,,4)>0),ROWS($L$20:$L226)-OFFSET(Cumulative,,3)),IF(OFFSET(Cumulative,,5)>(ROW()-ROW($O$20)),_xlfn.AGGREGATE(15,6,(ROW(OrderRange_Ref)-ROW($L$19))/(OFFSET(OrderRange_Ref,,5)>0),ROWS($L$20:$L226)-OFFSET(Cumulative,,4)),\"\"))))))","v":""},"","","","",{"$f":"IF($N226=\"\",\"\",ROUND(SUMPRODUCT((LEFT(Transaction[Route],Branch_Digit)=RIGHT(BranchCode,Branch_Digit))*(Transaction[Type]=\"เบิก\")*(Transaction[Products]='Factory_Order Frm'!$R226)*(Transaction[Date]=$O226)*(Transaction[Qty In-Out]))/PcsPerTray,0))","v":""},{"$f":"IF($N226=\"\",\"\",MOD(SUMPRODUCT((LEFT(Transaction[Route],Branch_Digit)=RIGHT(BranchCode,Branch_Digit))*(Transaction[Type]=\"เบิก\")*(Transaction[Products]='Factory_Order Frm'!$R226)*(Transaction[Date]=$O226)*(Transaction[Qty In-Out])),PcsPerTray))","v":""}]
[null,null,null,null,null,null,null,null,null,null,null,null,null,{"$f":"IF(Cumulative>(ROW()-ROW($O$20)),_xlfn.AGGREGATE(15,6,(ROW(OrderRange_Ref)-ROW($L$19))/(OFFSET(OrderRange_Ref,,0)>0),ROWS($L$20:$L227)),IF(OFFSET(Cumulative,,1)>(ROW()-ROW($O$20)),_xlfn.AGGREGATE(15,6,(ROW(OrderRange_Ref)-ROW($L$19))/(OFFSET(OrderRange_Ref,,1)>0),ROWS($L$20:$L227)-OFFSET(Cumulative,,0)),IF(OFFSET(Cumulative,,2)>(ROW()-ROW($O$20)),_xlfn.AGGREGATE(15,6,(ROW(OrderRange_Ref)-ROW($L$19))/(OFFSET(OrderRange_Ref,,2)>0),ROWS($L$20:$L227)-OFFSET(Cumulative,,1)),IF(OFFSET(Cumulative,,3)>(ROW()-ROW($O$20)),_xlfn.AGGREGATE(15,6,(ROW(OrderRange_Ref)-ROW($L$19))/(OFFSET(OrderRange_Ref,,3)>0),ROWS($L$20:$L227)-OFFSET(Cumulative,,2)),IF(OFFSET(Cumulative,,4)>(ROW()-ROW($O$20)),_xlfn.AGGREGATE(15,6,(ROW(OrderRange_Ref)-ROW($L$19))/(OFFSET(OrderRange_Ref,,4)>0),ROWS($L$20:$L227)-OFFSET(Cumulative,,3)),IF(OFFSET(Cumulative,,5)>(ROW()-ROW($O$20)),_xlfn.AGGREGATE(15,6,(ROW(OrderRange_Ref)-ROW($L$19))/(OFFSET(OrderRange_Ref,,5)>0),ROWS($L$20:$L227)-OFFSET(Cumulative,,4)),\"\"))))))","v":""},"","","","",{"$f":"IF($N227=\"\",\"\",ROUND(SUMPRODUCT((LEFT(Transaction[Route],Branch_Digit)=RIGHT(BranchCode,Branch_Digit))*(Transaction[Type]=\"เบิก\")*(Transaction[Products]='Factory_Order Frm'!$R227)*(Transaction[Date]=$O227)*(Transaction[Qty In-Out]))/PcsPerTray,0))","v":""},{"$f":"IF($N227=\"\",\"\",MOD(SUMPRODUCT((LEFT(Transaction[Route],Branch_Digit)=RIGHT(BranchCode,Branch_Digit))*(Transaction[Type]=\"เบิก\")*(Transaction[Products]='Factory_Order Frm'!$R227)*(Transaction[Date]=$O227)*(Transaction[Qty In-Out])),PcsPerTray))","v":""}]
[null,null,null,null,null,null,null,null,null,null,null,null,null,{"$f":"IF(Cumulative>(ROW()-ROW($O$20)),_xlfn.AGGREGATE(15,6,(ROW(OrderRange_Ref)-ROW($L$19))/(OFFSET(OrderRange_Ref,,0)>0),ROWS($L$20:$L228)),IF(OFFSET(Cumulative,,1)>(ROW()-ROW($O$20)),_xlfn.AGGREGATE(15,6,(ROW(OrderRange_Ref)-ROW($L$19))/(OFFSET(OrderRange_Ref,,1)>0),ROWS($L$20:$L228)-OFFSET(Cumulative,,0)),IF(OFFSET(Cumulative,,2)>(ROW()-ROW($O$20)),_xlfn.AGGREGATE(15,6,(ROW(OrderRange_Ref)-ROW($L$19))/(OFFSET(OrderRange_Ref,,2)>0),ROWS($L$20:$L228)-OFFSET(Cumulative,,1)),IF(OFFSET(Cumulative,,3)>(ROW()-ROW($O$20)),_xlfn.AGGREGATE(15,6,(ROW(OrderRange_Ref)-ROW($L$19))/(OFFSET(OrderRange_Ref,,3)>0),ROWS($L$20:$L228)-OFFSET(Cumulative,,2)),IF(OFFSET(Cumulative,,4)>(ROW()-ROW($O$20)),_xlfn.AGGREGATE(15,6,(ROW(OrderRange_Ref)-ROW($L$19))/(OFFSET(OrderRange_Ref,,4)>0),ROWS($L$20:$L228)-OFFSET(Cumulative,,3)),IF(OFFSET(Cumulative,,5)>(ROW()-ROW($O$20)),_xlfn.AGGREGATE(15,6,(ROW(OrderRange_Ref)-ROW($L$19))/(OFFSET(OrderRange_Ref,,5)>0),ROWS($L$20:$L228)-OFFSET(Cumulative,,4)),\"\"))))))","v":""},"","","","",{"$f":"IF($N228=\"\",\"\",ROUND(SUMPRODUCT((LEFT(Transaction[Route],Branch_Digit)=RIGHT(BranchCode,Branch_Digit))*(Transaction[Type]=\"เบิก\")*(Transaction[Products]='Factory_Order Frm'!$R228)*(Transaction[Date]=$O228)*(Transaction[Qty In-Out]))/PcsPerTray,0))","v":""},{"$f":"IF($N228=\"\",\"\",MOD(SUMPRODUCT((LEFT(Transaction[Route],Branch_Digit)=RIGHT(BranchCode,Branch_Digit))*(Transaction[Type]=\"เบิก\")*(Transaction[Products]='Factory_Order Frm'!$R228)*(Transaction[Date]=$O228)*(Transaction[Qty In-Out])),PcsPerTray))","v":""}]
[null,null,null,null,null,null,null,null,null,null,null,null,null,{"$f":"IF(Cumulative>(ROW()-ROW($O$20)),_xlfn.AGGREGATE(15,6,(ROW(OrderRange_Ref)-ROW($L$19))/(OFFSET(OrderRange_Ref,,0)>0),ROWS($L$20:$L229)),IF(OFFSET(Cumulative,,1)>(ROW()-ROW($O$20)),_xlfn.AGGREGATE(15,6,(ROW(OrderRange_Ref)-ROW($L$19))/(OFFSET(OrderRange_Ref,,1)>0),ROWS($L$20:$L229)-OFFSET(Cumulative,,0)),IF(OFFSET(Cumulative,,2)>(ROW()-ROW($O$20)),_xlfn.AGGREGATE(15,6,(ROW(OrderRange_Ref)-ROW($L$19))/(OFFSET(OrderRange_Ref,,2)>0),ROWS($L$20:$L229)-OFFSET(Cumulative,,1)),IF(OFFSET(Cumulative,,3)>(ROW()-ROW($O$20)),_xlfn.AGGREGATE(15,6,(ROW(OrderRange_Ref)-ROW($L$19))/(OFFSET(OrderRange_Ref,,3)>0),ROWS($L$20:$L229)-OFFSET(Cumulative,,2)),IF(OFFSET(Cumulative,,4)>(ROW()-ROW($O$20)),_xlfn.AGGREGATE(15,6,(ROW(OrderRange_Ref)-ROW($L$19))/(OFFSET(OrderRange_Ref,,4)>0),ROWS($L$20:$L229)-OFFSET(Cumulative,,3)),IF(OFFSET(Cumulative,,5)>(ROW()-ROW($O$20)),_xlfn.AGGREGATE(15,6,(ROW(OrderRange_Ref)-ROW($L$19))/(OFFSET(OrderRange_Ref,,5)>0),ROWS($L$20:$L229)-OFFSET(Cumulative,,4)),\"\"))))))","v":""},"","","","",{"$f":"IF($N229=\"\",\"\",ROUND(SUMPRODUCT((LEFT(Transaction[Route],Branch_Digit)=RIGHT(BranchCode,Branch_Digit))*(Transaction[Type]=\"เบิก\")*(Transaction[Products]='Factory_Order Frm'!$R229)*(Transaction[Date]=$O229)*(Transaction[Qty In-Out]))/PcsPerTray,0))","v":""},{"$f":"IF($N229=\"\",\"\",MOD(SUMPRODUCT((LEFT(Transaction[Route],Branch_Digit)=RIGHT(BranchCode,Branch_Digit))*(Transaction[Type]=\"เบิก\")*(Transaction[Products]='Factory_Order Frm'!$R229)*(Transaction[Date]=$O229)*(Transaction[Qty In-Out])),PcsPerTray))","v":""}]
[null,null,null,null,null,null,null,null,null,null,null,null,null,{"$f":"IF(Cumulative>(ROW()-ROW($O$20)),_xlfn.AGGREGATE(15,6,(ROW(OrderRange_Ref)-ROW($L$19))/(OFFSET(OrderRange_Ref,,0)>0),ROWS($L$20:$L230)),IF(OFFSET(Cumulative,,1)>(ROW()-ROW($O$20)),_xlfn.AGGREGATE(15,6,(ROW(OrderRange_Ref)-ROW($L$19))/(OFFSET(OrderRange_Ref,,1)>0),ROWS($L$20:$L230)-OFFSET(Cumulative,,0)),IF(OFFSET(Cumulative,,2)>(ROW()-ROW($O$20)),_xlfn.AGGREGATE(15,6,(ROW(OrderRange_Ref)-ROW($L$19))/(OFFSET(OrderRange_Ref,,2)>0),ROWS($L$20:$L230)-OFFSET(Cumulative,,1)),IF(OFFSET(Cumulative,,3)>(ROW()-ROW($O$20)),_xlfn.AGGREGATE(15,6,(ROW(OrderRange_Ref)-ROW($L$19))/(OFFSET(OrderRange_Ref,,3)>0),ROWS($L$20:$L230)-OFFSET(Cumulative,,2)),IF(OFFSET(Cumulative,,4)>(ROW()-ROW($O$20)),_xlfn.AGGREGATE(15,6,(ROW(OrderRange_Ref)-ROW($L$19))/(OFFSET(OrderRange_Ref,,4)>0),ROWS($L$20:$L230)-OFFSET(Cumulative,,3)),IF(OFFSET(Cumulative,,5)>(ROW()-ROW($O$20)),_xlfn.AGGREGATE(15,6,(ROW(OrderRange_Ref)-ROW($L$19))/(OFFSET(OrderRange_Ref,,5)>0),ROWS($L$20:$L230)-OFFSET(Cumulative,,4)),\"\"))))))","v":""},"","","","",{"$f":"IF($N230=\"\",\"\",ROUND(SUMPRODUCT((LEFT(Transaction[Route],Branch_Digit)=RIGHT(BranchCode,Branch_Digit))*(Transaction[Type]=\"เบิก\")*(Transaction[Products]='Factory_Order Frm'!$R230)*(Transaction[Date]=$O230)*(Transaction[Qty In-Out]))/PcsPerTray,0))","v":""},{"$f":"IF($N230=\"\",\"\",MOD(SUMPRODUCT((LEFT(Transaction[Route],Branch_Digit)=RIGHT(BranchCode,Branch_Digit))*(Transaction[Type]=\"เบิก\")*(Transaction[Products]='Factory_Order Frm'!$R230)*(Transaction[Date]=$O230)*(Transaction[Qty In-Out])),PcsPerTray))","v":""}]
[null,null,null,null,null,null,null,null,null,null,null,null,null,{"$f":"IF(Cumulative>(ROW()-ROW($O$20)),_xlfn.AGGREGATE(15,6,(ROW(OrderRange_Ref)-ROW($L$19))/(OFFSET(OrderRange_Ref,,0)>0),ROWS($L$20:$L231)),IF(OFFSET(Cumulative,,1)>(ROW()-ROW($O$20)),_xlfn.AGGREGATE(15,6,(ROW(OrderRange_Ref)-ROW($L$19))/(OFFSET(OrderRange_Ref,,1)>0),ROWS($L$20:$L231)-OFFSET(Cumulative,,0)),IF(OFFSET(Cumulative,,2)>(ROW()-ROW($O$20)),_xlfn.AGGREGATE(15,6,(ROW(OrderRange_Ref)-ROW($L$19))/(OFFSET(OrderRange_Ref,,2)>0),ROWS($L$20:$L231)-OFFSET(Cumulative,,1)),IF(OFFSET(Cumulative,,3)>(ROW()-ROW($O$20)),_xlfn.AGGREGATE(15,6,(ROW(OrderRange_Ref)-ROW($L$19))/(OFFSET(OrderRange_Ref,,3)>0),ROWS($L$20:$L231)-OFFSET(Cumulative,,2)),IF(OFFSET(Cumulative,,4)>(ROW()-ROW($O$20)),_xlfn.AGGREGATE(15,6,(ROW(OrderRange_Ref)-ROW($L$19))/(OFFSET(OrderRange_Ref,,4)>0),ROWS($L$20:$L231)-OFFSET(Cumulative,,3)),IF(OFFSET(Cumulative,,5)>(ROW()-ROW($O$20)),_xlfn.AGGREGATE(15,6,(ROW(OrderRange_Ref)-ROW($L$19))/(OFFSET(OrderRange_Ref,,5)>0),ROWS($L$20:$L231)-OFFSET(Cumulative,,4)),\"\"))))))","v":""},"","","","",{"$f":"IF($N231=\"\",\"\",ROUND(SUMPRODUCT((LEFT(Transaction[Route],Branch_Digit)=RIGHT(BranchCode,Branch_Digit))*(Transaction[Type]=\"เบิก\")*(Transaction[Products]='Factory_Order Frm'!$R231)*(Transaction[Date]=$O231)*(Transaction[Qty In-Out]))/PcsPerTray,0))","v":""},{"$f":"IF($N231=\"\",\"\",MOD(SUMPRODUCT((LEFT(Transaction[Route],Branch_Digit)=RIGHT(BranchCode,Branch_Digit))*(Transaction[Type]=\"เบิก\")*(Transaction[Products]='Factory_Order Frm'!$R231)*(Transaction[Date]=$O231)*(Transaction[Qty In-Out])),PcsPerTray))","v":""}]
[null,null,null,null,null,null,null,null,null,null,null,null,null,{"$f":"IF(Cumulative>(ROW()-ROW($O$20)),_xlfn.AGGREGATE(15,6,(ROW(OrderRange_Ref)-ROW($L$19))/(OFFSET(OrderRange_Ref,,0)>0),ROWS($L$20:$L232)),IF(OFFSET(Cumulative,,1)>(ROW()-ROW($O$20)),_xlfn.AGGREGATE(15,6,(ROW(OrderRange_Ref)-ROW($L$19))/(OFFSET(OrderRange_Ref,,1)>0),ROWS($L$20:$L232)-OFFSET(Cumulative,,0)),IF(OFFSET(Cumulative,,2)>(ROW()-ROW($O$20)),_xlfn.AGGREGATE(15,6,(ROW(OrderRange_Ref)-ROW($L$19))/(OFFSET(OrderRange_Ref,,2)>0),ROWS($L$20:$L232)-OFFSET(Cumulative,,1)),IF(OFFSET(Cumulative,,3)>(ROW()-ROW($O$20)),_xlfn.AGGREGATE(15,6,(ROW(OrderRange_Ref)-ROW($L$19))/(OFFSET(OrderRange_Ref,,3)>0),ROWS($L$20:$L232)-OFFSET(Cumulative,,2)),IF(OFFSET(Cumulative,,4)>(ROW()-ROW($O$20)),_xlfn.AGGREGATE(15,6,(ROW(OrderRange_Ref)-ROW($L$19))/(OFFSET(OrderRange_Ref,,4)>0),ROWS($L$20:$L232)-OFFSET(Cumulative,,3)),IF(OFFSET(Cumulative,,5)>(ROW()-ROW($O$20)),_xlfn.AGGREGATE(15,6,(ROW(OrderRange_Ref)-ROW($L$19))/(OFFSET(OrderRange_Ref,,5)>0),ROWS($L$20:$L232)-OFFSET(Cumulative,,4)),\"\"))))))","v":""},"","","","",{"$f":"IF($N232=\"\",\"\",ROUND(SUMPRODUCT((LEFT(Transaction[Route],Branch_Digit)=RIGHT(BranchCode,Branch_Digit))*(Transaction[Type]=\"เบิก\")*(Transaction[Products]='Factory_Order Frm'!$R232)*(Transaction[Date]=$O232)*(Transaction[Qty In-Out]))/PcsPerTray,0))","v":""},{"$f":"IF($N232=\"\",\"\",MOD(SUMPRODUCT((LEFT(Transaction[Route],Branch_Digit)=RIGHT(BranchCode,Branch_Digit))*(Transaction[Type]=\"เบิก\")*(Transaction[Products]='Factory_Order Frm'!$R232)*(Transaction[Date]=$O232)*(Transaction[Qty In-Out])),PcsPerTray))","v":""}]
[null,null,null,null,null,null,null,null,null,null,null,null,null,{"$f":"IF(Cumulative>(ROW()-ROW($O$20)),_xlfn.AGGREGATE(15,6,(ROW(OrderRange_Ref)-ROW($L$19))/(OFFSET(OrderRange_Ref,,0)>0),ROWS($L$20:$L233)),IF(OFFSET(Cumulative,,1)>(ROW()-ROW($O$20)),_xlfn.AGGREGATE(15,6,(ROW(OrderRange_Ref)-ROW($L$19))/(OFFSET(OrderRange_Ref,,1)>0),ROWS($L$20:$L233)-OFFSET(Cumulative,,0)),IF(OFFSET(Cumulative,,2)>(ROW()-ROW($O$20)),_xlfn.AGGREGATE(15,6,(ROW(OrderRange_Ref)-ROW($L$19))/(OFFSET(OrderRange_Ref,,2)>0),ROWS($L$20:$L233)-OFFSET(Cumulative,,1)),IF(OFFSET(Cumulative,,3)>(ROW()-ROW($O$20)),_xlfn.AGGREGATE(15,6,(ROW(OrderRange_Ref)-ROW($L$19))/(OFFSET(OrderRange_Ref,,3)>0),ROWS($L$20:$L233)-OFFSET(Cumulative,,2)),IF(OFFSET(Cumulative,,4)>(ROW()-ROW($O$20)),_xlfn.AGGREGATE(15,6,(ROW(OrderRange_Ref)-ROW($L$19))/(OFFSET(OrderRange_Ref,,4)>0),ROWS($L$20:$L233)-OFFSET(Cumulative,,3)),IF(OFFSET(Cumulative,,5)>(ROW()-ROW($O$20)),_xlfn.AGGREGATE(15,6,(ROW(OrderRange_Ref)-ROW($L$19))/(OFFSET(OrderRange_Ref,,5)>0),ROWS($L$20:$L233)-OFFSET(Cumulative,,4)),\"\"))))))","v":""},"","","","",{"$f":"IF($N233=\"\",\"\",ROUND(SUMPRODUCT((LEFT(Transaction[Route],Branch_Digit)=RIGHT(BranchCode,Branch_Digit))*(Transaction[Type]=\"เบิก\")*(Transaction[Products]='Factory_Order Frm'!$R233)*(Transaction[Date]=$O233)*(Transaction[Qty In-Out]))/PcsPerTray,0))","v":""},{"$f":"IF($N233=\"\",\"\",MOD(SUMPRODUCT((LEFT(Transaction[Route],Branch_Digit)=RIGHT(BranchCode,Branch_Digit))*(Transaction[Type]=\"เบิก\")*(Transaction[Products]='Factory_Order Frm'!$R233)*(Transaction[Date]=$O233)*(Transaction[Qty In-Out])),PcsPerTray))","v":""}]
[null,null,null,null,null,null,null,null,null,null,null,null,null,{"$f":"IF(Cumulative>(ROW()-ROW($O$20)),_xlfn.AGGREGATE(15,6,(ROW(OrderRange_Ref)-ROW($L$19))/(OFFSET(OrderRange_Ref,,0)>0),ROWS($L$20:$L234)),IF(OFFSET(Cumulative,,1)>(ROW()-ROW($O$20)),_xlfn.AGGREGATE(15,6,(ROW(OrderRange_Ref)-ROW($L$19))/(OFFSET(OrderRange_Ref,,1)>0),ROWS($L$20:$L234)-OFFSET(Cumulative,,0)),IF(OFFSET(Cumulative,,2)>(ROW()-ROW($O$20)),_xlfn.AGGREGATE(15,6,(ROW(OrderRange_Ref)-ROW($L$19))/(OFFSET(OrderRange_Ref,,2)>0),ROWS($L$20:$L234)-OFFSET(Cumulative,,1)),IF(OFFSET(Cumulative,,3)>(ROW()-ROW($O$20)),_xlfn.AGGREGATE(15,6,(ROW(OrderRange_Ref)-ROW($L$19))/(OFFSET(OrderRange_Ref,,3)>0),ROWS($L$20:$L234)-OFFSET(Cumulative,,2)),IF(OFFSET(Cumulative,,4)>(ROW()-ROW($O$20)),_xlfn.AGGREGATE(15,6,(ROW(OrderRange_Ref)-ROW($L$19))/(OFFSET(OrderRange_Ref,,4)>0),ROWS($L$20:$L234)-OFFSET(Cumulative,,3)),IF(OFFSET(Cumulative,,5)>(ROW()-ROW($O$20)),_xlfn.AGGREGATE(15,6,(ROW(OrderRange_Ref)-ROW($L$19))/(OFFSET(OrderRange_Ref,,5)>0),ROWS($L$20:$L234)-OFFSET(Cumulative,,4)),\"\"))))))","v":""},"","","","",{"$f":"IF($N234=\"\",\"\",ROUND(SUMPRODUCT((LEFT(Transaction[Route],Branch_Digit)=RIGHT(BranchCode,Branch_Digit))*(Transaction[Type]=\"เบิก\")*(Transaction[Products]='Factory_Order Frm'!$R234)*(Transaction[Date]=$O234)*(Transaction[Qty In-Out]))/PcsPerTray,0))","v":""},{"$f":"IF($N234=\"\",\"\",MOD(SUMPRODUCT((LEFT(Transaction[Route],Branch_Digit)=RIGHT(BranchCode,Branch_Digit))*(Transaction[Type]=\"เบิก\")*(Transaction[Products]='Factory_Order Frm'!$R234)*(Transaction[Date]=$O234)*(Transaction[Qty In-Out])),PcsPerTray))","v":""}]
[null,null,null,null,null,null,null,null,null,null,null,null,null,{"$f":"IF(Cumulative>(ROW()-ROW($O$20)),_xlfn.AGGREGATE(15,6,(ROW(OrderRange_Ref)-ROW($L$19))/(OFFSET(OrderRange_Ref,,0)>0),ROWS($L$20:$L235)),IF(OFFSET(Cumulative,,1)>(ROW()-ROW($O$20)),_xlfn.AGGREGATE(15,6,(ROW(OrderRange_Ref)-ROW($L$19))/(OFFSET(OrderRange_Ref,,1)>0),ROWS($L$20:$L235)-OFFSET(Cumulative,,0)),IF(OFFSET(Cumulative,,2)>(ROW()-ROW($O$20)),_xlfn.AGGREGATE(15,6,(ROW(OrderRange_Ref)-ROW($L$19))/(OFFSET(OrderRange_Ref,,2)>0),ROWS($L$20:$L235)-OFFSET(Cumulative,,1)),IF(OFFSET(Cumulative,,3)>(ROW()-ROW($O$20)),_xlfn.AGGREGATE(15,6,(ROW(OrderRange_Ref)-ROW($L$19))/(OFFSET(OrderRange_Ref,,3)>0),ROWS($L$20:$L235)-OFFSET(Cumulative,,2)),IF(OFFSET(Cumulative,,4)>(ROW()-ROW($O$20)),_xlfn.AGGREGATE(15,6,(ROW(OrderRange_Ref)-ROW($L$19))/(OFFSET(OrderRange_Ref,,4)>0),ROWS($L$20:$L235)-OFFSET(Cumulative,,3)),IF(OFFSET(Cumulative,,5)>(ROW()-ROW($O$20)),_xlfn.AGGREGATE(15,6,(ROW(OrderRange_Ref)-ROW($L$19))/(OFFSET(OrderRange_Ref,,5)>0),ROWS($L$20:$L235)-OFFSET(Cumulative,,4)),\"\"))))))","v":""},"","","","",{"$f":"IF($N235=\"\",\"\",ROUND(SUMPRODUCT((LEFT(Transaction[Route],Branch_Digit)=RIGHT(BranchCode,Branch_Digit))*(Transaction[Type]=\"เบิก\")*(Transaction[Products]='Factory_Order Frm'!$R235)*(Transaction[Date]=$O235)*(Transaction[Qty In-Out]))/PcsPerTray,0))","v":""},{"$f":"IF($N235=\"\",\"\",MOD(SUMPRODUCT((LEFT(Transaction[Route],Branch_Digit)=RIGHT(BranchCode,Branch_Digit))*(Transaction[Type]=\"เบิก\")*(Transaction[Products]='Factory_Order Frm'!$R235)*(Transaction[Date]=$O235)*(Transaction[Qty In-Out])),PcsPerTray))","v":""}]
[null,null,null,null,null,null,null,null,null,null,null,null,null,{"$f":"IF(Cumulative>(ROW()-ROW($O$20)),_xlfn.AGGREGATE(15,6,(ROW(OrderRange_Ref)-ROW($L$19))/(OFFSET(OrderRange_Ref,,0)>0),ROWS($L$20:$L236)),IF(OFFSET(Cumulative,,1)>(ROW()-ROW($O$20)),_xlfn.AGGREGATE(15,6,(ROW(OrderRange_Ref)-ROW($L$19))/(OFFSET(OrderRange_Ref,,1)>0),ROWS($L$20:$L236)-OFFSET(Cumulative,,0)),IF(OFFSET(Cumulative,,2)>(ROW()-ROW($O$20)),_xlfn.AGGREGATE(15,6,(ROW(OrderRange_Ref)-ROW($L$19))/(OFFSET(OrderRange_Ref,,2)>0),ROWS($L$20:$L236)-OFFSET(Cumulative,,1)),IF(OFFSET(Cumulative,,3)>(ROW()-ROW($O$20)),_xlfn.AGGREGATE(15,6,(ROW(OrderRange_Ref)-ROW($L$19))/(OFFSET(OrderRange_Ref,,3)>0),ROWS($L$20:$L236)-OFFSET(Cumulative,,2)),IF(OFFSET(Cumulative,,4)>(ROW()-ROW($O$20)),_xlfn.AGGREGATE(15,6,(ROW(OrderRange_Ref)-ROW($L$19))/(OFFSET(OrderRange_Ref,,4)>0),ROWS($L$20:$L236)-OFFSET(Cumulative,,3)),IF(OFFSET(Cumulative,,5)>(ROW()-ROW($O$20)),_xlfn.AGGREGATE(15,6,(ROW(OrderRange_Ref)-ROW($L$19))/(OFFSET(OrderRange_Ref,,5)>0),ROWS($L$20:$L236)-OFFSET(Cumulative,,4)),\"\"))))))","v":""},"","","","",{"$f":"IF($N236=\"\",\"\",ROUND(SUMPRODUCT((LEFT(Transaction[Route],Branch_Digit)=RIGHT(BranchCode,Branch_Digit))*(Transaction[Type]=\"เบิก\")*(Transaction[Products]='Factory_Order Frm'!$R236)*(Transaction[Date]=$O236)*(Transaction[Qty In-Out]))/PcsPerTray,0))","v":""},{"$f":"IF($N236=\"\",\"\",MOD(SUMPRODUCT((LEFT(Transaction[Route],Branch_Digit)=RIGHT(BranchCode,Branch_Digit))*(Transaction[Type]=\"เบิก\")*(Transaction[Products]='Factory_Order Frm'!$R236)*(Transaction[Date]=$O236)*(Transaction[Qty In-Out])),PcsPerTray))","v":""}]
[null,null,null,null,null,null,null,null,null,null,null,null,null,{"$f":"IF(Cumulative>(ROW()-ROW($O$20)),_xlfn.AGGREGATE(15,6,(ROW(OrderRange_Ref)-ROW($L$19))/(OFFSET(OrderRange_Ref,,0)>0),ROWS($L$20:$L237)),IF(OFFSET(Cumulative,,1)>(ROW()-ROW($O$20)),_xlfn.AGGREGATE(15,6,(ROW(OrderRange_Ref)-ROW($L$19))/(OFFSET(OrderRange_Ref,,1)>0),ROWS($L$20:$L237)-OFFSET(Cumulative,,0)),IF(OFFSET(Cumulative,,2)>(ROW()-ROW($O$20)),_xlfn.AGGREGATE(15,6,(ROW(OrderRange_Ref)-ROW($L$19))/(OFFSET(OrderRange_Ref,,2)>0),ROWS($L$20:$L237)-OFFSET(Cumulative,,1)),IF(OFFSET(Cumulative,,3)>(ROW()-ROW($O$20)),_xlfn.AGGREGATE(15,6,(ROW(OrderRange_Ref)-ROW($L$19))/(OFFSET(OrderRange_Ref,,3)>0),ROWS($L$20:$L237)-OFFSET(Cumulative,,2)),IF(OFFSET(Cumulative,,4)>(ROW()-ROW($O$20)),_xlfn.AGGREGATE(15,6,(ROW(OrderRange_Ref)-ROW($L$19))/(OFFSET(OrderRange_Ref,,4)>0),ROWS($L$20:$L237)-OFFSET(Cumulative,,3)),IF(OFFSET(Cumulative,,5)>(ROW()-ROW($O$20)),_xlfn.AGGREGATE(15,6,(ROW(OrderRange_Ref)-ROW($L$19))/(OFFSET(OrderRange_Ref,,5)>0),ROWS($L$20:$L237)-OFFSET(Cumulative,,4)),\"\"))))))","v":""},"","","","",{"$f":"IF($N237=\"\",\"\",ROUND(SUMPRODUCT((LEFT(Transaction[Route],Branch_Digit)=RIGHT(BranchCode,Branch_Digit))*(Transaction[Type]=\"เบิก\")*(Transaction[Products]='Factory_Order Frm'!$R237)*(Transaction[Date]=$O237)*(Transaction[Qty In-Out]))/PcsPerTray,0))","v":""},{"$f":"IF($N237=\"\",\"\",MOD(SUMPRODUCT((LEFT(Transaction[Route],Branch_Digit)=RIGHT(BranchCode,Branch_Digit))*(Transaction[Type]=\"เบิก\")*(Transaction[Products]='Factory_Order Frm'!$R237)*(Transaction[Date]=$O237)*(Transaction[Qty In-Out])),PcsPerTray))","v":""}]
[null,null,null,null,null,null,null,null,null,null,null,null,null,{"$f":"IF(Cumulative>(ROW()-ROW($O$20)),_xlfn.AGGREGATE(15,6,(ROW(OrderRange_Ref)-ROW($L$19))/(OFFSET(OrderRange_Ref,,0)>0),ROWS($L$20:$L238)),IF(OFFSET(Cumulative,,1)>(ROW()-ROW($O$20)),_xlfn.AGGREGATE(15,6,(ROW(OrderRange_Ref)-ROW($L$19))/(OFFSET(OrderRange_Ref,,1)>0),ROWS($L$20:$L238)-OFFSET(Cumulative,,0)),IF(OFFSET(Cumulative,,2)>(ROW()-ROW($O$20)),_xlfn.AGGREGATE(15,6,(ROW(OrderRange_Ref)-ROW($L$19))/(OFFSET(OrderRange_Ref,,2)>0),ROWS($L$20:$L238)-OFFSET(Cumulative,,1)),IF(OFFSET(Cumulative,,3)>(ROW()-ROW($O$20)),_xlfn.AGGREGATE(15,6,(ROW(OrderRange_Ref)-ROW($L$19))/(OFFSET(OrderRange_Ref,,3)>0),ROWS($L$20:$L238)-OFFSET(Cumulative,,2)),IF(OFFSET(Cumulative,,4)>(ROW()-ROW($O$20)),_xlfn.AGGREGATE(15,6,(ROW(OrderRange_Ref)-ROW($L$19))/(OFFSET(OrderRange_Ref,,4)>0),ROWS($L$20:$L238)-OFFSET(Cumulative,,3)),IF(OFFSET(Cumulative,,5)>(ROW()-ROW($O$20)),_xlfn.AGGREGATE(15,6,(ROW(OrderRange_Ref)-ROW($L$19))/(OFFSET(OrderRange_Ref,,5)>0),ROWS($L$20:$L238)-OFFSET(Cumulative,,4)),\"\"))))))","v":""},"","","","",{"$f":"IF($N238=\"\",\"\",ROUND(SUMPRODUCT((LEFT(Transaction[Route],Branch_Digit)=RIGHT(BranchCode,Branch_Digit))*(Transaction[Type]=\"เบิก\")*(Transaction[Products]='Factory_Order Frm'!$R238)*(Transaction[Date]=$O238)*(Transaction[Qty In-Out]))/PcsPerTray,0))","v":""},{"$f":"IF($N238=\"\",\"\",MOD(SUMPRODUCT((LEFT(Transaction[Route],Branch_Digit)=RIGHT(BranchCode,Branch_Digit))*(Transaction[Type]=\"เบิก\")*(Transaction[Products]='Factory_Order Frm'!$R238)*(Transaction[Date]=$O238)*(Transaction[Qty In-Out])),PcsPerTray))","v":""}]
[null,null,null,null,null,null,null,null,null,null,null,null,null,{"$f":"IF(Cumulative>(ROW()-ROW($O$20)),_xlfn.AGGREGATE(15,6,(ROW(OrderRange_Ref)-ROW($L$19))/(OFFSET(OrderRange_Ref,,0)>0),ROWS($L$20:$L239)),IF(OFFSET(Cumulative,,1)>(ROW()-ROW($O$20)),_xlfn.AGGREGATE(15,6,(ROW(OrderRange_Ref)-ROW($L$19))/(OFFSET(OrderRange_Ref,,1)>0),ROWS($L$20:$L239)-OFFSET(Cumulative,,0)),IF(OFFSET(Cumulative,,2)>(ROW()-ROW($O$20)),_xlfn.AGGREGATE(15,6,(ROW(OrderRange_Ref)-ROW($L$19))/(OFFSET(OrderRange_Ref,,2)>0),ROWS($L$20:$L239)-OFFSET(Cumulative,,1)),IF(OFFSET(Cumulative,,3)>(ROW()-ROW($O$20)),_xlfn.AGGREGATE(15,6,(ROW(OrderRange_Ref)-ROW($L$19))/(OFFSET(OrderRange_Ref,,3)>0),ROWS($L$20:$L239)-OFFSET(Cumulative,,2)),IF(OFFSET(Cumulative,,4)>(ROW()-ROW($O$20)),_xlfn.AGGREGATE(15,6,(ROW(OrderRange_Ref)-ROW($L$19))/(OFFSET(OrderRange_Ref,,4)>0),ROWS($L$20:$L239)-OFFSET(Cumulative,,3)),IF(OFFSET(Cumulative,,5)>(ROW()-ROW($O$20)),_xlfn.AGGREGATE(15,6,(ROW(OrderRange_Ref)-ROW($L$19))/(OFFSET(OrderRange_Ref,,5)>0),ROWS($L$20:$L239)-OFFSET(Cumulative,,4)),\"\"))))))","v":""},"","","","",{"$f":"IF($N239=\"\",\"\",ROUND(SUMPRODUCT((LEFT(Transaction[Route],Branch_Digit)=RIGHT(BranchCode,Branch_Digit))*(Transaction[Type]=\"เบิก\")*(Transaction[Products]='Factory_Order Frm'!$R239)*(Transaction[Date]=$O239)*(Transaction[Qty In-Out]))/PcsPerTray,0))","v":""},{"$f":"IF($N239=\"\",\"\",MOD(SUMPRODUCT((LEFT(Transaction[Route],Branch_Digit)=RIGHT(BranchCode,Branch_Digit))*(Transaction[Type]=\"เบิก\")*(Transaction[Products]='Factory_Order Frm'!$R239)*(Transaction[Date]=$O239)*(Transaction[Qty In-Out])),PcsPerTray))","v":""}]
[null,null,null,null,null,null,null,null,null,null,null,null,null,{"$f":"IF(Cumulative>(ROW()-ROW($O$20)),_xlfn.AGGREGATE(15,6,(ROW(OrderRange_Ref)-ROW($L$19))/(OFFSET(OrderRange_Ref,,0)>0),ROWS($L$20:$L240)),IF(OFFSET(Cumulative,,1)>(ROW()-ROW($O$20)),_xlfn.AGGREGATE(15,6,(ROW(OrderRange_Ref)-ROW($L$19))/(OFFSET(OrderRange_Ref,,1)>0),ROWS($L$20:$L240)-OFFSET(Cumulative,,0)),IF(OFFSET(Cumulative,,2)>(ROW()-ROW($O$20)),_xlfn.AGGREGATE(15,6,(ROW(OrderRange_Ref)-ROW($L$19))/(OFFSET(OrderRange_Ref,,2)>0),ROWS($L$20:$L240)-OFFSET(Cumulative,,1)),IF(OFFSET(Cumulative,,3)>(ROW()-ROW($O$20)),_xlfn.AGGREGATE(15,6,(ROW(OrderRange_Ref)-ROW($L$19))/(OFFSET(OrderRange_Ref,,3)>0),ROWS($L$20:$L240)-OFFSET(Cumulative,,2)),IF(OFFSET(Cumulative,,4)>(ROW()-ROW($O$20)),_xlfn.AGGREGATE(15,6,(ROW(OrderRange_Ref)-ROW($L$19))/(OFFSET(OrderRange_Ref,,4)>0),ROWS($L$20:$L240)-OFFSET(Cumulative,,3)),IF(OFFSET(Cumulative,,5)>(ROW()-ROW($O$20)),_xlfn.AGGREGATE(15,6,(ROW(OrderRange_Ref)-ROW($L$19))/(OFFSET(OrderRange_Ref,,5)>0),ROWS($L$20:$L240)-OFFSET(Cumulative,,4)),\"\"))))))","v":""},"","","","",{"$f":"IF($N240=\"\",\"\",ROUND(SUMPRODUCT((LEFT(Transaction[Route],Branch_Digit)=RIGHT(BranchCode,Branch_Digit))*(Transaction[Type]=\"เบิก\")*(Transaction[Products]='Factory_Order Frm'!$R240)*(Transaction[Date]=$O240)*(Transaction[Qty In-Out]))/PcsPerTray,0))","v":""},{"$f":"IF($N240=\"\",\"\",MOD(SUMPRODUCT((LEFT(Transaction[Route],Branch_Digit)=RIGHT(BranchCode,Branch_Digit))*(Transaction[Type]=\"เบิก\")*(Transaction[Products]='Factory_Order Frm'!$R240)*(Transaction[Date]=$O240)*(Transaction[Qty In-Out])),PcsPerTray))","v":""}]
[null,null,null,null,null,null,null,null,null,null,null,null,null,{"$f":"IF(Cumulative>(ROW()-ROW($O$20)),_xlfn.AGGREGATE(15,6,(ROW(OrderRange_Ref)-ROW($L$19))/(OFFSET(OrderRange_Ref,,0)>0),ROWS($L$20:$L241)),IF(OFFSET(Cumulative,,1)>(ROW()-ROW($O$20)),_xlfn.AGGREGATE(15,6,(ROW(OrderRange_Ref)-ROW($L$19))/(OFFSET(OrderRange_Ref,,1)>0),ROWS($L$20:$L241)-OFFSET(Cumulative,,0)),IF(OFFSET(Cumulative,,2)>(ROW()-ROW($O$20)),_xlfn.AGGREGATE(15,6,(ROW(OrderRange_Ref)-ROW($L$19))/(OFFSET(OrderRange_Ref,,2)>0),ROWS($L$20:$L241)-OFFSET(Cumulative,,1)),IF(OFFSET(Cumulative,,3)>(ROW()-ROW($O$20)),_xlfn.AGGREGATE(15,6,(ROW(OrderRange_Ref)-ROW($L$19))/(OFFSET(OrderRange_Ref,,3)>0),ROWS($L$20:$L241)-OFFSET(Cumulative,,2)),IF(OFFSET(Cumulative,,4)>(ROW()-ROW($O$20)),_xlfn.AGGREGATE(15,6,(ROW(OrderRange_Ref)-ROW($L$19))/(OFFSET(OrderRange_Ref,,4)>0),ROWS($L$20:$L241)-OFFSET(Cumulative,,3)),IF(OFFSET(Cumulative,,5)>(ROW()-ROW($O$20)),_xlfn.AGGREGATE(15,6,(ROW(OrderRange_Ref)-ROW($L$19))/(OFFSET(OrderRange_Ref,,5)>0),ROWS($L$20:$L241)-OFFSET(Cumulative,,4)),\"\"))))))","v":""},"","","","",{"$f":"IF($N241=\"\",\"\",ROUND(SUMPRODUCT((LEFT(Transaction[Route],Branch_Digit)=RIGHT(BranchCode,Branch_Digit))*(Transaction[Type]=\"เบิก\")*(Transaction[Products]='Factory_Order Frm'!$R241)*(Transaction[Date]=$O241)*(Transaction[Qty In-Out]))/PcsPerTray,0))","v":""},{"$f":"IF($N241=\"\",\"\",MOD(SUMPRODUCT((LEFT(Transaction[Route],Branch_Digit)=RIGHT(BranchCode,Branch_Digit))*(Transaction[Type]=\"เบิก\")*(Transaction[Products]='Factory_Order Frm'!$R241)*(Transaction[Date]=$O241)*(Transaction[Qty In-Out])),PcsPerTray))","v":""}]
[null,null,null,null,null,null,null,null,null,null,null,null,null,{"$f":"IF(Cumulative>(ROW()-ROW($O$20)),_xlfn.AGGREGATE(15,6,(ROW(OrderRange_Ref)-ROW($L$19))/(OFFSET(OrderRange_Ref,,0)>0),ROWS($L$20:$L242)),IF(OFFSET(Cumulative,,1)>(ROW()-ROW($O$20)),_xlfn.AGGREGATE(15,6,(ROW(OrderRange_Ref)-ROW($L$19))/(OFFSET(OrderRange_Ref,,1)>0),ROWS($L$20:$L242)-OFFSET(Cumulative,,0)),IF(OFFSET(Cumulative,,2)>(ROW()-ROW($O$20)),_xlfn.AGGREGATE(15,6,(ROW(OrderRange_Ref)-ROW($L$19))/(OFFSET(OrderRange_Ref,,2)>0),ROWS($L$20:$L242)-OFFSET(Cumulative,,1)),IF(OFFSET(Cumulative,,3)>(ROW()-ROW($O$20)),_xlfn.AGGREGATE(15,6,(ROW(OrderRange_Ref)-ROW($L$19))/(OFFSET(OrderRange_Ref,,3)>0),ROWS($L$20:$L242)-OFFSET(Cumulative,,2)),IF(OFFSET(Cumulative,,4)>(ROW()-ROW($O$20)),_xlfn.AGGREGATE(15,6,(ROW(OrderRange_Ref)-ROW($L$19))/(OFFSET(OrderRange_Ref,,4)>0),ROWS($L$20:$L242)-OFFSET(Cumulative,,3)),IF(OFFSET(Cumulative,,5)>(ROW()-ROW($O$20)),_xlfn.AGGREGATE(15,6,(ROW(OrderRange_Ref)-ROW($L$19))/(OFFSET(OrderRange_Ref,,5)>0),ROWS($L$20:$L242)-OFFSET(Cumulative,,4)),\"\"))))))","v":""},"","","","",{"$f":"IF($N242=\"\",\"\",ROUND(SUMPRODUCT((LEFT(Transaction[Route],Branch_Digit)=RIGHT(BranchCode,Branch_Digit))*(Transaction[Type]=\"เบิก\")*(Transaction[Products]='Factory_Order Frm'!$R242)*(Transaction[Date]=$O242)*(Transaction[Qty In-Out]))/PcsPerTray,0))","v":""},{"$f":"IF($N242=\"\",\"\",MOD(SUMPRODUCT((LEFT(Transaction[Route],Branch_Digit)=RIGHT(BranchCode,Branch_Digit))*(Transaction[Type]=\"เบิก\")*(Transaction[Products]='Factory_Order Frm'!$R242)*(Transaction[Date]=$O242)*(Transaction[Qty In-Out])),PcsPerTray))","v":""}]
[null,null,null,null,null,null,null,null,null,null,null,null,null,{"$f":"IF(Cumulative>(ROW()-ROW($O$20)),_xlfn.AGGREGATE(15,6,(ROW(OrderRange_Ref)-ROW($L$19))/(OFFSET(OrderRange_Ref,,0)>0),ROWS($L$20:$L243)),IF(OFFSET(Cumulative,,1)>(ROW()-ROW($O$20)),_xlfn.AGGREGATE(15,6,(ROW(OrderRange_Ref)-ROW($L$19))/(OFFSET(OrderRange_Ref,,1)>0),ROWS($L$20:$L243)-OFFSET(Cumulative,,0)),IF(OFFSET(Cumulative,,2)>(ROW()-ROW($O$20)),_xlfn.AGGREGATE(15,6,(ROW(OrderRange_Ref)-ROW($L$19))/(OFFSET(OrderRange_Ref,,2)>0),ROWS($L$20:$L243)-OFFSET(Cumulative,,1)),IF(OFFSET(Cumulative,,3)>(ROW()-ROW($O$20)),_xlfn.AGGREGATE(15,6,(ROW(OrderRange_Ref)-ROW($L$19))/(OFFSET(OrderRange_Ref,,3)>0),ROWS($L$20:$L243)-OFFSET(Cumulative,,2)),IF(OFFSET(Cumulative,,4)>(ROW()-ROW($O$20)),_xlfn.AGGREGATE(15,6,(ROW(OrderRange_Ref)-ROW($L$19))/(OFFSET(OrderRange_Ref,,4)>0),ROWS($L$20:$L243)-OFFSET(Cumulative,,3)),IF(OFFSET(Cumulative,,5)>(ROW()-ROW($O$20)),_xlfn.AGGREGATE(15,6,(ROW(OrderRange_Ref)-ROW($L$19))/(OFFSET(OrderRange_Ref,,5)>0),ROWS($L$20:$L243)-OFFSET(Cumulative,,4)),\"\"))))))","v":""},"","","","",{"$f":"IF($N243=\"\",\"\",ROUND(SUMPRODUCT((LEFT(Transaction[Route],Branch_Digit)=RIGHT(BranchCode,Branch_Digit))*(Transaction[Type]=\"เบิก\")*(Transaction[Products]='Factory_Order Frm'!$R243)*(Transaction[Date]=$O243)*(Transaction[Qty In-Out]))/PcsPerTray,0))","v":""},{"$f":"IF($N243=\"\",\"\",MOD(SUMPRODUCT((LEFT(Transaction[Route],Branch_Digit)=RIGHT(BranchCode,Branch_Digit))*(Transaction[Type]=\"เบิก\")*(Transaction[Products]='Factory_Order Frm'!$R243)*(Transaction[Date]=$O243)*(Transaction[Qty In-Out])),PcsPerTray))","v":""}]
[null,null,null,null,null,null,null,null,null,null,null,null,null,{"$f":"IF(Cumulative>(ROW()-ROW($O$20)),_xlfn.AGGREGATE(15,6,(ROW(OrderRange_Ref)-ROW($L$19))/(OFFSET(OrderRange_Ref,,0)>0),ROWS($L$20:$L244)),IF(OFFSET(Cumulative,,1)>(ROW()-ROW($O$20)),_xlfn.AGGREGATE(15,6,(ROW(OrderRange_Ref)-ROW($L$19))/(OFFSET(OrderRange_Ref,,1)>0),ROWS($L$20:$L244)-OFFSET(Cumulative,,0)),IF(OFFSET(Cumulative,,2)>(ROW()-ROW($O$20)),_xlfn.AGGREGATE(15,6,(ROW(OrderRange_Ref)-ROW($L$19))/(OFFSET(OrderRange_Ref,,2)>0),ROWS($L$20:$L244)-OFFSET(Cumulative,,1)),IF(OFFSET(Cumulative,,3)>(ROW()-ROW($O$20)),_xlfn.AGGREGATE(15,6,(ROW(OrderRange_Ref)-ROW($L$19))/(OFFSET(OrderRange_Ref,,3)>0),ROWS($L$20:$L244)-OFFSET(Cumulative,,2)),IF(OFFSET(Cumulative,,4)>(ROW()-ROW($O$20)),_xlfn.AGGREGATE(15,6,(ROW(OrderRange_Ref)-ROW($L$19))/(OFFSET(OrderRange_Ref,,4)>0),ROWS($L$20:$L244)-OFFSET(Cumulative,,3)),IF(OFFSET(Cumulative,,5)>(ROW()-ROW($O$20)),_xlfn.AGGREGATE(15,6,(ROW(OrderRange_Ref)-ROW($L$19))/(OFFSET(OrderRange_Ref,,5)>0),ROWS($L$20:$L244)-OFFSET(Cumulative,,4)),\"\"))))))","v":""},"","","","",{"$f":"IF($N244=\"\",\"\",ROUND(SUMPRODUCT((LEFT(Transaction[Route],Branch_Digit)=RIGHT(BranchCode,Branch_Digit))*(Transaction[Type]=\"เบิก\")*(Transaction[Products]='Factory_Order Frm'!$R244)*(Transaction[Date]=$O244)*(Transaction[Qty In-Out]))/PcsPerTray,0))","v":""},{"$f":"IF($N244=\"\",\"\",MOD(SUMPRODUCT((LEFT(Transaction[Route],Branch_Digit)=RIGHT(BranchCode,Branch_Digit))*(Transaction[Type]=\"เบิก\")*(Transaction[Products]='Factory_Order Frm'!$R244)*(Transaction[Date]=$O244)*(Transaction[Qty In-Out])),PcsPerTray))","v":""}]
[null,null,null,null,null,null,null,null,null,null,null,null,null,{"$f":"IF(Cumulative>(ROW()-ROW($O$20)),_xlfn.AGGREGATE(15,6,(ROW(OrderRange_Ref)-ROW($L$19))/(OFFSET(OrderRange_Ref,,0)>0),ROWS($L$20:$L245)),IF(OFFSET(Cumulative,,1)>(ROW()-ROW($O$20)),_xlfn.AGGREGATE(15,6,(ROW(OrderRange_Ref)-ROW($L$19))/(OFFSET(OrderRange_Ref,,1)>0),ROWS($L$20:$L245)-OFFSET(Cumulative,,0)),IF(OFFSET(Cumulative,,2)>(ROW()-ROW($O$20)),_xlfn.AGGREGATE(15,6,(ROW(OrderRange_Ref)-ROW($L$19))/(OFFSET(OrderRange_Ref,,2)>0),ROWS($L$20:$L245)-OFFSET(Cumulative,,1)),IF(OFFSET(Cumulative,,3)>(ROW()-ROW($O$20)),_xlfn.AGGREGATE(15,6,(ROW(OrderRange_Ref)-ROW($L$19))/(OFFSET(OrderRange_Ref,,3)>0),ROWS($L$20:$L245)-OFFSET(Cumulative,,2)),IF(OFFSET(Cumulative,,4)>(ROW()-ROW($O$20)),_xlfn.AGGREGATE(15,6,(ROW(OrderRange_Ref)-ROW($L$19))/(OFFSET(OrderRange_Ref,,4)>0),ROWS($L$20:$L245)-OFFSET(Cumulative,,3)),IF(OFFSET(Cumulative,,5)>(ROW()-ROW($O$20)),_xlfn.AGGREGATE(15,6,(ROW(OrderRange_Ref)-ROW($L$19))/(OFFSET(OrderRange_Ref,,5)>0),ROWS($L$20:$L245)-OFFSET(Cumulative,,4)),\"\"))))))","v":""},"","","","",{"$f":"IF($N245=\"\",\"\",ROUND(SUMPRODUCT((LEFT(Transaction[Route],Branch_Digit)=RIGHT(BranchCode,Branch_Digit))*(Transaction[Type]=\"เบิก\")*(Transaction[Products]='Factory_Order Frm'!$R245)*(Transaction[Date]=$O245)*(Transaction[Qty In-Out]))/PcsPerTray,0))","v":""},{"$f":"IF($N245=\"\",\"\",MOD(SUMPRODUCT((LEFT(Transaction[Route],Branch_Digit)=RIGHT(BranchCode,Branch_Digit))*(Transaction[Type]=\"เบิก\")*(Transaction[Products]='Factory_Order Frm'!$R245)*(Transaction[Date]=$O245)*(Transaction[Qty In-Out])),PcsPerTray))","v":""}]
[null,null,null,null,null,null,null,null,null,null,null,null,null,{"$f":"IF(Cumulative>(ROW()-ROW($O$20)),_xlfn.AGGREGATE(15,6,(ROW(OrderRange_Ref)-ROW($L$19))/(OFFSET(OrderRange_Ref,,0)>0),ROWS($L$20:$L246)),IF(OFFSET(Cumulative,,1)>(ROW()-ROW($O$20)),_xlfn.AGGREGATE(15,6,(ROW(OrderRange_Ref)-ROW($L$19))/(OFFSET(OrderRange_Ref,,1)>0),ROWS($L$20:$L246)-OFFSET(Cumulative,,0)),IF(OFFSET(Cumulative,,2)>(ROW()-ROW($O$20)),_xlfn.AGGREGATE(15,6,(ROW(OrderRange_Ref)-ROW($L$19))/(OFFSET(OrderRange_Ref,,2)>0),ROWS($L$20:$L246)-OFFSET(Cumulative,,1)),IF(OFFSET(Cumulative,,3)>(ROW()-ROW($O$20)),_xlfn.AGGREGATE(15,6,(ROW(OrderRange_Ref)-ROW($L$19))/(OFFSET(OrderRange_Ref,,3)>0),ROWS($L$20:$L246)-OFFSET(Cumulative,,2)),IF(OFFSET(Cumulative,,4)>(ROW()-ROW($O$20)),_xlfn.AGGREGATE(15,6,(ROW(OrderRange_Ref)-ROW($L$19))/(OFFSET(OrderRange_Ref,,4)>0),ROWS($L$20:$L246)-OFFSET(Cumulative,,3)),IF(OFFSET(Cumulative,,5)>(ROW()-ROW($O$20)),_xlfn.AGGREGATE(15,6,(ROW(OrderRange_Ref)-ROW($L$19))/(OFFSET(OrderRange_Ref,,5)>0),ROWS($L$20:$L246)-OFFSET(Cumulative,,4)),\"\"))))))","v":""},"","","","",{"$f":"IF($N246=\"\",\"\",ROUND(SUMPRODUCT((LEFT(Transaction[Route],Branch_Digit)=RIGHT(BranchCode,Branch_Digit))*(Transaction[Type]=\"เบิก\")*(Transaction[Products]='Factory_Order Frm'!$R246)*(Transaction[Date]=$O246)*(Transaction[Qty In-Out]))/PcsPerTray,0))","v":""},{"$f":"IF($N246=\"\",\"\",MOD(SUMPRODUCT((LEFT(Transaction[Route],Branch_Digit)=RIGHT(BranchCode,Branch_Digit))*(Transaction[Type]=\"เบิก\")*(Transaction[Products]='Factory_Order Frm'!$R246)*(Transaction[Date]=$O246)*(Transaction[Qty In-Out])),PcsPerTray))","v":""}]
[null,null,null,null,null,null,null,null,null,null,null,null,null,{"$f":"IF(Cumulative>(ROW()-ROW($O$20)),_xlfn.AGGREGATE(15,6,(ROW(OrderRange_Ref)-ROW($L$19))/(OFFSET(OrderRange_Ref,,0)>0),ROWS($L$20:$L247)),IF(OFFSET(Cumulative,,1)>(ROW()-ROW($O$20)),_xlfn.AGGREGATE(15,6,(ROW(OrderRange_Ref)-ROW($L$19))/(OFFSET(OrderRange_Ref,,1)>0),ROWS($L$20:$L247)-OFFSET(Cumulative,,0)),IF(OFFSET(Cumulative,,2)>(ROW()-ROW($O$20)),_xlfn.AGGREGATE(15,6,(ROW(OrderRange_Ref)-ROW($L$19))/(OFFSET(OrderRange_Ref,,2)>0),ROWS($L$20:$L247)-OFFSET(Cumulative,,1)),IF(OFFSET(Cumulative,,3)>(ROW()-ROW($O$20)),_xlfn.AGGREGATE(15,6,(ROW(OrderRange_Ref)-ROW($L$19))/(OFFSET(OrderRange_Ref,,3)>0),ROWS($L$20:$L247)-OFFSET(Cumulative,,2)),IF(OFFSET(Cumulative,,4)>(ROW()-ROW($O$20)),_xlfn.AGGREGATE(15,6,(ROW(OrderRange_Ref)-ROW($L$19))/(OFFSET(OrderRange_Ref,,4)>0),ROWS($L$20:$L247)-OFFSET(Cumulative,,3)),IF(OFFSET(Cumulative,,5)>(ROW()-ROW($O$20)),_xlfn.AGGREGATE(15,6,(ROW(OrderRange_Ref)-ROW($L$19))/(OFFSET(OrderRange_Ref,,5)>0),ROWS($L$20:$L247)-OFFSET(Cumulative,,4)),\"\"))))))","v":""},"","","","",{"$f":"IF($N247=\"\",\"\",ROUND(SUMPRODUCT((LEFT(Transaction[Route],Branch_Digit)=RIGHT(BranchCode,Branch_Digit))*(Transaction[Type]=\"เบิก\")*(Transaction[Products]='Factory_Order Frm'!$R247)*(Transaction[Date]=$O247)*(Transaction[Qty In-Out]))/PcsPerTray,0))","v":""},{"$f":"IF($N247=\"\",\"\",MOD(SUMPRODUCT((LEFT(Transaction[Route],Branch_Digit)=RIGHT(BranchCode,Branch_Digit))*(Transaction[Type]=\"เบิก\")*(Transaction[Products]='Factory_Order Frm'!$R247)*(Transaction[Date]=$O247)*(Transaction[Qty In-Out])),PcsPerTray))","v":""}]
[null,null,null,null,null,null,null,null,null,null,null,null,null,{"$f":"IF(Cumulative>(ROW()-ROW($O$20)),_xlfn.AGGREGATE(15,6,(ROW(OrderRange_Ref)-ROW($L$19))/(OFFSET(OrderRange_Ref,,0)>0),ROWS($L$20:$L248)),IF(OFFSET(Cumulative,,1)>(ROW()-ROW($O$20)),_xlfn.AGGREGATE(15,6,(ROW(OrderRange_Ref)-ROW($L$19))/(OFFSET(OrderRange_Ref,,1)>0),ROWS($L$20:$L248)-OFFSET(Cumulative,,0)),IF(OFFSET(Cumulative,,2)>(ROW()-ROW($O$20)),_xlfn.AGGREGATE(15,6,(ROW(OrderRange_Ref)-ROW($L$19))/(OFFSET(OrderRange_Ref,,2)>0),ROWS($L$20:$L248)-OFFSET(Cumulative,,1)),IF(OFFSET(Cumulative,,3)>(ROW()-ROW($O$20)),_xlfn.AGGREGATE(15,6,(ROW(OrderRange_Ref)-ROW($L$19))/(OFFSET(OrderRange_Ref,,3)>0),ROWS($L$20:$L248)-OFFSET(Cumulative,,2)),IF(OFFSET(Cumulative,,4)>(ROW()-ROW($O$20)),_xlfn.AGGREGATE(15,6,(ROW(OrderRange_Ref)-ROW($L$19))/(OFFSET(OrderRange_Ref,,4)>0),ROWS($L$20:$L248)-OFFSET(Cumulative,,3)),IF(OFFSET(Cumulative,,5)>(ROW()-ROW($O$20)),_xlfn.AGGREGATE(15,6,(ROW(OrderRange_Ref)-ROW($L$19))/(OFFSET(OrderRange_Ref,,5)>0),ROWS($L$20:$L248)-OFFSET(Cumulative,,4)),\"\"))))))","v":""},"","","","",{"$f":"IF($N248=\"\",\"\",ROUND(SUMPRODUCT((LEFT(Transaction[Route],Branch_Digit)=RIGHT(BranchCode,Branch_Digit))*(Transaction[Type]=\"เบิก\")*(Transaction[Products]='Factory_Order Frm'!$R248)*(Transaction[Date]=$O248)*(Transaction[Qty In-Out]))/PcsPerTray,0))","v":""},{"$f":"IF($N248=\"\",\"\",MOD(SUMPRODUCT((LEFT(Transaction[Route],Branch_Digit)=RIGHT(BranchCode,Branch_Digit))*(Transaction[Type]=\"เบิก\")*(Transaction[Products]='Factory_Order Frm'!$R248)*(Transaction[Date]=$O248)*(Transaction[Qty In-Out])),PcsPerTray))","v":""}]
[null,null,null,null,null,null,null,null,null,null,null,null,null,{"$f":"IF(Cumulative>(ROW()-ROW($O$20)),_xlfn.AGGREGATE(15,6,(ROW(OrderRange_Ref)-ROW($L$19))/(OFFSET(OrderRange_Ref,,0)>0),ROWS($L$20:$L249)),IF(OFFSET(Cumulative,,1)>(ROW()-ROW($O$20)),_xlfn.AGGREGATE(15,6,(ROW(OrderRange_Ref)-ROW($L$19))/(OFFSET(OrderRange_Ref,,1)>0),ROWS($L$20:$L249)-OFFSET(Cumulative,,0)),IF(OFFSET(Cumulative,,2)>(ROW()-ROW($O$20)),_xlfn.AGGREGATE(15,6,(ROW(OrderRange_Ref)-ROW($L$19))/(OFFSET(OrderRange_Ref,,2)>0),ROWS($L$20:$L249)-OFFSET(Cumulative,,1)),IF(OFFSET(Cumulative,,3)>(ROW()-ROW($O$20)),_xlfn.AGGREGATE(15,6,(ROW(OrderRange_Ref)-ROW($L$19))/(OFFSET(OrderRange_Ref,,3)>0),ROWS($L$20:$L249)-OFFSET(Cumulative,,2)),IF(OFFSET(Cumulative,,4)>(ROW()-ROW($O$20)),_xlfn.AGGREGATE(15,6,(ROW(OrderRange_Ref)-ROW($L$19))/(OFFSET(OrderRange_Ref,,4)>0),ROWS($L$20:$L249)-OFFSET(Cumulative,,3)),IF(OFFSET(Cumulative,,5)>(ROW()-ROW($O$20)),_xlfn.AGGREGATE(15,6,(ROW(OrderRange_Ref)-ROW($L$19))/(OFFSET(OrderRange_Ref,,5)>0),ROWS($L$20:$L249)-OFFSET(Cumulative,,4)),\"\"))))))","v":""},"","","","",{"$f":"IF($N249=\"\",\"\",ROUND(SUMPRODUCT((LEFT(Transaction[Route],Branch_Digit)=RIGHT(BranchCode,Branch_Digit))*(Transaction[Type]=\"เบิก\")*(Transaction[Products]='Factory_Order Frm'!$R249)*(Transaction[Date]=$O249)*(Transaction[Qty In-Out]))/PcsPerTray,0))","v":""},{"$f":"IF($N249=\"\",\"\",MOD(SUMPRODUCT((LEFT(Transaction[Route],Branch_Digit)=RIGHT(BranchCode,Branch_Digit))*(Transaction[Type]=\"เบิก\")*(Transaction[Products]='Factory_Order Frm'!$R249)*(Transaction[Date]=$O249)*(Transaction[Qty In-Out])),PcsPerTray))","v":""}]
[null,null,null,null,null,null,null,null,null,null,null,null,null,{"$f":"IF(Cumulative>(ROW()-ROW($O$20)),_xlfn.AGGREGATE(15,6,(ROW(OrderRange_Ref)-ROW($L$19))/(OFFSET(OrderRange_Ref,,0)>0),ROWS($L$20:$L250)),IF(OFFSET(Cumulative,,1)>(ROW()-ROW($O$20)),_xlfn.AGGREGATE(15,6,(ROW(OrderRange_Ref)-ROW($L$19))/(OFFSET(OrderRange_Ref,,1)>0),ROWS($L$20:$L250)-OFFSET(Cumulative,,0)),IF(OFFSET(Cumulative,,2)>(ROW()-ROW($O$20)),_xlfn.AGGREGATE(15,6,(ROW(OrderRange_Ref)-ROW($L$19))/(OFFSET(OrderRange_Ref,,2)>0),ROWS($L$20:$L250)-OFFSET(Cumulative,,1)),IF(OFFSET(Cumulative,,3)>(ROW()-ROW($O$20)),_xlfn.AGGREGATE(15,6,(ROW(OrderRange_Ref)-ROW($L$19))/(OFFSET(OrderRange_Ref,,3)>0),ROWS($L$20:$L250)-OFFSET(Cumulative,,2)),IF(OFFSET(Cumulative,,4)>(ROW()-ROW($O$20)),_xlfn.AGGREGATE(15,6,(ROW(OrderRange_Ref)-ROW($L$19))/(OFFSET(OrderRange_Ref,,4)>0),ROWS($L$20:$L250)-OFFSET(Cumulative,,3)),IF(OFFSET(Cumulative,,5)>(ROW()-ROW($O$20)),_xlfn.AGGREGATE(15,6,(ROW(OrderRange_Ref)-ROW($L$19))/(OFFSET(OrderRange_Ref,,5)>0),ROWS($L$20:$L250)-OFFSET(Cumulative,,4)),\"\"))))))","v":""},"","","","",{"$f":"IF($N250=\"\",\"\",ROUND(SUMPRODUCT((LEFT(Transaction[Route],Branch_Digit)=RIGHT(BranchCode,Branch_Digit))*(Transaction[Type]=\"เบิก\")*(Transaction[Products]='Factory_Order Frm'!$R250)*(Transaction[Date]=$O250)*(Transaction[Qty In-Out]))/PcsPerTray,0))","v":""},{"$f":"IF($N250=\"\",\"\",MOD(SUMPRODUCT((LEFT(Transaction[Route],Branch_Digit)=RIGHT(BranchCode,Branch_Digit))*(Transaction[Type]=\"เบิก\")*(Transaction[Products]='Factory_Order Frm'!$R250)*(Transaction[Date]=$O250)*(Transaction[Qty In-Out])),PcsPerTray))","v":""}]
[null,null,null,null,null,null,null,null,null,null,null,null,null,{"$f":"IF(Cumulative>(ROW()-ROW($O$20)),_xlfn.AGGREGATE(15,6,(ROW(OrderRange_Ref)-ROW($L$19))/(OFFSET(OrderRange_Ref,,0)>0),ROWS($L$20:$L251)),IF(OFFSET(Cumulative,,1)>(ROW()-ROW($O$20)),_xlfn.AGGREGATE(15,6,(ROW(OrderRange_Ref)-ROW($L$19))/(OFFSET(OrderRange_Ref,,1)>0),ROWS($L$20:$L251)-OFFSET(Cumulative,,0)),IF(OFFSET(Cumulative,,2)>(ROW()-ROW($O$20)),_xlfn.AGGREGATE(15,6,(ROW(OrderRange_Ref)-ROW($L$19))/(OFFSET(OrderRange_Ref,,2)>0),ROWS($L$20:$L251)-OFFSET(Cumulative,,1)),IF(OFFSET(Cumulative,,3)>(ROW()-ROW($O$20)),_xlfn.AGGREGATE(15,6,(ROW(OrderRange_Ref)-ROW($L$19))/(OFFSET(OrderRange_Ref,,3)>0),ROWS($L$20:$L251)-OFFSET(Cumulative,,2)),IF(OFFSET(Cumulative,,4)>(ROW()-ROW($O$20)),_xlfn.AGGREGATE(15,6,(ROW(OrderRange_Ref)-ROW($L$19))/(OFFSET(OrderRange_Ref,,4)>0),ROWS($L$20:$L251)-OFFSET(Cumulative,,3)),IF(OFFSET(Cumulative,,5)>(ROW()-ROW($O$20)),_xlfn.AGGREGATE(15,6,(ROW(OrderRange_Ref)-ROW($L$19))/(OFFSET(OrderRange_Ref,,5)>0),ROWS($L$20:$L251)-OFFSET(Cumulative,,4)),\"\"))))))","v":""},"","","","",{"$f":"IF($N251=\"\",\"\",ROUND(SUMPRODUCT((LEFT(Transaction[Route],Branch_Digit)=RIGHT(BranchCode,Branch_Digit))*(Transaction[Type]=\"เบิก\")*(Transaction[Products]='Factory_Order Frm'!$R251)*(Transaction[Date]=$O251)*(Transaction[Qty In-Out]))/PcsPerTray,0))","v":""},{"$f":"IF($N251=\"\",\"\",MOD(SUMPRODUCT((LEFT(Transaction[Route],Branch_Digit)=RIGHT(BranchCode,Branch_Digit))*(Transaction[Type]=\"เบิก\")*(Transaction[Products]='Factory_Order Frm'!$R251)*(Transaction[Date]=$O251)*(Transaction[Qty In-Out])),PcsPerTray))","v":""}]
[null,null,null,null,null,null,null,null,null,null,null,null,null,{"$f":"IF(Cumulative>(ROW()-ROW($O$20)),_xlfn.AGGREGATE(15,6,(ROW(OrderRange_Ref)-ROW($L$19))/(OFFSET(OrderRange_Ref,,0)>0),ROWS($L$20:$L252)),IF(OFFSET(Cumulative,,1)>(ROW()-ROW($O$20)),_xlfn.AGGREGATE(15,6,(ROW(OrderRange_Ref)-ROW($L$19))/(OFFSET(OrderRange_Ref,,1)>0),ROWS($L$20:$L252)-OFFSET(Cumulative,,0)),IF(OFFSET(Cumulative,,2)>(ROW()-ROW($O$20)),_xlfn.AGGREGATE(15,6,(ROW(OrderRange_Ref)-ROW($L$19))/(OFFSET(OrderRange_Ref,,2)>0),ROWS($L$20:$L252)-OFFSET(Cumulative,,1)),IF(OFFSET(Cumulative,,3)>(ROW()-ROW($O$20)),_xlfn.AGGREGATE(15,6,(ROW(OrderRange_Ref)-ROW($L$19))/(OFFSET(OrderRange_Ref,,3)>0),ROWS($L$20:$L252)-OFFSET(Cumulative,,2)),IF(OFFSET(Cumulative,,4)>(ROW()-ROW($O$20)),_xlfn.AGGREGATE(15,6,(ROW(OrderRange_Ref)-ROW($L$19))/(OFFSET(OrderRange_Ref,,4)>0),ROWS($L$20:$L252)-OFFSET(Cumulative,,3)),IF(OFFSET(Cumulative,,5)>(ROW()-ROW($O$20)),_xlfn.AGGREGATE(15,6,(ROW(OrderRange_Ref)-ROW($L$19))/(OFFSET(OrderRange_Ref,,5)>0),ROWS($L$20:$L252)-OFFSET(Cumulative,,4)),\"\"))))))","v":""},"","","","",{"$f":"IF($N252=\"\",\"\",ROUND(SUMPRODUCT((LEFT(Transaction[Route],Branch_Digit)=RIGHT(BranchCode,Branch_Digit))*(Transaction[Type]=\"เบิก\")*(Transaction[Products]='Factory_Order Frm'!$R252)*(Transaction[Date]=$O252)*(Transaction[Qty In-Out]))/PcsPerTray,0))","v":""},{"$f":"IF($N252=\"\",\"\",MOD(SUMPRODUCT((LEFT(Transaction[Route],Branch_Digit)=RIGHT(BranchCode,Branch_Digit))*(Transaction[Type]=\"เบิก\")*(Transaction[Products]='Factory_Order Frm'!$R252)*(Transaction[Date]=$O252)*(Transaction[Qty In-Out])),PcsPerTray))","v":""}]
[null,null,null,null,null,null,null,null,null,null,null,null,null,{"$f":"IF(Cumulative>(ROW()-ROW($O$20)),_xlfn.AGGREGATE(15,6,(ROW(OrderRange_Ref)-ROW($L$19))/(OFFSET(OrderRange_Ref,,0)>0),ROWS($L$20:$L253)),IF(OFFSET(Cumulative,,1)>(ROW()-ROW($O$20)),_xlfn.AGGREGATE(15,6,(ROW(OrderRange_Ref)-ROW($L$19))/(OFFSET(OrderRange_Ref,,1)>0),ROWS($L$20:$L253)-OFFSET(Cumulative,,0)),IF(OFFSET(Cumulative,,2)>(ROW()-ROW($O$20)),_xlfn.AGGREGATE(15,6,(ROW(OrderRange_Ref)-ROW($L$19))/(OFFSET(OrderRange_Ref,,2)>0),ROWS($L$20:$L253)-OFFSET(Cumulative,,1)),IF(OFFSET(Cumulative,,3)>(ROW()-ROW($O$20)),_xlfn.AGGREGATE(15,6,(ROW(OrderRange_Ref)-ROW($L$19))/(OFFSET(OrderRange_Ref,,3)>0),ROWS($L$20:$L253)-OFFSET(Cumulative,,2)),IF(OFFSET(Cumulative,,4)>(ROW()-ROW($O$20)),_xlfn.AGGREGATE(15,6,(ROW(OrderRange_Ref)-ROW($L$19))/(OFFSET(OrderRange_Ref,,4)>0),ROWS($L$20:$L253)-OFFSET(Cumulative,,3)),IF(OFFSET(Cumulative,,5)>(ROW()-ROW($O$20)),_xlfn.AGGREGATE(15,6,(ROW(OrderRange_Ref)-ROW($L$19))/(OFFSET(OrderRange_Ref,,5)>0),ROWS($L$20:$L253)-OFFSET(Cumulative,,4)),\"\"))))))","v":""},"","","","",{"$f":"IF($N253=\"\",\"\",ROUND(SUMPRODUCT((LEFT(Transaction[Route],Branch_Digit)=RIGHT(BranchCode,Branch_Digit))*(Transaction[Type]=\"เบิก\")*(Transaction[Products]='Factory_Order Frm'!$R253)*(Transaction[Date]=$O253)*(Transaction[Qty In-Out]))/PcsPerTray,0))","v":""},{"$f":"IF($N253=\"\",\"\",MOD(SUMPRODUCT((LEFT(Transaction[Route],Branch_Digit)=RIGHT(BranchCode,Branch_Digit))*(Transaction[Type]=\"เบิก\")*(Transaction[Products]='Factory_Order Frm'!$R253)*(Transaction[Date]=$O253)*(Transaction[Qty In-Out])),PcsPerTray))","v":""}]
[null,null,null,null,null,null,null,null,null,null,null,null,null,{"$f":"IF(Cumulative>(ROW()-ROW($O$20)),_xlfn.AGGREGATE(15,6,(ROW(OrderRange_Ref)-ROW($L$19))/(OFFSET(OrderRange_Ref,,0)>0),ROWS($L$20:$L254)),IF(OFFSET(Cumulative,,1)>(ROW()-ROW($O$20)),_xlfn.AGGREGATE(15,6,(ROW(OrderRange_Ref)-ROW($L$19))/(OFFSET(OrderRange_Ref,,1)>0),ROWS($L$20:$L254)-OFFSET(Cumulative,,0)),IF(OFFSET(Cumulative,,2)>(ROW()-ROW($O$20)),_xlfn.AGGREGATE(15,6,(ROW(OrderRange_Ref)-ROW($L$19))/(OFFSET(OrderRange_Ref,,2)>0),ROWS($L$20:$L254)-OFFSET(Cumulative,,1)),IF(OFFSET(Cumulative,,3)>(ROW()-ROW($O$20)),_xlfn.AGGREGATE(15,6,(ROW(OrderRange_Ref)-ROW($L$19))/(OFFSET(OrderRange_Ref,,3)>0),ROWS($L$20:$L254)-OFFSET(Cumulative,,2)),IF(OFFSET(Cumulative,,4)>(ROW()-ROW($O$20)),_xlfn.AGGREGATE(15,6,(ROW(OrderRange_Ref)-ROW($L$19))/(OFFSET(OrderRange_Ref,,4)>0),ROWS($L$20:$L254)-OFFSET(Cumulative,,3)),IF(OFFSET(Cumulative,,5)>(ROW()-ROW($O$20)),_xlfn.AGGREGATE(15,6,(ROW(OrderRange_Ref)-ROW($L$19))/(OFFSET(OrderRange_Ref,,5)>0),ROWS($L$20:$L254)-OFFSET(Cumulative,,4)),\"\"))))))","v":""},"","","","",{"$f":"IF($N254=\"\",\"\",ROUND(SUMPRODUCT((LEFT(Transaction[Route],Branch_Digit)=RIGHT(BranchCode,Branch_Digit))*(Transaction[Type]=\"เบิก\")*(Transaction[Products]='Factory_Order Frm'!$R254)*(Transaction[Date]=$O254)*(Transaction[Qty In-Out]))/PcsPerTray,0))","v":""},{"$f":"IF($N254=\"\",\"\",MOD(SUMPRODUCT((LEFT(Transaction[Route],Branch_Digit)=RIGHT(BranchCode,Branch_Digit))*(Transaction[Type]=\"เบิก\")*(Transaction[Products]='Factory_Order Frm'!$R254)*(Transaction[Date]=$O254)*(Transaction[Qty In-Out])),PcsPerTray))","v":""}]
[null,null,null,null,null,null,null,null,null,null,null,null,null,{"$f":"IF(Cumulative>(ROW()-ROW($O$20)),_xlfn.AGGREGATE(15,6,(ROW(OrderRange_Ref)-ROW($L$19))/(OFFSET(OrderRange_Ref,,0)>0),ROWS($L$20:$L255)),IF(OFFSET(Cumulative,,1)>(ROW()-ROW($O$20)),_xlfn.AGGREGATE(15,6,(ROW(OrderRange_Ref)-ROW($L$19))/(OFFSET(OrderRange_Ref,,1)>0),ROWS($L$20:$L255)-OFFSET(Cumulative,,0)),IF(OFFSET(Cumulative,,2)>(ROW()-ROW($O$20)),_xlfn.AGGREGATE(15,6,(ROW(OrderRange_Ref)-ROW($L$19))/(OFFSET(OrderRange_Ref,,2)>0),ROWS($L$20:$L255)-OFFSET(Cumulative,,1)),IF(OFFSET(Cumulative,,3)>(ROW()-ROW($O$20)),_xlfn.AGGREGATE(15,6,(ROW(OrderRange_Ref)-ROW($L$19))/(OFFSET(OrderRange_Ref,,3)>0),ROWS($L$20:$L255)-OFFSET(Cumulative,,2)),IF(OFFSET(Cumulative,,4)>(ROW()-ROW($O$20)),_xlfn.AGGREGATE(15,6,(ROW(OrderRange_Ref)-ROW($L$19))/(OFFSET(OrderRange_Ref,,4)>0),ROWS($L$20:$L255)-OFFSET(Cumulative,,3)),IF(OFFSET(Cumulative,,5)>(ROW()-ROW($O$20)),_xlfn.AGGREGATE(15,6,(ROW(OrderRange_Ref)-ROW($L$19))/(OFFSET(OrderRange_Ref,,5)>0),ROWS($L$20:$L255)-OFFSET(Cumulative,,4)),\"\"))))))","v":""},"","","","",{"$f":"IF($N255=\"\",\"\",ROUND(SUMPRODUCT((LEFT(Transaction[Route],Branch_Digit)=RIGHT(BranchCode,Branch_Digit))*(Transaction[Type]=\"เบิก\")*(Transaction[Products]='Factory_Order Frm'!$R255)*(Transaction[Date]=$O255)*(Transaction[Qty In-Out]))/PcsPerTray,0))","v":""},{"$f":"IF($N255=\"\",\"\",MOD(SUMPRODUCT((LEFT(Transaction[Route],Branch_Digit)=RIGHT(BranchCode,Branch_Digit))*(Transaction[Type]=\"เบิก\")*(Transaction[Products]='Factory_Order Frm'!$R255)*(Transaction[Date]=$O255)*(Transaction[Qty In-Out])),PcsPerTray))","v":""}]
[null,null,null,null,null,null,null,null,null,null,null,null,null,{"$f":"IF(Cumulative>(ROW()-ROW($O$20)),_xlfn.AGGREGATE(15,6,(ROW(OrderRange_Ref)-ROW($L$19))/(OFFSET(OrderRange_Ref,,0)>0),ROWS($L$20:$L256)),IF(OFFSET(Cumulative,,1)>(ROW()-ROW($O$20)),_xlfn.AGGREGATE(15,6,(ROW(OrderRange_Ref)-ROW($L$19))/(OFFSET(OrderRange_Ref,,1)>0),ROWS($L$20:$L256)-OFFSET(Cumulative,,0)),IF(OFFSET(Cumulative,,2)>(ROW()-ROW($O$20)),_xlfn.AGGREGATE(15,6,(ROW(OrderRange_Ref)-ROW($L$19))/(OFFSET(OrderRange_Ref,,2)>0),ROWS($L$20:$L256)-OFFSET(Cumulative,,1)),IF(OFFSET(Cumulative,,3)>(ROW()-ROW($O$20)),_xlfn.AGGREGATE(15,6,(ROW(OrderRange_Ref)-ROW($L$19))/(OFFSET(OrderRange_Ref,,3)>0),ROWS($L$20:$L256)-OFFSET(Cumulative,,2)),IF(OFFSET(Cumulative,,4)>(ROW()-ROW($O$20)),_xlfn.AGGREGATE(15,6,(ROW(OrderRange_Ref)-ROW($L$19))/(OFFSET(OrderRange_Ref,,4)>0),ROWS($L$20:$L256)-OFFSET(Cumulative,,3)),IF(OFFSET(Cumulative,,5)>(ROW()-ROW($O$20)),_xlfn.AGGREGATE(15,6,(ROW(OrderRange_Ref)-ROW($L$19))/(OFFSET(OrderRange_Ref,,5)>0),ROWS($L$20:$L256)-OFFSET(Cumulative,,4)),\"\"))))))","v":""},"","","","",{"$f":"IF($N256=\"\",\"\",ROUND(SUMPRODUCT((LEFT(Transaction[Route],Branch_Digit)=RIGHT(BranchCode,Branch_Digit))*(Transaction[Type]=\"เบิก\")*(Transaction[Products]='Factory_Order Frm'!$R256)*(Transaction[Date]=$O256)*(Transaction[Qty In-Out]))/PcsPerTray,0))","v":""},{"$f":"IF($N256=\"\",\"\",MOD(SUMPRODUCT((LEFT(Transaction[Route],Branch_Digit)=RIGHT(BranchCode,Branch_Digit))*(Transaction[Type]=\"เบิก\")*(Transaction[Products]='Factory_Order Frm'!$R256)*(Transaction[Date]=$O256)*(Transaction[Qty In-Out])),PcsPerTray))","v":""}]
[null,null,null,null,null,null,null,null,null,null,null,null,null,{"$f":"IF(Cumulative>(ROW()-ROW($O$20)),_xlfn.AGGREGATE(15,6,(ROW(OrderRange_Ref)-ROW($L$19))/(OFFSET(OrderRange_Ref,,0)>0),ROWS($L$20:$L257)),IF(OFFSET(Cumulative,,1)>(ROW()-ROW($O$20)),_xlfn.AGGREGATE(15,6,(ROW(OrderRange_Ref)-ROW($L$19))/(OFFSET(OrderRange_Ref,,1)>0),ROWS($L$20:$L257)-OFFSET(Cumulative,,0)),IF(OFFSET(Cumulative,,2)>(ROW()-ROW($O$20)),_xlfn.AGGREGATE(15,6,(ROW(OrderRange_Ref)-ROW($L$19))/(OFFSET(OrderRange_Ref,,2)>0),ROWS($L$20:$L257)-OFFSET(Cumulative,,1)),IF(OFFSET(Cumulative,,3)>(ROW()-ROW($O$20)),_xlfn.AGGREGATE(15,6,(ROW(OrderRange_Ref)-ROW($L$19))/(OFFSET(OrderRange_Ref,,3)>0),ROWS($L$20:$L257)-OFFSET(Cumulative,,2)),IF(OFFSET(Cumulative,,4)>(ROW()-ROW($O$20)),_xlfn.AGGREGATE(15,6,(ROW(OrderRange_Ref)-ROW($L$19))/(OFFSET(OrderRange_Ref,,4)>0),ROWS($L$20:$L257)-OFFSET(Cumulative,,3)),IF(OFFSET(Cumulative,,5)>(ROW()-ROW($O$20)),_xlfn.AGGREGATE(15,6,(ROW(OrderRange_Ref)-ROW($L$19))/(OFFSET(OrderRange_Ref,,5)>0),ROWS($L$20:$L257)-OFFSET(Cumulative,,4)),\"\"))))))","v":""},"","","","",{"$f":"IF($N257=\"\",\"\",ROUND(SUMPRODUCT((LEFT(Transaction[Route],Branch_Digit)=RIGHT(BranchCode,Branch_Digit))*(Transaction[Type]=\"เบิก\")*(Transaction[Products]='Factory_Order Frm'!$R257)*(Transaction[Date]=$O257)*(Transaction[Qty In-Out]))/PcsPerTray,0))","v":""},{"$f":"IF($N257=\"\",\"\",MOD(SUMPRODUCT((LEFT(Transaction[Route],Branch_Digit)=RIGHT(BranchCode,Branch_Digit))*(Transaction[Type]=\"เบิก\")*(Transaction[Products]='Factory_Order Frm'!$R257)*(Transaction[Date]=$O257)*(Transaction[Qty In-Out])),PcsPerTray))","v":""}]
[null,null,null,null,null,null,null,null,null,null,null,null,null,{"$f":"IF(Cumulative>(ROW()-ROW($O$20)),_xlfn.AGGREGATE(15,6,(ROW(OrderRange_Ref)-ROW($L$19))/(OFFSET(OrderRange_Ref,,0)>0),ROWS($L$20:$L258)),IF(OFFSET(Cumulative,,1)>(ROW()-ROW($O$20)),_xlfn.AGGREGATE(15,6,(ROW(OrderRange_Ref)-ROW($L$19))/(OFFSET(OrderRange_Ref,,1)>0),ROWS($L$20:$L258)-OFFSET(Cumulative,,0)),IF(OFFSET(Cumulative,,2)>(ROW()-ROW($O$20)),_xlfn.AGGREGATE(15,6,(ROW(OrderRange_Ref)-ROW($L$19))/(OFFSET(OrderRange_Ref,,2)>0),ROWS($L$20:$L258)-OFFSET(Cumulative,,1)),IF(OFFSET(Cumulative,,3)>(ROW()-ROW($O$20)),_xlfn.AGGREGATE(15,6,(ROW(OrderRange_Ref)-ROW($L$19))/(OFFSET(OrderRange_Ref,,3)>0),ROWS($L$20:$L258)-OFFSET(Cumulative,,2)),IF(OFFSET(Cumulative,,4)>(ROW()-ROW($O$20)),_xlfn.AGGREGATE(15,6,(ROW(OrderRange_Ref)-ROW($L$19))/(OFFSET(OrderRange_Ref,,4)>0),ROWS($L$20:$L258)-OFFSET(Cumulative,,3)),IF(OFFSET(Cumulative,,5)>(ROW()-ROW($O$20)),_xlfn.AGGREGATE(15,6,(ROW(OrderRange_Ref)-ROW($L$19))/(OFFSET(OrderRange_Ref,,5)>0),ROWS($L$20:$L258)-OFFSET(Cumulative,,4)),\"\"))))))","v":""},"","","","",{"$f":"IF($N258=\"\",\"\",ROUND(SUMPRODUCT((LEFT(Transaction[Route],Branch_Digit)=RIGHT(BranchCode,Branch_Digit))*(Transaction[Type]=\"เบิก\")*(Transaction[Products]='Factory_Order Frm'!$R258)*(Transaction[Date]=$O258)*(Transaction[Qty In-Out]))/PcsPerTray,0))","v":""},{"$f":"IF($N258=\"\",\"\",MOD(SUMPRODUCT((LEFT(Transaction[Route],Branch_Digit)=RIGHT(BranchCode,Branch_Digit))*(Transaction[Type]=\"เบิก\")*(Transaction[Products]='Factory_Order Frm'!$R258)*(Transaction[Date]=$O258)*(Transaction[Qty In-Out])),PcsPerTray))","v":""}]
[null,null,null,null,null,null,null,null,null,null,null,null,null,{"$f":"IF(Cumulative>(ROW()-ROW($O$20)),_xlfn.AGGREGATE(15,6,(ROW(OrderRange_Ref)-ROW($L$19))/(OFFSET(OrderRange_Ref,,0)>0),ROWS($L$20:$L259)),IF(OFFSET(Cumulative,,1)>(ROW()-ROW($O$20)),_xlfn.AGGREGATE(15,6,(ROW(OrderRange_Ref)-ROW($L$19))/(OFFSET(OrderRange_Ref,,1)>0),ROWS($L$20:$L259)-OFFSET(Cumulative,,0)),IF(OFFSET(Cumulative,,2)>(ROW()-ROW($O$20)),_xlfn.AGGREGATE(15,6,(ROW(OrderRange_Ref)-ROW($L$19))/(OFFSET(OrderRange_Ref,,2)>0),ROWS($L$20:$L259)-OFFSET(Cumulative,,1)),IF(OFFSET(Cumulative,,3)>(ROW()-ROW($O$20)),_xlfn.AGGREGATE(15,6,(ROW(OrderRange_Ref)-ROW($L$19))/(OFFSET(OrderRange_Ref,,3)>0),ROWS($L$20:$L259)-OFFSET(Cumulative,,2)),IF(OFFSET(Cumulative,,4)>(ROW()-ROW($O$20)),_xlfn.AGGREGATE(15,6,(ROW(OrderRange_Ref)-ROW($L$19))/(OFFSET(OrderRange_Ref,,4)>0),ROWS($L$20:$L259)-OFFSET(Cumulative,,3)),IF(OFFSET(Cumulative,,5)>(ROW()-ROW($O$20)),_xlfn.AGGREGATE(15,6,(ROW(OrderRange_Ref)-ROW($L$19))/(OFFSET(OrderRange_Ref,,5)>0),ROWS($L$20:$L259)-OFFSET(Cumulative,,4)),\"\"))))))","v":""},"","","","",{"$f":"IF($N259=\"\",\"\",ROUND(SUMPRODUCT((LEFT(Transaction[Route],Branch_Digit)=RIGHT(BranchCode,Branch_Digit))*(Transaction[Type]=\"เบิก\")*(Transaction[Products]='Factory_Order Frm'!$R259)*(Transaction[Date]=$O259)*(Transaction[Qty In-Out]))/PcsPerTray,0))","v":""},{"$f":"IF($N259=\"\",\"\",MOD(SUMPRODUCT((LEFT(Transaction[Route],Branch_Digit)=RIGHT(BranchCode,Branch_Digit))*(Transaction[Type]=\"เบิก\")*(Transaction[Products]='Factory_Order Frm'!$R259)*(Transaction[Date]=$O259)*(Transaction[Qty In-Out])),PcsPerTray))","v":""}]
[null,null,null,null,null,null,null,null,null,null,null,null,null,{"$f":"IF(Cumulative>(ROW()-ROW($O$20)),_xlfn.AGGREGATE(15,6,(ROW(OrderRange_Ref)-ROW($L$19))/(OFFSET(OrderRange_Ref,,0)>0),ROWS($L$20:$L260)),IF(OFFSET(Cumulative,,1)>(ROW()-ROW($O$20)),_xlfn.AGGREGATE(15,6,(ROW(OrderRange_Ref)-ROW($L$19))/(OFFSET(OrderRange_Ref,,1)>0),ROWS($L$20:$L260)-OFFSET(Cumulative,,0)),IF(OFFSET(Cumulative,,2)>(ROW()-ROW($O$20)),_xlfn.AGGREGATE(15,6,(ROW(OrderRange_Ref)-ROW($L$19))/(OFFSET(OrderRange_Ref,,2)>0),ROWS($L$20:$L260)-OFFSET(Cumulative,,1)),IF(OFFSET(Cumulative,,3)>(ROW()-ROW($O$20)),_xlfn.AGGREGATE(15,6,(ROW(OrderRange_Ref)-ROW($L$19))/(OFFSET(OrderRange_Ref,,3)>0),ROWS($L$20:$L260)-OFFSET(Cumulative,,2)),IF(OFFSET(Cumulative,,4)>(ROW()-ROW($O$20)),_xlfn.AGGREGATE(15,6,(ROW(OrderRange_Ref)-ROW($L$19))/(OFFSET(OrderRange_Ref,,4)>0),ROWS($L$20:$L260)-OFFSET(Cumulative,,3)),IF(OFFSET(Cumulative,,5)>(ROW()-ROW($O$20)),_xlfn.AGGREGATE(15,6,(ROW(OrderRange_Ref)-ROW($L$19))/(OFFSET(OrderRange_Ref,,5)>0),ROWS($L$20:$L260)-OFFSET(Cumulative,,4)),\"\"))))))","v":""},"","","","",{"$f":"IF($N260=\"\",\"\",ROUND(SUMPRODUCT((LEFT(Transaction[Route],Branch_Digit)=RIGHT(BranchCode,Branch_Digit))*(Transaction[Type]=\"เบิก\")*(Transaction[Products]='Factory_Order Frm'!$R260)*(Transaction[Date]=$O260)*(Transaction[Qty In-Out]))/PcsPerTray,0))","v":""},{"$f":"IF($N260=\"\",\"\",MOD(SUMPRODUCT((LEFT(Transaction[Route],Branch_Digit)=RIGHT(BranchCode,Branch_Digit))*(Transaction[Type]=\"เบิก\")*(Transaction[Products]='Factory_Order Frm'!$R260)*(Transaction[Date]=$O260)*(Transaction[Qty In-Out])),PcsPerTray))","v":""}]
[null,null,null,null,null,null,null,null,null,null,null,null,null,{"$f":"IF(Cumulative>(ROW()-ROW($O$20)),_xlfn.AGGREGATE(15,6,(ROW(OrderRange_Ref)-ROW($L$19))/(OFFSET(OrderRange_Ref,,0)>0),ROWS($L$20:$L261)),IF(OFFSET(Cumulative,,1)>(ROW()-ROW($O$20)),_xlfn.AGGREGATE(15,6,(ROW(OrderRange_Ref)-ROW($L$19))/(OFFSET(OrderRange_Ref,,1)>0),ROWS($L$20:$L261)-OFFSET(Cumulative,,0)),IF(OFFSET(Cumulative,,2)>(ROW()-ROW($O$20)),_xlfn.AGGREGATE(15,6,(ROW(OrderRange_Ref)-ROW($L$19))/(OFFSET(OrderRange_Ref,,2)>0),ROWS($L$20:$L261)-OFFSET(Cumulative,,1)),IF(OFFSET(Cumulative,,3)>(ROW()-ROW($O$20)),_xlfn.AGGREGATE(15,6,(ROW(OrderRange_Ref)-ROW($L$19))/(OFFSET(OrderRange_Ref,,3)>0),ROWS($L$20:$L261)-OFFSET(Cumulative,,2)),IF(OFFSET(Cumulative,,4)>(ROW()-ROW($O$20)),_xlfn.AGGREGATE(15,6,(ROW(OrderRange_Ref)-ROW($L$19))/(OFFSET(OrderRange_Ref,,4)>0),ROWS($L$20:$L261)-OFFSET(Cumulative,,3)),IF(OFFSET(Cumulative,,5)>(ROW()-ROW($O$20)),_xlfn.AGGREGATE(15,6,(ROW(OrderRange_Ref)-ROW($L$19))/(OFFSET(OrderRange_Ref,,5)>0),ROWS($L$20:$L261)-OFFSET(Cumulative,,4)),\"\"))))))","v":""},"","","","",{"$f":"IF($N261=\"\",\"\",ROUND(SUMPRODUCT((LEFT(Transaction[Route],Branch_Digit)=RIGHT(BranchCode,Branch_Digit))*(Transaction[Type]=\"เบิก\")*(Transaction[Products]='Factory_Order Frm'!$R261)*(Transaction[Date]=$O261)*(Transaction[Qty In-Out]))/PcsPerTray,0))","v":""},{"$f":"IF($N261=\"\",\"\",MOD(SUMPRODUCT((LEFT(Transaction[Route],Branch_Digit)=RIGHT(BranchCode,Branch_Digit))*(Transaction[Type]=\"เบิก\")*(Transaction[Products]='Factory_Order Frm'!$R261)*(Transaction[Date]=$O261)*(Transaction[Qty In-Out])),PcsPerTray))","v":""}]
[null,null,null,null,null,null,null,null,null,null,null,null,null,{"$f":"IF(Cumulative>(ROW()-ROW($O$20)),_xlfn.AGGREGATE(15,6,(ROW(OrderRange_Ref)-ROW($L$19))/(OFFSET(OrderRange_Ref,,0)>0),ROWS($L$20:$L262)),IF(OFFSET(Cumulative,,1)>(ROW()-ROW($O$20)),_xlfn.AGGREGATE(15,6,(ROW(OrderRange_Ref)-ROW($L$19))/(OFFSET(OrderRange_Ref,,1)>0),ROWS($L$20:$L262)-OFFSET(Cumulative,,0)),IF(OFFSET(Cumulative,,2)>(ROW()-ROW($O$20)),_xlfn.AGGREGATE(15,6,(ROW(OrderRange_Ref)-ROW($L$19))/(OFFSET(OrderRange_Ref,,2)>0),ROWS($L$20:$L262)-OFFSET(Cumulative,,1)),IF(OFFSET(Cumulative,,3)>(ROW()-ROW($O$20)),_xlfn.AGGREGATE(15,6,(ROW(OrderRange_Ref)-ROW($L$19))/(OFFSET(OrderRange_Ref,,3)>0),ROWS($L$20:$L262)-OFFSET(Cumulative,,2)),IF(OFFSET(Cumulative,,4)>(ROW()-ROW($O$20)),_xlfn.AGGREGATE(15,6,(ROW(OrderRange_Ref)-ROW($L$19))/(OFFSET(OrderRange_Ref,,4)>0),ROWS($L$20:$L262)-OFFSET(Cumulative,,3)),IF(OFFSET(Cumulative,,5)>(ROW()-ROW($O$20)),_xlfn.AGGREGATE(15,6,(ROW(OrderRange_Ref)-ROW($L$19))/(OFFSET(OrderRange_Ref,,5)>0),ROWS($L$20:$L262)-OFFSET(Cumulative,,4)),\"\"))))))","v":""},"","","","",{"$f":"IF($N262=\"\",\"\",ROUND(SUMPRODUCT((LEFT(Transaction[Route],Branch_Digit)=RIGHT(BranchCode,Branch_Digit))*(Transaction[Type]=\"เบิก\")*(Transaction[Products]='Factory_Order Frm'!$R262)*(Transaction[Date]=$O262)*(Transaction[Qty In-Out]))/PcsPerTray,0))","v":""},{"$f":"IF($N262=\"\",\"\",MOD(SUMPRODUCT((LEFT(Transaction[Route],Branch_Digit)=RIGHT(BranchCode,Branch_Digit))*(Transaction[Type]=\"เบิก\")*(Transaction[Products]='Factory_Order Frm'!$R262)*(Transaction[Date]=$O262)*(Transaction[Qty In-Out])),PcsPerTray))","v":""}]
[null,null,null,null,null,null,null,null,null,null,null,null,null,{"$f":"IF(Cumulative>(ROW()-ROW($O$20)),_xlfn.AGGREGATE(15,6,(ROW(OrderRange_Ref)-ROW($L$19))/(OFFSET(OrderRange_Ref,,0)>0),ROWS($L$20:$L263)),IF(OFFSET(Cumulative,,1)>(ROW()-ROW($O$20)),_xlfn.AGGREGATE(15,6,(ROW(OrderRange_Ref)-ROW($L$19))/(OFFSET(OrderRange_Ref,,1)>0),ROWS($L$20:$L263)-OFFSET(Cumulative,,0)),IF(OFFSET(Cumulative,,2)>(ROW()-ROW($O$20)),_xlfn.AGGREGATE(15,6,(ROW(OrderRange_Ref)-ROW($L$19))/(OFFSET(OrderRange_Ref,,2)>0),ROWS($L$20:$L263)-OFFSET(Cumulative,,1)),IF(OFFSET(Cumulative,,3)>(ROW()-ROW($O$20)),_xlfn.AGGREGATE(15,6,(ROW(OrderRange_Ref)-ROW($L$19))/(OFFSET(OrderRange_Ref,,3)>0),ROWS($L$20:$L263)-OFFSET(Cumulative,,2)),IF(OFFSET(Cumulative,,4)>(ROW()-ROW($O$20)),_xlfn.AGGREGATE(15,6,(ROW(OrderRange_Ref)-ROW($L$19))/(OFFSET(OrderRange_Ref,,4)>0),ROWS($L$20:$L263)-OFFSET(Cumulative,,3)),IF(OFFSET(Cumulative,,5)>(ROW()-ROW($O$20)),_xlfn.AGGREGATE(15,6,(ROW(OrderRange_Ref)-ROW($L$19))/(OFFSET(OrderRange_Ref,,5)>0),ROWS($L$20:$L263)-OFFSET(Cumulative,,4)),\"\"))))))","v":""},"","","","",{"$f":"IF($N263=\"\",\"\",ROUND(SUMPRODUCT((LEFT(Transaction[Route],Branch_Digit)=RIGHT(BranchCode,Branch_Digit))*(Transaction[Type]=\"เบิก\")*(Transaction[Products]='Factory_Order Frm'!$R263)*(Transaction[Date]=$O263)*(Transaction[Qty In-Out]))/PcsPerTray,0))","v":""},{"$f":"IF($N263=\"\",\"\",MOD(SUMPRODUCT((LEFT(Transaction[Route],Branch_Digit)=RIGHT(BranchCode,Branch_Digit))*(Transaction[Type]=\"เบิก\")*(Transaction[Products]='Factory_Order Frm'!$R263)*(Transaction[Date]=$O263)*(Transaction[Qty In-Out])),PcsPerTray))","v":""}]
[null,null,null,null,null,null,null,null,null,null,null,null,null,{"$f":"IF(Cumulative>(ROW()-ROW($O$20)),_xlfn.AGGREGATE(15,6,(ROW(OrderRange_Ref)-ROW($L$19))/(OFFSET(OrderRange_Ref,,0)>0),ROWS($L$20:$L264)),IF(OFFSET(Cumulative,,1)>(ROW()-ROW($O$20)),_xlfn.AGGREGATE(15,6,(ROW(OrderRange_Ref)-ROW($L$19))/(OFFSET(OrderRange_Ref,,1)>0),ROWS($L$20:$L264)-OFFSET(Cumulative,,0)),IF(OFFSET(Cumulative,,2)>(ROW()-ROW($O$20)),_xlfn.AGGREGATE(15,6,(ROW(OrderRange_Ref)-ROW($L$19))/(OFFSET(OrderRange_Ref,,2)>0),ROWS($L$20:$L264)-OFFSET(Cumulative,,1)),IF(OFFSET(Cumulative,,3)>(ROW()-ROW($O$20)),_xlfn.AGGREGATE(15,6,(ROW(OrderRange_Ref)-ROW($L$19))/(OFFSET(OrderRange_Ref,,3)>0),ROWS($L$20:$L264)-OFFSET(Cumulative,,2)),IF(OFFSET(Cumulative,,4)>(ROW()-ROW($O$20)),_xlfn.AGGREGATE(15,6,(ROW(OrderRange_Ref)-ROW($L$19))/(OFFSET(OrderRange_Ref,,4)>0),ROWS($L$20:$L264)-OFFSET(Cumulative,,3)),IF(OFFSET(Cumulative,,5)>(ROW()-ROW($O$20)),_xlfn.AGGREGATE(15,6,(ROW(OrderRange_Ref)-ROW($L$19))/(OFFSET(OrderRange_Ref,,5)>0),ROWS($L$20:$L264)-OFFSET(Cumulative,,4)),\"\"))))))","v":""},"","","","",{"$f":"IF($N264=\"\",\"\",ROUND(SUMPRODUCT((LEFT(Transaction[Route],Branch_Digit)=RIGHT(BranchCode,Branch_Digit))*(Transaction[Type]=\"เบิก\")*(Transaction[Products]='Factory_Order Frm'!$R264)*(Transaction[Date]=$O264)*(Transaction[Qty In-Out]))/PcsPerTray,0))","v":""},{"$f":"IF($N264=\"\",\"\",MOD(SUMPRODUCT((LEFT(Transaction[Route],Branch_Digit)=RIGHT(BranchCode,Branch_Digit))*(Transaction[Type]=\"เบิก\")*(Transaction[Products]='Factory_Order Frm'!$R264)*(Transaction[Date]=$O264)*(Transaction[Qty In-Out])),PcsPerTray))","v":""}]
[null,null,null,null,null,null,null,null,null,null,null,null,null,{"$f":"IF(Cumulative>(ROW()-ROW($O$20)),_xlfn.AGGREGATE(15,6,(ROW(OrderRange_Ref)-ROW($L$19))/(OFFSET(OrderRange_Ref,,0)>0),ROWS($L$20:$L265)),IF(OFFSET(Cumulative,,1)>(ROW()-ROW($O$20)),_xlfn.AGGREGATE(15,6,(ROW(OrderRange_Ref)-ROW($L$19))/(OFFSET(OrderRange_Ref,,1)>0),ROWS($L$20:$L265)-OFFSET(Cumulative,,0)),IF(OFFSET(Cumulative,,2)>(ROW()-ROW($O$20)),_xlfn.AGGREGATE(15,6,(ROW(OrderRange_Ref)-ROW($L$19))/(OFFSET(OrderRange_Ref,,2)>0),ROWS($L$20:$L265)-OFFSET(Cumulative,,1)),IF(OFFSET(Cumulative,,3)>(ROW()-ROW($O$20)),_xlfn.AGGREGATE(15,6,(ROW(OrderRange_Ref)-ROW($L$19))/(OFFSET(OrderRange_Ref,,3)>0),ROWS($L$20:$L265)-OFFSET(Cumulative,,2)),IF(OFFSET(Cumulative,,4)>(ROW()-ROW($O$20)),_xlfn.AGGREGATE(15,6,(ROW(OrderRange_Ref)-ROW($L$19))/(OFFSET(OrderRange_Ref,,4)>0),ROWS($L$20:$L265)-OFFSET(Cumulative,,3)),IF(OFFSET(Cumulative,,5)>(ROW()-ROW($O$20)),_xlfn.AGGREGATE(15,6,(ROW(OrderRange_Ref)-ROW($L$19))/(OFFSET(OrderRange_Ref,,5)>0),ROWS($L$20:$L265)-OFFSET(Cumulative,,4)),\"\"))))))","v":""},"","","","",{"$f":"IF($N265=\"\",\"\",ROUND(SUMPRODUCT((LEFT(Transaction[Route],Branch_Digit)=RIGHT(BranchCode,Branch_Digit))*(Transaction[Type]=\"เบิก\")*(Transaction[Products]='Factory_Order Frm'!$R265)*(Transaction[Date]=$O265)*(Transaction[Qty In-Out]))/PcsPerTray,0))","v":""},{"$f":"IF($N265=\"\",\"\",MOD(SUMPRODUCT((LEFT(Transaction[Route],Branch_Digit)=RIGHT(BranchCode,Branch_Digit))*(Transaction[Type]=\"เบิก\")*(Transaction[Products]='Factory_Order Frm'!$R265)*(Transaction[Date]=$O265)*(Transaction[Qty In-Out])),PcsPerTray))","v":""}]
[null,null,null,null,null,null,null,null,null,null,null,null,null,{"$f":"IF(Cumulative>(ROW()-ROW($O$20)),_xlfn.AGGREGATE(15,6,(ROW(OrderRange_Ref)-ROW($L$19))/(OFFSET(OrderRange_Ref,,0)>0),ROWS($L$20:$L266)),IF(OFFSET(Cumulative,,1)>(ROW()-ROW($O$20)),_xlfn.AGGREGATE(15,6,(ROW(OrderRange_Ref)-ROW($L$19))/(OFFSET(OrderRange_Ref,,1)>0),ROWS($L$20:$L266)-OFFSET(Cumulative,,0)),IF(OFFSET(Cumulative,,2)>(ROW()-ROW($O$20)),_xlfn.AGGREGATE(15,6,(ROW(OrderRange_Ref)-ROW($L$19))/(OFFSET(OrderRange_Ref,,2)>0),ROWS($L$20:$L266)-OFFSET(Cumulative,,1)),IF(OFFSET(Cumulative,,3)>(ROW()-ROW($O$20)),_xlfn.AGGREGATE(15,6,(ROW(OrderRange_Ref)-ROW($L$19))/(OFFSET(OrderRange_Ref,,3)>0),ROWS($L$20:$L266)-OFFSET(Cumulative,,2)),IF(OFFSET(Cumulative,,4)>(ROW()-ROW($O$20)),_xlfn.AGGREGATE(15,6,(ROW(OrderRange_Ref)-ROW($L$19))/(OFFSET(OrderRange_Ref,,4)>0),ROWS($L$20:$L266)-OFFSET(Cumulative,,3)),IF(OFFSET(Cumulative,,5)>(ROW()-ROW($O$20)),_xlfn.AGGREGATE(15,6,(ROW(OrderRange_Ref)-ROW($L$19))/(OFFSET(OrderRange_Ref,,5)>0),ROWS($L$20:$L266)-OFFSET(Cumulative,,4)),\"\"))))))","v":""},"","","","",{"$f":"IF($N266=\"\",\"\",ROUND(SUMPRODUCT((LEFT(Transaction[Route],Branch_Digit)=RIGHT(BranchCode,Branch_Digit))*(Transaction[Type]=\"เบิก\")*(Transaction[Products]='Factory_Order Frm'!$R266)*(Transaction[Date]=$O266)*(Transaction[Qty In-Out]))/PcsPerTray,0))","v":""},{"$f":"IF($N266=\"\",\"\",MOD(SUMPRODUCT((LEFT(Transaction[Route],Branch_Digit)=RIGHT(BranchCode,Branch_Digit))*(Transaction[Type]=\"เบิก\")*(Transaction[Products]='Factory_Order Frm'!$R266)*(Transaction[Date]=$O266)*(Transaction[Qty In-Out])),PcsPerTray))","v":""}]
[null,null,null,null,null,null,null,null,null,null,null,null,null,{"$f":"IF(Cumulative>(ROW()-ROW($O$20)),_xlfn.AGGREGATE(15,6,(ROW(OrderRange_Ref)-ROW($L$19))/(OFFSET(OrderRange_Ref,,0)>0),ROWS($L$20:$L267)),IF(OFFSET(Cumulative,,1)>(ROW()-ROW($O$20)),_xlfn.AGGREGATE(15,6,(ROW(OrderRange_Ref)-ROW($L$19))/(OFFSET(OrderRange_Ref,,1)>0),ROWS($L$20:$L267)-OFFSET(Cumulative,,0)),IF(OFFSET(Cumulative,,2)>(ROW()-ROW($O$20)),_xlfn.AGGREGATE(15,6,(ROW(OrderRange_Ref)-ROW($L$19))/(OFFSET(OrderRange_Ref,,2)>0),ROWS($L$20:$L267)-OFFSET(Cumulative,,1)),IF(OFFSET(Cumulative,,3)>(ROW()-ROW($O$20)),_xlfn.AGGREGATE(15,6,(ROW(OrderRange_Ref)-ROW($L$19))/(OFFSET(OrderRange_Ref,,3)>0),ROWS($L$20:$L267)-OFFSET(Cumulative,,2)),IF(OFFSET(Cumulative,,4)>(ROW()-ROW($O$20)),_xlfn.AGGREGATE(15,6,(ROW(OrderRange_Ref)-ROW($L$19))/(OFFSET(OrderRange_Ref,,4)>0),ROWS($L$20:$L267)-OFFSET(Cumulative,,3)),IF(OFFSET(Cumulative,,5)>(ROW()-ROW($O$20)),_xlfn.AGGREGATE(15,6,(ROW(OrderRange_Ref)-ROW($L$19))/(OFFSET(OrderRange_Ref,,5)>0),ROWS($L$20:$L267)-OFFSET(Cumulative,,4)),\"\"))))))","v":""},"","","","",{"$f":"IF($N267=\"\",\"\",ROUND(SUMPRODUCT((LEFT(Transaction[Route],Branch_Digit)=RIGHT(BranchCode,Branch_Digit))*(Transaction[Type]=\"เบิก\")*(Transaction[Products]='Factory_Order Frm'!$R267)*(Transaction[Date]=$O267)*(Transaction[Qty In-Out]))/PcsPerTray,0))","v":""},{"$f":"IF($N267=\"\",\"\",MOD(SUMPRODUCT((LEFT(Transaction[Route],Branch_Digit)=RIGHT(BranchCode,Branch_Digit))*(Transaction[Type]=\"เบิก\")*(Transaction[Products]='Factory_Order Frm'!$R267)*(Transaction[Date]=$O267)*(Transaction[Qty In-Out])),PcsPerTray))","v":""}]
[null,null,null,null,null,null,null,null,null,null,null,null,null,{"$f":"IF(Cumulative>(ROW()-ROW($O$20)),_xlfn.AGGREGATE(15,6,(ROW(OrderRange_Ref)-ROW($L$19))/(OFFSET(OrderRange_Ref,,0)>0),ROWS($L$20:$L268)),IF(OFFSET(Cumulative,,1)>(ROW()-ROW($O$20)),_xlfn.AGGREGATE(15,6,(ROW(OrderRange_Ref)-ROW($L$19))/(OFFSET(OrderRange_Ref,,1)>0),ROWS($L$20:$L268)-OFFSET(Cumulative,,0)),IF(OFFSET(Cumulative,,2)>(ROW()-ROW($O$20)),_xlfn.AGGREGATE(15,6,(ROW(OrderRange_Ref)-ROW($L$19))/(OFFSET(OrderRange_Ref,,2)>0),ROWS($L$20:$L268)-OFFSET(Cumulative,,1)),IF(OFFSET(Cumulative,,3)>(ROW()-ROW($O$20)),_xlfn.AGGREGATE(15,6,(ROW(OrderRange_Ref)-ROW($L$19))/(OFFSET(OrderRange_Ref,,3)>0),ROWS($L$20:$L268)-OFFSET(Cumulative,,2)),IF(OFFSET(Cumulative,,4)>(ROW()-ROW($O$20)),_xlfn.AGGREGATE(15,6,(ROW(OrderRange_Ref)-ROW($L$19))/(OFFSET(OrderRange_Ref,,4)>0),ROWS($L$20:$L268)-OFFSET(Cumulative,,3)),IF(OFFSET(Cumulative,,5)>(ROW()-ROW($O$20)),_xlfn.AGGREGATE(15,6,(ROW(OrderRange_Ref)-ROW($L$19))/(OFFSET(OrderRange_Ref,,5)>0),ROWS($L$20:$L268)-OFFSET(Cumulative,,4)),\"\"))))))","v":""},"","","","",{"$f":"IF($N268=\"\",\"\",ROUND(SUMPRODUCT((LEFT(Transaction[Route],Branch_Digit)=RIGHT(BranchCode,Branch_Digit))*(Transaction[Type]=\"เบิก\")*(Transaction[Products]='Factory_Order Frm'!$R268)*(Transaction[Date]=$O268)*(Transaction[Qty In-Out]))/PcsPerTray,0))","v":""},{"$f":"IF($N268=\"\",\"\",MOD(SUMPRODUCT((LEFT(Transaction[Route],Branch_Digit)=RIGHT(BranchCode,Branch_Digit))*(Transaction[Type]=\"เบิก\")*(Transaction[Products]='Factory_Order Frm'!$R268)*(Transaction[Date]=$O268)*(Transaction[Qty In-Out])),PcsPerTray))","v":""}]
[null,null,null,null,null,null,null,null,null,null,null,null,null,{"$f":"IF(Cumulative>(ROW()-ROW($O$20)),_xlfn.AGGREGATE(15,6,(ROW(OrderRange_Ref)-ROW($L$19))/(OFFSET(OrderRange_Ref,,0)>0),ROWS($L$20:$L269)),IF(OFFSET(Cumulative,,1)>(ROW()-ROW($O$20)),_xlfn.AGGREGATE(15,6,(ROW(OrderRange_Ref)-ROW($L$19))/(OFFSET(OrderRange_Ref,,1)>0),ROWS($L$20:$L269)-OFFSET(Cumulative,,0)),IF(OFFSET(Cumulative,,2)>(ROW()-ROW($O$20)),_xlfn.AGGREGATE(15,6,(ROW(OrderRange_Ref)-ROW($L$19))/(OFFSET(OrderRange_Ref,,2)>0),ROWS($L$20:$L269)-OFFSET(Cumulative,,1)),IF(OFFSET(Cumulative,,3)>(ROW()-ROW($O$20)),_xlfn.AGGREGATE(15,6,(ROW(OrderRange_Ref)-ROW($L$19))/(OFFSET(OrderRange_Ref,,3)>0),ROWS($L$20:$L269)-OFFSET(Cumulative,,2)),IF(OFFSET(Cumulative,,4)>(ROW()-ROW($O$20)),_xlfn.AGGREGATE(15,6,(ROW(OrderRange_Ref)-ROW($L$19))/(OFFSET(OrderRange_Ref,,4)>0),ROWS($L$20:$L269)-OFFSET(Cumulative,,3)),IF(OFFSET(Cumulative,,5)>(ROW()-ROW($O$20)),_xlfn.AGGREGATE(15,6,(ROW(OrderRange_Ref)-ROW($L$19))/(OFFSET(OrderRange_Ref,,5)>0),ROWS($L$20:$L269)-OFFSET(Cumulative,,4)),\"\"))))))","v":""},"","","","",{"$f":"IF($N269=\"\",\"\",ROUND(SUMPRODUCT((LEFT(Transaction[Route],Branch_Digit)=RIGHT(BranchCode,Branch_Digit))*(Transaction[Type]=\"เบิก\")*(Transaction[Products]='Factory_Order Frm'!$R269)*(Transaction[Date]=$O269)*(Transaction[Qty In-Out]))/PcsPerTray,0))","v":""},{"$f":"IF($N269=\"\",\"\",MOD(SUMPRODUCT((LEFT(Transaction[Route],Branch_Digit)=RIGHT(BranchCode,Branch_Digit))*(Transaction[Type]=\"เบิก\")*(Transaction[Products]='Factory_Order Frm'!$R269)*(Transaction[Date]=$O269)*(Transaction[Qty In-Out])),PcsPerTray))","v":""}]
[null,null,null,null,null,null,null,null,null,null,null,null,null,{"$f":"IF(Cumulative>(ROW()-ROW($O$20)),_xlfn.AGGREGATE(15,6,(ROW(OrderRange_Ref)-ROW($L$19))/(OFFSET(OrderRange_Ref,,0)>0),ROWS($L$20:$L270)),IF(OFFSET(Cumulative,,1)>(ROW()-ROW($O$20)),_xlfn.AGGREGATE(15,6,(ROW(OrderRange_Ref)-ROW($L$19))/(OFFSET(OrderRange_Ref,,1)>0),ROWS($L$20:$L270)-OFFSET(Cumulative,,0)),IF(OFFSET(Cumulative,,2)>(ROW()-ROW($O$20)),_xlfn.AGGREGATE(15,6,(ROW(OrderRange_Ref)-ROW($L$19))/(OFFSET(OrderRange_Ref,,2)>0),ROWS($L$20:$L270)-OFFSET(Cumulative,,1)),IF(OFFSET(Cumulative,,3)>(ROW()-ROW($O$20)),_xlfn.AGGREGATE(15,6,(ROW(OrderRange_Ref)-ROW($L$19))/(OFFSET(OrderRange_Ref,,3)>0),ROWS($L$20:$L270)-OFFSET(Cumulative,,2)),IF(OFFSET(Cumulative,,4)>(ROW()-ROW($O$20)),_xlfn.AGGREGATE(15,6,(ROW(OrderRange_Ref)-ROW($L$19))/(OFFSET(OrderRange_Ref,,4)>0),ROWS($L$20:$L270)-OFFSET(Cumulative,,3)),IF(OFFSET(Cumulative,,5)>(ROW()-ROW($O$20)),_xlfn.AGGREGATE(15,6,(ROW(OrderRange_Ref)-ROW($L$19))/(OFFSET(OrderRange_Ref,,5)>0),ROWS($L$20:$L270)-OFFSET(Cumulative,,4)),\"\"))))))","v":""},"","","","",{"$f":"IF($N270=\"\",\"\",ROUND(SUMPRODUCT((LEFT(Transaction[Route],Branch_Digit)=RIGHT(BranchCode,Branch_Digit))*(Transaction[Type]=\"เบิก\")*(Transaction[Products]='Factory_Order Frm'!$R270)*(Transaction[Date]=$O270)*(Transaction[Qty In-Out]))/PcsPerTray,0))","v":""},{"$f":"IF($N270=\"\",\"\",MOD(SUMPRODUCT((LEFT(Transaction[Route],Branch_Digit)=RIGHT(BranchCode,Branch_Digit))*(Transaction[Type]=\"เบิก\")*(Transaction[Products]='Factory_Order Frm'!$R270)*(Transaction[Date]=$O270)*(Transaction[Qty In-Out])),PcsPerTray))","v":""}]
[null,null,null,null,null,null,null,null,null,null,null,null,null,{"$f":"IF(Cumulative>(ROW()-ROW($O$20)),_xlfn.AGGREGATE(15,6,(ROW(OrderRange_Ref)-ROW($L$19))/(OFFSET(OrderRange_Ref,,0)>0),ROWS($L$20:$L271)),IF(OFFSET(Cumulative,,1)>(ROW()-ROW($O$20)),_xlfn.AGGREGATE(15,6,(ROW(OrderRange_Ref)-ROW($L$19))/(OFFSET(OrderRange_Ref,,1)>0),ROWS($L$20:$L271)-OFFSET(Cumulative,,0)),IF(OFFSET(Cumulative,,2)>(ROW()-ROW($O$20)),_xlfn.AGGREGATE(15,6,(ROW(OrderRange_Ref)-ROW($L$19))/(OFFSET(OrderRange_Ref,,2)>0),ROWS($L$20:$L271)-OFFSET(Cumulative,,1)),IF(OFFSET(Cumulative,,3)>(ROW()-ROW($O$20)),_xlfn.AGGREGATE(15,6,(ROW(OrderRange_Ref)-ROW($L$19))/(OFFSET(OrderRange_Ref,,3)>0),ROWS($L$20:$L271)-OFFSET(Cumulative,,2)),IF(OFFSET(Cumulative,,4)>(ROW()-ROW($O$20)),_xlfn.AGGREGATE(15,6,(ROW(OrderRange_Ref)-ROW($L$19))/(OFFSET(OrderRange_Ref,,4)>0),ROWS($L$20:$L271)-OFFSET(Cumulative,,3)),IF(OFFSET(Cumulative,,5)>(ROW()-ROW($O$20)),_xlfn.AGGREGATE(15,6,(ROW(OrderRange_Ref)-ROW($L$19))/(OFFSET(OrderRange_Ref,,5)>0),ROWS($L$20:$L271)-OFFSET(Cumulative,,4)),\"\"))))))","v":""},"","","","",{"$f":"IF($N271=\"\",\"\",ROUND(SUMPRODUCT((LEFT(Transaction[Route],Branch_Digit)=RIGHT(BranchCode,Branch_Digit))*(Transaction[Type]=\"เบิก\")*(Transaction[Products]='Factory_Order Frm'!$R271)*(Transaction[Date]=$O271)*(Transaction[Qty In-Out]))/PcsPerTray,0))","v":""},{"$f":"IF($N271=\"\",\"\",MOD(SUMPRODUCT((LEFT(Transaction[Route],Branch_Digit)=RIGHT(BranchCode,Branch_Digit))*(Transaction[Type]=\"เบิก\")*(Transaction[Products]='Factory_Order Frm'!$R271)*(Transaction[Date]=$O271)*(Transaction[Qty In-Out])),PcsPerTray))","v":""}]
[null,null,null,null,null,null,null,null,null,null,null,null,null,{"$f":"IF(Cumulative>(ROW()-ROW($O$20)),_xlfn.AGGREGATE(15,6,(ROW(OrderRange_Ref)-ROW($L$19))/(OFFSET(OrderRange_Ref,,0)>0),ROWS($L$20:$L272)),IF(OFFSET(Cumulative,,1)>(ROW()-ROW($O$20)),_xlfn.AGGREGATE(15,6,(ROW(OrderRange_Ref)-ROW($L$19))/(OFFSET(OrderRange_Ref,,1)>0),ROWS($L$20:$L272)-OFFSET(Cumulative,,0)),IF(OFFSET(Cumulative,,2)>(ROW()-ROW($O$20)),_xlfn.AGGREGATE(15,6,(ROW(OrderRange_Ref)-ROW($L$19))/(OFFSET(OrderRange_Ref,,2)>0),ROWS($L$20:$L272)-OFFSET(Cumulative,,1)),IF(OFFSET(Cumulative,,3)>(ROW()-ROW($O$20)),_xlfn.AGGREGATE(15,6,(ROW(OrderRange_Ref)-ROW($L$19))/(OFFSET(OrderRange_Ref,,3)>0),ROWS($L$20:$L272)-OFFSET(Cumulative,,2)),IF(OFFSET(Cumulative,,4)>(ROW()-ROW($O$20)),_xlfn.AGGREGATE(15,6,(ROW(OrderRange_Ref)-ROW($L$19))/(OFFSET(OrderRange_Ref,,4)>0),ROWS($L$20:$L272)-OFFSET(Cumulative,,3)),IF(OFFSET(Cumulative,,5)>(ROW()-ROW($O$20)),_xlfn.AGGREGATE(15,6,(ROW(OrderRange_Ref)-ROW($L$19))/(OFFSET(OrderRange_Ref,,5)>0),ROWS($L$20:$L272)-OFFSET(Cumulative,,4)),\"\"))))))","v":""},"","","","",{"$f":"IF($N272=\"\",\"\",ROUND(SUMPRODUCT((LEFT(Transaction[Route],Branch_Digit)=RIGHT(BranchCode,Branch_Digit))*(Transaction[Type]=\"เบิก\")*(Transaction[Products]='Factory_Order Frm'!$R272)*(Transaction[Date]=$O272)*(Transaction[Qty In-Out]))/PcsPerTray,0))","v":""},{"$f":"IF($N272=\"\",\"\",MOD(SUMPRODUCT((LEFT(Transaction[Route],Branch_Digit)=RIGHT(BranchCode,Branch_Digit))*(Transaction[Type]=\"เบิก\")*(Transaction[Products]='Factory_Order Frm'!$R272)*(Transaction[Date]=$O272)*(Transaction[Qty In-Out])),PcsPerTray))","v":""}]
[null,null,null,null,null,null,null,null,null,null,null,null,null,{"$f":"IF(Cumulative>(ROW()-ROW($O$20)),_xlfn.AGGREGATE(15,6,(ROW(OrderRange_Ref)-ROW($L$19))/(OFFSET(OrderRange_Ref,,0)>0),ROWS($L$20:$L273)),IF(OFFSET(Cumulative,,1)>(ROW()-ROW($O$20)),_xlfn.AGGREGATE(15,6,(ROW(OrderRange_Ref)-ROW($L$19))/(OFFSET(OrderRange_Ref,,1)>0),ROWS($L$20:$L273)-OFFSET(Cumulative,,0)),IF(OFFSET(Cumulative,,2)>(ROW()-ROW($O$20)),_xlfn.AGGREGATE(15,6,(ROW(OrderRange_Ref)-ROW($L$19))/(OFFSET(OrderRange_Ref,,2)>0),ROWS($L$20:$L273)-OFFSET(Cumulative,,1)),IF(OFFSET(Cumulative,,3)>(ROW()-ROW($O$20)),_xlfn.AGGREGATE(15,6,(ROW(OrderRange_Ref)-ROW($L$19))/(OFFSET(OrderRange_Ref,,3)>0),ROWS($L$20:$L273)-OFFSET(Cumulative,,2)),IF(OFFSET(Cumulative,,4)>(ROW()-ROW($O$20)),_xlfn.AGGREGATE(15,6,(ROW(OrderRange_Ref)-ROW($L$19))/(OFFSET(OrderRange_Ref,,4)>0),ROWS($L$20:$L273)-OFFSET(Cumulative,,3)),IF(OFFSET(Cumulative,,5)>(ROW()-ROW($O$20)),_xlfn.AGGREGATE(15,6,(ROW(OrderRange_Ref)-ROW($L$19))/(OFFSET(OrderRange_Ref,,5)>0),ROWS($L$20:$L273)-OFFSET(Cumulative,,4)),\"\"))))))","v":""},"","","","",{"$f":"IF($N273=\"\",\"\",ROUND(SUMPRODUCT((LEFT(Transaction[Route],Branch_Digit)=RIGHT(BranchCode,Branch_Digit))*(Transaction[Type]=\"เบิก\")*(Transaction[Products]='Factory_Order Frm'!$R273)*(Transaction[Date]=$O273)*(Transaction[Qty In-Out]))/PcsPerTray,0))","v":""},{"$f":"IF($N273=\"\",\"\",MOD(SUMPRODUCT((LEFT(Transaction[Route],Branch_Digit)=RIGHT(BranchCode,Branch_Digit))*(Transaction[Type]=\"เบิก\")*(Transaction[Products]='Factory_Order Frm'!$R273)*(Transaction[Date]=$O273)*(Transaction[Qty In-Out])),PcsPerTray))","v":""}]
[null,null,null,null,null,null,null,null,null,null,null,null,null,{"$f":"IF(Cumulative>(ROW()-ROW($O$20)),_xlfn.AGGREGATE(15,6,(ROW(OrderRange_Ref)-ROW($L$19))/(OFFSET(OrderRange_Ref,,0)>0),ROWS($L$20:$L274)),IF(OFFSET(Cumulative,,1)>(ROW()-ROW($O$20)),_xlfn.AGGREGATE(15,6,(ROW(OrderRange_Ref)-ROW($L$19))/(OFFSET(OrderRange_Ref,,1)>0),ROWS($L$20:$L274)-OFFSET(Cumulative,,0)),IF(OFFSET(Cumulative,,2)>(ROW()-ROW($O$20)),_xlfn.AGGREGATE(15,6,(ROW(OrderRange_Ref)-ROW($L$19))/(OFFSET(OrderRange_Ref,,2)>0),ROWS($L$20:$L274)-OFFSET(Cumulative,,1)),IF(OFFSET(Cumulative,,3)>(ROW()-ROW($O$20)),_xlfn.AGGREGATE(15,6,(ROW(OrderRange_Ref)-ROW($L$19))/(OFFSET(OrderRange_Ref,,3)>0),ROWS($L$20:$L274)-OFFSET(Cumulative,,2)),IF(OFFSET(Cumulative,,4)>(ROW()-ROW($O$20)),_xlfn.AGGREGATE(15,6,(ROW(OrderRange_Ref)-ROW($L$19))/(OFFSET(OrderRange_Ref,,4)>0),ROWS($L$20:$L274)-OFFSET(Cumulative,,3)),IF(OFFSET(Cumulative,,5)>(ROW()-ROW($O$20)),_xlfn.AGGREGATE(15,6,(ROW(OrderRange_Ref)-ROW($L$19))/(OFFSET(OrderRange_Ref,,5)>0),ROWS($L$20:$L274)-OFFSET(Cumulative,,4)),\"\"))))))","v":""},"","","","",{"$f":"IF($N274=\"\",\"\",ROUND(SUMPRODUCT((LEFT(Transaction[Route],Branch_Digit)=RIGHT(BranchCode,Branch_Digit))*(Transaction[Type]=\"เบิก\")*(Transaction[Products]='Factory_Order Frm'!$R274)*(Transaction[Date]=$O274)*(Transaction[Qty In-Out]))/PcsPerTray,0))","v":""},{"$f":"IF($N274=\"\",\"\",MOD(SUMPRODUCT((LEFT(Transaction[Route],Branch_Digit)=RIGHT(BranchCode,Branch_Digit))*(Transaction[Type]=\"เบิก\")*(Transaction[Products]='Factory_Order Frm'!$R274)*(Transaction[Date]=$O274)*(Transaction[Qty In-Out])),PcsPerTray))","v":""}]
[null,null,null,null,null,null,null,null,null,null,null,null,null,{"$f":"IF(Cumulative>(ROW()-ROW($O$20)),_xlfn.AGGREGATE(15,6,(ROW(OrderRange_Ref)-ROW($L$19))/(OFFSET(OrderRange_Ref,,0)>0),ROWS($L$20:$L275)),IF(OFFSET(Cumulative,,1)>(ROW()-ROW($O$20)),_xlfn.AGGREGATE(15,6,(ROW(OrderRange_Ref)-ROW($L$19))/(OFFSET(OrderRange_Ref,,1)>0),ROWS($L$20:$L275)-OFFSET(Cumulative,,0)),IF(OFFSET(Cumulative,,2)>(ROW()-ROW($O$20)),_xlfn.AGGREGATE(15,6,(ROW(OrderRange_Ref)-ROW($L$19))/(OFFSET(OrderRange_Ref,,2)>0),ROWS($L$20:$L275)-OFFSET(Cumulative,,1)),IF(OFFSET(Cumulative,,3)>(ROW()-ROW($O$20)),_xlfn.AGGREGATE(15,6,(ROW(OrderRange_Ref)-ROW($L$19))/(OFFSET(OrderRange_Ref,,3)>0),ROWS($L$20:$L275)-OFFSET(Cumulative,,2)),IF(OFFSET(Cumulative,,4)>(ROW()-ROW($O$20)),_xlfn.AGGREGATE(15,6,(ROW(OrderRange_Ref)-ROW($L$19))/(OFFSET(OrderRange_Ref,,4)>0),ROWS($L$20:$L275)-OFFSET(Cumulative,,3)),IF(OFFSET(Cumulative,,5)>(ROW()-ROW($O$20)),_xlfn.AGGREGATE(15,6,(ROW(OrderRange_Ref)-ROW($L$19))/(OFFSET(OrderRange_Ref,,5)>0),ROWS($L$20:$L275)-OFFSET(Cumulative,,4)),\"\"))))))","v":""},"","","","",{"$f":"IF($N275=\"\",\"\",ROUND(SUMPRODUCT((LEFT(Transaction[Route],Branch_Digit)=RIGHT(BranchCode,Branch_Digit))*(Transaction[Type]=\"เบิก\")*(Transaction[Products]='Factory_Order Frm'!$R275)*(Transaction[Date]=$O275)*(Transaction[Qty In-Out]))/PcsPerTray,0))","v":""},{"$f":"IF($N275=\"\",\"\",MOD(SUMPRODUCT((LEFT(Transaction[Route],Branch_Digit)=RIGHT(BranchCode,Branch_Digit))*(Transaction[Type]=\"เบิก\")*(Transaction[Products]='Factory_Order Frm'!$R275)*(Transaction[Date]=$O275)*(Transaction[Qty In-Out])),PcsPerTray))","v":""}]
[null,null,null,null,null,null,null,null,null,null,null,null,null,{"$f":"IF(Cumulative>(ROW()-ROW($O$20)),_xlfn.AGGREGATE(15,6,(ROW(OrderRange_Ref)-ROW($L$19))/(OFFSET(OrderRange_Ref,,0)>0),ROWS($L$20:$L276)),IF(OFFSET(Cumulative,,1)>(ROW()-ROW($O$20)),_xlfn.AGGREGATE(15,6,(ROW(OrderRange_Ref)-ROW($L$19))/(OFFSET(OrderRange_Ref,,1)>0),ROWS($L$20:$L276)-OFFSET(Cumulative,,0)),IF(OFFSET(Cumulative,,2)>(ROW()-ROW($O$20)),_xlfn.AGGREGATE(15,6,(ROW(OrderRange_Ref)-ROW($L$19))/(OFFSET(OrderRange_Ref,,2)>0),ROWS($L$20:$L276)-OFFSET(Cumulative,,1)),IF(OFFSET(Cumulative,,3)>(ROW()-ROW($O$20)),_xlfn.AGGREGATE(15,6,(ROW(OrderRange_Ref)-ROW($L$19))/(OFFSET(OrderRange_Ref,,3)>0),ROWS($L$20:$L276)-OFFSET(Cumulative,,2)),IF(OFFSET(Cumulative,,4)>(ROW()-ROW($O$20)),_xlfn.AGGREGATE(15,6,(ROW(OrderRange_Ref)-ROW($L$19))/(OFFSET(OrderRange_Ref,,4)>0),ROWS($L$20:$L276)-OFFSET(Cumulative,,3)),IF(OFFSET(Cumulative,,5)>(ROW()-ROW($O$20)),_xlfn.AGGREGATE(15,6,(ROW(OrderRange_Ref)-ROW($L$19))/(OFFSET(OrderRange_Ref,,5)>0),ROWS($L$20:$L276)-OFFSET(Cumulative,,4)),\"\"))))))","v":""},{"$f":"IF(Cumulative>(ROW()-ROW($O$20)),OrderDate,IF(OFFSET(Cumulative,,1)>(ROW()-ROW($O$20)),OrderDate+1,IF(OFFSET(Cumulative,,2)>(ROW()-ROW($O$20)),OrderDate+2,IF(OFFSET(Cumulative,,3)>(ROW()-ROW($O$20)),OrderDate+3,IF(OFFSET(Cumulative,,4)>(ROW()-ROW($O$20)),OrderDate+4,IF(OFFSET(Cumulative,,5)>(ROW()-ROW($O$20)),OrderDate+5,\"\"))))))","v":""},"","","",{"$f":"IF($N276=\"\",\"\",ROUND(SUMPRODUCT((LEFT(Transaction[Route],Branch_Digit)=RIGHT(BranchCode,Branch_Digit))*(Transaction[Type]=\"เบิก\")*(Transaction[Products]='Factory_Order Frm'!$R276)*(Transaction[Date]=$O276)*(Transaction[Qty In-Out]))/PcsPerTray,0))","v":""},{"$f":"IF($N276=\"\",\"\",MOD(SUMPRODUCT((LEFT(Transaction[Route],Branch_Digit)=RIGHT(BranchCode,Branch_Digit))*(Transaction[Type]=\"เบิก\")*(Transaction[Products]='Factory_Order Frm'!$R276)*(Transaction[Date]=$O276)*(Transaction[Qty In-Out])),PcsPerTray))","v":""}]
[null,null,null,null,null,null,null,null,null,null,null,null,null,{"$f":"IF(Cumulative>(ROW()-ROW($O$20)),_xlfn.AGGREGATE(15,6,(ROW(OrderRange_Ref)-ROW($L$19))/(OFFSET(OrderRange_Ref,,0)>0),ROWS($L$20:$L277)),IF(OFFSET(Cumulative,,1)>(ROW()-ROW($O$20)),_xlfn.AGGREGATE(15,6,(ROW(OrderRange_Ref)-ROW($L$19))/(OFFSET(OrderRange_Ref,,1)>0),ROWS($L$20:$L277)-OFFSET(Cumulative,,0)),IF(OFFSET(Cumulative,,2)>(ROW()-ROW($O$20)),_xlfn.AGGREGATE(15,6,(ROW(OrderRange_Ref)-ROW($L$19))/(OFFSET(OrderRange_Ref,,2)>0),ROWS($L$20:$L277)-OFFSET(Cumulative,,1)),IF(OFFSET(Cumulative,,3)>(ROW()-ROW($O$20)),_xlfn.AGGREGATE(15,6,(ROW(OrderRange_Ref)-ROW($L$19))/(OFFSET(OrderRange_Ref,,3)>0),ROWS($L$20:$L277)-OFFSET(Cumulative,,2)),IF(OFFSET(Cumulative,,4)>(ROW()-ROW($O$20)),_xlfn.AGGREGATE(15,6,(ROW(OrderRange_Ref)-ROW($L$19))/(OFFSET(OrderRange_Ref,,4)>0),ROWS($L$20:$L277)-OFFSET(Cumulative,,3)),IF(OFFSET(Cumulative,,5)>(ROW()-ROW($O$20)),_xlfn.AGGREGATE(15,6,(ROW(OrderRange_Ref)-ROW($L$19))/(OFFSET(OrderRange_Ref,,5)>0),ROWS($L$20:$L277)-OFFSET(Cumulative,,4)),\"\"))))))","v":""},"",{"$f":"IF($O277<>\"\",BranchCode,\"\")","v":""},{"$f":"IF($O277<>\"\",\"จ่าย\",\"\")","v":""},{"$f":"IFERROR(INDEX($C$20:$C$54,$N277),\"\")","v":""},{"$f":"IF($N277=\"\",\"\",ROUND(SUMPRODUCT((LEFT(Transaction[Route],Branch_Digit)=RIGHT(BranchCode,Branch_Digit))*(Transaction[Type]=\"เบิก\")*(Transaction[Products]='Factory_Order Frm'!$R277)*(Transaction[Date]=$O277)*(Transaction[Qty In-Out]))/PcsPerTray,0))","v":""},{"$f":"IF($N277=\"\",\"\",MOD(SUMPRODUCT((LEFT(Transaction[Route],Branch_Digit)=RIGHT(BranchCode,Branch_Digit))*(Transaction[Type]=\"เบิก\")*(Transaction[Products]='Factory_Order Frm'!$R277)*(Transaction[Date]=$O277)*(Transaction[Qty In-Out])),PcsPerTray))","v":""}]
[null,null,null,null,null,null,null,null,null,null,null,null,null,{"$f":"IF(Cumulative>(ROW()-ROW($O$20)),_xlfn.AGGREGATE(15,6,(ROW(OrderRange_Ref)-ROW($L$19))/(OFFSET(OrderRange_Ref,,0)>0),ROWS($L$20:$L278)),IF(OFFSET(Cumulative,,1)>(ROW()-ROW($O$20)),_xlfn.AGGREGATE(15,6,(ROW(OrderRange_Ref)-ROW($L$19))/(OFFSET(OrderRange_Ref,,1)>0),ROWS($L$20:$L278)-OFFSET(Cumulative,,0)),IF(OFFSET(Cumulative,,2)>(ROW()-ROW($O$20)),_xlfn.AGGREGATE(15,6,(ROW(OrderRange_Ref)-ROW($L$19))/(OFFSET(OrderRange_Ref,,2)>0),ROWS($L$20:$L278)-OFFSET(Cumulative,,1)),IF(OFFSET(Cumulative,,3)>(ROW()-ROW($O$20)),_xlfn.AGGREGATE(15,6,(ROW(OrderRange_Ref)-ROW($L$19))/(OFFSET(OrderRange_Ref,,3)>0),ROWS($L$20:$L278)-OFFSET(Cumulative,,2)),IF(OFFSET(Cumulative,,4)>(ROW()-ROW($O$20)),_xlfn.AGGREGATE(15,6,(ROW(OrderRange_Ref)-ROW($L$19))/(OFFSET(OrderRange_Ref,,4)>0),ROWS($L$20:$L278)-OFFSET(Cumulative,,3)),IF(OFFSET(Cumulative,,5)>(ROW()-ROW($O$20)),_xlfn.AGGREGATE(15,6,(ROW(OrderRange_Ref)-ROW($L$19))/(OFFSET(OrderRange_Ref,,5)>0),ROWS($L$20:$L278)-OFFSET(Cumulative,,4)),\"\"))))))","v":""},"","","","",{"$f":"IF($N278=\"\",\"\",ROUND(SUMPRODUCT((LEFT(Transaction[Route],Branch_Digit)=RIGHT(BranchCode,Branch_Digit))*(Transaction[Type]=\"เบิก\")*(Transaction[Products]='Factory_Order Frm'!$R278)*(Transaction[Date]=$O278)*(Transaction[Qty In-Out]))/PcsPerTray,0))","v":""},{"$f":"IF($N278=\"\",\"\",MOD(SUMPRODUCT((LEFT(Transaction[Route],Branch_Digit)=RIGHT(BranchCode,Branch_Digit))*(Transaction[Type]=\"เบิก\")*(Transaction[Products]='Factory_Order Frm'!$R278)*(Transaction[Date]=$O278)*(Transaction[Qty In-Out])),PcsPerTray))","v":""}]
[null,null,null,null,null,null,null,null,null,null,null,null,null,{"$f":"IF(Cumulative>(ROW()-ROW($O$20)),_xlfn.AGGREGATE(15,6,(ROW(OrderRange_Ref)-ROW($L$19))/(OFFSET(OrderRange_Ref,,0)>0),ROWS($L$20:$L279)),IF(OFFSET(Cumulative,,1)>(ROW()-ROW($O$20)),_xlfn.AGGREGATE(15,6,(ROW(OrderRange_Ref)-ROW($L$19))/(OFFSET(OrderRange_Ref,,1)>0),ROWS($L$20:$L279)-OFFSET(Cumulative,,0)),IF(OFFSET(Cumulative,,2)>(ROW()-ROW($O$20)),_xlfn.AGGREGATE(15,6,(ROW(OrderRange_Ref)-ROW($L$19))/(OFFSET(OrderRange_Ref,,2)>0),ROWS($L$20:$L279)-OFFSET(Cumulative,,1)),IF(OFFSET(Cumulative,,3)>(ROW()-ROW($O$20)),_xlfn.AGGREGATE(15,6,(ROW(OrderRange_Ref)-ROW($L$19))/(OFFSET(OrderRange_Ref,,3)>0),ROWS($L$20:$L279)-OFFSET(Cumulative,,2)),IF(OFFSET(Cumulative,,4)>(ROW()-ROW($O$20)),_xlfn.AGGREGATE(15,6,(ROW(OrderRange_Ref)-ROW($L$19))/(OFFSET(OrderRange_Ref,,4)>0),ROWS($L$20:$L279)-OFFSET(Cumulative,,3)),IF(OFFSET(Cumulative,,5)>(ROW()-ROW($O$20)),_xlfn.AGGREGATE(15,6,(ROW(OrderRange_Ref)-ROW($L$19))/(OFFSET(OrderRange_Ref,,5)>0),ROWS($L$20:$L279)-OFFSET(Cumulative,,4)),\"\"))))))","v":""},"","","","",{"$f":"IF($N279=\"\",\"\",ROUND(SUMPRODUCT((LEFT(Transaction[Route],Branch_Digit)=RIGHT(BranchCode,Branch_Digit))*(Transaction[Type]=\"เบิก\")*(Transaction[Products]='Factory_Order Frm'!$R279)*(Transaction[Date]=$O279)*(Transaction[Qty In-Out]))/PcsPerTray,0))","v":""},{"$f":"IF($N279=\"\",\"\",MOD(SUMPRODUCT((LEFT(Transaction[Route],Branch_Digit)=RIGHT(BranchCode,Branch_Digit))*(Transaction[Type]=\"เบิก\")*(Transaction[Products]='Factory_Order Frm'!$R279)*(Transaction[Date]=$O279)*(Transaction[Qty In-Out])),PcsPerTray))","v":""}]
[null,null,null,null,null,null,null,null,null,null,null,null,null,{"$f":"IF(Cumulative>(ROW()-ROW($O$20)),_xlfn.AGGREGATE(15,6,(ROW(OrderRange_Ref)-ROW($L$19))/(OFFSET(OrderRange_Ref,,0)>0),ROWS($L$20:$L280)),IF(OFFSET(Cumulative,,1)>(ROW()-ROW($O$20)),_xlfn.AGGREGATE(15,6,(ROW(OrderRange_Ref)-ROW($L$19))/(OFFSET(OrderRange_Ref,,1)>0),ROWS($L$20:$L280)-OFFSET(Cumulative,,0)),IF(OFFSET(Cumulative,,2)>(ROW()-ROW($O$20)),_xlfn.AGGREGATE(15,6,(ROW(OrderRange_Ref)-ROW($L$19))/(OFFSET(OrderRange_Ref,,2)>0),ROWS($L$20:$L280)-OFFSET(Cumulative,,1)),IF(OFFSET(Cumulative,,3)>(ROW()-ROW($O$20)),_xlfn.AGGREGATE(15,6,(ROW(OrderRange_Ref)-ROW($L$19))/(OFFSET(OrderRange_Ref,,3)>0),ROWS($L$20:$L280)-OFFSET(Cumulative,,2)),IF(OFFSET(Cumulative,,4)>(ROW()-ROW($O$20)),_xlfn.AGGREGATE(15,6,(ROW(OrderRange_Ref)-ROW($L$19))/(OFFSET(OrderRange_Ref,,4)>0),ROWS($L$20:$L280)-OFFSET(Cumulative,,3)),IF(OFFSET(Cumulative,,5)>(ROW()-ROW($O$20)),_xlfn.AGGREGATE(15,6,(ROW(OrderRange_Ref)-ROW($L$19))/(OFFSET(OrderRange_Ref,,5)>0),ROWS($L$20:$L280)-OFFSET(Cumulative,,4)),\"\"))))))","v":""},"","","","",{"$f":"IF($N280=\"\",\"\",ROUND(SUMPRODUCT((LEFT(Transaction[Route],Branch_Digit)=RIGHT(BranchCode,Branch_Digit))*(Transaction[Type]=\"เบิก\")*(Transaction[Products]='Factory_Order Frm'!$R280)*(Transaction[Date]=$O280)*(Transaction[Qty In-Out]))/PcsPerTray,0))","v":""},{"$f":"IF($N280=\"\",\"\",MOD(SUMPRODUCT((LEFT(Transaction[Route],Branch_Digit)=RIGHT(BranchCode,Branch_Digit))*(Transaction[Type]=\"เบิก\")*(Transaction[Products]='Factory_Order Frm'!$R280)*(Transaction[Date]=$O280)*(Transaction[Qty In-Out])),PcsPerTray))","v":""}]
[null,null,null,null,null,null,null,null,null,null,null,null,null,{"$f":"IF(Cumulative>(ROW()-ROW($O$20)),_xlfn.AGGREGATE(15,6,(ROW(OrderRange_Ref)-ROW($L$19))/(OFFSET(OrderRange_Ref,,0)>0),ROWS($L$20:$L281)),IF(OFFSET(Cumulative,,1)>(ROW()-ROW($O$20)),_xlfn.AGGREGATE(15,6,(ROW(OrderRange_Ref)-ROW($L$19))/(OFFSET(OrderRange_Ref,,1)>0),ROWS($L$20:$L281)-OFFSET(Cumulative,,0)),IF(OFFSET(Cumulative,,2)>(ROW()-ROW($O$20)),_xlfn.AGGREGATE(15,6,(ROW(OrderRange_Ref)-ROW($L$19))/(OFFSET(OrderRange_Ref,,2)>0),ROWS($L$20:$L281)-OFFSET(Cumulative,,1)),IF(OFFSET(Cumulative,,3)>(ROW()-ROW($O$20)),_xlfn.AGGREGATE(15,6,(ROW(OrderRange_Ref)-ROW($L$19))/(OFFSET(OrderRange_Ref,,3)>0),ROWS($L$20:$L281)-OFFSET(Cumulative,,2)),IF(OFFSET(Cumulative,,4)>(ROW()-ROW($O$20)),_xlfn.AGGREGATE(15,6,(ROW(OrderRange_Ref)-ROW($L$19))/(OFFSET(OrderRange_Ref,,4)>0),ROWS($L$20:$L281)-OFFSET(Cumulative,,3)),IF(OFFSET(Cumulative,,5)>(ROW()-ROW($O$20)),_xlfn.AGGREGATE(15,6,(ROW(OrderRange_Ref)-ROW($L$19))/(OFFSET(OrderRange_Ref,,5)>0),ROWS($L$20:$L281)-OFFSET(Cumulative,,4)),\"\"))))))","v":""},"","","","",{"$f":"IF($N281=\"\",\"\",ROUND(SUMPRODUCT((LEFT(Transaction[Route],Branch_Digit)=RIGHT(BranchCode,Branch_Digit))*(Transaction[Type]=\"เบิก\")*(Transaction[Products]='Factory_Order Frm'!$R281)*(Transaction[Date]=$O281)*(Transaction[Qty In-Out]))/PcsPerTray,0))","v":""},{"$f":"IF($N281=\"\",\"\",MOD(SUMPRODUCT((LEFT(Transaction[Route],Branch_Digit)=RIGHT(BranchCode,Branch_Digit))*(Transaction[Type]=\"เบิก\")*(Transaction[Products]='Factory_Order Frm'!$R281)*(Transaction[Date]=$O281)*(Transaction[Qty In-Out])),PcsPerTray))","v":""}]
[null,null,null,null,null,null,null,null,null,null,null,null,null,{"$f":"IF(Cumulative>(ROW()-ROW($O$20)),_xlfn.AGGREGATE(15,6,(ROW(OrderRange_Ref)-ROW($L$19))/(OFFSET(OrderRange_Ref,,0)>0),ROWS($L$20:$L282)),IF(OFFSET(Cumulative,,1)>(ROW()-ROW($O$20)),_xlfn.AGGREGATE(15,6,(ROW(OrderRange_Ref)-ROW($L$19))/(OFFSET(OrderRange_Ref,,1)>0),ROWS($L$20:$L282)-OFFSET(Cumulative,,0)),IF(OFFSET(Cumulative,,2)>(ROW()-ROW($O$20)),_xlfn.AGGREGATE(15,6,(ROW(OrderRange_Ref)-ROW($L$19))/(OFFSET(OrderRange_Ref,,2)>0),ROWS($L$20:$L282)-OFFSET(Cumulative,,1)),IF(OFFSET(Cumulative,,3)>(ROW()-ROW($O$20)),_xlfn.AGGREGATE(15,6,(ROW(OrderRange_Ref)-ROW($L$19))/(OFFSET(OrderRange_Ref,,3)>0),ROWS($L$20:$L282)-OFFSET(Cumulative,,2)),IF(OFFSET(Cumulative,,4)>(ROW()-ROW($O$20)),_xlfn.AGGREGATE(15,6,(ROW(OrderRange_Ref)-ROW($L$19))/(OFFSET(OrderRange_Ref,,4)>0),ROWS($L$20:$L282)-OFFSET(Cumulative,,3)),IF(OFFSET(Cumulative,,5)>(ROW()-ROW($O$20)),_xlfn.AGGREGATE(15,6,(ROW(OrderRange_Ref)-ROW($L$19))/(OFFSET(OrderRange_Ref,,5)>0),ROWS($L$20:$L282)-OFFSET(Cumulative,,4)),\"\"))))))","v":""},"","","","",{"$f":"IF($N282=\"\",\"\",ROUND(SUMPRODUCT((LEFT(Transaction[Route],Branch_Digit)=RIGHT(BranchCode,Branch_Digit))*(Transaction[Type]=\"เบิก\")*(Transaction[Products]='Factory_Order Frm'!$R282)*(Transaction[Date]=$O282)*(Transaction[Qty In-Out]))/PcsPerTray,0))","v":""},{"$f":"IF($N282=\"\",\"\",MOD(SUMPRODUCT((LEFT(Transaction[Route],Branch_Digit)=RIGHT(BranchCode,Branch_Digit))*(Transaction[Type]=\"เบิก\")*(Transaction[Products]='Factory_Order Frm'!$R282)*(Transaction[Date]=$O282)*(Transaction[Qty In-Out])),PcsPerTray))","v":""}]
[null,null,null,null,null,null,null,null,null,null,null,null,null,{"$f":"IF(Cumulative>(ROW()-ROW($O$20)),_xlfn.AGGREGATE(15,6,(ROW(OrderRange_Ref)-ROW($L$19))/(OFFSET(OrderRange_Ref,,0)>0),ROWS($L$20:$L283)),IF(OFFSET(Cumulative,,1)>(ROW()-ROW($O$20)),_xlfn.AGGREGATE(15,6,(ROW(OrderRange_Ref)-ROW($L$19))/(OFFSET(OrderRange_Ref,,1)>0),ROWS($L$20:$L283)-OFFSET(Cumulative,,0)),IF(OFFSET(Cumulative,,2)>(ROW()-ROW($O$20)),_xlfn.AGGREGATE(15,6,(ROW(OrderRange_Ref)-ROW($L$19))/(OFFSET(OrderRange_Ref,,2)>0),ROWS($L$20:$L283)-OFFSET(Cumulative,,1)),IF(OFFSET(Cumulative,,3)>(ROW()-ROW($O$20)),_xlfn.AGGREGATE(15,6,(ROW(OrderRange_Ref)-ROW($L$19))/(OFFSET(OrderRange_Ref,,3)>0),ROWS($L$20:$L283)-OFFSET(Cumulative,,2)),IF(OFFSET(Cumulative,,4)>(ROW()-ROW($O$20)),_xlfn.AGGREGATE(15,6,(ROW(OrderRange_Ref)-ROW($L$19))/(OFFSET(OrderRange_Ref,,4)>0),ROWS($L$20:$L283)-OFFSET(Cumulative,,3)),IF(OFFSET(Cumulative,,5)>(ROW()-ROW($O$20)),_xlfn.AGGREGATE(15,6,(ROW(OrderRange_Ref)-ROW($L$19))/(OFFSET(OrderRange_Ref,,5)>0),ROWS($L$20:$L283)-OFFSET(Cumulative,,4)),\"\"))))))","v":""},"","","","",{"$f":"IF($N283=\"\",\"\",ROUND(SUMPRODUCT((LEFT(Transaction[Route],Branch_Digit)=RIGHT(BranchCode,Branch_Digit))*(Transaction[Type]=\"เบิก\")*(Transaction[Products]='Factory_Order Frm'!$R283)*(Transaction[Date]=$O283)*(Transaction[Qty In-Out]))/PcsPerTray,0))","v":""},{"$f":"IF($N283=\"\",\"\",MOD(SUMPRODUCT((LEFT(Transaction[Route],Branch_Digit)=RIGHT(BranchCode,Branch_Digit))*(Transaction[Type]=\"เบิก\")*(Transaction[Products]='Factory_Order Frm'!$R283)*(Transaction[Date]=$O283)*(Transaction[Qty In-Out])),PcsPerTray))","v":""}]
[null,null,null,null,null,null,null,null,null,null,null,null,null,{"$f":"IF(Cumulative>(ROW()-ROW($O$20)),_xlfn.AGGREGATE(15,6,(ROW(OrderRange_Ref)-ROW($L$19))/(OFFSET(OrderRange_Ref,,0)>0),ROWS($L$20:$L284)),IF(OFFSET(Cumulative,,1)>(ROW()-ROW($O$20)),_xlfn.AGGREGATE(15,6,(ROW(OrderRange_Ref)-ROW($L$19))/(OFFSET(OrderRange_Ref,,1)>0),ROWS($L$20:$L284)-OFFSET(Cumulative,,0)),IF(OFFSET(Cumulative,,2)>(ROW()-ROW($O$20)),_xlfn.AGGREGATE(15,6,(ROW(OrderRange_Ref)-ROW($L$19))/(OFFSET(OrderRange_Ref,,2)>0),ROWS($L$20:$L284)-OFFSET(Cumulative,,1)),IF(OFFSET(Cumulative,,3)>(ROW()-ROW($O$20)),_xlfn.AGGREGATE(15,6,(ROW(OrderRange_Ref)-ROW($L$19))/(OFFSET(OrderRange_Ref,,3)>0),ROWS($L$20:$L284)-OFFSET(Cumulative,,2)),IF(OFFSET(Cumulative,,4)>(ROW()-ROW($O$20)),_xlfn.AGGREGATE(15,6,(ROW(OrderRange_Ref)-ROW($L$19))/(OFFSET(OrderRange_Ref,,4)>0),ROWS($L$20:$L284)-OFFSET(Cumulative,,3)),IF(OFFSET(Cumulative,,5)>(ROW()-ROW($O$20)),_xlfn.AGGREGATE(15,6,(ROW(OrderRange_Ref)-ROW($L$19))/(OFFSET(OrderRange_Ref,,5)>0),ROWS($L$20:$L284)-OFFSET(Cumulative,,4)),\"\"))))))","v":""},"","","","",{"$f":"IF($N284=\"\",\"\",ROUND(SUMPRODUCT((LEFT(Transaction[Route],Branch_Digit)=RIGHT(BranchCode,Branch_Digit))*(Transaction[Type]=\"เบิก\")*(Transaction[Products]='Factory_Order Frm'!$R284)*(Transaction[Date]=$O284)*(Transaction[Qty In-Out]))/PcsPerTray,0))","v":""},{"$f":"IF($N284=\"\",\"\",MOD(SUMPRODUCT((LEFT(Transaction[Route],Branch_Digit)=RIGHT(BranchCode,Branch_Digit))*(Transaction[Type]=\"เบิก\")*(Transaction[Products]='Factory_Order Frm'!$R284)*(Transaction[Date]=$O284)*(Transaction[Qty In-Out])),PcsPerTray))","v":""}]
[null,null,null,null,null,null,null,null,null,null,null,null,null,{"$f":"IF(Cumulative>(ROW()-ROW($O$20)),_xlfn.AGGREGATE(15,6,(ROW(OrderRange_Ref)-ROW($L$19))/(OFFSET(OrderRange_Ref,,0)>0),ROWS($L$20:$L285)),IF(OFFSET(Cumulative,,1)>(ROW()-ROW($O$20)),_xlfn.AGGREGATE(15,6,(ROW(OrderRange_Ref)-ROW($L$19))/(OFFSET(OrderRange_Ref,,1)>0),ROWS($L$20:$L285)-OFFSET(Cumulative,,0)),IF(OFFSET(Cumulative,,2)>(ROW()-ROW($O$20)),_xlfn.AGGREGATE(15,6,(ROW(OrderRange_Ref)-ROW($L$19))/(OFFSET(OrderRange_Ref,,2)>0),ROWS($L$20:$L285)-OFFSET(Cumulative,,1)),IF(OFFSET(Cumulative,,3)>(ROW()-ROW($O$20)),_xlfn.AGGREGATE(15,6,(ROW(OrderRange_Ref)-ROW($L$19))/(OFFSET(OrderRange_Ref,,3)>0),ROWS($L$20:$L285)-OFFSET(Cumulative,,2)),IF(OFFSET(Cumulative,,4)>(ROW()-ROW($O$20)),_xlfn.AGGREGATE(15,6,(ROW(OrderRange_Ref)-ROW($L$19))/(OFFSET(OrderRange_Ref,,4)>0),ROWS($L$20:$L285)-OFFSET(Cumulative,,3)),IF(OFFSET(Cumulative,,5)>(ROW()-ROW($O$20)),_xlfn.AGGREGATE(15,6,(ROW(OrderRange_Ref)-ROW($L$19))/(OFFSET(OrderRange_Ref,,5)>0),ROWS($L$20:$L285)-OFFSET(Cumulative,,4)),\"\"))))))","v":""},"","","","",{"$f":"IF($N285=\"\",\"\",ROUND(SUMPRODUCT((LEFT(Transaction[Route],Branch_Digit)=RIGHT(BranchCode,Branch_Digit))*(Transaction[Type]=\"เบิก\")*(Transaction[Products]='Factory_Order Frm'!$R285)*(Transaction[Date]=$O285)*(Transaction[Qty In-Out]))/PcsPerTray,0))","v":""},{"$f":"IF($N285=\"\",\"\",MOD(SUMPRODUCT((LEFT(Transaction[Route],Branch_Digit)=RIGHT(BranchCode,Branch_Digit))*(Transaction[Type]=\"เบิก\")*(Transaction[Products]='Factory_Order Frm'!$R285)*(Transaction[Date]=$O285)*(Transaction[Qty In-Out])),PcsPerTray))","v":""}]
[null,null,null,null,null,null,null,null,null,null,null,null,null,{"$f":"IF(Cumulative>(ROW()-ROW($O$20)),_xlfn.AGGREGATE(15,6,(ROW(OrderRange_Ref)-ROW($L$19))/(OFFSET(OrderRange_Ref,,0)>0),ROWS($L$20:$L286)),IF(OFFSET(Cumulative,,1)>(ROW()-ROW($O$20)),_xlfn.AGGREGATE(15,6,(ROW(OrderRange_Ref)-ROW($L$19))/(OFFSET(OrderRange_Ref,,1)>0),ROWS($L$20:$L286)-OFFSET(Cumulative,,0)),IF(OFFSET(Cumulative,,2)>(ROW()-ROW($O$20)),_xlfn.AGGREGATE(15,6,(ROW(OrderRange_Ref)-ROW($L$19))/(OFFSET(OrderRange_Ref,,2)>0),ROWS($L$20:$L286)-OFFSET(Cumulative,,1)),IF(OFFSET(Cumulative,,3)>(ROW()-ROW($O$20)),_xlfn.AGGREGATE(15,6,(ROW(OrderRange_Ref)-ROW($L$19))/(OFFSET(OrderRange_Ref,,3)>0),ROWS($L$20:$L286)-OFFSET(Cumulative,,2)),IF(OFFSET(Cumulative,,4)>(ROW()-ROW($O$20)),_xlfn.AGGREGATE(15,6,(ROW(OrderRange_Ref)-ROW($L$19))/(OFFSET(OrderRange_Ref,,4)>0),ROWS($L$20:$L286)-OFFSET(Cumulative,,3)),IF(OFFSET(Cumulative,,5)>(ROW()-ROW($O$20)),_xlfn.AGGREGATE(15,6,(ROW(OrderRange_Ref)-ROW($L$19))/(OFFSET(OrderRange_Ref,,5)>0),ROWS($L$20:$L286)-OFFSET(Cumulative,,4)),\"\"))))))","v":""},"","","","",{"$f":"IF($N286=\"\",\"\",ROUND(SUMPRODUCT((LEFT(Transaction[Route],Branch_Digit)=RIGHT(BranchCode,Branch_Digit))*(Transaction[Type]=\"เบิก\")*(Transaction[Products]='Factory_Order Frm'!$R286)*(Transaction[Date]=$O286)*(Transaction[Qty In-Out]))/PcsPerTray,0))","v":""},{"$f":"IF($N286=\"\",\"\",MOD(SUMPRODUCT((LEFT(Transaction[Route],Branch_Digit)=RIGHT(BranchCode,Branch_Digit))*(Transaction[Type]=\"เบิก\")*(Transaction[Products]='Factory_Order Frm'!$R286)*(Transaction[Date]=$O286)*(Transaction[Qty In-Out])),PcsPerTray))","v":""}]
[null,null,null,null,null,null,null,null,null,null,null,null,null,{"$f":"IF(Cumulative>(ROW()-ROW($O$20)),_xlfn.AGGREGATE(15,6,(ROW(OrderRange_Ref)-ROW($L$19))/(OFFSET(OrderRange_Ref,,0)>0),ROWS($L$20:$L287)),IF(OFFSET(Cumulative,,1)>(ROW()-ROW($O$20)),_xlfn.AGGREGATE(15,6,(ROW(OrderRange_Ref)-ROW($L$19))/(OFFSET(OrderRange_Ref,,1)>0),ROWS($L$20:$L287)-OFFSET(Cumulative,,0)),IF(OFFSET(Cumulative,,2)>(ROW()-ROW($O$20)),_xlfn.AGGREGATE(15,6,(ROW(OrderRange_Ref)-ROW($L$19))/(OFFSET(OrderRange_Ref,,2)>0),ROWS($L$20:$L287)-OFFSET(Cumulative,,1)),IF(OFFSET(Cumulative,,3)>(ROW()-ROW($O$20)),_xlfn.AGGREGATE(15,6,(ROW(OrderRange_Ref)-ROW($L$19))/(OFFSET(OrderRange_Ref,,3)>0),ROWS($L$20:$L287)-OFFSET(Cumulative,,2)),IF(OFFSET(Cumulative,,4)>(ROW()-ROW($O$20)),_xlfn.AGGREGATE(15,6,(ROW(OrderRange_Ref)-ROW($L$19))/(OFFSET(OrderRange_Ref,,4)>0),ROWS($L$20:$L287)-OFFSET(Cumulative,,3)),IF(OFFSET(Cumulative,,5)>(ROW()-ROW($O$20)),_xlfn.AGGREGATE(15,6,(ROW(OrderRange_Ref)-ROW($L$19))/(OFFSET(OrderRange_Ref,,5)>0),ROWS($L$20:$L287)-OFFSET(Cumulative,,4)),\"\"))))))","v":""},"","","","",{"$f":"IF($N287=\"\",\"\",ROUND(SUMPRODUCT((LEFT(Transaction[Route],Branch_Digit)=RIGHT(BranchCode,Branch_Digit))*(Transaction[Type]=\"เบิก\")*(Transaction[Products]='Factory_Order Frm'!$R287)*(Transaction[Date]=$O287)*(Transaction[Qty In-Out]))/PcsPerTray,0))","v":""},{"$f":"IF($N287=\"\",\"\",MOD(SUMPRODUCT((LEFT(Transaction[Route],Branch_Digit)=RIGHT(BranchCode,Branch_Digit))*(Transaction[Type]=\"เบิก\")*(Transaction[Products]='Factory_Order Frm'!$R287)*(Transaction[Date]=$O287)*(Transaction[Qty In-Out])),PcsPerTray))","v":""}]
[null,null,null,null,null,null,null,null,null,null,null,null,null,{"$f":"IF(Cumulative>(ROW()-ROW($O$20)),_xlfn.AGGREGATE(15,6,(ROW(OrderRange_Ref)-ROW($L$19))/(OFFSET(OrderRange_Ref,,0)>0),ROWS($L$20:$L288)),IF(OFFSET(Cumulative,,1)>(ROW()-ROW($O$20)),_xlfn.AGGREGATE(15,6,(ROW(OrderRange_Ref)-ROW($L$19))/(OFFSET(OrderRange_Ref,,1)>0),ROWS($L$20:$L288)-OFFSET(Cumulative,,0)),IF(OFFSET(Cumulative,,2)>(ROW()-ROW($O$20)),_xlfn.AGGREGATE(15,6,(ROW(OrderRange_Ref)-ROW($L$19))/(OFFSET(OrderRange_Ref,,2)>0),ROWS($L$20:$L288)-OFFSET(Cumulative,,1)),IF(OFFSET(Cumulative,,3)>(ROW()-ROW($O$20)),_xlfn.AGGREGATE(15,6,(ROW(OrderRange_Ref)-ROW($L$19))/(OFFSET(OrderRange_Ref,,3)>0),ROWS($L$20:$L288)-OFFSET(Cumulative,,2)),IF(OFFSET(Cumulative,,4)>(ROW()-ROW($O$20)),_xlfn.AGGREGATE(15,6,(ROW(OrderRange_Ref)-ROW($L$19))/(OFFSET(OrderRange_Ref,,4)>0),ROWS($L$20:$L288)-OFFSET(Cumulative,,3)),IF(OFFSET(Cumulative,,5)>(ROW()-ROW($O$20)),_xlfn.AGGREGATE(15,6,(ROW(OrderRange_Ref)-ROW($L$19))/(OFFSET(OrderRange_Ref,,5)>0),ROWS($L$20:$L288)-OFFSET(Cumulative,,4)),\"\"))))))","v":""},"","","","",{"$f":"IF($N288=\"\",\"\",ROUND(SUMPRODUCT((LEFT(Transaction[Route],Branch_Digit)=RIGHT(BranchCode,Branch_Digit))*(Transaction[Type]=\"เบิก\")*(Transaction[Products]='Factory_Order Frm'!$R288)*(Transaction[Date]=$O288)*(Transaction[Qty In-Out]))/PcsPerTray,0))","v":""},{"$f":"IF($N288=\"\",\"\",MOD(SUMPRODUCT((LEFT(Transaction[Route],Branch_Digit)=RIGHT(BranchCode,Branch_Digit))*(Transaction[Type]=\"เบิก\")*(Transaction[Products]='Factory_Order Frm'!$R288)*(Transaction[Date]=$O288)*(Transaction[Qty In-Out])),PcsPerTray))","v":""}]
[null,null,null,null,null,null,null,null,null,null,null,null,null,{"$f":"IF(Cumulative>(ROW()-ROW($O$20)),_xlfn.AGGREGATE(15,6,(ROW(OrderRange_Ref)-ROW($L$19))/(OFFSET(OrderRange_Ref,,0)>0),ROWS($L$20:$L289)),IF(OFFSET(Cumulative,,1)>(ROW()-ROW($O$20)),_xlfn.AGGREGATE(15,6,(ROW(OrderRange_Ref)-ROW($L$19))/(OFFSET(OrderRange_Ref,,1)>0),ROWS($L$20:$L289)-OFFSET(Cumulative,,0)),IF(OFFSET(Cumulative,,2)>(ROW()-ROW($O$20)),_xlfn.AGGREGATE(15,6,(ROW(OrderRange_Ref)-ROW($L$19))/(OFFSET(OrderRange_Ref,,2)>0),ROWS($L$20:$L289)-OFFSET(Cumulative,,1)),IF(OFFSET(Cumulative,,3)>(ROW()-ROW($O$20)),_xlfn.AGGREGATE(15,6,(ROW(OrderRange_Ref)-ROW($L$19))/(OFFSET(OrderRange_Ref,,3)>0),ROWS($L$20:$L289)-OFFSET(Cumulative,,2)),IF(OFFSET(Cumulative,,4)>(ROW()-ROW($O$20)),_xlfn.AGGREGATE(15,6,(ROW(OrderRange_Ref)-ROW($L$19))/(OFFSET(OrderRange_Ref,,4)>0),ROWS($L$20:$L289)-OFFSET(Cumulative,,3)),IF(OFFSET(Cumulative,,5)>(ROW()-ROW($O$20)),_xlfn.AGGREGATE(15,6,(ROW(OrderRange_Ref)-ROW($L$19))/(OFFSET(OrderRange_Ref,,5)>0),ROWS($L$20:$L289)-OFFSET(Cumulative,,4)),\"\"))))))","v":""},"","","","",{"$f":"IF($N289=\"\",\"\",ROUND(SUMPRODUCT((LEFT(Transaction[Route],Branch_Digit)=RIGHT(BranchCode,Branch_Digit))*(Transaction[Type]=\"เบิก\")*(Transaction[Products]='Factory_Order Frm'!$R289)*(Transaction[Date]=$O289)*(Transaction[Qty In-Out]))/PcsPerTray,0))","v":""},{"$f":"IF($N289=\"\",\"\",MOD(SUMPRODUCT((LEFT(Transaction[Route],Branch_Digit)=RIGHT(BranchCode,Branch_Digit))*(Transaction[Type]=\"เบิก\")*(Transaction[Products]='Factory_Order Frm'!$R289)*(Transaction[Date]=$O289)*(Transaction[Qty In-Out])),PcsPerTray))","v":""}]
[null,null,null,null,null,null,null,null,null,null,null,null,null,{"$f":"IF(Cumulative>(ROW()-ROW($O$20)),_xlfn.AGGREGATE(15,6,(ROW(OrderRange_Ref)-ROW($L$19))/(OFFSET(OrderRange_Ref,,0)>0),ROWS($L$20:$L290)),IF(OFFSET(Cumulative,,1)>(ROW()-ROW($O$20)),_xlfn.AGGREGATE(15,6,(ROW(OrderRange_Ref)-ROW($L$19))/(OFFSET(OrderRange_Ref,,1)>0),ROWS($L$20:$L290)-OFFSET(Cumulative,,0)),IF(OFFSET(Cumulative,,2)>(ROW()-ROW($O$20)),_xlfn.AGGREGATE(15,6,(ROW(OrderRange_Ref)-ROW($L$19))/(OFFSET(OrderRange_Ref,,2)>0),ROWS($L$20:$L290)-OFFSET(Cumulative,,1)),IF(OFFSET(Cumulative,,3)>(ROW()-ROW($O$20)),_xlfn.AGGREGATE(15,6,(ROW(OrderRange_Ref)-ROW($L$19))/(OFFSET(OrderRange_Ref,,3)>0),ROWS($L$20:$L290)-OFFSET(Cumulative,,2)),IF(OFFSET(Cumulative,,4)>(ROW()-ROW($O$20)),_xlfn.AGGREGATE(15,6,(ROW(OrderRange_Ref)-ROW($L$19))/(OFFSET(OrderRange_Ref,,4)>0),ROWS($L$20:$L290)-OFFSET(Cumulative,,3)),IF(OFFSET(Cumulative,,5)>(ROW()-ROW($O$20)),_xlfn.AGGREGATE(15,6,(ROW(OrderRange_Ref)-ROW($L$19))/(OFFSET(OrderRange_Ref,,5)>0),ROWS($L$20:$L290)-OFFSET(Cumulative,,4)),\"\"))))))","v":""},"","","","",{"$f":"IF($N290=\"\",\"\",ROUND(SUMPRODUCT((LEFT(Transaction[Route],Branch_Digit)=RIGHT(BranchCode,Branch_Digit))*(Transaction[Type]=\"เบิก\")*(Transaction[Products]='Factory_Order Frm'!$R290)*(Transaction[Date]=$O290)*(Transaction[Qty In-Out]))/PcsPerTray,0))","v":""},{"$f":"IF($N290=\"\",\"\",MOD(SUMPRODUCT((LEFT(Transaction[Route],Branch_Digit)=RIGHT(BranchCode,Branch_Digit))*(Transaction[Type]=\"เบิก\")*(Transaction[Products]='Factory_Order Frm'!$R290)*(Transaction[Date]=$O290)*(Transaction[Qty In-Out])),PcsPerTray))","v":""}]
[null,null,null,null,null,null,null,null,null,null,null,null,null,{"$f":"IF(Cumulative>(ROW()-ROW($O$20)),_xlfn.AGGREGATE(15,6,(ROW(OrderRange_Ref)-ROW($L$19))/(OFFSET(OrderRange_Ref,,0)>0),ROWS($L$20:$L291)),IF(OFFSET(Cumulative,,1)>(ROW()-ROW($O$20)),_xlfn.AGGREGATE(15,6,(ROW(OrderRange_Ref)-ROW($L$19))/(OFFSET(OrderRange_Ref,,1)>0),ROWS($L$20:$L291)-OFFSET(Cumulative,,0)),IF(OFFSET(Cumulative,,2)>(ROW()-ROW($O$20)),_xlfn.AGGREGATE(15,6,(ROW(OrderRange_Ref)-ROW($L$19))/(OFFSET(OrderRange_Ref,,2)>0),ROWS($L$20:$L291)-OFFSET(Cumulative,,1)),IF(OFFSET(Cumulative,,3)>(ROW()-ROW($O$20)),_xlfn.AGGREGATE(15,6,(ROW(OrderRange_Ref)-ROW($L$19))/(OFFSET(OrderRange_Ref,,3)>0),ROWS($L$20:$L291)-OFFSET(Cumulative,,2)),IF(OFFSET(Cumulative,,4)>(ROW()-ROW($O$20)),_xlfn.AGGREGATE(15,6,(ROW(OrderRange_Ref)-ROW($L$19))/(OFFSET(OrderRange_Ref,,4)>0),ROWS($L$20:$L291)-OFFSET(Cumulative,,3)),IF(OFFSET(Cumulative,,5)>(ROW()-ROW($O$20)),_xlfn.AGGREGATE(15,6,(ROW(OrderRange_Ref)-ROW($L$19))/(OFFSET(OrderRange_Ref,,5)>0),ROWS($L$20:$L291)-OFFSET(Cumulative,,4)),\"\"))))))","v":""},"","","","",{"$f":"IF($N291=\"\",\"\",ROUND(SUMPRODUCT((LEFT(Transaction[Route],Branch_Digit)=RIGHT(BranchCode,Branch_Digit))*(Transaction[Type]=\"เบิก\")*(Transaction[Products]='Factory_Order Frm'!$R291)*(Transaction[Date]=$O291)*(Transaction[Qty In-Out]))/PcsPerTray,0))","v":""},{"$f":"IF($N291=\"\",\"\",MOD(SUMPRODUCT((LEFT(Transaction[Route],Branch_Digit)=RIGHT(BranchCode,Branch_Digit))*(Transaction[Type]=\"เบิก\")*(Transaction[Products]='Factory_Order Frm'!$R291)*(Transaction[Date]=$O291)*(Transaction[Qty In-Out])),PcsPerTray))","v":""}]
[null,null,null,null,null,null,null,null,null,null,null,null,null,{"$f":"IF(Cumulative>(ROW()-ROW($O$20)),_xlfn.AGGREGATE(15,6,(ROW(OrderRange_Ref)-ROW($L$19))/(OFFSET(OrderRange_Ref,,0)>0),ROWS($L$20:$L292)),IF(OFFSET(Cumulative,,1)>(ROW()-ROW($O$20)),_xlfn.AGGREGATE(15,6,(ROW(OrderRange_Ref)-ROW($L$19))/(OFFSET(OrderRange_Ref,,1)>0),ROWS($L$20:$L292)-OFFSET(Cumulative,,0)),IF(OFFSET(Cumulative,,2)>(ROW()-ROW($O$20)),_xlfn.AGGREGATE(15,6,(ROW(OrderRange_Ref)-ROW($L$19))/(OFFSET(OrderRange_Ref,,2)>0),ROWS($L$20:$L292)-OFFSET(Cumulative,,1)),IF(OFFSET(Cumulative,,3)>(ROW()-ROW($O$20)),_xlfn.AGGREGATE(15,6,(ROW(OrderRange_Ref)-ROW($L$19))/(OFFSET(OrderRange_Ref,,3)>0),ROWS($L$20:$L292)-OFFSET(Cumulative,,2)),IF(OFFSET(Cumulative,,4)>(ROW()-ROW($O$20)),_xlfn.AGGREGATE(15,6,(ROW(OrderRange_Ref)-ROW($L$19))/(OFFSET(OrderRange_Ref,,4)>0),ROWS($L$20:$L292)-OFFSET(Cumulative,,3)),IF(OFFSET(Cumulative,,5)>(ROW()-ROW($O$20)),_xlfn.AGGREGATE(15,6,(ROW(OrderRange_Ref)-ROW($L$19))/(OFFSET(OrderRange_Ref,,5)>0),ROWS($L$20:$L292)-OFFSET(Cumulative,,4)),\"\"))))))","v":""},"","","","",{"$f":"IF($N292=\"\",\"\",ROUND(SUMPRODUCT((LEFT(Transaction[Route],Branch_Digit)=RIGHT(BranchCode,Branch_Digit))*(Transaction[Type]=\"เบิก\")*(Transaction[Products]='Factory_Order Frm'!$R292)*(Transaction[Date]=$O292)*(Transaction[Qty In-Out]))/PcsPerTray,0))","v":""},{"$f":"IF($N292=\"\",\"\",MOD(SUMPRODUCT((LEFT(Transaction[Route],Branch_Digit)=RIGHT(BranchCode,Branch_Digit))*(Transaction[Type]=\"เบิก\")*(Transaction[Products]='Factory_Order Frm'!$R292)*(Transaction[Date]=$O292)*(Transaction[Qty In-Out])),PcsPerTray))","v":""}]
[null,null,null,null,null,null,null,null,null,null,null,null,null,{"$f":"IF(Cumulative>(ROW()-ROW($O$20)),_xlfn.AGGREGATE(15,6,(ROW(OrderRange_Ref)-ROW($L$19))/(OFFSET(OrderRange_Ref,,0)>0),ROWS($L$20:$L293)),IF(OFFSET(Cumulative,,1)>(ROW()-ROW($O$20)),_xlfn.AGGREGATE(15,6,(ROW(OrderRange_Ref)-ROW($L$19))/(OFFSET(OrderRange_Ref,,1)>0),ROWS($L$20:$L293)-OFFSET(Cumulative,,0)),IF(OFFSET(Cumulative,,2)>(ROW()-ROW($O$20)),_xlfn.AGGREGATE(15,6,(ROW(OrderRange_Ref)-ROW($L$19))/(OFFSET(OrderRange_Ref,,2)>0),ROWS($L$20:$L293)-OFFSET(Cumulative,,1)),IF(OFFSET(Cumulative,,3)>(ROW()-ROW($O$20)),_xlfn.AGGREGATE(15,6,(ROW(OrderRange_Ref)-ROW($L$19))/(OFFSET(OrderRange_Ref,,3)>0),ROWS($L$20:$L293)-OFFSET(Cumulative,,2)),IF(OFFSET(Cumulative,,4)>(ROW()-ROW($O$20)),_xlfn.AGGREGATE(15,6,(ROW(OrderRange_Ref)-ROW($L$19))/(OFFSET(OrderRange_Ref,,4)>0),ROWS($L$20:$L293)-OFFSET(Cumulative,,3)),IF(OFFSET(Cumulative,,5)>(ROW()-ROW($O$20)),_xlfn.AGGREGATE(15,6,(ROW(OrderRange_Ref)-ROW($L$19))/(OFFSET(OrderRange_Ref,,5)>0),ROWS($L$20:$L293)-OFFSET(Cumulative,,4)),\"\"))))))","v":""},"","","","",{"$f":"IF($N293=\"\",\"\",ROUND(SUMPRODUCT((LEFT(Transaction[Route],Branch_Digit)=RIGHT(BranchCode,Branch_Digit))*(Transaction[Type]=\"เบิก\")*(Transaction[Products]='Factory_Order Frm'!$R293)*(Transaction[Date]=$O293)*(Transaction[Qty In-Out]))/PcsPerTray,0))","v":""},{"$f":"IF($N293=\"\",\"\",MOD(SUMPRODUCT((LEFT(Transaction[Route],Branch_Digit)=RIGHT(BranchCode,Branch_Digit))*(Transaction[Type]=\"เบิก\")*(Transaction[Products]='Factory_Order Frm'!$R293)*(Transaction[Date]=$O293)*(Transaction[Qty In-Out])),PcsPerTray))","v":""}]
[null,null,null,null,null,null,null,null,null,null,null,null,null,{"$f":"IF(Cumulative>(ROW()-ROW($O$20)),_xlfn.AGGREGATE(15,6,(ROW(OrderRange_Ref)-ROW($L$19))/(OFFSET(OrderRange_Ref,,0)>0),ROWS($L$20:$L294)),IF(OFFSET(Cumulative,,1)>(ROW()-ROW($O$20)),_xlfn.AGGREGATE(15,6,(ROW(OrderRange_Ref)-ROW($L$19))/(OFFSET(OrderRange_Ref,,1)>0),ROWS($L$20:$L294)-OFFSET(Cumulative,,0)),IF(OFFSET(Cumulative,,2)>(ROW()-ROW($O$20)),_xlfn.AGGREGATE(15,6,(ROW(OrderRange_Ref)-ROW($L$19))/(OFFSET(OrderRange_Ref,,2)>0),ROWS($L$20:$L294)-OFFSET(Cumulative,,1)),IF(OFFSET(Cumulative,,3)>(ROW()-ROW($O$20)),_xlfn.AGGREGATE(15,6,(ROW(OrderRange_Ref)-ROW($L$19))/(OFFSET(OrderRange_Ref,,3)>0),ROWS($L$20:$L294)-OFFSET(Cumulative,,2)),IF(OFFSET(Cumulative,,4)>(ROW()-ROW($O$20)),_xlfn.AGGREGATE(15,6,(ROW(OrderRange_Ref)-ROW($L$19))/(OFFSET(OrderRange_Ref,,4)>0),ROWS($L$20:$L294)-OFFSET(Cumulative,,3)),IF(OFFSET(Cumulative,,5)>(ROW()-ROW($O$20)),_xlfn.AGGREGATE(15,6,(ROW(OrderRange_Ref)-ROW($L$19))/(OFFSET(OrderRange_Ref,,5)>0),ROWS($L$20:$L294)-OFFSET(Cumulative,,4)),\"\"))))))","v":""},"","","","",{"$f":"IF($N294=\"\",\"\",ROUND(SUMPRODUCT((LEFT(Transaction[Route],Branch_Digit)=RIGHT(BranchCode,Branch_Digit))*(Transaction[Type]=\"เบิก\")*(Transaction[Products]='Factory_Order Frm'!$R294)*(Transaction[Date]=$O294)*(Transaction[Qty In-Out]))/PcsPerTray,0))","v":""},{"$f":"IF($N294=\"\",\"\",MOD(SUMPRODUCT((LEFT(Transaction[Route],Branch_Digit)=RIGHT(BranchCode,Branch_Digit))*(Transaction[Type]=\"เบิก\")*(Transaction[Products]='Factory_Order Frm'!$R294)*(Transaction[Date]=$O294)*(Transaction[Qty In-Out])),PcsPerTray))","v":""}]
[null,null,null,null,null,null,null,null,null,null,null,null,null,{"$f":"IF(Cumulative>(ROW()-ROW($O$20)),_xlfn.AGGREGATE(15,6,(ROW(OrderRange_Ref)-ROW($L$19))/(OFFSET(OrderRange_Ref,,0)>0),ROWS($L$20:$L295)),IF(OFFSET(Cumulative,,1)>(ROW()-ROW($O$20)),_xlfn.AGGREGATE(15,6,(ROW(OrderRange_Ref)-ROW($L$19))/(OFFSET(OrderRange_Ref,,1)>0),ROWS($L$20:$L295)-OFFSET(Cumulative,,0)),IF(OFFSET(Cumulative,,2)>(ROW()-ROW($O$20)),_xlfn.AGGREGATE(15,6,(ROW(OrderRange_Ref)-ROW($L$19))/(OFFSET(OrderRange_Ref,,2)>0),ROWS($L$20:$L295)-OFFSET(Cumulative,,1)),IF(OFFSET(Cumulative,,3)>(ROW()-ROW($O$20)),_xlfn.AGGREGATE(15,6,(ROW(OrderRange_Ref)-ROW($L$19))/(OFFSET(OrderRange_Ref,,3)>0),ROWS($L$20:$L295)-OFFSET(Cumulative,,2)),IF(OFFSET(Cumulative,,4)>(ROW()-ROW($O$20)),_xlfn.AGGREGATE(15,6,(ROW(OrderRange_Ref)-ROW($L$19))/(OFFSET(OrderRange_Ref,,4)>0),ROWS($L$20:$L295)-OFFSET(Cumulative,,3)),IF(OFFSET(Cumulative,,5)>(ROW()-ROW($O$20)),_xlfn.AGGREGATE(15,6,(ROW(OrderRange_Ref)-ROW($L$19))/(OFFSET(OrderRange_Ref,,5)>0),ROWS($L$20:$L295)-OFFSET(Cumulative,,4)),\"\"))))))","v":""},"","","","",{"$f":"IF($N295=\"\",\"\",ROUND(SUMPRODUCT((LEFT(Transaction[Route],Branch_Digit)=RIGHT(BranchCode,Branch_Digit))*(Transaction[Type]=\"เบิก\")*(Transaction[Products]='Factory_Order Frm'!$R295)*(Transaction[Date]=$O295)*(Transaction[Qty In-Out]))/PcsPerTray,0))","v":""},{"$f":"IF($N295=\"\",\"\",MOD(SUMPRODUCT((LEFT(Transaction[Route],Branch_Digit)=RIGHT(BranchCode,Branch_Digit))*(Transaction[Type]=\"เบิก\")*(Transaction[Products]='Factory_Order Frm'!$R295)*(Transaction[Date]=$O295)*(Transaction[Qty In-Out])),PcsPerTray))","v":""}]
[null,null,null,null,null,null,null,null,null,null,null,null,null,{"$f":"IF(Cumulative>(ROW()-ROW($O$20)),_xlfn.AGGREGATE(15,6,(ROW(OrderRange_Ref)-ROW($L$19))/(OFFSET(OrderRange_Ref,,0)>0),ROWS($L$20:$L296)),IF(OFFSET(Cumulative,,1)>(ROW()-ROW($O$20)),_xlfn.AGGREGATE(15,6,(ROW(OrderRange_Ref)-ROW($L$19))/(OFFSET(OrderRange_Ref,,1)>0),ROWS($L$20:$L296)-OFFSET(Cumulative,,0)),IF(OFFSET(Cumulative,,2)>(ROW()-ROW($O$20)),_xlfn.AGGREGATE(15,6,(ROW(OrderRange_Ref)-ROW($L$19))/(OFFSET(OrderRange_Ref,,2)>0),ROWS($L$20:$L296)-OFFSET(Cumulative,,1)),IF(OFFSET(Cumulative,,3)>(ROW()-ROW($O$20)),_xlfn.AGGREGATE(15,6,(ROW(OrderRange_Ref)-ROW($L$19))/(OFFSET(OrderRange_Ref,,3)>0),ROWS($L$20:$L296)-OFFSET(Cumulative,,2)),IF(OFFSET(Cumulative,,4)>(ROW()-ROW($O$20)),_xlfn.AGGREGATE(15,6,(ROW(OrderRange_Ref)-ROW($L$19))/(OFFSET(OrderRange_Ref,,4)>0),ROWS($L$20:$L296)-OFFSET(Cumulative,,3)),IF(OFFSET(Cumulative,,5)>(ROW()-ROW($O$20)),_xlfn.AGGREGATE(15,6,(ROW(OrderRange_Ref)-ROW($L$19))/(OFFSET(OrderRange_Ref,,5)>0),ROWS($L$20:$L296)-OFFSET(Cumulative,,4)),\"\"))))))","v":""},"","","","",{"$f":"IF($N296=\"\",\"\",ROUND(SUMPRODUCT((LEFT(Transaction[Route],Branch_Digit)=RIGHT(BranchCode,Branch_Digit))*(Transaction[Type]=\"เบิก\")*(Transaction[Products]='Factory_Order Frm'!$R296)*(Transaction[Date]=$O296)*(Transaction[Qty In-Out]))/PcsPerTray,0))","v":""},{"$f":"IF($N296=\"\",\"\",MOD(SUMPRODUCT((LEFT(Transaction[Route],Branch_Digit)=RIGHT(BranchCode,Branch_Digit))*(Transaction[Type]=\"เบิก\")*(Transaction[Products]='Factory_Order Frm'!$R296)*(Transaction[Date]=$O296)*(Transaction[Qty In-Out])),PcsPerTray))","v":""}]
[null,null,null,null,null,null,null,null,null,null,null,null,null,{"$f":"IF(Cumulative>(ROW()-ROW($O$20)),_xlfn.AGGREGATE(15,6,(ROW(OrderRange_Ref)-ROW($L$19))/(OFFSET(OrderRange_Ref,,0)>0),ROWS($L$20:$L297)),IF(OFFSET(Cumulative,,1)>(ROW()-ROW($O$20)),_xlfn.AGGREGATE(15,6,(ROW(OrderRange_Ref)-ROW($L$19))/(OFFSET(OrderRange_Ref,,1)>0),ROWS($L$20:$L297)-OFFSET(Cumulative,,0)),IF(OFFSET(Cumulative,,2)>(ROW()-ROW($O$20)),_xlfn.AGGREGATE(15,6,(ROW(OrderRange_Ref)-ROW($L$19))/(OFFSET(OrderRange_Ref,,2)>0),ROWS($L$20:$L297)-OFFSET(Cumulative,,1)),IF(OFFSET(Cumulative,,3)>(ROW()-ROW($O$20)),_xlfn.AGGREGATE(15,6,(ROW(OrderRange_Ref)-ROW($L$19))/(OFFSET(OrderRange_Ref,,3)>0),ROWS($L$20:$L297)-OFFSET(Cumulative,,2)),IF(OFFSET(Cumulative,,4)>(ROW()-ROW($O$20)),_xlfn.AGGREGATE(15,6,(ROW(OrderRange_Ref)-ROW($L$19))/(OFFSET(OrderRange_Ref,,4)>0),ROWS($L$20:$L297)-OFFSET(Cumulative,,3)),IF(OFFSET(Cumulative,,5)>(ROW()-ROW($O$20)),_xlfn.AGGREGATE(15,6,(ROW(OrderRange_Ref)-ROW($L$19))/(OFFSET(OrderRange_Ref,,5)>0),ROWS($L$20:$L297)-OFFSET(Cumulative,,4)),\"\"))))))","v":""},"","","","",{"$f":"IF($N297=\"\",\"\",ROUND(SUMPRODUCT((LEFT(Transaction[Route],Branch_Digit)=RIGHT(BranchCode,Branch_Digit))*(Transaction[Type]=\"เบิก\")*(Transaction[Products]='Factory_Order Frm'!$R297)*(Transaction[Date]=$O297)*(Transaction[Qty In-Out]))/PcsPerTray,0))","v":""},{"$f":"IF($N297=\"\",\"\",MOD(SUMPRODUCT((LEFT(Transaction[Route],Branch_Digit)=RIGHT(BranchCode,Branch_Digit))*(Transaction[Type]=\"เบิก\")*(Transaction[Products]='Factory_Order Frm'!$R297)*(Transaction[Date]=$O297)*(Transaction[Qty In-Out])),PcsPerTray))","v":""}]
[null,null,null,null,null,null,null,null,null,null,null,null,null,{"$f":"IF(Cumulative>(ROW()-ROW($O$20)),_xlfn.AGGREGATE(15,6,(ROW(OrderRange_Ref)-ROW($L$19))/(OFFSET(OrderRange_Ref,,0)>0),ROWS($L$20:$L298)),IF(OFFSET(Cumulative,,1)>(ROW()-ROW($O$20)),_xlfn.AGGREGATE(15,6,(ROW(OrderRange_Ref)-ROW($L$19))/(OFFSET(OrderRange_Ref,,1)>0),ROWS($L$20:$L298)-OFFSET(Cumulative,,0)),IF(OFFSET(Cumulative,,2)>(ROW()-ROW($O$20)),_xlfn.AGGREGATE(15,6,(ROW(OrderRange_Ref)-ROW($L$19))/(OFFSET(OrderRange_Ref,,2)>0),ROWS($L$20:$L298)-OFFSET(Cumulative,,1)),IF(OFFSET(Cumulative,,3)>(ROW()-ROW($O$20)),_xlfn.AGGREGATE(15,6,(ROW(OrderRange_Ref)-ROW($L$19))/(OFFSET(OrderRange_Ref,,3)>0),ROWS($L$20:$L298)-OFFSET(Cumulative,,2)),IF(OFFSET(Cumulative,,4)>(ROW()-ROW($O$20)),_xlfn.AGGREGATE(15,6,(ROW(OrderRange_Ref)-ROW($L$19))/(OFFSET(OrderRange_Ref,,4)>0),ROWS($L$20:$L298)-OFFSET(Cumulative,,3)),IF(OFFSET(Cumulative,,5)>(ROW()-ROW($O$20)),_xlfn.AGGREGATE(15,6,(ROW(OrderRange_Ref)-ROW($L$19))/(OFFSET(OrderRange_Ref,,5)>0),ROWS($L$20:$L298)-OFFSET(Cumulative,,4)),\"\"))))))","v":""},"","","","",{"$f":"IF($N298=\"\",\"\",ROUND(SUMPRODUCT((LEFT(Transaction[Route],Branch_Digit)=RIGHT(BranchCode,Branch_Digit))*(Transaction[Type]=\"เบิก\")*(Transaction[Products]='Factory_Order Frm'!$R298)*(Transaction[Date]=$O298)*(Transaction[Qty In-Out]))/PcsPerTray,0))","v":""},{"$f":"IF($N298=\"\",\"\",MOD(SUMPRODUCT((LEFT(Transaction[Route],Branch_Digit)=RIGHT(BranchCode,Branch_Digit))*(Transaction[Type]=\"เบิก\")*(Transaction[Products]='Factory_Order Frm'!$R298)*(Transaction[Date]=$O298)*(Transaction[Qty In-Out])),PcsPerTray))","v":""}]
[null,null,null,null,null,null,null,null,null,null,null,null,null,{"$f":"IF(Cumulative>(ROW()-ROW($O$20)),_xlfn.AGGREGATE(15,6,(ROW(OrderRange_Ref)-ROW($L$19))/(OFFSET(OrderRange_Ref,,0)>0),ROWS($L$20:$L299)),IF(OFFSET(Cumulative,,1)>(ROW()-ROW($O$20)),_xlfn.AGGREGATE(15,6,(ROW(OrderRange_Ref)-ROW($L$19))/(OFFSET(OrderRange_Ref,,1)>0),ROWS($L$20:$L299)-OFFSET(Cumulative,,0)),IF(OFFSET(Cumulative,,2)>(ROW()-ROW($O$20)),_xlfn.AGGREGATE(15,6,(ROW(OrderRange_Ref)-ROW($L$19))/(OFFSET(OrderRange_Ref,,2)>0),ROWS($L$20:$L299)-OFFSET(Cumulative,,1)),IF(OFFSET(Cumulative,,3)>(ROW()-ROW($O$20)),_xlfn.AGGREGATE(15,6,(ROW(OrderRange_Ref)-ROW($L$19))/(OFFSET(OrderRange_Ref,,3)>0),ROWS($L$20:$L299)-OFFSET(Cumulative,,2)),IF(OFFSET(Cumulative,,4)>(ROW()-ROW($O$20)),_xlfn.AGGREGATE(15,6,(ROW(OrderRange_Ref)-ROW($L$19))/(OFFSET(OrderRange_Ref,,4)>0),ROWS($L$20:$L299)-OFFSET(Cumulative,,3)),IF(OFFSET(Cumulative,,5)>(ROW()-ROW($O$20)),_xlfn.AGGREGATE(15,6,(ROW(OrderRange_Ref)-ROW($L$19))/(OFFSET(OrderRange_Ref,,5)>0),ROWS($L$20:$L299)-OFFSET(Cumulative,,4)),\"\"))))))","v":""},"","","","",{"$f":"IF($N299=\"\",\"\",ROUND(SUMPRODUCT((LEFT(Transaction[Route],Branch_Digit)=RIGHT(BranchCode,Branch_Digit))*(Transaction[Type]=\"เบิก\")*(Transaction[Products]='Factory_Order Frm'!$R299)*(Transaction[Date]=$O299)*(Transaction[Qty In-Out]))/PcsPerTray,0))","v":""},{"$f":"IF($N299=\"\",\"\",MOD(SUMPRODUCT((LEFT(Transaction[Route],Branch_Digit)=RIGHT(BranchCode,Branch_Digit))*(Transaction[Type]=\"เบิก\")*(Transaction[Products]='Factory_Order Frm'!$R299)*(Transaction[Date]=$O299)*(Transaction[Qty In-Out])),PcsPerTray))","v":""}]
[null,null,null,null,null,null,null,null,null,null,null,null,null,{"$f":"IF(Cumulative>(ROW()-ROW($O$20)),_xlfn.AGGREGATE(15,6,(ROW(OrderRange_Ref)-ROW($L$19))/(OFFSET(OrderRange_Ref,,0)>0),ROWS($L$20:$L300)),IF(OFFSET(Cumulative,,1)>(ROW()-ROW($O$20)),_xlfn.AGGREGATE(15,6,(ROW(OrderRange_Ref)-ROW($L$19))/(OFFSET(OrderRange_Ref,,1)>0),ROWS($L$20:$L300)-OFFSET(Cumulative,,0)),IF(OFFSET(Cumulative,,2)>(ROW()-ROW($O$20)),_xlfn.AGGREGATE(15,6,(ROW(OrderRange_Ref)-ROW($L$19))/(OFFSET(OrderRange_Ref,,2)>0),ROWS($L$20:$L300)-OFFSET(Cumulative,,1)),IF(OFFSET(Cumulative,,3)>(ROW()-ROW($O$20)),_xlfn.AGGREGATE(15,6,(ROW(OrderRange_Ref)-ROW($L$19))/(OFFSET(OrderRange_Ref,,3)>0),ROWS($L$20:$L300)-OFFSET(Cumulative,,2)),IF(OFFSET(Cumulative,,4)>(ROW()-ROW($O$20)),_xlfn.AGGREGATE(15,6,(ROW(OrderRange_Ref)-ROW($L$19))/(OFFSET(OrderRange_Ref,,4)>0),ROWS($L$20:$L300)-OFFSET(Cumulative,,3)),IF(OFFSET(Cumulative,,5)>(ROW()-ROW($O$20)),_xlfn.AGGREGATE(15,6,(ROW(OrderRange_Ref)-ROW($L$19))/(OFFSET(OrderRange_Ref,,5)>0),ROWS($L$20:$L300)-OFFSET(Cumulative,,4)),\"\"))))))","v":""},"","","","",{"$f":"IF($N300=\"\",\"\",ROUND(SUMPRODUCT((LEFT(Transaction[Route],Branch_Digit)=RIGHT(BranchCode,Branch_Digit))*(Transaction[Type]=\"เบิก\")*(Transaction[Products]='Factory_Order Frm'!$R300)*(Transaction[Date]=$O300)*(Transaction[Qty In-Out]))/PcsPerTray,0))","v":""},{"$f":"IF($N300=\"\",\"\",MOD(SUMPRODUCT((LEFT(Transaction[Route],Branch_Digit)=RIGHT(BranchCode,Branch_Digit))*(Transaction[Type]=\"เบิก\")*(Transaction[Products]='Factory_Order Frm'!$R300)*(Transaction[Date]=$O300)*(Transaction[Qty In-Out])),PcsPerTray))","v":""}]

{"sheet":"OrderFrm_Manual","index":7,"n_rows":300,"n_cols":20,"rows_kept":300,"cut":false,"hidden":false,"merged":[[2,2,2,7],[59,1,59,2],[16,3,16,8],[8,7,8,8],[5,7,6,9],[7,7,7,9],[4,7,4,9]]}
[]
[null,null,null,null,null,"SETTING","PRODUCTS","STOCK","REPORT"]
[null,null,{"$f":"\"แบบฟอร์มใบขอเบิกสินค้าประจำสาขา\"&B_Name&\" (Product Order Form)\"","v":"แบบฟอร์มใบขอเบิกสินค้าประจำสาขาโรงงานร่มเกล้า (Product Order Form)"},null,null,null,null,null,"โรงงาน:","00-FRY"]
[]
[null,"เลขที่",{"$f":"\"PO_\"&MID(SL_Factory,4,3)&\"_\"&RIGHT(BranchCode,2)&\"-\"&TEXT(OrderDate,\"[$-107041e]yymmdd;@\")","v":"PO_FRY_RK-620218"},null,null,null,null,{"$f":"\"สาขา \"&B_Name","v":"สาขา โรงงานร่มเกล้า"}]
[null,null,null,null,null,null,null,{"$f":"IFERROR(\"เลขที่ \"&IFERROR(LEFT(B_Address,FIND(\"จ.\",B_Address)-1),LEFT(B_Address,FIND(\"แขวง\",B_Address)-1)),\"\")","v":"เลขที่ 205/5 ถ.ร่มเกล้า "}]
[]
[null,null,null,null,null,null,null,{"$f":"IF(B_Address=0,\"\",IFERROR(RIGHT(B_Address,LEN(B_Address)-FIND(\"จ.\",B_Address)+1),MID(B_Address,FIND(\"แขวง\",B_Address),FIND(\"กรุง\",B_Address)-FIND(\"แขวง\",B_Address))))","v":"แขวงคลองสามประเวศ เขตลาดกระบัง "}]
[null,null,null,null,null,null,null,{"$f":"IFERROR(IF(ISERROR(FIND(\"จ.\",B_Address)),RIGHT(B_Address,LEN(B_Address)-FIND(\"กรุงเทพ\",B_Address)+1),\"\"),\"\")","v":"กรุงเทพมหานคร 10520"}]
[null,null,null,null,14,"กุมภาพันธ์","2019-01-31"]
[null,"เรื่อง",{"$f":"\"ขอเบิกสินค้า เพื่อจัดจำหน่าย สาขา\"&B_Name &\"(\"&BranchCode&\")\"","v":"ขอเบิกสินค้า เพื่อจัดจำหน่าย สาขาโรงงานร่มเกล้า(00-FRK)"}]
[null,"เรียน",{"$f":"\"ผู้จัดการ\"&INDEX(dBranches[Thai_Name],MATCH(SL_Factory,Factory_List,0))&\" (คุณ\"&INDEX(dBranches[Manager],MATCH(SL_Factory,Factory_List,0))&\" )\"","v":"ผู้จัดการโรงงานระยอง (คุณนรรฆวุฒิ จันทฤทธิ์ )"}]
[]
[null,null,{"$f":"\"เนื่องด้วย สาขา\"&B_Name&\" มีจำนวน \"&RouteNum&\" สายวิ่ง มีความประสงค์ขอเบิกสินค้า เพื่อจัดจำหน่าย ระหว่างวันที่  \"& TEXT($D$18,\"[$-107041E]d mmmm yyy\")","v":"เนื่องด้วย สาขาโรงงานร่มเกล้า มีจำนวน 0 สายวิ่ง มีความประสงค์ขอเบิกสินค้า เพื่อจัดจำหน่าย ระหว่างวันที่  18 กุมภาพันธ์ 2562"}]
[null,{"$f":"\" ถึงวันที่ \"&TEXT($D$18+5,\"[$-107041E]d mmmm yyy\")&\"  จำนวนทั้งสิ้น \"&ROWS(OrderRange_Ref)-SUMPRODUCT((OFFSET(OrderRange_Ref,,1)=0)*(OFFSET(OrderRange_Ref,,2)=0)*(OFFSET(OrderRange_Ref,,3)=0)*(OFFSET(OrderRange_Ref,,4)=0)*(OFFSET(OrderRange_Ref,,5)=0)*(OFFSET(OrderRange_Ref,,6)=0))&\" รายการ \"&TEXT(SUM($D$60:$I$60),\"#,##0\")&\" ถาด โดยมีรายละเอียดดังนี้\"","v":" ถึงวันที่ 23 กุมภาพันธ์ 2562  จำนวนทั้งสิ้น 0 รายการ 0 ถาด โดยมีรายละเอียดดังนี้"}]
[]
[null,null,null,"จำนวนสั่งซื้อ (ถาด)",null,null,null,null,null,null,"จำนวนสาย :",null,null,null,"** สูตรนี้กำหนดไว้ที่ประมาณ 280 รายการ"]
[null,"ลำดับ","รายการสินค้า","2019-02-18",{"$f":"D18+1","v":"2019-02-19"},{"$f":"E18+1","v":"2019-02-20"},"2019-02-21","2019-02-22","2019-02-23","รวมทั้งสิ้น",{"$f":"INDEX(dBranches[Route],MATCH(BranchCode,dBranches[Code],0))","v":0},null,null,null,"วันที่","สาขา","ประเภท","รายการสินค้า","จำนวนถาด","เกิน (ชิ้น)"]
[null,"No.","Items",2,3,4,5,6,7,"ถาด","Pcs/Tray",null,null,"Index","Date","Branch","Type","Products","Qty-Tray","Excess-Pcs"]
[null,{"$f":"IF($C20=\"\",\"\",ROWS($C$20:$C20))","v":1},{"$f":"IF(ROWS($C$20:$C20)>COUNTA(IF(SL_Factory=\"00-FRY\",FRY_Product_List,FRK_Product_List)),\"\",INDEX(IF(SL_Factory=\"00-FRY\",FRY_Product_List,FRK_Product_List),ROWS($C$20:$C20)))","v":"01-ขนมปังหมูหยองน้ำสลัด"},null,null,null,null,null,null,{"$f":"IF($C20=\"\",\"\",SUM(D20:I20))","v":0},{"$f":"IF(OrderFrm_Manual!$C20=\"\",\"\",INDEX(dProduct[Pcs/Unit],MATCH(OrderFrm_Manual!$C20,dProduct[NameTH],)))","v":40},null,null,{"$f":"IF(Cumulative>(ROW()-ROW($O$20)),_xlfn.AGGREGATE(15,6,(ROW(OrderRange_Ref)-ROW($L$19))/(OFFSET(OrderRange_Ref,,0)>0),ROWS($L$20:$L20)),IF(OFFSET(Cumulative,,1)>(ROW()-ROW($O$20)),_xlfn.AGGREGATE(15,6,(ROW(OrderRange_Ref)-ROW($L$19))/(OFFSET(OrderRange_Ref,,1)>0),ROWS($L$20:$L20)-OFFSET(Cumulative,,0)),IF(OFFSET(Cumulative,,2)>(ROW()-ROW($O$20)),_xlfn.AGGREGATE(15,6,(ROW(OrderRange_Ref)-ROW($L$19))/(OFFSET(OrderRange_Ref,,2)>0),ROWS($L$20:$L20)-OFFSET(Cumulative,,1)),IF(OFFSET(Cumulative,,3)>(ROW()-ROW($O$20)),_xlfn.AGGREGATE(15,6,(ROW(OrderRange_Ref)-ROW($L$19))/(OFFSET(OrderRange_Ref,,3)>0),ROWS($L$20:$L20)-OFFSET(Cumulative,,2)),IF(OFFSET(Cumulative,,4)>(ROW()-ROW($O$20)),_xlfn.AGGREGATE(15,6,(ROW(OrderRange_Ref)-ROW($L$19))/(OFFSET(OrderRange_Ref,,4)>0),ROWS($L$20:$L20)-OFFSET(Cumulative,,3)),IF(OFFSET(Cumulative,,5)>(ROW()-ROW($O$20)),_xlfn.AGGREGATE(15,6,(ROW(OrderRange_Ref)-ROW($L$19))/(OFFSET(OrderRange_Ref,,5)>0),ROWS($L$20:$L20)-OFFSET(Cumulative,,4)),\"\"))))))","v":""},{"$f":"IF(Cumulative>(ROW()-ROW($O$20)),OrderDate,IF(OFFSET(Cumulative,,1)>(ROW()-ROW($O$20)),OrderDate+1,IF(OFFSET(Cumulative,,2)>(ROW()-ROW($O$20)),OrderDate+2,IF(OFFSET(Cumulative,,3)>(ROW()-ROW($O$20)),OrderDate+3,IF(OFFSET(Cumulative,,4)>(ROW()-ROW($O$20)),OrderDate+4,IF(OFFSET(Cumulative,,5)>(ROW()-ROW($O$20)),OrderDate+5,\"\"))))))","v":""},{"$f":"IF($O20<>\"\",BranchCode,\"\")","v":""},{"$f":"IF($O20<>\"\",\"จ่าย\",\"\")","v":""},{"$f":"IFERROR(INDEX($C$20:$C$54,$N20),\"\")","v":""},{"$f":"IF($N20=\"\",\"\",ROUND(INDEX(Order_Data,$N20,MATCH($O20,$D$18:$I$18,0)),0))","v":""}]
[null,{"$f":"IF($C21=\"\",\"\",ROWS($C$20:$C21))","v":2},{"$f":"IF(ROWS($C$20:$C21)>COUNTA(IF(SL_Factory=\"00-FRY\",FRY_Product_List,FRK_Product_List)),\"\",INDEX(IF(SL_Factory=\"00-FRY\",FRY_Product_List,FRK_Product_List),ROWS($C$20:$C21)))","v":"02-ขนมปังหมูหยองน้ำพริกเผา"},null,null,null,null,null,null,{"$f":"IF($C21=\"\",\"\",SUM(D21:I21))","v":0},{"$f":"IF(OrderFrm_Manual!$C21=\"\",\"\",INDEX(dProduct[Pcs/Unit],MATCH(OrderFrm_Manual!$C21,dProduct[NameTH],)))","v":40},null,null,{"$f":"IF(Cumulative>(ROW()-ROW($O$20)),_xlfn.AGGREGATE(15,6,(ROW(OrderRange_Ref)-ROW($L$19))/(OFFSET(OrderRange_Ref,,0)>0),ROWS($L$20:$L21)),IF(OFFSET(Cumulative,,1)>(ROW()-ROW($O$20)),_xlfn.AGGREGATE(15,6,(ROW(OrderRange_Ref)-ROW($L$19))/(OFFSET(OrderRange_Ref,,1)>0),ROWS($L$20:$L21)-OFFSET(Cumulative,,0)),IF(OFFSET(Cumulative,,2)>(ROW()-ROW($O$20)),_xlfn.AGGREGATE(15,6,(ROW(OrderRange_Ref)-ROW($L$19))/(OFFSET(OrderRange_Ref,,2)>0),ROWS($L$20:$L21)-OFFSET(Cumulative,,1)),IF(OFFSET(Cumulative,,3)>(ROW()-ROW($O$20)),_xlfn.AGGREGATE(15,6,(ROW(OrderRange_Ref)-ROW($L$19))/(OFFSET(OrderRange_Ref,,3)>0),ROWS($L$20:$L21)-OFFSET(Cumulative,,2)),IF(OFFSET(Cumulative,,4)>(ROW()-ROW($O$20)),_xlfn.AGGREGATE(15,6,(ROW(OrderRange_Ref)-ROW($L$19))/(OFFSET(OrderRange_Ref,,4)>0),ROWS($L$20:$L21)-OFFSET(Cumulative,,3)),IF(OFFSET(Cumulative,,5)>(ROW()-ROW($O$20)),_xlfn.AGGREGATE(15,6,(ROW(OrderRange_Ref)-ROW($L$19))/(OFFSET(OrderRange_Ref,,5)>0),ROWS($L$20:$L21)-OFFSET(Cumulative,,4)),\"\"))))))","v":""},"","",{"$f":"IF($O21<>\"\",\"จ่าย\",\"\")","v":""},{"$f":"IFERROR(INDEX($C$20:$C$54,$N21),\"\")","v":""},""]
[null,{"$f":"IF($C22=\"\",\"\",ROWS($C$20:$C22))","v":3},{"$f":"IF(ROWS($C$20:$C22)>COUNTA(IF(SL_Factory=\"00-FRY\",FRY_Product_List,FRK_Product_List)),\"\",INDEX(IF(SL_Factory=\"00-FRY\",FRY_Product_List,FRK_Product_List),ROWS($C$20:$C22)))","v":"03-ขนมปังไก่หยองน้ำสลัด"},null,null,null,null,null,null,0,{"$f":"IF(OrderFrm_Manual!$C22=\"\",\"\",INDEX(dProduct[Pcs/Unit],MATCH(OrderFrm_Manual!$C22,dProduct[NameTH],)))","v":40},null,null,{"$f":"IF(Cumulative>(ROW()-ROW($O$20)),_xlfn.AGGREGATE(15,6,(ROW(OrderRange_Ref)-ROW($L$19))/(OFFSET(OrderRange_Ref,,0)>0),ROWS($L$20:$L22)),IF(OFFSET(Cumulative,,1)>(ROW()-ROW($O$20)),_xlfn.AGGREGATE(15,6,(ROW(OrderRange_Ref)-ROW($L$19))/(OFFSET(OrderRange_Ref,,1)>0),ROWS($L$20:$L22)-OFFSET(Cumulative,,0)),IF(OFFSET(Cumulative,,2)>(ROW()-ROW($O$20)),_xlfn.AGGREGATE(15,6,(ROW(OrderRange_Ref)-ROW($L$19))/(OFFSET(OrderRange_Ref,,2)>0),ROWS($L$20:$L22)-OFFSET(Cumulative,,1)),IF(OFFSET(Cumulative,,3)>(ROW()-ROW($O$20)),_xlfn.AGGREGATE(15,6,(ROW(OrderRange_Ref)-ROW($L$19))/(OFFSET(OrderRange_Ref,,3)>0),ROWS($L$20:$L22)-OFFSET(Cumulative,,2)),IF(OFFSET(Cumulative,,4)>(ROW()-ROW($O$20)),_xlfn.AGGREGATE(15,6,(ROW(OrderRange_Ref)-ROW($L$19))/(OFFSET(OrderRange_Ref,,4)>0),ROWS($L$20:$L22)-OFFSET(Cumulative,,3)),IF(OFFSET(Cumulative,,5)>(ROW()-ROW($O$20)),_xlfn.AGGREGATE(15,6,(ROW(OrderRange_Ref)-ROW($L$19))/(OFFSET(OrderRange_Ref,,5)>0),ROWS($L$20:$L22)-OFFSET(Cumulative,,4)),\"\"))))))","v":""},"","","","",""]
[null,{"$f":"IF($C23=\"\",\"\",ROWS($C$20:$C23))","v":4},{"$f":"IF(ROWS($C$20:$C23)>COUNTA(IF(SL_Factory=\"00-FRY\",FRY_Product_List,FRK_Product_List)),\"\",INDEX(IF(SL_Factory=\"00-FRY\",FRY_Product_List,FRK_Product_List),ROWS($C$20:$C23)))","v":"04-ขนมปังไส้ครีมสลัด"},null,null,null,null,null,null,0,{"$f":"IF(OrderFrm_Manual!$C23=\"\",\"\",INDEX(dProduct[Pcs/Unit],MATCH(OrderFrm_Manual!$C23,dProduct[NameTH],)))","v":50},null,null,{"$f":"IF(Cumulative>(ROW()-ROW($O$20)),_xlfn.AGGREGATE(15,6,(ROW(OrderRange_Ref)-ROW($L$19))/(OFFSET(OrderRange_Ref,,0)>0),ROWS($L$20:$L23)),IF(OFFSET(Cumulative,,1)>(ROW()-ROW($O$20)),_xlfn.AGGREGATE(15,6,(ROW(OrderRange_Ref)-ROW($L$19))/(OFFSET(OrderRange_Ref,,1)>0),ROWS($L$20:$L23)-OFFSET(Cumulative,,0)),IF(OFFSET(Cumulative,,2)>(ROW()-ROW($O$20)),_xlfn.AGGREGATE(15,6,(ROW(OrderRange_Ref)-ROW($L$19))/(OFFSET(OrderRange_Ref,,2)>0),ROWS($L$20:$L23)-OFFSET(Cumulative,,1)),IF(OFFSET(Cumulative,,3)>(ROW()-ROW($O$20)),_xlfn.AGGREGATE(15,6,(ROW(OrderRange_Ref)-ROW($L$19))/(OFFSET(OrderRange_Ref,,3)>0),ROWS($L$20:$L23)-OFFSET(Cumulative,,2)),IF(OFFSET(Cumulative,,4)>(ROW()-ROW($O$20)),_xlfn.AGGREGATE(15,6,(ROW(OrderRange_Ref)-ROW($L$19))/(OFFSET(OrderRange_Ref,,4)>0),ROWS($L$20:$L23)-OFFSET(Cumulative,,3)),IF(OFFSET(Cumulative,,5)>(ROW()-ROW($O$20)),_xlfn.AGGREGATE(15,6,(ROW(OrderRange_Ref)-ROW($L$19))/(OFFSET(OrderRange_Ref,,5)>0),ROWS($L$20:$L23)-OFFSET(Cumulative,,4)),\"\"))))))","v":""},"","","","",""]
[null,{"$f":"IF($C24=\"\",\"\",ROWS($C$20:$C24))","v":5},{"$f":"IF(ROWS($C$20:$C24)>COUNTA(IF(SL_Factory=\"00-FRY\",FRY_Product_List,FRK_Product_List)),\"\",INDEX(IF(SL_Factory=\"00-FRY\",FRY_Product_List,FRK_Product_List),ROWS($C$20:$C24)))","v":"05-ขนมปังเนยสด"},null,null,null,null,null,null,0,{"$f":"IF(OrderFrm_Manual!$C24=\"\",\"\",INDEX(dProduct[Pcs/Unit],MATCH(OrderFrm_Manual!$C24,dProduct[NameTH],)))","v":40},null,null,{"$f":"IF(Cumulative>(ROW()-ROW($O$20)),_xlfn.AGGREGATE(15,6,(ROW(OrderRange_Ref)-ROW($L$19))/(OFFSET(OrderRange_Ref,,0)>0),ROWS($L$20:$L24)),IF(OFFSET(Cumulative,,1)>(ROW()-ROW($O$20)),_xlfn.AGGREGATE(15,6,(ROW(OrderRange_Ref)-ROW($L$19))/(OFFSET(OrderRange_Ref,,1)>0),ROWS($L$20:$L24)-OFFSET(Cumulative,,0)),IF(OFFSET(Cumulative,,2)>(ROW()-ROW($O$20)),_xlfn.AGGREGATE(15,6,(ROW(OrderRange_Ref)-ROW($L$19))/(OFFSET(OrderRange_Ref,,2)>0),ROWS($L$20:$L24)-OFFSET(Cumulative,,1)),IF(OFFSET(Cumulative,,3)>(ROW()-ROW($O$20)),_xlfn.AGGREGATE(15,6,(ROW(OrderRange_Ref)-ROW($L$19))/(OFFSET(OrderRange_Ref,,3)>0),ROWS($L$20:$L24)-OFFSET(Cumulative,,2)),IF(OFFSET(Cumulative,,4)>(ROW()-ROW($O$20)),_xlfn.AGGREGATE(15,6,(ROW(OrderRange_Ref)-ROW($L$19))/(OFFSET(OrderRange_Ref,,4)>0),ROWS($L$20:$L24)-OFFSET(Cumulative,,3)),IF(OFFSET(Cumulative,,5)>(ROW()-ROW($O$20)),_xlfn.AGGREGATE(15,6,(ROW(OrderRange_Ref)-ROW($L$19))/(OFFSET(OrderRange_Ref,,5)>0),ROWS($L$20:$L24)-OFFSET(Cumulative,,4)),\"\"))))))","v":""},"","","","",""]
[null,{"$f":"IF($C25=\"\",\"\",ROWS($C$20:$C25))","v":6},{"$f":"IF(ROWS($C$20:$C25)>COUNTA(IF(SL_Factory=\"00-FRY\",FRY_Product_List,FRK_Product_List)),\"\",INDEX(IF(SL_Factory=\"00-FRY\",FRY_Product_List,FRK_Product_List),ROWS($C$20:$C25)))","v":"06-ขนมปังไส้สังขยาเล็ก"},null,null,null,null,null,null,0,{"$f":"IF(OrderFrm_Manual!$C25=\"\",\"\",INDEX(dProduct[Pcs/Unit],MATCH(OrderFrm_Manual!$C25,dProduct[NameTH],)))","v":50},null,null,{"$f":"IF(Cumulative>(ROW()-ROW($O$20)),_xlfn.AGGREGATE(15,6,(ROW(OrderRange_Ref)-ROW($L$19))/(OFFSET(OrderRange_Ref,,0)>0),ROWS($L$20:$L25)),IF(OFFSET(Cumulative,,1)>(ROW()-ROW($O$20)),_xlfn.AGGREGATE(15,6,(ROW(OrderRange_Ref)-ROW($L$19))/(OFFSET(OrderRange_Ref,,1)>0),ROWS($L$20:$L25)-OFFSET(Cumulative,,0)),IF(OFFSET(Cumulative,,2)>(ROW()-ROW($O$20)),_xlfn.AGGREGATE(15,6,(ROW(OrderRange_Ref)-ROW($L$19))/(OFFSET(OrderRange_Ref,,2)>0),ROWS($L$20:$L25)-OFFSET(Cumulative,,1)),IF(OFFSET(Cumulative,,3)>(ROW()-ROW($O$20)),_xlfn.AGGREGATE(15,6,(ROW(OrderRange_Ref)-ROW($L$19))/(OFFSET(OrderRange_Ref,,3)>0),ROWS($L$20:$L25)-OFFSET(Cumulative,,2)),IF(OFFSET(Cumulative,,4)>(ROW()-ROW($O$20)),_xlfn.AGGREGATE(15,6,(ROW(OrderRange_Ref)-ROW($L$19))/(OFFSET(OrderRange_Ref,,4)>0),ROWS($L$20:$L25)-OFFSET(Cumulative,,3)),IF(OFFSET(Cumulative,,5)>(ROW()-ROW($O$20)),_xlfn.AGGREGATE(15,6,(ROW(OrderRange_Ref)-ROW($L$19))/(OFFSET(OrderRange_Ref,,5)>0),ROWS($L$20:$L25)-OFFSET(Cumulative,,4)),\"\"))))))","v":""},"","","","",""]
[null,{"$f":"IF($C26=\"\",\"\",ROWS($C$20:$C26))","v":7},{"$f":"IF(ROWS($C$20:$C26)>COUNTA(IF(SL_Factory=\"00-FRY\",FRY_Product_List,FRK_Product_List)),\"\",INDEX(IF(SL_Factory=\"00-FRY\",FRY_Product_List,FRK_Product_List),ROWS($C$20:$C26)))","v":"07-ขนมปังไส้เผือก"},null,null,null,null,null,null,0,{"$f":"IF(OrderFrm_Manual!$C26=\"\",\"\",INDEX(dProduct[Pcs/Unit],MATCH(OrderFrm_Manual!$C26,dProduct[NameTH],)))","v":50},null,null,{"$f":"IF(Cumulative>(ROW()-ROW($O$20)),_xlfn.AGGREGATE(15,6,(ROW(OrderRange_Ref)-ROW($L$19))/(OFFSET(OrderRange_Ref,,0)>0),ROWS($L$20:$L26)),IF(OFFSET(Cumulative,,1)>(ROW()-ROW($O$20)),_xlfn.AGGREGATE(15,6,(ROW(OrderRange_Ref)-ROW($L$19))/(OFFSET(OrderRange_Ref,,1)>0),ROWS($L$20:$L26)-OFFSET(Cumulative,,0)),IF(OFFSET(Cumulative,,2)>(ROW()-ROW($O$20)),_xlfn.AGGREGATE(15,6,(ROW(OrderRange_Ref)-ROW($L$19))/(OFFSET(OrderRange_Ref,,2)>0),ROWS($L$20:$L26)-OFFSET(Cumulative,,1)),IF(OFFSET(Cumulative,,3)>(ROW()-ROW($O$20)),_xlfn.AGGREGATE(15,6,(ROW(OrderRange_Ref)-ROW($L$19))/(OFFSET(OrderRange_Ref,,3)>0),ROWS($L$20:$L26)-OFFSET(Cumulative,,2)),IF(OFFSET(Cumulative,,4)>(ROW()-ROW($O$20)),_xlfn.AGGREGATE(15,6,(ROW(OrderRange_Ref)-ROW($L$19))/(OFFSET(OrderRange_Ref,,4)>0),ROWS($L$20:$L26)-OFFSET(Cumulative,,3)),IF(OFFSET(Cumulative,,5)>(ROW()-ROW($O$20)),_xlfn.AGGREGATE(15,6,(ROW(OrderRange_Ref)-ROW($L$19))/(OFFSET(OrderRange_Ref,,5)>0),ROWS($L$20:$L26)-OFFSET(Cumulative,,4)),\"\"))))))","v":""},"","","","",""]
[null,{"$f":"IF($C27=\"\",\"\",ROWS($C$20:$C27))","v":8},{"$f":"IF(ROWS($C$20:$C27)>COUNTA(IF(SL_Factory=\"00-FRY\",FRY_Product_List,FRK_Product_List)),\"\",INDEX(IF(SL_Factory=\"00-FRY\",FRY_Product_List,FRK_Product_List),ROWS($C$20:$C27)))","v":"08-ขนมปังไส้ถั่วแดง"},null,null,null,null,null,null,0,{"$f":"IF(OrderFrm_Manual!$C27=\"\",\"\",INDEX(dProduct[Pcs/Unit],MATCH(OrderFrm_Manual!$C27,dProduct[NameTH],)))","v":50},null,null,{"$f":"IF(Cumulative>(ROW()-ROW($O$20)),_xlfn.AGGREGATE(15,6,(ROW(OrderRange_Ref)-ROW($L$19))/(OFFSET(OrderRange_Ref,,0)>0),ROWS($L$20:$L27)),IF(OFFSET(Cumulative,,1)>(ROW()-ROW($O$20)),_xlfn.AGGREGATE(15,6,(ROW(OrderRange_Ref)-ROW($L$19))/(OFFSET(OrderRange_Ref,,1)>0),ROWS($L$20:$L27)-OFFSET(Cumulative,,0)),IF(OFFSET(Cumulative,,2)>(ROW()-ROW($O$20)),_xlfn.AGGREGATE(15,6,(ROW(OrderRange_Ref)-ROW($L$19))/(OFFSET(OrderRange_Ref,,2)>0),ROWS($L$20:$L27)-OFFSET(Cumulative,,1)),IF(OFFSET(Cumulative,,3)>(ROW()-ROW($O$20)),_xlfn.AGGREGATE(15,6,(ROW(OrderRange_Ref)-ROW($L$19))/(OFFSET(OrderRange_Ref,,3)>0),ROWS($L$20:$L27)-OFFSET(Cumulative,,2)),IF(OFFSET(Cumulative,,4)>(ROW()-ROW($O$20)),_xlfn.AGGREGATE(15,6,(ROW(OrderRange_Ref)-ROW($L$19))/(OFFSET(OrderRange_Ref,,4)>0),ROWS($L$20:$L27)-OFFSET(Cumulative,,3)),IF(OFFSET(Cumulative,,5)>(ROW()-ROW($O$20)),_xlfn.AGGREGATE(15,6,(ROW(OrderRange_Ref)-ROW($L$19))/(OFFSET(OrderRange_Ref,,5)>0),ROWS($L$20:$L27)-OFFSET(Cumulative,,4)),\"\"))))))","v":""},"","","","",""]
[null,{"$f":"IF($C28=\"\",\"\",ROWS($C$20:$C28))","v":9},{"$f":"IF(ROWS($C$20:$C28)>COUNTA(IF(SL_Factory=\"00-FRY\",FRY_Product_List,FRK_Product_List)),\"\",INDEX(IF(SL_Factory=\"00-FRY\",FRY_Product_List,FRK_Product_List),ROWS($C$20:$C28)))","v":"09-ขนมปังไส้ถั่วดำ"},null,null,null,null,null,null,0,{"$f":"IF(OrderFrm_Manual!$C28=\"\",\"\",INDEX(dProduct[Pcs/Unit],MATCH(OrderFrm_Manual!$C28,dProduct[NameTH],)))","v":50},null,null,{"$f":"IF(Cumulative>(ROW()-ROW($O$20)),_xlfn.AGGREGATE(15,6,(ROW(OrderRange_Ref)-ROW($L$19))/(OFFSET(OrderRange_Ref,,0)>0),ROWS($L$20:$L28)),IF(OFFSET(Cumulative,,1)>(ROW()-ROW($O$20)),_xlfn.AGGREGATE(15,6,(ROW(OrderRange_Ref)-ROW($L$19))/(OFFSET(OrderRange_Ref,,1)>0),ROWS($L$20:$L28)-OFFSET(Cumulative,,0)),IF(OFFSET(Cumulative,,2)>(ROW()-ROW($O$20)),_xlfn.AGGREGATE(15,6,(ROW(OrderRange_Ref)-ROW($L$19))/(OFFSET(OrderRange_Ref,,2)>0),ROWS($L$20:$L28)-OFFSET(Cumulative,,1)),IF(OFFSET(Cumulative,,3)>(ROW()-ROW($O$20)),_xlfn.AGGREGATE(15,6,(ROW(OrderRange_Ref)-ROW($L$19))/(OFFSET(OrderRange_Ref,,3)>0),ROWS($L$20:$L28)-OFFSET(Cumulative,,2)),IF(OFFSET(Cumulative,,4)>(ROW()-ROW($O$20)),_xlfn.AGGREGATE(15,6,(ROW(OrderRange_Ref)-ROW($L$19))/(OFFSET(OrderRange_Ref,,4)>0),ROWS($L$20:$L28)-OFFSET(Cumulative,,3)),IF(OFFSET(Cumulative,,5)>(ROW()-ROW($O$20)),_xlfn.AGGREGATE(15,6,(ROW(OrderRange_Ref)-ROW($L$19))/(OFFSET(OrderRange_Ref,,5)>0),ROWS($L$20:$L28)-OFFSET(Cumulative,,4)),\"\"))))))","v":""},"","","","",""]
[null,{"$f":"IF($C29=\"\",\"\",ROWS($C$20:$C29))","v":10},{"$f":"IF(ROWS($C$20:$C29)>COUNTA(IF(SL_Factory=\"00-FRY\",FRY_Product_List,FRK_Product_List)),\"\",INDEX(IF(SL_Factory=\"00-FRY\",FRY_Product_List,FRK_Product_List),ROWS($C$20:$C29)))","v":"10-ขนมปังไส้มันม่วง"},null,null,null,null,null,null,0,{"$f":"IF(OrderFrm_Manual!$C29=\"\",\"\",INDEX(dProduct[Pcs/Unit],MATCH(OrderFrm_Manual!$C29,dProduct[NameTH],)))","v":50},null,null,{"$f":"IF(Cumulative>(ROW()-ROW($O$20)),_xlfn.AGGREGATE(15,6,(ROW(OrderRange_Ref)-ROW($L$19))/(OFFSET(OrderRange_Ref,,0)>0),ROWS($L$20:$L29)),IF(OFFSET(Cumulative,,1)>(ROW()-ROW($O$20)),_xlfn.AGGREGATE(15,6,(ROW(OrderRange_Ref)-ROW($L$19))/(OFFSET(OrderRange_Ref,,1)>0),ROWS($L$20:$L29)-OFFSET(Cumulative,,0)),IF(OFFSET(Cumulative,,2)>(ROW()-ROW($O$20)),_xlfn.AGGREGATE(15,6,(ROW(OrderRange_Ref)-ROW($L$19))/(OFFSET(OrderRange_Ref,,2)>0),ROWS($L$20:$L29)-OFFSET(Cumulative,,1)),IF(OFFSET(Cumulative,,3)>(ROW()-ROW($O$20)),_xlfn.AGGREGATE(15,6,(ROW(OrderRange_Ref)-ROW($L$19))/(OFFSET(OrderRange_Ref,,3)>0),ROWS($L$20:$L29)-OFFSET(Cumulative,,2)),IF(OFFSET(Cumulative,,4)>(ROW()-ROW($O$20)),_xlfn.AGGREGATE(15,6,(ROW(OrderRange_Ref)-ROW($L$19))/(OFFSET(OrderRange_Ref,,4)>0),ROWS($L$20:$L29)-OFFSET(Cumulative,,3)),IF(OFFSET(Cumulative,,5)>(ROW()-ROW($O$20)),_xlfn.AGGREGATE(15,6,(ROW(OrderRange_Ref)-ROW($L$19))/(OFFSET(OrderRange_Ref,,5)>0),ROWS($L$20:$L29)-OFFSET(Cumulative,,4)),\"\"))))))","v":""},"","","","",""]
[null,{"$f":"IF($C30=\"\",\"\",ROWS($C$20:$C30))","v":11},{"$f":"IF(ROWS($C$20:$C30)>COUNTA(IF(SL_Factory=\"00-FRY\",FRY_Product_List,FRK_Product_List)),\"\",INDEX(IF(SL_Factory=\"00-FRY\",FRY_Product_List,FRK_Product_List),ROWS($C$20:$C30)))","v":"11-เค้กกล้วยหอม"},null,null,null,null,null,null,0,{"$f":"IF(OrderFrm_Manual!$C30=\"\",\"\",INDEX(dProduct[Pcs/Unit],MATCH(OrderFrm_Manual!$C30,dProduct[NameTH],)))","v":50},null,null,{"$f":"IF(Cumulative>(ROW()-ROW($O$20)),_xlfn.AGGREGATE(15,6,(ROW(OrderRange_Ref)-ROW($L$19))/(OFFSET(OrderRange_Ref,,0)>0),ROWS($L$20:$L30)),IF(OFFSET(Cumulative,,1)>(ROW()-ROW($O$20)),_xlfn.AGGREGATE(15,6,(ROW(OrderRange_Ref)-ROW($L$19))/(OFFSET(OrderRange_Ref,,1)>0),ROWS($L$20:$L30)-OFFSET(Cumulative,,0)),IF(OFFSET(Cumulative,,2)>(ROW()-ROW($O$20)),_xlfn.AGGREGATE(15,6,(ROW(OrderRange_Ref)-ROW($L$19))/(OFFSET(OrderRange_Ref,,2)>0),ROWS($L$20:$L30)-OFFSET(Cumulative,,1)),IF(OFFSET(Cumulative,,3)>(ROW()-ROW($O$20)),_xlfn.AGGREGATE(15,6,(ROW(OrderRange_Ref)-ROW($L$19))/(OFFSET(OrderRange_Ref,,3)>0),ROWS($L$20:$L30)-OFFSET(Cumulative,,2)),IF(OFFSET(Cumulative,,4)>(ROW()-ROW($O$20)),_xlfn.AGGREGATE(15,6,(ROW(OrderRange_Ref)-ROW($L$19))/(OFFSET(OrderRange_Ref,,4)>0),ROWS($L$20:$L30)-OFFSET(Cumulative,,3)),IF(OFFSET(Cumulative,,5)>(ROW()-ROW($O$20)),_xlfn.AGGREGATE(15,6,(ROW(OrderRange_Ref)-ROW($L$19))/(OFFSET(OrderRange_Ref,,5)>0),ROWS($L$20:$L30)-OFFSET(Cumulative,,4)),\"\"))))))","v":""},"","","","",""]
[null,{"$f":"IF($C31=\"\",\"\",ROWS($C$20:$C31))","v":12},{"$f":"IF(ROWS($C$20:$C31)>COUNTA(IF(SL_Factory=\"00-FRY\",FRY_Product_List,FRK_Product_List)),\"\",INDEX(IF(SL_Factory=\"00-FRY\",FRY_Product_List,FRK_Product_List),ROWS($C$20:$C31)))","v":"12-เค้กบัตเตอร์"},null,null,null,null,null,null,0,{"$f":"IF(OrderFrm_Manual!$C31=\"\",\"\",INDEX(dProduct[Pcs/Unit],MATCH(OrderFrm_Manual!$C31,dProduct[NameTH],)))","v":50},null,null,{"$f":"IF(Cumulative>(ROW()-ROW($O$20)),_xlfn.AGGREGATE(15,6,(ROW(OrderRange_Ref)-ROW($L$19))/(OFFSET(OrderRange_Ref,,0)>0),ROWS($L$20:$L31)),IF(OFFSET(Cumulative,,1)>(ROW()-ROW($O$20)),_xlfn.AGGREGATE(15,6,(ROW(OrderRange_Ref)-ROW($L$19))/(OFFSET(OrderRange_Ref,,1)>0),ROWS($L$20:$L31)-OFFSET(Cumulative,,0)),IF(OFFSET(Cumulative,,2)>(ROW()-ROW($O$20)),_xlfn.AGGREGATE(15,6,(ROW(OrderRange_Ref)-ROW($L$19))/(OFFSET(OrderRange_Ref,,2)>0),ROWS($L$20:$L31)-OFFSET(Cumulative,,1)),IF(OFFSET(Cumulative,,3)>(ROW()-ROW($O$20)),_xlfn.AGGREGATE(15,6,(ROW(OrderRange_Ref)-ROW($L$19))/(OFFSET(OrderRange_Ref,,3)>0),ROWS($L$20:$L31)-OFFSET(Cumulative,,2)),IF(OFFSET(Cumulative,,4)>(ROW()-ROW($O$20)),_xlfn.AGGREGATE(15,6,(ROW(OrderRange_Ref)-ROW($L$19))/(OFFSET(OrderRange_Ref,,4)>0),ROWS($L$20:$L31)-OFFSET(Cumulative,,3)),IF(OFFSET(Cumulative,,5)>(ROW()-ROW($O$20)),_xlfn.AGGREGATE(15,6,(ROW(OrderRange_Ref)-ROW($L$19))/(OFFSET(OrderRange_Ref,,5)>0),ROWS($L$20:$L31)-OFFSET(Cumulative,,4)),\"\"))))))","v":""},"","","","",""]
[null,{"$f":"IF($C32=\"\",\"\",ROWS($C$20:$C32))","v":13},{"$f":"IF(ROWS($C$20:$C32)>COUNTA(IF(SL_Factory=\"00-FRY\",FRY_Product_List,FRK_Product_List)),\"\",INDEX(IF(SL_Factory=\"00-FRY\",FRY_Product_List,FRK_Product_List),ROWS($C$20:$C32)))","v":"13-ขนมปังโรลถั่วแดง"},null,null,null,null,null,null,0,{"$f":"IF(OrderFrm_Manual!$C32=\"\",\"\",INDEX(dProduct[Pcs/Unit],MATCH(OrderFrm_Manual!$C32,dProduct[NameTH],)))","v":40},null,null,{"$f":"IF(Cumulative>(ROW()-ROW($O$20)),_xlfn.AGGREGATE(15,6,(ROW(OrderRange_Ref)-ROW($L$19))/(OFFSET(OrderRange_Ref,,0)>0),ROWS($L$20:$L32)),IF(OFFSET(Cumulative,,1)>(ROW()-ROW($O$20)),_xlfn.AGGREGATE(15,6,(ROW(OrderRange_Ref)-ROW($L$19))/(OFFSET(OrderRange_Ref,,1)>0),ROWS($L$20:$L32)-OFFSET(Cumulative,,0)),IF(OFFSET(Cumulative,,2)>(ROW()-ROW($O$20)),_xlfn.AGGREGATE(15,6,(ROW(OrderRange_Ref)-ROW($L$19))/(OFFSET(OrderRange_Ref,,2)>0),ROWS($L$20:$L32)-OFFSET(Cumulative,,1)),IF(OFFSET(Cumulative,,3)>(ROW()-ROW($O$20)),_xlfn.AGGREGATE(15,6,(ROW(OrderRange_Ref)-ROW($L$19))/(OFFSET(OrderRange_Ref,,3)>0),ROWS($L$20:$L32)-OFFSET(Cumulative,,2)),IF(OFFSET(Cumulative,,4)>(ROW()-ROW($O$20)),_xlfn.AGGREGATE(15,6,(ROW(OrderRange_Ref)-ROW($L$19))/(OFFSET(OrderRange_Ref,,4)>0),ROWS($L$20:$L32)-OFFSET(Cumulative,,3)),IF(OFFSET(Cumulative,,5)>(ROW()-ROW($O$20)),_xlfn.AGGREGATE(15,6,(ROW(OrderRange_Ref)-ROW($L$19))/(OFFSET(OrderRange_Ref,,5)>0),ROWS($L$20:$L32)-OFFSET(Cumulative,,4)),\"\"))))))","v":""},"","","","",""]
[null,{"$f":"IF($C33=\"\",\"\",ROWS($C$20:$C33))","v":14},{"$f":"IF(ROWS($C$20:$C33)>COUNTA(IF(SL_Factory=\"00-FRY\",FRY_Product_List,FRK_Product_List)),\"\",INDEX(IF(SL_Factory=\"00-FRY\",FRY_Product_List,FRK_Product_List),ROWS($C$20:$C33)))","v":"14-ขนมปังไส้สังขยาใหญ่"},null,null,null,null,null,null,0,{"$f":"IF(OrderFrm_Manual!$C33=\"\",\"\",INDEX(dProduct[Pcs/Unit],MATCH(OrderFrm_Manual!$C33,dProduct[NameTH],)))","v":50},null,null,{"$f":"IF(Cumulative>(ROW()-ROW($O$20)),_xlfn.AGGREGATE(15,6,(ROW(OrderRange_Ref)-ROW($L$19))/(OFFSET(OrderRange_Ref,,0)>0),ROWS($L$20:$L33)),IF(OFFSET(Cumulative,,1)>(ROW()-ROW($O$20)),_xlfn.AGGREGATE(15,6,(ROW(OrderRange_Ref)-ROW($L$19))/(OFFSET(OrderRange_Ref,,1)>0),ROWS($L$20:$L33)-OFFSET(Cumulative,,0)),IF(OFFSET(Cumulative,,2)>(ROW()-ROW($O$20)),_xlfn.AGGREGATE(15,6,(ROW(OrderRange_Ref)-ROW($L$19))/(OFFSET(OrderRange_Ref,,2)>0),ROWS($L$20:$L33)-OFFSET(Cumulative,,1)),IF(OFFSET(Cumulative,,3)>(ROW()-ROW($O$20)),_xlfn.AGGREGATE(15,6,(ROW(OrderRange_Ref)-ROW($L$19))/(OFFSET(OrderRange_Ref,,3)>0),ROWS($L$20:$L33)-OFFSET(Cumulative,,2)),IF(OFFSET(Cumulative,,4)>(ROW()-ROW($O$20)),_xlfn.AGGREGATE(15,6,(ROW(OrderRange_Ref)-ROW($L$19))/(OFFSET(OrderRange_Ref,,4)>0),ROWS($L$20:$L33)-OFFSET(Cumulative,,3)),IF(OFFSET(Cumulative,,5)>(ROW()-ROW($O$20)),_xlfn.AGGREGATE(15,6,(ROW(OrderRange_Ref)-ROW($L$19))/(OFFSET(OrderRange_Ref,,5)>0),ROWS($L$20:$L33)-OFFSET(Cumulative,,4)),\"\"))))))","v":""},"","","","",""]
[null,{"$f":"IF($C34=\"\",\"\",ROWS($C$20:$C34))","v":15},{"$f":"IF(ROWS($C$20:$C34)>COUNTA(IF(SL_Factory=\"00-FRY\",FRY_Product_List,FRK_Product_List)),\"\",INDEX(IF(SL_Factory=\"00-FRY\",FRY_Product_List,FRK_Product_List),ROWS($C$20:$C34)))","v":"15-ขนมปังชนิดแผ่น(480กรัม)"},null,null,null,null,null,null,0,{"$f":"IF(OrderFrm_Manual!$C34=\"\",\"\",INDEX(dProduct[Pcs/Unit],MATCH(OrderFrm_Manual!$C34,dProduct[NameTH],)))","v":10},null,null,{"$f":"IF(Cumulative>(ROW()-ROW($O$20)),_xlfn.AGGREGATE(15,6,(ROW(OrderRange_Ref)-ROW($L$19))/(OFFSET(OrderRange_Ref,,0)>0),ROWS($L$20:$L34)),IF(OFFSET(Cumulative,,1)>(ROW()-ROW($O$20)),_xlfn.AGGREGATE(15,6,(ROW(OrderRange_Ref)-ROW($L$19))/(OFFSET(OrderRange_Ref,,1)>0),ROWS($L$20:$L34)-OFFSET(Cumulative,,0)),IF(OFFSET(Cumulative,,2)>(ROW()-ROW($O$20)),_xlfn.AGGREGATE(15,6,(ROW(OrderRange_Ref)-ROW($L$19))/(OFFSET(OrderRange_Ref,,2)>0),ROWS($L$20:$L34)-OFFSET(Cumulative,,1)),IF(OFFSET(Cumulative,,3)>(ROW()-ROW($O$20)),_xlfn.AGGREGATE(15,6,(ROW(OrderRange_Ref)-ROW($L$19))/(OFFSET(OrderRange_Ref,,3)>0),ROWS($L$20:$L34)-OFFSET(Cumulative,,2)),IF(OFFSET(Cumulative,,4)>(ROW()-ROW($O$20)),_xlfn.AGGREGATE(15,6,(ROW(OrderRange_Ref)-ROW($L$19))/(OFFSET(OrderRange_Ref,,4)>0),ROWS($L$20:$L34)-OFFSET(Cumulative,,3)),IF(OFFSET(Cumulative,,5)>(ROW()-ROW($O$20)),_xlfn.AGGREGATE(15,6,(ROW(OrderRange_Ref)-ROW($L$19))/(OFFSET(OrderRange_Ref,,5)>0),ROWS($L$20:$L34)-OFFSET(Cumulative,,4)),\"\"))))))","v":""},"","","","",""]
[null,{"$f":"IF($C35=\"\",\"\",ROWS($C$20:$C35))","v":16},{"$f":"IF(ROWS($C$20:$C35)>COUNTA(IF(SL_Factory=\"00-FRY\",FRY_Product_List,FRK_Product_List)),\"\",INDEX(IF(SL_Factory=\"00-FRY\",FRY_Product_List,FRK_Product_List),ROWS($C$20:$C35)))","v":"16-โมจิไส้ถั่ว"},null,null,null,null,null,null,0,{"$f":"IF(OrderFrm_Manual!$C35=\"\",\"\",INDEX(dProduct[Pcs/Unit],MATCH(OrderFrm_Manual!$C35,dProduct[NameTH],)))","v":50},null,null,{"$f":"IF(Cumulative>(ROW()-ROW($O$20)),_xlfn.AGGREGATE(15,6,(ROW(OrderRange_Ref)-ROW($L$19))/(OFFSET(OrderRange_Ref,,0)>0),ROWS($L$20:$L35)),IF(OFFSET(Cumulative,,1)>(ROW()-ROW($O$20)),_xlfn.AGGREGATE(15,6,(ROW(OrderRange_Ref)-ROW($L$19))/(OFFSET(OrderRange_Ref,,1)>0),ROWS($L$20:$L35)-OFFSET(Cumulative,,0)),IF(OFFSET(Cumulative,,2)>(ROW()-ROW($O$20)),_xlfn.AGGREGATE(15,6,(ROW(OrderRange_Ref)-ROW($L$19))/(OFFSET(OrderRange_Ref,,2)>0),ROWS($L$20:$L35)-OFFSET(Cumulative,,1)),IF(OFFSET(Cumulative,,3)>(ROW()-ROW($O$20)),_xlfn.AGGREGATE(15,6,(ROW(OrderRange_Ref)-ROW($L$19))/(OFFSET(OrderRange_Ref,,3)>0),ROWS($L$20:$L35)-OFFSET(Cumulative,,2)),IF(OFFSET(Cumulative,,4)>(ROW()-ROW($O$20)),_xlfn.AGGREGATE(15,6,(ROW(OrderRange_Ref)-ROW($L$19))/(OFFSET(OrderRange_Ref,,4)>0),ROWS($L$20:$L35)-OFFSET(Cumulative,,3)),IF(OFFSET(Cumulative,,5)>(ROW()-ROW($O$20)),_xlfn.AGGREGATE(15,6,(ROW(OrderRange_Ref)-ROW($L$19))/(OFFSET(OrderRange_Ref,,5)>0),ROWS($L$20:$L35)-OFFSET(Cumulative,,4)),\"\"))))))","v":""},"","","","",""]
[null,{"$f":"IF($C36=\"\",\"\",ROWS($C$20:$C36))","v":17},{"$f":"IF(ROWS($C$20:$C36)>COUNTA(IF(SL_Factory=\"00-FRY\",FRY_Product_List,FRK_Product_List)),\"\",INDEX(IF(SL_Factory=\"00-FRY\",FRY_Product_List,FRK_Product_List),ROWS($C$20:$C36)))","v":"17-โมจิไส้เผือก"},null,null,null,null,null,null,0,{"$f":"IF(OrderFrm_Manual!$C36=\"\",\"\",INDEX(dProduct[Pcs/Unit],MATCH(OrderFrm_Manual!$C36,dProduct[NameTH],)))","v":50},null,null,{"$f":"IF(Cumulative>(ROW()-ROW($O$20)),_xlfn.AGGREGATE(15,6,(ROW(OrderRange_Ref)-ROW($L$19))/(OFFSET(OrderRange_Ref,,0)>0),ROWS($L$20:$L36)),IF(OFFSET(Cumulative,,1)>(ROW()-ROW($O$20)),_xlfn.AGGREGATE(15,6,(ROW(OrderRange_Ref)-ROW($L$19))/(OFFSET(OrderRange_Ref,,1)>0),ROWS($L$20:$L36)-OFFSET(Cumulative,,0)),IF(OFFSET(Cumulative,,2)>(ROW()-ROW($O$20)),_xlfn.AGGREGATE(15,6,(ROW(OrderRange_Ref)-ROW($L$19))/(OFFSET(OrderRange_Ref,,2)>0),ROWS($L$20:$L36)-OFFSET(Cumulative,,1)),IF(OFFSET(Cumulative,,3)>(ROW()-ROW($O$20)),_xlfn.AGGREGATE(15,6,(ROW(OrderRange_Ref)-ROW($L$19))/(OFFSET(OrderRange_Ref,,3)>0),ROWS($L$20:$L36)-OFFSET(Cumulative,,2)),IF(OFFSET(Cumulative,,4)>(ROW()-ROW($O$20)),_xlfn.AGGREGATE(15,6,(ROW(OrderRange_Ref)-ROW($L$19))/(OFFSET(OrderRange_Ref,,4)>0),ROWS($L$20:$L36)-OFFSET(Cumulative,,3)),IF(OFFSET(Cumulative,,5)>(ROW()-ROW($O$20)),_xlfn.AGGREGATE(15,6,(ROW(OrderRange_Ref)-ROW($L$19))/(OFFSET(OrderRange_Ref,,5)>0),ROWS($L$20:$L36)-OFFSET(Cumulative,,4)),\"\"))))))","v":""},"","","","",""]
[null,{"$f":"IF($C37=\"\",\"\",ROWS($C$20:$C37))","v":18},{"$f":"IF(ROWS($C$20:$C37)>COUNTA(IF(SL_Factory=\"00-FRY\",FRY_Product_List,FRK_Product_List)),\"\",INDEX(IF(SL_Factory=\"00-FRY\",FRY_Product_List,FRK_Product_List),ROWS($C$20:$C37)))","v":"18-โมจิไส้ถั่วไข่เค็ม"},null,null,null,null,null,null,0,{"$f":"IF(OrderFrm_Manual!$C37=\"\",\"\",INDEX(dProduct[Pcs/Unit],MATCH(OrderFrm_Manual!$C37,dProduct[NameTH],)))","v":50},null,null,{"$f":"IF(Cumulative>(ROW()-ROW($O$20)),_xlfn.AGGREGATE(15,6,(ROW(OrderRange_Ref)-ROW($L$19))/(OFFSET(OrderRange_Ref,,0)>0),ROWS($L$20:$L37)),IF(OFFSET(Cumulative,,1)>(ROW()-ROW($O$20)),_xlfn.AGGREGATE(15,6,(ROW(OrderRange_Ref)-ROW($L$19))/(OFFSET(OrderRange_Ref,,1)>0),ROWS($L$20:$L37)-OFFSET(Cumulative,,0)),IF(OFFSET(Cumulative,,2)>(ROW()-ROW($O$20)),_xlfn.AGGREGATE(15,6,(ROW(OrderRange_Ref)-ROW($L$19))/(OFFSET(OrderRange_Ref,,2)>0),ROWS($L$20:$L37)-OFFSET(Cumulative,,1)),IF(OFFSET(Cumulative,,3)>(ROW()-ROW($O$20)),_xlfn.AGGREGATE(15,6,(ROW(OrderRange_Ref)-ROW($L$19))/(OFFSET(OrderRange_Ref,,3)>0),ROWS($L$20:$L37)-OFFSET(Cumulative,,2)),IF(OFFSET(Cumulative,,4)>(ROW()-ROW($O$20)),_xlfn.AGGREGATE(15,6,(ROW(OrderRange_Ref)-ROW($L$19))/(OFFSET(OrderRange_Ref,,4)>0),ROWS($L$20:$L37)-OFFSET(Cumulative,,3)),IF(OFFSET(Cumulative,,5)>(ROW()-ROW($O$20)),_xlfn.AGGREGATE(15,6,(ROW(OrderRange_Ref)-ROW($L$19))/(OFFSET(OrderRange_Ref,,5)>0),ROWS($L$20:$L37)-OFFSET(Cumulative,,4)),\"\"))))))","v":""},"","","","",""]
[null,{"$f":"IF($C38=\"\",\"\",ROWS($C$20:$C38))","v":19},{"$f":"IF(ROWS($C$20:$C38)>COUNTA(IF(SL_Factory=\"00-FRY\",FRY_Product_List,FRK_Product_List)),\"\",INDEX(IF(SL_Factory=\"00-FRY\",FRY_Product_List,FRK_Product_List),ROWS($C$20:$C38)))","v":"19-ขนมปังพิซซ่า"},null,null,null,null,null,null,0,{"$f":"IF(OrderFrm_Manual!$C38=\"\",\"\",INDEX(dProduct[Pcs/Unit],MATCH(OrderFrm_Manual!$C38,dProduct[NameTH],)))","v":50},null,null,{"$f":"IF(Cumulative>(ROW()-ROW($O$20)),_xlfn.AGGREGATE(15,6,(ROW(OrderRange_Ref)-ROW($L$19))/(OFFSET(OrderRange_Ref,,0)>0),ROWS($L$20:$L38)),IF(OFFSET(Cumulative,,1)>(ROW()-ROW($O$20)),_xlfn.AGGREGATE(15,6,(ROW(OrderRange_Ref)-ROW($L$19))/(OFFSET(OrderRange_Ref,,1)>0),ROWS($L$20:$L38)-OFFSET(Cumulative,,0)),IF(OFFSET(Cumulative,,2)>(ROW()-ROW($O$20)),_xlfn.AGGREGATE(15,6,(ROW(OrderRange_Ref)-ROW($L$19))/(OFFSET(OrderRange_Ref,,2)>0),ROWS($L$20:$L38)-OFFSET(Cumulative,,1)),IF(OFFSET(Cumulative,,3)>(ROW()-ROW($O$20)),_xlfn.AGGREGATE(15,6,(ROW(OrderRange_Ref)-ROW($L$19))/(OFFSET(OrderRange_Ref,,3)>0),ROWS($L$20:$L38)-OFFSET(Cumulative,,2)),IF(OFFSET(Cumulative,,4)>(ROW()-ROW($O$20)),_xlfn.AGGREGATE(15,6,(ROW(OrderRange_Ref)-ROW($L$19))/(OFFSET(OrderRange_Ref,,4)>0),ROWS($L$20:$L38)-OFFSET(Cumulative,,3)),IF(OFFSET(Cumulative,,5)>(ROW()-ROW($O$20)),_xlfn.AGGREGATE(15,6,(ROW(OrderRange_Ref)-ROW($L$19))/(OFFSET(OrderRange_Ref,,5)>0),ROWS($L$20:$L38)-OFFSET(Cumulative,,4)),\"\"))))))","v":""},"","","","",""]
[null,{"$f":"IF($C39=\"\",\"\",ROWS($C$20:$C39))","v":20},{"$f":"IF(ROWS($C$20:$C39)>COUNTA(IF(SL_Factory=\"00-FRY\",FRY_Product_List,FRK_Product_List)),\"\",INDEX(IF(SL_Factory=\"00-FRY\",FRY_Product_List,FRK_Product_List),ROWS($C$20:$C39)))","v":"20-ขนมปังพิซซ่าปูอัดแฮม"},null,null,null,null,null,null,0,{"$f":"IF(OrderFrm_Manual!$C39=\"\",\"\",INDEX(dProduct[Pcs/Unit],MATCH(OrderFrm_Manual!$C39,dProduct[NameTH],)))","v":50},null,null,{"$f":"IF(Cumulative>(ROW()-ROW($O$20)),_xlfn.AGGREGATE(15,6,(ROW(OrderRange_Ref)-ROW($L$19))/(OFFSET(OrderRange_Ref,,0)>0),ROWS($L$20:$L39)),IF(OFFSET(Cumulative,,1)>(ROW()-ROW($O$20)),_xlfn.AGGREGATE(15,6,(ROW(OrderRange_Ref)-ROW($L$19))/(OFFSET(OrderRange_Ref,,1)>0),ROWS($L$20:$L39)-OFFSET(Cumulative,,0)),IF(OFFSET(Cumulative,,2)>(ROW()-ROW($O$20)),_xlfn.AGGREGATE(15,6,(ROW(OrderRange_Ref)-ROW($L$19))/(OFFSET(OrderRange_Ref,,2)>0),ROWS($L$20:$L39)-OFFSET(Cumulative,,1)),IF(OFFSET(Cumulative,,3)>(ROW()-ROW($O$20)),_xlfn.AGGREGATE(15,6,(ROW(OrderRange_Ref)-ROW($L$19))/(OFFSET(OrderRange_Ref,,3)>0),ROWS($L$20:$L39)-OFFSET(Cumulative,,2)),IF(OFFSET(Cumulative,,4)>(ROW()-ROW($O$20)),_xlfn.AGGREGATE(15,6,(ROW(OrderRange_Ref)-ROW($L$19))/(OFFSET(OrderRange_Ref,,4)>0),ROWS($L$20:$L39)-OFFSET(Cumulative,,3)),IF(OFFSET(Cumulative,,5)>(ROW()-ROW($O$20)),_xlfn.AGGREGATE(15,6,(ROW(OrderRange_Ref)-ROW($L$19))/(OFFSET(OrderRange_Ref,,5)>0),ROWS($L$20:$L39)-OFFSET(Cumulative,,4)),\"\"))))))","v":""},"","","","",""]
[null,{"$f":"IF($C40=\"\",\"\",ROWS($C$20:$C40))","v":21},{"$f":"IF(ROWS($C$20:$C40)>COUNTA(IF(SL_Factory=\"00-FRY\",FRY_Product_List,FRK_Product_List)),\"\",INDEX(IF(SL_Factory=\"00-FRY\",FRY_Product_List,FRK_Product_List),ROWS($C$20:$C40)))","v":"21-ขนมปังไส้กรอก"},null,null,null,null,null,null,0,{"$f":"IF(OrderFrm_Manual!$C40=\"\",\"\",INDEX(dProduct[Pcs/Unit],MATCH(OrderFrm_Manual!$C40,dProduct[NameTH],)))","v":50},null,null,{"$f":"IF(Cumulative>(ROW()-ROW($O$20)),_xlfn.AGGREGATE(15,6,(ROW(OrderRange_Ref)-ROW($L$19))/(OFFSET(OrderRange_Ref,,0)>0),ROWS($L$20:$L40)),IF(OFFSET(Cumulative,,1)>(ROW()-ROW($O$20)),_xlfn.AGGREGATE(15,6,(ROW(OrderRange_Ref)-ROW($L$19))/(OFFSET(OrderRange_Ref,,1)>0),ROWS($L$20:$L40)-OFFSET(Cumulative,,0)),IF(OFFSET(Cumulative,,2)>(ROW()-ROW($O$20)),_xlfn.AGGREGATE(15,6,(ROW(OrderRange_Ref)-ROW($L$19))/(OFFSET(OrderRange_Ref,,2)>0),ROWS($L$20:$L40)-OFFSET(Cumulative,,1)),IF(OFFSET(Cumulative,,3)>(ROW()-ROW($O$20)),_xlfn.AGGREGATE(15,6,(ROW(OrderRange_Ref)-ROW($L$19))/(OFFSET(OrderRange_Ref,,3)>0),ROWS($L$20:$L40)-OFFSET(Cumulative,,2)),IF(OFFSET(Cumulative,,4)>(ROW()-ROW($O$20)),_xlfn.AGGREGATE(15,6,(ROW(OrderRange_Ref)-ROW($L$19))/(OFFSET(OrderRange_Ref,,4)>0),ROWS($L$20:$L40)-OFFSET(Cumulative,,3)),IF(OFFSET(Cumulative,,5)>(ROW()-ROW($O$20)),_xlfn.AGGREGATE(15,6,(ROW(OrderRange_Ref)-ROW($L$19))/(OFFSET(OrderRange_Ref,,5)>0),ROWS($L$20:$L40)-OFFSET(Cumulative,,4)),\"\"))))))","v":""},"","","","",""]
[null,{"$f":"IF($C41=\"\",\"\",ROWS($C$20:$C41))","v":22},{"$f":"IF(ROWS($C$20:$C41)>COUNTA(IF(SL_Factory=\"00-FRY\",FRY_Product_List,FRK_Product_List)),\"\",INDEX(IF(SL_Factory=\"00-FRY\",FRY_Product_List,FRK_Product_List),ROWS($C$20:$C41)))","v":"22-ขนมปังไส้ครีมรสกาแฟ"},null,null,null,null,null,null,0,{"$f":"IF(OrderFrm_Manual!$C41=\"\",\"\",INDEX(dProduct[Pcs/Unit],MATCH(OrderFrm_Manual!$C41,dProduct[NameTH],)))","v":40},null,null,{"$f":"IF(Cumulative>(ROW()-ROW($O$20)),_xlfn.AGGREGATE(15,6,(ROW(OrderRange_Ref)-ROW($L$19))/(OFFSET(OrderRange_Ref,,0)>0),ROWS($L$20:$L41)),IF(OFFSET(Cumulative,,1)>(ROW()-ROW($O$20)),_xlfn.AGGREGATE(15,6,(ROW(OrderRange_Ref)-ROW($L$19))/(OFFSET(OrderRange_Ref,,1)>0),ROWS($L$20:$L41)-OFFSET(Cumulative,,0)),IF(OFFSET(Cumulative,,2)>(ROW()-ROW($O$20)),_xlfn.AGGREGATE(15,6,(ROW(OrderRange_Ref)-ROW($L$19))/(OFFSET(OrderRange_Ref,,2)>0),ROWS($L$20:$L41)-OFFSET(Cumulative,,1)),IF(OFFSET(Cumulative,,3)>(ROW()-ROW($O$20)),_xlfn.AGGREGATE(15,6,(ROW(OrderRange_Ref)-ROW($L$19))/(OFFSET(OrderRange_Ref,,3)>0),ROWS($L$20:$L41)-OFFSET(Cumulative,,2)),IF(OFFSET(Cumulative,,4)>(ROW()-ROW($O$20)),_xlfn.AGGREGATE(15,6,(ROW(OrderRange_Ref)-ROW($L$19))/(OFFSET(OrderRange_Ref,,4)>0),ROWS($L$20:$L41)-OFFSET(Cumulative,,3)),IF(OFFSET(Cumulative,,5)>(ROW()-ROW($O$20)),_xlfn.AGGREGATE(15,6,(ROW(OrderRange_Ref)-ROW($L$19))/(OFFSET(OrderRange_Ref,,5)>0),ROWS($L$20:$L41)-OFFSET(Cumulative,,4)),\"\"))))))","v":""},"","","","",""]
[null,{"$f":"IF($C42=\"\",\"\",ROWS($C$20:$C42))","v":23},{"$f":"IF(ROWS($C$20:$C42)>COUNTA(IF(SL_Factory=\"00-FRY\",FRY_Product_List,FRK_Product_List)),\"\",INDEX(IF(SL_Factory=\"00-FRY\",FRY_Product_List,FRK_Product_List),ROWS($C$20:$C42)))","v":"24-ขนมก้านบัว"},null,null,null,null,null,null,0,{"$f":"IF(OrderFrm_Manual!$C42=\"\",\"\",INDEX(dProduct[Pcs/Unit],MATCH(OrderFrm_Manual!$C42,dProduct[NameTH],)))","v":40},null,null,{"$f":"IF(Cumulative>(ROW()-ROW($O$20)),_xlfn.AGGREGATE(15,6,(ROW(OrderRange_Ref)-ROW($L$19))/(OFFSET(OrderRange_Ref,,0)>0),ROWS($L$20:$L42)),IF(OFFSET(Cumulative,,1)>(ROW()-ROW($O$20)),_xlfn.AGGREGATE(15,6,(ROW(OrderRange_Ref)-ROW($L$19))/(OFFSET(OrderRange_Ref,,1)>0),ROWS($L$20:$L42)-OFFSET(Cumulative,,0)),IF(OFFSET(Cumulative,,2)>(ROW()-ROW($O$20)),_xlfn.AGGREGATE(15,6,(ROW(OrderRange_Ref)-ROW($L$19))/(OFFSET(OrderRange_Ref,,2)>0),ROWS($L$20:$L42)-OFFSET(Cumulative,,1)),IF(OFFSET(Cumulative,,3)>(ROW()-ROW($O$20)),_xlfn.AGGREGATE(15,6,(ROW(OrderRange_Ref)-ROW($L$19))/(OFFSET(OrderRange_Ref,,3)>0),ROWS($L$20:$L42)-OFFSET(Cumulative,,2)),IF(OFFSET(Cumulative,,4)>(ROW()-ROW($O$20)),_xlfn.AGGREGATE(15,6,(ROW(OrderRange_Ref)-ROW($L$19))/(OFFSET(OrderRange_Ref,,4)>0),ROWS($L$20:$L42)-OFFSET(Cumulative,,3)),IF(OFFSET(Cumulative,,5)>(ROW()-ROW($O$20)),_xlfn.AGGREGATE(15,6,(ROW(OrderRange_Ref)-ROW($L$19))/(OFFSET(OrderRange_Ref,,5)>0),ROWS($L$20:$L42)-OFFSET(Cumulative,,4)),\"\"))))))","v":""},"","","","",""]
[null,{"$f":"IF($C43=\"\",\"\",ROWS($C$20:$C43))","v":24},{"$f":"IF(ROWS($C$20:$C43)>COUNTA(IF(SL_Factory=\"00-FRY\",FRY_Product_List,FRK_Product_List)),\"\",INDEX(IF(SL_Factory=\"00-FRY\",FRY_Product_List,FRK_Product_List),ROWS($C$20:$C43)))","v":"27-ปังกรอบเนยสด"},null,null,null,null,null,null,0,{"$f":"IF(OrderFrm_Manual!$C43=\"\",\"\",INDEX(dProduct[Pcs/Unit],MATCH(OrderFrm_Manual!$C43,dProduct[NameTH],)))","v":40},null,null,{"$f":"IF(Cumulative>(ROW()-ROW($O$20)),_xlfn.AGGREGATE(15,6,(ROW(OrderRange_Ref)-ROW($L$19))/(OFFSET(OrderRange_Ref,,0)>0),ROWS($L$20:$L43)),IF(OFFSET(Cumulative,,1)>(ROW()-ROW($O$20)),_xlfn.AGGREGATE(15,6,(ROW(OrderRange_Ref)-ROW($L$19))/(OFFSET(OrderRange_Ref,,1)>0),ROWS($L$20:$L43)-OFFSET(Cumulative,,0)),IF(OFFSET(Cumulative,,2)>(ROW()-ROW($O$20)),_xlfn.AGGREGATE(15,6,(ROW(OrderRange_Ref)-ROW($L$19))/(OFFSET(OrderRange_Ref,,2)>0),ROWS($L$20:$L43)-OFFSET(Cumulative,,1)),IF(OFFSET(Cumulative,,3)>(ROW()-ROW($O$20)),_xlfn.AGGREGATE(15,6,(ROW(OrderRange_Ref)-ROW($L$19))/(OFFSET(OrderRange_Ref,,3)>0),ROWS($L$20:$L43)-OFFSET(Cumulative,,2)),IF(OFFSET(Cumulative,,4)>(ROW()-ROW($O$20)),_xlfn.AGGREGATE(15,6,(ROW(OrderRange_Ref)-ROW($L$19))/(OFFSET(OrderRange_Ref,,4)>0),ROWS($L$20:$L43)-OFFSET(Cumulative,,3)),IF(OFFSET(Cumulative,,5)>(ROW()-ROW($O$20)),_xlfn.AGGREGATE(15,6,(ROW(OrderRange_Ref)-ROW($L$19))/(OFFSET(OrderRange_Ref,,5)>0),ROWS($L$20:$L43)-OFFSET(Cumulative,,4)),\"\"))))))","v":""},"","","","",""]
[null,{"$f":"IF($C44=\"\",\"\",ROWS($C$20:$C44))","v":25},{"$f":"IF(ROWS($C$20:$C44)>COUNTA(IF(SL_Factory=\"00-FRY\",FRY_Product_List,FRK_Product_List)),\"\",INDEX(IF(SL_Factory=\"00-FRY\",FRY_Product_List,FRK_Product_List),ROWS($C$20:$C44)))","v":"28-ปังกรอบกระเทียม"},null,null,null,null,null,null,0,{"$f":"IF(OrderFrm_Manual!$C44=\"\",\"\",INDEX(dProduct[Pcs/Unit],MATCH(OrderFrm_Manual!$C44,dProduct[NameTH],)))","v":40},null,null,{"$f":"IF(Cumulative>(ROW()-ROW($O$20)),_xlfn.AGGREGATE(15,6,(ROW(OrderRange_Ref)-ROW($L$19))/(OFFSET(OrderRange_Ref,,0)>0),ROWS($L$20:$L44)),IF(OFFSET(Cumulative,,1)>(ROW()-ROW($O$20)),_xlfn.AGGREGATE(15,6,(ROW(OrderRange_Ref)-ROW($L$19))/(OFFSET(OrderRange_Ref,,1)>0),ROWS($L$20:$L44)-OFFSET(Cumulative,,0)),IF(OFFSET(Cumulative,,2)>(ROW()-ROW($O$20)),_xlfn.AGGREGATE(15,6,(ROW(OrderRange_Ref)-ROW($L$19))/(OFFSET(OrderRange_Ref,,2)>0),ROWS($L$20:$L44)-OFFSET(Cumulative,,1)),IF(OFFSET(Cumulative,,3)>(ROW()-ROW($O$20)),_xlfn.AGGREGATE(15,6,(ROW(OrderRange_Ref)-ROW($L$19))/(OFFSET(OrderRange_Ref,,3)>0),ROWS($L$20:$L44)-OFFSET(Cumulative,,2)),IF(OFFSET(Cumulative,,4)>(ROW()-ROW($O$20)),_xlfn.AGGREGATE(15,6,(ROW(OrderRange_Ref)-ROW($L$19))/(OFFSET(OrderRange_Ref,,4)>0),ROWS($L$20:$L44)-OFFSET(Cumulative,,3)),IF(OFFSET(Cumulative,,5)>(ROW()-ROW($O$20)),_xlfn.AGGREGATE(15,6,(ROW(OrderRange_Ref)-ROW($L$19))/(OFFSET(OrderRange_Ref,,5)>0),ROWS($L$20:$L44)-OFFSET(Cumulative,,4)),\"\"))))))","v":""},"","","","",""]
[null,{"$f":"IF($C45=\"\",\"\",ROWS($C$20:$C45))","v":26},{"$f":"IF(ROWS($C$20:$C45)>COUNTA(IF(SL_Factory=\"00-FRY\",FRY_Product_List,FRK_Product_List)),\"\",INDEX(IF(SL_Factory=\"00-FRY\",FRY_Product_List,FRK_Product_List),ROWS($C$20:$C45)))","v":"29-ขนมปังโรลมันเทศ"},null,null,null,null,null,null,0,{"$f":"IF(OrderFrm_Manual!$C45=\"\",\"\",INDEX(dProduct[Pcs/Unit],MATCH(OrderFrm_Manual!$C45,dProduct[NameTH],)))","v":40},null,null,{"$f":"IF(Cumulative>(ROW()-ROW($O$20)),_xlfn.AGGREGATE(15,6,(ROW(OrderRange_Ref)-ROW($L$19))/(OFFSET(OrderRange_Ref,,0)>0),ROWS($L$20:$L45)),IF(OFFSET(Cumulative,,1)>(ROW()-ROW($O$20)),_xlfn.AGGREGATE(15,6,(ROW(OrderRange_Ref)-ROW($L$19))/(OFFSET(OrderRange_Ref,,1)>0),ROWS($L$20:$L45)-OFFSET(Cumulative,,0)),IF(OFFSET(Cumulative,,2)>(ROW()-ROW($O$20)),_xlfn.AGGREGATE(15,6,(ROW(OrderRange_Ref)-ROW($L$19))/(OFFSET(OrderRange_Ref,,2)>0),ROWS($L$20:$L45)-OFFSET(Cumulative,,1)),IF(OFFSET(Cumulative,,3)>(ROW()-ROW($O$20)),_xlfn.AGGREGATE(15,6,(ROW(OrderRange_Ref)-ROW($L$19))/(OFFSET(OrderRange_Ref,,3)>0),ROWS($L$20:$L45)-OFFSET(Cumulative,,2)),IF(OFFSET(Cumulative,,4)>(ROW()-ROW($O$20)),_xlfn.AGGREGATE(15,6,(ROW(OrderRange_Ref)-ROW($L$19))/(OFFSET(OrderRange_Ref,,4)>0),ROWS($L$20:$L45)-OFFSET(Cumulative,,3)),IF(OFFSET(Cumulative,,5)>(ROW()-ROW($O$20)),_xlfn.AGGREGATE(15,6,(ROW(OrderRange_Ref)-ROW($L$19))/(OFFSET(OrderRange_Ref,,5)>0),ROWS($L$20:$L45)-OFFSET(Cumulative,,4)),\"\"))))))","v":""},"","","","",""]
[null,{"$f":"IF($C46=\"\",\"\",ROWS($C$20:$C46))","v":27},{"$f":"IF(ROWS($C$20:$C46)>COUNTA(IF(SL_Factory=\"00-FRY\",FRY_Product_List,FRK_Product_List)),\"\",INDEX(IF(SL_Factory=\"00-FRY\",FRY_Product_List,FRK_Product_List),ROWS($C$20:$C46)))","v":"30-บันเตยหอมไส้มันเทศ"},null,null,null,null,null,null,0,{"$f":"IF(OrderFrm_Manual!$C46=\"\",\"\",INDEX(dProduct[Pcs/Unit],MATCH(OrderFrm_Manual!$C46,dProduct[NameTH],)))","v":50},null,null,{"$f":"IF(Cumulative>(ROW()-ROW($O$20)),_xlfn.AGGREGATE(15,6,(ROW(OrderRange_Ref)-ROW($L$19))/(OFFSET(OrderRange_Ref,,0)>0),ROWS($L$20:$L46)),IF(OFFSET(Cumulative,,1)>(ROW()-ROW($O$20)),_xlfn.AGGREGATE(15,6,(ROW(OrderRange_Ref)-ROW($L$19))/(OFFSET(OrderRange_Ref,,1)>0),ROWS($L$20:$L46)-OFFSET(Cumulative,,0)),IF(OFFSET(Cumulative,,2)>(ROW()-ROW($O$20)),_xlfn.AGGREGATE(15,6,(ROW(OrderRange_Ref)-ROW($L$19))/(OFFSET(OrderRange_Ref,,2)>0),ROWS($L$20:$L46)-OFFSET(Cumulative,,1)),IF(OFFSET(Cumulative,,3)>(ROW()-ROW($O$20)),_xlfn.AGGREGATE(15,6,(ROW(OrderRange_Ref)-ROW($L$19))/(OFFSET(OrderRange_Ref,,3)>0),ROWS($L$20:$L46)-OFFSET(Cumulative,,2)),IF(OFFSET(Cumulative,,4)>(ROW()-ROW($O$20)),_xlfn.AGGREGATE(15,6,(ROW(OrderRange_Ref)-ROW($L$19))/(OFFSET(OrderRange_Ref,,4)>0),ROWS($L$20:$L46)-OFFSET(Cumulative,,3)),IF(OFFSET(Cumulative,,5)>(ROW()-ROW($O$20)),_xlfn.AGGREGATE(15,6,(ROW(OrderRange_Ref)-ROW($L$19))/(OFFSET(OrderRange_Ref,,5)>0),ROWS($L$20:$L46)-OFFSET(Cumulative,,4)),\"\"))))))","v":""},"","","","",""]
[null,{"$f":"IF($C47=\"\",\"\",ROWS($C$20:$C47))","v":28},{"$f":"IF(ROWS($C$20:$C47)>COUNTA(IF(SL_Factory=\"00-FRY\",FRY_Product_List,FRK_Product_List)),\"\",INDEX(IF(SL_Factory=\"00-FRY\",FRY_Product_List,FRK_Product_List),ROWS($C$20:$C47)))","v":"31-โมจิชาเขียวมัทฉะไส้ถั่วแดง"},null,null,null,null,null,null,0,{"$f":"IF(OrderFrm_Manual!$C47=\"\",\"\",INDEX(dProduct[Pcs/Unit],MATCH(OrderFrm_Manual!$C47,dProduct[NameTH],)))","v":50},null,null,{"$f":"IF(Cumulative>(ROW()-ROW($O$20)),_xlfn.AGGREGATE(15,6,(ROW(OrderRange_Ref)-ROW($L$19))/(OFFSET(OrderRange_Ref,,0)>0),ROWS($L$20:$L47)),IF(OFFSET(Cumulative,,1)>(ROW()-ROW($O$20)),_xlfn.AGGREGATE(15,6,(ROW(OrderRange_Ref)-ROW($L$19))/(OFFSET(OrderRange_Ref,,1)>0),ROWS($L$20:$L47)-OFFSET(Cumulative,,0)),IF(OFFSET(Cumulative,,2)>(ROW()-ROW($O$20)),_xlfn.AGGREGATE(15,6,(ROW(OrderRange_Ref)-ROW($L$19))/(OFFSET(OrderRange_Ref,,2)>0),ROWS($L$20:$L47)-OFFSET(Cumulative,,1)),IF(OFFSET(Cumulative,,3)>(ROW()-ROW($O$20)),_xlfn.AGGREGATE(15,6,(ROW(OrderRange_Ref)-ROW($L$19))/(OFFSET(OrderRange_Ref,,3)>0),ROWS($L$20:$L47)-OFFSET(Cumulative,,2)),IF(OFFSET(Cumulative,,4)>(ROW()-ROW($O$20)),_xlfn.AGGREGATE(15,6,(ROW(OrderRange_Ref)-ROW($L$19))/(OFFSET(OrderRange_Ref,,4)>0),ROWS($L$20:$L47)-OFFSET(Cumulative,,3)),IF(OFFSET(Cumulative,,5)>(ROW()-ROW($O$20)),_xlfn.AGGREGATE(15,6,(ROW(OrderRange_Ref)-ROW($L$19))/(OFFSET(OrderRange_Ref,,5)>0),ROWS($L$20:$L47)-OFFSET(Cumulative,,4)),\"\"))))))","v":""},"","","","",""]
[null,{"$f":"IF($C48=\"\",\"\",ROWS($C$20:$C48))","v":""},{"$f":"IF(ROWS($C$20:$C48)>COUNTA(IF(SL_Factory=\"00-FRY\",FRY_Product_List,FRK_Product_List)),\"\",INDEX(IF(SL_Factory=\"00-FRY\",FRY_Product_List,FRK_Product_List),ROWS($C$20:$C48)))","v":""},null,null,null,null,null,null,"",{"$f":"IF(OrderFrm_Manual!$C48=\"\",\"\",INDEX(dProduct[Pcs/Unit],MATCH(OrderFrm_Manual!$C48,dProduct[NameTH],)))","v":""},null,null,{"$f":"IF(Cumulative>(ROW()-ROW($O$20)),_xlfn.AGGREGATE(15,6,(ROW(OrderRange_Ref)-ROW($L$19))/(OFFSET(OrderRange_Ref,,0)>0),ROWS($L$20:$L48)),IF(OFFSET(Cumulative,,1)>(ROW()-ROW($O$20)),_xlfn.AGGREGATE(15,6,(ROW(OrderRange_Ref)-ROW($L$19))/(OFFSET(OrderRange_Ref,,1)>0),ROWS($L$20:$L48)-OFFSET(Cumulative,,0)),IF(OFFSET(Cumulative,,2)>(ROW()-ROW($O$20)),_xlfn.AGGREGATE(15,6,(ROW(OrderRange_Ref)-ROW($L$19))/(OFFSET(OrderRange_Ref,,2)>0),ROWS($L$20:$L48)-OFFSET(Cumulative,,1)),IF(OFFSET(Cumulative,,3)>(ROW()-ROW($O$20)),_xlfn.AGGREGATE(15,6,(ROW(OrderRange_Ref)-ROW($L$19))/(OFFSET(OrderRange_Ref,,3)>0),ROWS($L$20:$L48)-OFFSET(Cumulative,,2)),IF(OFFSET(Cumulative,,4)>(ROW()-ROW($O$20)),_xlfn.AGGREGATE(15,6,(ROW(OrderRange_Ref)-ROW($L$19))/(OFFSET(OrderRange_Ref,,4)>0),ROWS($L$20:$L48)-OFFSET(Cumulative,,3)),IF(OFFSET(Cumulative,,5)>(ROW()-ROW($O$20)),_xlfn.AGGREGATE(15,6,(ROW(OrderRange_Ref)-ROW($L$19))/(OFFSET(OrderRange_Ref,,5)>0),ROWS($L$20:$L48)-OFFSET(Cumulative,,4)),\"\"))))))","v":""},"","","","",""]
[null,{"$f":"IF($C49=\"\",\"\",ROWS($C$20:$C49))","v":""},{"$f":"IF(ROWS($C$20:$C49)>COUNTA(IF(SL_Factory=\"00-FRY\",FRY_Product_List,FRK_Product_List)),\"\",INDEX(IF(SL_Factory=\"00-FRY\",FRY_Product_List,FRK_Product_List),ROWS($C$20:$C49)))","v":""},null,null,null,null,null,null,"",{"$f":"IF(OrderFrm_Manual!$C49=\"\",\"\",INDEX(dProduct[Pcs/Unit],MATCH(OrderFrm_Manual!$C49,dProduct[NameTH],)))","v":""},null,null,{"$f":"IF(Cumulative>(ROW()-ROW($O$20)),_xlfn.AGGREGATE(15,6,(ROW(OrderRange_Ref)-ROW($L$19))/(OFFSET(OrderRange_Ref,,0)>0),ROWS($L$20:$L49)),IF(OFFSET(Cumulative,,1)>(ROW()-ROW($O$20)),_xlfn.AGGREGATE(15,6,(ROW(OrderRange_Ref)-ROW($L$19))/(OFFSET(OrderRange_Ref,,1)>0),ROWS($L$20:$L49)-OFFSET(Cumulative,,0)),IF(OFFSET(Cumulative,,2)>(ROW()-ROW($O$20)),_xlfn.AGGREGATE(15,6,(ROW(OrderRange_Ref)-ROW($L$19))/(OFFSET(OrderRange_Ref,,2)>0),ROWS($L$20:$L49)-OFFSET(Cumulative,,1)),IF(OFFSET(Cumulative,,3)>(ROW()-ROW($O$20)),_xlfn.AGGREGATE(15,6,(ROW(OrderRange_Ref)-ROW($L$19))/(OFFSET(OrderRange_Ref,,3)>0),ROWS($L$20:$L49)-OFFSET(Cumulative,,2)),IF(OFFSET(Cumulative,,4)>(ROW()-ROW($O$20)),_xlfn.AGGREGATE(15,6,(ROW(OrderRange_Ref)-ROW($L$19))/(OFFSET(OrderRange_Ref,,4)>0),ROWS($L$20:$L49)-OFFSET(Cumulative,,3)),IF(OFFSET(Cumulative,,5)>(ROW()-ROW($O$20)),_xlfn.AGGREGATE(15,6,(ROW(OrderRange_Ref)-ROW($L$19))/(OFFSET(OrderRange_Ref,,5)>0),ROWS($L$20:$L49)-OFFSET(Cumulative,,4)),\"\"))))))","v":""},"","","","",""]
[null,{"$f":"IF($C50=\"\",\"\",ROWS($C$20:$C50))","v":""},{"$f":"IF(ROWS($C$20:$C50)>COUNTA(IF(SL_Factory=\"00-FRY\",FRY_Product_List,FRK_Product_List)),\"\",INDEX(IF(SL_Factory=\"00-FRY\",FRY_Product_List,FRK_Product_List),ROWS($C$20:$C50)))","v":""},null,null,null,null,null,null,"",{"$f":"IF(OrderFrm_Manual!$C50=\"\",\"\",INDEX(dProduct[Pcs/Unit],MATCH(OrderFrm_Manual!$C50,dProduct[NameTH],)))","v":""},null,null,{"$f":"IF(Cumulative>(ROW()-ROW($O$20)),_xlfn.AGGREGATE(15,6,(ROW(OrderRange_Ref)-ROW($L$19))/(OFFSET(OrderRange_Ref,,0)>0),ROWS($L$20:$L50)),IF(OFFSET(Cumulative,,1)>(ROW()-ROW($O$20)),_xlfn.AGGREGATE(15,6,(ROW(OrderRange_Ref)-ROW($L$19))/(OFFSET(OrderRange_Ref,,1)>0),ROWS($L$20:$L50)-OFFSET(Cumulative,,0)),IF(OFFSET(Cumulative,,2)>(ROW()-ROW($O$20)),_xlfn.AGGREGATE(15,6,(ROW(OrderRange_Ref)-ROW($L$19))/(OFFSET(OrderRange_Ref,,2)>0),ROWS($L$20:$L50)-OFFSET(Cumulative,,1)),IF(OFFSET(Cumulative,,3)>(ROW()-ROW($O$20)),_xlfn.AGGREGATE(15,6,(ROW(OrderRange_Ref)-ROW($L$19))/(OFFSET(OrderRange_Ref,,3)>0),ROWS($L$20:$L50)-OFFSET(Cumulative,,2)),IF(OFFSET(Cumulative,,4)>(ROW()-ROW($O$20)),_xlfn.AGGREGATE(15,6,(ROW(OrderRange_Ref)-ROW($L$19))/(OFFSET(OrderRange_Ref,,4)>0),ROWS($L$20:$L50)-OFFSET(Cumulative,,3)),IF(OFFSET(Cumulative,,5)>(ROW()-ROW($O$20)),_xlfn.AGGREGATE(15,6,(ROW(OrderRange_Ref)-ROW($L$19))/(OFFSET(OrderRange_Ref,,5)>0),ROWS($L$20:$L50)-OFFSET(Cumulative,,4)),\"\"))))))","v":""},"","","","",""]
[null,{"$f":"IF($C51=\"\",\"\",ROWS($C$20:$C51))","v":""},{"$f":"IF(ROWS($C$20:$C51)>COUNTA(IF(SL_Factory=\"00-FRY\",FRY_Product_List,FRK_Product_List)),\"\",INDEX(IF(SL_Factory=\"00-FRY\",FRY_Product_List,FRK_Product_List),ROWS($C$20:$C51)))","v":""},null,null,null,null,null,null,"",{"$f":"IF(OrderFrm_Manual!$C51=\"\",\"\",INDEX(dProduct[Pcs/Unit],MATCH(OrderFrm_Manual!$C51,dProduct[NameTH],)))","v":""},null,null,{"$f":"IF(Cumulative>(ROW()-ROW($O$20)),_xlfn.AGGREGATE(15,6,(ROW(OrderRange_Ref)-ROW($L$19))/(OFFSET(OrderRange_Ref,,0)>0),ROWS($L$20:$L51)),IF(OFFSET(Cumulative,,1)>(ROW()-ROW($O$20)),_xlfn.AGGREGATE(15,6,(ROW(OrderRange_Ref)-ROW($L$19))/(OFFSET(OrderRange_Ref,,1)>0),ROWS($L$20:$L51)-OFFSET(Cumulative,,0)),IF(OFFSET(Cumulative,,2)>(ROW()-ROW($O$20)),_xlfn.AGGREGATE(15,6,(ROW(OrderRange_Ref)-ROW($L$19))/(OFFSET(OrderRange_Ref,,2)>0),ROWS($L$20:$L51)-OFFSET(Cumulative,,1)),IF(OFFSET(Cumulative,,3)>(ROW()-ROW($O$20)),_xlfn.AGGREGATE(15,6,(ROW(OrderRange_Ref)-ROW($L$19))/(OFFSET(OrderRange_Ref,,3)>0),ROWS($L$20:$L51)-OFFSET(Cumulative,,2)),IF(OFFSET(Cumulative,,4)>(ROW()-ROW($O$20)),_xlfn.AGGREGATE(15,6,(ROW(OrderRange_Ref)-ROW($L$19))/(OFFSET(OrderRange_Ref,,4)>0),ROWS($L$20:$L51)-OFFSET(Cumulative,,3)),IF(OFFSET(Cumulative,,5)>(ROW()-ROW($O$20)),_xlfn.AGGREGATE(15,6,(ROW(OrderRange_Ref)-ROW($L$19))/(OFFSET(OrderRange_Ref,,5)>0),ROWS($L$20:$L51)-OFFSET(Cumulative,,4)),\"\"))))))","v":""},"","","","",""]
[null,{"$f":"IF($C52=\"\",\"\",ROWS($C$20:$C52))","v":""},{"$f":"IF(ROWS($C$20:$C52)>COUNTA(IF(SL_Factory=\"00-FRY\",FRY_Product_List,FRK_Product_List)),\"\",INDEX(IF(SL_Factory=\"00-FRY\",FRY_Product_List,FRK_Product_List),ROWS($C$20:$C52)))","v":""},null,null,null,null,null,null,"",{"$f":"IF(OrderFrm_Manual!$C52=\"\",\"\",INDEX(dProduct[Pcs/Unit],MATCH(OrderFrm_Manual!$C52,dProduct[NameTH],)))","v":""},null,null,{"$f":"IF(Cumulative>(ROW()-ROW($O$20)),_xlfn.AGGREGATE(15,6,(ROW(OrderRange_Ref)-ROW($L$19))/(OFFSET(OrderRange_Ref,,0)>0),ROWS($L$20:$L52)),IF(OFFSET(Cumulative,,1)>(ROW()-ROW($O$20)),_xlfn.AGGREGATE(15,6,(ROW(OrderRange_Ref)-ROW($L$19))/(OFFSET(OrderRange_Ref,,1)>0),ROWS($L$20:$L52)-OFFSET(Cumulative,,0)),IF(OFFSET(Cumulative,,2)>(ROW()-ROW($O$20)),_xlfn.AGGREGATE(15,6,(ROW(OrderRange_Ref)-ROW($L$19))/(OFFSET(OrderRange_Ref,,2)>0),ROWS($L$20:$L52)-OFFSET(Cumulative,,1)),IF(OFFSET(Cumulative,,3)>(ROW()-ROW($O$20)),_xlfn.AGGREGATE(15,6,(ROW(OrderRange_Ref)-ROW($L$19))/(OFFSET(OrderRange_Ref,,3)>0),ROWS($L$20:$L52)-OFFSET(Cumulative,,2)),IF(OFFSET(Cumulative,,4)>(ROW()-ROW($O$20)),_xlfn.AGGREGATE(15,6,(ROW(OrderRange_Ref)-ROW($L$19))/(OFFSET(OrderRange_Ref,,4)>0),ROWS($L$20:$L52)-OFFSET(Cumulative,,3)),IF(OFFSET(Cumulative,,5)>(ROW()-ROW($O$20)),_xlfn.AGGREGATE(15,6,(ROW(OrderRange_Ref)-ROW($L$19))/(OFFSET(OrderRange_Ref,,5)>0),ROWS($L$20:$L52)-OFFSET(Cumulative,,4)),\"\"))))))","v":""},"","","","",""]
[null,{"$f":"IF($C53=\"\",\"\",ROWS($C$20:$C53))","v":""},{"$f":"IF(ROWS($C$20:$C53)>COUNTA(IF(SL_Factory=\"00-FRY\",FRY_Product_List,FRK_Product_List)),\"\",INDEX(IF(SL_Factory=\"00-FRY\",FRY_Product_List,FRK_Product_List),ROWS($C$20:$C53)))","v":""},null,null,null,null,null,null,"",{"$f":"IF(OrderFrm_Manual!$C53=\"\",\"\",INDEX(dProduct[Pcs/Unit],MATCH(OrderFrm_Manual!$C53,dProduct[NameTH],)))","v":""},null,null,{"$f":"IF(Cumulative>(ROW()-ROW($O$20)),_xlfn.AGGREGATE(15,6,(ROW(OrderRange_Ref)-ROW($L$19))/(OFFSET(OrderRange_Ref,,0)>0),ROWS($L$20:$L53)),IF(OFFSET(Cumulative,,1)>(ROW()-ROW($O$20)),_xlfn.AGGREGATE(15,6,(ROW(OrderRange_Ref)-ROW($L$19))/(OFFSET(OrderRange_Ref,,1)>0),ROWS($L$20:$L53)-OFFSET(Cumulative,,0)),IF(OFFSET(Cumulative,,2)>(ROW()-ROW($O$20)),_xlfn.AGGREGATE(15,6,(ROW(OrderRange_Ref)-ROW($L$19))/(OFFSET(OrderRange_Ref,,2)>0),ROWS($L$20:$L53)-OFFSET(Cumulative,,1)),IF(OFFSET(Cumulative,,3)>(ROW()-ROW($O$20)),_xlfn.AGGREGATE(15,6,(ROW(OrderRange_Ref)-ROW($L$19))/(OFFSET(OrderRange_Ref,,3)>0),ROWS($L$20:$L53)-OFFSET(Cumulative,,2)),IF(OFFSET(Cumulative,,4)>(ROW()-ROW($O$20)),_xlfn.AGGREGATE(15,6,(ROW(OrderRange_Ref)-ROW($L$19))/(OFFSET(OrderRange_Ref,,4)>0),ROWS($L$20:$L53)-OFFSET(Cumulative,,3)),IF(OFFSET(Cumulative,,5)>(ROW()-ROW($O$20)),_xlfn.AGGREGATE(15,6,(ROW(OrderRange_Ref)-ROW($L$19))/(OFFSET(OrderRange_Ref,,5)>0),ROWS($L$20:$L53)-OFFSET(Cumulative,,4)),\"\"))))))","v":""},"","","","",""]
[null,{"$f":"IF($C54=\"\",\"\",ROWS($C$20:$C54))","v":""},{"$f":"IF(ROWS($C$20:$C54)>COUNTA(IF(SL_Factory=\"00-FRY\",FRY_Product_List,FRK_Product_List)),\"\",INDEX(IF(SL_Factory=\"00-FRY\",FRY_Product_List,FRK_Product_List),ROWS($C$20:$C54)))","v":""},null,null,null,null,null,null,"",{"$f":"IF(OrderFrm_Manual!$C54=\"\",\"\",INDEX(dProduct[Pcs/Unit],MATCH(OrderFrm_Manual!$C54,dProduct[NameTH],)))","v":""},null,null,{"$f":"IF(Cumulative>(ROW()-ROW($O$20)),_xlfn.AGGREGATE(15,6,(ROW(OrderRange_Ref)-ROW($L$19))/(OFFSET(OrderRange_Ref,,0)>0),ROWS($L$20:$L54)),IF(OFFSET(Cumulative,,1)>(ROW()-ROW($O$20)),_xlfn.AGGREGATE(15,6,(ROW(OrderRange_Ref)-ROW($L$19))/(OFFSET(OrderRange_Ref,,1)>0),ROWS($L$20:$L54)-OFFSET(Cumulative,,0)),IF(OFFSET(Cumulative,,2)>(ROW()-ROW($O$20)),_xlfn.AGGREGATE(15,6,(ROW(OrderRange_Ref)-ROW($L$19))/(OFFSET(OrderRange_Ref,,2)>0),ROWS($L$20:$L54)-OFFSET(Cumulative,,1)),IF(OFFSET(Cumulative,,3)>(ROW()-ROW($O$20)),_xlfn.AGGREGATE(15,6,(ROW(OrderRange_Ref)-ROW($L$19))/(OFFSET(OrderRange_Ref,,3)>0),ROWS($L$20:$L54)-OFFSET(Cumulative,,2)),IF(OFFSET(Cumulative,,4)>(ROW()-ROW($O$20)),_xlfn.AGGREGATE(15,6,(ROW(OrderRange_Ref)-ROW($L$19))/(OFFSET(OrderRange_Ref,,4)>0),ROWS($L$20:$L54)-OFFSET(Cumulative,,3)),IF(OFFSET(Cumulative,,5)>(ROW()-ROW($O$20)),_xlfn.AGGREGATE(15,6,(ROW(OrderRange_Ref)-ROW($L$19))/(OFFSET(OrderRange_Ref,,5)>0),ROWS($L$20:$L54)-OFFSET(Cumulative,,4)),\"\"))))))","v":""},"","","","",""]
[null,{"$f":"IF($C55=\"\",\"\",ROWS($C$20:$C55))","v":""},{"$f":"IF(ROWS($C$20:$C55)>COUNTA(IF(SL_Factory=\"00-FRY\",FRY_Product_List,FRK_Product_List)),\"\",INDEX(IF(SL_Factory=\"00-FRY\",FRY_Product_List,FRK_Product_List),ROWS($C$20:$C55)))","v":""},null,null,null,null,null,null,"",{"$f":"IF(OrderFrm_Manual!$C55=\"\",\"\",INDEX(dProduct[Pcs/Unit],MATCH(OrderFrm_Manual!$C55,dProduct[NameTH],)))","v":""},null,null,{"$f":"IF(Cumulative>(ROW()-ROW($O$20)),_xlfn.AGGREGATE(15,6,(ROW(OrderRange_Ref)-ROW($L$19))/(OFFSET(OrderRange_Ref,,0)>0),ROWS($L$20:$L55)),IF(OFFSET(Cumulative,,1)>(ROW()-ROW($O$20)),_xlfn.AGGREGATE(15,6,(ROW(OrderRange_Ref)-ROW($L$19))/(OFFSET(OrderRange_Ref,,1)>0),ROWS($L$20:$L55)-OFFSET(Cumulative,,0)),IF(OFFSET(Cumulative,,2)>(ROW()-ROW($O$20)),_xlfn.AGGREGATE(15,6,(ROW(OrderRange_Ref)-ROW($L$19))/(OFFSET(OrderRange_Ref,,2)>0),ROWS($L$20:$L55)-OFFSET(Cumulative,,1)),IF(OFFSET(Cumulative,,3)>(ROW()-ROW($O$20)),_xlfn.AGGREGATE(15,6,(ROW(OrderRange_Ref)-ROW($L$19))/(OFFSET(OrderRange_Ref,,3)>0),ROWS($L$20:$L55)-OFFSET(Cumulative,,2)),IF(OFFSET(Cumulative,,4)>(ROW()-ROW($O$20)),_xlfn.AGGREGATE(15,6,(ROW(OrderRange_Ref)-ROW($L$19))/(OFFSET(OrderRange_Ref,,4)>0),ROWS($L$20:$L55)-OFFSET(Cumulative,,3)),IF(OFFSET(Cumulative,,5)>(ROW()-ROW($O$20)),_xlfn.AGGREGATE(15,6,(ROW(OrderRange_Ref)-ROW($L$19))/(OFFSET(OrderRange_Ref,,5)>0),ROWS($L$20:$L55)-OFFSET(Cumulative,,4)),\"\"))))))","v":""},"","","","",""]
[null,{"$f":"IF($C56=\"\",\"\",ROWS($C$20:$C56))","v":""},{"$f":"IF(ROWS($C$20:$C56)>COUNTA(IF(SL_Factory=\"00-FRY\",FRY_Product_List,FRK_Product_List)),\"\",INDEX(IF(SL_Factory=\"00-FRY\",FRY_Product_List,FRK_Product_List),ROWS($C$20:$C56)))","v":""},null,null,null,null,null,null,"",{"$f":"IF(OrderFrm_Manual!$C56=\"\",\"\",INDEX(dProduct[Pcs/Unit],MATCH(OrderFrm_Manual!$C56,dProduct[NameTH],)))","v":""},null,null,{"$f":"IF(Cumulative>(ROW()-ROW($O$20)),_xlfn.AGGREGATE(15,6,(ROW(OrderRange_Ref)-ROW($L$19))/(OFFSET(OrderRange_Ref,,0)>0),ROWS($L$20:$L56)),IF(OFFSET(Cumulative,,1)>(ROW()-ROW($O$20)),_xlfn.AGGREGATE(15,6,(ROW(OrderRange_Ref)-ROW($L$19))/(OFFSET(OrderRange_Ref,,1)>0),ROWS($L$20:$L56)-OFFSET(Cumulative,,0)),IF(OFFSET(Cumulative,,2)>(ROW()-ROW($O$20)),_xlfn.AGGREGATE(15,6,(ROW(OrderRange_Ref)-ROW($L$19))/(OFFSET(OrderRange_Ref,,2)>0),ROWS($L$20:$L56)-OFFSET(Cumulative,,1)),IF(OFFSET(Cumulative,,3)>(ROW()-ROW($O$20)),_xlfn.AGGREGATE(15,6,(ROW(OrderRange_Ref)-ROW($L$19))/(OFFSET(OrderRange_Ref,,3)>0),ROWS($L$20:$L56)-OFFSET(Cumulative,,2)),IF(OFFSET(Cumulative,,4)>(ROW()-ROW($O$20)),_xlfn.AGGREGATE(15,6,(ROW(OrderRange_Ref)-ROW($L$19))/(OFFSET(OrderRange_Ref,,4)>0),ROWS($L$20:$L56)-OFFSET(Cumulative,,3)),IF(OFFSET(Cumulative,,5)>(ROW()-ROW($O$20)),_xlfn.AGGREGATE(15,6,(ROW(OrderRange_Ref)-ROW($L$19))/(OFFSET(OrderRange_Ref,,5)>0),ROWS($L$20:$L56)-OFFSET(Cumulative,,4)),\"\"))))))","v":""},"","","","",""]
[null,{"$f":"IF($C57=\"\",\"\",ROWS($C$20:$C57))","v":""},{"$f":"IF(ROWS($C$20:$C57)>COUNTA(IF(SL_Factory=\"00-FRY\",FRY_Product_List,FRK_Product_List)),\"\",INDEX(IF(SL_Factory=\"00-FRY\",FRY_Product_List,FRK_Product_List),ROWS($C$20:$C57)))","v":""},null,null,null,null,null,null,"",{"$f":"IF(OrderFrm_Manual!$C57=\"\",\"\",INDEX(dProduct[Pcs/Unit],MATCH(OrderFrm_Manual!$C57,dProduct[NameTH],)))","v":""},null,null,{"$f":"IF(Cumulative>(ROW()-ROW($O$20)),_xlfn.AGGREGATE(15,6,(ROW(OrderRange_Ref)-ROW($L$19))/(OFFSET(OrderRange_Ref,,0)>0),ROWS($L$20:$L57)),IF(OFFSET(Cumulative,,1)>(ROW()-ROW($O$20)),_xlfn.AGGREGATE(15,6,(ROW(OrderRange_Ref)-ROW($L$19))/(OFFSET(OrderRange_Ref,,1)>0),ROWS($L$20:$L57)-OFFSET(Cumulative,,0)),IF(OFFSET(Cumulative,,2)>(ROW()-ROW($O$20)),_xlfn.AGGREGATE(15,6,(ROW(OrderRange_Ref)-ROW($L$19))/(OFFSET(OrderRange_Ref,,2)>0),ROWS($L$20:$L57)-OFFSET(Cumulative,,1)),IF(OFFSET(Cumulative,,3)>(ROW()-ROW($O$20)),_xlfn.AGGREGATE(15,6,(ROW(OrderRange_Ref)-ROW($L$19))/(OFFSET(OrderRange_Ref,,3)>0),ROWS($L$20:$L57)-OFFSET(Cumulative,,2)),IF(OFFSET(Cumulative,,4)>(ROW()-ROW($O$20)),_xlfn.AGGREGATE(15,6,(ROW(OrderRange_Ref)-ROW($L$19))/(OFFSET(OrderRange_Ref,,4)>0),ROWS($L$20:$L57)-OFFSET(Cumulative,,3)),IF(OFFSET(Cumulative,,5)>(ROW()-ROW($O$20)),_xlfn.AGGREGATE(15,6,(ROW(OrderRange_Ref)-ROW($L$19))/(OFFSET(OrderRange_Ref,,5)>0),ROWS($L$20:$L57)-OFFSET(Cumulative,,4)),\"\"))))))","v":""},"","","","",""]
[null,{"$f":"IF($C58=\"\",\"\",ROWS($C$20:$C58))","v":""},{"$f":"IF(ROWS($C$20:$C58)>COUNTA(IF(SL_Factory=\"00-FRY\",FRY_Product_List,FRK_Product_List)),\"\",INDEX(IF(SL_Factory=\"00-FRY\",FRY_Product_List,FRK_Product_List),ROWS($C$20:$C58)))","v":""},null,null,null,null,null,null,"",{"$f":"IF(OrderFrm_Manual!$C58=\"\",\"\",INDEX(dProduct[Pcs/Unit],MATCH(OrderFrm_Manual!$C58,dProduct[NameTH],)))","v":""},null,null,{"$f":"IF(Cumulative>(ROW()-ROW($O$20)),_xlfn.AGGREGATE(15,6,(ROW(OrderRange_Ref)-ROW($L$19))/(OFFSET(OrderRange_Ref,,0)>0),ROWS($L$20:$L58)),IF(OFFSET(Cumulative,,1)>(ROW()-ROW($O$20)),_xlfn.AGGREGATE(15,6,(ROW(OrderRange_Ref)-ROW($L$19))/(OFFSET(OrderRange_Ref,,1)>0),ROWS($L$20:$L58)-OFFSET(Cumulative,,0)),IF(OFFSET(Cumulative,,2)>(ROW()-ROW($O$20)),_xlfn.AGGREGATE(15,6,(ROW(OrderRange_Ref)-ROW($L$19))/(OFFSET(OrderRange_Ref,,2)>0),ROWS($L$20:$L58)-OFFSET(Cumulative,,1)),IF(OFFSET(Cumulative,,3)>(ROW()-ROW($O$20)),_xlfn.AGGREGATE(15,6,(ROW(OrderRange_Ref)-ROW($L$19))/(OFFSET(OrderRange_Ref,,3)>0),ROWS($L$20:$L58)-OFFSET(Cumulative,,2)),IF(OFFSET(Cumulative,,4)>(ROW()-ROW($O$20)),_xlfn.AGGREGATE(15,6,(ROW(OrderRange_Ref)-ROW($L$19))/(OFFSET(OrderRange_Ref,,4)>0),ROWS($L$20:$L58)-OFFSET(Cumulative,,3)),IF(OFFSET(Cumulative,,5)>(ROW()-ROW($O$20)),_xlfn.AGGREGATE(15,6,(ROW(OrderRange_Ref)-ROW($L$19))/(OFFSET(OrderRange_Ref,,5)>0),ROWS($L$20:$L58)-OFFSET(Cumulative,,4)),\"\"))))))","v":""},"","","","",""]
[null,{"$f":"IF($C59=\"\",\"\",ROWS($C$20:$C59))","v":""},{"$f":"IF(ROWS($C$20:$C59)>COUNTA(IF(SL_Factory=\"00-FRY\",FRY_Product_List,FRK_Product_List)),\"\",INDEX(IF(SL_Factory=\"00-FRY\",FRY_Product_List,FRK_Product_List),ROWS($C$20:$C59)))","v":""},null,null,null,null,null,null,"",{"$f":"IF(OrderFrm_Manual!$C59=\"\",\"\",INDEX(dProduct[Pcs/Unit],MATCH(OrderFrm_Manual!$C59,dProduct[NameTH],)))","v":""},null,null,{"$f":"IF(Cumulative>(ROW()-ROW($O$20)),_xlfn.AGGREGATE(15,6,(ROW(OrderRange_Ref)-ROW($L$19))/(OFFSET(OrderRange_Ref,,0)>0),ROWS($L$20:$L59)),IF(OFFSET(Cumulative,,1)>(ROW()-ROW($O$20)),_xlfn.AGGREGATE(15,6,(ROW(OrderRange_Ref)-ROW($L$19))/(OFFSET(OrderRange_Ref,,1)>0),ROWS($L$20:$L59)-OFFSET(Cumulative,,0)),IF(OFFSET(Cumulative,,2)>(ROW()-ROW($O$20)),_xlfn.AGGREGATE(15,6,(ROW(OrderRange_Ref)-ROW($L$19))/(OFFSET(OrderRange_Ref,,2)>0),ROWS($L$20:$L59)-OFFSET(Cumulative,,1)),IF(OFFSET(Cumulative,,3)>(ROW()-ROW($O$20)),_xlfn.AGGREGATE(15,6,(ROW(OrderRange_Ref)-ROW($L$19))/(OFFSET(OrderRange_Ref,,3)>0),ROWS($L$20:$L59)-OFFSET(Cumulative,,2)),IF(OFFSET(Cumulative,,4)>(ROW()-ROW($O$20)),_xlfn.AGGREGATE(15,6,(ROW(OrderRange_Ref)-ROW($L$19))/(OFFSET(OrderRange_Ref,,4)>0),ROWS($L$20:$L59)-OFFSET(Cumulative,,3)),IF(OFFSET(Cumulative,,5)>(ROW()-ROW($O$20)),_xlfn.AGGREGATE(15,6,(ROW(OrderRange_Ref)-ROW($L$19))/(OFFSET(OrderRange_Ref,,5)>0),ROWS($L$20:$L59)-OFFSET(Cumulative,,4)),\"\"))))))","v":""},"","","","",""]
[null,"รวมทั้งสิ้น (ถาด)",null,{"$f":"SUM(OFFSET(OrderRange_Ref,,COLUMNS($D61:D61)-1))","v":0},{"$f":"SUM(OFFSET(OrderRange_Ref,,COLUMNS($D61:E61)-1))","v":0},{"$f":"SUM(OFFSET(OrderRange_Ref,,COLUMNS($D61:F61)-1))","v":0},{"$f":"SUM(OFFSET(OrderRange_Ref,,COLUMNS($D61:G61)-1))","v":0},{"$f":"SUM(OFFSET(OrderRange_Ref,,COLUMNS($D61:H61)-1))","v":0},{"$f":"SUM(OFFSET(OrderRange_Ref,,COLUMNS($D61:I61)-1))","v":0},{"$f":"SUM(CheckZone)","v":0},null,null,null,{"$f":"IF(Cumulative>(ROW()-ROW($O$20)),_xlfn.AGGREGATE(15,6,(ROW(OrderRange_Ref)-ROW($L$19))/(OFFSET(OrderRange_Ref,,0)>0),ROWS($L$20:$L60)),IF(OFFSET(Cumulative,,1)>(ROW()-ROW($O$20)),_xlfn.AGGREGATE(15,6,(ROW(OrderRange_Ref)-ROW($L$19))/(OFFSET(OrderRange_Ref,,1)>0),ROWS($L$20:$L60)-OFFSET(Cumulative,,0)),IF(OFFSET(Cumulative,,2)>(ROW()-ROW($O$20)),_xlfn.AGGREGATE(15,6,(ROW(OrderRange_Ref)-ROW($L$19))/(OFFSET(OrderRange_Ref,,2)>0),ROWS($L$20:$L60)-OFFSET(Cumulative,,1)),IF(OFFSET(Cumulative,,3)>(ROW()-ROW($O$20)),_xlfn.AGGREGATE(15,6,(ROW(OrderRange_Ref)-ROW($L$19))/(OFFSET(OrderRange_Ref,,3)>0),ROWS($L$20:$L60)-OFFSET(Cumulative,,2)),IF(OFFSET(Cumulative,,4)>(ROW()-ROW($O$20)),_xlfn.AGGREGATE(15,6,(ROW(OrderRange_Ref)-ROW($L$19))/(OFFSET(OrderRange_Ref,,4)>0),ROWS($L$20:$L60)-OFFSET(Cumulative,,3)),IF(OFFSET(Cumulative,,5)>(ROW()-ROW($O$20)),_xlfn.AGGREGATE(15,6,(ROW(OrderRange_Ref)-ROW($L$19))/(OFFSET(OrderRange_Ref,,5)>0),ROWS($L$20:$L60)-OFFSET(Cumulative,,4)),\"\"))))))","v":""},"","","","",""]
[null,null,null,{"$f":"C$61+COUNTIF(OFFSET(OrderRange_Ref,,COLUMNS($D61:D61)-1),\">0\")","v":0},{"$f":"D$61+COUNTIF(OFFSET(OrderRange_Ref,,COLUMNS($D61:E61)-1),\">0\")","v":0},{"$f":"E$61+COUNTIF(OFFSET(OrderRange_Ref,,COLUMNS($D61:F61)-1),\">0\")","v":0},{"$f":"F$61+COUNTIF(OFFSET(OrderRange_Ref,,COLUMNS($D61:G61)-1),\">0\")","v":0},{"$f":"G$61+COUNTIF(OFFSET(OrderRange_Ref,,COLUMNS($D61:H61)-1),\">0\")","v":0},{"$f":"H$61+COUNTIF(OFFSET(OrderRange_Ref,,COLUMNS($D61:I61)-1),\">0\")","v":0},null,null,null,null,{"$f":"IF(Cumulative>(ROW()-ROW($O$20)),_xlfn.AGGREGATE(15,6,(ROW(OrderRange_Ref)-ROW($L$19))/(OFFSET(OrderRange_Ref,,0)>0),ROWS($L$20:$L61)),IF(OFFSET(Cumulative,,1)>(ROW()-ROW($O$20)),_xlfn.AGGREGATE(15,6,(ROW(OrderRange_Ref)-ROW($L$19))/(OFFSET(OrderRange_Ref,,1)>0),ROWS($L$20:$L61)-OFFSET(Cumulative,,0)),IF(OFFSET(Cumulative,,2)>(ROW()-ROW($O$20)),_xlfn.AGGREGATE(15,6,(ROW(OrderRange_Ref)-ROW($L$19))/(OFFSET(OrderRange_Ref,,2)>0),ROWS($L$20:$L61)-OFFSET(Cumulative,,1)),IF(OFFSET(Cumulative,,3)>(ROW()-ROW($O$20)),_xlfn.AGGREGATE(15,6,(ROW(OrderRange_Ref)-ROW($L$19))/(OFFSET(OrderRange_Ref,,3)>0),ROWS($L$20:$L61)-OFFSET(Cumulative,,2)),IF(OFFSET(Cumulative,,4)>(ROW()-ROW($O$20)),_xlfn.AGGREGATE(15,6,(ROW(OrderRange_Ref)-ROW($L$19))/(OFFSET(OrderRange_Ref,,4)>0),ROWS($L$20:$L61)-OFFSET(Cumulative,,3)),IF(OFFSET(Cumulative,,5)>(ROW()-ROW($O$20)),_xlfn.AGGREGATE(15,6,(ROW(OrderRange_Ref)-ROW($L$19))/(OFFSET(OrderRange_Ref,,5)>0),ROWS($L$20:$L61)-OFFSET(Cumulative,,4)),\"\"))))))","v":""},"","","","",""]
[null,null,null,null,null,null,null,null,null,null,null,null,null,{"$f":"IF(Cumulative>(ROW()-ROW($O$20)),_xlfn.AGGREGATE(15,6,(ROW(OrderRange_Ref)-ROW($L$19))/(OFFSET(OrderRange_Ref,,0)>0),ROWS($L$20:$L62)),IF(OFFSET(Cumulative,,1)>(ROW()-ROW($O$20)),_xlfn.AGGREGATE(15,6,(ROW(OrderRange_Ref)-ROW($L$19))/(OFFSET(OrderRange_Ref,,1)>0),ROWS($L$20:$L62)-OFFSET(Cumulative,,0)),IF(OFFSET(Cumulative,,2)>(ROW()-ROW($O$20)),_xlfn.AGGREGATE(15,6,(ROW(OrderRange_Ref)-ROW($L$19))/(OFFSET(OrderRange_Ref,,2)>0),ROWS($L$20:$L62)-OFFSET(Cumulative,,1)),IF(OFFSET(Cumulative,,3)>(ROW()-ROW($O$20)),_xlfn.AGGREGATE(15,6,(ROW(OrderRange_Ref)-ROW($L$19))/(OFFSET(OrderRange_Ref,,3)>0),ROWS($L$20:$L62)-OFFSET(Cumulative,,2)),IF(OFFSET(Cumulative,,4)>(ROW()-ROW($O$20)),_xlfn.AGGREGATE(15,6,(ROW(OrderRange_Ref)-ROW($L$19))/(OFFSET(OrderRange_Ref,,4)>0),ROWS($L$20:$L62)-OFFSET(Cumulative,,3)),IF(OFFSET(Cumulative,,5)>(ROW()-ROW($O$20)),_xlfn.AGGREGATE(15,6,(ROW(OrderRange_Ref)-ROW($L$19))/(OFFSET(OrderRange_Ref,,5)>0),ROWS($L$20:$L62)-OFFSET(Cumulative,,4)),\"\"))))))","v":""},"","","","",""]
[null,null,null,null,null,null,null,"ขอแสดงความนับถือ",null,null,null,null,null,{"$f":"IF(Cumulative>(ROW()-ROW($O$20)),_xlfn.AGGREGATE(15,6,(ROW(OrderRange_Ref)-ROW($L$19))/(OFFSET(OrderRange_Ref,,0)>0),ROWS($L$20:$L63)),IF(OFFSET(Cumulative,,1)>(ROW()-ROW($O$20)),_xlfn.AGGREGATE(15,6,(ROW(OrderRange_Ref)-ROW($L$19))/(OFFSET(OrderRange_Ref,,1)>0),ROWS($L$20:$L63)-OFFSET(Cumulative,,0)),IF(OFFSET(Cumulative,,2)>(ROW()-ROW($O$20)),_xlfn.AGGREGATE(15,6,(ROW(OrderRange_Ref)-ROW($L$19))/(OFFSET(OrderRange_Ref,,2)>0),ROWS($L$20:$L63)-OFFSET(Cumulative,,1)),IF(OFFSET(Cumulative,,3)>(ROW()-ROW($O$20)),_xlfn.AGGREGATE(15,6,(ROW(OrderRange_Ref)-ROW($L$19))/(OFFSET(OrderRange_Ref,,3)>0),ROWS($L$20:$L63)-OFFSET(Cumulative,,2)),IF(OFFSET(Cumulative,,4)>(ROW()-ROW($O$20)),_xlfn.AGGREGATE(15,6,(ROW(OrderRange_Ref)-ROW($L$19))/(OFFSET(OrderRange_Ref,,4)>0),ROWS($L$20:$L63)-OFFSET(Cumulative,,3)),IF(OFFSET(Cumulative,,5)>(ROW()-ROW($O$20)),_xlfn.AGGREGATE(15,6,(ROW(OrderRange_Ref)-ROW($L$19))/(OFFSET(OrderRange_Ref,,5)>0),ROWS($L$20:$L63)-OFFSET(Cumulative,,4)),\"\"))))))","v":""},"","","","",""]
[null,null,null,null,null,null,null,null,null,null,null,null,null,{"$f":"IF(Cumulative>(ROW()-ROW($O$20)),_xlfn.AGGREGATE(15,6,(ROW(OrderRange_Ref)-ROW($L$19))/(OFFSET(OrderRange_Ref,,0)>0),ROWS($L$20:$L64)),IF(OFFSET(Cumulative,,1)>(ROW()-ROW($O$20)),_xlfn.AGGREGATE(15,6,(ROW(OrderRange_Ref)-ROW($L$19))/(OFFSET(OrderRange_Ref,,1)>0),ROWS($L$20:$L64)-OFFSET(Cumulative,,0)),IF(OFFSET(Cumulative,,2)>(ROW()-ROW($O$20)),_xlfn.AGGREGATE(15,6,(ROW(OrderRange_Ref)-ROW($L$19))/(OFFSET(OrderRange_Ref,,2)>0),ROWS($L$20:$L64)-OFFSET(Cumulative,,1)),IF(OFFSET(Cumulative,,3)>(ROW()-ROW($O$20)),_xlfn.AGGREGATE(15,6,(ROW(OrderRange_Ref)-ROW($L$19))/(OFFSET(OrderRange_Ref,,3)>0),ROWS($L$20:$L64)-OFFSET(Cumulative,,2)),IF(OFFSET(Cumulative,,4)>(ROW()-ROW($O$20)),_xlfn.AGGREGATE(15,6,(ROW(OrderRange_Ref)-ROW($L$19))/(OFFSET(OrderRange_Ref,,4)>0),ROWS($L$20:$L64)-OFFSET(Cumulative,,3)),IF(OFFSET(Cumulative,,5)>(ROW()-ROW($O$20)),_xlfn.AGGREGATE(15,6,(ROW(OrderRange_Ref)-ROW($L$19))/(OFFSET(OrderRange_Ref,,5)>0),ROWS($L$20:$L64)-OFFSET(Cumulative,,4)),\"\"))))))","v":""},"","","","",""]
[null,null,null,null,null,null,null,null,null,null,null,null,null,{"$f":"IF(Cumulative>(ROW()-ROW($O$20)),_xlfn.AGGREGATE(15,6,(ROW(OrderRange_Ref)-ROW($L$19))/(OFFSET(OrderRange_Ref,,0)>0),ROWS($L$20:$L65)),IF(OFFSET(Cumulative,,1)>(ROW()-ROW($O$20)),_xlfn.AGGREGATE(15,6,(ROW(OrderRange_Ref)-ROW($L$19))/(OFFSET(OrderRange_Ref,,1)>0),ROWS($L$20:$L65)-OFFSET(Cumulative,,0)),IF(OFFSET(Cumulative,,2)>(ROW()-ROW($O$20)),_xlfn.AGGREGATE(15,6,(ROW(OrderRange_Ref)-ROW($L$19))/(OFFSET(OrderRange_Ref,,2)>0),ROWS($L$20:$L65)-OFFSET(Cumulative,,1)),IF(OFFSET(Cumulative,,3)>(ROW()-ROW($O$20)),_xlfn.AGGREGATE(15,6,(ROW(OrderRange_Ref)-ROW($L$19))/(OFFSET(OrderRange_Ref,,3)>0),ROWS($L$20:$L65)-OFFSET(Cumulative,,2)),IF(OFFSET(Cumulative,,4)>(ROW()-ROW($O$20)),_xlfn.AGGREGATE(15,6,(ROW(OrderRange_Ref)-ROW($L$19))/(OFFSET(OrderRange_Ref,,4)>0),ROWS($L$20:$L65)-OFFSET(Cumulative,,3)),IF(OFFSET(Cumulative,,5)>(ROW()-ROW($O$20)),_xlfn.AGGREGATE(15,6,(ROW(OrderRange_Ref)-ROW($L$19))/(OFFSET(OrderRange_Ref,,5)>0),ROWS($L$20:$L65)-OFFSET(Cumulative,,4)),\"\"))))))","v":""},"","","","",""]
[null,null,null,null,null,null,null,"-----------------------------------------------------",null,null,null,null,null,{"$f":"IF(Cumulative>(ROW()-ROW($O$20)),_xlfn.AGGREGATE(15,6,(ROW(OrderRange_Ref)-ROW($L$19))/(OFFSET(OrderRange_Ref,,0)>0),ROWS($L$20:$L66)),IF(OFFSET(Cumulative,,1)>(ROW()-ROW($O$20)),_xlfn.AGGREGATE(15,6,(ROW(OrderRange_Ref)-ROW($L$19))/(OFFSET(OrderRange_Ref,,1)>0),ROWS($L$20:$L66)-OFFSET(Cumulative,,0)),IF(OFFSET(Cumulative,,2)>(ROW()-ROW($O$20)),_xlfn.AGGREGATE(15,6,(ROW(OrderRange_Ref)-ROW($L$19))/(OFFSET(OrderRange_Ref,,2)>0),ROWS($L$20:$L66)-OFFSET(Cumulative,,1)),IF(OFFSET(Cumulative,,3)>(ROW()-ROW($O$20)),_xlfn.AGGREGATE(15,6,(ROW(OrderRange_Ref)-ROW($L$19))/(OFFSET(OrderRange_Ref,,3)>0),ROWS($L$20:$L66)-OFFSET(Cumulative,,2)),IF(OFFSET(Cumulative,,4)>(ROW()-ROW($O$20)),_xlfn.AGGREGATE(15,6,(ROW(OrderRange_Ref)-ROW($L$19))/(OFFSET(OrderRange_Ref,,4)>0),ROWS($L$20:$L66)-OFFSET(Cumulative,,3)),IF(OFFSET(Cumulative,,5)>(ROW()-ROW($O$20)),_xlfn.AGGREGATE(15,6,(ROW(OrderRange_Ref)-ROW($L$19))/(OFFSET(OrderRange_Ref,,5)>0),ROWS($L$20:$L66)-OFFSET(Cumulative,,4)),\"\"))))))","v":""},"","","","",""]
[null,null,null,null,null,null,null,{"$f":"\"( \"&INDEX(dBranches[Manager],MATCH(BranchCode,dBranches[Code],0))&\" )\"","v":"( นุกูล ปัญญานาค )"},null,null,null,null,null,{"$f":"IF(Cumulative>(ROW()-ROW($O$20)),_xlfn.AGGREGATE(15,6,(ROW(OrderRange_Ref)-ROW($L$19))/(OFFSET(OrderRange_Ref,,0)>0),ROWS($L$20:$L67)),IF(OFFSET(Cumulative,,1)>(ROW()-ROW($O$20)),_xlfn.AGGREGATE(15,6,(ROW(OrderRange_Ref)-ROW($L$19))/(OFFSET(OrderRange_Ref,,1)>0),ROWS($L$20:$L67)-OFFSET(Cumulative,,0)),IF(OFFSET(Cumulative,,2)>(ROW()-ROW($O$20)),_xlfn.AGGREGATE(15,6,(ROW(OrderRange_Ref)-ROW($L$19))/(OFFSET(OrderRange_Ref,,2)>0),ROWS($L$20:$L67)-OFFSET(Cumulative,,1)),IF(OFFSET(Cumulative,,3)>(ROW()-ROW($O$20)),_xlfn.AGGREGATE(15,6,(ROW(OrderRange_Ref)-ROW($L$19))/(OFFSET(OrderRange_Ref,,3)>0),ROWS($L$20:$L67)-OFFSET(Cumulative,,2)),IF(OFFSET(Cumulative,,4)>(ROW()-ROW($O$20)),_xlfn.AGGREGATE(15,6,(ROW(OrderRange_Ref)-ROW($L$19))/(OFFSET(OrderRange_Ref,,4)>0),ROWS($L$20:$L67)-OFFSET(Cumulative,,3)),IF(OFFSET(Cumulative,,5)>(ROW()-ROW($O$20)),_xlfn.AGGREGATE(15,6,(ROW(OrderRange_Ref)-ROW($L$19))/(OFFSET(OrderRange_Ref,,5)>0),ROWS($L$20:$L67)-OFFSET(Cumulative,,4)),\"\"))))))","v":""},"","","","",""]
[null,null,null,null,null,null,null,{"$f":"\"ผู้จัดการสาขา\"&B_Name","v":"ผู้จัดการสาขาโรงงานร่มเกล้า"},null,null,null,null,null,{"$f":"IF(Cumulative>(ROW()-ROW($O$20)),_xlfn.AGGREGATE(15,6,(ROW(OrderRange_Ref)-ROW($L$19))/(OFFSET(OrderRange_Ref,,0)>0),ROWS($L$20:$L68)),IF(OFFSET(Cumulative,,1)>(ROW()-ROW($O$20)),_xlfn.AGGREGATE(15,6,(ROW(OrderRange_Ref)-ROW($L$19))/(OFFSET(OrderRange_Ref,,1)>0),ROWS($L$20:$L68)-OFFSET(Cumulative,,0)),IF(OFFSET(Cumulative,,2)>(ROW()-ROW($O$20)),_xlfn.AGGREGATE(15,6,(ROW(OrderRange_Ref)-ROW($L$19))/(OFFSET(OrderRange_Ref,,2)>0),ROWS($L$20:$L68)-OFFSET(Cumulative,,1)),IF(OFFSET(Cumulative,,3)>(ROW()-ROW($O$20)),_xlfn.AGGREGATE(15,6,(ROW(OrderRange_Ref)-ROW($L$19))/(OFFSET(OrderRange_Ref,,3)>0),ROWS($L$20:$L68)-OFFSET(Cumulative,,2)),IF(OFFSET(Cumulative,,4)>(ROW()-ROW($O$20)),_xlfn.AGGREGATE(15,6,(ROW(OrderRange_Ref)-ROW($L$19))/(OFFSET(OrderRange_Ref,,4)>0),ROWS($L$20:$L68)-OFFSET(Cumulative,,3)),IF(OFFSET(Cumulative,,5)>(ROW()-ROW($O$20)),_xlfn.AGGREGATE(15,6,(ROW(OrderRange_Ref)-ROW($L$19))/(OFFSET(OrderRange_Ref,,5)>0),ROWS($L$20:$L68)-OFFSET(Cumulative,,4)),\"\"))))))","v":""},"","","","",""]
[null,null,null,null,null,null,null,null,null,null,null,null,null,{"$f":"IF(Cumulative>(ROW()-ROW($O$20)),_xlfn.AGGREGATE(15,6,(ROW(OrderRange_Ref)-ROW($L$19))/(OFFSET(OrderRange_Ref,,0)>0),ROWS($L$20:$L69)),IF(OFFSET(Cumulative,,1)>(ROW()-ROW($O$20)),_xlfn.AGGREGATE(15,6,(ROW(OrderRange_Ref)-ROW($L$19))/(OFFSET(OrderRange_Ref,,1)>0),ROWS($L$20:$L69)-OFFSET(Cumulative,,0)),IF(OFFSET(Cumulative,,2)>(ROW()-ROW($O$20)),_xlfn.AGGREGATE(15,6,(ROW(OrderRange_Ref)-ROW($L$19))/(OFFSET(OrderRange_Ref,,2)>0),ROWS($L$20:$L69)-OFFSET(Cumulative,,1)),IF(OFFSET(Cumulative,,3)>(ROW()-ROW($O$20)),_xlfn.AGGREGATE(15,6,(ROW(OrderRange_Ref)-ROW($L$19))/(OFFSET(OrderRange_Ref,,3)>0),ROWS($L$20:$L69)-OFFSET(Cumulative,,2)),IF(OFFSET(Cumulative,,4)>(ROW()-ROW($O$20)),_xlfn.AGGREGATE(15,6,(ROW(OrderRange_Ref)-ROW($L$19))/(OFFSET(OrderRange_Ref,,4)>0),ROWS($L$20:$L69)-OFFSET(Cumulative,,3)),IF(OFFSET(Cumulative,,5)>(ROW()-ROW($O$20)),_xlfn.AGGREGATE(15,6,(ROW(OrderRange_Ref)-ROW($L$19))/(OFFSET(OrderRange_Ref,,5)>0),ROWS($L$20:$L69)-OFFSET(Cumulative,,4)),\"\"))))))","v":""},"","","","",""]
[null,null,null,null,null,null,null,null,null,null,null,null,null,{"$f":"IF(Cumulative>(ROW()-ROW($O$20)),_xlfn.AGGREGATE(15,6,(ROW(OrderRange_Ref)-ROW($L$19))/(OFFSET(OrderRange_Ref,,0)>0),ROWS($L$20:$L70)),IF(OFFSET(Cumulative,,1)>(ROW()-ROW($O$20)),_xlfn.AGGREGATE(15,6,(ROW(OrderRange_Ref)-ROW($L$19))/(OFFSET(OrderRange_Ref,,1)>0),ROWS($L$20:$L70)-OFFSET(Cumulative,,0)),IF(OFFSET(Cumulative,,2)>(ROW()-ROW($O$20)),_xlfn.AGGREGATE(15,6,(ROW(OrderRange_Ref)-ROW($L$19))/(OFFSET(OrderRange_Ref,,2)>0),ROWS($L$20:$L70)-OFFSET(Cumulative,,1)),IF(OFFSET(Cumulative,,3)>(ROW()-ROW($O$20)),_xlfn.AGGREGATE(15,6,(ROW(OrderRange_Ref)-ROW($L$19))/(OFFSET(OrderRange_Ref,,3)>0),ROWS($L$20:$L70)-OFFSET(Cumulative,,2)),IF(OFFSET(Cumulative,,4)>(ROW()-ROW($O$20)),_xlfn.AGGREGATE(15,6,(ROW(OrderRange_Ref)-ROW($L$19))/(OFFSET(OrderRange_Ref,,4)>0),ROWS($L$20:$L70)-OFFSET(Cumulative,,3)),IF(OFFSET(Cumulative,,5)>(ROW()-ROW($O$20)),_xlfn.AGGREGATE(15,6,(ROW(OrderRange_Ref)-ROW($L$19))/(OFFSET(OrderRange_Ref,,5)>0),ROWS($L$20:$L70)-OFFSET(Cumulative,,4)),\"\"))))))","v":""},"","","","",""]
[null,null,null,null,null,null,null,"-----------------------------------------------------",null,null,null,null,null,{"$f":"IF(Cumulative>(ROW()-ROW($O$20)),_xlfn.AGGREGATE(15,6,(ROW(OrderRange_Ref)-ROW($L$19))/(OFFSET(OrderRange_Ref,,0)>0),ROWS($L$20:$L71)),IF(OFFSET(Cumulative,,1)>(ROW()-ROW($O$20)),_xlfn.AGGREGATE(15,6,(ROW(OrderRange_Ref)-ROW($L$19))/(OFFSET(OrderRange_Ref,,1)>0),ROWS($L$20:$L71)-OFFSET(Cumulative,,0)),IF(OFFSET(Cumulative,,2)>(ROW()-ROW($O$20)),_xlfn.AGGREGATE(15,6,(ROW(OrderRange_Ref)-ROW($L$19))/(OFFSET(OrderRange_Ref,,2)>0),ROWS($L$20:$L71)-OFFSET(Cumulative,,1)),IF(OFFSET(Cumulative,,3)>(ROW()-ROW($O$20)),_xlfn.AGGREGATE(15,6,(ROW(OrderRange_Ref)-ROW($L$19))/(OFFSET(OrderRange_Ref,,3)>0),ROWS($L$20:$L71)-OFFSET(Cumulative,,2)),IF(OFFSET(Cumulative,,4)>(ROW()-ROW($O$20)),_xlfn.AGGREGATE(15,6,(ROW(OrderRange_Ref)-ROW($L$19))/(OFFSET(OrderRange_Ref,,4)>0),ROWS($L$20:$L71)-OFFSET(Cumulative,,3)),IF(OFFSET(Cumulative,,5)>(ROW()-ROW($O$20)),_xlfn.AGGREGATE(15,6,(ROW(OrderRange_Ref)-ROW($L$19))/(OFFSET(OrderRange_Ref,,5)>0),ROWS($L$20:$L71)-OFFSET(Cumulative,,4)),\"\"))))))","v":""},"","","","",""]
[null,null,"-",null,null,null,null,{"$f":"\"( \"&INDEX(dBranches[Regional Manager],MATCH(BranchCode,dBranches[Code],0))&\" )\"","v":"(  )"},null,null,null,null,null,{"$f":"IF(Cumulative>(ROW()-ROW($O$20)),_xlfn.AGGREGATE(15,6,(ROW(OrderRange_Ref)-ROW($L$19))/(OFFSET(OrderRange_Ref,,0)>0),ROWS($L$20:$L72)),IF(OFFSET(Cumulative,,1)>(ROW()-ROW($O$20)),_xlfn.AGGREGATE(15,6,(ROW(OrderRange_Ref)-ROW($L$19))/(OFFSET(OrderRange_Ref,,1)>0),ROWS($L$20:$L72)-OFFSET(Cumulative,,0)),IF(OFFSET(Cumulative,,2)>(ROW()-ROW($O$20)),_xlfn.AGGREGATE(15,6,(ROW(OrderRange_Ref)-ROW($L$19))/(OFFSET(OrderRange_Ref,,2)>0),ROWS($L$20:$L72)-OFFSET(Cumulative,,1)),IF(OFFSET(Cumulative,,3)>(ROW()-ROW($O$20)),_xlfn.AGGREGATE(15,6,(ROW(OrderRange_Ref)-ROW($L$19))/(OFFSET(OrderRange_Ref,,3)>0),ROWS($L$20:$L72)-OFFSET(Cumulative,,2)),IF(OFFSET(Cumulative,,4)>(ROW()-ROW($O$20)),_xlfn.AGGREGATE(15,6,(ROW(OrderRange_Ref)-ROW($L$19))/(OFFSET(OrderRange_Ref,,4)>0),ROWS($L$20:$L72)-OFFSET(Cumulative,,3)),IF(OFFSET(Cumulative,,5)>(ROW()-ROW($O$20)),_xlfn.AGGREGATE(15,6,(ROW(OrderRange_Ref)-ROW($L$19))/(OFFSET(OrderRange_Ref,,5)>0),ROWS($L$20:$L72)-OFFSET(Cumulative,,4)),\"\"))))))","v":""},"","","","",""]
[null,null,null,null,null,null,null,"ผู้จัดการภาค",null,null,null,null,null,{"$f":"IF(Cumulative>(ROW()-ROW($O$20)),_xlfn.AGGREGATE(15,6,(ROW(OrderRange_Ref)-ROW($L$19))/(OFFSET(OrderRange_Ref,,0)>0),ROWS($L$20:$L73)),IF(OFFSET(Cumulative,,1)>(ROW()-ROW($O$20)),_xlfn.AGGREGATE(15,6,(ROW(OrderRange_Ref)-ROW($L$19))/(OFFSET(OrderRange_Ref,,1)>0),ROWS($L$20:$L73)-OFFSET(Cumulative,,0)),IF(OFFSET(Cumulative,,2)>(ROW()-ROW($O$20)),_xlfn.AGGREGATE(15,6,(ROW(OrderRange_Ref)-ROW($L$19))/(OFFSET(OrderRange_Ref,,2)>0),ROWS($L$20:$L73)-OFFSET(Cumulative,,1)),IF(OFFSET(Cumulative,,3)>(ROW()-ROW($O$20)),_xlfn.AGGREGATE(15,6,(ROW(OrderRange_Ref)-ROW($L$19))/(OFFSET(OrderRange_Ref,,3)>0),ROWS($L$20:$L73)-OFFSET(Cumulative,,2)),IF(OFFSET(Cumulative,,4)>(ROW()-ROW($O$20)),_xlfn.AGGREGATE(15,6,(ROW(OrderRange_Ref)-ROW($L$19))/(OFFSET(OrderRange_Ref,,4)>0),ROWS($L$20:$L73)-OFFSET(Cumulative,,3)),IF(OFFSET(Cumulative,,5)>(ROW()-ROW($O$20)),_xlfn.AGGREGATE(15,6,(ROW(OrderRange_Ref)-ROW($L$19))/(OFFSET(OrderRange_Ref,,5)>0),ROWS($L$20:$L73)-OFFSET(Cumulative,,4)),\"\"))))))","v":""},"","","","",""]
[null,null,{"$f":"\"สาขา\"&B_Name","v":"สาขาโรงงานร่มเกล้า"},null,null,null,null,null,null,null,null,null,null,{"$f":"IF(Cumulative>(ROW()-ROW($O$20)),_xlfn.AGGREGATE(15,6,(ROW(OrderRange_Ref)-ROW($L$19))/(OFFSET(OrderRange_Ref,,0)>0),ROWS($L$20:$L74)),IF(OFFSET(Cumulative,,1)>(ROW()-ROW($O$20)),_xlfn.AGGREGATE(15,6,(ROW(OrderRange_Ref)-ROW($L$19))/(OFFSET(OrderRange_Ref,,1)>0),ROWS($L$20:$L74)-OFFSET(Cumulative,,0)),IF(OFFSET(Cumulative,,2)>(ROW()-ROW($O$20)),_xlfn.AGGREGATE(15,6,(ROW(OrderRange_Ref)-ROW($L$19))/(OFFSET(OrderRange_Ref,,2)>0),ROWS($L$20:$L74)-OFFSET(Cumulative,,1)),IF(OFFSET(Cumulative,,3)>(ROW()-ROW($O$20)),_xlfn.AGGREGATE(15,6,(ROW(OrderRange_Ref)-ROW($L$19))/(OFFSET(OrderRange_Ref,,3)>0),ROWS($L$20:$L74)-OFFSET(Cumulative,,2)),IF(OFFSET(Cumulative,,4)>(ROW()-ROW($O$20)),_xlfn.AGGREGATE(15,6,(ROW(OrderRange_Ref)-ROW($L$19))/(OFFSET(OrderRange_Ref,,4)>0),ROWS($L$20:$L74)-OFFSET(Cumulative,,3)),IF(OFFSET(Cumulative,,5)>(ROW()-ROW($O$20)),_xlfn.AGGREGATE(15,6,(ROW(OrderRange_Ref)-ROW($L$19))/(OFFSET(OrderRange_Ref,,5)>0),ROWS($L$20:$L74)-OFFSET(Cumulative,,4)),\"\"))))))","v":""},"","","","",""]
[null,null,{"$f":"\"โทร. \"&B_Tel","v":"โทร. 084-132-1000"},null,null,null,null,null,null,null,null,null,null,{"$f":"IF(Cumulative>(ROW()-ROW($O$20)),_xlfn.AGGREGATE(15,6,(ROW(OrderRange_Ref)-ROW($L$19))/(OFFSET(OrderRange_Ref,,0)>0),ROWS($L$20:$L75)),IF(OFFSET(Cumulative,,1)>(ROW()-ROW($O$20)),_xlfn.AGGREGATE(15,6,(ROW(OrderRange_Ref)-ROW($L$19))/(OFFSET(OrderRange_Ref,,1)>0),ROWS($L$20:$L75)-OFFSET(Cumulative,,0)),IF(OFFSET(Cumulative,,2)>(ROW()-ROW($O$20)),_xlfn.AGGREGATE(15,6,(ROW(OrderRange_Ref)-ROW($L$19))/(OFFSET(OrderRange_Ref,,2)>0),ROWS($L$20:$L75)-OFFSET(Cumulative,,1)),IF(OFFSET(Cumulative,,3)>(ROW()-ROW($O$20)),_xlfn.AGGREGATE(15,6,(ROW(OrderRange_Ref)-ROW($L$19))/(OFFSET(OrderRange_Ref,,3)>0),ROWS($L$20:$L75)-OFFSET(Cumulative,,2)),IF(OFFSET(Cumulative,,4)>(ROW()-ROW($O$20)),_xlfn.AGGREGATE(15,6,(ROW(OrderRange_Ref)-ROW($L$19))/(OFFSET(OrderRange_Ref,,4)>0),ROWS($L$20:$L75)-OFFSET(Cumulative,,3)),IF(OFFSET(Cumulative,,5)>(ROW()-ROW($O$20)),_xlfn.AGGREGATE(15,6,(ROW(OrderRange_Ref)-ROW($L$19))/(OFFSET(OrderRange_Ref,,5)>0),ROWS($L$20:$L75)-OFFSET(Cumulative,,4)),\"\"))))))","v":""},"","","","",""]
[null,null,null,null,null,null,null,null,null,null,null,null,null,{"$f":"IF(Cumulative>(ROW()-ROW($O$20)),_xlfn.AGGREGATE(15,6,(ROW(OrderRange_Ref)-ROW($L$19))/(OFFSET(OrderRange_Ref,,0)>0),ROWS($L$20:$L76)),IF(OFFSET(Cumulative,,1)>(ROW()-ROW($O$20)),_xlfn.AGGREGATE(15,6,(ROW(OrderRange_Ref)-ROW($L$19))/(OFFSET(OrderRange_Ref,,1)>0),ROWS($L$20:$L76)-OFFSET(Cumulative,,0)),IF(OFFSET(Cumulative,,2)>(ROW()-ROW($O$20)),_xlfn.AGGREGATE(15,6,(ROW(OrderRange_Ref)-ROW($L$19))/(OFFSET(OrderRange_Ref,,2)>0),ROWS($L$20:$L76)-OFFSET(Cumulative,,1)),IF(OFFSET(Cumulative,,3)>(ROW()-ROW($O$20)),_xlfn.AGGREGATE(15,6,(ROW(OrderRange_Ref)-ROW($L$19))/(OFFSET(OrderRange_Ref,,3)>0),ROWS($L$20:$L76)-OFFSET(Cumulative,,2)),IF(OFFSET(Cumulative,,4)>(ROW()-ROW($O$20)),_xlfn.AGGREGATE(15,6,(ROW(OrderRange_Ref)-ROW($L$19))/(OFFSET(OrderRange_Ref,,4)>0),ROWS($L$20:$L76)-OFFSET(Cumulative,,3)),IF(OFFSET(Cumulative,,5)>(ROW()-ROW($O$20)),_xlfn.AGGREGATE(15,6,(ROW(OrderRange_Ref)-ROW($L$19))/(OFFSET(OrderRange_Ref,,5)>0),ROWS($L$20:$L76)-OFFSET(Cumulative,,4)),\"\"))))))","v":""},"","","","",""]
[null,null,null,null,null,null,null,null,null,null,null,null,null,{"$f":"IF(Cumulative>(ROW()-ROW($O$20)),_xlfn.AGGREGATE(15,6,(ROW(OrderRange_Ref)-ROW($L$19))/(OFFSET(OrderRange_Ref,,0)>0),ROWS($L$20:$L77)),IF(OFFSET(Cumulative,,1)>(ROW()-ROW($O$20)),_xlfn.AGGREGATE(15,6,(ROW(OrderRange_Ref)-ROW($L$19))/(OFFSET(OrderRange_Ref,,1)>0),ROWS($L$20:$L77)-OFFSET(Cumulative,,0)),IF(OFFSET(Cumulative,,2)>(ROW()-ROW($O$20)),_xlfn.AGGREGATE(15,6,(ROW(OrderRange_Ref)-ROW($L$19))/(OFFSET(OrderRange_Ref,,2)>0),ROWS($L$20:$L77)-OFFSET(Cumulative,,1)),IF(OFFSET(Cumulative,,3)>(ROW()-ROW($O$20)),_xlfn.AGGREGATE(15,6,(ROW(OrderRange_Ref)-ROW($L$19))/(OFFSET(OrderRange_Ref,,3)>0),ROWS($L$20:$L77)-OFFSET(Cumulative,,2)),IF(OFFSET(Cumulative,,4)>(ROW()-ROW($O$20)),_xlfn.AGGREGATE(15,6,(ROW(OrderRange_Ref)-ROW($L$19))/(OFFSET(OrderRange_Ref,,4)>0),ROWS($L$20:$L77)-OFFSET(Cumulative,,3)),IF(OFFSET(Cumulative,,5)>(ROW()-ROW($O$20)),_xlfn.AGGREGATE(15,6,(ROW(OrderRange_Ref)-ROW($L$19))/(OFFSET(OrderRange_Ref,,5)>0),ROWS($L$20:$L77)-OFFSET(Cumulative,,4)),\"\"))))))","v":""},"","","","",""]
[null,null,null,null,null,null,null,null,null,null,null,null,null,{"$f":"IF(Cumulative>(ROW()-ROW($O$20)),_xlfn.AGGREGATE(15,6,(ROW(OrderRange_Ref)-ROW($L$19))/(OFFSET(OrderRange_Ref,,0)>0),ROWS($L$20:$L78)),IF(OFFSET(Cumulative,,1)>(ROW()-ROW($O$20)),_xlfn.AGGREGATE(15,6,(ROW(OrderRange_Ref)-ROW($L$19))/(OFFSET(OrderRange_Ref,,1)>0),ROWS($L$20:$L78)-OFFSET(Cumulative,,0)),IF(OFFSET(Cumulative,,2)>(ROW()-ROW($O$20)),_xlfn.AGGREGATE(15,6,(ROW(OrderRange_Ref)-ROW($L$19))/(OFFSET(OrderRange_Ref,,2)>0),ROWS($L$20:$L78)-OFFSET(Cumulative,,1)),IF(OFFSET(Cumulative,,3)>(ROW()-ROW($O$20)),_xlfn.AGGREGATE(15,6,(ROW(OrderRange_Ref)-ROW($L$19))/(OFFSET(OrderRange_Ref,,3)>0),ROWS($L$20:$L78)-OFFSET(Cumulative,,2)),IF(OFFSET(Cumulative,,4)>(ROW()-ROW($O$20)),_xlfn.AGGREGATE(15,6,(ROW(OrderRange_Ref)-ROW($L$19))/(OFFSET(OrderRange_Ref,,4)>0),ROWS($L$20:$L78)-OFFSET(Cumulative,,3)),IF(OFFSET(Cumulative,,5)>(ROW()-ROW($O$20)),_xlfn.AGGREGATE(15,6,(ROW(OrderRange_Ref)-ROW($L$19))/(OFFSET(OrderRange_Ref,,5)>0),ROWS($L$20:$L78)-OFFSET(Cumulative,,4)),\"\"))))))","v":""},"","","","",""]
[null,null,null,null,null,null,null,null,null,null,null,null,null,{"$f":"IF(Cumulative>(ROW()-ROW($O$20)),_xlfn.AGGREGATE(15,6,(ROW(OrderRange_Ref)-ROW($L$19))/(OFFSET(OrderRange_Ref,,0)>0),ROWS($L$20:$L79)),IF(OFFSET(Cumulative,,1)>(ROW()-ROW($O$20)),_xlfn.AGGREGATE(15,6,(ROW(OrderRange_Ref)-ROW($L$19))/(OFFSET(OrderRange_Ref,,1)>0),ROWS($L$20:$L79)-OFFSET(Cumulative,,0)),IF(OFFSET(Cumulative,,2)>(ROW()-ROW($O$20)),_xlfn.AGGREGATE(15,6,(ROW(OrderRange_Ref)-ROW($L$19))/(OFFSET(OrderRange_Ref,,2)>0),ROWS($L$20:$L79)-OFFSET(Cumulative,,1)),IF(OFFSET(Cumulative,,3)>(ROW()-ROW($O$20)),_xlfn.AGGREGATE(15,6,(ROW(OrderRange_Ref)-ROW($L$19))/(OFFSET(OrderRange_Ref,,3)>0),ROWS($L$20:$L79)-OFFSET(Cumulative,,2)),IF(OFFSET(Cumulative,,4)>(ROW()-ROW($O$20)),_xlfn.AGGREGATE(15,6,(ROW(OrderRange_Ref)-ROW($L$19))/(OFFSET(OrderRange_Ref,,4)>0),ROWS($L$20:$L79)-OFFSET(Cumulative,,3)),IF(OFFSET(Cumulative,,5)>(ROW()-ROW($O$20)),_xlfn.AGGREGATE(15,6,(ROW(OrderRange_Ref)-ROW($L$19))/(OFFSET(OrderRange_Ref,,5)>0),ROWS($L$20:$L79)-OFFSET(Cumulative,,4)),\"\"))))))","v":""},"","","","",""]
[null,null,null,null,null,null,null,null,null,null,null,null,null,{"$f":"IF(Cumulative>(ROW()-ROW($O$20)),_xlfn.AGGREGATE(15,6,(ROW(OrderRange_Ref)-ROW($L$19))/(OFFSET(OrderRange_Ref,,0)>0),ROWS($L$20:$L80)),IF(OFFSET(Cumulative,,1)>(ROW()-ROW($O$20)),_xlfn.AGGREGATE(15,6,(ROW(OrderRange_Ref)-ROW($L$19))/(OFFSET(OrderRange_Ref,,1)>0),ROWS($L$20:$L80)-OFFSET(Cumulative,,0)),IF(OFFSET(Cumulative,,2)>(ROW()-ROW($O$20)),_xlfn.AGGREGATE(15,6,(ROW(OrderRange_Ref)-ROW($L$19))/(OFFSET(OrderRange_Ref,,2)>0),ROWS($L$20:$L80)-OFFSET(Cumulative,,1)),IF(OFFSET(Cumulative,,3)>(ROW()-ROW($O$20)),_xlfn.AGGREGATE(15,6,(ROW(OrderRange_Ref)-ROW($L$19))/(OFFSET(OrderRange_Ref,,3)>0),ROWS($L$20:$L80)-OFFSET(Cumulative,,2)),IF(OFFSET(Cumulative,,4)>(ROW()-ROW($O$20)),_xlfn.AGGREGATE(15,6,(ROW(OrderRange_Ref)-ROW($L$19))/(OFFSET(OrderRange_Ref,,4)>0),ROWS($L$20:$L80)-OFFSET(Cumulative,,3)),IF(OFFSET(Cumulative,,5)>(ROW()-ROW($O$20)),_xlfn.AGGREGATE(15,6,(ROW(OrderRange_Ref)-ROW($L$19))/(OFFSET(OrderRange_Ref,,5)>0),ROWS($L$20:$L80)-OFFSET(Cumulative,,4)),\"\"))))))","v":""},"","","","",""]
[null,null,null,null,null,null,null,null,null,null,null,null,null,{"$f":"IF(Cumulative>(ROW()-ROW($O$20)),_xlfn.AGGREGATE(15,6,(ROW(OrderRange_Ref)-ROW($L$19))/(OFFSET(OrderRange_Ref,,0)>0),ROWS($L$20:$L81)),IF(OFFSET(Cumulative,,1)>(ROW()-ROW($O$20)),_xlfn.AGGREGATE(15,6,(ROW(OrderRange_Ref)-ROW($L$19))/(OFFSET(OrderRange_Ref,,1)>0),ROWS($L$20:$L81)-OFFSET(Cumulative,,0)),IF(OFFSET(Cumulative,,2)>(ROW()-ROW($O$20)),_xlfn.AGGREGATE(15,6,(ROW(OrderRange_Ref)-ROW($L$19))/(OFFSET(OrderRange_Ref,,2)>0),ROWS($L$20:$L81)-OFFSET(Cumulative,,1)),IF(OFFSET(Cumulative,,3)>(ROW()-ROW($O$20)),_xlfn.AGGREGATE(15,6,(ROW(OrderRange_Ref)-ROW($L$19))/(OFFSET(OrderRange_Ref,,3)>0),ROWS($L$20:$L81)-OFFSET(Cumulative,,2)),IF(OFFSET(Cumulative,,4)>(ROW()-ROW($O$20)),_xlfn.AGGREGATE(15,6,(ROW(OrderRange_Ref)-ROW($L$19))/(OFFSET(OrderRange_Ref,,4)>0),ROWS($L$20:$L81)-OFFSET(Cumulative,,3)),IF(OFFSET(Cumulative,,5)>(ROW()-ROW($O$20)),_xlfn.AGGREGATE(15,6,(ROW(OrderRange_Ref)-ROW($L$19))/(OFFSET(OrderRange_Ref,,5)>0),ROWS($L$20:$L81)-OFFSET(Cumulative,,4)),\"\"))))))","v":""},"","","","",""]
[null,null,null,null,null,null,null,null,null,null,null,null,null,{"$f":"IF(Cumulative>(ROW()-ROW($O$20)),_xlfn.AGGREGATE(15,6,(ROW(OrderRange_Ref)-ROW($L$19))/(OFFSET(OrderRange_Ref,,0)>0),ROWS($L$20:$L82)),IF(OFFSET(Cumulative,,1)>(ROW()-ROW($O$20)),_xlfn.AGGREGATE(15,6,(ROW(OrderRange_Ref)-ROW($L$19))/(OFFSET(OrderRange_Ref,,1)>0),ROWS($L$20:$L82)-OFFSET(Cumulative,,0)),IF(OFFSET(Cumulative,,2)>(ROW()-ROW($O$20)),_xlfn.AGGREGATE(15,6,(ROW(OrderRange_Ref)-ROW($L$19))/(OFFSET(OrderRange_Ref,,2)>0),ROWS($L$20:$L82)-OFFSET(Cumulative,,1)),IF(OFFSET(Cumulative,,3)>(ROW()-ROW($O$20)),_xlfn.AGGREGATE(15,6,(ROW(OrderRange_Ref)-ROW($L$19))/(OFFSET(OrderRange_Ref,,3)>0),ROWS($L$20:$L82)-OFFSET(Cumulative,,2)),IF(OFFSET(Cumulative,,4)>(ROW()-ROW($O$20)),_xlfn.AGGREGATE(15,6,(ROW(OrderRange_Ref)-ROW($L$19))/(OFFSET(OrderRange_Ref,,4)>0),ROWS($L$20:$L82)-OFFSET(Cumulative,,3)),IF(OFFSET(Cumulative,,5)>(ROW()-ROW($O$20)),_xlfn.AGGREGATE(15,6,(ROW(OrderRange_Ref)-ROW($L$19))/(OFFSET(OrderRange_Ref,,5)>0),ROWS($L$20:$L82)-OFFSET(Cumulative,,4)),\"\"))))))","v":""},"","","","",""]
[null,null,null,null,null,null,null,null,null,null,null,null,null,{"$f":"IF(Cumulative>(ROW()-ROW($O$20)),_xlfn.AGGREGATE(15,6,(ROW(OrderRange_Ref)-ROW($L$19))/(OFFSET(OrderRange_Ref,,0)>0),ROWS($L$20:$L83)),IF(OFFSET(Cumulative,,1)>(ROW()-ROW($O$20)),_xlfn.AGGREGATE(15,6,(ROW(OrderRange_Ref)-ROW($L$19))/(OFFSET(OrderRange_Ref,,1)>0),ROWS($L$20:$L83)-OFFSET(Cumulative,,0)),IF(OFFSET(Cumulative,,2)>(ROW()-ROW($O$20)),_xlfn.AGGREGATE(15,6,(ROW(OrderRange_Ref)-ROW($L$19))/(OFFSET(OrderRange_Ref,,2)>0),ROWS($L$20:$L83)-OFFSET(Cumulative,,1)),IF(OFFSET(Cumulative,,3)>(ROW()-ROW($O$20)),_xlfn.AGGREGATE(15,6,(ROW(OrderRange_Ref)-ROW($L$19))/(OFFSET(OrderRange_Ref,,3)>0),ROWS($L$20:$L83)-OFFSET(Cumulative,,2)),IF(OFFSET(Cumulative,,4)>(ROW()-ROW($O$20)),_xlfn.AGGREGATE(15,6,(ROW(OrderRange_Ref)-ROW($L$19))/(OFFSET(OrderRange_Ref,,4)>0),ROWS($L$20:$L83)-OFFSET(Cumulative,,3)),IF(OFFSET(Cumulative,,5)>(ROW()-ROW($O$20)),_xlfn.AGGREGATE(15,6,(ROW(OrderRange_Ref)-ROW($L$19))/(OFFSET(OrderRange_Ref,,5)>0),ROWS($L$20:$L83)-OFFSET(Cumulative,,4)),\"\"))))))","v":""},"","","","",""]
[null,null,null,null,null,null,null,null,null,null,null,null,null,{"$f":"IF(Cumulative>(ROW()-ROW($O$20)),_xlfn.AGGREGATE(15,6,(ROW(OrderRange_Ref)-ROW($L$19))/(OFFSET(OrderRange_Ref,,0)>0),ROWS($L$20:$L84)),IF(OFFSET(Cumulative,,1)>(ROW()-ROW($O$20)),_xlfn.AGGREGATE(15,6,(ROW(OrderRange_Ref)-ROW($L$19))/(OFFSET(OrderRange_Ref,,1)>0),ROWS($L$20:$L84)-OFFSET(Cumulative,,0)),IF(OFFSET(Cumulative,,2)>(ROW()-ROW($O$20)),_xlfn.AGGREGATE(15,6,(ROW(OrderRange_Ref)-ROW($L$19))/(OFFSET(OrderRange_Ref,,2)>0),ROWS($L$20:$L84)-OFFSET(Cumulative,,1)),IF(OFFSET(Cumulative,,3)>(ROW()-ROW($O$20)),_xlfn.AGGREGATE(15,6,(ROW(OrderRange_Ref)-ROW($L$19))/(OFFSET(OrderRange_Ref,,3)>0),ROWS($L$20:$L84)-OFFSET(Cumulative,,2)),IF(OFFSET(Cumulative,,4)>(ROW()-ROW($O$20)),_xlfn.AGGREGATE(15,6,(ROW(OrderRange_Ref)-ROW($L$19))/(OFFSET(OrderRange_Ref,,4)>0),ROWS($L$20:$L84)-OFFSET(Cumulative,,3)),IF(OFFSET(Cumulative,,5)>(ROW()-ROW($O$20)),_xlfn.AGGREGATE(15,6,(ROW(OrderRange_Ref)-ROW($L$19))/(OFFSET(OrderRange_Ref,,5)>0),ROWS($L$20:$L84)-OFFSET(Cumulative,,4)),\"\"))))))","v":""},{"$f":"IF(Cumulative>(ROW()-ROW($O$20)),OrderDate,IF(OFFSET(Cumulative,,1)>(ROW()-ROW($O$20)),OrderDate+1,IF(OFFSET(Cumulative,,2)>(ROW()-ROW($O$20)),OrderDate+2,IF(OFFSET(Cumulative,,3)>(ROW()-ROW($O$20)),OrderDate+3,IF(OFFSET(Cumulative,,4)>(ROW()-ROW($O$20)),OrderDate+4,IF(OFFSET(Cumulative,,5)>(ROW()-ROW($O$20)),OrderDate+5,\"\"))))))","v":""},"","","",{"$f":"IF($N84=\"\",\"\",ROUND(INDEX(Order_Data,$N84,MATCH($O84,$D$18:$I$18,0)),0))","v":""}]
[null,null,null,null,null,null,null,null,null,null,null,null,null,{"$f":"IF(Cumulative>(ROW()-ROW($O$20)),_xlfn.AGGREGATE(15,6,(ROW(OrderRange_Ref)-ROW($L$19))/(OFFSET(OrderRange_Ref,,0)>0),ROWS($L$20:$L85)),IF(OFFSET(Cumulative,,1)>(ROW()-ROW($O$20)),_xlfn.AGGREGATE(15,6,(ROW(OrderRange_Ref)-ROW($L$19))/(OFFSET(OrderRange_Ref,,1)>0),ROWS($L$20:$L85)-OFFSET(Cumulative,,0)),IF(OFFSET(Cumulative,,2)>(ROW()-ROW($O$20)),_xlfn.AGGREGATE(15,6,(ROW(OrderRange_Ref)-ROW($L$19))/(OFFSET(OrderRange_Ref,,2)>0),ROWS($L$20:$L85)-OFFSET(Cumulative,,1)),IF(OFFSET(Cumulative,,3)>(ROW()-ROW($O$20)),_xlfn.AGGREGATE(15,6,(ROW(OrderRange_Ref)-ROW($L$19))/(OFFSET(OrderRange_Ref,,3)>0),ROWS($L$20:$L85)-OFFSET(Cumulative,,2)),IF(OFFSET(Cumulative,,4)>(ROW()-ROW($O$20)),_xlfn.AGGREGATE(15,6,(ROW(OrderRange_Ref)-ROW($L$19))/(OFFSET(OrderRange_Ref,,4)>0),ROWS($L$20:$L85)-OFFSET(Cumulative,,3)),IF(OFFSET(Cumulative,,5)>(ROW()-ROW($O$20)),_xlfn.AGGREGATE(15,6,(ROW(OrderRange_Ref)-ROW($L$19))/(OFFSET(OrderRange_Ref,,5)>0),ROWS($L$20:$L85)-OFFSET(Cumulative,,4)),\"\"))))))","v":""},"",{"$f":"IF($O85<>\"\",BranchCode,\"\")","v":""},{"$f":"IF($O85<>\"\",\"จ่าย\",\"\")","v":""},{"$f":"IFERROR(INDEX($C$20:$C$54,$N85),\"\")","v":""},""]
[null,null,null,null,null,null,null,null,null,null,null,null,null,{"$f":"IF(Cumulative>(ROW()-ROW($O$20)),_xlfn.AGGREGATE(15,6,(ROW(OrderRange_Ref)-ROW($L$19))/(OFFSET(OrderRange_Ref,,0)>0),ROWS($L$20:$L86)),IF(OFFSET(Cumulative,,1)>(ROW()-ROW($O$20)),_xlfn.AGGREGATE(15,6,(ROW(OrderRange_Ref)-ROW($L$19))/(OFFSET(OrderRange_Ref,,1)>0),ROWS($L$20:$L86)-OFFSET(Cumulative,,0)),IF(OFFSET(Cumulative,,2)>(ROW()-ROW($O$20)),_xlfn.AGGREGATE(15,6,(ROW(OrderRange_Ref)-ROW($L$19))/(OFFSET(OrderRange_Ref,,2)>0),ROWS($L$20:$L86)-OFFSET(Cumulative,,1)),IF(OFFSET(Cumulative,,3)>(ROW()-ROW($O$20)),_xlfn.AGGREGATE(15,6,(ROW(OrderRange_Ref)-ROW($L$19))/(OFFSET(OrderRange_Ref,,3)>0),ROWS($L$20:$L86)-OFFSET(Cumulative,,2)),IF(OFFSET(Cumulative,,4)>(ROW()-ROW($O$20)),_xlfn.AGGREGATE(15,6,(ROW(OrderRange_Ref)-ROW($L$19))/(OFFSET(OrderRange_Ref,,4)>0),ROWS($L$20:$L86)-OFFSET(Cumulative,,3)),IF(OFFSET(Cumulative,,5)>(ROW()-ROW($O$20)),_xlfn.AGGREGATE(15,6,(ROW(OrderRange_Ref)-ROW($L$19))/(OFFSET(OrderRange_Ref,,5)>0),ROWS($L$20:$L86)-OFFSET(Cumulative,,4)),\"\"))))))","v":""},"","","","",""]
[null,null,null,null,null,null,null,null,null,null,null,null,null,{"$f":"IF(Cumulative>(ROW()-ROW($O$20)),_xlfn.AGGREGATE(15,6,(ROW(OrderRange_Ref)-ROW($L$19))/(OFFSET(OrderRange_Ref,,0)>0),ROWS($L$20:$L87)),IF(OFFSET(Cumulative,,1)>(ROW()-ROW($O$20)),_xlfn.AGGREGATE(15,6,(ROW(OrderRange_Ref)-ROW($L$19))/(OFFSET(OrderRange_Ref,,1)>0),ROWS($L$20:$L87)-OFFSET(Cumulative,,0)),IF(OFFSET(Cumulative,,2)>(ROW()-ROW($O$20)),_xlfn.AGGREGATE(15,6,(ROW(OrderRange_Ref)-ROW($L$19))/(OFFSET(OrderRange_Ref,,2)>0),ROWS($L$20:$L87)-OFFSET(Cumulative,,1)),IF(OFFSET(Cumulative,,3)>(ROW()-ROW($O$20)),_xlfn.AGGREGATE(15,6,(ROW(OrderRange_Ref)-ROW($L$19))/(OFFSET(OrderRange_Ref,,3)>0),ROWS($L$20:$L87)-OFFSET(Cumulative,,2)),IF(OFFSET(Cumulative,,4)>(ROW()-ROW($O$20)),_xlfn.AGGREGATE(15,6,(ROW(OrderRange_Ref)-ROW($L$19))/(OFFSET(OrderRange_Ref,,4)>0),ROWS($L$20:$L87)-OFFSET(Cumulative,,3)),IF(OFFSET(Cumulative,,5)>(ROW()-ROW($O$20)),_xlfn.AGGREGATE(15,6,(ROW(OrderRange_Ref)-ROW($L$19))/(OFFSET(OrderRange_Ref,,5)>0),ROWS($L$20:$L87)-OFFSET(Cumulative,,4)),\"\"))))))","v":""},"","","","",""]
[null,null,null,null,null,null,null,null,null,null,null,null,null,{"$f":"IF(Cumulative>(ROW()-ROW($O$20)),_xlfn.AGGREGATE(15,6,(ROW(OrderRange_Ref)-ROW($L$19))/(OFFSET(OrderRange_Ref,,0)>0),ROWS($L$20:$L88)),IF(OFFSET(Cumulative,,1)>(ROW()-ROW($O$20)),_xlfn.AGGREGATE(15,6,(ROW(OrderRange_Ref)-ROW($L$19))/(OFFSET(OrderRange_Ref,,1)>0),ROWS($L$20:$L88)-OFFSET(Cumulative,,0)),IF(OFFSET(Cumulative,,2)>(ROW()-ROW($O$20)),_xlfn.AGGREGATE(15,6,(ROW(OrderRange_Ref)-ROW($L$19))/(OFFSET(OrderRange_Ref,,2)>0),ROWS($L$20:$L88)-OFFSET(Cumulative,,1)),IF(OFFSET(Cumulative,,3)>(ROW()-ROW($O$20)),_xlfn.AGGREGATE(15,6,(ROW(OrderRange_Ref)-ROW($L$19))/(OFFSET(OrderRange_Ref,,3)>0),ROWS($L$20:$L88)-OFFSET(Cumulative,,2)),IF(OFFSET(Cumulative,,4)>(ROW()-ROW($O$20)),_xlfn.AGGREGATE(15,6,(ROW(OrderRange_Ref)-ROW($L$19))/(OFFSET(OrderRange_Ref,,4)>0),ROWS($L$20:$L88)-OFFSET(Cumulative,,3)),IF(OFFSET(Cumulative,,5)>(ROW()-ROW($O$20)),_xlfn.AGGREGATE(15,6,(ROW(OrderRange_Ref)-ROW($L$19))/(OFFSET(OrderRange_Ref,,5)>0),ROWS($L$20:$L88)-OFFSET(Cumulative,,4)),\"\"))))))","v":""},"","","","",""]
[null,null,null,null,null,null,null,null,null,null,null,null,null,{"$f":"IF(Cumulative>(ROW()-ROW($O$20)),_xlfn.AGGREGATE(15,6,(ROW(OrderRange_Ref)-ROW($L$19))/(OFFSET(OrderRange_Ref,,0)>0),ROWS($L$20:$L89)),IF(OFFSET(Cumulative,,1)>(ROW()-ROW($O$20)),_xlfn.AGGREGATE(15,6,(ROW(OrderRange_Ref)-ROW($L$19))/(OFFSET(OrderRange_Ref,,1)>0),ROWS($L$20:$L89)-OFFSET(Cumulative,,0)),IF(OFFSET(Cumulative,,2)>(ROW()-ROW($O$20)),_xlfn.AGGREGATE(15,6,(ROW(OrderRange_Ref)-ROW($L$19))/(OFFSET(OrderRange_Ref,,2)>0),ROWS($L$20:$L89)-OFFSET(Cumulative,,1)),IF(OFFSET(Cumulative,,3)>(ROW()-ROW($O$20)),_xlfn.AGGREGATE(15,6,(ROW(OrderRange_Ref)-ROW($L$19))/(OFFSET(OrderRange_Ref,,3)>0),ROWS($L$20:$L89)-OFFSET(Cumulative,,2)),IF(OFFSET(Cumulative,,4)>(ROW()-ROW($O$20)),_xlfn.AGGREGATE(15,6,(ROW(OrderRange_Ref)-ROW($L$19))/(OFFSET(OrderRange_Ref,,4)>0),ROWS($L$20:$L89)-OFFSET(Cumulative,,3)),IF(OFFSET(Cumulative,,5)>(ROW()-ROW($O$20)),_xlfn.AGGREGATE(15,6,(ROW(OrderRange_Ref)-ROW($L$19))/(OFFSET(OrderRange_Ref,,5)>0),ROWS($L$20:$L89)-OFFSET(Cumulative,,4)),\"\"))))))","v":""},"","","","",""]
[null,null,null,null,null,null,null,null,null,null,null,null,null,{"$f":"IF(Cumulative>(ROW()-ROW($O$20)),_xlfn.AGGREGATE(15,6,(ROW(OrderRange_Ref)-ROW($L$19))/(OFFSET(OrderRange_Ref,,0)>0),ROWS($L$20:$L90)),IF(OFFSET(Cumulative,,1)>(ROW()-ROW($O$20)),_xlfn.AGGREGATE(15,6,(ROW(OrderRange_Ref)-ROW($L$19))/(OFFSET(OrderRange_Ref,,1)>0),ROWS($L$20:$L90)-OFFSET(Cumulative,,0)),IF(OFFSET(Cumulative,,2)>(ROW()-ROW($O$20)),_xlfn.AGGREGATE(15,6,(ROW(OrderRange_Ref)-ROW($L$19))/(OFFSET(OrderRange_Ref,,2)>0),ROWS($L$20:$L90)-OFFSET(Cumulative,,1)),IF(OFFSET(Cumulative,,3)>(ROW()-ROW($O$20)),_xlfn.AGGREGATE(15,6,(ROW(OrderRange_Ref)-ROW($L$19))/(OFFSET(OrderRange_Ref,,3)>0),ROWS($L$20:$L90)-OFFSET(Cumulative,,2)),IF(OFFSET(Cumulative,,4)>(ROW()-ROW($O$20)),_xlfn.AGGREGATE(15,6,(ROW(OrderRange_Ref)-ROW($L$19))/(OFFSET(OrderRange_Ref,,4)>0),ROWS($L$20:$L90)-OFFSET(Cumulative,,3)),IF(OFFSET(Cumulative,,5)>(ROW()-ROW($O$20)),_xlfn.AGGREGATE(15,6,(ROW(OrderRange_Ref)-ROW($L$19))/(OFFSET(OrderRange_Ref,,5)>0),ROWS($L$20:$L90)-OFFSET(Cumulative,,4)),\"\"))))))","v":""},"","","","",""]
[null,null,null,null,null,null,null,null,null,null,null,null,null,{"$f":"IF(Cumulative>(ROW()-ROW($O$20)),_xlfn.AGGREGATE(15,6,(ROW(OrderRange_Ref)-ROW($L$19))/(OFFSET(OrderRange_Ref,,0)>0),ROWS($L$20:$L91)),IF(OFFSET(Cumulative,,1)>(ROW()-ROW($O$20)),_xlfn.AGGREGATE(15,6,(ROW(OrderRange_Ref)-ROW($L$19))/(OFFSET(OrderRange_Ref,,1)>0),ROWS($L$20:$L91)-OFFSET(Cumulative,,0)),IF(OFFSET(Cumulative,,2)>(ROW()-ROW($O$20)),_xlfn.AGGREGATE(15,6,(ROW(OrderRange_Ref)-ROW($L$19))/(OFFSET(OrderRange_Ref,,2)>0),ROWS($L$20:$L91)-OFFSET(Cumulative,,1)),IF(OFFSET(Cumulative,,3)>(ROW()-ROW($O$20)),_xlfn.AGGREGATE(15,6,(ROW(OrderRange_Ref)-ROW($L$19))/(OFFSET(OrderRange_Ref,,3)>0),ROWS($L$20:$L91)-OFFSET(Cumulative,,2)),IF(OFFSET(Cumulative,,4)>(ROW()-ROW($O$20)),_xlfn.AGGREGATE(15,6,(ROW(OrderRange_Ref)-ROW($L$19))/(OFFSET(OrderRange_Ref,,4)>0),ROWS($L$20:$L91)-OFFSET(Cumulative,,3)),IF(OFFSET(Cumulative,,5)>(ROW()-ROW($O$20)),_xlfn.AGGREGATE(15,6,(ROW(OrderRange_Ref)-ROW($L$19))/(OFFSET(OrderRange_Ref,,5)>0),ROWS($L$20:$L91)-OFFSET(Cumulative,,4)),\"\"))))))","v":""},"","","","",""]
[null,null,null,null,null,null,null,null,null,null,null,null,null,{"$f":"IF(Cumulative>(ROW()-ROW($O$20)),_xlfn.AGGREGATE(15,6,(ROW(OrderRange_Ref)-ROW($L$19))/(OFFSET(OrderRange_Ref,,0)>0),ROWS($L$20:$L92)),IF(OFFSET(Cumulative,,1)>(ROW()-ROW($O$20)),_xlfn.AGGREGATE(15,6,(ROW(OrderRange_Ref)-ROW($L$19))/(OFFSET(OrderRange_Ref,,1)>0),ROWS($L$20:$L92)-OFFSET(Cumulative,,0)),IF(OFFSET(Cumulative,,2)>(ROW()-ROW($O$20)),_xlfn.AGGREGATE(15,6,(ROW(OrderRange_Ref)-ROW($L$19))/(OFFSET(OrderRange_Ref,,2)>0),ROWS($L$20:$L92)-OFFSET(Cumulative,,1)),IF(OFFSET(Cumulative,,3)>(ROW()-ROW($O$20)),_xlfn.AGGREGATE(15,6,(ROW(OrderRange_Ref)-ROW($L$19))/(OFFSET(OrderRange_Ref,,3)>0),ROWS($L$20:$L92)-OFFSET(Cumulative,,2)),IF(OFFSET(Cumulative,,4)>(ROW()-ROW($O$20)),_xlfn.AGGREGATE(15,6,(ROW(OrderRange_Ref)-ROW($L$19))/(OFFSET(OrderRange_Ref,,4)>0),ROWS($L$20:$L92)-OFFSET(Cumulative,,3)),IF(OFFSET(Cumulative,,5)>(ROW()-ROW($O$20)),_xlfn.AGGREGATE(15,6,(ROW(OrderRange_Ref)-ROW($L$19))/(OFFSET(OrderRange_Ref,,5)>0),ROWS($L$20:$L92)-OFFSET(Cumulative,,4)),\"\"))))))","v":""},"","","","",""]
[null,null,null,null,null,null,null,null,null,null,null,null,null,{"$f":"IF(Cumulative>(ROW()-ROW($O$20)),_xlfn.AGGREGATE(15,6,(ROW(OrderRange_Ref)-ROW($L$19))/(OFFSET(OrderRange_Ref,,0)>0),ROWS($L$20:$L93)),IF(OFFSET(Cumulative,,1)>(ROW()-ROW($O$20)),_xlfn.AGGREGATE(15,6,(ROW(OrderRange_Ref)-ROW($L$19))/(OFFSET(OrderRange_Ref,,1)>0),ROWS($L$20:$L93)-OFFSET(Cumulative,,0)),IF(OFFSET(Cumulative,,2)>(ROW()-ROW($O$20)),_xlfn.AGGREGATE(15,6,(ROW(OrderRange_Ref)-ROW($L$19))/(OFFSET(OrderRange_Ref,,2)>0),ROWS($L$20:$L93)-OFFSET(Cumulative,,1)),IF(OFFSET(Cumulative,,3)>(ROW()-ROW($O$20)),_xlfn.AGGREGATE(15,6,(ROW(OrderRange_Ref)-ROW($L$19))/(OFFSET(OrderRange_Ref,,3)>0),ROWS($L$20:$L93)-OFFSET(Cumulative,,2)),IF(OFFSET(Cumulative,,4)>(ROW()-ROW($O$20)),_xlfn.AGGREGATE(15,6,(ROW(OrderRange_Ref)-ROW($L$19))/(OFFSET(OrderRange_Ref,,4)>0),ROWS($L$20:$L93)-OFFSET(Cumulative,,3)),IF(OFFSET(Cumulative,,5)>(ROW()-ROW($O$20)),_xlfn.AGGREGATE(15,6,(ROW(OrderRange_Ref)-ROW($L$19))/(OFFSET(OrderRange_Ref,,5)>0),ROWS($L$20:$L93)-OFFSET(Cumulative,,4)),\"\"))))))","v":""},"","","","",""]
[null,null,null,null,null,null,null,null,null,null,null,null,null,{"$f":"IF(Cumulative>(ROW()-ROW($O$20)),_xlfn.AGGREGATE(15,6,(ROW(OrderRange_Ref)-ROW($L$19))/(OFFSET(OrderRange_Ref,,0)>0),ROWS($L$20:$L94)),IF(OFFSET(Cumulative,,1)>(ROW()-ROW($O$20)),_xlfn.AGGREGATE(15,6,(ROW(OrderRange_Ref)-ROW($L$19))/(OFFSET(OrderRange_Ref,,1)>0),ROWS($L$20:$L94)-OFFSET(Cumulative,,0)),IF(OFFSET(Cumulative,,2)>(ROW()-ROW($O$20)),_xlfn.AGGREGATE(15,6,(ROW(OrderRange_Ref)-ROW($L$19))/(OFFSET(OrderRange_Ref,,2)>0),ROWS($L$20:$L94)-OFFSET(Cumulative,,1)),IF(OFFSET(Cumulative,,3)>(ROW()-ROW($O$20)),_xlfn.AGGREGATE(15,6,(ROW(OrderRange_Ref)-ROW($L$19))/(OFFSET(OrderRange_Ref,,3)>0),ROWS($L$20:$L94)-OFFSET(Cumulative,,2)),IF(OFFSET(Cumulative,,4)>(ROW()-ROW($O$20)),_xlfn.AGGREGATE(15,6,(ROW(OrderRange_Ref)-ROW($L$19))/(OFFSET(OrderRange_Ref,,4)>0),ROWS($L$20:$L94)-OFFSET(Cumulative,,3)),IF(OFFSET(Cumulative,,5)>(ROW()-ROW($O$20)),_xlfn.AGGREGATE(15,6,(ROW(OrderRange_Ref)-ROW($L$19))/(OFFSET(OrderRange_Ref,,5)>0),ROWS($L$20:$L94)-OFFSET(Cumulative,,4)),\"\"))))))","v":""},"","","","",""]
[null,null,null,null,null,null,null,null,null,null,null,null,null,{"$f":"IF(Cumulative>(ROW()-ROW($O$20)),_xlfn.AGGREGATE(15,6,(ROW(OrderRange_Ref)-ROW($L$19))/(OFFSET(OrderRange_Ref,,0)>0),ROWS($L$20:$L95)),IF(OFFSET(Cumulative,,1)>(ROW()-ROW($O$20)),_xlfn.AGGREGATE(15,6,(ROW(OrderRange_Ref)-ROW($L$19))/(OFFSET(OrderRange_Ref,,1)>0),ROWS($L$20:$L95)-OFFSET(Cumulative,,0)),IF(OFFSET(Cumulative,,2)>(ROW()-ROW($O$20)),_xlfn.AGGREGATE(15,6,(ROW(OrderRange_Ref)-ROW($L$19))/(OFFSET(OrderRange_Ref,,2)>0),ROWS($L$20:$L95)-OFFSET(Cumulative,,1)),IF(OFFSET(Cumulative,,3)>(ROW()-ROW($O$20)),_xlfn.AGGREGATE(15,6,(ROW(OrderRange_Ref)-ROW($L$19))/(OFFSET(OrderRange_Ref,,3)>0),ROWS($L$20:$L95)-OFFSET(Cumulative,,2)),IF(OFFSET(Cumulative,,4)>(ROW()-ROW($O$20)),_xlfn.AGGREGATE(15,6,(ROW(OrderRange_Ref)-ROW($L$19))/(OFFSET(OrderRange_Ref,,4)>0),ROWS($L$20:$L95)-OFFSET(Cumulative,,3)),IF(OFFSET(Cumulative,,5)>(ROW()-ROW($O$20)),_xlfn.AGGREGATE(15,6,(ROW(OrderRange_Ref)-ROW($L$19))/(OFFSET(OrderRange_Ref,,5)>0),ROWS($L$20:$L95)-OFFSET(Cumulative,,4)),\"\"))))))","v":""},"","","","",""]
[null,null,null,null,null,null,null,null,null,null,null,null,null,{"$f":"IF(Cumulative>(ROW()-ROW($O$20)),_xlfn.AGGREGATE(15,6,(ROW(OrderRange_Ref)-ROW($L$19))/(OFFSET(OrderRange_Ref,,0)>0),ROWS($L$20:$L96)),IF(OFFSET(Cumulative,,1)>(ROW()-ROW($O$20)),_xlfn.AGGREGATE(15,6,(ROW(OrderRange_Ref)-ROW($L$19))/(OFFSET(OrderRange_Ref,,1)>0),ROWS($L$20:$L96)-OFFSET(Cumulative,,0)),IF(OFFSET(Cumulative,,2)>(ROW()-ROW($O$20)),_xlfn.AGGREGATE(15,6,(ROW(OrderRange_Ref)-ROW($L$19))/(OFFSET(OrderRange_Ref,,2)>0),ROWS($L$20:$L96)-OFFSET(Cumulative,,1)),IF(OFFSET(Cumulative,,3)>(ROW()-ROW($O$20)),_xlfn.AGGREGATE(15,6,(ROW(OrderRange_Ref)-ROW($L$19))/(OFFSET(OrderRange_Ref,,3)>0),ROWS($L$20:$L96)-OFFSET(Cumulative,,2)),IF(OFFSET(Cumulative,,4)>(ROW()-ROW($O$20)),_xlfn.AGGREGATE(15,6,(ROW(OrderRange_Ref)-ROW($L$19))/(OFFSET(OrderRange_Ref,,4)>0),ROWS($L$20:$L96)-OFFSET(Cumulative,,3)),IF(OFFSET(Cumulative,,5)>(ROW()-ROW($O$20)),_xlfn.AGGREGATE(15,6,(ROW(OrderRange_Ref)-ROW($L$19))/(OFFSET(OrderRange_Ref,,5)>0),ROWS($L$20:$L96)-OFFSET(Cumulative,,4)),\"\"))))))","v":""},"","","","",""]
[null,null,null,null,null,null,null,null,null,null,null,null,null,{"$f":"IF(Cumulative>(ROW()-ROW($O$20)),_xlfn.AGGREGATE(15,6,(ROW(OrderRange_Ref)-ROW($L$19))/(OFFSET(OrderRange_Ref,,0)>0),ROWS($L$20:$L97)),IF(OFFSET(Cumulative,,1)>(ROW()-ROW($O$20)),_xlfn.AGGREGATE(15,6,(ROW(OrderRange_Ref)-ROW($L$19))/(OFFSET(OrderRange_Ref,,1)>0),ROWS($L$20:$L97)-OFFSET(Cumulative,,0)),IF(OFFSET(Cumulative,,2)>(ROW()-ROW($O$20)),_xlfn.AGGREGATE(15,6,(ROW(OrderRange_Ref)-ROW($L$19))/(OFFSET(OrderRange_Ref,,2)>0),ROWS($L$20:$L97)-OFFSET(Cumulative,,1)),IF(OFFSET(Cumulative,,3)>(ROW()-ROW($O$20)),_xlfn.AGGREGATE(15,6,(ROW(OrderRange_Ref)-ROW($L$19))/(OFFSET(OrderRange_Ref,,3)>0),ROWS($L$20:$L97)-OFFSET(Cumulative,,2)),IF(OFFSET(Cumulative,,4)>(ROW()-ROW($O$20)),_xlfn.AGGREGATE(15,6,(ROW(OrderRange_Ref)-ROW($L$19))/(OFFSET(OrderRange_Ref,,4)>0),ROWS($L$20:$L97)-OFFSET(Cumulative,,3)),IF(OFFSET(Cumulative,,5)>(ROW()-ROW($O$20)),_xlfn.AGGREGATE(15,6,(ROW(OrderRange_Ref)-ROW($L$19))/(OFFSET(OrderRange_Ref,,5)>0),ROWS($L$20:$L97)-OFFSET(Cumulative,,4)),\"\"))))))","v":""},"","","","",""]
[null,null,null,null,null,null,null,null,null,null,null,null,null,{"$f":"IF(Cumulative>(ROW()-ROW($O$20)),_xlfn.AGGREGATE(15,6,(ROW(OrderRange_Ref)-ROW($L$19))/(OFFSET(OrderRange_Ref,,0)>0),ROWS($L$20:$L98)),IF(OFFSET(Cumulative,,1)>(ROW()-ROW($O$20)),_xlfn.AGGREGATE(15,6,(ROW(OrderRange_Ref)-ROW($L$19))/(OFFSET(OrderRange_Ref,,1)>0),ROWS($L$20:$L98)-OFFSET(Cumulative,,0)),IF(OFFSET(Cumulative,,2)>(ROW()-ROW($O$20)),_xlfn.AGGREGATE(15,6,(ROW(OrderRange_Ref)-ROW($L$19))/(OFFSET(OrderRange_Ref,,2)>0),ROWS($L$20:$L98)-OFFSET(Cumulative,,1)),IF(OFFSET(Cumulative,,3)>(ROW()-ROW($O$20)),_xlfn.AGGREGATE(15,6,(ROW(OrderRange_Ref)-ROW($L$19))/(OFFSET(OrderRange_Ref,,3)>0),ROWS($L$20:$L98)-OFFSET(Cumulative,,2)),IF(OFFSET(Cumulative,,4)>(ROW()-ROW($O$20)),_xlfn.AGGREGATE(15,6,(ROW(OrderRange_Ref)-ROW($L$19))/(OFFSET(OrderRange_Ref,,4)>0),ROWS($L$20:$L98)-OFFSET(Cumulative,,3)),IF(OFFSET(Cumulative,,5)>(ROW()-ROW($O$20)),_xlfn.AGGREGATE(15,6,(ROW(OrderRange_Ref)-ROW($L$19))/(OFFSET(OrderRange_Ref,,5)>0),ROWS($L$20:$L98)-OFFSET(Cumulative,,4)),\"\"))))))","v":""},"","","","",""]
[null,null,null,null,null,null,null,null,null,null,null,null,null,{"$f":"IF(Cumulative>(ROW()-ROW($O$20)),_xlfn.AGGREGATE(15,6,(ROW(OrderRange_Ref)-ROW($L$19))/(OFFSET(OrderRange_Ref,,0)>0),ROWS($L$20:$L99)),IF(OFFSET(Cumulative,,1)>(ROW()-ROW($O$20)),_xlfn.AGGREGATE(15,6,(ROW(OrderRange_Ref)-ROW($L$19))/(OFFSET(OrderRange_Ref,,1)>0),ROWS($L$20:$L99)-OFFSET(Cumulative,,0)),IF(OFFSET(Cumulative,,2)>(ROW()-ROW($O$20)),_xlfn.AGGREGATE(15,6,(ROW(OrderRange_Ref)-ROW($L$19))/(OFFSET(OrderRange_Ref,,2)>0),ROWS($L$20:$L99)-OFFSET(Cumulative,,1)),IF(OFFSET(Cumulative,,3)>(ROW()-ROW($O$20)),_xlfn.AGGREGATE(15,6,(ROW(OrderRange_Ref)-ROW($L$19))/(OFFSET(OrderRange_Ref,,3)>0),ROWS($L$20:$L99)-OFFSET(Cumulative,,2)),IF(OFFSET(Cumulative,,4)>(ROW()-ROW($O$20)),_xlfn.AGGREGATE(15,6,(ROW(OrderRange_Ref)-ROW($L$19))/(OFFSET(OrderRange_Ref,,4)>0),ROWS($L$20:$L99)-OFFSET(Cumulative,,3)),IF(OFFSET(Cumulative,,5)>(ROW()-ROW($O$20)),_xlfn.AGGREGATE(15,6,(ROW(OrderRange_Ref)-ROW($L$19))/(OFFSET(OrderRange_Ref,,5)>0),ROWS($L$20:$L99)-OFFSET(Cumulative,,4)),\"\"))))))","v":""},"","","","",""]
[null,null,null,null,null,null,null,null,null,null,null,null,null,{"$f":"IF(Cumulative>(ROW()-ROW($O$20)),_xlfn.AGGREGATE(15,6,(ROW(OrderRange_Ref)-ROW($L$19))/(OFFSET(OrderRange_Ref,,0)>0),ROWS($L$20:$L100)),IF(OFFSET(Cumulative,,1)>(ROW()-ROW($O$20)),_xlfn.AGGREGATE(15,6,(ROW(OrderRange_Ref)-ROW($L$19))/(OFFSET(OrderRange_Ref,,1)>0),ROWS($L$20:$L100)-OFFSET(Cumulative,,0)),IF(OFFSET(Cumulative,,2)>(ROW()-ROW($O$20)),_xlfn.AGGREGATE(15,6,(ROW(OrderRange_Ref)-ROW($L$19))/(OFFSET(OrderRange_Ref,,2)>0),ROWS($L$20:$L100)-OFFSET(Cumulative,,1)),IF(OFFSET(Cumulative,,3)>(ROW()-ROW($O$20)),_xlfn.AGGREGATE(15,6,(ROW(OrderRange_Ref)-ROW($L$19))/(OFFSET(OrderRange_Ref,,3)>0),ROWS($L$20:$L100)-OFFSET(Cumulative,,2)),IF(OFFSET(Cumulative,,4)>(ROW()-ROW($O$20)),_xlfn.AGGREGATE(15,6,(ROW(OrderRange_Ref)-ROW($L$19))/(OFFSET(OrderRange_Ref,,4)>0),ROWS($L$20:$L100)-OFFSET(Cumulative,,3)),IF(OFFSET(Cumulative,,5)>(ROW()-ROW($O$20)),_xlfn.AGGREGATE(15,6,(ROW(OrderRange_Ref)-ROW($L$19))/(OFFSET(OrderRange_Ref,,5)>0),ROWS($L$20:$L100)-OFFSET(Cumulative,,4)),\"\"))))))","v":""},"","","","",""]
[null,null,null,null,null,null,null,null,null,null,null,null,null,{"$f":"IF(Cumulative>(ROW()-ROW($O$20)),_xlfn.AGGREGATE(15,6,(ROW(OrderRange_Ref)-ROW($L$19))/(OFFSET(OrderRange_Ref,,0)>0),ROWS($L$20:$L101)),IF(OFFSET(Cumulative,,1)>(ROW()-ROW($O$20)),_xlfn.AGGREGATE(15,6,(ROW(OrderRange_Ref)-ROW($L$19))/(OFFSET(OrderRange_Ref,,1)>0),ROWS($L$20:$L101)-OFFSET(Cumulative,,0)),IF(OFFSET(Cumulative,,2)>(ROW()-ROW($O$20)),_xlfn.AGGREGATE(15,6,(ROW(OrderRange_Ref)-ROW($L$19))/(OFFSET(OrderRange_Ref,,2)>0),ROWS($L$20:$L101)-OFFSET(Cumulative,,1)),IF(OFFSET(Cumulative,,3)>(ROW()-ROW($O$20)),_xlfn.AGGREGATE(15,6,(ROW(OrderRange_Ref)-ROW($L$19))/(OFFSET(OrderRange_Ref,,3)>0),ROWS($L$20:$L101)-OFFSET(Cumulative,,2)),IF(OFFSET(Cumulative,,4)>(ROW()-ROW($O$20)),_xlfn.AGGREGATE(15,6,(ROW(OrderRange_Ref)-ROW($L$19))/(OFFSET(OrderRange_Ref,,4)>0),ROWS($L$20:$L101)-OFFSET(Cumulative,,3)),IF(OFFSET(Cumulative,,5)>(ROW()-ROW($O$20)),_xlfn.AGGREGATE(15,6,(ROW(OrderRange_Ref)-ROW($L$19))/(OFFSET(OrderRange_Ref,,5)>0),ROWS($L$20:$L101)-OFFSET(Cumulative,,4)),\"\"))))))","v":""},"","","","",""]
[null,null,null,null,null,null,null,null,null,null,null,null,null,{"$f":"IF(Cumulative>(ROW()-ROW($O$20)),_xlfn.AGGREGATE(15,6,(ROW(OrderRange_Ref)-ROW($L$19))/(OFFSET(OrderRange_Ref,,0)>0),ROWS($L$20:$L102)),IF(OFFSET(Cumulative,,1)>(ROW()-ROW($O$20)),_xlfn.AGGREGATE(15,6,(ROW(OrderRange_Ref)-ROW($L$19))/(OFFSET(OrderRange_Ref,,1)>0),ROWS($L$20:$L102)-OFFSET(Cumulative,,0)),IF(OFFSET(Cumulative,,2)>(ROW()-ROW($O$20)),_xlfn.AGGREGATE(15,6,(ROW(OrderRange_Ref)-ROW($L$19))/(OFFSET(OrderRange_Ref,,2)>0),ROWS($L$20:$L102)-OFFSET(Cumulative,,1)),IF(OFFSET(Cumulative,,3)>(ROW()-ROW($O$20)),_xlfn.AGGREGATE(15,6,(ROW(OrderRange_Ref)-ROW($L$19))/(OFFSET(OrderRange_Ref,,3)>0),ROWS($L$20:$L102)-OFFSET(Cumulative,,2)),IF(OFFSET(Cumulative,,4)>(ROW()-ROW($O$20)),_xlfn.AGGREGATE(15,6,(ROW(OrderRange_Ref)-ROW($L$19))/(OFFSET(OrderRange_Ref,,4)>0),ROWS($L$20:$L102)-OFFSET(Cumulative,,3)),IF(OFFSET(Cumulative,,5)>(ROW()-ROW($O$20)),_xlfn.AGGREGATE(15,6,(ROW(OrderRange_Ref)-ROW($L$19))/(OFFSET(OrderRange_Ref,,5)>0),ROWS($L$20:$L102)-OFFSET(Cumulative,,4)),\"\"))))))","v":""},"","","","",""]
[null,null,null,null,null,null,null,null,null,null,null,null,null,{"$f":"IF(Cumulative>(ROW()-ROW($O$20)),_xlfn.AGGREGATE(15,6,(ROW(OrderRange_Ref)-ROW($L$19))/(OFFSET(OrderRange_Ref,,0)>0),ROWS($L$20:$L103)),IF(OFFSET(Cumulative,,1)>(ROW()-ROW($O$20)),_xlfn.AGGREGATE(15,6,(ROW(OrderRange_Ref)-ROW($L$19))/(OFFSET(OrderRange_Ref,,1)>0),ROWS($L$20:$L103)-OFFSET(Cumulative,,0)),IF(OFFSET(Cumulative,,2)>(ROW()-ROW($O$20)),_xlfn.AGGREGATE(15,6,(ROW(OrderRange_Ref)-ROW($L$19))/(OFFSET(OrderRange_Ref,,2)>0),ROWS($L$20:$L103)-OFFSET(Cumulative,,1)),IF(OFFSET(Cumulative,,3)>(ROW()-ROW($O$20)),_xlfn.AGGREGATE(15,6,(ROW(OrderRange_Ref)-ROW($L$19))/(OFFSET(OrderRange_Ref,,3)>0),ROWS($L$20:$L103)-OFFSET(Cumulative,,2)),IF(OFFSET(Cumulative,,4)>(ROW()-ROW($O$20)),_xlfn.AGGREGATE(15,6,(ROW(OrderRange_Ref)-ROW($L$19))/(OFFSET(OrderRange_Ref,,4)>0),ROWS($L$20:$L103)-OFFSET(Cumulative,,3)),IF(OFFSET(Cumulative,,5)>(ROW()-ROW($O$20)),_xlfn.AGGREGATE(15,6,(ROW(OrderRange_Ref)-ROW($L$19))/(OFFSET(OrderRange_Ref,,5)>0),ROWS($L$20:$L103)-OFFSET(Cumulative,,4)),\"\"))))))","v":""},"","","","",""]
[null,null,null,null,null,null,null,null,null,null,null,null,null,{"$f":"IF(Cumulative>(ROW()-ROW($O$20)),_xlfn.AGGREGATE(15,6,(ROW(OrderRange_Ref)-ROW($L$19))/(OFFSET(OrderRange_Ref,,0)>0),ROWS($L$20:$L104)),IF(OFFSET(Cumulative,,1)>(ROW()-ROW($O$20)),_xlfn.AGGREGATE(15,6,(ROW(OrderRange_Ref)-ROW($L$19))/(OFFSET(OrderRange_Ref,,1)>0),ROWS($L$20:$L104)-OFFSET(Cumulative,,0)),IF(OFFSET(Cumulative,,2)>(ROW()-ROW($O$20)),_xlfn.AGGREGATE(15,6,(ROW(OrderRange_Ref)-ROW($L$19))/(OFFSET(OrderRange_Ref,,2)>0),ROWS($L$20:$L104)-OFFSET(Cumulative,,1)),IF(OFFSET(Cumulative,,3)>(ROW()-ROW($O$20)),_xlfn.AGGREGATE(15,6,(ROW(OrderRange_Ref)-ROW($L$19))/(OFFSET(OrderRange_Ref,,3)>0),ROWS($L$20:$L104)-OFFSET(Cumulative,,2)),IF(OFFSET(Cumulative,,4)>(ROW()-ROW($O$20)),_xlfn.AGGREGATE(15,6,(ROW(OrderRange_Ref)-ROW($L$19))/(OFFSET(OrderRange_Ref,,4)>0),ROWS($L$20:$L104)-OFFSET(Cumulative,,3)),IF(OFFSET(Cumulative,,5)>(ROW()-ROW($O$20)),_xlfn.AGGREGATE(15,6,(ROW(OrderRange_Ref)-ROW($L$19))/(OFFSET(OrderRange_Ref,,5)>0),ROWS($L$20:$L104)-OFFSET(Cumulative,,4)),\"\"))))))","v":""},"","","","",""]
[null,null,null,null,null,null,null,null,null,null,null,null,null,{"$f":"IF(Cumulative>(ROW()-ROW($O$20)),_xlfn.AGGREGATE(15,6,(ROW(OrderRange_Ref)-ROW($L$19))/(OFFSET(OrderRange_Ref,,0)>0),ROWS($L$20:$L105)),IF(OFFSET(Cumulative,,1)>(ROW()-ROW($O$20)),_xlfn.AGGREGATE(15,6,(ROW(OrderRange_Ref)-ROW($L$19))/(OFFSET(OrderRange_Ref,,1)>0),ROWS($L$20:$L105)-OFFSET(Cumulative,,0)),IF(OFFSET(Cumulative,,2)>(ROW()-ROW($O$20)),_xlfn.AGGREGATE(15,6,(ROW(OrderRange_Ref)-ROW($L$19))/(OFFSET(OrderRange_Ref,,2)>0),ROWS($L$20:$L105)-OFFSET(Cumulative,,1)),IF(OFFSET(Cumulative,,3)>(ROW()-ROW($O$20)),_xlfn.AGGREGATE(15,6,(ROW(OrderRange_Ref)-ROW($L$19))/(OFFSET(OrderRange_Ref,,3)>0),ROWS($L$20:$L105)-OFFSET(Cumulative,,2)),IF(OFFSET(Cumulative,,4)>(ROW()-ROW($O$20)),_xlfn.AGGREGATE(15,6,(ROW(OrderRange_Ref)-ROW($L$19))/(OFFSET(OrderRange_Ref,,4)>0),ROWS($L$20:$L105)-OFFSET(Cumulative,,3)),IF(OFFSET(Cumulative,,5)>(ROW()-ROW($O$20)),_xlfn.AGGREGATE(15,6,(ROW(OrderRange_Ref)-ROW($L$19))/(OFFSET(OrderRange_Ref,,5)>0),ROWS($L$20:$L105)-OFFSET(Cumulative,,4)),\"\"))))))","v":""},"","","","",""]
[null,null,null,null,null,null,null,null,null,null,null,null,null,{"$f":"IF(Cumulative>(ROW()-ROW($O$20)),_xlfn.AGGREGATE(15,6,(ROW(OrderRange_Ref)-ROW($L$19))/(OFFSET(OrderRange_Ref,,0)>0),ROWS($L$20:$L106)),IF(OFFSET(Cumulative,,1)>(ROW()-ROW($O$20)),_xlfn.AGGREGATE(15,6,(ROW(OrderRange_Ref)-ROW($L$19))/(OFFSET(OrderRange_Ref,,1)>0),ROWS($L$20:$L106)-OFFSET(Cumulative,,0)),IF(OFFSET(Cumulative,,2)>(ROW()-ROW($O$20)),_xlfn.AGGREGATE(15,6,(ROW(OrderRange_Ref)-ROW($L$19))/(OFFSET(OrderRange_Ref,,2)>0),ROWS($L$20:$L106)-OFFSET(Cumulative,,1)),IF(OFFSET(Cumulative,,3)>(ROW()-ROW($O$20)),_xlfn.AGGREGATE(15,6,(ROW(OrderRange_Ref)-ROW($L$19))/(OFFSET(OrderRange_Ref,,3)>0),ROWS($L$20:$L106)-OFFSET(Cumulative,,2)),IF(OFFSET(Cumulative,,4)>(ROW()-ROW($O$20)),_xlfn.AGGREGATE(15,6,(ROW(OrderRange_Ref)-ROW($L$19))/(OFFSET(OrderRange_Ref,,4)>0),ROWS($L$20:$L106)-OFFSET(Cumulative,,3)),IF(OFFSET(Cumulative,,5)>(ROW()-ROW($O$20)),_xlfn.AGGREGATE(15,6,(ROW(OrderRange_Ref)-ROW($L$19))/(OFFSET(OrderRange_Ref,,5)>0),ROWS($L$20:$L106)-OFFSET(Cumulative,,4)),\"\"))))))","v":""},"","","","",""]
[null,null,null,null,null,null,null,null,null,null,null,null,null,{"$f":"IF(Cumulative>(ROW()-ROW($O$20)),_xlfn.AGGREGATE(15,6,(ROW(OrderRange_Ref)-ROW($L$19))/(OFFSET(OrderRange_Ref,,0)>0),ROWS($L$20:$L107)),IF(OFFSET(Cumulative,,1)>(ROW()-ROW($O$20)),_xlfn.AGGREGATE(15,6,(ROW(OrderRange_Ref)-ROW($L$19))/(OFFSET(OrderRange_Ref,,1)>0),ROWS($L$20:$L107)-OFFSET(Cumulative,,0)),IF(OFFSET(Cumulative,,2)>(ROW()-ROW($O$20)),_xlfn.AGGREGATE(15,6,(ROW(OrderRange_Ref)-ROW($L$19))/(OFFSET(OrderRange_Ref,,2)>0),ROWS($L$20:$L107)-OFFSET(Cumulative,,1)),IF(OFFSET(Cumulative,,3)>(ROW()-ROW($O$20)),_xlfn.AGGREGATE(15,6,(ROW(OrderRange_Ref)-ROW($L$19))/(OFFSET(OrderRange_Ref,,3)>0),ROWS($L$20:$L107)-OFFSET(Cumulative,,2)),IF(OFFSET(Cumulative,,4)>(ROW()-ROW($O$20)),_xlfn.AGGREGATE(15,6,(ROW(OrderRange_Ref)-ROW($L$19))/(OFFSET(OrderRange_Ref,,4)>0),ROWS($L$20:$L107)-OFFSET(Cumulative,,3)),IF(OFFSET(Cumulative,,5)>(ROW()-ROW($O$20)),_xlfn.AGGREGATE(15,6,(ROW(OrderRange_Ref)-ROW($L$19))/(OFFSET(OrderRange_Ref,,5)>0),ROWS($L$20:$L107)-OFFSET(Cumulative,,4)),\"\"))))))","v":""},"","","","",""]
[null,null,null,null,null,null,null,null,null,null,null,null,null,{"$f":"IF(Cumulative>(ROW()-ROW($O$20)),_xlfn.AGGREGATE(15,6,(ROW(OrderRange_Ref)-ROW($L$19))/(OFFSET(OrderRange_Ref,,0)>0),ROWS($L$20:$L108)),IF(OFFSET(Cumulative,,1)>(ROW()-ROW($O$20)),_xlfn.AGGREGATE(15,6,(ROW(OrderRange_Ref)-ROW($L$19))/(OFFSET(OrderRange_Ref,,1)>0),ROWS($L$20:$L108)-OFFSET(Cumulative,,0)),IF(OFFSET(Cumulative,,2)>(ROW()-ROW($O$20)),_xlfn.AGGREGATE(15,6,(ROW(OrderRange_Ref)-ROW($L$19))/(OFFSET(OrderRange_Ref,,2)>0),ROWS($L$20:$L108)-OFFSET(Cumulative,,1)),IF(OFFSET(Cumulative,,3)>(ROW()-ROW($O$20)),_xlfn.AGGREGATE(15,6,(ROW(OrderRange_Ref)-ROW($L$19))/(OFFSET(OrderRange_Ref,,3)>0),ROWS($L$20:$L108)-OFFSET(Cumulative,,2)),IF(OFFSET(Cumulative,,4)>(ROW()-ROW($O$20)),_xlfn.AGGREGATE(15,6,(ROW(OrderRange_Ref)-ROW($L$19))/(OFFSET(OrderRange_Ref,,4)>0),ROWS($L$20:$L108)-OFFSET(Cumulative,,3)),IF(OFFSET(Cumulative,,5)>(ROW()-ROW($O$20)),_xlfn.AGGREGATE(15,6,(ROW(OrderRange_Ref)-ROW($L$19))/(OFFSET(OrderRange_Ref,,5)>0),ROWS($L$20:$L108)-OFFSET(Cumulative,,4)),\"\"))))))","v":""},"","","","",""]
[null,null,null,null,null,null,null,null,null,null,null,null,null,{"$f":"IF(Cumulative>(ROW()-ROW($O$20)),_xlfn.AGGREGATE(15,6,(ROW(OrderRange_Ref)-ROW($L$19))/(OFFSET(OrderRange_Ref,,0)>0),ROWS($L$20:$L109)),IF(OFFSET(Cumulative,,1)>(ROW()-ROW($O$20)),_xlfn.AGGREGATE(15,6,(ROW(OrderRange_Ref)-ROW($L$19))/(OFFSET(OrderRange_Ref,,1)>0),ROWS($L$20:$L109)-OFFSET(Cumulative,,0)),IF(OFFSET(Cumulative,,2)>(ROW()-ROW($O$20)),_xlfn.AGGREGATE(15,6,(ROW(OrderRange_Ref)-ROW($L$19))/(OFFSET(OrderRange_Ref,,2)>0),ROWS($L$20:$L109)-OFFSET(Cumulative,,1)),IF(OFFSET(Cumulative,,3)>(ROW()-ROW($O$20)),_xlfn.AGGREGATE(15,6,(ROW(OrderRange_Ref)-ROW($L$19))/(OFFSET(OrderRange_Ref,,3)>0),ROWS($L$20:$L109)-OFFSET(Cumulative,,2)),IF(OFFSET(Cumulative,,4)>(ROW()-ROW($O$20)),_xlfn.AGGREGATE(15,6,(ROW(OrderRange_Ref)-ROW($L$19))/(OFFSET(OrderRange_Ref,,4)>0),ROWS($L$20:$L109)-OFFSET(Cumulative,,3)),IF(OFFSET(Cumulative,,5)>(ROW()-ROW($O$20)),_xlfn.AGGREGATE(15,6,(ROW(OrderRange_Ref)-ROW($L$19))/(OFFSET(OrderRange_Ref,,5)>0),ROWS($L$20:$L109)-OFFSET(Cumulative,,4)),\"\"))))))","v":""},"","","","",""]
[null,null,null,null,null,null,null,null,null,null,null,null,null,{"$f":"IF(Cumulative>(ROW()-ROW($O$20)),_xlfn.AGGREGATE(15,6,(ROW(OrderRange_Ref)-ROW($L$19))/(OFFSET(OrderRange_Ref,,0)>0),ROWS($L$20:$L110)),IF(OFFSET(Cumulative,,1)>(ROW()-ROW($O$20)),_xlfn.AGGREGATE(15,6,(ROW(OrderRange_Ref)-ROW($L$19))/(OFFSET(OrderRange_Ref,,1)>0),ROWS($L$20:$L110)-OFFSET(Cumulative,,0)),IF(OFFSET(Cumulative,,2)>(ROW()-ROW($O$20)),_xlfn.AGGREGATE(15,6,(ROW(OrderRange_Ref)-ROW($L$19))/(OFFSET(OrderRange_Ref,,2)>0),ROWS($L$20:$L110)-OFFSET(Cumulative,,1)),IF(OFFSET(Cumulative,,3)>(ROW()-ROW($O$20)),_xlfn.AGGREGATE(15,6,(ROW(OrderRange_Ref)-ROW($L$19))/(OFFSET(OrderRange_Ref,,3)>0),ROWS($L$20:$L110)-OFFSET(Cumulative,,2)),IF(OFFSET(Cumulative,,4)>(ROW()-ROW($O$20)),_xlfn.AGGREGATE(15,6,(ROW(OrderRange_Ref)-ROW($L$19))/(OFFSET(OrderRange_Ref,,4)>0),ROWS($L$20:$L110)-OFFSET(Cumulative,,3)),IF(OFFSET(Cumulative,,5)>(ROW()-ROW($O$20)),_xlfn.AGGREGATE(15,6,(ROW(OrderRange_Ref)-ROW($L$19))/(OFFSET(OrderRange_Ref,,5)>0),ROWS($L$20:$L110)-OFFSET(Cumulative,,4)),\"\"))))))","v":""},"","","","",""]
[null,null,null,null,null,null,null,null,null,null,null,null,null,{"$f":"IF(Cumulative>(ROW()-ROW($O$20)),_xlfn.AGGREGATE(15,6,(ROW(OrderRange_Ref)-ROW($L$19))/(OFFSET(OrderRange_Ref,,0)>0),ROWS($L$20:$L111)),IF(OFFSET(Cumulative,,1)>(ROW()-ROW($O$20)),_xlfn.AGGREGATE(15,6,(ROW(OrderRange_Ref)-ROW($L$19))/(OFFSET(OrderRange_Ref,,1)>0),ROWS($L$20:$L111)-OFFSET(Cumulative,,0)),IF(OFFSET(Cumulative,,2)>(ROW()-ROW($O$20)),_xlfn.AGGREGATE(15,6,(ROW(OrderRange_Ref)-ROW($L$19))/(OFFSET(OrderRange_Ref,,2)>0),ROWS($L$20:$L111)-OFFSET(Cumulative,,1)),IF(OFFSET(Cumulative,,3)>(ROW()-ROW($O$20)),_xlfn.AGGREGATE(15,6,(ROW(OrderRange_Ref)-ROW($L$19))/(OFFSET(OrderRange_Ref,,3)>0),ROWS($L$20:$L111)-OFFSET(Cumulative,,2)),IF(OFFSET(Cumulative,,4)>(ROW()-ROW($O$20)),_xlfn.AGGREGATE(15,6,(ROW(OrderRange_Ref)-ROW($L$19))/(OFFSET(OrderRange_Ref,,4)>0),ROWS($L$20:$L111)-OFFSET(Cumulative,,3)),IF(OFFSET(Cumulative,,5)>(ROW()-ROW($O$20)),_xlfn.AGGREGATE(15,6,(ROW(OrderRange_Ref)-ROW($L$19))/(OFFSET(OrderRange_Ref,,5)>0),ROWS($L$20:$L111)-OFFSET(Cumulative,,4)),\"\"))))))","v":""},"","","","",""]
[null,null,null,null,null,null,null,null,null,null,null,null,null,{"$f":"IF(Cumulative>(ROW()-ROW($O$20)),_xlfn.AGGREGATE(15,6,(ROW(OrderRange_Ref)-ROW($L$19))/(OFFSET(OrderRange_Ref,,0)>0),ROWS($L$20:$L112)),IF(OFFSET(Cumulative,,1)>(ROW()-ROW($O$20)),_xlfn.AGGREGATE(15,6,(ROW(OrderRange_Ref)-ROW($L$19))/(OFFSET(OrderRange_Ref,,1)>0),ROWS($L$20:$L112)-OFFSET(Cumulative,,0)),IF(OFFSET(Cumulative,,2)>(ROW()-ROW($O$20)),_xlfn.AGGREGATE(15,6,(ROW(OrderRange_Ref)-ROW($L$19))/(OFFSET(OrderRange_Ref,,2)>0),ROWS($L$20:$L112)-OFFSET(Cumulative,,1)),IF(OFFSET(Cumulative,,3)>(ROW()-ROW($O$20)),_xlfn.AGGREGATE(15,6,(ROW(OrderRange_Ref)-ROW($L$19))/(OFFSET(OrderRange_Ref,,3)>0),ROWS($L$20:$L112)-OFFSET(Cumulative,,2)),IF(OFFSET(Cumulative,,4)>(ROW()-ROW($O$20)),_xlfn.AGGREGATE(15,6,(ROW(OrderRange_Ref)-ROW($L$19))/(OFFSET(OrderRange_Ref,,4)>0),ROWS($L$20:$L112)-OFFSET(Cumulative,,3)),IF(OFFSET(Cumulative,,5)>(ROW()-ROW($O$20)),_xlfn.AGGREGATE(15,6,(ROW(OrderRange_Ref)-ROW($L$19))/(OFFSET(OrderRange_Ref,,5)>0),ROWS($L$20:$L112)-OFFSET(Cumulative,,4)),\"\"))))))","v":""},"","","","",""]
[null,null,null,null,null,null,null,null,null,null,null,null,null,{"$f":"IF(Cumulative>(ROW()-ROW($O$20)),_xlfn.AGGREGATE(15,6,(ROW(OrderRange_Ref)-ROW($L$19))/(OFFSET(OrderRange_Ref,,0)>0),ROWS($L$20:$L113)),IF(OFFSET(Cumulative,,1)>(ROW()-ROW($O$20)),_xlfn.AGGREGATE(15,6,(ROW(OrderRange_Ref)-ROW($L$19))/(OFFSET(OrderRange_Ref,,1)>0),ROWS($L$20:$L113)-OFFSET(Cumulative,,0)),IF(OFFSET(Cumulative,,2)>(ROW()-ROW($O$20)),_xlfn.AGGREGATE(15,6,(ROW(OrderRange_Ref)-ROW($L$19))/(OFFSET(OrderRange_Ref,,2)>0),ROWS($L$20:$L113)-OFFSET(Cumulative,,1)),IF(OFFSET(Cumulative,,3)>(ROW()-ROW($O$20)),_xlfn.AGGREGATE(15,6,(ROW(OrderRange_Ref)-ROW($L$19))/(OFFSET(OrderRange_Ref,,3)>0),ROWS($L$20:$L113)-OFFSET(Cumulative,,2)),IF(OFFSET(Cumulative,,4)>(ROW()-ROW($O$20)),_xlfn.AGGREGATE(15,6,(ROW(OrderRange_Ref)-ROW($L$19))/(OFFSET(OrderRange_Ref,,4)>0),ROWS($L$20:$L113)-OFFSET(Cumulative,,3)),IF(OFFSET(Cumulative,,5)>(ROW()-ROW($O$20)),_xlfn.AGGREGATE(15,6,(ROW(OrderRange_Ref)-ROW($L$19))/(OFFSET(OrderRange_Ref,,5)>0),ROWS($L$20:$L113)-OFFSET(Cumulative,,4)),\"\"))))))","v":""},"","","","",""]
[null,null,null,null,null,null,null,null,null,null,null,null,null,{"$f":"IF(Cumulative>(ROW()-ROW($O$20)),_xlfn.AGGREGATE(15,6,(ROW(OrderRange_Ref)-ROW($L$19))/(OFFSET(OrderRange_Ref,,0)>0),ROWS($L$20:$L114)),IF(OFFSET(Cumulative,,1)>(ROW()-ROW($O$20)),_xlfn.AGGREGATE(15,6,(ROW(OrderRange_Ref)-ROW($L$19))/(OFFSET(OrderRange_Ref,,1)>0),ROWS($L$20:$L114)-OFFSET(Cumulative,,0)),IF(OFFSET(Cumulative,,2)>(ROW()-ROW($O$20)),_xlfn.AGGREGATE(15,6,(ROW(OrderRange_Ref)-ROW($L$19))/(OFFSET(OrderRange_Ref,,2)>0),ROWS($L$20:$L114)-OFFSET(Cumulative,,1)),IF(OFFSET(Cumulative,,3)>(ROW()-ROW($O$20)),_xlfn.AGGREGATE(15,6,(ROW(OrderRange_Ref)-ROW($L$19))/(OFFSET(OrderRange_Ref,,3)>0),ROWS($L$20:$L114)-OFFSET(Cumulative,,2)),IF(OFFSET(Cumulative,,4)>(ROW()-ROW($O$20)),_xlfn.AGGREGATE(15,6,(ROW(OrderRange_Ref)-ROW($L$19))/(OFFSET(OrderRange_Ref,,4)>0),ROWS($L$20:$L114)-OFFSET(Cumulative,,3)),IF(OFFSET(Cumulative,,5)>(ROW()-ROW($O$20)),_xlfn.AGGREGATE(15,6,(ROW(OrderRange_Ref)-ROW($L$19))/(OFFSET(OrderRange_Ref,,5)>0),ROWS($L$20:$L114)-OFFSET(Cumulative,,4)),\"\"))))))","v":""},"","","","",""]
[null,null,null,null,null,null,null,null,null,null,null,null,null,{"$f":"IF(Cumulative>(ROW()-ROW($O$20)),_xlfn.AGGREGATE(15,6,(ROW(OrderRange_Ref)-ROW($L$19))/(OFFSET(OrderRange_Ref,,0)>0),ROWS($L$20:$L115)),IF(OFFSET(Cumulative,,1)>(ROW()-ROW($O$20)),_xlfn.AGGREGATE(15,6,(ROW(OrderRange_Ref)-ROW($L$19))/(OFFSET(OrderRange_Ref,,1)>0),ROWS($L$20:$L115)-OFFSET(Cumulative,,0)),IF(OFFSET(Cumulative,,2)>(ROW()-ROW($O$20)),_xlfn.AGGREGATE(15,6,(ROW(OrderRange_Ref)-ROW($L$19))/(OFFSET(OrderRange_Ref,,2)>0),ROWS($L$20:$L115)-OFFSET(Cumulative,,1)),IF(OFFSET(Cumulative,,3)>(ROW()-ROW($O$20)),_xlfn.AGGREGATE(15,6,(ROW(OrderRange_Ref)-ROW($L$19))/(OFFSET(OrderRange_Ref,,3)>0),ROWS($L$20:$L115)-OFFSET(Cumulative,,2)),IF(OFFSET(Cumulative,,4)>(ROW()-ROW($O$20)),_xlfn.AGGREGATE(15,6,(ROW(OrderRange_Ref)-ROW($L$19))/(OFFSET(OrderRange_Ref,,4)>0),ROWS($L$20:$L115)-OFFSET(Cumulative,,3)),IF(OFFSET(Cumulative,,5)>(ROW()-ROW($O$20)),_xlfn.AGGREGATE(15,6,(ROW(OrderRange_Ref)-ROW($L$19))/(OFFSET(OrderRange_Ref,,5)>0),ROWS($L$20:$L115)-OFFSET(Cumulative,,4)),\"\"))))))","v":""},"","","","",""]
[null,null,null,null,null,null,null,null,null,null,null,null,null,{"$f":"IF(Cumulative>(ROW()-ROW($O$20)),_xlfn.AGGREGATE(15,6,(ROW(OrderRange_Ref)-ROW($L$19))/(OFFSET(OrderRange_Ref,,0)>0),ROWS($L$20:$L116)),IF(OFFSET(Cumulative,,1)>(ROW()-ROW($O$20)),_xlfn.AGGREGATE(15,6,(ROW(OrderRange_Ref)-ROW($L$19))/(OFFSET(OrderRange_Ref,,1)>0),ROWS($L$20:$L116)-OFFSET(Cumulative,,0)),IF(OFFSET(Cumulative,,2)>(ROW()-ROW($O$20)),_xlfn.AGGREGATE(15,6,(ROW(OrderRange_Ref)-ROW($L$19))/(OFFSET(OrderRange_Ref,,2)>0),ROWS($L$20:$L116)-OFFSET(Cumulative,,1)),IF(OFFSET(Cumulative,,3)>(ROW()-ROW($O$20)),_xlfn.AGGREGATE(15,6,(ROW(OrderRange_Ref)-ROW($L$19))/(OFFSET(OrderRange_Ref,,3)>0),ROWS($L$20:$L116)-OFFSET(Cumulative,,2)),IF(OFFSET(Cumulative,,4)>(ROW()-ROW($O$20)),_xlfn.AGGREGATE(15,6,(ROW(OrderRange_Ref)-ROW($L$19))/(OFFSET(OrderRange_Ref,,4)>0),ROWS($L$20:$L116)-OFFSET(Cumulative,,3)),IF(OFFSET(Cumulative,,5)>(ROW()-ROW($O$20)),_xlfn.AGGREGATE(15,6,(ROW(OrderRange_Ref)-ROW($L$19))/(OFFSET(OrderRange_Ref,,5)>0),ROWS($L$20:$L116)-OFFSET(Cumulative,,4)),\"\"))))))","v":""},"","","","",""]
[null,null,null,null,null,null,null,null,null,null,null,null,null,{"$f":"IF(Cumulative>(ROW()-ROW($O$20)),_xlfn.AGGREGATE(15,6,(ROW(OrderRange_Ref)-ROW($L$19))/(OFFSET(OrderRange_Ref,,0)>0),ROWS($L$20:$L117)),IF(OFFSET(Cumulative,,1)>(ROW()-ROW($O$20)),_xlfn.AGGREGATE(15,6,(ROW(OrderRange_Ref)-ROW($L$19))/(OFFSET(OrderRange_Ref,,1)>0),ROWS($L$20:$L117)-OFFSET(Cumulative,,0)),IF(OFFSET(Cumulative,,2)>(ROW()-ROW($O$20)),_xlfn.AGGREGATE(15,6,(ROW(OrderRange_Ref)-ROW($L$19))/(OFFSET(OrderRange_Ref,,2)>0),ROWS($L$20:$L117)-OFFSET(Cumulative,,1)),IF(OFFSET(Cumulative,,3)>(ROW()-ROW($O$20)),_xlfn.AGGREGATE(15,6,(ROW(OrderRange_Ref)-ROW($L$19))/(OFFSET(OrderRange_Ref,,3)>0),ROWS($L$20:$L117)-OFFSET(Cumulative,,2)),IF(OFFSET(Cumulative,,4)>(ROW()-ROW($O$20)),_xlfn.AGGREGATE(15,6,(ROW(OrderRange_Ref)-ROW($L$19))/(OFFSET(OrderRange_Ref,,4)>0),ROWS($L$20:$L117)-OFFSET(Cumulative,,3)),IF(OFFSET(Cumulative,,5)>(ROW()-ROW($O$20)),_xlfn.AGGREGATE(15,6,(ROW(OrderRange_Ref)-ROW($L$19))/(OFFSET(OrderRange_Ref,,5)>0),ROWS($L$20:$L117)-OFFSET(Cumulative,,4)),\"\"))))))","v":""},"","","","",""]
[null,null,null,null,null,null,null,null,null,null,null,null,null,{"$f":"IF(Cumulative>(ROW()-ROW($O$20)),_xlfn.AGGREGATE(15,6,(ROW(OrderRange_Ref)-ROW($L$19))/(OFFSET(OrderRange_Ref,,0)>0),ROWS($L$20:$L118)),IF(OFFSET(Cumulative,,1)>(ROW()-ROW($O$20)),_xlfn.AGGREGATE(15,6,(ROW(OrderRange_Ref)-ROW($L$19))/(OFFSET(OrderRange_Ref,,1)>0),ROWS($L$20:$L118)-OFFSET(Cumulative,,0)),IF(OFFSET(Cumulative,,2)>(ROW()-ROW($O$20)),_xlfn.AGGREGATE(15,6,(ROW(OrderRange_Ref)-ROW($L$19))/(OFFSET(OrderRange_Ref,,2)>0),ROWS($L$20:$L118)-OFFSET(Cumulative,,1)),IF(OFFSET(Cumulative,,3)>(ROW()-ROW($O$20)),_xlfn.AGGREGATE(15,6,(ROW(OrderRange_Ref)-ROW($L$19))/(OFFSET(OrderRange_Ref,,3)>0),ROWS($L$20:$L118)-OFFSET(Cumulative,,2)),IF(OFFSET(Cumulative,,4)>(ROW()-ROW($O$20)),_xlfn.AGGREGATE(15,6,(ROW(OrderRange_Ref)-ROW($L$19))/(OFFSET(OrderRange_Ref,,4)>0),ROWS($L$20:$L118)-OFFSET(Cumulative,,3)),IF(OFFSET(Cumulative,,5)>(ROW()-ROW($O$20)),_xlfn.AGGREGATE(15,6,(ROW(OrderRange_Ref)-ROW($L$19))/(OFFSET(OrderRange_Ref,,5)>0),ROWS($L$20:$L118)-OFFSET(Cumulative,,4)),\"\"))))))","v":""},"","","","",""]
[null,null,null,null,null,null,null,null,null,null,null,null,null,{"$f":"IF(Cumulative>(ROW()-ROW($O$20)),_xlfn.AGGREGATE(15,6,(ROW(OrderRange_Ref)-ROW($L$19))/(OFFSET(OrderRange_Ref,,0)>0),ROWS($L$20:$L119)),IF(OFFSET(Cumulative,,1)>(ROW()-ROW($O$20)),_xlfn.AGGREGATE(15,6,(ROW(OrderRange_Ref)-ROW($L$19))/(OFFSET(OrderRange_Ref,,1)>0),ROWS($L$20:$L119)-OFFSET(Cumulative,,0)),IF(OFFSET(Cumulative,,2)>(ROW()-ROW($O$20)),_xlfn.AGGREGATE(15,6,(ROW(OrderRange_Ref)-ROW($L$19))/(OFFSET(OrderRange_Ref,,2)>0),ROWS($L$20:$L119)-OFFSET(Cumulative,,1)),IF(OFFSET(Cumulative,,3)>(ROW()-ROW($O$20)),_xlfn.AGGREGATE(15,6,(ROW(OrderRange_Ref)-ROW($L$19))/(OFFSET(OrderRange_Ref,,3)>0),ROWS($L$20:$L119)-OFFSET(Cumulative,,2)),IF(OFFSET(Cumulative,,4)>(ROW()-ROW($O$20)),_xlfn.AGGREGATE(15,6,(ROW(OrderRange_Ref)-ROW($L$19))/(OFFSET(OrderRange_Ref,,4)>0),ROWS($L$20:$L119)-OFFSET(Cumulative,,3)),IF(OFFSET(Cumulative,,5)>(ROW()-ROW($O$20)),_xlfn.AGGREGATE(15,6,(ROW(OrderRange_Ref)-ROW($L$19))/(OFFSET(OrderRange_Ref,,5)>0),ROWS($L$20:$L119)-OFFSET(Cumulative,,4)),\"\"))))))","v":""},"","","","",""]
[null,null,null,null,null,null,null,null,null,null,null,null,null,{"$f":"IF(Cumulative>(ROW()-ROW($O$20)),_xlfn.AGGREGATE(15,6,(ROW(OrderRange_Ref)-ROW($L$19))/(OFFSET(OrderRange_Ref,,0)>0),ROWS($L$20:$L120)),IF(OFFSET(Cumulative,,1)>(ROW()-ROW($O$20)),_xlfn.AGGREGATE(15,6,(ROW(OrderRange_Ref)-ROW($L$19))/(OFFSET(OrderRange_Ref,,1)>0),ROWS($L$20:$L120)-OFFSET(Cumulative,,0)),IF(OFFSET(Cumulative,,2)>(ROW()-ROW($O$20)),_xlfn.AGGREGATE(15,6,(ROW(OrderRange_Ref)-ROW($L$19))/(OFFSET(OrderRange_Ref,,2)>0),ROWS($L$20:$L120)-OFFSET(Cumulative,,1)),IF(OFFSET(Cumulative,,3)>(ROW()-ROW($O$20)),_xlfn.AGGREGATE(15,6,(ROW(OrderRange_Ref)-ROW($L$19))/(OFFSET(OrderRange_Ref,,3)>0),ROWS($L$20:$L120)-OFFSET(Cumulative,,2)),IF(OFFSET(Cumulative,,4)>(ROW()-ROW($O$20)),_xlfn.AGGREGATE(15,6,(ROW(OrderRange_Ref)-ROW($L$19))/(OFFSET(OrderRange_Ref,,4)>0),ROWS($L$20:$L120)-OFFSET(Cumulative,,3)),IF(OFFSET(Cumulative,,5)>(ROW()-ROW($O$20)),_xlfn.AGGREGATE(15,6,(ROW(OrderRange_Ref)-ROW($L$19))/(OFFSET(OrderRange_Ref,,5)>0),ROWS($L$20:$L120)-OFFSET(Cumulative,,4)),\"\"))))))","v":""},"","","","",""]
[null,null,null,null,null,null,null,null,null,null,null,null,null,{"$f":"IF(Cumulative>(ROW()-ROW($O$20)),_xlfn.AGGREGATE(15,6,(ROW(OrderRange_Ref)-ROW($L$19))/(OFFSET(OrderRange_Ref,,0)>0),ROWS($L$20:$L121)),IF(OFFSET(Cumulative,,1)>(ROW()-ROW($O$20)),_xlfn.AGGREGATE(15,6,(ROW(OrderRange_Ref)-ROW($L$19))/(OFFSET(OrderRange_Ref,,1)>0),ROWS($L$20:$L121)-OFFSET(Cumulative,,0)),IF(OFFSET(Cumulative,,2)>(ROW()-ROW($O$20)),_xlfn.AGGREGATE(15,6,(ROW(OrderRange_Ref)-ROW($L$19))/(OFFSET(OrderRange_Ref,,2)>0),ROWS($L$20:$L121)-OFFSET(Cumulative,,1)),IF(OFFSET(Cumulative,,3)>(ROW()-ROW($O$20)),_xlfn.AGGREGATE(15,6,(ROW(OrderRange_Ref)-ROW($L$19))/(OFFSET(OrderRange_Ref,,3)>0),ROWS($L$20:$L121)-OFFSET(Cumulative,,2)),IF(OFFSET(Cumulative,,4)>(ROW()-ROW($O$20)),_xlfn.AGGREGATE(15,6,(ROW(OrderRange_Ref)-ROW($L$19))/(OFFSET(OrderRange_Ref,,4)>0),ROWS($L$20:$L121)-OFFSET(Cumulative,,3)),IF(OFFSET(Cumulative,,5)>(ROW()-ROW($O$20)),_xlfn.AGGREGATE(15,6,(ROW(OrderRange_Ref)-ROW($L$19))/(OFFSET(OrderRange_Ref,,5)>0),ROWS($L$20:$L121)-OFFSET(Cumulative,,4)),\"\"))))))","v":""},"","","","",""]
[null,null,null,null,null,null,null,null,null,null,null,null,null,{"$f":"IF(Cumulative>(ROW()-ROW($O$20)),_xlfn.AGGREGATE(15,6,(ROW(OrderRange_Ref)-ROW($L$19))/(OFFSET(OrderRange_Ref,,0)>0),ROWS($L$20:$L122)),IF(OFFSET(Cumulative,,1)>(ROW()-ROW($O$20)),_xlfn.AGGREGATE(15,6,(ROW(OrderRange_Ref)-ROW($L$19))/(OFFSET(OrderRange_Ref,,1)>0),ROWS($L$20:$L122)-OFFSET(Cumulative,,0)),IF(OFFSET(Cumulative,,2)>(ROW()-ROW($O$20)),_xlfn.AGGREGATE(15,6,(ROW(OrderRange_Ref)-ROW($L$19))/(OFFSET(OrderRange_Ref,,2)>0),ROWS($L$20:$L122)-OFFSET(Cumulative,,1)),IF(OFFSET(Cumulative,,3)>(ROW()-ROW($O$20)),_xlfn.AGGREGATE(15,6,(ROW(OrderRange_Ref)-ROW($L$19))/(OFFSET(OrderRange_Ref,,3)>0),ROWS($L$20:$L122)-OFFSET(Cumulative,,2)),IF(OFFSET(Cumulative,,4)>(ROW()-ROW($O$20)),_xlfn.AGGREGATE(15,6,(ROW(OrderRange_Ref)-ROW($L$19))/(OFFSET(OrderRange_Ref,,4)>0),ROWS($L$20:$L122)-OFFSET(Cumulative,,3)),IF(OFFSET(Cumulative,,5)>(ROW()-ROW($O$20)),_xlfn.AGGREGATE(15,6,(ROW(OrderRange_Ref)-ROW($L$19))/(OFFSET(OrderRange_Ref,,5)>0),ROWS($L$20:$L122)-OFFSET(Cumulative,,4)),\"\"))))))","v":""},"","","","",""]
[null,null,null,null,null,null,null,null,null,null,null,null,null,{"$f":"IF(Cumulative>(ROW()-ROW($O$20)),_xlfn.AGGREGATE(15,6,(ROW(OrderRange_Ref)-ROW($L$19))/(OFFSET(OrderRange_Ref,,0)>0),ROWS($L$20:$L123)),IF(OFFSET(Cumulative,,1)>(ROW()-ROW($O$20)),_xlfn.AGGREGATE(15,6,(ROW(OrderRange_Ref)-ROW($L$19))/(OFFSET(OrderRange_Ref,,1)>0),ROWS($L$20:$L123)-OFFSET(Cumulative,,0)),IF(OFFSET(Cumulative,,2)>(ROW()-ROW($O$20)),_xlfn.AGGREGATE(15,6,(ROW(OrderRange_Ref)-ROW($L$19))/(OFFSET(OrderRange_Ref,,2)>0),ROWS($L$20:$L123)-OFFSET(Cumulative,,1)),IF(OFFSET(Cumulative,,3)>(ROW()-ROW($O$20)),_xlfn.AGGREGATE(15,6,(ROW(OrderRange_Ref)-ROW($L$19))/(OFFSET(OrderRange_Ref,,3)>0),ROWS($L$20:$L123)-OFFSET(Cumulative,,2)),IF(OFFSET(Cumulative,,4)>(ROW()-ROW($O$20)),_xlfn.AGGREGATE(15,6,(ROW(OrderRange_Ref)-ROW($L$19))/(OFFSET(OrderRange_Ref,,4)>0),ROWS($L$20:$L123)-OFFSET(Cumulative,,3)),IF(OFFSET(Cumulative,,5)>(ROW()-ROW($O$20)),_xlfn.AGGREGATE(15,6,(ROW(OrderRange_Ref)-ROW($L$19))/(OFFSET(OrderRange_Ref,,5)>0),ROWS($L$20:$L123)-OFFSET(Cumulative,,4)),\"\"))))))","v":""},"","","","",""]
[null,null,null,null,null,null,null,null,null,null,null,null,null,{"$f":"IF(Cumulative>(ROW()-ROW($O$20)),_xlfn.AGGREGATE(15,6,(ROW(OrderRange_Ref)-ROW($L$19))/(OFFSET(OrderRange_Ref,,0)>0),ROWS($L$20:$L124)),IF(OFFSET(Cumulative,,1)>(ROW()-ROW($O$20)),_xlfn.AGGREGATE(15,6,(ROW(OrderRange_Ref)-ROW($L$19))/(OFFSET(OrderRange_Ref,,1)>0),ROWS($L$20:$L124)-OFFSET(Cumulative,,0)),IF(OFFSET(Cumulative,,2)>(ROW()-ROW($O$20)),_xlfn.AGGREGATE(15,6,(ROW(OrderRange_Ref)-ROW($L$19))/(OFFSET(OrderRange_Ref,,2)>0),ROWS($L$20:$L124)-OFFSET(Cumulative,,1)),IF(OFFSET(Cumulative,,3)>(ROW()-ROW($O$20)),_xlfn.AGGREGATE(15,6,(ROW(OrderRange_Ref)-ROW($L$19))/(OFFSET(OrderRange_Ref,,3)>0),ROWS($L$20:$L124)-OFFSET(Cumulative,,2)),IF(OFFSET(Cumulative,,4)>(ROW()-ROW($O$20)),_xlfn.AGGREGATE(15,6,(ROW(OrderRange_Ref)-ROW($L$19))/(OFFSET(OrderRange_Ref,,4)>0),ROWS($L$20:$L124)-OFFSET(Cumulative,,3)),IF(OFFSET(Cumulative,,5)>(ROW()-ROW($O$20)),_xlfn.AGGREGATE(15,6,(ROW(OrderRange_Ref)-ROW($L$19))/(OFFSET(OrderRange_Ref,,5)>0),ROWS($L$20:$L124)-OFFSET(Cumulative,,4)),\"\"))))))","v":""},"","","","",""]
[null,null,null,null,null,null,null,null,null,null,null,null,null,{"$f":"IF(Cumulative>(ROW()-ROW($O$20)),_xlfn.AGGREGATE(15,6,(ROW(OrderRange_Ref)-ROW($L$19))/(OFFSET(OrderRange_Ref,,0)>0),ROWS($L$20:$L125)),IF(OFFSET(Cumulative,,1)>(ROW()-ROW($O$20)),_xlfn.AGGREGATE(15,6,(ROW(OrderRange_Ref)-ROW($L$19))/(OFFSET(OrderRange_Ref,,1)>0),ROWS($L$20:$L125)-OFFSET(Cumulative,,0)),IF(OFFSET(Cumulative,,2)>(ROW()-ROW($O$20)),_xlfn.AGGREGATE(15,6,(ROW(OrderRange_Ref)-ROW($L$19))/(OFFSET(OrderRange_Ref,,2)>0),ROWS($L$20:$L125)-OFFSET(Cumulative,,1)),IF(OFFSET(Cumulative,,3)>(ROW()-ROW($O$20)),_xlfn.AGGREGATE(15,6,(ROW(OrderRange_Ref)-ROW($L$19))/(OFFSET(OrderRange_Ref,,3)>0),ROWS($L$20:$L125)-OFFSET(Cumulative,,2)),IF(OFFSET(Cumulative,,4)>(ROW()-ROW($O$20)),_xlfn.AGGREGATE(15,6,(ROW(OrderRange_Ref)-ROW($L$19))/(OFFSET(OrderRange_Ref,,4)>0),ROWS($L$20:$L125)-OFFSET(Cumulative,,3)),IF(OFFSET(Cumulative,,5)>(ROW()-ROW($O$20)),_xlfn.AGGREGATE(15,6,(ROW(OrderRange_Ref)-ROW($L$19))/(OFFSET(OrderRange_Ref,,5)>0),ROWS($L$20:$L125)-OFFSET(Cumulative,,4)),\"\"))))))","v":""},"","","","",""]
[null,null,null,null,null,null,null,null,null,null,null,null,null,{"$f":"IF(Cumulative>(ROW()-ROW($O$20)),_xlfn.AGGREGATE(15,6,(ROW(OrderRange_Ref)-ROW($L$19))/(OFFSET(OrderRange_Ref,,0)>0),ROWS($L$20:$L126)),IF(OFFSET(Cumulative,,1)>(ROW()-ROW($O$20)),_xlfn.AGGREGATE(15,6,(ROW(OrderRange_Ref)-ROW($L$19))/(OFFSET(OrderRange_Ref,,1)>0),ROWS($L$20:$L126)-OFFSET(Cumulative,,0)),IF(OFFSET(Cumulative,,2)>(ROW()-ROW($O$20)),_xlfn.AGGREGATE(15,6,(ROW(OrderRange_Ref)-ROW($L$19))/(OFFSET(OrderRange_Ref,,2)>0),ROWS($L$20:$L126)-OFFSET(Cumulative,,1)),IF(OFFSET(Cumulative,,3)>(ROW()-ROW($O$20)),_xlfn.AGGREGATE(15,6,(ROW(OrderRange_Ref)-ROW($L$19))/(OFFSET(OrderRange_Ref,,3)>0),ROWS($L$20:$L126)-OFFSET(Cumulative,,2)),IF(OFFSET(Cumulative,,4)>(ROW()-ROW($O$20)),_xlfn.AGGREGATE(15,6,(ROW(OrderRange_Ref)-ROW($L$19))/(OFFSET(OrderRange_Ref,,4)>0),ROWS($L$20:$L126)-OFFSET(Cumulative,,3)),IF(OFFSET(Cumulative,,5)>(ROW()-ROW($O$20)),_xlfn.AGGREGATE(15,6,(ROW(OrderRange_Ref)-ROW($L$19))/(OFFSET(OrderRange_Ref,,5)>0),ROWS($L$20:$L126)-OFFSET(Cumulative,,4)),\"\"))))))","v":""},"","","","",""]
[null,null,null,null,null,null,null,null,null,null,null,null,null,{"$f":"IF(Cumulative>(ROW()-ROW($O$20)),_xlfn.AGGREGATE(15,6,(ROW(OrderRange_Ref)-ROW($L$19))/(OFFSET(OrderRange_Ref,,0)>0),ROWS($L$20:$L127)),IF(OFFSET(Cumulative,,1)>(ROW()-ROW($O$20)),_xlfn.AGGREGATE(15,6,(ROW(OrderRange_Ref)-ROW($L$19))/(OFFSET(OrderRange_Ref,,1)>0),ROWS($L$20:$L127)-OFFSET(Cumulative,,0)),IF(OFFSET(Cumulative,,2)>(ROW()-ROW($O$20)),_xlfn.AGGREGATE(15,6,(ROW(OrderRange_Ref)-ROW($L$19))/(OFFSET(OrderRange_Ref,,2)>0),ROWS($L$20:$L127)-OFFSET(Cumulative,,1)),IF(OFFSET(Cumulative,,3)>(ROW()-ROW($O$20)),_xlfn.AGGREGATE(15,6,(ROW(OrderRange_Ref)-ROW($L$19))/(OFFSET(OrderRange_Ref,,3)>0),ROWS($L$20:$L127)-OFFSET(Cumulative,,2)),IF(OFFSET(Cumulative,,4)>(ROW()-ROW($O$20)),_xlfn.AGGREGATE(15,6,(ROW(OrderRange_Ref)-ROW($L$19))/(OFFSET(OrderRange_Ref,,4)>0),ROWS($L$20:$L127)-OFFSET(Cumulative,,3)),IF(OFFSET(Cumulative,,5)>(ROW()-ROW($O$20)),_xlfn.AGGREGATE(15,6,(ROW(OrderRange_Ref)-ROW($L$19))/(OFFSET(OrderRange_Ref,,5)>0),ROWS($L$20:$L127)-OFFSET(Cumulative,,4)),\"\"))))))","v":""},"","","","",""]
[null,null,null,null,null,null,null,null,null,null,null,null,null,{"$f":"IF(Cumulative>(ROW()-ROW($O$20)),_xlfn.AGGREGATE(15,6,(ROW(OrderRange_Ref)-ROW($L$19))/(OFFSET(OrderRange_Ref,,0)>0),ROWS($L$20:$L128)),IF(OFFSET(Cumulative,,1)>(ROW()-ROW($O$20)),_xlfn.AGGREGATE(15,6,(ROW(OrderRange_Ref)-ROW($L$19))/(OFFSET(OrderRange_Ref,,1)>0),ROWS($L$20:$L128)-OFFSET(Cumulative,,0)),IF(OFFSET(Cumulative,,2)>(ROW()-ROW($O$20)),_xlfn.AGGREGATE(15,6,(ROW(OrderRange_Ref)-ROW($L$19))/(OFFSET(OrderRange_Ref,,2)>0),ROWS($L$20:$L128)-OFFSET(Cumulative,,1)),IF(OFFSET(Cumulative,,3)>(ROW()-ROW($O$20)),_xlfn.AGGREGATE(15,6,(ROW(OrderRange_Ref)-ROW($L$19))/(OFFSET(OrderRange_Ref,,3)>0),ROWS($L$20:$L128)-OFFSET(Cumulative,,2)),IF(OFFSET(Cumulative,,4)>(ROW()-ROW($O$20)),_xlfn.AGGREGATE(15,6,(ROW(OrderRange_Ref)-ROW($L$19))/(OFFSET(OrderRange_Ref,,4)>0),ROWS($L$20:$L128)-OFFSET(Cumulative,,3)),IF(OFFSET(Cumulative,,5)>(ROW()-ROW($O$20)),_xlfn.AGGREGATE(15,6,(ROW(OrderRange_Ref)-ROW($L$19))/(OFFSET(OrderRange_Ref,,5)>0),ROWS($L$20:$L128)-OFFSET(Cumulative,,4)),\"\"))))))","v":""},"","","","",""]
[null,null,null,null,null,null,null,null,null,null,null,null,null,{"$f":"IF(Cumulative>(ROW()-ROW($O$20)),_xlfn.AGGREGATE(15,6,(ROW(OrderRange_Ref)-ROW($L$19))/(OFFSET(OrderRange_Ref,,0)>0),ROWS($L$20:$L129)),IF(OFFSET(Cumulative,,1)>(ROW()-ROW($O$20)),_xlfn.AGGREGATE(15,6,(ROW(OrderRange_Ref)-ROW($L$19))/(OFFSET(OrderRange_Ref,,1)>0),ROWS($L$20:$L129)-OFFSET(Cumulative,,0)),IF(OFFSET(Cumulative,,2)>(ROW()-ROW($O$20)),_xlfn.AGGREGATE(15,6,(ROW(OrderRange_Ref)-ROW($L$19))/(OFFSET(OrderRange_Ref,,2)>0),ROWS($L$20:$L129)-OFFSET(Cumulative,,1)),IF(OFFSET(Cumulative,,3)>(ROW()-ROW($O$20)),_xlfn.AGGREGATE(15,6,(ROW(OrderRange_Ref)-ROW($L$19))/(OFFSET(OrderRange_Ref,,3)>0),ROWS($L$20:$L129)-OFFSET(Cumulative,,2)),IF(OFFSET(Cumulative,,4)>(ROW()-ROW($O$20)),_xlfn.AGGREGATE(15,6,(ROW(OrderRange_Ref)-ROW($L$19))/(OFFSET(OrderRange_Ref,,4)>0),ROWS($L$20:$L129)-OFFSET(Cumulative,,3)),IF(OFFSET(Cumulative,,5)>(ROW()-ROW($O$20)),_xlfn.AGGREGATE(15,6,(ROW(OrderRange_Ref)-ROW($L$19))/(OFFSET(OrderRange_Ref,,5)>0),ROWS($L$20:$L129)-OFFSET(Cumulative,,4)),\"\"))))))","v":""},"","","","",""]
[null,null,null,null,null,null,null,null,null,null,null,null,null,{"$f":"IF(Cumulative>(ROW()-ROW($O$20)),_xlfn.AGGREGATE(15,6,(ROW(OrderRange_Ref)-ROW($L$19))/(OFFSET(OrderRange_Ref,,0)>0),ROWS($L$20:$L130)),IF(OFFSET(Cumulative,,1)>(ROW()-ROW($O$20)),_xlfn.AGGREGATE(15,6,(ROW(OrderRange_Ref)-ROW($L$19))/(OFFSET(OrderRange_Ref,,1)>0),ROWS($L$20:$L130)-OFFSET(Cumulative,,0)),IF(OFFSET(Cumulative,,2)>(ROW()-ROW($O$20)),_xlfn.AGGREGATE(15,6,(ROW(OrderRange_Ref)-ROW($L$19))/(OFFSET(OrderRange_Ref,,2)>0),ROWS($L$20:$L130)-OFFSET(Cumulative,,1)),IF(OFFSET(Cumulative,,3)>(ROW()-ROW($O$20)),_xlfn.AGGREGATE(15,6,(ROW(OrderRange_Ref)-ROW($L$19))/(OFFSET(OrderRange_Ref,,3)>0),ROWS($L$20:$L130)-OFFSET(Cumulative,,2)),IF(OFFSET(Cumulative,,4)>(ROW()-ROW($O$20)),_xlfn.AGGREGATE(15,6,(ROW(OrderRange_Ref)-ROW($L$19))/(OFFSET(OrderRange_Ref,,4)>0),ROWS($L$20:$L130)-OFFSET(Cumulative,,3)),IF(OFFSET(Cumulative,,5)>(ROW()-ROW($O$20)),_xlfn.AGGREGATE(15,6,(ROW(OrderRange_Ref)-ROW($L$19))/(OFFSET(OrderRange_Ref,,5)>0),ROWS($L$20:$L130)-OFFSET(Cumulative,,4)),\"\"))))))","v":""},"","","","",""]
[null,null,null,null,null,null,null,null,null,null,null,null,null,{"$f":"IF(Cumulative>(ROW()-ROW($O$20)),_xlfn.AGGREGATE(15,6,(ROW(OrderRange_Ref)-ROW($L$19))/(OFFSET(OrderRange_Ref,,0)>0),ROWS($L$20:$L131)),IF(OFFSET(Cumulative,,1)>(ROW()-ROW($O$20)),_xlfn.AGGREGATE(15,6,(ROW(OrderRange_Ref)-ROW($L$19))/(OFFSET(OrderRange_Ref,,1)>0),ROWS($L$20:$L131)-OFFSET(Cumulative,,0)),IF(OFFSET(Cumulative,,2)>(ROW()-ROW($O$20)),_xlfn.AGGREGATE(15,6,(ROW(OrderRange_Ref)-ROW($L$19))/(OFFSET(OrderRange_Ref,,2)>0),ROWS($L$20:$L131)-OFFSET(Cumulative,,1)),IF(OFFSET(Cumulative,,3)>(ROW()-ROW($O$20)),_xlfn.AGGREGATE(15,6,(ROW(OrderRange_Ref)-ROW($L$19))/(OFFSET(OrderRange_Ref,,3)>0),ROWS($L$20:$L131)-OFFSET(Cumulative,,2)),IF(OFFSET(Cumulative,,4)>(ROW()-ROW($O$20)),_xlfn.AGGREGATE(15,6,(ROW(OrderRange_Ref)-ROW($L$19))/(OFFSET(OrderRange_Ref,,4)>0),ROWS($L$20:$L131)-OFFSET(Cumulative,,3)),IF(OFFSET(Cumulative,,5)>(ROW()-ROW($O$20)),_xlfn.AGGREGATE(15,6,(ROW(OrderRange_Ref)-ROW($L$19))/(OFFSET(OrderRange_Ref,,5)>0),ROWS($L$20:$L131)-OFFSET(Cumulative,,4)),\"\"))))))","v":""},"","","","",""]
[null,null,null,null,null,null,null,null,null,null,null,null,null,{"$f":"IF(Cumulative>(ROW()-ROW($O$20)),_xlfn.AGGREGATE(15,6,(ROW(OrderRange_Ref)-ROW($L$19))/(OFFSET(OrderRange_Ref,,0)>0),ROWS($L$20:$L132)),IF(OFFSET(Cumulative,,1)>(ROW()-ROW($O$20)),_xlfn.AGGREGATE(15,6,(ROW(OrderRange_Ref)-ROW($L$19))/(OFFSET(OrderRange_Ref,,1)>0),ROWS($L$20:$L132)-OFFSET(Cumulative,,0)),IF(OFFSET(Cumulative,,2)>(ROW()-ROW($O$20)),_xlfn.AGGREGATE(15,6,(ROW(OrderRange_Ref)-ROW($L$19))/(OFFSET(OrderRange_Ref,,2)>0),ROWS($L$20:$L132)-OFFSET(Cumulative,,1)),IF(OFFSET(Cumulative,,3)>(ROW()-ROW($O$20)),_xlfn.AGGREGATE(15,6,(ROW(OrderRange_Ref)-ROW($L$19))/(OFFSET(OrderRange_Ref,,3)>0),ROWS($L$20:$L132)-OFFSET(Cumulative,,2)),IF(OFFSET(Cumulative,,4)>(ROW()-ROW($O$20)),_xlfn.AGGREGATE(15,6,(ROW(OrderRange_Ref)-ROW($L$19))/(OFFSET(OrderRange_Ref,,4)>0),ROWS($L$20:$L132)-OFFSET(Cumulative,,3)),IF(OFFSET(Cumulative,,5)>(ROW()-ROW($O$20)),_xlfn.AGGREGATE(15,6,(ROW(OrderRange_Ref)-ROW($L$19))/(OFFSET(OrderRange_Ref,,5)>0),ROWS($L$20:$L132)-OFFSET(Cumulative,,4)),\"\"))))))","v":""},"","","","",""]
[null,null,null,null,null,null,null,null,null,null,null,null,null,{"$f":"IF(Cumulative>(ROW()-ROW($O$20)),_xlfn.AGGREGATE(15,6,(ROW(OrderRange_Ref)-ROW($L$19))/(OFFSET(OrderRange_Ref,,0)>0),ROWS($L$20:$L133)),IF(OFFSET(Cumulative,,1)>(ROW()-ROW($O$20)),_xlfn.AGGREGATE(15,6,(ROW(OrderRange_Ref)-ROW($L$19))/(OFFSET(OrderRange_Ref,,1)>0),ROWS($L$20:$L133)-OFFSET(Cumulative,,0)),IF(OFFSET(Cumulative,,2)>(ROW()-ROW($O$20)),_xlfn.AGGREGATE(15,6,(ROW(OrderRange_Ref)-ROW($L$19))/(OFFSET(OrderRange_Ref,,2)>0),ROWS($L$20:$L133)-OFFSET(Cumulative,,1)),IF(OFFSET(Cumulative,,3)>(ROW()-ROW($O$20)),_xlfn.AGGREGATE(15,6,(ROW(OrderRange_Ref)-ROW($L$19))/(OFFSET(OrderRange_Ref,,3)>0),ROWS($L$20:$L133)-OFFSET(Cumulative,,2)),IF(OFFSET(Cumulative,,4)>(ROW()-ROW($O$20)),_xlfn.AGGREGATE(15,6,(ROW(OrderRange_Ref)-ROW($L$19))/(OFFSET(OrderRange_Ref,,4)>0),ROWS($L$20:$L133)-OFFSET(Cumulative,,3)),IF(OFFSET(Cumulative,,5)>(ROW()-ROW($O$20)),_xlfn.AGGREGATE(15,6,(ROW(OrderRange_Ref)-ROW($L$19))/(OFFSET(OrderRange_Ref,,5)>0),ROWS($L$20:$L133)-OFFSET(Cumulative,,4)),\"\"))))))","v":""},"","","","",""]
[null,null,null,null,null,null,null,null,null,null,null,null,null,{"$f":"IF(Cumulative>(ROW()-ROW($O$20)),_xlfn.AGGREGATE(15,6,(ROW(OrderRange_Ref)-ROW($L$19))/(OFFSET(OrderRange_Ref,,0)>0),ROWS($L$20:$L134)),IF(OFFSET(Cumulative,,1)>(ROW()-ROW($O$20)),_xlfn.AGGREGATE(15,6,(ROW(OrderRange_Ref)-ROW($L$19))/(OFFSET(OrderRange_Ref,,1)>0),ROWS($L$20:$L134)-OFFSET(Cumulative,,0)),IF(OFFSET(Cumulative,,2)>(ROW()-ROW($O$20)),_xlfn.AGGREGATE(15,6,(ROW(OrderRange_Ref)-ROW($L$19))/(OFFSET(OrderRange_Ref,,2)>0),ROWS($L$20:$L134)-OFFSET(Cumulative,,1)),IF(OFFSET(Cumulative,,3)>(ROW()-ROW($O$20)),_xlfn.AGGREGATE(15,6,(ROW(OrderRange_Ref)-ROW($L$19))/(OFFSET(OrderRange_Ref,,3)>0),ROWS($L$20:$L134)-OFFSET(Cumulative,,2)),IF(OFFSET(Cumulative,,4)>(ROW()-ROW($O$20)),_xlfn.AGGREGATE(15,6,(ROW(OrderRange_Ref)-ROW($L$19))/(OFFSET(OrderRange_Ref,,4)>0),ROWS($L$20:$L134)-OFFSET(Cumulative,,3)),IF(OFFSET(Cumulative,,5)>(ROW()-ROW($O$20)),_xlfn.AGGREGATE(15,6,(ROW(OrderRange_Ref)-ROW($L$19))/(OFFSET(OrderRange_Ref,,5)>0),ROWS($L$20:$L134)-OFFSET(Cumulative,,4)),\"\"))))))","v":""},"","","","",""]
[null,null,null,null,null,null,null,null,null,null,null,null,null,{"$f":"IF(Cumulative>(ROW()-ROW($O$20)),_xlfn.AGGREGATE(15,6,(ROW(OrderRange_Ref)-ROW($L$19))/(OFFSET(OrderRange_Ref,,0)>0),ROWS($L$20:$L135)),IF(OFFSET(Cumulative,,1)>(ROW()-ROW($O$20)),_xlfn.AGGREGATE(15,6,(ROW(OrderRange_Ref)-ROW($L$19))/(OFFSET(OrderRange_Ref,,1)>0),ROWS($L$20:$L135)-OFFSET(Cumulative,,0)),IF(OFFSET(Cumulative,,2)>(ROW()-ROW($O$20)),_xlfn.AGGREGATE(15,6,(ROW(OrderRange_Ref)-ROW($L$19))/(OFFSET(OrderRange_Ref,,2)>0),ROWS($L$20:$L135)-OFFSET(Cumulative,,1)),IF(OFFSET(Cumulative,,3)>(ROW()-ROW($O$20)),_xlfn.AGGREGATE(15,6,(ROW(OrderRange_Ref)-ROW($L$19))/(OFFSET(OrderRange_Ref,,3)>0),ROWS($L$20:$L135)-OFFSET(Cumulative,,2)),IF(OFFSET(Cumulative,,4)>(ROW()-ROW($O$20)),_xlfn.AGGREGATE(15,6,(ROW(OrderRange_Ref)-ROW($L$19))/(OFFSET(OrderRange_Ref,,4)>0),ROWS($L$20:$L135)-OFFSET(Cumulative,,3)),IF(OFFSET(Cumulative,,5)>(ROW()-ROW($O$20)),_xlfn.AGGREGATE(15,6,(ROW(OrderRange_Ref)-ROW($L$19))/(OFFSET(OrderRange_Ref,,5)>0),ROWS($L$20:$L135)-OFFSET(Cumulative,,4)),\"\"))))))","v":""},"","","","",""]
[null,null,null,null,null,null,null,null,null,null,null,null,null,{"$f":"IF(Cumulative>(ROW()-ROW($O$20)),_xlfn.AGGREGATE(15,6,(ROW(OrderRange_Ref)-ROW($L$19))/(OFFSET(OrderRange_Ref,,0)>0),ROWS($L$20:$L136)),IF(OFFSET(Cumulative,,1)>(ROW()-ROW($O$20)),_xlfn.AGGREGATE(15,6,(ROW(OrderRange_Ref)-ROW($L$19))/(OFFSET(OrderRange_Ref,,1)>0),ROWS($L$20:$L136)-OFFSET(Cumulative,,0)),IF(OFFSET(Cumulative,,2)>(ROW()-ROW($O$20)),_xlfn.AGGREGATE(15,6,(ROW(OrderRange_Ref)-ROW($L$19))/(OFFSET(OrderRange_Ref,,2)>0),ROWS($L$20:$L136)-OFFSET(Cumulative,,1)),IF(OFFSET(Cumulative,,3)>(ROW()-ROW($O$20)),_xlfn.AGGREGATE(15,6,(ROW(OrderRange_Ref)-ROW($L$19))/(OFFSET(OrderRange_Ref,,3)>0),ROWS($L$20:$L136)-OFFSET(Cumulative,,2)),IF(OFFSET(Cumulative,,4)>(ROW()-ROW($O$20)),_xlfn.AGGREGATE(15,6,(ROW(OrderRange_Ref)-ROW($L$19))/(OFFSET(OrderRange_Ref,,4)>0),ROWS($L$20:$L136)-OFFSET(Cumulative,,3)),IF(OFFSET(Cumulative,,5)>(ROW()-ROW($O$20)),_xlfn.AGGREGATE(15,6,(ROW(OrderRange_Ref)-ROW($L$19))/(OFFSET(OrderRange_Ref,,5)>0),ROWS($L$20:$L136)-OFFSET(Cumulative,,4)),\"\"))))))","v":""},"","","","",""]
[null,null,null,null,null,null,null,null,null,null,null,null,null,{"$f":"IF(Cumulative>(ROW()-ROW($O$20)),_xlfn.AGGREGATE(15,6,(ROW(OrderRange_Ref)-ROW($L$19))/(OFFSET(OrderRange_Ref,,0)>0),ROWS($L$20:$L137)),IF(OFFSET(Cumulative,,1)>(ROW()-ROW($O$20)),_xlfn.AGGREGATE(15,6,(ROW(OrderRange_Ref)-ROW($L$19))/(OFFSET(OrderRange_Ref,,1)>0),ROWS($L$20:$L137)-OFFSET(Cumulative,,0)),IF(OFFSET(Cumulative,,2)>(ROW()-ROW($O$20)),_xlfn.AGGREGATE(15,6,(ROW(OrderRange_Ref)-ROW($L$19))/(OFFSET(OrderRange_Ref,,2)>0),ROWS($L$20:$L137)-OFFSET(Cumulative,,1)),IF(OFFSET(Cumulative,,3)>(ROW()-ROW($O$20)),_xlfn.AGGREGATE(15,6,(ROW(OrderRange_Ref)-ROW($L$19))/(OFFSET(OrderRange_Ref,,3)>0),ROWS($L$20:$L137)-OFFSET(Cumulative,,2)),IF(OFFSET(Cumulative,,4)>(ROW()-ROW($O$20)),_xlfn.AGGREGATE(15,6,(ROW(OrderRange_Ref)-ROW($L$19))/(OFFSET(OrderRange_Ref,,4)>0),ROWS($L$20:$L137)-OFFSET(Cumulative,,3)),IF(OFFSET(Cumulative,,5)>(ROW()-ROW($O$20)),_xlfn.AGGREGATE(15,6,(ROW(OrderRange_Ref)-ROW($L$19))/(OFFSET(OrderRange_Ref,,5)>0),ROWS($L$20:$L137)-OFFSET(Cumulative,,4)),\"\"))))))","v":""},"","","","",""]
[null,null,null,null,null,null,null,null,null,null,null,null,null,{"$f":"IF(Cumulative>(ROW()-ROW($O$20)),_xlfn.AGGREGATE(15,6,(ROW(OrderRange_Ref)-ROW($L$19))/(OFFSET(OrderRange_Ref,,0)>0),ROWS($L$20:$L138)),IF(OFFSET(Cumulative,,1)>(ROW()-ROW($O$20)),_xlfn.AGGREGATE(15,6,(ROW(OrderRange_Ref)-ROW($L$19))/(OFFSET(OrderRange_Ref,,1)>0),ROWS($L$20:$L138)-OFFSET(Cumulative,,0)),IF(OFFSET(Cumulative,,2)>(ROW()-ROW($O$20)),_xlfn.AGGREGATE(15,6,(ROW(OrderRange_Ref)-ROW($L$19))/(OFFSET(OrderRange_Ref,,2)>0),ROWS($L$20:$L138)-OFFSET(Cumulative,,1)),IF(OFFSET(Cumulative,,3)>(ROW()-ROW($O$20)),_xlfn.AGGREGATE(15,6,(ROW(OrderRange_Ref)-ROW($L$19))/(OFFSET(OrderRange_Ref,,3)>0),ROWS($L$20:$L138)-OFFSET(Cumulative,,2)),IF(OFFSET(Cumulative,,4)>(ROW()-ROW($O$20)),_xlfn.AGGREGATE(15,6,(ROW(OrderRange_Ref)-ROW($L$19))/(OFFSET(OrderRange_Ref,,4)>0),ROWS($L$20:$L138)-OFFSET(Cumulative,,3)),IF(OFFSET(Cumulative,,5)>(ROW()-ROW($O$20)),_xlfn.AGGREGATE(15,6,(ROW(OrderRange_Ref)-ROW($L$19))/(OFFSET(OrderRange_Ref,,5)>0),ROWS($L$20:$L138)-OFFSET(Cumulative,,4)),\"\"))))))","v":""},"","","","",""]
[null,null,null,null,null,null,null,null,null,null,null,null,null,{"$f":"IF(Cumulative>(ROW()-ROW($O$20)),_xlfn.AGGREGATE(15,6,(ROW(OrderRange_Ref)-ROW($L$19))/(OFFSET(OrderRange_Ref,,0)>0),ROWS($L$20:$L139)),IF(OFFSET(Cumulative,,1)>(ROW()-ROW($O$20)),_xlfn.AGGREGATE(15,6,(ROW(OrderRange_Ref)-ROW($L$19))/(OFFSET(OrderRange_Ref,,1)>0),ROWS($L$20:$L139)-OFFSET(Cumulative,,0)),IF(OFFSET(Cumulative,,2)>(ROW()-ROW($O$20)),_xlfn.AGGREGATE(15,6,(ROW(OrderRange_Ref)-ROW($L$19))/(OFFSET(OrderRange_Ref,,2)>0),ROWS($L$20:$L139)-OFFSET(Cumulative,,1)),IF(OFFSET(Cumulative,,3)>(ROW()-ROW($O$20)),_xlfn.AGGREGATE(15,6,(ROW(OrderRange_Ref)-ROW($L$19))/(OFFSET(OrderRange_Ref,,3)>0),ROWS($L$20:$L139)-OFFSET(Cumulative,,2)),IF(OFFSET(Cumulative,,4)>(ROW()-ROW($O$20)),_xlfn.AGGREGATE(15,6,(ROW(OrderRange_Ref)-ROW($L$19))/(OFFSET(OrderRange_Ref,,4)>0),ROWS($L$20:$L139)-OFFSET(Cumulative,,3)),IF(OFFSET(Cumulative,,5)>(ROW()-ROW($O$20)),_xlfn.AGGREGATE(15,6,(ROW(OrderRange_Ref)-ROW($L$19))/(OFFSET(OrderRange_Ref,,5)>0),ROWS($L$20:$L139)-OFFSET(Cumulative,,4)),\"\"))))))","v":""},"","","","",""]
[null,null,null,null,null,null,null,null,null,null,null,null,null,{"$f":"IF(Cumulative>(ROW()-ROW($O$20)),_xlfn.AGGREGATE(15,6,(ROW(OrderRange_Ref)-ROW($L$19))/(OFFSET(OrderRange_Ref,,0)>0),ROWS($L$20:$L140)),IF(OFFSET(Cumulative,,1)>(ROW()-ROW($O$20)),_xlfn.AGGREGATE(15,6,(ROW(OrderRange_Ref)-ROW($L$19))/(OFFSET(OrderRange_Ref,,1)>0),ROWS($L$20:$L140)-OFFSET(Cumulative,,0)),IF(OFFSET(Cumulative,,2)>(ROW()-ROW($O$20)),_xlfn.AGGREGATE(15,6,(ROW(OrderRange_Ref)-ROW($L$19))/(OFFSET(OrderRange_Ref,,2)>0),ROWS($L$20:$L140)-OFFSET(Cumulative,,1)),IF(OFFSET(Cumulative,,3)>(ROW()-ROW($O$20)),_xlfn.AGGREGATE(15,6,(ROW(OrderRange_Ref)-ROW($L$19))/(OFFSET(OrderRange_Ref,,3)>0),ROWS($L$20:$L140)-OFFSET(Cumulative,,2)),IF(OFFSET(Cumulative,,4)>(ROW()-ROW($O$20)),_xlfn.AGGREGATE(15,6,(ROW(OrderRange_Ref)-ROW($L$19))/(OFFSET(OrderRange_Ref,,4)>0),ROWS($L$20:$L140)-OFFSET(Cumulative,,3)),IF(OFFSET(Cumulative,,5)>(ROW()-ROW($O$20)),_xlfn.AGGREGATE(15,6,(ROW(OrderRange_Ref)-ROW($L$19))/(OFFSET(OrderRange_Ref,,5)>0),ROWS($L$20:$L140)-OFFSET(Cumulative,,4)),\"\"))))))","v":""},"","","","",""]
[null,null,null,null,null,null,null,null,null,null,null,null,null,{"$f":"IF(Cumulative>(ROW()-ROW($O$20)),_xlfn.AGGREGATE(15,6,(ROW(OrderRange_Ref)-ROW($L$19))/(OFFSET(OrderRange_Ref,,0)>0),ROWS($L$20:$L141)),IF(OFFSET(Cumulative,,1)>(ROW()-ROW($O$20)),_xlfn.AGGREGATE(15,6,(ROW(OrderRange_Ref)-ROW($L$19))/(OFFSET(OrderRange_Ref,,1)>0),ROWS($L$20:$L141)-OFFSET(Cumulative,,0)),IF(OFFSET(Cumulative,,2)>(ROW()-ROW($O$20)),_xlfn.AGGREGATE(15,6,(ROW(OrderRange_Ref)-ROW($L$19))/(OFFSET(OrderRange_Ref,,2)>0),ROWS($L$20:$L141)-OFFSET(Cumulative,,1)),IF(OFFSET(Cumulative,,3)>(ROW()-ROW($O$20)),_xlfn.AGGREGATE(15,6,(ROW(OrderRange_Ref)-ROW($L$19))/(OFFSET(OrderRange_Ref,,3)>0),ROWS($L$20:$L141)-OFFSET(Cumulative,,2)),IF(OFFSET(Cumulative,,4)>(ROW()-ROW($O$20)),_xlfn.AGGREGATE(15,6,(ROW(OrderRange_Ref)-ROW($L$19))/(OFFSET(OrderRange_Ref,,4)>0),ROWS($L$20:$L141)-OFFSET(Cumulative,,3)),IF(OFFSET(Cumulative,,5)>(ROW()-ROW($O$20)),_xlfn.AGGREGATE(15,6,(ROW(OrderRange_Ref)-ROW($L$19))/(OFFSET(OrderRange_Ref,,5)>0),ROWS($L$20:$L141)-OFFSET(Cumulative,,4)),\"\"))))))","v":""},"","","","",""]
[null,null,null,null,null,null,null,null,null,null,null,null,null,{"$f":"IF(Cumulative>(ROW()-ROW($O$20)),_xlfn.AGGREGATE(15,6,(ROW(OrderRange_Ref)-ROW($L$19))/(OFFSET(OrderRange_Ref,,0)>0),ROWS($L$20:$L142)),IF(OFFSET(Cumulative,,1)>(ROW()-ROW($O$20)),_xlfn.AGGREGATE(15,6,(ROW(OrderRange_Ref)-ROW($L$19))/(OFFSET(OrderRange_Ref,,1)>0),ROWS($L$20:$L142)-OFFSET(Cumulative,,0)),IF(OFFSET(Cumulative,,2)>(ROW()-ROW($O$20)),_xlfn.AGGREGATE(15,6,(ROW(OrderRange_Ref)-ROW($L$19))/(OFFSET(OrderRange_Ref,,2)>0),ROWS($L$20:$L142)-OFFSET(Cumulative,,1)),IF(OFFSET(Cumulative,,3)>(ROW()-ROW($O$20)),_xlfn.AGGREGATE(15,6,(ROW(OrderRange_Ref)-ROW($L$19))/(OFFSET(OrderRange_Ref,,3)>0),ROWS($L$20:$L142)-OFFSET(Cumulative,,2)),IF(OFFSET(Cumulative,,4)>(ROW()-ROW($O$20)),_xlfn.AGGREGATE(15,6,(ROW(OrderRange_Ref)-ROW($L$19))/(OFFSET(OrderRange_Ref,,4)>0),ROWS($L$20:$L142)-OFFSET(Cumulative,,3)),IF(OFFSET(Cumulative,,5)>(ROW()-ROW($O$20)),_xlfn.AGGREGATE(15,6,(ROW(OrderRange_Ref)-ROW($L$19))/(OFFSET(OrderRange_Ref,,5)>0),ROWS($L$20:$L142)-OFFSET(Cumulative,,4)),\"\"))))))","v":""},"","","","",""]
[null,null,null,null,null,null,null,null,null,null,null,null,null,{"$f":"IF(Cumulative>(ROW()-ROW($O$20)),_xlfn.AGGREGATE(15,6,(ROW(OrderRange_Ref)-ROW($L$19))/(OFFSET(OrderRange_Ref,,0)>0),ROWS($L$20:$L143)),IF(OFFSET(Cumulative,,1)>(ROW()-ROW($O$20)),_xlfn.AGGREGATE(15,6,(ROW(OrderRange_Ref)-ROW($L$19))/(OFFSET(OrderRange_Ref,,1)>0),ROWS($L$20:$L143)-OFFSET(Cumulative,,0)),IF(OFFSET(Cumulative,,2)>(ROW()-ROW($O$20)),_xlfn.AGGREGATE(15,6,(ROW(OrderRange_Ref)-ROW($L$19))/(OFFSET(OrderRange_Ref,,2)>0),ROWS($L$20:$L143)-OFFSET(Cumulative,,1)),IF(OFFSET(Cumulative,,3)>(ROW()-ROW($O$20)),_xlfn.AGGREGATE(15,6,(ROW(OrderRange_Ref)-ROW($L$19))/(OFFSET(OrderRange_Ref,,3)>0),ROWS($L$20:$L143)-OFFSET(Cumulative,,2)),IF(OFFSET(Cumulative,,4)>(ROW()-ROW($O$20)),_xlfn.AGGREGATE(15,6,(ROW(OrderRange_Ref)-ROW($L$19))/(OFFSET(OrderRange_Ref,,4)>0),ROWS($L$20:$L143)-OFFSET(Cumulative,,3)),IF(OFFSET(Cumulative,,5)>(ROW()-ROW($O$20)),_xlfn.AGGREGATE(15,6,(ROW(OrderRange_Ref)-ROW($L$19))/(OFFSET(OrderRange_Ref,,5)>0),ROWS($L$20:$L143)-OFFSET(Cumulative,,4)),\"\"))))))","v":""},"","","","",""]
[null,null,null,null,null,null,null,null,null,null,null,null,null,{"$f":"IF(Cumulative>(ROW()-ROW($O$20)),_xlfn.AGGREGATE(15,6,(ROW(OrderRange_Ref)-ROW($L$19))/(OFFSET(OrderRange_Ref,,0)>0),ROWS($L$20:$L144)),IF(OFFSET(Cumulative,,1)>(ROW()-ROW($O$20)),_xlfn.AGGREGATE(15,6,(ROW(OrderRange_Ref)-ROW($L$19))/(OFFSET(OrderRange_Ref,,1)>0),ROWS($L$20:$L144)-OFFSET(Cumulative,,0)),IF(OFFSET(Cumulative,,2)>(ROW()-ROW($O$20)),_xlfn.AGGREGATE(15,6,(ROW(OrderRange_Ref)-ROW($L$19))/(OFFSET(OrderRange_Ref,,2)>0),ROWS($L$20:$L144)-OFFSET(Cumulative,,1)),IF(OFFSET(Cumulative,,3)>(ROW()-ROW($O$20)),_xlfn.AGGREGATE(15,6,(ROW(OrderRange_Ref)-ROW($L$19))/(OFFSET(OrderRange_Ref,,3)>0),ROWS($L$20:$L144)-OFFSET(Cumulative,,2)),IF(OFFSET(Cumulative,,4)>(ROW()-ROW($O$20)),_xlfn.AGGREGATE(15,6,(ROW(OrderRange_Ref)-ROW($L$19))/(OFFSET(OrderRange_Ref,,4)>0),ROWS($L$20:$L144)-OFFSET(Cumulative,,3)),IF(OFFSET(Cumulative,,5)>(ROW()-ROW($O$20)),_xlfn.AGGREGATE(15,6,(ROW(OrderRange_Ref)-ROW($L$19))/(OFFSET(OrderRange_Ref,,5)>0),ROWS($L$20:$L144)-OFFSET(Cumulative,,4)),\"\"))))))","v":""},"","","","",""]
[null,null,null,null,null,null,null,null,null,null,null,null,null,{"$f":"IF(Cumulative>(ROW()-ROW($O$20)),_xlfn.AGGREGATE(15,6,(ROW(OrderRange_Ref)-ROW($L$19))/(OFFSET(OrderRange_Ref,,0)>0),ROWS($L$20:$L145)),IF(OFFSET(Cumulative,,1)>(ROW()-ROW($O$20)),_xlfn.AGGREGATE(15,6,(ROW(OrderRange_Ref)-ROW($L$19))/(OFFSET(OrderRange_Ref,,1)>0),ROWS($L$20:$L145)-OFFSET(Cumulative,,0)),IF(OFFSET(Cumulative,,2)>(ROW()-ROW($O$20)),_xlfn.AGGREGATE(15,6,(ROW(OrderRange_Ref)-ROW($L$19))/(OFFSET(OrderRange_Ref,,2)>0),ROWS($L$20:$L145)-OFFSET(Cumulative,,1)),IF(OFFSET(Cumulative,,3)>(ROW()-ROW($O$20)),_xlfn.AGGREGATE(15,6,(ROW(OrderRange_Ref)-ROW($L$19))/(OFFSET(OrderRange_Ref,,3)>0),ROWS($L$20:$L145)-OFFSET(Cumulative,,2)),IF(OFFSET(Cumulative,,4)>(ROW()-ROW($O$20)),_xlfn.AGGREGATE(15,6,(ROW(OrderRange_Ref)-ROW($L$19))/(OFFSET(OrderRange_Ref,,4)>0),ROWS($L$20:$L145)-OFFSET(Cumulative,,3)),IF(OFFSET(Cumulative,,5)>(ROW()-ROW($O$20)),_xlfn.AGGREGATE(15,6,(ROW(OrderRange_Ref)-ROW($L$19))/(OFFSET(OrderRange_Ref,,5)>0),ROWS($L$20:$L145)-OFFSET(Cumulative,,4)),\"\"))))))","v":""},"","","","",""]
[null,null,null,null,null,null,null,null,null,null,null,null,null,{"$f":"IF(Cumulative>(ROW()-ROW($O$20)),_xlfn.AGGREGATE(15,6,(ROW(OrderRange_Ref)-ROW($L$19))/(OFFSET(OrderRange_Ref,,0)>0),ROWS($L$20:$L146)),IF(OFFSET(Cumulative,,1)>(ROW()-ROW($O$20)),_xlfn.AGGREGATE(15,6,(ROW(OrderRange_Ref)-ROW($L$19))/(OFFSET(OrderRange_Ref,,1)>0),ROWS($L$20:$L146)-OFFSET(Cumulative,,0)),IF(OFFSET(Cumulative,,2)>(ROW()-ROW($O$20)),_xlfn.AGGREGATE(15,6,(ROW(OrderRange_Ref)-ROW($L$19))/(OFFSET(OrderRange_Ref,,2)>0),ROWS($L$20:$L146)-OFFSET(Cumulative,,1)),IF(OFFSET(Cumulative,,3)>(ROW()-ROW($O$20)),_xlfn.AGGREGATE(15,6,(ROW(OrderRange_Ref)-ROW($L$19))/(OFFSET(OrderRange_Ref,,3)>0),ROWS($L$20:$L146)-OFFSET(Cumulative,,2)),IF(OFFSET(Cumulative,,4)>(ROW()-ROW($O$20)),_xlfn.AGGREGATE(15,6,(ROW(OrderRange_Ref)-ROW($L$19))/(OFFSET(OrderRange_Ref,,4)>0),ROWS($L$20:$L146)-OFFSET(Cumulative,,3)),IF(OFFSET(Cumulative,,5)>(ROW()-ROW($O$20)),_xlfn.AGGREGATE(15,6,(ROW(OrderRange_Ref)-ROW($L$19))/(OFFSET(OrderRange_Ref,,5)>0),ROWS($L$20:$L146)-OFFSET(Cumulative,,4)),\"\"))))))","v":""},"","","","",""]
[null,null,null,null,null,null,null,null,null,null,null,null,null,{"$f":"IF(Cumulative>(ROW()-ROW($O$20)),_xlfn.AGGREGATE(15,6,(ROW(OrderRange_Ref)-ROW($L$19))/(OFFSET(OrderRange_Ref,,0)>0),ROWS($L$20:$L147)),IF(OFFSET(Cumulative,,1)>(ROW()-ROW($O$20)),_xlfn.AGGREGATE(15,6,(ROW(OrderRange_Ref)-ROW($L$19))/(OFFSET(OrderRange_Ref,,1)>0),ROWS($L$20:$L147)-OFFSET(Cumulative,,0)),IF(OFFSET(Cumulative,,2)>(ROW()-ROW($O$20)),_xlfn.AGGREGATE(15,6,(ROW(OrderRange_Ref)-ROW($L$19))/(OFFSET(OrderRange_Ref,,2)>0),ROWS($L$20:$L147)-OFFSET(Cumulative,,1)),IF(OFFSET(Cumulative,,3)>(ROW()-ROW($O$20)),_xlfn.AGGREGATE(15,6,(ROW(OrderRange_Ref)-ROW($L$19))/(OFFSET(OrderRange_Ref,,3)>0),ROWS($L$20:$L147)-OFFSET(Cumulative,,2)),IF(OFFSET(Cumulative,,4)>(ROW()-ROW($O$20)),_xlfn.AGGREGATE(15,6,(ROW(OrderRange_Ref)-ROW($L$19))/(OFFSET(OrderRange_Ref,,4)>0),ROWS($L$20:$L147)-OFFSET(Cumulative,,3)),IF(OFFSET(Cumulative,,5)>(ROW()-ROW($O$20)),_xlfn.AGGREGATE(15,6,(ROW(OrderRange_Ref)-ROW($L$19))/(OFFSET(OrderRange_Ref,,5)>0),ROWS($L$20:$L147)-OFFSET(Cumulative,,4)),\"\"))))))","v":""},"","","","",""]
[null,null,null,null,null,null,null,null,null,null,null,null,null,{"$f":"IF(Cumulative>(ROW()-ROW($O$20)),_xlfn.AGGREGATE(15,6,(ROW(OrderRange_Ref)-ROW($L$19))/(OFFSET(OrderRange_Ref,,0)>0),ROWS($L$20:$L148)),IF(OFFSET(Cumulative,,1)>(ROW()-ROW($O$20)),_xlfn.AGGREGATE(15,6,(ROW(OrderRange_Ref)-ROW($L$19))/(OFFSET(OrderRange_Ref,,1)>0),ROWS($L$20:$L148)-OFFSET(Cumulative,,0)),IF(OFFSET(Cumulative,,2)>(ROW()-ROW($O$20)),_xlfn.AGGREGATE(15,6,(ROW(OrderRange_Ref)-ROW($L$19))/(OFFSET(OrderRange_Ref,,2)>0),ROWS($L$20:$L148)-OFFSET(Cumulative,,1)),IF(OFFSET(Cumulative,,3)>(ROW()-ROW($O$20)),_xlfn.AGGREGATE(15,6,(ROW(OrderRange_Ref)-ROW($L$19))/(OFFSET(OrderRange_Ref,,3)>0),ROWS($L$20:$L148)-OFFSET(Cumulative,,2)),IF(OFFSET(Cumulative,,4)>(ROW()-ROW($O$20)),_xlfn.AGGREGATE(15,6,(ROW(OrderRange_Ref)-ROW($L$19))/(OFFSET(OrderRange_Ref,,4)>0),ROWS($L$20:$L148)-OFFSET(Cumulative,,3)),IF(OFFSET(Cumulative,,5)>(ROW()-ROW($O$20)),_xlfn.AGGREGATE(15,6,(ROW(OrderRange_Ref)-ROW($L$19))/(OFFSET(OrderRange_Ref,,5)>0),ROWS($L$20:$L148)-OFFSET(Cumulative,,4)),\"\"))))))","v":""},{"$f":"IF(Cumulative>(ROW()-ROW($O$20)),OrderDate,IF(OFFSET(Cumulative,,1)>(ROW()-ROW($O$20)),OrderDate+1,IF(OFFSET(Cumulative,,2)>(ROW()-ROW($O$20)),OrderDate+2,IF(OFFSET(Cumulative,,3)>(ROW()-ROW($O$20)),OrderDate+3,IF(OFFSET(Cumulative,,4)>(ROW()-ROW($O$20)),OrderDate+4,IF(OFFSET(Cumulative,,5)>(ROW()-ROW($O$20)),OrderDate+5,\"\"))))))","v":""},"","","",{"$f":"IF($N148=\"\",\"\",ROUND(INDEX(Order_Data,$N148,MATCH($O148,$D$18:$I$18,0)),0))","v":""}]
[null,null,null,null,null,null,null,null,null,null,null,null,null,{"$f":"IF(Cumulative>(ROW()-ROW($O$20)),_xlfn.AGGREGATE(15,6,(ROW(OrderRange_Ref)-ROW($L$19))/(OFFSET(OrderRange_Ref,,0)>0),ROWS($L$20:$L149)),IF(OFFSET(Cumulative,,1)>(ROW()-ROW($O$20)),_xlfn.AGGREGATE(15,6,(ROW(OrderRange_Ref)-ROW($L$19))/(OFFSET(OrderRange_Ref,,1)>0),ROWS($L$20:$L149)-OFFSET(Cumulative,,0)),IF(OFFSET(Cumulative,,2)>(ROW()-ROW($O$20)),_xlfn.AGGREGATE(15,6,(ROW(OrderRange_Ref)-ROW($L$19))/(OFFSET(OrderRange_Ref,,2)>0),ROWS($L$20:$L149)-OFFSET(Cumulative,,1)),IF(OFFSET(Cumulative,,3)>(ROW()-ROW($O$20)),_xlfn.AGGREGATE(15,6,(ROW(OrderRange_Ref)-ROW($L$19))/(OFFSET(OrderRange_Ref,,3)>0),ROWS($L$20:$L149)-OFFSET(Cumulative,,2)),IF(OFFSET(Cumulative,,4)>(ROW()-ROW($O$20)),_xlfn.AGGREGATE(15,6,(ROW(OrderRange_Ref)-ROW($L$19))/(OFFSET(OrderRange_Ref,,4)>0),ROWS($L$20:$L149)-OFFSET(Cumulative,,3)),IF(OFFSET(Cumulative,,5)>(ROW()-ROW($O$20)),_xlfn.AGGREGATE(15,6,(ROW(OrderRange_Ref)-ROW($L$19))/(OFFSET(OrderRange_Ref,,5)>0),ROWS($L$20:$L149)-OFFSET(Cumulative,,4)),\"\"))))))","v":""},"",{"$f":"IF($O149<>\"\",BranchCode,\"\")","v":""},{"$f":"IF($O149<>\"\",\"จ่าย\",\"\")","v":""},{"$f":"IFERROR(INDEX($C$20:$C$54,$N149),\"\")","v":""},""]
[null,null,null,null,null,null,null,null,null,null,null,null,null,{"$f":"IF(Cumulative>(ROW()-ROW($O$20)),_xlfn.AGGREGATE(15,6,(ROW(OrderRange_Ref)-ROW($L$19))/(OFFSET(OrderRange_Ref,,0)>0),ROWS($L$20:$L150)),IF(OFFSET(Cumulative,,1)>(ROW()-ROW($O$20)),_xlfn.AGGREGATE(15,6,(ROW(OrderRange_Ref)-ROW($L$19))/(OFFSET(OrderRange_Ref,,1)>0),ROWS($L$20:$L150)-OFFSET(Cumulative,,0)),IF(OFFSET(Cumulative,,2)>(ROW()-ROW($O$20)),_xlfn.AGGREGATE(15,6,(ROW(OrderRange_Ref)-ROW($L$19))/(OFFSET(OrderRange_Ref,,2)>0),ROWS($L$20:$L150)-OFFSET(Cumulative,,1)),IF(OFFSET(Cumulative,,3)>(ROW()-ROW($O$20)),_xlfn.AGGREGATE(15,6,(ROW(OrderRange_Ref)-ROW($L$19))/(OFFSET(OrderRange_Ref,,3)>0),ROWS($L$20:$L150)-OFFSET(Cumulative,,2)),IF(OFFSET(Cumulative,,4)>(ROW()-ROW($O$20)),_xlfn.AGGREGATE(15,6,(ROW(OrderRange_Ref)-ROW($L$19))/(OFFSET(OrderRange_Ref,,4)>0),ROWS($L$20:$L150)-OFFSET(Cumulative,,3)),IF(OFFSET(Cumulative,,5)>(ROW()-ROW($O$20)),_xlfn.AGGREGATE(15,6,(ROW(OrderRange_Ref)-ROW($L$19))/(OFFSET(OrderRange_Ref,,5)>0),ROWS($L$20:$L150)-OFFSET(Cumulative,,4)),\"\"))))))","v":""},"","","","",""]
[null,null,null,null,null,null,null,null,null,null,null,null,null,{"$f":"IF(Cumulative>(ROW()-ROW($O$20)),_xlfn.AGGREGATE(15,6,(ROW(OrderRange_Ref)-ROW($L$19))/(OFFSET(OrderRange_Ref,,0)>0),ROWS($L$20:$L151)),IF(OFFSET(Cumulative,,1)>(ROW()-ROW($O$20)),_xlfn.AGGREGATE(15,6,(ROW(OrderRange_Ref)-ROW($L$19))/(OFFSET(OrderRange_Ref,,1)>0),ROWS($L$20:$L151)-OFFSET(Cumulative,,0)),IF(OFFSET(Cumulative,,2)>(ROW()-ROW($O$20)),_xlfn.AGGREGATE(15,6,(ROW(OrderRange_Ref)-ROW($L$19))/(OFFSET(OrderRange_Ref,,2)>0),ROWS($L$20:$L151)-OFFSET(Cumulative,,1)),IF(OFFSET(Cumulative,,3)>(ROW()-ROW($O$20)),_xlfn.AGGREGATE(15,6,(ROW(OrderRange_Ref)-ROW($L$19))/(OFFSET(OrderRange_Ref,,3)>0),ROWS($L$20:$L151)-OFFSET(Cumulative,,2)),IF(OFFSET(Cumulative,,4)>(ROW()-ROW($O$20)),_xlfn.AGGREGATE(15,6,(ROW(OrderRange_Ref)-ROW($L$19))/(OFFSET(OrderRange_Ref,,4)>0),ROWS($L$20:$L151)-OFFSET(Cumulative,,3)),IF(OFFSET(Cumulative,,5)>(ROW()-ROW($O$20)),_xlfn.AGGREGATE(15,6,(ROW(OrderRange_Ref)-ROW($L$19))/(OFFSET(OrderRange_Ref,,5)>0),ROWS($L$20:$L151)-OFFSET(Cumulative,,4)),\"\"))))))","v":""},"","","","",""]
[null,null,null,null,null,null,null,null,null,null,null,null,null,{"$f":"IF(Cumulative>(ROW()-ROW($O$20)),_xlfn.AGGREGATE(15,6,(ROW(OrderRange_Ref)-ROW($L$19))/(OFFSET(OrderRange_Ref,,0)>0),ROWS($L$20:$L152)),IF(OFFSET(Cumulative,,1)>(ROW()-ROW($O$20)),_xlfn.AGGREGATE(15,6,(ROW(OrderRange_Ref)-ROW($L$19))/(OFFSET(OrderRange_Ref,,1)>0),ROWS($L$20:$L152)-OFFSET(Cumulative,,0)),IF(OFFSET(Cumulative,,2)>(ROW()-ROW($O$20)),_xlfn.AGGREGATE(15,6,(ROW(OrderRange_Ref)-ROW($L$19))/(OFFSET(OrderRange_Ref,,2)>0),ROWS($L$20:$L152)-OFFSET(Cumulative,,1)),IF(OFFSET(Cumulative,,3)>(ROW()-ROW($O$20)),_xlfn.AGGREGATE(15,6,(ROW(OrderRange_Ref)-ROW($L$19))/(OFFSET(OrderRange_Ref,,3)>0),ROWS($L$20:$L152)-OFFSET(Cumulative,,2)),IF(OFFSET(Cumulative,,4)>(ROW()-ROW($O$20)),_xlfn.AGGREGATE(15,6,(ROW(OrderRange_Ref)-ROW($L$19))/(OFFSET(OrderRange_Ref,,4)>0),ROWS($L$20:$L152)-OFFSET(Cumulative,,3)),IF(OFFSET(Cumulative,,5)>(ROW()-ROW($O$20)),_xlfn.AGGREGATE(15,6,(ROW(OrderRange_Ref)-ROW($L$19))/(OFFSET(OrderRange_Ref,,5)>0),ROWS($L$20:$L152)-OFFSET(Cumulative,,4)),\"\"))))))","v":""},"","","","",""]
[null,null,null,null,null,null,null,null,null,null,null,null,null,{"$f":"IF(Cumulative>(ROW()-ROW($O$20)),_xlfn.AGGREGATE(15,6,(ROW(OrderRange_Ref)-ROW($L$19))/(OFFSET(OrderRange_Ref,,0)>0),ROWS($L$20:$L153)),IF(OFFSET(Cumulative,,1)>(ROW()-ROW($O$20)),_xlfn.AGGREGATE(15,6,(ROW(OrderRange_Ref)-ROW($L$19))/(OFFSET(OrderRange_Ref,,1)>0),ROWS($L$20:$L153)-OFFSET(Cumulative,,0)),IF(OFFSET(Cumulative,,2)>(ROW()-ROW($O$20)),_xlfn.AGGREGATE(15,6,(ROW(OrderRange_Ref)-ROW($L$19))/(OFFSET(OrderRange_Ref,,2)>0),ROWS($L$20:$L153)-OFFSET(Cumulative,,1)),IF(OFFSET(Cumulative,,3)>(ROW()-ROW($O$20)),_xlfn.AGGREGATE(15,6,(ROW(OrderRange_Ref)-ROW($L$19))/(OFFSET(OrderRange_Ref,,3)>0),ROWS($L$20:$L153)-OFFSET(Cumulative,,2)),IF(OFFSET(Cumulative,,4)>(ROW()-ROW($O$20)),_xlfn.AGGREGATE(15,6,(ROW(OrderRange_Ref)-ROW($L$19))/(OFFSET(OrderRange_Ref,,4)>0),ROWS($L$20:$L153)-OFFSET(Cumulative,,3)),IF(OFFSET(Cumulative,,5)>(ROW()-ROW($O$20)),_xlfn.AGGREGATE(15,6,(ROW(OrderRange_Ref)-ROW($L$19))/(OFFSET(OrderRange_Ref,,5)>0),ROWS($L$20:$L153)-OFFSET(Cumulative,,4)),\"\"))))))","v":""},"","","","",""]
[null,null,null,null,null,null,null,null,null,null,null,null,null,{"$f":"IF(Cumulative>(ROW()-ROW($O$20)),_xlfn.AGGREGATE(15,6,(ROW(OrderRange_Ref)-ROW($L$19))/(OFFSET(OrderRange_Ref,,0)>0),ROWS($L$20:$L154)),IF(OFFSET(Cumulative,,1)>(ROW()-ROW($O$20)),_xlfn.AGGREGATE(15,6,(ROW(OrderRange_Ref)-ROW($L$19))/(OFFSET(OrderRange_Ref,,1)>0),ROWS($L$20:$L154)-OFFSET(Cumulative,,0)),IF(OFFSET(Cumulative,,2)>(ROW()-ROW($O$20)),_xlfn.AGGREGATE(15,6,(ROW(OrderRange_Ref)-ROW($L$19))/(OFFSET(OrderRange_Ref,,2)>0),ROWS($L$20:$L154)-OFFSET(Cumulative,,1)),IF(OFFSET(Cumulative,,3)>(ROW()-ROW($O$20)),_xlfn.AGGREGATE(15,6,(ROW(OrderRange_Ref)-ROW($L$19))/(OFFSET(OrderRange_Ref,,3)>0),ROWS($L$20:$L154)-OFFSET(Cumulative,,2)),IF(OFFSET(Cumulative,,4)>(ROW()-ROW($O$20)),_xlfn.AGGREGATE(15,6,(ROW(OrderRange_Ref)-ROW($L$19))/(OFFSET(OrderRange_Ref,,4)>0),ROWS($L$20:$L154)-OFFSET(Cumulative,,3)),IF(OFFSET(Cumulative,,5)>(ROW()-ROW($O$20)),_xlfn.AGGREGATE(15,6,(ROW(OrderRange_Ref)-ROW($L$19))/(OFFSET(OrderRange_Ref,,5)>0),ROWS($L$20:$L154)-OFFSET(Cumulative,,4)),\"\"))))))","v":""},"","","","",""]
[null,null,null,null,null,null,null,null,null,null,null,null,null,{"$f":"IF(Cumulative>(ROW()-ROW($O$20)),_xlfn.AGGREGATE(15,6,(ROW(OrderRange_Ref)-ROW($L$19))/(OFFSET(OrderRange_Ref,,0)>0),ROWS($L$20:$L155)),IF(OFFSET(Cumulative,,1)>(ROW()-ROW($O$20)),_xlfn.AGGREGATE(15,6,(ROW(OrderRange_Ref)-ROW($L$19))/(OFFSET(OrderRange_Ref,,1)>0),ROWS($L$20:$L155)-OFFSET(Cumulative,,0)),IF(OFFSET(Cumulative,,2)>(ROW()-ROW($O$20)),_xlfn.AGGREGATE(15,6,(ROW(OrderRange_Ref)-ROW($L$19))/(OFFSET(OrderRange_Ref,,2)>0),ROWS($L$20:$L155)-OFFSET(Cumulative,,1)),IF(OFFSET(Cumulative,,3)>(ROW()-ROW($O$20)),_xlfn.AGGREGATE(15,6,(ROW(OrderRange_Ref)-ROW($L$19))/(OFFSET(OrderRange_Ref,,3)>0),ROWS($L$20:$L155)-OFFSET(Cumulative,,2)),IF(OFFSET(Cumulative,,4)>(ROW()-ROW($O$20)),_xlfn.AGGREGATE(15,6,(ROW(OrderRange_Ref)-ROW($L$19))/(OFFSET(OrderRange_Ref,,4)>0),ROWS($L$20:$L155)-OFFSET(Cumulative,,3)),IF(OFFSET(Cumulative,,5)>(ROW()-ROW($O$20)),_xlfn.AGGREGATE(15,6,(ROW(OrderRange_Ref)-ROW($L$19))/(OFFSET(OrderRange_Ref,,5)>0),ROWS($L$20:$L155)-OFFSET(Cumulative,,4)),\"\"))))))","v":""},"","","","",""]
[null,null,null,null,null,null,null,null,null,null,null,null,null,{"$f":"IF(Cumulative>(ROW()-ROW($O$20)),_xlfn.AGGREGATE(15,6,(ROW(OrderRange_Ref)-ROW($L$19))/(OFFSET(OrderRange_Ref,,0)>0),ROWS($L$20:$L156)),IF(OFFSET(Cumulative,,1)>(ROW()-ROW($O$20)),_xlfn.AGGREGATE(15,6,(ROW(OrderRange_Ref)-ROW($L$19))/(OFFSET(OrderRange_Ref,,1)>0),ROWS($L$20:$L156)-OFFSET(Cumulative,,0)),IF(OFFSET(Cumulative,,2)>(ROW()-ROW($O$20)),_xlfn.AGGREGATE(15,6,(ROW(OrderRange_Ref)-ROW($L$19))/(OFFSET(OrderRange_Ref,,2)>0),ROWS($L$20:$L156)-OFFSET(Cumulative,,1)),IF(OFFSET(Cumulative,,3)>(ROW()-ROW($O$20)),_xlfn.AGGREGATE(15,6,(ROW(OrderRange_Ref)-ROW($L$19))/(OFFSET(OrderRange_Ref,,3)>0),ROWS($L$20:$L156)-OFFSET(Cumulative,,2)),IF(OFFSET(Cumulative,,4)>(ROW()-ROW($O$20)),_xlfn.AGGREGATE(15,6,(ROW(OrderRange_Ref)-ROW($L$19))/(OFFSET(OrderRange_Ref,,4)>0),ROWS($L$20:$L156)-OFFSET(Cumulative,,3)),IF(OFFSET(Cumulative,,5)>(ROW()-ROW($O$20)),_xlfn.AGGREGATE(15,6,(ROW(OrderRange_Ref)-ROW($L$19))/(OFFSET(OrderRange_Ref,,5)>0),ROWS($L$20:$L156)-OFFSET(Cumulative,,4)),\"\"))))))","v":""},"","","","",""]
[null,null,null,null,null,null,null,null,null,null,null,null,null,{"$f":"IF(Cumulative>(ROW()-ROW($O$20)),_xlfn.AGGREGATE(15,6,(ROW(OrderRange_Ref)-ROW($L$19))/(OFFSET(OrderRange_Ref,,0)>0),ROWS($L$20:$L157)),IF(OFFSET(Cumulative,,1)>(ROW()-ROW($O$20)),_xlfn.AGGREGATE(15,6,(ROW(OrderRange_Ref)-ROW($L$19))/(OFFSET(OrderRange_Ref,,1)>0),ROWS($L$20:$L157)-OFFSET(Cumulative,,0)),IF(OFFSET(Cumulative,,2)>(ROW()-ROW($O$20)),_xlfn.AGGREGATE(15,6,(ROW(OrderRange_Ref)-ROW($L$19))/(OFFSET(OrderRange_Ref,,2)>0),ROWS($L$20:$L157)-OFFSET(Cumulative,,1)),IF(OFFSET(Cumulative,,3)>(ROW()-ROW($O$20)),_xlfn.AGGREGATE(15,6,(ROW(OrderRange_Ref)-ROW($L$19))/(OFFSET(OrderRange_Ref,,3)>0),ROWS($L$20:$L157)-OFFSET(Cumulative,,2)),IF(OFFSET(Cumulative,,4)>(ROW()-ROW($O$20)),_xlfn.AGGREGATE(15,6,(ROW(OrderRange_Ref)-ROW($L$19))/(OFFSET(OrderRange_Ref,,4)>0),ROWS($L$20:$L157)-OFFSET(Cumulative,,3)),IF(OFFSET(Cumulative,,5)>(ROW()-ROW($O$20)),_xlfn.AGGREGATE(15,6,(ROW(OrderRange_Ref)-ROW($L$19))/(OFFSET(OrderRange_Ref,,5)>0),ROWS($L$20:$L157)-OFFSET(Cumulative,,4)),\"\"))))))","v":""},"","","","",""]
[null,null,null,null,null,null,null,null,null,null,null,null,null,{"$f":"IF(Cumulative>(ROW()-ROW($O$20)),_xlfn.AGGREGATE(15,6,(ROW(OrderRange_Ref)-ROW($L$19))/(OFFSET(OrderRange_Ref,,0)>0),ROWS($L$20:$L158)),IF(OFFSET(Cumulative,,1)>(ROW()-ROW($O$20)),_xlfn.AGGREGATE(15,6,(ROW(OrderRange_Ref)-ROW($L$19))/(OFFSET(OrderRange_Ref,,1)>0),ROWS($L$20:$L158)-OFFSET(Cumulative,,0)),IF(OFFSET(Cumulative,,2)>(ROW()-ROW($O$20)),_xlfn.AGGREGATE(15,6,(ROW(OrderRange_Ref)-ROW($L$19))/(OFFSET(OrderRange_Ref,,2)>0),ROWS($L$20:$L158)-OFFSET(Cumulative,,1)),IF(OFFSET(Cumulative,,3)>(ROW()-ROW($O$20)),_xlfn.AGGREGATE(15,6,(ROW(OrderRange_Ref)-ROW($L$19))/(OFFSET(OrderRange_Ref,,3)>0),ROWS($L$20:$L158)-OFFSET(Cumulative,,2)),IF(OFFSET(Cumulative,,4)>(ROW()-ROW($O$20)),_xlfn.AGGREGATE(15,6,(ROW(OrderRange_Ref)-ROW($L$19))/(OFFSET(OrderRange_Ref,,4)>0),ROWS($L$20:$L158)-OFFSET(Cumulative,,3)),IF(OFFSET(Cumulative,,5)>(ROW()-ROW($O$20)),_xlfn.AGGREGATE(15,6,(ROW(OrderRange_Ref)-ROW($L$19))/(OFFSET(OrderRange_Ref,,5)>0),ROWS($L$20:$L158)-OFFSET(Cumulative,,4)),\"\"))))))","v":""},"","","","",""]
[null,null,null,null,null,null,null,null,null,null,null,null,null,{"$f":"IF(Cumulative>(ROW()-ROW($O$20)),_xlfn.AGGREGATE(15,6,(ROW(OrderRange_Ref)-ROW($L$19))/(OFFSET(OrderRange_Ref,,0)>0),ROWS($L$20:$L159)),IF(OFFSET(Cumulative,,1)>(ROW()-ROW($O$20)),_xlfn.AGGREGATE(15,6,(ROW(OrderRange_Ref)-ROW($L$19))/(OFFSET(OrderRange_Ref,,1)>0),ROWS($L$20:$L159)-OFFSET(Cumulative,,0)),IF(OFFSET(Cumulative,,2)>(ROW()-ROW($O$20)),_xlfn.AGGREGATE(15,6,(ROW(OrderRange_Ref)-ROW($L$19))/(OFFSET(OrderRange_Ref,,2)>0),ROWS($L$20:$L159)-OFFSET(Cumulative,,1)),IF(OFFSET(Cumulative,,3)>(ROW()-ROW($O$20)),_xlfn.AGGREGATE(15,6,(ROW(OrderRange_Ref)-ROW($L$19))/(OFFSET(OrderRange_Ref,,3)>0),ROWS($L$20:$L159)-OFFSET(Cumulative,,2)),IF(OFFSET(Cumulative,,4)>(ROW()-ROW($O$20)),_xlfn.AGGREGATE(15,6,(ROW(OrderRange_Ref)-ROW($L$19))/(OFFSET(OrderRange_Ref,,4)>0),ROWS($L$20:$L159)-OFFSET(Cumulative,,3)),IF(OFFSET(Cumulative,,5)>(ROW()-ROW($O$20)),_xlfn.AGGREGATE(15,6,(ROW(OrderRange_Ref)-ROW($L$19))/(OFFSET(OrderRange_Ref,,5)>0),ROWS($L$20:$L159)-OFFSET(Cumulative,,4)),\"\"))))))","v":""},"","","","",""]
[null,null,null,null,null,null,null,null,null,null,null,null,null,{"$f":"IF(Cumulative>(ROW()-ROW($O$20)),_xlfn.AGGREGATE(15,6,(ROW(OrderRange_Ref)-ROW($L$19))/(OFFSET(OrderRange_Ref,,0)>0),ROWS($L$20:$L160)),IF(OFFSET(Cumulative,,1)>(ROW()-ROW($O$20)),_xlfn.AGGREGATE(15,6,(ROW(OrderRange_Ref)-ROW($L$19))/(OFFSET(OrderRange_Ref,,1)>0),ROWS($L$20:$L160)-OFFSET(Cumulative,,0)),IF(OFFSET(Cumulative,,2)>(ROW()-ROW($O$20)),_xlfn.AGGREGATE(15,6,(ROW(OrderRange_Ref)-ROW($L$19))/(OFFSET(OrderRange_Ref,,2)>0),ROWS($L$20:$L160)-OFFSET(Cumulative,,1)),IF(OFFSET(Cumulative,,3)>(ROW()-ROW($O$20)),_xlfn.AGGREGATE(15,6,(ROW(OrderRange_Ref)-ROW($L$19))/(OFFSET(OrderRange_Ref,,3)>0),ROWS($L$20:$L160)-OFFSET(Cumulative,,2)),IF(OFFSET(Cumulative,,4)>(ROW()-ROW($O$20)),_xlfn.AGGREGATE(15,6,(ROW(OrderRange_Ref)-ROW($L$19))/(OFFSET(OrderRange_Ref,,4)>0),ROWS($L$20:$L160)-OFFSET(Cumulative,,3)),IF(OFFSET(Cumulative,,5)>(ROW()-ROW($O$20)),_xlfn.AGGREGATE(15,6,(ROW(OrderRange_Ref)-ROW($L$19))/(OFFSET(OrderRange_Ref,,5)>0),ROWS($L$20:$L160)-OFFSET(Cumulative,,4)),\"\"))))))","v":""},"","","","",""]
[null,null,null,null,null,null,null,null,null,null,null,null,null,{"$f":"IF(Cumulative>(ROW()-ROW($O$20)),_xlfn.AGGREGATE(15,6,(ROW(OrderRange_Ref)-ROW($L$19))/(OFFSET(OrderRange_Ref,,0)>0),ROWS($L$20:$L161)),IF(OFFSET(Cumulative,,1)>(ROW()-ROW($O$20)),_xlfn.AGGREGATE(15,6,(ROW(OrderRange_Ref)-ROW($L$19))/(OFFSET(OrderRange_Ref,,1)>0),ROWS($L$20:$L161)-OFFSET(Cumulative,,0)),IF(OFFSET(Cumulative,,2)>(ROW()-ROW($O$20)),_xlfn.AGGREGATE(15,6,(ROW(OrderRange_Ref)-ROW($L$19))/(OFFSET(OrderRange_Ref,,2)>0),ROWS($L$20:$L161)-OFFSET(Cumulative,,1)),IF(OFFSET(Cumulative,,3)>(ROW()-ROW($O$20)),_xlfn.AGGREGATE(15,6,(ROW(OrderRange_Ref)-ROW($L$19))/(OFFSET(OrderRange_Ref,,3)>0),ROWS($L$20:$L161)-OFFSET(Cumulative,,2)),IF(OFFSET(Cumulative,,4)>(ROW()-ROW($O$20)),_xlfn.AGGREGATE(15,6,(ROW(OrderRange_Ref)-ROW($L$19))/(OFFSET(OrderRange_Ref,,4)>0),ROWS($L$20:$L161)-OFFSET(Cumulative,,3)),IF(OFFSET(Cumulative,,5)>(ROW()-ROW($O$20)),_xlfn.AGGREGATE(15,6,(ROW(OrderRange_Ref)-ROW($L$19))/(OFFSET(OrderRange_Ref,,5)>0),ROWS($L$20:$L161)-OFFSET(Cumulative,,4)),\"\"))))))","v":""},"","","","",""]
[null,null,null,null,null,null,null,null,null,null,null,null,null,{"$f":"IF(Cumulative>(ROW()-ROW($O$20)),_xlfn.AGGREGATE(15,6,(ROW(OrderRange_Ref)-ROW($L$19))/(OFFSET(OrderRange_Ref,,0)>0),ROWS($L$20:$L162)),IF(OFFSET(Cumulative,,1)>(ROW()-ROW($O$20)),_xlfn.AGGREGATE(15,6,(ROW(OrderRange_Ref)-ROW($L$19))/(OFFSET(OrderRange_Ref,,1)>0),ROWS($L$20:$L162)-OFFSET(Cumulative,,0)),IF(OFFSET(Cumulative,,2)>(ROW()-ROW($O$20)),_xlfn.AGGREGATE(15,6,(ROW(OrderRange_Ref)-ROW($L$19))/(OFFSET(OrderRange_Ref,,2)>0),ROWS($L$20:$L162)-OFFSET(Cumulative,,1)),IF(OFFSET(Cumulative,,3)>(ROW()-ROW($O$20)),_xlfn.AGGREGATE(15,6,(ROW(OrderRange_Ref)-ROW($L$19))/(OFFSET(OrderRange_Ref,,3)>0),ROWS($L$20:$L162)-OFFSET(Cumulative,,2)),IF(OFFSET(Cumulative,,4)>(ROW()-ROW($O$20)),_xlfn.AGGREGATE(15,6,(ROW(OrderRange_Ref)-ROW($L$19))/(OFFSET(OrderRange_Ref,,4)>0),ROWS($L$20:$L162)-OFFSET(Cumulative,,3)),IF(OFFSET(Cumulative,,5)>(ROW()-ROW($O$20)),_xlfn.AGGREGATE(15,6,(ROW(OrderRange_Ref)-ROW($L$19))/(OFFSET(OrderRange_Ref,,5)>0),ROWS($L$20:$L162)-OFFSET(Cumulative,,4)),\"\"))))))","v":""},"","","","",""]
[null,null,null,null,null,null,null,null,null,null,null,null,null,{"$f":"IF(Cumulative>(ROW()-ROW($O$20)),_xlfn.AGGREGATE(15,6,(ROW(OrderRange_Ref)-ROW($L$19))/(OFFSET(OrderRange_Ref,,0)>0),ROWS($L$20:$L163)),IF(OFFSET(Cumulative,,1)>(ROW()-ROW($O$20)),_xlfn.AGGREGATE(15,6,(ROW(OrderRange_Ref)-ROW($L$19))/(OFFSET(OrderRange_Ref,,1)>0),ROWS($L$20:$L163)-OFFSET(Cumulative,,0)),IF(OFFSET(Cumulative,,2)>(ROW()-ROW($O$20)),_xlfn.AGGREGATE(15,6,(ROW(OrderRange_Ref)-ROW($L$19))/(OFFSET(OrderRange_Ref,,2)>0),ROWS($L$20:$L163)-OFFSET(Cumulative,,1)),IF(OFFSET(Cumulative,,3)>(ROW()-ROW($O$20)),_xlfn.AGGREGATE(15,6,(ROW(OrderRange_Ref)-ROW($L$19))/(OFFSET(OrderRange_Ref,,3)>0),ROWS($L$20:$L163)-OFFSET(Cumulative,,2)),IF(OFFSET(Cumulative,,4)>(ROW()-ROW($O$20)),_xlfn.AGGREGATE(15,6,(ROW(OrderRange_Ref)-ROW($L$19))/(OFFSET(OrderRange_Ref,,4)>0),ROWS($L$20:$L163)-OFFSET(Cumulative,,3)),IF(OFFSET(Cumulative,,5)>(ROW()-ROW($O$20)),_xlfn.AGGREGATE(15,6,(ROW(OrderRange_Ref)-ROW($L$19))/(OFFSET(OrderRange_Ref,,5)>0),ROWS($L$20:$L163)-OFFSET(Cumulative,,4)),\"\"))))))","v":""},"","","","",""]
[null,null,null,null,null,null,null,null,null,null,null,null,null,{"$f":"IF(Cumulative>(ROW()-ROW($O$20)),_xlfn.AGGREGATE(15,6,(ROW(OrderRange_Ref)-ROW($L$19))/(OFFSET(OrderRange_Ref,,0)>0),ROWS($L$20:$L164)),IF(OFFSET(Cumulative,,1)>(ROW()-ROW($O$20)),_xlfn.AGGREGATE(15,6,(ROW(OrderRange_Ref)-ROW($L$19))/(OFFSET(OrderRange_Ref,,1)>0),ROWS($L$20:$L164)-OFFSET(Cumulative,,0)),IF(OFFSET(Cumulative,,2)>(ROW()-ROW($O$20)),_xlfn.AGGREGATE(15,6,(ROW(OrderRange_Ref)-ROW($L$19))/(OFFSET(OrderRange_Ref,,2)>0),ROWS($L$20:$L164)-OFFSET(Cumulative,,1)),IF(OFFSET(Cumulative,,3)>(ROW()-ROW($O$20)),_xlfn.AGGREGATE(15,6,(ROW(OrderRange_Ref)-ROW($L$19))/(OFFSET(OrderRange_Ref,,3)>0),ROWS($L$20:$L164)-OFFSET(Cumulative,,2)),IF(OFFSET(Cumulative,,4)>(ROW()-ROW($O$20)),_xlfn.AGGREGATE(15,6,(ROW(OrderRange_Ref)-ROW($L$19))/(OFFSET(OrderRange_Ref,,4)>0),ROWS($L$20:$L164)-OFFSET(Cumulative,,3)),IF(OFFSET(Cumulative,,5)>(ROW()-ROW($O$20)),_xlfn.AGGREGATE(15,6,(ROW(OrderRange_Ref)-ROW($L$19))/(OFFSET(OrderRange_Ref,,5)>0),ROWS($L$20:$L164)-OFFSET(Cumulative,,4)),\"\"))))))","v":""},"","","","",""]
[null,null,null,null,null,null,null,null,null,null,null,null,null,{"$f":"IF(Cumulative>(ROW()-ROW($O$20)),_xlfn.AGGREGATE(15,6,(ROW(OrderRange_Ref)-ROW($L$19))/(OFFSET(OrderRange_Ref,,0)>0),ROWS($L$20:$L165)),IF(OFFSET(Cumulative,,1)>(ROW()-ROW($O$20)),_xlfn.AGGREGATE(15,6,(ROW(OrderRange_Ref)-ROW($L$19))/(OFFSET(OrderRange_Ref,,1)>0),ROWS($L$20:$L165)-OFFSET(Cumulative,,0)),IF(OFFSET(Cumulative,,2)>(ROW()-ROW($O$20)),_xlfn.AGGREGATE(15,6,(ROW(OrderRange_Ref)-ROW($L$19))/(OFFSET(OrderRange_Ref,,2)>0),ROWS($L$20:$L165)-OFFSET(Cumulative,,1)),IF(OFFSET(Cumulative,,3)>(ROW()-ROW($O$20)),_xlfn.AGGREGATE(15,6,(ROW(OrderRange_Ref)-ROW($L$19))/(OFFSET(OrderRange_Ref,,3)>0),ROWS($L$20:$L165)-OFFSET(Cumulative,,2)),IF(OFFSET(Cumulative,,4)>(ROW()-ROW($O$20)),_xlfn.AGGREGATE(15,6,(ROW(OrderRange_Ref)-ROW($L$19))/(OFFSET(OrderRange_Ref,,4)>0),ROWS($L$20:$L165)-OFFSET(Cumulative,,3)),IF(OFFSET(Cumulative,,5)>(ROW()-ROW($O$20)),_xlfn.AGGREGATE(15,6,(ROW(OrderRange_Ref)-ROW($L$19))/(OFFSET(OrderRange_Ref,,5)>0),ROWS($L$20:$L165)-OFFSET(Cumulative,,4)),\"\"))))))","v":""},"","","","",""]
[null,null,null,null,null,null,null,null,null,null,null,null,null,{"$f":"IF(Cumulative>(ROW()-ROW($O$20)),_xlfn.AGGREGATE(15,6,(ROW(OrderRange_Ref)-ROW($L$19))/(OFFSET(OrderRange_Ref,,0)>0),ROWS($L$20:$L166)),IF(OFFSET(Cumulative,,1)>(ROW()-ROW($O$20)),_xlfn.AGGREGATE(15,6,(ROW(OrderRange_Ref)-ROW($L$19))/(OFFSET(OrderRange_Ref,,1)>0),ROWS($L$20:$L166)-OFFSET(Cumulative,,0)),IF(OFFSET(Cumulative,,2)>(ROW()-ROW($O$20)),_xlfn.AGGREGATE(15,6,(ROW(OrderRange_Ref)-ROW($L$19))/(OFFSET(OrderRange_Ref,,2)>0),ROWS($L$20:$L166)-OFFSET(Cumulative,,1)),IF(OFFSET(Cumulative,,3)>(ROW()-ROW($O$20)),_xlfn.AGGREGATE(15,6,(ROW(OrderRange_Ref)-ROW($L$19))/(OFFSET(OrderRange_Ref,,3)>0),ROWS($L$20:$L166)-OFFSET(Cumulative,,2)),IF(OFFSET(Cumulative,,4)>(ROW()-ROW($O$20)),_xlfn.AGGREGATE(15,6,(ROW(OrderRange_Ref)-ROW($L$19))/(OFFSET(OrderRange_Ref,,4)>0),ROWS($L$20:$L166)-OFFSET(Cumulative,,3)),IF(OFFSET(Cumulative,,5)>(ROW()-ROW($O$20)),_xlfn.AGGREGATE(15,6,(ROW(OrderRange_Ref)-ROW($L$19))/(OFFSET(OrderRange_Ref,,5)>0),ROWS($L$20:$L166)-OFFSET(Cumulative,,4)),\"\"))))))","v":""},"","","","",""]
[null,null,null,null,null,null,null,null,null,null,null,null,null,{"$f":"IF(Cumulative>(ROW()-ROW($O$20)),_xlfn.AGGREGATE(15,6,(ROW(OrderRange_Ref)-ROW($L$19))/(OFFSET(OrderRange_Ref,,0)>0),ROWS($L$20:$L167)),IF(OFFSET(Cumulative,,1)>(ROW()-ROW($O$20)),_xlfn.AGGREGATE(15,6,(ROW(OrderRange_Ref)-ROW($L$19))/(OFFSET(OrderRange_Ref,,1)>0),ROWS($L$20:$L167)-OFFSET(Cumulative,,0)),IF(OFFSET(Cumulative,,2)>(ROW()-ROW($O$20)),_xlfn.AGGREGATE(15,6,(ROW(OrderRange_Ref)-ROW($L$19))/(OFFSET(OrderRange_Ref,,2)>0),ROWS($L$20:$L167)-OFFSET(Cumulative,,1)),IF(OFFSET(Cumulative,,3)>(ROW()-ROW($O$20)),_xlfn.AGGREGATE(15,6,(ROW(OrderRange_Ref)-ROW($L$19))/(OFFSET(OrderRange_Ref,,3)>0),ROWS($L$20:$L167)-OFFSET(Cumulative,,2)),IF(OFFSET(Cumulative,,4)>(ROW()-ROW($O$20)),_xlfn.AGGREGATE(15,6,(ROW(OrderRange_Ref)-ROW($L$19))/(OFFSET(OrderRange_Ref,,4)>0),ROWS($L$20:$L167)-OFFSET(Cumulative,,3)),IF(OFFSET(Cumulative,,5)>(ROW()-ROW($O$20)),_xlfn.AGGREGATE(15,6,(ROW(OrderRange_Ref)-ROW($L$19))/(OFFSET(OrderRange_Ref,,5)>0),ROWS($L$20:$L167)-OFFSET(Cumulative,,4)),\"\"))))))","v":""},"","","","",""]
[null,null,null,null,null,null,null,null,null,null,null,null,null,{"$f":"IF(Cumulative>(ROW()-ROW($O$20)),_xlfn.AGGREGATE(15,6,(ROW(OrderRange_Ref)-ROW($L$19))/(OFFSET(OrderRange_Ref,,0)>0),ROWS($L$20:$L168)),IF(OFFSET(Cumulative,,1)>(ROW()-ROW($O$20)),_xlfn.AGGREGATE(15,6,(ROW(OrderRange_Ref)-ROW($L$19))/(OFFSET(OrderRange_Ref,,1)>0),ROWS($L$20:$L168)-OFFSET(Cumulative,,0)),IF(OFFSET(Cumulative,,2)>(ROW()-ROW($O$20)),_xlfn.AGGREGATE(15,6,(ROW(OrderRange_Ref)-ROW($L$19))/(OFFSET(OrderRange_Ref,,2)>0),ROWS($L$20:$L168)-OFFSET(Cumulative,,1)),IF(OFFSET(Cumulative,,3)>(ROW()-ROW($O$20)),_xlfn.AGGREGATE(15,6,(ROW(OrderRange_Ref)-ROW($L$19))/(OFFSET(OrderRange_Ref,,3)>0),ROWS($L$20:$L168)-OFFSET(Cumulative,,2)),IF(OFFSET(Cumulative,,4)>(ROW()-ROW($O$20)),_xlfn.AGGREGATE(15,6,(ROW(OrderRange_Ref)-ROW($L$19))/(OFFSET(OrderRange_Ref,,4)>0),ROWS($L$20:$L168)-OFFSET(Cumulative,,3)),IF(OFFSET(Cumulative,,5)>(ROW()-ROW($O$20)),_xlfn.AGGREGATE(15,6,(ROW(OrderRange_Ref)-ROW($L$19))/(OFFSET(OrderRange_Ref,,5)>0),ROWS($L$20:$L168)-OFFSET(Cumulative,,4)),\"\"))))))","v":""},"","","","",""]
[null,null,null,null,null,null,null,null,null,null,null,null,null,{"$f":"IF(Cumulative>(ROW()-ROW($O$20)),_xlfn.AGGREGATE(15,6,(ROW(OrderRange_Ref)-ROW($L$19))/(OFFSET(OrderRange_Ref,,0)>0),ROWS($L$20:$L169)),IF(OFFSET(Cumulative,,1)>(ROW()-ROW($O$20)),_xlfn.AGGREGATE(15,6,(ROW(OrderRange_Ref)-ROW($L$19))/(OFFSET(OrderRange_Ref,,1)>0),ROWS($L$20:$L169)-OFFSET(Cumulative,,0)),IF(OFFSET(Cumulative,,2)>(ROW()-ROW($O$20)),_xlfn.AGGREGATE(15,6,(ROW(OrderRange_Ref)-ROW($L$19))/(OFFSET(OrderRange_Ref,,2)>0),ROWS($L$20:$L169)-OFFSET(Cumulative,,1)),IF(OFFSET(Cumulative,,3)>(ROW()-ROW($O$20)),_xlfn.AGGREGATE(15,6,(ROW(OrderRange_Ref)-ROW($L$19))/(OFFSET(OrderRange_Ref,,3)>0),ROWS($L$20:$L169)-OFFSET(Cumulative,,2)),IF(OFFSET(Cumulative,,4)>(ROW()-ROW($O$20)),_xlfn.AGGREGATE(15,6,(ROW(OrderRange_Ref)-ROW($L$19))/(OFFSET(OrderRange_Ref,,4)>0),ROWS($L$20:$L169)-OFFSET(Cumulative,,3)),IF(OFFSET(Cumulative,,5)>(ROW()-ROW($O$20)),_xlfn.AGGREGATE(15,6,(ROW(OrderRange_Ref)-ROW($L$19))/(OFFSET(OrderRange_Ref,,5)>0),ROWS($L$20:$L169)-OFFSET(Cumulative,,4)),\"\"))))))","v":""},"","","","",""]
[null,null,null,null,null,null,null,null,null,null,null,null,null,{"$f":"IF(Cumulative>(ROW()-ROW($O$20)),_xlfn.AGGREGATE(15,6,(ROW(OrderRange_Ref)-ROW($L$19))/(OFFSET(OrderRange_Ref,,0)>0),ROWS($L$20:$L170)),IF(OFFSET(Cumulative,,1)>(ROW()-ROW($O$20)),_xlfn.AGGREGATE(15,6,(ROW(OrderRange_Ref)-ROW($L$19))/(OFFSET(OrderRange_Ref,,1)>0),ROWS($L$20:$L170)-OFFSET(Cumulative,,0)),IF(OFFSET(Cumulative,,2)>(ROW()-ROW($O$20)),_xlfn.AGGREGATE(15,6,(ROW(OrderRange_Ref)-ROW($L$19))/(OFFSET(OrderRange_Ref,,2)>0),ROWS($L$20:$L170)-OFFSET(Cumulative,,1)),IF(OFFSET(Cumulative,,3)>(ROW()-ROW($O$20)),_xlfn.AGGREGATE(15,6,(ROW(OrderRange_Ref)-ROW($L$19))/(OFFSET(OrderRange_Ref,,3)>0),ROWS($L$20:$L170)-OFFSET(Cumulative,,2)),IF(OFFSET(Cumulative,,4)>(ROW()-ROW($O$20)),_xlfn.AGGREGATE(15,6,(ROW(OrderRange_Ref)-ROW($L$19))/(OFFSET(OrderRange_Ref,,4)>0),ROWS($L$20:$L170)-OFFSET(Cumulative,,3)),IF(OFFSET(Cumulative,,5)>(ROW()-ROW($O$20)),_xlfn.AGGREGATE(15,6,(ROW(OrderRange_Ref)-ROW($L$19))/(OFFSET(OrderRange_Ref,,5)>0),ROWS($L$20:$L170)-OFFSET(Cumulative,,4)),\"\"))))))","v":""},"","","","",""]
[null,null,null,null,null,null,null,null,null,null,null,null,null,{"$f":"IF(Cumulative>(ROW()-ROW($O$20)),_xlfn.AGGREGATE(15,6,(ROW(OrderRange_Ref)-ROW($L$19))/(OFFSET(OrderRange_Ref,,0)>0),ROWS($L$20:$L171)),IF(OFFSET(Cumulative,,1)>(ROW()-ROW($O$20)),_xlfn.AGGREGATE(15,6,(ROW(OrderRange_Ref)-ROW($L$19))/(OFFSET(OrderRange_Ref,,1)>0),ROWS($L$20:$L171)-OFFSET(Cumulative,,0)),IF(OFFSET(Cumulative,,2)>(ROW()-ROW($O$20)),_xlfn.AGGREGATE(15,6,(ROW(OrderRange_Ref)-ROW($L$19))/(OFFSET(OrderRange_Ref,,2)>0),ROWS($L$20:$L171)-OFFSET(Cumulative,,1)),IF(OFFSET(Cumulative,,3)>(ROW()-ROW($O$20)),_xlfn.AGGREGATE(15,6,(ROW(OrderRange_Ref)-ROW($L$19))/(OFFSET(OrderRange_Ref,,3)>0),ROWS($L$20:$L171)-OFFSET(Cumulative,,2)),IF(OFFSET(Cumulative,,4)>(ROW()-ROW($O$20)),_xlfn.AGGREGATE(15,6,(ROW(OrderRange_Ref)-ROW($L$19))/(OFFSET(OrderRange_Ref,,4)>0),ROWS($L$20:$L171)-OFFSET(Cumulative,,3)),IF(OFFSET(Cumulative,,5)>(ROW()-ROW($O$20)),_xlfn.AGGREGATE(15,6,(ROW(OrderRange_Ref)-ROW($L$19))/(OFFSET(OrderRange_Ref,,5)>0),ROWS($L$20:$L171)-OFFSET(Cumulative,,4)),\"\"))))))","v":""},"","","","",""]
[null,null,null,null,null,null,null,null,null,null,null,null,null,{"$f":"IF(Cumulative>(ROW()-ROW($O$20)),_xlfn.AGGREGATE(15,6,(ROW(OrderRange_Ref)-ROW($L$19))/(OFFSET(OrderRange_Ref,,0)>0),ROWS($L$20:$L172)),IF(OFFSET(Cumulative,,1)>(ROW()-ROW($O$20)),_xlfn.AGGREGATE(15,6,(ROW(OrderRange_Ref)-ROW($L$19))/(OFFSET(OrderRange_Ref,,1)>0),ROWS($L$20:$L172)-OFFSET(Cumulative,,0)),IF(OFFSET(Cumulative,,2)>(ROW()-ROW($O$20)),_xlfn.AGGREGATE(15,6,(ROW(OrderRange_Ref)-ROW($L$19))/(OFFSET(OrderRange_Ref,,2)>0),ROWS($L$20:$L172)-OFFSET(Cumulative,,1)),IF(OFFSET(Cumulative,,3)>(ROW()-ROW($O$20)),_xlfn.AGGREGATE(15,6,(ROW(OrderRange_Ref)-ROW($L$19))/(OFFSET(OrderRange_Ref,,3)>0),ROWS($L$20:$L172)-OFFSET(Cumulative,,2)),IF(OFFSET(Cumulative,,4)>(ROW()-ROW($O$20)),_xlfn.AGGREGATE(15,6,(ROW(OrderRange_Ref)-ROW($L$19))/(OFFSET(OrderRange_Ref,,4)>0),ROWS($L$20:$L172)-OFFSET(Cumulative,,3)),IF(OFFSET(Cumulative,,5)>(ROW()-ROW($O$20)),_xlfn.AGGREGATE(15,6,(ROW(OrderRange_Ref)-ROW($L$19))/(OFFSET(OrderRange_Ref,,5)>0),ROWS($L$20:$L172)-OFFSET(Cumulative,,4)),\"\"))))))","v":""},"","","","",""]
[null,null,null,null,null,null,null,null,null,null,null,null,null,{"$f":"IF(Cumulative>(ROW()-ROW($O$20)),_xlfn.AGGREGATE(15,6,(ROW(OrderRange_Ref)-ROW($L$19))/(OFFSET(OrderRange_Ref,,0)>0),ROWS($L$20:$L173)),IF(OFFSET(Cumulative,,1)>(ROW()-ROW($O$20)),_xlfn.AGGREGATE(15,6,(ROW(OrderRange_Ref)-ROW($L$19))/(OFFSET(OrderRange_Ref,,1)>0),ROWS($L$20:$L173)-OFFSET(Cumulative,,0)),IF(OFFSET(Cumulative,,2)>(ROW()-ROW($O$20)),_xlfn.AGGREGATE(15,6,(ROW(OrderRange_Ref)-ROW($L$19))/(OFFSET(OrderRange_Ref,,2)>0),ROWS($L$20:$L173)-OFFSET(Cumulative,,1)),IF(OFFSET(Cumulative,,3)>(ROW()-ROW($O$20)),_xlfn.AGGREGATE(15,6,(ROW(OrderRange_Ref)-ROW($L$19))/(OFFSET(OrderRange_Ref,,3)>0),ROWS($L$20:$L173)-OFFSET(Cumulative,,2)),IF(OFFSET(Cumulative,,4)>(ROW()-ROW($O$20)),_xlfn.AGGREGATE(15,6,(ROW(OrderRange_Ref)-ROW($L$19))/(OFFSET(OrderRange_Ref,,4)>0),ROWS($L$20:$L173)-OFFSET(Cumulative,,3)),IF(OFFSET(Cumulative,,5)>(ROW()-ROW($O$20)),_xlfn.AGGREGATE(15,6,(ROW(OrderRange_Ref)-ROW($L$19))/(OFFSET(OrderRange_Ref,,5)>0),ROWS($L$20:$L173)-OFFSET(Cumulative,,4)),\"\"))))))","v":""},"","","","",""]
[null,null,null,null,null,null,null,null,null,null,null,null,null,{"$f":"IF(Cumulative>(ROW()-ROW($O$20)),_xlfn.AGGREGATE(15,6,(ROW(OrderRange_Ref)-ROW($L$19))/(OFFSET(OrderRange_Ref,,0)>0),ROWS($L$20:$L174)),IF(OFFSET(Cumulative,,1)>(ROW()-ROW($O$20)),_xlfn.AGGREGATE(15,6,(ROW(OrderRange_Ref)-ROW($L$19))/(OFFSET(OrderRange_Ref,,1)>0),ROWS($L$20:$L174)-OFFSET(Cumulative,,0)),IF(OFFSET(Cumulative,,2)>(ROW()-ROW($O$20)),_xlfn.AGGREGATE(15,6,(ROW(OrderRange_Ref)-ROW($L$19))/(OFFSET(OrderRange_Ref,,2)>0),ROWS($L$20:$L174)-OFFSET(Cumulative,,1)),IF(OFFSET(Cumulative,,3)>(ROW()-ROW($O$20)),_xlfn.AGGREGATE(15,6,(ROW(OrderRange_Ref)-ROW($L$19))/(OFFSET(OrderRange_Ref,,3)>0),ROWS($L$20:$L174)-OFFSET(Cumulative,,2)),IF(OFFSET(Cumulative,,4)>(ROW()-ROW($O$20)),_xlfn.AGGREGATE(15,6,(ROW(OrderRange_Ref)-ROW($L$19))/(OFFSET(OrderRange_Ref,,4)>0),ROWS($L$20:$L174)-OFFSET(Cumulative,,3)),IF(OFFSET(Cumulative,,5)>(ROW()-ROW($O$20)),_xlfn.AGGREGATE(15,6,(ROW(OrderRange_Ref)-ROW($L$19))/(OFFSET(OrderRange_Ref,,5)>0),ROWS($L$20:$L174)-OFFSET(Cumulative,,4)),\"\"))))))","v":""},"","","","",""]
[null,null,null,null,null,null,null,null,null,null,null,null,null,{"$f":"IF(Cumulative>(ROW()-ROW($O$20)),_xlfn.AGGREGATE(15,6,(ROW(OrderRange_Ref)-ROW($L$19))/(OFFSET(OrderRange_Ref,,0)>0),ROWS($L$20:$L175)),IF(OFFSET(Cumulative,,1)>(ROW()-ROW($O$20)),_xlfn.AGGREGATE(15,6,(ROW(OrderRange_Ref)-ROW($L$19))/(OFFSET(OrderRange_Ref,,1)>0),ROWS($L$20:$L175)-OFFSET(Cumulative,,0)),IF(OFFSET(Cumulative,,2)>(ROW()-ROW($O$20)),_xlfn.AGGREGATE(15,6,(ROW(OrderRange_Ref)-ROW($L$19))/(OFFSET(OrderRange_Ref,,2)>0),ROWS($L$20:$L175)-OFFSET(Cumulative,,1)),IF(OFFSET(Cumulative,,3)>(ROW()-ROW($O$20)),_xlfn.AGGREGATE(15,6,(ROW(OrderRange_Ref)-ROW($L$19))/(OFFSET(OrderRange_Ref,,3)>0),ROWS($L$20:$L175)-OFFSET(Cumulative,,2)),IF(OFFSET(Cumulative,,4)>(ROW()-ROW($O$20)),_xlfn.AGGREGATE(15,6,(ROW(OrderRange_Ref)-ROW($L$19))/(OFFSET(OrderRange_Ref,,4)>0),ROWS($L$20:$L175)-OFFSET(Cumulative,,3)),IF(OFFSET(Cumulative,,5)>(ROW()-ROW($O$20)),_xlfn.AGGREGATE(15,6,(ROW(OrderRange_Ref)-ROW($L$19))/(OFFSET(OrderRange_Ref,,5)>0),ROWS($L$20:$L175)-OFFSET(Cumulative,,4)),\"\"))))))","v":""},"","","","",""]
[null,null,null,null,null,null,null,null,null,null,null,null,null,{"$f":"IF(Cumulative>(ROW()-ROW($O$20)),_xlfn.AGGREGATE(15,6,(ROW(OrderRange_Ref)-ROW($L$19))/(OFFSET(OrderRange_Ref,,0)>0),ROWS($L$20:$L176)),IF(OFFSET(Cumulative,,1)>(ROW()-ROW($O$20)),_xlfn.AGGREGATE(15,6,(ROW(OrderRange_Ref)-ROW($L$19))/(OFFSET(OrderRange_Ref,,1)>0),ROWS($L$20:$L176)-OFFSET(Cumulative,,0)),IF(OFFSET(Cumulative,,2)>(ROW()-ROW($O$20)),_xlfn.AGGREGATE(15,6,(ROW(OrderRange_Ref)-ROW($L$19))/(OFFSET(OrderRange_Ref,,2)>0),ROWS($L$20:$L176)-OFFSET(Cumulative,,1)),IF(OFFSET(Cumulative,,3)>(ROW()-ROW($O$20)),_xlfn.AGGREGATE(15,6,(ROW(OrderRange_Ref)-ROW($L$19))/(OFFSET(OrderRange_Ref,,3)>0),ROWS($L$20:$L176)-OFFSET(Cumulative,,2)),IF(OFFSET(Cumulative,,4)>(ROW()-ROW($O$20)),_xlfn.AGGREGATE(15,6,(ROW(OrderRange_Ref)-ROW($L$19))/(OFFSET(OrderRange_Ref,,4)>0),ROWS($L$20:$L176)-OFFSET(Cumulative,,3)),IF(OFFSET(Cumulative,,5)>(ROW()-ROW($O$20)),_xlfn.AGGREGATE(15,6,(ROW(OrderRange_Ref)-ROW($L$19))/(OFFSET(OrderRange_Ref,,5)>0),ROWS($L$20:$L176)-OFFSET(Cumulative,,4)),\"\"))))))","v":""},"","","","",""]
[null,null,null,null,null,null,null,null,null,null,null,null,null,{"$f":"IF(Cumulative>(ROW()-ROW($O$20)),_xlfn.AGGREGATE(15,6,(ROW(OrderRange_Ref)-ROW($L$19))/(OFFSET(OrderRange_Ref,,0)>0),ROWS($L$20:$L177)),IF(OFFSET(Cumulative,,1)>(ROW()-ROW($O$20)),_xlfn.AGGREGATE(15,6,(ROW(OrderRange_Ref)-ROW($L$19))/(OFFSET(OrderRange_Ref,,1)>0),ROWS($L$20:$L177)-OFFSET(Cumulative,,0)),IF(OFFSET(Cumulative,,2)>(ROW()-ROW($O$20)),_xlfn.AGGREGATE(15,6,(ROW(OrderRange_Ref)-ROW($L$19))/(OFFSET(OrderRange_Ref,,2)>0),ROWS($L$20:$L177)-OFFSET(Cumulative,,1)),IF(OFFSET(Cumulative,,3)>(ROW()-ROW($O$20)),_xlfn.AGGREGATE(15,6,(ROW(OrderRange_Ref)-ROW($L$19))/(OFFSET(OrderRange_Ref,,3)>0),ROWS($L$20:$L177)-OFFSET(Cumulative,,2)),IF(OFFSET(Cumulative,,4)>(ROW()-ROW($O$20)),_xlfn.AGGREGATE(15,6,(ROW(OrderRange_Ref)-ROW($L$19))/(OFFSET(OrderRange_Ref,,4)>0),ROWS($L$20:$L177)-OFFSET(Cumulative,,3)),IF(OFFSET(Cumulative,,5)>(ROW()-ROW($O$20)),_xlfn.AGGREGATE(15,6,(ROW(OrderRange_Ref)-ROW($L$19))/(OFFSET(OrderRange_Ref,,5)>0),ROWS($L$20:$L177)-OFFSET(Cumulative,,4)),\"\"))))))","v":""},"","","","",""]
[null,null,null,null,null,null,null,null,null,null,null,null,null,{"$f":"IF(Cumulative>(ROW()-ROW($O$20)),_xlfn.AGGREGATE(15,6,(ROW(OrderRange_Ref)-ROW($L$19))/(OFFSET(OrderRange_Ref,,0)>0),ROWS($L$20:$L178)),IF(OFFSET(Cumulative,,1)>(ROW()-ROW($O$20)),_xlfn.AGGREGATE(15,6,(ROW(OrderRange_Ref)-ROW($L$19))/(OFFSET(OrderRange_Ref,,1)>0),ROWS($L$20:$L178)-OFFSET(Cumulative,,0)),IF(OFFSET(Cumulative,,2)>(ROW()-ROW($O$20)),_xlfn.AGGREGATE(15,6,(ROW(OrderRange_Ref)-ROW($L$19))/(OFFSET(OrderRange_Ref,,2)>0),ROWS($L$20:$L178)-OFFSET(Cumulative,,1)),IF(OFFSET(Cumulative,,3)>(ROW()-ROW($O$20)),_xlfn.AGGREGATE(15,6,(ROW(OrderRange_Ref)-ROW($L$19))/(OFFSET(OrderRange_Ref,,3)>0),ROWS($L$20:$L178)-OFFSET(Cumulative,,2)),IF(OFFSET(Cumulative,,4)>(ROW()-ROW($O$20)),_xlfn.AGGREGATE(15,6,(ROW(OrderRange_Ref)-ROW($L$19))/(OFFSET(OrderRange_Ref,,4)>0),ROWS($L$20:$L178)-OFFSET(Cumulative,,3)),IF(OFFSET(Cumulative,,5)>(ROW()-ROW($O$20)),_xlfn.AGGREGATE(15,6,(ROW(OrderRange_Ref)-ROW($L$19))/(OFFSET(OrderRange_Ref,,5)>0),ROWS($L$20:$L178)-OFFSET(Cumulative,,4)),\"\"))))))","v":""},"","","","",""]
[null,null,null,null,null,null,null,null,null,null,null,null,null,{"$f":"IF(Cumulative>(ROW()-ROW($O$20)),_xlfn.AGGREGATE(15,6,(ROW(OrderRange_Ref)-ROW($L$19))/(OFFSET(OrderRange_Ref,,0)>0),ROWS($L$20:$L179)),IF(OFFSET(Cumulative,,1)>(ROW()-ROW($O$20)),_xlfn.AGGREGATE(15,6,(ROW(OrderRange_Ref)-ROW($L$19))/(OFFSET(OrderRange_Ref,,1)>0),ROWS($L$20:$L179)-OFFSET(Cumulative,,0)),IF(OFFSET(Cumulative,,2)>(ROW()-ROW($O$20)),_xlfn.AGGREGATE(15,6,(ROW(OrderRange_Ref)-ROW($L$19))/(OFFSET(OrderRange_Ref,,2)>0),ROWS($L$20:$L179)-OFFSET(Cumulative,,1)),IF(OFFSET(Cumulative,,3)>(ROW()-ROW($O$20)),_xlfn.AGGREGATE(15,6,(ROW(OrderRange_Ref)-ROW($L$19))/(OFFSET(OrderRange_Ref,,3)>0),ROWS($L$20:$L179)-OFFSET(Cumulative,,2)),IF(OFFSET(Cumulative,,4)>(ROW()-ROW($O$20)),_xlfn.AGGREGATE(15,6,(ROW(OrderRange_Ref)-ROW($L$19))/(OFFSET(OrderRange_Ref,,4)>0),ROWS($L$20:$L179)-OFFSET(Cumulative,,3)),IF(OFFSET(Cumulative,,5)>(ROW()-ROW($O$20)),_xlfn.AGGREGATE(15,6,(ROW(OrderRange_Ref)-ROW($L$19))/(OFFSET(OrderRange_Ref,,5)>0),ROWS($L$20:$L179)-OFFSET(Cumulative,,4)),\"\"))))))","v":""},"","","","",""]
[null,null,null,null,null,null,null,null,null,null,null,null,null,{"$f":"IF(Cumulative>(ROW()-ROW($O$20)),_xlfn.AGGREGATE(15,6,(ROW(OrderRange_Ref)-ROW($L$19))/(OFFSET(OrderRange_Ref,,0)>0),ROWS($L$20:$L180)),IF(OFFSET(Cumulative,,1)>(ROW()-ROW($O$20)),_xlfn.AGGREGATE(15,6,(ROW(OrderRange_Ref)-ROW($L$19))/(OFFSET(OrderRange_Ref,,1)>0),ROWS($L$20:$L180)-OFFSET(Cumulative,,0)),IF(OFFSET(Cumulative,,2)>(ROW()-ROW($O$20)),_xlfn.AGGREGATE(15,6,(ROW(OrderRange_Ref)-ROW($L$19))/(OFFSET(OrderRange_Ref,,2)>0),ROWS($L$20:$L180)-OFFSET(Cumulative,,1)),IF(OFFSET(Cumulative,,3)>(ROW()-ROW($O$20)),_xlfn.AGGREGATE(15,6,(ROW(OrderRange_Ref)-ROW($L$19))/(OFFSET(OrderRange_Ref,,3)>0),ROWS($L$20:$L180)-OFFSET(Cumulative,,2)),IF(OFFSET(Cumulative,,4)>(ROW()-ROW($O$20)),_xlfn.AGGREGATE(15,6,(ROW(OrderRange_Ref)-ROW($L$19))/(OFFSET(OrderRange_Ref,,4)>0),ROWS($L$20:$L180)-OFFSET(Cumulative,,3)),IF(OFFSET(Cumulative,,5)>(ROW()-ROW($O$20)),_xlfn.AGGREGATE(15,6,(ROW(OrderRange_Ref)-ROW($L$19))/(OFFSET(OrderRange_Ref,,5)>0),ROWS($L$20:$L180)-OFFSET(Cumulative,,4)),\"\"))))))","v":""},"","","","",""]
[null,null,null,null,null,null,null,null,null,null,null,null,null,{"$f":"IF(Cumulative>(ROW()-ROW($O$20)),_xlfn.AGGREGATE(15,6,(ROW(OrderRange_Ref)-ROW($L$19))/(OFFSET(OrderRange_Ref,,0)>0),ROWS($L$20:$L181)),IF(OFFSET(Cumulative,,1)>(ROW()-ROW($O$20)),_xlfn.AGGREGATE(15,6,(ROW(OrderRange_Ref)-ROW($L$19))/(OFFSET(OrderRange_Ref,,1)>0),ROWS($L$20:$L181)-OFFSET(Cumulative,,0)),IF(OFFSET(Cumulative,,2)>(ROW()-ROW($O$20)),_xlfn.AGGREGATE(15,6,(ROW(OrderRange_Ref)-ROW($L$19))/(OFFSET(OrderRange_Ref,,2)>0),ROWS($L$20:$L181)-OFFSET(Cumulative,,1)),IF(OFFSET(Cumulative,,3)>(ROW()-ROW($O$20)),_xlfn.AGGREGATE(15,6,(ROW(OrderRange_Ref)-ROW($L$19))/(OFFSET(OrderRange_Ref,,3)>0),ROWS($L$20:$L181)-OFFSET(Cumulative,,2)),IF(OFFSET(Cumulative,,4)>(ROW()-ROW($O$20)),_xlfn.AGGREGATE(15,6,(ROW(OrderRange_Ref)-ROW($L$19))/(OFFSET(OrderRange_Ref,,4)>0),ROWS($L$20:$L181)-OFFSET(Cumulative,,3)),IF(OFFSET(Cumulative,,5)>(ROW()-ROW($O$20)),_xlfn.AGGREGATE(15,6,(ROW(OrderRange_Ref)-ROW($L$19))/(OFFSET(OrderRange_Ref,,5)>0),ROWS($L$20:$L181)-OFFSET(Cumulative,,4)),\"\"))))))","v":""},"","","","",""]
[null,null,null,null,null,null,null,null,null,null,null,null,null,{"$f":"IF(Cumulative>(ROW()-ROW($O$20)),_xlfn.AGGREGATE(15,6,(ROW(OrderRange_Ref)-ROW($L$19))/(OFFSET(OrderRange_Ref,,0)>0),ROWS($L$20:$L182)),IF(OFFSET(Cumulative,,1)>(ROW()-ROW($O$20)),_xlfn.AGGREGATE(15,6,(ROW(OrderRange_Ref)-ROW($L$19))/(OFFSET(OrderRange_Ref,,1)>0),ROWS($L$20:$L182)-OFFSET(Cumulative,,0)),IF(OFFSET(Cumulative,,2)>(ROW()-ROW($O$20)),_xlfn.AGGREGATE(15,6,(ROW(OrderRange_Ref)-ROW($L$19))/(OFFSET(OrderRange_Ref,,2)>0),ROWS($L$20:$L182)-OFFSET(Cumulative,,1)),IF(OFFSET(Cumulative,,3)>(ROW()-ROW($O$20)),_xlfn.AGGREGATE(15,6,(ROW(OrderRange_Ref)-ROW($L$19))/(OFFSET(OrderRange_Ref,,3)>0),ROWS($L$20:$L182)-OFFSET(Cumulative,,2)),IF(OFFSET(Cumulative,,4)>(ROW()-ROW($O$20)),_xlfn.AGGREGATE(15,6,(ROW(OrderRange_Ref)-ROW($L$19))/(OFFSET(OrderRange_Ref,,4)>0),ROWS($L$20:$L182)-OFFSET(Cumulative,,3)),IF(OFFSET(Cumulative,,5)>(ROW()-ROW($O$20)),_xlfn.AGGREGATE(15,6,(ROW(OrderRange_Ref)-ROW($L$19))/(OFFSET(OrderRange_Ref,,5)>0),ROWS($L$20:$L182)-OFFSET(Cumulative,,4)),\"\"))))))","v":""},"","","","",""]
[null,null,null,null,null,null,null,null,null,null,null,null,null,{"$f":"IF(Cumulative>(ROW()-ROW($O$20)),_xlfn.AGGREGATE(15,6,(ROW(OrderRange_Ref)-ROW($L$19))/(OFFSET(OrderRange_Ref,,0)>0),ROWS($L$20:$L183)),IF(OFFSET(Cumulative,,1)>(ROW()-ROW($O$20)),_xlfn.AGGREGATE(15,6,(ROW(OrderRange_Ref)-ROW($L$19))/(OFFSET(OrderRange_Ref,,1)>0),ROWS($L$20:$L183)-OFFSET(Cumulative,,0)),IF(OFFSET(Cumulative,,2)>(ROW()-ROW($O$20)),_xlfn.AGGREGATE(15,6,(ROW(OrderRange_Ref)-ROW($L$19))/(OFFSET(OrderRange_Ref,,2)>0),ROWS($L$20:$L183)-OFFSET(Cumulative,,1)),IF(OFFSET(Cumulative,,3)>(ROW()-ROW($O$20)),_xlfn.AGGREGATE(15,6,(ROW(OrderRange_Ref)-ROW($L$19))/(OFFSET(OrderRange_Ref,,3)>0),ROWS($L$20:$L183)-OFFSET(Cumulative,,2)),IF(OFFSET(Cumulative,,4)>(ROW()-ROW($O$20)),_xlfn.AGGREGATE(15,6,(ROW(OrderRange_Ref)-ROW($L$19))/(OFFSET(OrderRange_Ref,,4)>0),ROWS($L$20:$L183)-OFFSET(Cumulative,,3)),IF(OFFSET(Cumulative,,5)>(ROW()-ROW($O$20)),_xlfn.AGGREGATE(15,6,(ROW(OrderRange_Ref)-ROW($L$19))/(OFFSET(OrderRange_Ref,,5)>0),ROWS($L$20:$L183)-OFFSET(Cumulative,,4)),\"\"))))))","v":""},"","","","",""]
[null,null,null,null,null,null,null,null,null,null,null,null,null,{"$f":"IF(Cumulative>(ROW()-ROW($O$20)),_xlfn.AGGREGATE(15,6,(ROW(OrderRange_Ref)-ROW($L$19))/(OFFSET(OrderRange_Ref,,0)>0),ROWS($L$20:$L184)),IF(OFFSET(Cumulative,,1)>(ROW()-ROW($O$20)),_xlfn.AGGREGATE(15,6,(ROW(OrderRange_Ref)-ROW($L$19))/(OFFSET(OrderRange_Ref,,1)>0),ROWS($L$20:$L184)-OFFSET(Cumulative,,0)),IF(OFFSET(Cumulative,,2)>(ROW()-ROW($O$20)),_xlfn.AGGREGATE(15,6,(ROW(OrderRange_Ref)-ROW($L$19))/(OFFSET(OrderRange_Ref,,2)>0),ROWS($L$20:$L184)-OFFSET(Cumulative,,1)),IF(OFFSET(Cumulative,,3)>(ROW()-ROW($O$20)),_xlfn.AGGREGATE(15,6,(ROW(OrderRange_Ref)-ROW($L$19))/(OFFSET(OrderRange_Ref,,3)>0),ROWS($L$20:$L184)-OFFSET(Cumulative,,2)),IF(OFFSET(Cumulative,,4)>(ROW()-ROW($O$20)),_xlfn.AGGREGATE(15,6,(ROW(OrderRange_Ref)-ROW($L$19))/(OFFSET(OrderRange_Ref,,4)>0),ROWS($L$20:$L184)-OFFSET(Cumulative,,3)),IF(OFFSET(Cumulative,,5)>(ROW()-ROW($O$20)),_xlfn.AGGREGATE(15,6,(ROW(OrderRange_Ref)-ROW($L$19))/(OFFSET(OrderRange_Ref,,5)>0),ROWS($L$20:$L184)-OFFSET(Cumulative,,4)),\"\"))))))","v":""},"","","","",""]
[null,null,null,null,null,null,null,null,null,null,null,null,null,{"$f":"IF(Cumulative>(ROW()-ROW($O$20)),_xlfn.AGGREGATE(15,6,(ROW(OrderRange_Ref)-ROW($L$19))/(OFFSET(OrderRange_Ref,,0)>0),ROWS($L$20:$L185)),IF(OFFSET(Cumulative,,1)>(ROW()-ROW($O$20)),_xlfn.AGGREGATE(15,6,(ROW(OrderRange_Ref)-ROW($L$19))/(OFFSET(OrderRange_Ref,,1)>0),ROWS($L$20:$L185)-OFFSET(Cumulative,,0)),IF(OFFSET(Cumulative,,2)>(ROW()-ROW($O$20)),_xlfn.AGGREGATE(15,6,(ROW(OrderRange_Ref)-ROW($L$19))/(OFFSET(OrderRange_Ref,,2)>0),ROWS($L$20:$L185)-OFFSET(Cumulative,,1)),IF(OFFSET(Cumulative,,3)>(ROW()-ROW($O$20)),_xlfn.AGGREGATE(15,6,(ROW(OrderRange_Ref)-ROW($L$19))/(OFFSET(OrderRange_Ref,,3)>0),ROWS($L$20:$L185)-OFFSET(Cumulative,,2)),IF(OFFSET(Cumulative,,4)>(ROW()-ROW($O$20)),_xlfn.AGGREGATE(15,6,(ROW(OrderRange_Ref)-ROW($L$19))/(OFFSET(OrderRange_Ref,,4)>0),ROWS($L$20:$L185)-OFFSET(Cumulative,,3)),IF(OFFSET(Cumulative,,5)>(ROW()-ROW($O$20)),_xlfn.AGGREGATE(15,6,(ROW(OrderRange_Ref)-ROW($L$19))/(OFFSET(OrderRange_Ref,,5)>0),ROWS($L$20:$L185)-OFFSET(Cumulative,,4)),\"\"))))))","v":""},"","","","",""]
[null,null,null,null,null,null,null,null,null,null,null,null,null,{"$f":"IF(Cumulative>(ROW()-ROW($O$20)),_xlfn.AGGREGATE(15,6,(ROW(OrderRange_Ref)-ROW($L$19))/(OFFSET(OrderRange_Ref,,0)>0),ROWS($L$20:$L186)),IF(OFFSET(Cumulative,,1)>(ROW()-ROW($O$20)),_xlfn.AGGREGATE(15,6,(ROW(OrderRange_Ref)-ROW($L$19))/(OFFSET(OrderRange_Ref,,1)>0),ROWS($L$20:$L186)-OFFSET(Cumulative,,0)),IF(OFFSET(Cumulative,,2)>(ROW()-ROW($O$20)),_xlfn.AGGREGATE(15,6,(ROW(OrderRange_Ref)-ROW($L$19))/(OFFSET(OrderRange_Ref,,2)>0),ROWS($L$20:$L186)-OFFSET(Cumulative,,1)),IF(OFFSET(Cumulative,,3)>(ROW()-ROW($O$20)),_xlfn.AGGREGATE(15,6,(ROW(OrderRange_Ref)-ROW($L$19))/(OFFSET(OrderRange_Ref,,3)>0),ROWS($L$20:$L186)-OFFSET(Cumulative,,2)),IF(OFFSET(Cumulative,,4)>(ROW()-ROW($O$20)),_xlfn.AGGREGATE(15,6,(ROW(OrderRange_Ref)-ROW($L$19))/(OFFSET(OrderRange_Ref,,4)>0),ROWS($L$20:$L186)-OFFSET(Cumulative,,3)),IF(OFFSET(Cumulative,,5)>(ROW()-ROW($O$20)),_xlfn.AGGREGATE(15,6,(ROW(OrderRange_Ref)-ROW($L$19))/(OFFSET(OrderRange_Ref,,5)>0),ROWS($L$20:$L186)-OFFSET(Cumulative,,4)),\"\"))))))","v":""},"","","","",""]
[null,null,null,null,null,null,null,null,null,null,null,null,null,{"$f":"IF(Cumulative>(ROW()-ROW($O$20)),_xlfn.AGGREGATE(15,6,(ROW(OrderRange_Ref)-ROW($L$19))/(OFFSET(OrderRange_Ref,,0)>0),ROWS($L$20:$L187)),IF(OFFSET(Cumulative,,1)>(ROW()-ROW($O$20)),_xlfn.AGGREGATE(15,6,(ROW(OrderRange_Ref)-ROW($L$19))/(OFFSET(OrderRange_Ref,,1)>0),ROWS($L$20:$L187)-OFFSET(Cumulative,,0)),IF(OFFSET(Cumulative,,2)>(ROW()-ROW($O$20)),_xlfn.AGGREGATE(15,6,(ROW(OrderRange_Ref)-ROW($L$19))/(OFFSET(OrderRange_Ref,,2)>0),ROWS($L$20:$L187)-OFFSET(Cumulative,,1)),IF(OFFSET(Cumulative,,3)>(ROW()-ROW($O$20)),_xlfn.AGGREGATE(15,6,(ROW(OrderRange_Ref)-ROW($L$19))/(OFFSET(OrderRange_Ref,,3)>0),ROWS($L$20:$L187)-OFFSET(Cumulative,,2)),IF(OFFSET(Cumulative,,4)>(ROW()-ROW($O$20)),_xlfn.AGGREGATE(15,6,(ROW(OrderRange_Ref)-ROW($L$19))/(OFFSET(OrderRange_Ref,,4)>0),ROWS($L$20:$L187)-OFFSET(Cumulative,,3)),IF(OFFSET(Cumulative,,5)>(ROW()-ROW($O$20)),_xlfn.AGGREGATE(15,6,(ROW(OrderRange_Ref)-ROW($L$19))/(OFFSET(OrderRange_Ref,,5)>0),ROWS($L$20:$L187)-OFFSET(Cumulative,,4)),\"\"))))))","v":""},"","","","",""]
[null,null,null,null,null,null,null,null,null,null,null,null,null,{"$f":"IF(Cumulative>(ROW()-ROW($O$20)),_xlfn.AGGREGATE(15,6,(ROW(OrderRange_Ref)-ROW($L$19))/(OFFSET(OrderRange_Ref,,0)>0),ROWS($L$20:$L188)),IF(OFFSET(Cumulative,,1)>(ROW()-ROW($O$20)),_xlfn.AGGREGATE(15,6,(ROW(OrderRange_Ref)-ROW($L$19))/(OFFSET(OrderRange_Ref,,1)>0),ROWS($L$20:$L188)-OFFSET(Cumulative,,0)),IF(OFFSET(Cumulative,,2)>(ROW()-ROW($O$20)),_xlfn.AGGREGATE(15,6,(ROW(OrderRange_Ref)-ROW($L$19))/(OFFSET(OrderRange_Ref,,2)>0),ROWS($L$20:$L188)-OFFSET(Cumulative,,1)),IF(OFFSET(Cumulative,,3)>(ROW()-ROW($O$20)),_xlfn.AGGREGATE(15,6,(ROW(OrderRange_Ref)-ROW($L$19))/(OFFSET(OrderRange_Ref,,3)>0),ROWS($L$20:$L188)-OFFSET(Cumulative,,2)),IF(OFFSET(Cumulative,,4)>(ROW()-ROW($O$20)),_xlfn.AGGREGATE(15,6,(ROW(OrderRange_Ref)-ROW($L$19))/(OFFSET(OrderRange_Ref,,4)>0),ROWS($L$20:$L188)-OFFSET(Cumulative,,3)),IF(OFFSET(Cumulative,,5)>(ROW()-ROW($O$20)),_xlfn.AGGREGATE(15,6,(ROW(OrderRange_Ref)-ROW($L$19))/(OFFSET(OrderRange_Ref,,5)>0),ROWS($L$20:$L188)-OFFSET(Cumulative,,4)),\"\"))))))","v":""},"","","","",""]
[null,null,null,null,null,null,null,null,null,null,null,null,null,{"$f":"IF(Cumulative>(ROW()-ROW($O$20)),_xlfn.AGGREGATE(15,6,(ROW(OrderRange_Ref)-ROW($L$19))/(OFFSET(OrderRange_Ref,,0)>0),ROWS($L$20:$L189)),IF(OFFSET(Cumulative,,1)>(ROW()-ROW($O$20)),_xlfn.AGGREGATE(15,6,(ROW(OrderRange_Ref)-ROW($L$19))/(OFFSET(OrderRange_Ref,,1)>0),ROWS($L$20:$L189)-OFFSET(Cumulative,,0)),IF(OFFSET(Cumulative,,2)>(ROW()-ROW($O$20)),_xlfn.AGGREGATE(15,6,(ROW(OrderRange_Ref)-ROW($L$19))/(OFFSET(OrderRange_Ref,,2)>0),ROWS($L$20:$L189)-OFFSET(Cumulative,,1)),IF(OFFSET(Cumulative,,3)>(ROW()-ROW($O$20)),_xlfn.AGGREGATE(15,6,(ROW(OrderRange_Ref)-ROW($L$19))/(OFFSET(OrderRange_Ref,,3)>0),ROWS($L$20:$L189)-OFFSET(Cumulative,,2)),IF(OFFSET(Cumulative,,4)>(ROW()-ROW($O$20)),_xlfn.AGGREGATE(15,6,(ROW(OrderRange_Ref)-ROW($L$19))/(OFFSET(OrderRange_Ref,,4)>0),ROWS($L$20:$L189)-OFFSET(Cumulative,,3)),IF(OFFSET(Cumulative,,5)>(ROW()-ROW($O$20)),_xlfn.AGGREGATE(15,6,(ROW(OrderRange_Ref)-ROW($L$19))/(OFFSET(OrderRange_Ref,,5)>0),ROWS($L$20:$L189)-OFFSET(Cumulative,,4)),\"\"))))))","v":""},"","","","",""]
[null,null,null,null,null,null,null,null,null,null,null,null,null,{"$f":"IF(Cumulative>(ROW()-ROW($O$20)),_xlfn.AGGREGATE(15,6,(ROW(OrderRange_Ref)-ROW($L$19))/(OFFSET(OrderRange_Ref,,0)>0),ROWS($L$20:$L190)),IF(OFFSET(Cumulative,,1)>(ROW()-ROW($O$20)),_xlfn.AGGREGATE(15,6,(ROW(OrderRange_Ref)-ROW($L$19))/(OFFSET(OrderRange_Ref,,1)>0),ROWS($L$20:$L190)-OFFSET(Cumulative,,0)),IF(OFFSET(Cumulative,,2)>(ROW()-ROW($O$20)),_xlfn.AGGREGATE(15,6,(ROW(OrderRange_Ref)-ROW($L$19))/(OFFSET(OrderRange_Ref,,2)>0),ROWS($L$20:$L190)-OFFSET(Cumulative,,1)),IF(OFFSET(Cumulative,,3)>(ROW()-ROW($O$20)),_xlfn.AGGREGATE(15,6,(ROW(OrderRange_Ref)-ROW($L$19))/(OFFSET(OrderRange_Ref,,3)>0),ROWS($L$20:$L190)-OFFSET(Cumulative,,2)),IF(OFFSET(Cumulative,,4)>(ROW()-ROW($O$20)),_xlfn.AGGREGATE(15,6,(ROW(OrderRange_Ref)-ROW($L$19))/(OFFSET(OrderRange_Ref,,4)>0),ROWS($L$20:$L190)-OFFSET(Cumulative,,3)),IF(OFFSET(Cumulative,,5)>(ROW()-ROW($O$20)),_xlfn.AGGREGATE(15,6,(ROW(OrderRange_Ref)-ROW($L$19))/(OFFSET(OrderRange_Ref,,5)>0),ROWS($L$20:$L190)-OFFSET(Cumulative,,4)),\"\"))))))","v":""},"","","","",""]
[null,null,null,null,null,null,null,null,null,null,null,null,null,{"$f":"IF(Cumulative>(ROW()-ROW($O$20)),_xlfn.AGGREGATE(15,6,(ROW(OrderRange_Ref)-ROW($L$19))/(OFFSET(OrderRange_Ref,,0)>0),ROWS($L$20:$L191)),IF(OFFSET(Cumulative,,1)>(ROW()-ROW($O$20)),_xlfn.AGGREGATE(15,6,(ROW(OrderRange_Ref)-ROW($L$19))/(OFFSET(OrderRange_Ref,,1)>0),ROWS($L$20:$L191)-OFFSET(Cumulative,,0)),IF(OFFSET(Cumulative,,2)>(ROW()-ROW($O$20)),_xlfn.AGGREGATE(15,6,(ROW(OrderRange_Ref)-ROW($L$19))/(OFFSET(OrderRange_Ref,,2)>0),ROWS($L$20:$L191)-OFFSET(Cumulative,,1)),IF(OFFSET(Cumulative,,3)>(ROW()-ROW($O$20)),_xlfn.AGGREGATE(15,6,(ROW(OrderRange_Ref)-ROW($L$19))/(OFFSET(OrderRange_Ref,,3)>0),ROWS($L$20:$L191)-OFFSET(Cumulative,,2)),IF(OFFSET(Cumulative,,4)>(ROW()-ROW($O$20)),_xlfn.AGGREGATE(15,6,(ROW(OrderRange_Ref)-ROW($L$19))/(OFFSET(OrderRange_Ref,,4)>0),ROWS($L$20:$L191)-OFFSET(Cumulative,,3)),IF(OFFSET(Cumulative,,5)>(ROW()-ROW($O$20)),_xlfn.AGGREGATE(15,6,(ROW(OrderRange_Ref)-ROW($L$19))/(OFFSET(OrderRange_Ref,,5)>0),ROWS($L$20:$L191)-OFFSET(Cumulative,,4)),\"\"))))))","v":""},"","","","",""]
[null,null,null,null,null,null,null,null,null,null,null,null,null,{"$f":"IF(Cumulative>(ROW()-ROW($O$20)),_xlfn.AGGREGATE(15,6,(ROW(OrderRange_Ref)-ROW($L$19))/(OFFSET(OrderRange_Ref,,0)>0),ROWS($L$20:$L192)),IF(OFFSET(Cumulative,,1)>(ROW()-ROW($O$20)),_xlfn.AGGREGATE(15,6,(ROW(OrderRange_Ref)-ROW($L$19))/(OFFSET(OrderRange_Ref,,1)>0),ROWS($L$20:$L192)-OFFSET(Cumulative,,0)),IF(OFFSET(Cumulative,,2)>(ROW()-ROW($O$20)),_xlfn.AGGREGATE(15,6,(ROW(OrderRange_Ref)-ROW($L$19))/(OFFSET(OrderRange_Ref,,2)>0),ROWS($L$20:$L192)-OFFSET(Cumulative,,1)),IF(OFFSET(Cumulative,,3)>(ROW()-ROW($O$20)),_xlfn.AGGREGATE(15,6,(ROW(OrderRange_Ref)-ROW($L$19))/(OFFSET(OrderRange_Ref,,3)>0),ROWS($L$20:$L192)-OFFSET(Cumulative,,2)),IF(OFFSET(Cumulative,,4)>(ROW()-ROW($O$20)),_xlfn.AGGREGATE(15,6,(ROW(OrderRange_Ref)-ROW($L$19))/(OFFSET(OrderRange_Ref,,4)>0),ROWS($L$20:$L192)-OFFSET(Cumulative,,3)),IF(OFFSET(Cumulative,,5)>(ROW()-ROW($O$20)),_xlfn.AGGREGATE(15,6,(ROW(OrderRange_Ref)-ROW($L$19))/(OFFSET(OrderRange_Ref,,5)>0),ROWS($L$20:$L192)-OFFSET(Cumulative,,4)),\"\"))))))","v":""},"","","","",""]
[null,null,null,null,null,null,null,null,null,null,null,null,null,{"$f":"IF(Cumulative>(ROW()-ROW($O$20)),_xlfn.AGGREGATE(15,6,(ROW(OrderRange_Ref)-ROW($L$19))/(OFFSET(OrderRange_Ref,,0)>0),ROWS($L$20:$L193)),IF(OFFSET(Cumulative,,1)>(ROW()-ROW($O$20)),_xlfn.AGGREGATE(15,6,(ROW(OrderRange_Ref)-ROW($L$19))/(OFFSET(OrderRange_Ref,,1)>0),ROWS($L$20:$L193)-OFFSET(Cumulative,,0)),IF(OFFSET(Cumulative,,2)>(ROW()-ROW($O$20)),_xlfn.AGGREGATE(15,6,(ROW(OrderRange_Ref)-ROW($L$19))/(OFFSET(OrderRange_Ref,,2)>0),ROWS($L$20:$L193)-OFFSET(Cumulative,,1)),IF(OFFSET(Cumulative,,3)>(ROW()-ROW($O$20)),_xlfn.AGGREGATE(15,6,(ROW(OrderRange_Ref)-ROW($L$19))/(OFFSET(OrderRange_Ref,,3)>0),ROWS($L$20:$L193)-OFFSET(Cumulative,,2)),IF(OFFSET(Cumulative,,4)>(ROW()-ROW($O$20)),_xlfn.AGGREGATE(15,6,(ROW(OrderRange_Ref)-ROW($L$19))/(OFFSET(OrderRange_Ref,,4)>0),ROWS($L$20:$L193)-OFFSET(Cumulative,,3)),IF(OFFSET(Cumulative,,5)>(ROW()-ROW($O$20)),_xlfn.AGGREGATE(15,6,(ROW(OrderRange_Ref)-ROW($L$19))/(OFFSET(OrderRange_Ref,,5)>0),ROWS($L$20:$L193)-OFFSET(Cumulative,,4)),\"\"))))))","v":""},"","","","",""]
[null,null,null,null,null,null,null,null,null,null,null,null,null,{"$f":"IF(Cumulative>(ROW()-ROW($O$20)),_xlfn.AGGREGATE(15,6,(ROW(OrderRange_Ref)-ROW($L$19))/(OFFSET(OrderRange_Ref,,0)>0),ROWS($L$20:$L194)),IF(OFFSET(Cumulative,,1)>(ROW()-ROW($O$20)),_xlfn.AGGREGATE(15,6,(ROW(OrderRange_Ref)-ROW($L$19))/(OFFSET(OrderRange_Ref,,1)>0),ROWS($L$20:$L194)-OFFSET(Cumulative,,0)),IF(OFFSET(Cumulative,,2)>(ROW()-ROW($O$20)),_xlfn.AGGREGATE(15,6,(ROW(OrderRange_Ref)-ROW($L$19))/(OFFSET(OrderRange_Ref,,2)>0),ROWS($L$20:$L194)-OFFSET(Cumulative,,1)),IF(OFFSET(Cumulative,,3)>(ROW()-ROW($O$20)),_xlfn.AGGREGATE(15,6,(ROW(OrderRange_Ref)-ROW($L$19))/(OFFSET(OrderRange_Ref,,3)>0),ROWS($L$20:$L194)-OFFSET(Cumulative,,2)),IF(OFFSET(Cumulative,,4)>(ROW()-ROW($O$20)),_xlfn.AGGREGATE(15,6,(ROW(OrderRange_Ref)-ROW($L$19))/(OFFSET(OrderRange_Ref,,4)>0),ROWS($L$20:$L194)-OFFSET(Cumulative,,3)),IF(OFFSET(Cumulative,,5)>(ROW()-ROW($O$20)),_xlfn.AGGREGATE(15,6,(ROW(OrderRange_Ref)-ROW($L$19))/(OFFSET(OrderRange_Ref,,5)>0),ROWS($L$20:$L194)-OFFSET(Cumulative,,4)),\"\"))))))","v":""},"","","","",""]
[null,null,null,null,null,null,null,null,null,null,null,null,null,{"$f":"IF(Cumulative>(ROW()-ROW($O$20)),_xlfn.AGGREGATE(15,6,(ROW(OrderRange_Ref)-ROW($L$19))/(OFFSET(OrderRange_Ref,,0)>0),ROWS($L$20:$L195)),IF(OFFSET(Cumulative,,1)>(ROW()-ROW($O$20)),_xlfn.AGGREGATE(15,6,(ROW(OrderRange_Ref)-ROW($L$19))/(OFFSET(OrderRange_Ref,,1)>0),ROWS($L$20:$L195)-OFFSET(Cumulative,,0)),IF(OFFSET(Cumulative,,2)>(ROW()-ROW($O$20)),_xlfn.AGGREGATE(15,6,(ROW(OrderRange_Ref)-ROW($L$19))/(OFFSET(OrderRange_Ref,,2)>0),ROWS($L$20:$L195)-OFFSET(Cumulative,,1)),IF(OFFSET(Cumulative,,3)>(ROW()-ROW($O$20)),_xlfn.AGGREGATE(15,6,(ROW(OrderRange_Ref)-ROW($L$19))/(OFFSET(OrderRange_Ref,,3)>0),ROWS($L$20:$L195)-OFFSET(Cumulative,,2)),IF(OFFSET(Cumulative,,4)>(ROW()-ROW($O$20)),_xlfn.AGGREGATE(15,6,(ROW(OrderRange_Ref)-ROW($L$19))/(OFFSET(OrderRange_Ref,,4)>0),ROWS($L$20:$L195)-OFFSET(Cumulative,,3)),IF(OFFSET(Cumulative,,5)>(ROW()-ROW($O$20)),_xlfn.AGGREGATE(15,6,(ROW(OrderRange_Ref)-ROW($L$19))/(OFFSET(OrderRange_Ref,,5)>0),ROWS($L$20:$L195)-OFFSET(Cumulative,,4)),\"\"))))))","v":""},"","","","",""]
[null,null,null,null,null,null,null,null,null,null,null,null,null,{"$f":"IF(Cumulative>(ROW()-ROW($O$20)),_xlfn.AGGREGATE(15,6,(ROW(OrderRange_Ref)-ROW($L$19))/(OFFSET(OrderRange_Ref,,0)>0),ROWS($L$20:$L196)),IF(OFFSET(Cumulative,,1)>(ROW()-ROW($O$20)),_xlfn.AGGREGATE(15,6,(ROW(OrderRange_Ref)-ROW($L$19))/(OFFSET(OrderRange_Ref,,1)>0),ROWS($L$20:$L196)-OFFSET(Cumulative,,0)),IF(OFFSET(Cumulative,,2)>(ROW()-ROW($O$20)),_xlfn.AGGREGATE(15,6,(ROW(OrderRange_Ref)-ROW($L$19))/(OFFSET(OrderRange_Ref,,2)>0),ROWS($L$20:$L196)-OFFSET(Cumulative,,1)),IF(OFFSET(Cumulative,,3)>(ROW()-ROW($O$20)),_xlfn.AGGREGATE(15,6,(ROW(OrderRange_Ref)-ROW($L$19))/(OFFSET(OrderRange_Ref,,3)>0),ROWS($L$20:$L196)-OFFSET(Cumulative,,2)),IF(OFFSET(Cumulative,,4)>(ROW()-ROW($O$20)),_xlfn.AGGREGATE(15,6,(ROW(OrderRange_Ref)-ROW($L$19))/(OFFSET(OrderRange_Ref,,4)>0),ROWS($L$20:$L196)-OFFSET(Cumulative,,3)),IF(OFFSET(Cumulative,,5)>(ROW()-ROW($O$20)),_xlfn.AGGREGATE(15,6,(ROW(OrderRange_Ref)-ROW($L$19))/(OFFSET(OrderRange_Ref,,5)>0),ROWS($L$20:$L196)-OFFSET(Cumulative,,4)),\"\"))))))","v":""},"","","","",""]
[null,null,null,null,null,null,null,null,null,null,null,null,null,{"$f":"IF(Cumulative>(ROW()-ROW($O$20)),_xlfn.AGGREGATE(15,6,(ROW(OrderRange_Ref)-ROW($L$19))/(OFFSET(OrderRange_Ref,,0)>0),ROWS($L$20:$L197)),IF(OFFSET(Cumulative,,1)>(ROW()-ROW($O$20)),_xlfn.AGGREGATE(15,6,(ROW(OrderRange_Ref)-ROW($L$19))/(OFFSET(OrderRange_Ref,,1)>0),ROWS($L$20:$L197)-OFFSET(Cumulative,,0)),IF(OFFSET(Cumulative,,2)>(ROW()-ROW($O$20)),_xlfn.AGGREGATE(15,6,(ROW(OrderRange_Ref)-ROW($L$19))/(OFFSET(OrderRange_Ref,,2)>0),ROWS($L$20:$L197)-OFFSET(Cumulative,,1)),IF(OFFSET(Cumulative,,3)>(ROW()-ROW($O$20)),_xlfn.AGGREGATE(15,6,(ROW(OrderRange_Ref)-ROW($L$19))/(OFFSET(OrderRange_Ref,,3)>0),ROWS($L$20:$L197)-OFFSET(Cumulative,,2)),IF(OFFSET(Cumulative,,4)>(ROW()-ROW($O$20)),_xlfn.AGGREGATE(15,6,(ROW(OrderRange_Ref)-ROW($L$19))/(OFFSET(OrderRange_Ref,,4)>0),ROWS($L$20:$L197)-OFFSET(Cumulative,,3)),IF(OFFSET(Cumulative,,5)>(ROW()-ROW($O$20)),_xlfn.AGGREGATE(15,6,(ROW(OrderRange_Ref)-ROW($L$19))/(OFFSET(OrderRange_Ref,,5)>0),ROWS($L$20:$L197)-OFFSET(Cumulative,,4)),\"\"))))))","v":""},"","","","",""]
[null,null,null,null,null,null,null,null,null,null,null,null,null,{"$f":"IF(Cumulative>(ROW()-ROW($O$20)),_xlfn.AGGREGATE(15,6,(ROW(OrderRange_Ref)-ROW($L$19))/(OFFSET(OrderRange_Ref,,0)>0),ROWS($L$20:$L198)),IF(OFFSET(Cumulative,,1)>(ROW()-ROW($O$20)),_xlfn.AGGREGATE(15,6,(ROW(OrderRange_Ref)-ROW($L$19))/(OFFSET(OrderRange_Ref,,1)>0),ROWS($L$20:$L198)-OFFSET(Cumulative,,0)),IF(OFFSET(Cumulative,,2)>(ROW()-ROW($O$20)),_xlfn.AGGREGATE(15,6,(ROW(OrderRange_Ref)-ROW($L$19))/(OFFSET(OrderRange_Ref,,2)>0),ROWS($L$20:$L198)-OFFSET(Cumulative,,1)),IF(OFFSET(Cumulative,,3)>(ROW()-ROW($O$20)),_xlfn.AGGREGATE(15,6,(ROW(OrderRange_Ref)-ROW($L$19))/(OFFSET(OrderRange_Ref,,3)>0),ROWS($L$20:$L198)-OFFSET(Cumulative,,2)),IF(OFFSET(Cumulative,,4)>(ROW()-ROW($O$20)),_xlfn.AGGREGATE(15,6,(ROW(OrderRange_Ref)-ROW($L$19))/(OFFSET(OrderRange_Ref,,4)>0),ROWS($L$20:$L198)-OFFSET(Cumulative,,3)),IF(OFFSET(Cumulative,,5)>(ROW()-ROW($O$20)),_xlfn.AGGREGATE(15,6,(ROW(OrderRange_Ref)-ROW($L$19))/(OFFSET(OrderRange_Ref,,5)>0),ROWS($L$20:$L198)-OFFSET(Cumulative,,4)),\"\"))))))","v":""},"","","","",""]
[null,null,null,null,null,null,null,null,null,null,null,null,null,{"$f":"IF(Cumulative>(ROW()-ROW($O$20)),_xlfn.AGGREGATE(15,6,(ROW(OrderRange_Ref)-ROW($L$19))/(OFFSET(OrderRange_Ref,,0)>0),ROWS($L$20:$L199)),IF(OFFSET(Cumulative,,1)>(ROW()-ROW($O$20)),_xlfn.AGGREGATE(15,6,(ROW(OrderRange_Ref)-ROW($L$19))/(OFFSET(OrderRange_Ref,,1)>0),ROWS($L$20:$L199)-OFFSET(Cumulative,,0)),IF(OFFSET(Cumulative,,2)>(ROW()-ROW($O$20)),_xlfn.AGGREGATE(15,6,(ROW(OrderRange_Ref)-ROW($L$19))/(OFFSET(OrderRange_Ref,,2)>0),ROWS($L$20:$L199)-OFFSET(Cumulative,,1)),IF(OFFSET(Cumulative,,3)>(ROW()-ROW($O$20)),_xlfn.AGGREGATE(15,6,(ROW(OrderRange_Ref)-ROW($L$19))/(OFFSET(OrderRange_Ref,,3)>0),ROWS($L$20:$L199)-OFFSET(Cumulative,,2)),IF(OFFSET(Cumulative,,4)>(ROW()-ROW($O$20)),_xlfn.AGGREGATE(15,6,(ROW(OrderRange_Ref)-ROW($L$19))/(OFFSET(OrderRange_Ref,,4)>0),ROWS($L$20:$L199)-OFFSET(Cumulative,,3)),IF(OFFSET(Cumulative,,5)>(ROW()-ROW($O$20)),_xlfn.AGGREGATE(15,6,(ROW(OrderRange_Ref)-ROW($L$19))/(OFFSET(OrderRange_Ref,,5)>0),ROWS($L$20:$L199)-OFFSET(Cumulative,,4)),\"\"))))))","v":""},"","","","",""]
[null,null,null,null,null,null,null,null,null,null,null,null,null,{"$f":"IF(Cumulative>(ROW()-ROW($O$20)),_xlfn.AGGREGATE(15,6,(ROW(OrderRange_Ref)-ROW($L$19))/(OFFSET(OrderRange_Ref,,0)>0),ROWS($L$20:$L200)),IF(OFFSET(Cumulative,,1)>(ROW()-ROW($O$20)),_xlfn.AGGREGATE(15,6,(ROW(OrderRange_Ref)-ROW($L$19))/(OFFSET(OrderRange_Ref,,1)>0),ROWS($L$20:$L200)-OFFSET(Cumulative,,0)),IF(OFFSET(Cumulative,,2)>(ROW()-ROW($O$20)),_xlfn.AGGREGATE(15,6,(ROW(OrderRange_Ref)-ROW($L$19))/(OFFSET(OrderRange_Ref,,2)>0),ROWS($L$20:$L200)-OFFSET(Cumulative,,1)),IF(OFFSET(Cumulative,,3)>(ROW()-ROW($O$20)),_xlfn.AGGREGATE(15,6,(ROW(OrderRange_Ref)-ROW($L$19))/(OFFSET(OrderRange_Ref,,3)>0),ROWS($L$20:$L200)-OFFSET(Cumulative,,2)),IF(OFFSET(Cumulative,,4)>(ROW()-ROW($O$20)),_xlfn.AGGREGATE(15,6,(ROW(OrderRange_Ref)-ROW($L$19))/(OFFSET(OrderRange_Ref,,4)>0),ROWS($L$20:$L200)-OFFSET(Cumulative,,3)),IF(OFFSET(Cumulative,,5)>(ROW()-ROW($O$20)),_xlfn.AGGREGATE(15,6,(ROW(OrderRange_Ref)-ROW($L$19))/(OFFSET(OrderRange_Ref,,5)>0),ROWS($L$20:$L200)-OFFSET(Cumulative,,4)),\"\"))))))","v":""},"","","","",""]
[null,null,null,null,null,null,null,null,null,null,null,null,null,{"$f":"IF(Cumulative>(ROW()-ROW($O$20)),_xlfn.AGGREGATE(15,6,(ROW(OrderRange_Ref)-ROW($L$19))/(OFFSET(OrderRange_Ref,,0)>0),ROWS($L$20:$L201)),IF(OFFSET(Cumulative,,1)>(ROW()-ROW($O$20)),_xlfn.AGGREGATE(15,6,(ROW(OrderRange_Ref)-ROW($L$19))/(OFFSET(OrderRange_Ref,,1)>0),ROWS($L$20:$L201)-OFFSET(Cumulative,,0)),IF(OFFSET(Cumulative,,2)>(ROW()-ROW($O$20)),_xlfn.AGGREGATE(15,6,(ROW(OrderRange_Ref)-ROW($L$19))/(OFFSET(OrderRange_Ref,,2)>0),ROWS($L$20:$L201)-OFFSET(Cumulative,,1)),IF(OFFSET(Cumulative,,3)>(ROW()-ROW($O$20)),_xlfn.AGGREGATE(15,6,(ROW(OrderRange_Ref)-ROW($L$19))/(OFFSET(OrderRange_Ref,,3)>0),ROWS($L$20:$L201)-OFFSET(Cumulative,,2)),IF(OFFSET(Cumulative,,4)>(ROW()-ROW($O$20)),_xlfn.AGGREGATE(15,6,(ROW(OrderRange_Ref)-ROW($L$19))/(OFFSET(OrderRange_Ref,,4)>0),ROWS($L$20:$L201)-OFFSET(Cumulative,,3)),IF(OFFSET(Cumulative,,5)>(ROW()-ROW($O$20)),_xlfn.AGGREGATE(15,6,(ROW(OrderRange_Ref)-ROW($L$19))/(OFFSET(OrderRange_Ref,,5)>0),ROWS($L$20:$L201)-OFFSET(Cumulative,,4)),\"\"))))))","v":""},"","","","",""]
[null,null,null,null,null,null,null,null,null,null,null,null,null,{"$f":"IF(Cumulative>(ROW()-ROW($O$20)),_xlfn.AGGREGATE(15,6,(ROW(OrderRange_Ref)-ROW($L$19))/(OFFSET(OrderRange_Ref,,0)>0),ROWS($L$20:$L202)),IF(OFFSET(Cumulative,,1)>(ROW()-ROW($O$20)),_xlfn.AGGREGATE(15,6,(ROW(OrderRange_Ref)-ROW($L$19))/(OFFSET(OrderRange_Ref,,1)>0),ROWS($L$20:$L202)-OFFSET(Cumulative,,0)),IF(OFFSET(Cumulative,,2)>(ROW()-ROW($O$20)),_xlfn.AGGREGATE(15,6,(ROW(OrderRange_Ref)-ROW($L$19))/(OFFSET(OrderRange_Ref,,2)>0),ROWS($L$20:$L202)-OFFSET(Cumulative,,1)),IF(OFFSET(Cumulative,,3)>(ROW()-ROW($O$20)),_xlfn.AGGREGATE(15,6,(ROW(OrderRange_Ref)-ROW($L$19))/(OFFSET(OrderRange_Ref,,3)>0),ROWS($L$20:$L202)-OFFSET(Cumulative,,2)),IF(OFFSET(Cumulative,,4)>(ROW()-ROW($O$20)),_xlfn.AGGREGATE(15,6,(ROW(OrderRange_Ref)-ROW($L$19))/(OFFSET(OrderRange_Ref,,4)>0),ROWS($L$20:$L202)-OFFSET(Cumulative,,3)),IF(OFFSET(Cumulative,,5)>(ROW()-ROW($O$20)),_xlfn.AGGREGATE(15,6,(ROW(OrderRange_Ref)-ROW($L$19))/(OFFSET(OrderRange_Ref,,5)>0),ROWS($L$20:$L202)-OFFSET(Cumulative,,4)),\"\"))))))","v":""},"","","","",""]
[null,null,null,null,null,null,null,null,null,null,null,null,null,{"$f":"IF(Cumulative>(ROW()-ROW($O$20)),_xlfn.AGGREGATE(15,6,(ROW(OrderRange_Ref)-ROW($L$19))/(OFFSET(OrderRange_Ref,,0)>0),ROWS($L$20:$L203)),IF(OFFSET(Cumulative,,1)>(ROW()-ROW($O$20)),_xlfn.AGGREGATE(15,6,(ROW(OrderRange_Ref)-ROW($L$19))/(OFFSET(OrderRange_Ref,,1)>0),ROWS($L$20:$L203)-OFFSET(Cumulative,,0)),IF(OFFSET(Cumulative,,2)>(ROW()-ROW($O$20)),_xlfn.AGGREGATE(15,6,(ROW(OrderRange_Ref)-ROW($L$19))/(OFFSET(OrderRange_Ref,,2)>0),ROWS($L$20:$L203)-OFFSET(Cumulative,,1)),IF(OFFSET(Cumulative,,3)>(ROW()-ROW($O$20)),_xlfn.AGGREGATE(15,6,(ROW(OrderRange_Ref)-ROW($L$19))/(OFFSET(OrderRange_Ref,,3)>0),ROWS($L$20:$L203)-OFFSET(Cumulative,,2)),IF(OFFSET(Cumulative,,4)>(ROW()-ROW($O$20)),_xlfn.AGGREGATE(15,6,(ROW(OrderRange_Ref)-ROW($L$19))/(OFFSET(OrderRange_Ref,,4)>0),ROWS($L$20:$L203)-OFFSET(Cumulative,,3)),IF(OFFSET(Cumulative,,5)>(ROW()-ROW($O$20)),_xlfn.AGGREGATE(15,6,(ROW(OrderRange_Ref)-ROW($L$19))/(OFFSET(OrderRange_Ref,,5)>0),ROWS($L$20:$L203)-OFFSET(Cumulative,,4)),\"\"))))))","v":""},"","","","",""]
[null,null,null,null,null,null,null,null,null,null,null,null,null,{"$f":"IF(Cumulative>(ROW()-ROW($O$20)),_xlfn.AGGREGATE(15,6,(ROW(OrderRange_Ref)-ROW($L$19))/(OFFSET(OrderRange_Ref,,0)>0),ROWS($L$20:$L204)),IF(OFFSET(Cumulative,,1)>(ROW()-ROW($O$20)),_xlfn.AGGREGATE(15,6,(ROW(OrderRange_Ref)-ROW($L$19))/(OFFSET(OrderRange_Ref,,1)>0),ROWS($L$20:$L204)-OFFSET(Cumulative,,0)),IF(OFFSET(Cumulative,,2)>(ROW()-ROW($O$20)),_xlfn.AGGREGATE(15,6,(ROW(OrderRange_Ref)-ROW($L$19))/(OFFSET(OrderRange_Ref,,2)>0),ROWS($L$20:$L204)-OFFSET(Cumulative,,1)),IF(OFFSET(Cumulative,,3)>(ROW()-ROW($O$20)),_xlfn.AGGREGATE(15,6,(ROW(OrderRange_Ref)-ROW($L$19))/(OFFSET(OrderRange_Ref,,3)>0),ROWS($L$20:$L204)-OFFSET(Cumulative,,2)),IF(OFFSET(Cumulative,,4)>(ROW()-ROW($O$20)),_xlfn.AGGREGATE(15,6,(ROW(OrderRange_Ref)-ROW($L$19))/(OFFSET(OrderRange_Ref,,4)>0),ROWS($L$20:$L204)-OFFSET(Cumulative,,3)),IF(OFFSET(Cumulative,,5)>(ROW()-ROW($O$20)),_xlfn.AGGREGATE(15,6,(ROW(OrderRange_Ref)-ROW($L$19))/(OFFSET(OrderRange_Ref,,5)>0),ROWS($L$20:$L204)-OFFSET(Cumulative,,4)),\"\"))))))","v":""},"","","","",""]
[null,null,null,null,null,null,null,null,null,null,null,null,null,{"$f":"IF(Cumulative>(ROW()-ROW($O$20)),_xlfn.AGGREGATE(15,6,(ROW(OrderRange_Ref)-ROW($L$19))/(OFFSET(OrderRange_Ref,,0)>0),ROWS($L$20:$L205)),IF(OFFSET(Cumulative,,1)>(ROW()-ROW($O$20)),_xlfn.AGGREGATE(15,6,(ROW(OrderRange_Ref)-ROW($L$19))/(OFFSET(OrderRange_Ref,,1)>0),ROWS($L$20:$L205)-OFFSET(Cumulative,,0)),IF(OFFSET(Cumulative,,2)>(ROW()-ROW($O$20)),_xlfn.AGGREGATE(15,6,(ROW(OrderRange_Ref)-ROW($L$19))/(OFFSET(OrderRange_Ref,,2)>0),ROWS($L$20:$L205)-OFFSET(Cumulative,,1)),IF(OFFSET(Cumulative,,3)>(ROW()-ROW($O$20)),_xlfn.AGGREGATE(15,6,(ROW(OrderRange_Ref)-ROW($L$19))/(OFFSET(OrderRange_Ref,,3)>0),ROWS($L$20:$L205)-OFFSET(Cumulative,,2)),IF(OFFSET(Cumulative,,4)>(ROW()-ROW($O$20)),_xlfn.AGGREGATE(15,6,(ROW(OrderRange_Ref)-ROW($L$19))/(OFFSET(OrderRange_Ref,,4)>0),ROWS($L$20:$L205)-OFFSET(Cumulative,,3)),IF(OFFSET(Cumulative,,5)>(ROW()-ROW($O$20)),_xlfn.AGGREGATE(15,6,(ROW(OrderRange_Ref)-ROW($L$19))/(OFFSET(OrderRange_Ref,,5)>0),ROWS($L$20:$L205)-OFFSET(Cumulative,,4)),\"\"))))))","v":""},"","","","",""]
[null,null,null,null,null,null,null,null,null,null,null,null,null,{"$f":"IF(Cumulative>(ROW()-ROW($O$20)),_xlfn.AGGREGATE(15,6,(ROW(OrderRange_Ref)-ROW($L$19))/(OFFSET(OrderRange_Ref,,0)>0),ROWS($L$20:$L206)),IF(OFFSET(Cumulative,,1)>(ROW()-ROW($O$20)),_xlfn.AGGREGATE(15,6,(ROW(OrderRange_Ref)-ROW($L$19))/(OFFSET(OrderRange_Ref,,1)>0),ROWS($L$20:$L206)-OFFSET(Cumulative,,0)),IF(OFFSET(Cumulative,,2)>(ROW()-ROW($O$20)),_xlfn.AGGREGATE(15,6,(ROW(OrderRange_Ref)-ROW($L$19))/(OFFSET(OrderRange_Ref,,2)>0),ROWS($L$20:$L206)-OFFSET(Cumulative,,1)),IF(OFFSET(Cumulative,,3)>(ROW()-ROW($O$20)),_xlfn.AGGREGATE(15,6,(ROW(OrderRange_Ref)-ROW($L$19))/(OFFSET(OrderRange_Ref,,3)>0),ROWS($L$20:$L206)-OFFSET(Cumulative,,2)),IF(OFFSET(Cumulative,,4)>(ROW()-ROW($O$20)),_xlfn.AGGREGATE(15,6,(ROW(OrderRange_Ref)-ROW($L$19))/(OFFSET(OrderRange_Ref,,4)>0),ROWS($L$20:$L206)-OFFSET(Cumulative,,3)),IF(OFFSET(Cumulative,,5)>(ROW()-ROW($O$20)),_xlfn.AGGREGATE(15,6,(ROW(OrderRange_Ref)-ROW($L$19))/(OFFSET(OrderRange_Ref,,5)>0),ROWS($L$20:$L206)-OFFSET(Cumulative,,4)),\"\"))))))","v":""},"","","","",""]
[null,null,null,null,null,null,null,null,null,null,null,null,null,{"$f":"IF(Cumulative>(ROW()-ROW($O$20)),_xlfn.AGGREGATE(15,6,(ROW(OrderRange_Ref)-ROW($L$19))/(OFFSET(OrderRange_Ref,,0)>0),ROWS($L$20:$L207)),IF(OFFSET(Cumulative,,1)>(ROW()-ROW($O$20)),_xlfn.AGGREGATE(15,6,(ROW(OrderRange_Ref)-ROW($L$19))/(OFFSET(OrderRange_Ref,,1)>0),ROWS($L$20:$L207)-OFFSET(Cumulative,,0)),IF(OFFSET(Cumulative,,2)>(ROW()-ROW($O$20)),_xlfn.AGGREGATE(15,6,(ROW(OrderRange_Ref)-ROW($L$19))/(OFFSET(OrderRange_Ref,,2)>0),ROWS($L$20:$L207)-OFFSET(Cumulative,,1)),IF(OFFSET(Cumulative,,3)>(ROW()-ROW($O$20)),_xlfn.AGGREGATE(15,6,(ROW(OrderRange_Ref)-ROW($L$19))/(OFFSET(OrderRange_Ref,,3)>0),ROWS($L$20:$L207)-OFFSET(Cumulative,,2)),IF(OFFSET(Cumulative,,4)>(ROW()-ROW($O$20)),_xlfn.AGGREGATE(15,6,(ROW(OrderRange_Ref)-ROW($L$19))/(OFFSET(OrderRange_Ref,,4)>0),ROWS($L$20:$L207)-OFFSET(Cumulative,,3)),IF(OFFSET(Cumulative,,5)>(ROW()-ROW($O$20)),_xlfn.AGGREGATE(15,6,(ROW(OrderRange_Ref)-ROW($L$19))/(OFFSET(OrderRange_Ref,,5)>0),ROWS($L$20:$L207)-OFFSET(Cumulative,,4)),\"\"))))))","v":""},"","","","",""]
[null,null,null,null,null,null,null,null,null,null,null,null,null,{"$f":"IF(Cumulative>(ROW()-ROW($O$20)),_xlfn.AGGREGATE(15,6,(ROW(OrderRange_Ref)-ROW($L$19))/(OFFSET(OrderRange_Ref,,0)>0),ROWS($L$20:$L208)),IF(OFFSET(Cumulative,,1)>(ROW()-ROW($O$20)),_xlfn.AGGREGATE(15,6,(ROW(OrderRange_Ref)-ROW($L$19))/(OFFSET(OrderRange_Ref,,1)>0),ROWS($L$20:$L208)-OFFSET(Cumulative,,0)),IF(OFFSET(Cumulative,,2)>(ROW()-ROW($O$20)),_xlfn.AGGREGATE(15,6,(ROW(OrderRange_Ref)-ROW($L$19))/(OFFSET(OrderRange_Ref,,2)>0),ROWS($L$20:$L208)-OFFSET(Cumulative,,1)),IF(OFFSET(Cumulative,,3)>(ROW()-ROW($O$20)),_xlfn.AGGREGATE(15,6,(ROW(OrderRange_Ref)-ROW($L$19))/(OFFSET(OrderRange_Ref,,3)>0),ROWS($L$20:$L208)-OFFSET(Cumulative,,2)),IF(OFFSET(Cumulative,,4)>(ROW()-ROW($O$20)),_xlfn.AGGREGATE(15,6,(ROW(OrderRange_Ref)-ROW($L$19))/(OFFSET(OrderRange_Ref,,4)>0),ROWS($L$20:$L208)-OFFSET(Cumulative,,3)),IF(OFFSET(Cumulative,,5)>(ROW()-ROW($O$20)),_xlfn.AGGREGATE(15,6,(ROW(OrderRange_Ref)-ROW($L$19))/(OFFSET(OrderRange_Ref,,5)>0),ROWS($L$20:$L208)-OFFSET(Cumulative,,4)),\"\"))))))","v":""},"","","","",""]
[null,null,null,null,null,null,null,null,null,null,null,null,null,{"$f":"IF(Cumulative>(ROW()-ROW($O$20)),_xlfn.AGGREGATE(15,6,(ROW(OrderRange_Ref)-ROW($L$19))/(OFFSET(OrderRange_Ref,,0)>0),ROWS($L$20:$L209)),IF(OFFSET(Cumulative,,1)>(ROW()-ROW($O$20)),_xlfn.AGGREGATE(15,6,(ROW(OrderRange_Ref)-ROW($L$19))/(OFFSET(OrderRange_Ref,,1)>0),ROWS($L$20:$L209)-OFFSET(Cumulative,,0)),IF(OFFSET(Cumulative,,2)>(ROW()-ROW($O$20)),_xlfn.AGGREGATE(15,6,(ROW(OrderRange_Ref)-ROW($L$19))/(OFFSET(OrderRange_Ref,,2)>0),ROWS($L$20:$L209)-OFFSET(Cumulative,,1)),IF(OFFSET(Cumulative,,3)>(ROW()-ROW($O$20)),_xlfn.AGGREGATE(15,6,(ROW(OrderRange_Ref)-ROW($L$19))/(OFFSET(OrderRange_Ref,,3)>0),ROWS($L$20:$L209)-OFFSET(Cumulative,,2)),IF(OFFSET(Cumulative,,4)>(ROW()-ROW($O$20)),_xlfn.AGGREGATE(15,6,(ROW(OrderRange_Ref)-ROW($L$19))/(OFFSET(OrderRange_Ref,,4)>0),ROWS($L$20:$L209)-OFFSET(Cumulative,,3)),IF(OFFSET(Cumulative,,5)>(ROW()-ROW($O$20)),_xlfn.AGGREGATE(15,6,(ROW(OrderRange_Ref)-ROW($L$19))/(OFFSET(OrderRange_Ref,,5)>0),ROWS($L$20:$L209)-OFFSET(Cumulative,,4)),\"\"))))))","v":""},"","","","",""]
[null,null,null,null,null,null,null,null,null,null,null,null,null,{"$f":"IF(Cumulative>(ROW()-ROW($O$20)),_xlfn.AGGREGATE(15,6,(ROW(OrderRange_Ref)-ROW($L$19))/(OFFSET(OrderRange_Ref,,0)>0),ROWS($L$20:$L210)),IF(OFFSET(Cumulative,,1)>(ROW()-ROW($O$20)),_xlfn.AGGREGATE(15,6,(ROW(OrderRange_Ref)-ROW($L$19))/(OFFSET(OrderRange_Ref,,1)>0),ROWS($L$20:$L210)-OFFSET(Cumulative,,0)),IF(OFFSET(Cumulative,,2)>(ROW()-ROW($O$20)),_xlfn.AGGREGATE(15,6,(ROW(OrderRange_Ref)-ROW($L$19))/(OFFSET(OrderRange_Ref,,2)>0),ROWS($L$20:$L210)-OFFSET(Cumulative,,1)),IF(OFFSET(Cumulative,,3)>(ROW()-ROW($O$20)),_xlfn.AGGREGATE(15,6,(ROW(OrderRange_Ref)-ROW($L$19))/(OFFSET(OrderRange_Ref,,3)>0),ROWS($L$20:$L210)-OFFSET(Cumulative,,2)),IF(OFFSET(Cumulative,,4)>(ROW()-ROW($O$20)),_xlfn.AGGREGATE(15,6,(ROW(OrderRange_Ref)-ROW($L$19))/(OFFSET(OrderRange_Ref,,4)>0),ROWS($L$20:$L210)-OFFSET(Cumulative,,3)),IF(OFFSET(Cumulative,,5)>(ROW()-ROW($O$20)),_xlfn.AGGREGATE(15,6,(ROW(OrderRange_Ref)-ROW($L$19))/(OFFSET(OrderRange_Ref,,5)>0),ROWS($L$20:$L210)-OFFSET(Cumulative,,4)),\"\"))))))","v":""},"","","","",""]
[null,null,null,null,null,null,null,null,null,null,null,null,null,{"$f":"IF(Cumulative>(ROW()-ROW($O$20)),_xlfn.AGGREGATE(15,6,(ROW(OrderRange_Ref)-ROW($L$19))/(OFFSET(OrderRange_Ref,,0)>0),ROWS($L$20:$L211)),IF(OFFSET(Cumulative,,1)>(ROW()-ROW($O$20)),_xlfn.AGGREGATE(15,6,(ROW(OrderRange_Ref)-ROW($L$19))/(OFFSET(OrderRange_Ref,,1)>0),ROWS($L$20:$L211)-OFFSET(Cumulative,,0)),IF(OFFSET(Cumulative,,2)>(ROW()-ROW($O$20)),_xlfn.AGGREGATE(15,6,(ROW(OrderRange_Ref)-ROW($L$19))/(OFFSET(OrderRange_Ref,,2)>0),ROWS($L$20:$L211)-OFFSET(Cumulative,,1)),IF(OFFSET(Cumulative,,3)>(ROW()-ROW($O$20)),_xlfn.AGGREGATE(15,6,(ROW(OrderRange_Ref)-ROW($L$19))/(OFFSET(OrderRange_Ref,,3)>0),ROWS($L$20:$L211)-OFFSET(Cumulative,,2)),IF(OFFSET(Cumulative,,4)>(ROW()-ROW($O$20)),_xlfn.AGGREGATE(15,6,(ROW(OrderRange_Ref)-ROW($L$19))/(OFFSET(OrderRange_Ref,,4)>0),ROWS($L$20:$L211)-OFFSET(Cumulative,,3)),IF(OFFSET(Cumulative,,5)>(ROW()-ROW($O$20)),_xlfn.AGGREGATE(15,6,(ROW(OrderRange_Ref)-ROW($L$19))/(OFFSET(OrderRange_Ref,,5)>0),ROWS($L$20:$L211)-OFFSET(Cumulative,,4)),\"\"))))))","v":""},"","","","",""]
[null,null,null,null,null,null,null,null,null,null,null,null,null,{"$f":"IF(Cumulative>(ROW()-ROW($O$20)),_xlfn.AGGREGATE(15,6,(ROW(OrderRange_Ref)-ROW($L$19))/(OFFSET(OrderRange_Ref,,0)>0),ROWS($L$20:$L212)),IF(OFFSET(Cumulative,,1)>(ROW()-ROW($O$20)),_xlfn.AGGREGATE(15,6,(ROW(OrderRange_Ref)-ROW($L$19))/(OFFSET(OrderRange_Ref,,1)>0),ROWS($L$20:$L212)-OFFSET(Cumulative,,0)),IF(OFFSET(Cumulative,,2)>(ROW()-ROW($O$20)),_xlfn.AGGREGATE(15,6,(ROW(OrderRange_Ref)-ROW($L$19))/(OFFSET(OrderRange_Ref,,2)>0),ROWS($L$20:$L212)-OFFSET(Cumulative,,1)),IF(OFFSET(Cumulative,,3)>(ROW()-ROW($O$20)),_xlfn.AGGREGATE(15,6,(ROW(OrderRange_Ref)-ROW($L$19))/(OFFSET(OrderRange_Ref,,3)>0),ROWS($L$20:$L212)-OFFSET(Cumulative,,2)),IF(OFFSET(Cumulative,,4)>(ROW()-ROW($O$20)),_xlfn.AGGREGATE(15,6,(ROW(OrderRange_Ref)-ROW($L$19))/(OFFSET(OrderRange_Ref,,4)>0),ROWS($L$20:$L212)-OFFSET(Cumulative,,3)),IF(OFFSET(Cumulative,,5)>(ROW()-ROW($O$20)),_xlfn.AGGREGATE(15,6,(ROW(OrderRange_Ref)-ROW($L$19))/(OFFSET(OrderRange_Ref,,5)>0),ROWS($L$20:$L212)-OFFSET(Cumulative,,4)),\"\"))))))","v":""},{"$f":"IF(Cumulative>(ROW()-ROW($O$20)),OrderDate,IF(OFFSET(Cumulative,,1)>(ROW()-ROW($O$20)),OrderDate+1,IF(OFFSET(Cumulative,,2)>(ROW()-ROW($O$20)),OrderDate+2,IF(OFFSET(Cumulative,,3)>(ROW()-ROW($O$20)),OrderDate+3,IF(OFFSET(Cumulative,,4)>(ROW()-ROW($O$20)),OrderDate+4,IF(OFFSET(Cumulative,,5)>(ROW()-ROW($O$20)),OrderDate+5,\"\"))))))","v":""},"","","",{"$f":"IF($N212=\"\",\"\",ROUND(INDEX(Order_Data,$N212,MATCH($O212,$D$18:$I$18,0)),0))","v":""}]
[null,null,null,null,null,null,null,null,null,null,null,null,null,{"$f":"IF(Cumulative>(ROW()-ROW($O$20)),_xlfn.AGGREGATE(15,6,(ROW(OrderRange_Ref)-ROW($L$19))/(OFFSET(OrderRange_Ref,,0)>0),ROWS($L$20:$L213)),IF(OFFSET(Cumulative,,1)>(ROW()-ROW($O$20)),_xlfn.AGGREGATE(15,6,(ROW(OrderRange_Ref)-ROW($L$19))/(OFFSET(OrderRange_Ref,,1)>0),ROWS($L$20:$L213)-OFFSET(Cumulative,,0)),IF(OFFSET(Cumulative,,2)>(ROW()-ROW($O$20)),_xlfn.AGGREGATE(15,6,(ROW(OrderRange_Ref)-ROW($L$19))/(OFFSET(OrderRange_Ref,,2)>0),ROWS($L$20:$L213)-OFFSET(Cumulative,,1)),IF(OFFSET(Cumulative,,3)>(ROW()-ROW($O$20)),_xlfn.AGGREGATE(15,6,(ROW(OrderRange_Ref)-ROW($L$19))/(OFFSET(OrderRange_Ref,,3)>0),ROWS($L$20:$L213)-OFFSET(Cumulative,,2)),IF(OFFSET(Cumulative,,4)>(ROW()-ROW($O$20)),_xlfn.AGGREGATE(15,6,(ROW(OrderRange_Ref)-ROW($L$19))/(OFFSET(OrderRange_Ref,,4)>0),ROWS($L$20:$L213)-OFFSET(Cumulative,,3)),IF(OFFSET(Cumulative,,5)>(ROW()-ROW($O$20)),_xlfn.AGGREGATE(15,6,(ROW(OrderRange_Ref)-ROW($L$19))/(OFFSET(OrderRange_Ref,,5)>0),ROWS($L$20:$L213)-OFFSET(Cumulative,,4)),\"\"))))))","v":""},"",{"$f":"IF($O213<>\"\",BranchCode,\"\")","v":""},{"$f":"IF($O213<>\"\",\"จ่าย\",\"\")","v":""},{"$f":"IFERROR(INDEX($C$20:$C$54,$N213),\"\")","v":""},""]
[null,null,null,null,null,null,null,null,null,null,null,null,null,{"$f":"IF(Cumulative>(ROW()-ROW($O$20)),_xlfn.AGGREGATE(15,6,(ROW(OrderRange_Ref)-ROW($L$19))/(OFFSET(OrderRange_Ref,,0)>0),ROWS($L$20:$L214)),IF(OFFSET(Cumulative,,1)>(ROW()-ROW($O$20)),_xlfn.AGGREGATE(15,6,(ROW(OrderRange_Ref)-ROW($L$19))/(OFFSET(OrderRange_Ref,,1)>0),ROWS($L$20:$L214)-OFFSET(Cumulative,,0)),IF(OFFSET(Cumulative,,2)>(ROW()-ROW($O$20)),_xlfn.AGGREGATE(15,6,(ROW(OrderRange_Ref)-ROW($L$19))/(OFFSET(OrderRange_Ref,,2)>0),ROWS($L$20:$L214)-OFFSET(Cumulative,,1)),IF(OFFSET(Cumulative,,3)>(ROW()-ROW($O$20)),_xlfn.AGGREGATE(15,6,(ROW(OrderRange_Ref)-ROW($L$19))/(OFFSET(OrderRange_Ref,,3)>0),ROWS($L$20:$L214)-OFFSET(Cumulative,,2)),IF(OFFSET(Cumulative,,4)>(ROW()-ROW($O$20)),_xlfn.AGGREGATE(15,6,(ROW(OrderRange_Ref)-ROW($L$19))/(OFFSET(OrderRange_Ref,,4)>0),ROWS($L$20:$L214)-OFFSET(Cumulative,,3)),IF(OFFSET(Cumulative,,5)>(ROW()-ROW($O$20)),_xlfn.AGGREGATE(15,6,(ROW(OrderRange_Ref)-ROW($L$19))/(OFFSET(OrderRange_Ref,,5)>0),ROWS($L$20:$L214)-OFFSET(Cumulative,,4)),\"\"))))))","v":""},"","","","",""]
[null,null,null,null,null,null,null,null,null,null,null,null,null,{"$f":"IF(Cumulative>(ROW()-ROW($O$20)),_xlfn.AGGREGATE(15,6,(ROW(OrderRange_Ref)-ROW($L$19))/(OFFSET(OrderRange_Ref,,0)>0),ROWS($L$20:$L215)),IF(OFFSET(Cumulative,,1)>(ROW()-ROW($O$20)),_xlfn.AGGREGATE(15,6,(ROW(OrderRange_Ref)-ROW($L$19))/(OFFSET(OrderRange_Ref,,1)>0),ROWS($L$20:$L215)-OFFSET(Cumulative,,0)),IF(OFFSET(Cumulative,,2)>(ROW()-ROW($O$20)),_xlfn.AGGREGATE(15,6,(ROW(OrderRange_Ref)-ROW($L$19))/(OFFSET(OrderRange_Ref,,2)>0),ROWS($L$20:$L215)-OFFSET(Cumulative,,1)),IF(OFFSET(Cumulative,,3)>(ROW()-ROW($O$20)),_xlfn.AGGREGATE(15,6,(ROW(OrderRange_Ref)-ROW($L$19))/(OFFSET(OrderRange_Ref,,3)>0),ROWS($L$20:$L215)-OFFSET(Cumulative,,2)),IF(OFFSET(Cumulative,,4)>(ROW()-ROW($O$20)),_xlfn.AGGREGATE(15,6,(ROW(OrderRange_Ref)-ROW($L$19))/(OFFSET(OrderRange_Ref,,4)>0),ROWS($L$20:$L215)-OFFSET(Cumulative,,3)),IF(OFFSET(Cumulative,,5)>(ROW()-ROW($O$20)),_xlfn.AGGREGATE(15,6,(ROW(OrderRange_Ref)-ROW($L$19))/(OFFSET(OrderRange_Ref,,5)>0),ROWS($L$20:$L215)-OFFSET(Cumulative,,4)),\"\"))))))","v":""},"","","","",""]
[null,null,null,null,null,null,null,null,null,null,null,null,null,{"$f":"IF(Cumulative>(ROW()-ROW($O$20)),_xlfn.AGGREGATE(15,6,(ROW(OrderRange_Ref)-ROW($L$19))/(OFFSET(OrderRange_Ref,,0)>0),ROWS($L$20:$L216)),IF(OFFSET(Cumulative,,1)>(ROW()-ROW($O$20)),_xlfn.AGGREGATE(15,6,(ROW(OrderRange_Ref)-ROW($L$19))/(OFFSET(OrderRange_Ref,,1)>0),ROWS($L$20:$L216)-OFFSET(Cumulative,,0)),IF(OFFSET(Cumulative,,2)>(ROW()-ROW($O$20)),_xlfn.AGGREGATE(15,6,(ROW(OrderRange_Ref)-ROW($L$19))/(OFFSET(OrderRange_Ref,,2)>0),ROWS($L$20:$L216)-OFFSET(Cumulative,,1)),IF(OFFSET(Cumulative,,3)>(ROW()-ROW($O$20)),_xlfn.AGGREGATE(15,6,(ROW(OrderRange_Ref)-ROW($L$19))/(OFFSET(OrderRange_Ref,,3)>0),ROWS($L$20:$L216)-OFFSET(Cumulative,,2)),IF(OFFSET(Cumulative,,4)>(ROW()-ROW($O$20)),_xlfn.AGGREGATE(15,6,(ROW(OrderRange_Ref)-ROW($L$19))/(OFFSET(OrderRange_Ref,,4)>0),ROWS($L$20:$L216)-OFFSET(Cumulative,,3)),IF(OFFSET(Cumulative,,5)>(ROW()-ROW($O$20)),_xlfn.AGGREGATE(15,6,(ROW(OrderRange_Ref)-ROW($L$19))/(OFFSET(OrderRange_Ref,,5)>0),ROWS($L$20:$L216)-OFFSET(Cumulative,,4)),\"\"))))))","v":""},"","","","",""]
[null,null,null,null,null,null,null,null,null,null,null,null,null,{"$f":"IF(Cumulative>(ROW()-ROW($O$20)),_xlfn.AGGREGATE(15,6,(ROW(OrderRange_Ref)-ROW($L$19))/(OFFSET(OrderRange_Ref,,0)>0),ROWS($L$20:$L217)),IF(OFFSET(Cumulative,,1)>(ROW()-ROW($O$20)),_xlfn.AGGREGATE(15,6,(ROW(OrderRange_Ref)-ROW($L$19))/(OFFSET(OrderRange_Ref,,1)>0),ROWS($L$20:$L217)-OFFSET(Cumulative,,0)),IF(OFFSET(Cumulative,,2)>(ROW()-ROW($O$20)),_xlfn.AGGREGATE(15,6,(ROW(OrderRange_Ref)-ROW($L$19))/(OFFSET(OrderRange_Ref,,2)>0),ROWS($L$20:$L217)-OFFSET(Cumulative,,1)),IF(OFFSET(Cumulative,,3)>(ROW()-ROW($O$20)),_xlfn.AGGREGATE(15,6,(ROW(OrderRange_Ref)-ROW($L$19))/(OFFSET(OrderRange_Ref,,3)>0),ROWS($L$20:$L217)-OFFSET(Cumulative,,2)),IF(OFFSET(Cumulative,,4)>(ROW()-ROW($O$20)),_xlfn.AGGREGATE(15,6,(ROW(OrderRange_Ref)-ROW($L$19))/(OFFSET(OrderRange_Ref,,4)>0),ROWS($L$20:$L217)-OFFSET(Cumulative,,3)),IF(OFFSET(Cumulative,,5)>(ROW()-ROW($O$20)),_xlfn.AGGREGATE(15,6,(ROW(OrderRange_Ref)-ROW($L$19))/(OFFSET(OrderRange_Ref,,5)>0),ROWS($L$20:$L217)-OFFSET(Cumulative,,4)),\"\"))))))","v":""},"","","","",""]
[null,null,null,null,null,null,null,null,null,null,null,null,null,{"$f":"IF(Cumulative>(ROW()-ROW($O$20)),_xlfn.AGGREGATE(15,6,(ROW(OrderRange_Ref)-ROW($L$19))/(OFFSET(OrderRange_Ref,,0)>0),ROWS($L$20:$L218)),IF(OFFSET(Cumulative,,1)>(ROW()-ROW($O$20)),_xlfn.AGGREGATE(15,6,(ROW(OrderRange_Ref)-ROW($L$19))/(OFFSET(OrderRange_Ref,,1)>0),ROWS($L$20:$L218)-OFFSET(Cumulative,,0)),IF(OFFSET(Cumulative,,2)>(ROW()-ROW($O$20)),_xlfn.AGGREGATE(15,6,(ROW(OrderRange_Ref)-ROW($L$19))/(OFFSET(OrderRange_Ref,,2)>0),ROWS($L$20:$L218)-OFFSET(Cumulative,,1)),IF(OFFSET(Cumulative,,3)>(ROW()-ROW($O$20)),_xlfn.AGGREGATE(15,6,(ROW(OrderRange_Ref)-ROW($L$19))/(OFFSET(OrderRange_Ref,,3)>0),ROWS($L$20:$L218)-OFFSET(Cumulative,,2)),IF(OFFSET(Cumulative,,4)>(ROW()-ROW($O$20)),_xlfn.AGGREGATE(15,6,(ROW(OrderRange_Ref)-ROW($L$19))/(OFFSET(OrderRange_Ref,,4)>0),ROWS($L$20:$L218)-OFFSET(Cumulative,,3)),IF(OFFSET(Cumulative,,5)>(ROW()-ROW($O$20)),_xlfn.AGGREGATE(15,6,(ROW(OrderRange_Ref)-ROW($L$19))/(OFFSET(OrderRange_Ref,,5)>0),ROWS($L$20:$L218)-OFFSET(Cumulative,,4)),\"\"))))))","v":""},"","","","",""]
[null,null,null,null,null,null,null,null,null,null,null,null,null,{"$f":"IF(Cumulative>(ROW()-ROW($O$20)),_xlfn.AGGREGATE(15,6,(ROW(OrderRange_Ref)-ROW($L$19))/(OFFSET(OrderRange_Ref,,0)>0),ROWS($L$20:$L219)),IF(OFFSET(Cumulative,,1)>(ROW()-ROW($O$20)),_xlfn.AGGREGATE(15,6,(ROW(OrderRange_Ref)-ROW($L$19))/(OFFSET(OrderRange_Ref,,1)>0),ROWS($L$20:$L219)-OFFSET(Cumulative,,0)),IF(OFFSET(Cumulative,,2)>(ROW()-ROW($O$20)),_xlfn.AGGREGATE(15,6,(ROW(OrderRange_Ref)-ROW($L$19))/(OFFSET(OrderRange_Ref,,2)>0),ROWS($L$20:$L219)-OFFSET(Cumulative,,1)),IF(OFFSET(Cumulative,,3)>(ROW()-ROW($O$20)),_xlfn.AGGREGATE(15,6,(ROW(OrderRange_Ref)-ROW($L$19))/(OFFSET(OrderRange_Ref,,3)>0),ROWS($L$20:$L219)-OFFSET(Cumulative,,2)),IF(OFFSET(Cumulative,,4)>(ROW()-ROW($O$20)),_xlfn.AGGREGATE(15,6,(ROW(OrderRange_Ref)-ROW($L$19))/(OFFSET(OrderRange_Ref,,4)>0),ROWS($L$20:$L219)-OFFSET(Cumulative,,3)),IF(OFFSET(Cumulative,,5)>(ROW()-ROW($O$20)),_xlfn.AGGREGATE(15,6,(ROW(OrderRange_Ref)-ROW($L$19))/(OFFSET(OrderRange_Ref,,5)>0),ROWS($L$20:$L219)-OFFSET(Cumulative,,4)),\"\"))))))","v":""},"","","","",""]
[null,null,null,null,null,null,null,null,null,null,null,null,null,{"$f":"IF(Cumulative>(ROW()-ROW($O$20)),_xlfn.AGGREGATE(15,6,(ROW(OrderRange_Ref)-ROW($L$19))/(OFFSET(OrderRange_Ref,,0)>0),ROWS($L$20:$L220)),IF(OFFSET(Cumulative,,1)>(ROW()-ROW($O$20)),_xlfn.AGGREGATE(15,6,(ROW(OrderRange_Ref)-ROW($L$19))/(OFFSET(OrderRange_Ref,,1)>0),ROWS($L$20:$L220)-OFFSET(Cumulative,,0)),IF(OFFSET(Cumulative,,2)>(ROW()-ROW($O$20)),_xlfn.AGGREGATE(15,6,(ROW(OrderRange_Ref)-ROW($L$19))/(OFFSET(OrderRange_Ref,,2)>0),ROWS($L$20:$L220)-OFFSET(Cumulative,,1)),IF(OFFSET(Cumulative,,3)>(ROW()-ROW($O$20)),_xlfn.AGGREGATE(15,6,(ROW(OrderRange_Ref)-ROW($L$19))/(OFFSET(OrderRange_Ref,,3)>0),ROWS($L$20:$L220)-OFFSET(Cumulative,,2)),IF(OFFSET(Cumulative,,4)>(ROW()-ROW($O$20)),_xlfn.AGGREGATE(15,6,(ROW(OrderRange_Ref)-ROW($L$19))/(OFFSET(OrderRange_Ref,,4)>0),ROWS($L$20:$L220)-OFFSET(Cumulative,,3)),IF(OFFSET(Cumulative,,5)>(ROW()-ROW($O$20)),_xlfn.AGGREGATE(15,6,(ROW(OrderRange_Ref)-ROW($L$19))/(OFFSET(OrderRange_Ref,,5)>0),ROWS($L$20:$L220)-OFFSET(Cumulative,,4)),\"\"))))))","v":""},"","","","",""]
[null,null,null,null,null,null,null,null,null,null,null,null,null,{"$f":"IF(Cumulative>(ROW()-ROW($O$20)),_xlfn.AGGREGATE(15,6,(ROW(OrderRange_Ref)-ROW($L$19))/(OFFSET(OrderRange_Ref,,0)>0),ROWS($L$20:$L221)),IF(OFFSET(Cumulative,,1)>(ROW()-ROW($O$20)),_xlfn.AGGREGATE(15,6,(ROW(OrderRange_Ref)-ROW($L$19))/(OFFSET(OrderRange_Ref,,1)>0),ROWS($L$20:$L221)-OFFSET(Cumulative,,0)),IF(OFFSET(Cumulative,,2)>(ROW()-ROW($O$20)),_xlfn.AGGREGATE(15,6,(ROW(OrderRange_Ref)-ROW($L$19))/(OFFSET(OrderRange_Ref,,2)>0),ROWS($L$20:$L221)-OFFSET(Cumulative,,1)),IF(OFFSET(Cumulative,,3)>(ROW()-ROW($O$20)),_xlfn.AGGREGATE(15,6,(ROW(OrderRange_Ref)-ROW($L$19))/(OFFSET(OrderRange_Ref,,3)>0),ROWS($L$20:$L221)-OFFSET(Cumulative,,2)),IF(OFFSET(Cumulative,,4)>(ROW()-ROW($O$20)),_xlfn.AGGREGATE(15,6,(ROW(OrderRange_Ref)-ROW($L$19))/(OFFSET(OrderRange_Ref,,4)>0),ROWS($L$20:$L221)-OFFSET(Cumulative,,3)),IF(OFFSET(Cumulative,,5)>(ROW()-ROW($O$20)),_xlfn.AGGREGATE(15,6,(ROW(OrderRange_Ref)-ROW($L$19))/(OFFSET(OrderRange_Ref,,5)>0),ROWS($L$20:$L221)-OFFSET(Cumulative,,4)),\"\"))))))","v":""},"","","","",""]
[null,null,null,null,null,null,null,null,null,null,null,null,null,{"$f":"IF(Cumulative>(ROW()-ROW($O$20)),_xlfn.AGGREGATE(15,6,(ROW(OrderRange_Ref)-ROW($L$19))/(OFFSET(OrderRange_Ref,,0)>0),ROWS($L$20:$L222)),IF(OFFSET(Cumulative,,1)>(ROW()-ROW($O$20)),_xlfn.AGGREGATE(15,6,(ROW(OrderRange_Ref)-ROW($L$19))/(OFFSET(OrderRange_Ref,,1)>0),ROWS($L$20:$L222)-OFFSET(Cumulative,,0)),IF(OFFSET(Cumulative,,2)>(ROW()-ROW($O$20)),_xlfn.AGGREGATE(15,6,(ROW(OrderRange_Ref)-ROW($L$19))/(OFFSET(OrderRange_Ref,,2)>0),ROWS($L$20:$L222)-OFFSET(Cumulative,,1)),IF(OFFSET(Cumulative,,3)>(ROW()-ROW($O$20)),_xlfn.AGGREGATE(15,6,(ROW(OrderRange_Ref)-ROW($L$19))/(OFFSET(OrderRange_Ref,,3)>0),ROWS($L$20:$L222)-OFFSET(Cumulative,,2)),IF(OFFSET(Cumulative,,4)>(ROW()-ROW($O$20)),_xlfn.AGGREGATE(15,6,(ROW(OrderRange_Ref)-ROW($L$19))/(OFFSET(OrderRange_Ref,,4)>0),ROWS($L$20:$L222)-OFFSET(Cumulative,,3)),IF(OFFSET(Cumulative,,5)>(ROW()-ROW($O$20)),_xlfn.AGGREGATE(15,6,(ROW(OrderRange_Ref)-ROW($L$19))/(OFFSET(OrderRange_Ref,,5)>0),ROWS($L$20:$L222)-OFFSET(Cumulative,,4)),\"\"))))))","v":""},"","","","",""]
[null,null,null,null,null,null,null,null,null,null,null,null,null,{"$f":"IF(Cumulative>(ROW()-ROW($O$20)),_xlfn.AGGREGATE(15,6,(ROW(OrderRange_Ref)-ROW($L$19))/(OFFSET(OrderRange_Ref,,0)>0),ROWS($L$20:$L223)),IF(OFFSET(Cumulative,,1)>(ROW()-ROW($O$20)),_xlfn.AGGREGATE(15,6,(ROW(OrderRange_Ref)-ROW($L$19))/(OFFSET(OrderRange_Ref,,1)>0),ROWS($L$20:$L223)-OFFSET(Cumulative,,0)),IF(OFFSET(Cumulative,,2)>(ROW()-ROW($O$20)),_xlfn.AGGREGATE(15,6,(ROW(OrderRange_Ref)-ROW($L$19))/(OFFSET(OrderRange_Ref,,2)>0),ROWS($L$20:$L223)-OFFSET(Cumulative,,1)),IF(OFFSET(Cumulative,,3)>(ROW()-ROW($O$20)),_xlfn.AGGREGATE(15,6,(ROW(OrderRange_Ref)-ROW($L$19))/(OFFSET(OrderRange_Ref,,3)>0),ROWS($L$20:$L223)-OFFSET(Cumulative,,2)),IF(OFFSET(Cumulative,,4)>(ROW()-ROW($O$20)),_xlfn.AGGREGATE(15,6,(ROW(OrderRange_Ref)-ROW($L$19))/(OFFSET(OrderRange_Ref,,4)>0),ROWS($L$20:$L223)-OFFSET(Cumulative,,3)),IF(OFFSET(Cumulative,,5)>(ROW()-ROW($O$20)),_xlfn.AGGREGATE(15,6,(ROW(OrderRange_Ref)-ROW($L$19))/(OFFSET(OrderRange_Ref,,5)>0),ROWS($L$20:$L223)-OFFSET(Cumulative,,4)),\"\"))))))","v":""},"","","","",""]
[null,null,null,null,null,null,null,null,null,null,null,null,null,{"$f":"IF(Cumulative>(ROW()-ROW($O$20)),_xlfn.AGGREGATE(15,6,(ROW(OrderRange_Ref)-ROW($L$19))/(OFFSET(OrderRange_Ref,,0)>0),ROWS($L$20:$L224)),IF(OFFSET(Cumulative,,1)>(ROW()-ROW($O$20)),_xlfn.AGGREGATE(15,6,(ROW(OrderRange_Ref)-ROW($L$19))/(OFFSET(OrderRange_Ref,,1)>0),ROWS($L$20:$L224)-OFFSET(Cumulative,,0)),IF(OFFSET(Cumulative,,2)>(ROW()-ROW($O$20)),_xlfn.AGGREGATE(15,6,(ROW(OrderRange_Ref)-ROW($L$19))/(OFFSET(OrderRange_Ref,,2)>0),ROWS($L$20:$L224)-OFFSET(Cumulative,,1)),IF(OFFSET(Cumulative,,3)>(ROW()-ROW($O$20)),_xlfn.AGGREGATE(15,6,(ROW(OrderRange_Ref)-ROW($L$19))/(OFFSET(OrderRange_Ref,,3)>0),ROWS($L$20:$L224)-OFFSET(Cumulative,,2)),IF(OFFSET(Cumulative,,4)>(ROW()-ROW($O$20)),_xlfn.AGGREGATE(15,6,(ROW(OrderRange_Ref)-ROW($L$19))/(OFFSET(OrderRange_Ref,,4)>0),ROWS($L$20:$L224)-OFFSET(Cumulative,,3)),IF(OFFSET(Cumulative,,5)>(ROW()-ROW($O$20)),_xlfn.AGGREGATE(15,6,(ROW(OrderRange_Ref)-ROW($L$19))/(OFFSET(OrderRange_Ref,,5)>0),ROWS($L$20:$L224)-OFFSET(Cumulative,,4)),\"\"))))))","v":""},"","","","",""]
[null,null,null,null,null,null,null,null,null,null,null,null,null,{"$f":"IF(Cumulative>(ROW()-ROW($O$20)),_xlfn.AGGREGATE(15,6,(ROW(OrderRange_Ref)-ROW($L$19))/(OFFSET(OrderRange_Ref,,0)>0),ROWS($L$20:$L225)),IF(OFFSET(Cumulative,,1)>(ROW()-ROW($O$20)),_xlfn.AGGREGATE(15,6,(ROW(OrderRange_Ref)-ROW($L$19))/(OFFSET(OrderRange_Ref,,1)>0),ROWS($L$20:$L225)-OFFSET(Cumulative,,0)),IF(OFFSET(Cumulative,,2)>(ROW()-ROW($O$20)),_xlfn.AGGREGATE(15,6,(ROW(OrderRange_Ref)-ROW($L$19))/(OFFSET(OrderRange_Ref,,2)>0),ROWS($L$20:$L225)-OFFSET(Cumulative,,1)),IF(OFFSET(Cumulative,,3)>(ROW()-ROW($O$20)),_xlfn.AGGREGATE(15,6,(ROW(OrderRange_Ref)-ROW($L$19))/(OFFSET(OrderRange_Ref,,3)>0),ROWS($L$20:$L225)-OFFSET(Cumulative,,2)),IF(OFFSET(Cumulative,,4)>(ROW()-ROW($O$20)),_xlfn.AGGREGATE(15,6,(ROW(OrderRange_Ref)-ROW($L$19))/(OFFSET(OrderRange_Ref,,4)>0),ROWS($L$20:$L225)-OFFSET(Cumulative,,3)),IF(OFFSET(Cumulative,,5)>(ROW()-ROW($O$20)),_xlfn.AGGREGATE(15,6,(ROW(OrderRange_Ref)-ROW($L$19))/(OFFSET(OrderRange_Ref,,5)>0),ROWS($L$20:$L225)-OFFSET(Cumulative,,4)),\"\"))))))","v":""},"","","","",""]
[null,null,null,null,null,null,null,null,null,null,null,null,null,{"$f":"IF(Cumulative>(ROW()-ROW($O$20)),_xlfn.AGGREGATE(15,6,(ROW(OrderRange_Ref)-ROW($L$19))/(OFFSET(OrderRange_Ref,,0)>0),ROWS($L$20:$L226)),IF(OFFSET(Cumulative,,1)>(ROW()-ROW($O$20)),_xlfn.AGGREGATE(15,6,(ROW(OrderRange_Ref)-ROW($L$19))/(OFFSET(OrderRange_Ref,,1)>0),ROWS($L$20:$L226)-OFFSET(Cumulative,,0)),IF(OFFSET(Cumulative,,2)>(ROW()-ROW($O$20)),_xlfn.AGGREGATE(15,6,(ROW(OrderRange_Ref)-ROW($L$19))/(OFFSET(OrderRange_Ref,,2)>0),ROWS($L$20:$L226)-OFFSET(Cumulative,,1)),IF(OFFSET(Cumulative,,3)>(ROW()-ROW($O$20)),_xlfn.AGGREGATE(15,6,(ROW(OrderRange_Ref)-ROW($L$19))/(OFFSET(OrderRange_Ref,,3)>0),ROWS($L$20:$L226)-OFFSET(Cumulative,,2)),IF(OFFSET(Cumulative,,4)>(ROW()-ROW($O$20)),_xlfn.AGGREGATE(15,6,(ROW(OrderRange_Ref)-ROW($L$19))/(OFFSET(OrderRange_Ref,,4)>0),ROWS($L$20:$L226)-OFFSET(Cumulative,,3)),IF(OFFSET(Cumulative,,5)>(ROW()-ROW($O$20)),_xlfn.AGGREGATE(15,6,(ROW(OrderRange_Ref)-ROW($L$19))/(OFFSET(OrderRange_Ref,,5)>0),ROWS($L$20:$L226)-OFFSET(Cumulative,,4)),\"\"))))))","v":""},"","","","",""]
[null,null,null,null,null,null,null,null,null,null,null,null,null,{"$f":"IF(Cumulative>(ROW()-ROW($O$20)),_xlfn.AGGREGATE(15,6,(ROW(OrderRange_Ref)-ROW($L$19))/(OFFSET(OrderRange_Ref,,0)>0),ROWS($L$20:$L227)),IF(OFFSET(Cumulative,,1)>(ROW()-ROW($O$20)),_xlfn.AGGREGATE(15,6,(ROW(OrderRange_Ref)-ROW($L$19))/(OFFSET(OrderRange_Ref,,1)>0),ROWS($L$20:$L227)-OFFSET(Cumulative,,0)),IF(OFFSET(Cumulative,,2)>(ROW()-ROW($O$20)),_xlfn.AGGREGATE(15,6,(ROW(OrderRange_Ref)-ROW($L$19))/(OFFSET(OrderRange_Ref,,2)>0),ROWS($L$20:$L227)-OFFSET(Cumulative,,1)),IF(OFFSET(Cumulative,,3)>(ROW()-ROW($O$20)),_xlfn.AGGREGATE(15,6,(ROW(OrderRange_Ref)-ROW($L$19))/(OFFSET(OrderRange_Ref,,3)>0),ROWS($L$20:$L227)-OFFSET(Cumulative,,2)),IF(OFFSET(Cumulative,,4)>(ROW()-ROW($O$20)),_xlfn.AGGREGATE(15,6,(ROW(OrderRange_Ref)-ROW($L$19))/(OFFSET(OrderRange_Ref,,4)>0),ROWS($L$20:$L227)-OFFSET(Cumulative,,3)),IF(OFFSET(Cumulative,,5)>(ROW()-ROW($O$20)),_xlfn.AGGREGATE(15,6,(ROW(OrderRange_Ref)-ROW($L$19))/(OFFSET(OrderRange_Ref,,5)>0),ROWS($L$20:$L227)-OFFSET(Cumulative,,4)),\"\"))))))","v":""},"","","","",""]
[null,null,null,null,null,null,null,null,null,null,null,null,null,{"$f":"IF(Cumulative>(ROW()-ROW($O$20)),_xlfn.AGGREGATE(15,6,(ROW(OrderRange_Ref)-ROW($L$19))/(OFFSET(OrderRange_Ref,,0)>0),ROWS($L$20:$L228)),IF(OFFSET(Cumulative,,1)>(ROW()-ROW($O$20)),_xlfn.AGGREGATE(15,6,(ROW(OrderRange_Ref)-ROW($L$19))/(OFFSET(OrderRange_Ref,,1)>0),ROWS($L$20:$L228)-OFFSET(Cumulative,,0)),IF(OFFSET(Cumulative,,2)>(ROW()-ROW($O$20)),_xlfn.AGGREGATE(15,6,(ROW(OrderRange_Ref)-ROW($L$19))/(OFFSET(OrderRange_Ref,,2)>0),ROWS($L$20:$L228)-OFFSET(Cumulative,,1)),IF(OFFSET(Cumulative,,3)>(ROW()-ROW($O$20)),_xlfn.AGGREGATE(15,6,(ROW(OrderRange_Ref)-ROW($L$19))/(OFFSET(OrderRange_Ref,,3)>0),ROWS($L$20:$L228)-OFFSET(Cumulative,,2)),IF(OFFSET(Cumulative,,4)>(ROW()-ROW($O$20)),_xlfn.AGGREGATE(15,6,(ROW(OrderRange_Ref)-ROW($L$19))/(OFFSET(OrderRange_Ref,,4)>0),ROWS($L$20:$L228)-OFFSET(Cumulative,,3)),IF(OFFSET(Cumulative,,5)>(ROW()-ROW($O$20)),_xlfn.AGGREGATE(15,6,(ROW(OrderRange_Ref)-ROW($L$19))/(OFFSET(OrderRange_Ref,,5)>0),ROWS($L$20:$L228)-OFFSET(Cumulative,,4)),\"\"))))))","v":""},"","","","",""]
[null,null,null,null,null,null,null,null,null,null,null,null,null,{"$f":"IF(Cumulative>(ROW()-ROW($O$20)),_xlfn.AGGREGATE(15,6,(ROW(OrderRange_Ref)-ROW($L$19))/(OFFSET(OrderRange_Ref,,0)>0),ROWS($L$20:$L229)),IF(OFFSET(Cumulative,,1)>(ROW()-ROW($O$20)),_xlfn.AGGREGATE(15,6,(ROW(OrderRange_Ref)-ROW($L$19))/(OFFSET(OrderRange_Ref,,1)>0),ROWS($L$20:$L229)-OFFSET(Cumulative,,0)),IF(OFFSET(Cumulative,,2)>(ROW()-ROW($O$20)),_xlfn.AGGREGATE(15,6,(ROW(OrderRange_Ref)-ROW($L$19))/(OFFSET(OrderRange_Ref,,2)>0),ROWS($L$20:$L229)-OFFSET(Cumulative,,1)),IF(OFFSET(Cumulative,,3)>(ROW()-ROW($O$20)),_xlfn.AGGREGATE(15,6,(ROW(OrderRange_Ref)-ROW($L$19))/(OFFSET(OrderRange_Ref,,3)>0),ROWS($L$20:$L229)-OFFSET(Cumulative,,2)),IF(OFFSET(Cumulative,,4)>(ROW()-ROW($O$20)),_xlfn.AGGREGATE(15,6,(ROW(OrderRange_Ref)-ROW($L$19))/(OFFSET(OrderRange_Ref,,4)>0),ROWS($L$20:$L229)-OFFSET(Cumulative,,3)),IF(OFFSET(Cumulative,,5)>(ROW()-ROW($O$20)),_xlfn.AGGREGATE(15,6,(ROW(OrderRange_Ref)-ROW($L$19))/(OFFSET(OrderRange_Ref,,5)>0),ROWS($L$20:$L229)-OFFSET(Cumulative,,4)),\"\"))))))","v":""},"","","","",""]
[null,null,null,null,null,null,null,null,null,null,null,null,null,{"$f":"IF(Cumulative>(ROW()-ROW($O$20)),_xlfn.AGGREGATE(15,6,(ROW(OrderRange_Ref)-ROW($L$19))/(OFFSET(OrderRange_Ref,,0)>0),ROWS($L$20:$L230)),IF(OFFSET(Cumulative,,1)>(ROW()-ROW($O$20)),_xlfn.AGGREGATE(15,6,(ROW(OrderRange_Ref)-ROW($L$19))/(OFFSET(OrderRange_Ref,,1)>0),ROWS($L$20:$L230)-OFFSET(Cumulative,,0)),IF(OFFSET(Cumulative,,2)>(ROW()-ROW($O$20)),_xlfn.AGGREGATE(15,6,(ROW(OrderRange_Ref)-ROW($L$19))/(OFFSET(OrderRange_Ref,,2)>0),ROWS($L$20:$L230)-OFFSET(Cumulative,,1)),IF(OFFSET(Cumulative,,3)>(ROW()-ROW($O$20)),_xlfn.AGGREGATE(15,6,(ROW(OrderRange_Ref)-ROW($L$19))/(OFFSET(OrderRange_Ref,,3)>0),ROWS($L$20:$L230)-OFFSET(Cumulative,,2)),IF(OFFSET(Cumulative,,4)>(ROW()-ROW($O$20)),_xlfn.AGGREGATE(15,6,(ROW(OrderRange_Ref)-ROW($L$19))/(OFFSET(OrderRange_Ref,,4)>0),ROWS($L$20:$L230)-OFFSET(Cumulative,,3)),IF(OFFSET(Cumulative,,5)>(ROW()-ROW($O$20)),_xlfn.AGGREGATE(15,6,(ROW(OrderRange_Ref)-ROW($L$19))/(OFFSET(OrderRange_Ref,,5)>0),ROWS($L$20:$L230)-OFFSET(Cumulative,,4)),\"\"))))))","v":""},"","","","",""]
[null,null,null,null,null,null,null,null,null,null,null,null,null,{"$f":"IF(Cumulative>(ROW()-ROW($O$20)),_xlfn.AGGREGATE(15,6,(ROW(OrderRange_Ref)-ROW($L$19))/(OFFSET(OrderRange_Ref,,0)>0),ROWS($L$20:$L231)),IF(OFFSET(Cumulative,,1)>(ROW()-ROW($O$20)),_xlfn.AGGREGATE(15,6,(ROW(OrderRange_Ref)-ROW($L$19))/(OFFSET(OrderRange_Ref,,1)>0),ROWS($L$20:$L231)-OFFSET(Cumulative,,0)),IF(OFFSET(Cumulative,,2)>(ROW()-ROW($O$20)),_xlfn.AGGREGATE(15,6,(ROW(OrderRange_Ref)-ROW($L$19))/(OFFSET(OrderRange_Ref,,2)>0),ROWS($L$20:$L231)-OFFSET(Cumulative,,1)),IF(OFFSET(Cumulative,,3)>(ROW()-ROW($O$20)),_xlfn.AGGREGATE(15,6,(ROW(OrderRange_Ref)-ROW($L$19))/(OFFSET(OrderRange_Ref,,3)>0),ROWS($L$20:$L231)-OFFSET(Cumulative,,2)),IF(OFFSET(Cumulative,,4)>(ROW()-ROW($O$20)),_xlfn.AGGREGATE(15,6,(ROW(OrderRange_Ref)-ROW($L$19))/(OFFSET(OrderRange_Ref,,4)>0),ROWS($L$20:$L231)-OFFSET(Cumulative,,3)),IF(OFFSET(Cumulative,,5)>(ROW()-ROW($O$20)),_xlfn.AGGREGATE(15,6,(ROW(OrderRange_Ref)-ROW($L$19))/(OFFSET(OrderRange_Ref,,5)>0),ROWS($L$20:$L231)-OFFSET(Cumulative,,4)),\"\"))))))","v":""},"","","","",""]
[null,null,null,null,null,null,null,null,null,null,null,null,null,{"$f":"IF(Cumulative>(ROW()-ROW($O$20)),_xlfn.AGGREGATE(15,6,(ROW(OrderRange_Ref)-ROW($L$19))/(OFFSET(OrderRange_Ref,,0)>0),ROWS($L$20:$L232)),IF(OFFSET(Cumulative,,1)>(ROW()-ROW($O$20)),_xlfn.AGGREGATE(15,6,(ROW(OrderRange_Ref)-ROW($L$19))/(OFFSET(OrderRange_Ref,,1)>0),ROWS($L$20:$L232)-OFFSET(Cumulative,,0)),IF(OFFSET(Cumulative,,2)>(ROW()-ROW($O$20)),_xlfn.AGGREGATE(15,6,(ROW(OrderRange_Ref)-ROW($L$19))/(OFFSET(OrderRange_Ref,,2)>0),ROWS($L$20:$L232)-OFFSET(Cumulative,,1)),IF(OFFSET(Cumulative,,3)>(ROW()-ROW($O$20)),_xlfn.AGGREGATE(15,6,(ROW(OrderRange_Ref)-ROW($L$19))/(OFFSET(OrderRange_Ref,,3)>0),ROWS($L$20:$L232)-OFFSET(Cumulative,,2)),IF(OFFSET(Cumulative,,4)>(ROW()-ROW($O$20)),_xlfn.AGGREGATE(15,6,(ROW(OrderRange_Ref)-ROW($L$19))/(OFFSET(OrderRange_Ref,,4)>0),ROWS($L$20:$L232)-OFFSET(Cumulative,,3)),IF(OFFSET(Cumulative,,5)>(ROW()-ROW($O$20)),_xlfn.AGGREGATE(15,6,(ROW(OrderRange_Ref)-ROW($L$19))/(OFFSET(OrderRange_Ref,,5)>0),ROWS($L$20:$L232)-OFFSET(Cumulative,,4)),\"\"))))))","v":""},"","","","",""]
[null,null,null,null,null,null,null,null,null,null,null,null,null,{"$f":"IF(Cumulative>(ROW()-ROW($O$20)),_xlfn.AGGREGATE(15,6,(ROW(OrderRange_Ref)-ROW($L$19))/(OFFSET(OrderRange_Ref,,0)>0),ROWS($L$20:$L233)),IF(OFFSET(Cumulative,,1)>(ROW()-ROW($O$20)),_xlfn.AGGREGATE(15,6,(ROW(OrderRange_Ref)-ROW($L$19))/(OFFSET(OrderRange_Ref,,1)>0),ROWS($L$20:$L233)-OFFSET(Cumulative,,0)),IF(OFFSET(Cumulative,,2)>(ROW()-ROW($O$20)),_xlfn.AGGREGATE(15,6,(ROW(OrderRange_Ref)-ROW($L$19))/(OFFSET(OrderRange_Ref,,2)>0),ROWS($L$20:$L233)-OFFSET(Cumulative,,1)),IF(OFFSET(Cumulative,,3)>(ROW()-ROW($O$20)),_xlfn.AGGREGATE(15,6,(ROW(OrderRange_Ref)-ROW($L$19))/(OFFSET(OrderRange_Ref,,3)>0),ROWS($L$20:$L233)-OFFSET(Cumulative,,2)),IF(OFFSET(Cumulative,,4)>(ROW()-ROW($O$20)),_xlfn.AGGREGATE(15,6,(ROW(OrderRange_Ref)-ROW($L$19))/(OFFSET(OrderRange_Ref,,4)>0),ROWS($L$20:$L233)-OFFSET(Cumulative,,3)),IF(OFFSET(Cumulative,,5)>(ROW()-ROW($O$20)),_xlfn.AGGREGATE(15,6,(ROW(OrderRange_Ref)-ROW($L$19))/(OFFSET(OrderRange_Ref,,5)>0),ROWS($L$20:$L233)-OFFSET(Cumulative,,4)),\"\"))))))","v":""},"","","","",""]
[null,null,null,null,null,null,null,null,null,null,null,null,null,{"$f":"IF(Cumulative>(ROW()-ROW($O$20)),_xlfn.AGGREGATE(15,6,(ROW(OrderRange_Ref)-ROW($L$19))/(OFFSET(OrderRange_Ref,,0)>0),ROWS($L$20:$L234)),IF(OFFSET(Cumulative,,1)>(ROW()-ROW($O$20)),_xlfn.AGGREGATE(15,6,(ROW(OrderRange_Ref)-ROW($L$19))/(OFFSET(OrderRange_Ref,,1)>0),ROWS($L$20:$L234)-OFFSET(Cumulative,,0)),IF(OFFSET(Cumulative,,2)>(ROW()-ROW($O$20)),_xlfn.AGGREGATE(15,6,(ROW(OrderRange_Ref)-ROW($L$19))/(OFFSET(OrderRange_Ref,,2)>0),ROWS($L$20:$L234)-OFFSET(Cumulative,,1)),IF(OFFSET(Cumulative,,3)>(ROW()-ROW($O$20)),_xlfn.AGGREGATE(15,6,(ROW(OrderRange_Ref)-ROW($L$19))/(OFFSET(OrderRange_Ref,,3)>0),ROWS($L$20:$L234)-OFFSET(Cumulative,,2)),IF(OFFSET(Cumulative,,4)>(ROW()-ROW($O$20)),_xlfn.AGGREGATE(15,6,(ROW(OrderRange_Ref)-ROW($L$19))/(OFFSET(OrderRange_Ref,,4)>0),ROWS($L$20:$L234)-OFFSET(Cumulative,,3)),IF(OFFSET(Cumulative,,5)>(ROW()-ROW($O$20)),_xlfn.AGGREGATE(15,6,(ROW(OrderRange_Ref)-ROW($L$19))/(OFFSET(OrderRange_Ref,,5)>0),ROWS($L$20:$L234)-OFFSET(Cumulative,,4)),\"\"))))))","v":""},"","","","",""]
[null,null,null,null,null,null,null,null,null,null,null,null,null,{"$f":"IF(Cumulative>(ROW()-ROW($O$20)),_xlfn.AGGREGATE(15,6,(ROW(OrderRange_Ref)-ROW($L$19))/(OFFSET(OrderRange_Ref,,0)>0),ROWS($L$20:$L235)),IF(OFFSET(Cumulative,,1)>(ROW()-ROW($O$20)),_xlfn.AGGREGATE(15,6,(ROW(OrderRange_Ref)-ROW($L$19))/(OFFSET(OrderRange_Ref,,1)>0),ROWS($L$20:$L235)-OFFSET(Cumulative,,0)),IF(OFFSET(Cumulative,,2)>(ROW()-ROW($O$20)),_xlfn.AGGREGATE(15,6,(ROW(OrderRange_Ref)-ROW($L$19))/(OFFSET(OrderRange_Ref,,2)>0),ROWS($L$20:$L235)-OFFSET(Cumulative,,1)),IF(OFFSET(Cumulative,,3)>(ROW()-ROW($O$20)),_xlfn.AGGREGATE(15,6,(ROW(OrderRange_Ref)-ROW($L$19))/(OFFSET(OrderRange_Ref,,3)>0),ROWS($L$20:$L235)-OFFSET(Cumulative,,2)),IF(OFFSET(Cumulative,,4)>(ROW()-ROW($O$20)),_xlfn.AGGREGATE(15,6,(ROW(OrderRange_Ref)-ROW($L$19))/(OFFSET(OrderRange_Ref,,4)>0),ROWS($L$20:$L235)-OFFSET(Cumulative,,3)),IF(OFFSET(Cumulative,,5)>(ROW()-ROW($O$20)),_xlfn.AGGREGATE(15,6,(ROW(OrderRange_Ref)-ROW($L$19))/(OFFSET(OrderRange_Ref,,5)>0),ROWS($L$20:$L235)-OFFSET(Cumulative,,4)),\"\"))))))","v":""},"","","","",""]
[null,null,null,null,null,null,null,null,null,null,null,null,null,{"$f":"IF(Cumulative>(ROW()-ROW($O$20)),_xlfn.AGGREGATE(15,6,(ROW(OrderRange_Ref)-ROW($L$19))/(OFFSET(OrderRange_Ref,,0)>0),ROWS($L$20:$L236)),IF(OFFSET(Cumulative,,1)>(ROW()-ROW($O$20)),_xlfn.AGGREGATE(15,6,(ROW(OrderRange_Ref)-ROW($L$19))/(OFFSET(OrderRange_Ref,,1)>0),ROWS($L$20:$L236)-OFFSET(Cumulative,,0)),IF(OFFSET(Cumulative,,2)>(ROW()-ROW($O$20)),_xlfn.AGGREGATE(15,6,(ROW(OrderRange_Ref)-ROW($L$19))/(OFFSET(OrderRange_Ref,,2)>0),ROWS($L$20:$L236)-OFFSET(Cumulative,,1)),IF(OFFSET(Cumulative,,3)>(ROW()-ROW($O$20)),_xlfn.AGGREGATE(15,6,(ROW(OrderRange_Ref)-ROW($L$19))/(OFFSET(OrderRange_Ref,,3)>0),ROWS($L$20:$L236)-OFFSET(Cumulative,,2)),IF(OFFSET(Cumulative,,4)>(ROW()-ROW($O$20)),_xlfn.AGGREGATE(15,6,(ROW(OrderRange_Ref)-ROW($L$19))/(OFFSET(OrderRange_Ref,,4)>0),ROWS($L$20:$L236)-OFFSET(Cumulative,,3)),IF(OFFSET(Cumulative,,5)>(ROW()-ROW($O$20)),_xlfn.AGGREGATE(15,6,(ROW(OrderRange_Ref)-ROW($L$19))/(OFFSET(OrderRange_Ref,,5)>0),ROWS($L$20:$L236)-OFFSET(Cumulative,,4)),\"\"))))))","v":""},"","","","",""]
[null,null,null,null,null,null,null,null,null,null,null,null,null,{"$f":"IF(Cumulative>(ROW()-ROW($O$20)),_xlfn.AGGREGATE(15,6,(ROW(OrderRange_Ref)-ROW($L$19))/(OFFSET(OrderRange_Ref,,0)>0),ROWS($L$20:$L237)),IF(OFFSET(Cumulative,,1)>(ROW()-ROW($O$20)),_xlfn.AGGREGATE(15,6,(ROW(OrderRange_Ref)-ROW($L$19))/(OFFSET(OrderRange_Ref,,1)>0),ROWS($L$20:$L237)-OFFSET(Cumulative,,0)),IF(OFFSET(Cumulative,,2)>(ROW()-ROW($O$20)),_xlfn.AGGREGATE(15,6,(ROW(OrderRange_Ref)-ROW($L$19))/(OFFSET(OrderRange_Ref,,2)>0),ROWS($L$20:$L237)-OFFSET(Cumulative,,1)),IF(OFFSET(Cumulative,,3)>(ROW()-ROW($O$20)),_xlfn.AGGREGATE(15,6,(ROW(OrderRange_Ref)-ROW($L$19))/(OFFSET(OrderRange_Ref,,3)>0),ROWS($L$20:$L237)-OFFSET(Cumulative,,2)),IF(OFFSET(Cumulative,,4)>(ROW()-ROW($O$20)),_xlfn.AGGREGATE(15,6,(ROW(OrderRange_Ref)-ROW($L$19))/(OFFSET(OrderRange_Ref,,4)>0),ROWS($L$20:$L237)-OFFSET(Cumulative,,3)),IF(OFFSET(Cumulative,,5)>(ROW()-ROW($O$20)),_xlfn.AGGREGATE(15,6,(ROW(OrderRange_Ref)-ROW($L$19))/(OFFSET(OrderRange_Ref,,5)>0),ROWS($L$20:$L237)-OFFSET(Cumulative,,4)),\"\"))))))","v":""},"","","","",""]
[null,null,null,null,null,null,null,null,null,null,null,null,null,{"$f":"IF(Cumulative>(ROW()-ROW($O$20)),_xlfn.AGGREGATE(15,6,(ROW(OrderRange_Ref)-ROW($L$19))/(OFFSET(OrderRange_Ref,,0)>0),ROWS($L$20:$L238)),IF(OFFSET(Cumulative,,1)>(ROW()-ROW($O$20)),_xlfn.AGGREGATE(15,6,(ROW(OrderRange_Ref)-ROW($L$19))/(OFFSET(OrderRange_Ref,,1)>0),ROWS($L$20:$L238)-OFFSET(Cumulative,,0)),IF(OFFSET(Cumulative,,2)>(ROW()-ROW($O$20)),_xlfn.AGGREGATE(15,6,(ROW(OrderRange_Ref)-ROW($L$19))/(OFFSET(OrderRange_Ref,,2)>0),ROWS($L$20:$L238)-OFFSET(Cumulative,,1)),IF(OFFSET(Cumulative,,3)>(ROW()-ROW($O$20)),_xlfn.AGGREGATE(15,6,(ROW(OrderRange_Ref)-ROW($L$19))/(OFFSET(OrderRange_Ref,,3)>0),ROWS($L$20:$L238)-OFFSET(Cumulative,,2)),IF(OFFSET(Cumulative,,4)>(ROW()-ROW($O$20)),_xlfn.AGGREGATE(15,6,(ROW(OrderRange_Ref)-ROW($L$19))/(OFFSET(OrderRange_Ref,,4)>0),ROWS($L$20:$L238)-OFFSET(Cumulative,,3)),IF(OFFSET(Cumulative,,5)>(ROW()-ROW($O$20)),_xlfn.AGGREGATE(15,6,(ROW(OrderRange_Ref)-ROW($L$19))/(OFFSET(OrderRange_Ref,,5)>0),ROWS($L$20:$L238)-OFFSET(Cumulative,,4)),\"\"))))))","v":""},"","","","",""]
[null,null,null,null,null,null,null,null,null,null,null,null,null,{"$f":"IF(Cumulative>(ROW()-ROW($O$20)),_xlfn.AGGREGATE(15,6,(ROW(OrderRange_Ref)-ROW($L$19))/(OFFSET(OrderRange_Ref,,0)>0),ROWS($L$20:$L239)),IF(OFFSET(Cumulative,,1)>(ROW()-ROW($O$20)),_xlfn.AGGREGATE(15,6,(ROW(OrderRange_Ref)-ROW($L$19))/(OFFSET(OrderRange_Ref,,1)>0),ROWS($L$20:$L239)-OFFSET(Cumulative,,0)),IF(OFFSET(Cumulative,,2)>(ROW()-ROW($O$20)),_xlfn.AGGREGATE(15,6,(ROW(OrderRange_Ref)-ROW($L$19))/(OFFSET(OrderRange_Ref,,2)>0),ROWS($L$20:$L239)-OFFSET(Cumulative,,1)),IF(OFFSET(Cumulative,,3)>(ROW()-ROW($O$20)),_xlfn.AGGREGATE(15,6,(ROW(OrderRange_Ref)-ROW($L$19))/(OFFSET(OrderRange_Ref,,3)>0),ROWS($L$20:$L239)-OFFSET(Cumulative,,2)),IF(OFFSET(Cumulative,,4)>(ROW()-ROW($O$20)),_xlfn.AGGREGATE(15,6,(ROW(OrderRange_Ref)-ROW($L$19))/(OFFSET(OrderRange_Ref,,4)>0),ROWS($L$20:$L239)-OFFSET(Cumulative,,3)),IF(OFFSET(Cumulative,,5)>(ROW()-ROW($O$20)),_xlfn.AGGREGATE(15,6,(ROW(OrderRange_Ref)-ROW($L$19))/(OFFSET(OrderRange_Ref,,5)>0),ROWS($L$20:$L239)-OFFSET(Cumulative,,4)),\"\"))))))","v":""},"","","","",""]
[null,null,null,null,null,null,null,null,null,null,null,null,null,{"$f":"IF(Cumulative>(ROW()-ROW($O$20)),_xlfn.AGGREGATE(15,6,(ROW(OrderRange_Ref)-ROW($L$19))/(OFFSET(OrderRange_Ref,,0)>0),ROWS($L$20:$L240)),IF(OFFSET(Cumulative,,1)>(ROW()-ROW($O$20)),_xlfn.AGGREGATE(15,6,(ROW(OrderRange_Ref)-ROW($L$19))/(OFFSET(OrderRange_Ref,,1)>0),ROWS($L$20:$L240)-OFFSET(Cumulative,,0)),IF(OFFSET(Cumulative,,2)>(ROW()-ROW($O$20)),_xlfn.AGGREGATE(15,6,(ROW(OrderRange_Ref)-ROW($L$19))/(OFFSET(OrderRange_Ref,,2)>0),ROWS($L$20:$L240)-OFFSET(Cumulative,,1)),IF(OFFSET(Cumulative,,3)>(ROW()-ROW($O$20)),_xlfn.AGGREGATE(15,6,(ROW(OrderRange_Ref)-ROW($L$19))/(OFFSET(OrderRange_Ref,,3)>0),ROWS($L$20:$L240)-OFFSET(Cumulative,,2)),IF(OFFSET(Cumulative,,4)>(ROW()-ROW($O$20)),_xlfn.AGGREGATE(15,6,(ROW(OrderRange_Ref)-ROW($L$19))/(OFFSET(OrderRange_Ref,,4)>0),ROWS($L$20:$L240)-OFFSET(Cumulative,,3)),IF(OFFSET(Cumulative,,5)>(ROW()-ROW($O$20)),_xlfn.AGGREGATE(15,6,(ROW(OrderRange_Ref)-ROW($L$19))/(OFFSET(OrderRange_Ref,,5)>0),ROWS($L$20:$L240)-OFFSET(Cumulative,,4)),\"\"))))))","v":""},"","","","",""]
[null,null,null,null,null,null,null,null,null,null,null,null,null,{"$f":"IF(Cumulative>(ROW()-ROW($O$20)),_xlfn.AGGREGATE(15,6,(ROW(OrderRange_Ref)-ROW($L$19))/(OFFSET(OrderRange_Ref,,0)>0),ROWS($L$20:$L241)),IF(OFFSET(Cumulative,,1)>(ROW()-ROW($O$20)),_xlfn.AGGREGATE(15,6,(ROW(OrderRange_Ref)-ROW($L$19))/(OFFSET(OrderRange_Ref,,1)>0),ROWS($L$20:$L241)-OFFSET(Cumulative,,0)),IF(OFFSET(Cumulative,,2)>(ROW()-ROW($O$20)),_xlfn.AGGREGATE(15,6,(ROW(OrderRange_Ref)-ROW($L$19))/(OFFSET(OrderRange_Ref,,2)>0),ROWS($L$20:$L241)-OFFSET(Cumulative,,1)),IF(OFFSET(Cumulative,,3)>(ROW()-ROW($O$20)),_xlfn.AGGREGATE(15,6,(ROW(OrderRange_Ref)-ROW($L$19))/(OFFSET(OrderRange_Ref,,3)>0),ROWS($L$20:$L241)-OFFSET(Cumulative,,2)),IF(OFFSET(Cumulative,,4)>(ROW()-ROW($O$20)),_xlfn.AGGREGATE(15,6,(ROW(OrderRange_Ref)-ROW($L$19))/(OFFSET(OrderRange_Ref,,4)>0),ROWS($L$20:$L241)-OFFSET(Cumulative,,3)),IF(OFFSET(Cumulative,,5)>(ROW()-ROW($O$20)),_xlfn.AGGREGATE(15,6,(ROW(OrderRange_Ref)-ROW($L$19))/(OFFSET(OrderRange_Ref,,5)>0),ROWS($L$20:$L241)-OFFSET(Cumulative,,4)),\"\"))))))","v":""},"","","","",""]
[null,null,null,null,null,null,null,null,null,null,null,null,null,{"$f":"IF(Cumulative>(ROW()-ROW($O$20)),_xlfn.AGGREGATE(15,6,(ROW(OrderRange_Ref)-ROW($L$19))/(OFFSET(OrderRange_Ref,,0)>0),ROWS($L$20:$L242)),IF(OFFSET(Cumulative,,1)>(ROW()-ROW($O$20)),_xlfn.AGGREGATE(15,6,(ROW(OrderRange_Ref)-ROW($L$19))/(OFFSET(OrderRange_Ref,,1)>0),ROWS($L$20:$L242)-OFFSET(Cumulative,,0)),IF(OFFSET(Cumulative,,2)>(ROW()-ROW($O$20)),_xlfn.AGGREGATE(15,6,(ROW(OrderRange_Ref)-ROW($L$19))/(OFFSET(OrderRange_Ref,,2)>0),ROWS($L$20:$L242)-OFFSET(Cumulative,,1)),IF(OFFSET(Cumulative,,3)>(ROW()-ROW($O$20)),_xlfn.AGGREGATE(15,6,(ROW(OrderRange_Ref)-ROW($L$19))/(OFFSET(OrderRange_Ref,,3)>0),ROWS($L$20:$L242)-OFFSET(Cumulative,,2)),IF(OFFSET(Cumulative,,4)>(ROW()-ROW($O$20)),_xlfn.AGGREGATE(15,6,(ROW(OrderRange_Ref)-ROW($L$19))/(OFFSET(OrderRange_Ref,,4)>0),ROWS($L$20:$L242)-OFFSET(Cumulative,,3)),IF(OFFSET(Cumulative,,5)>(ROW()-ROW($O$20)),_xlfn.AGGREGATE(15,6,(ROW(OrderRange_Ref)-ROW($L$19))/(OFFSET(OrderRange_Ref,,5)>0),ROWS($L$20:$L242)-OFFSET(Cumulative,,4)),\"\"))))))","v":""},"","","","",""]
[null,null,null,null,null,null,null,null,null,null,null,null,null,{"$f":"IF(Cumulative>(ROW()-ROW($O$20)),_xlfn.AGGREGATE(15,6,(ROW(OrderRange_Ref)-ROW($L$19))/(OFFSET(OrderRange_Ref,,0)>0),ROWS($L$20:$L243)),IF(OFFSET(Cumulative,,1)>(ROW()-ROW($O$20)),_xlfn.AGGREGATE(15,6,(ROW(OrderRange_Ref)-ROW($L$19))/(OFFSET(OrderRange_Ref,,1)>0),ROWS($L$20:$L243)-OFFSET(Cumulative,,0)),IF(OFFSET(Cumulative,,2)>(ROW()-ROW($O$20)),_xlfn.AGGREGATE(15,6,(ROW(OrderRange_Ref)-ROW($L$19))/(OFFSET(OrderRange_Ref,,2)>0),ROWS($L$20:$L243)-OFFSET(Cumulative,,1)),IF(OFFSET(Cumulative,,3)>(ROW()-ROW($O$20)),_xlfn.AGGREGATE(15,6,(ROW(OrderRange_Ref)-ROW($L$19))/(OFFSET(OrderRange_Ref,,3)>0),ROWS($L$20:$L243)-OFFSET(Cumulative,,2)),IF(OFFSET(Cumulative,,4)>(ROW()-ROW($O$20)),_xlfn.AGGREGATE(15,6,(ROW(OrderRange_Ref)-ROW($L$19))/(OFFSET(OrderRange_Ref,,4)>0),ROWS($L$20:$L243)-OFFSET(Cumulative,,3)),IF(OFFSET(Cumulative,,5)>(ROW()-ROW($O$20)),_xlfn.AGGREGATE(15,6,(ROW(OrderRange_Ref)-ROW($L$19))/(OFFSET(OrderRange_Ref,,5)>0),ROWS($L$20:$L243)-OFFSET(Cumulative,,4)),\"\"))))))","v":""},"","","","",""]
[null,null,null,null,null,null,null,null,null,null,null,null,null,{"$f":"IF(Cumulative>(ROW()-ROW($O$20)),_xlfn.AGGREGATE(15,6,(ROW(OrderRange_Ref)-ROW($L$19))/(OFFSET(OrderRange_Ref,,0)>0),ROWS($L$20:$L244)),IF(OFFSET(Cumulative,,1)>(ROW()-ROW($O$20)),_xlfn.AGGREGATE(15,6,(ROW(OrderRange_Ref)-ROW($L$19))/(OFFSET(OrderRange_Ref,,1)>0),ROWS($L$20:$L244)-OFFSET(Cumulative,,0)),IF(OFFSET(Cumulative,,2)>(ROW()-ROW($O$20)),_xlfn.AGGREGATE(15,6,(ROW(OrderRange_Ref)-ROW($L$19))/(OFFSET(OrderRange_Ref,,2)>0),ROWS($L$20:$L244)-OFFSET(Cumulative,,1)),IF(OFFSET(Cumulative,,3)>(ROW()-ROW($O$20)),_xlfn.AGGREGATE(15,6,(ROW(OrderRange_Ref)-ROW($L$19))/(OFFSET(OrderRange_Ref,,3)>0),ROWS($L$20:$L244)-OFFSET(Cumulative,,2)),IF(OFFSET(Cumulative,,4)>(ROW()-ROW($O$20)),_xlfn.AGGREGATE(15,6,(ROW(OrderRange_Ref)-ROW($L$19))/(OFFSET(OrderRange_Ref,,4)>0),ROWS($L$20:$L244)-OFFSET(Cumulative,,3)),IF(OFFSET(Cumulative,,5)>(ROW()-ROW($O$20)),_xlfn.AGGREGATE(15,6,(ROW(OrderRange_Ref)-ROW($L$19))/(OFFSET(OrderRange_Ref,,5)>0),ROWS($L$20:$L244)-OFFSET(Cumulative,,4)),\"\"))))))","v":""},"","","","",""]
[null,null,null,null,null,null,null,null,null,null,null,null,null,{"$f":"IF(Cumulative>(ROW()-ROW($O$20)),_xlfn.AGGREGATE(15,6,(ROW(OrderRange_Ref)-ROW($L$19))/(OFFSET(OrderRange_Ref,,0)>0),ROWS($L$20:$L245)),IF(OFFSET(Cumulative,,1)>(ROW()-ROW($O$20)),_xlfn.AGGREGATE(15,6,(ROW(OrderRange_Ref)-ROW($L$19))/(OFFSET(OrderRange_Ref,,1)>0),ROWS($L$20:$L245)-OFFSET(Cumulative,,0)),IF(OFFSET(Cumulative,,2)>(ROW()-ROW($O$20)),_xlfn.AGGREGATE(15,6,(ROW(OrderRange_Ref)-ROW($L$19))/(OFFSET(OrderRange_Ref,,2)>0),ROWS($L$20:$L245)-OFFSET(Cumulative,,1)),IF(OFFSET(Cumulative,,3)>(ROW()-ROW($O$20)),_xlfn.AGGREGATE(15,6,(ROW(OrderRange_Ref)-ROW($L$19))/(OFFSET(OrderRange_Ref,,3)>0),ROWS($L$20:$L245)-OFFSET(Cumulative,,2)),IF(OFFSET(Cumulative,,4)>(ROW()-ROW($O$20)),_xlfn.AGGREGATE(15,6,(ROW(OrderRange_Ref)-ROW($L$19))/(OFFSET(OrderRange_Ref,,4)>0),ROWS($L$20:$L245)-OFFSET(Cumulative,,3)),IF(OFFSET(Cumulative,,5)>(ROW()-ROW($O$20)),_xlfn.AGGREGATE(15,6,(ROW(OrderRange_Ref)-ROW($L$19))/(OFFSET(OrderRange_Ref,,5)>0),ROWS($L$20:$L245)-OFFSET(Cumulative,,4)),\"\"))))))","v":""},"","","","",""]
[null,null,null,null,null,null,null,null,null,null,null,null,null,{"$f":"IF(Cumulative>(ROW()-ROW($O$20)),_xlfn.AGGREGATE(15,6,(ROW(OrderRange_Ref)-ROW($L$19))/(OFFSET(OrderRange_Ref,,0)>0),ROWS($L$20:$L246)),IF(OFFSET(Cumulative,,1)>(ROW()-ROW($O$20)),_xlfn.AGGREGATE(15,6,(ROW(OrderRange_Ref)-ROW($L$19))/(OFFSET(OrderRange_Ref,,1)>0),ROWS($L$20:$L246)-OFFSET(Cumulative,,0)),IF(OFFSET(Cumulative,,2)>(ROW()-ROW($O$20)),_xlfn.AGGREGATE(15,6,(ROW(OrderRange_Ref)-ROW($L$19))/(OFFSET(OrderRange_Ref,,2)>0),ROWS($L$20:$L246)-OFFSET(Cumulative,,1)),IF(OFFSET(Cumulative,,3)>(ROW()-ROW($O$20)),_xlfn.AGGREGATE(15,6,(ROW(OrderRange_Ref)-ROW($L$19))/(OFFSET(OrderRange_Ref,,3)>0),ROWS($L$20:$L246)-OFFSET(Cumulative,,2)),IF(OFFSET(Cumulative,,4)>(ROW()-ROW($O$20)),_xlfn.AGGREGATE(15,6,(ROW(OrderRange_Ref)-ROW($L$19))/(OFFSET(OrderRange_Ref,,4)>0),ROWS($L$20:$L246)-OFFSET(Cumulative,,3)),IF(OFFSET(Cumulative,,5)>(ROW()-ROW($O$20)),_xlfn.AGGREGATE(15,6,(ROW(OrderRange_Ref)-ROW($L$19))/(OFFSET(OrderRange_Ref,,5)>0),ROWS($L$20:$L246)-OFFSET(Cumulative,,4)),\"\"))))))","v":""},"","","","",""]
[null,null,null,null,null,null,null,null,null,null,null,null,null,{"$f":"IF(Cumulative>(ROW()-ROW($O$20)),_xlfn.AGGREGATE(15,6,(ROW(OrderRange_Ref)-ROW($L$19))/(OFFSET(OrderRange_Ref,,0)>0),ROWS($L$20:$L247)),IF(OFFSET(Cumulative,,1)>(ROW()-ROW($O$20)),_xlfn.AGGREGATE(15,6,(ROW(OrderRange_Ref)-ROW($L$19))/(OFFSET(OrderRange_Ref,,1)>0),ROWS($L$20:$L247)-OFFSET(Cumulative,,0)),IF(OFFSET(Cumulative,,2)>(ROW()-ROW($O$20)),_xlfn.AGGREGATE(15,6,(ROW(OrderRange_Ref)-ROW($L$19))/(OFFSET(OrderRange_Ref,,2)>0),ROWS($L$20:$L247)-OFFSET(Cumulative,,1)),IF(OFFSET(Cumulative,,3)>(ROW()-ROW($O$20)),_xlfn.AGGREGATE(15,6,(ROW(OrderRange_Ref)-ROW($L$19))/(OFFSET(OrderRange_Ref,,3)>0),ROWS($L$20:$L247)-OFFSET(Cumulative,,2)),IF(OFFSET(Cumulative,,4)>(ROW()-ROW($O$20)),_xlfn.AGGREGATE(15,6,(ROW(OrderRange_Ref)-ROW($L$19))/(OFFSET(OrderRange_Ref,,4)>0),ROWS($L$20:$L247)-OFFSET(Cumulative,,3)),IF(OFFSET(Cumulative,,5)>(ROW()-ROW($O$20)),_xlfn.AGGREGATE(15,6,(ROW(OrderRange_Ref)-ROW($L$19))/(OFFSET(OrderRange_Ref,,5)>0),ROWS($L$20:$L247)-OFFSET(Cumulative,,4)),\"\"))))))","v":""},"","","","",""]
[null,null,null,null,null,null,null,null,null,null,null,null,null,{"$f":"IF(Cumulative>(ROW()-ROW($O$20)),_xlfn.AGGREGATE(15,6,(ROW(OrderRange_Ref)-ROW($L$19))/(OFFSET(OrderRange_Ref,,0)>0),ROWS($L$20:$L248)),IF(OFFSET(Cumulative,,1)>(ROW()-ROW($O$20)),_xlfn.AGGREGATE(15,6,(ROW(OrderRange_Ref)-ROW($L$19))/(OFFSET(OrderRange_Ref,,1)>0),ROWS($L$20:$L248)-OFFSET(Cumulative,,0)),IF(OFFSET(Cumulative,,2)>(ROW()-ROW($O$20)),_xlfn.AGGREGATE(15,6,(ROW(OrderRange_Ref)-ROW($L$19))/(OFFSET(OrderRange_Ref,,2)>0),ROWS($L$20:$L248)-OFFSET(Cumulative,,1)),IF(OFFSET(Cumulative,,3)>(ROW()-ROW($O$20)),_xlfn.AGGREGATE(15,6,(ROW(OrderRange_Ref)-ROW($L$19))/(OFFSET(OrderRange_Ref,,3)>0),ROWS($L$20:$L248)-OFFSET(Cumulative,,2)),IF(OFFSET(Cumulative,,4)>(ROW()-ROW($O$20)),_xlfn.AGGREGATE(15,6,(ROW(OrderRange_Ref)-ROW($L$19))/(OFFSET(OrderRange_Ref,,4)>0),ROWS($L$20:$L248)-OFFSET(Cumulative,,3)),IF(OFFSET(Cumulative,,5)>(ROW()-ROW($O$20)),_xlfn.AGGREGATE(15,6,(ROW(OrderRange_Ref)-ROW($L$19))/(OFFSET(OrderRange_Ref,,5)>0),ROWS($L$20:$L248)-OFFSET(Cumulative,,4)),\"\"))))))","v":""},"","","","",""]
[null,null,null,null,null,null,null,null,null,null,null,null,null,{"$f":"IF(Cumulative>(ROW()-ROW($O$20)),_xlfn.AGGREGATE(15,6,(ROW(OrderRange_Ref)-ROW($L$19))/(OFFSET(OrderRange_Ref,,0)>0),ROWS($L$20:$L249)),IF(OFFSET(Cumulative,,1)>(ROW()-ROW($O$20)),_xlfn.AGGREGATE(15,6,(ROW(OrderRange_Ref)-ROW($L$19))/(OFFSET(OrderRange_Ref,,1)>0),ROWS($L$20:$L249)-OFFSET(Cumulative,,0)),IF(OFFSET(Cumulative,,2)>(ROW()-ROW($O$20)),_xlfn.AGGREGATE(15,6,(ROW(OrderRange_Ref)-ROW($L$19))/(OFFSET(OrderRange_Ref,,2)>0),ROWS($L$20:$L249)-OFFSET(Cumulative,,1)),IF(OFFSET(Cumulative,,3)>(ROW()-ROW($O$20)),_xlfn.AGGREGATE(15,6,(ROW(OrderRange_Ref)-ROW($L$19))/(OFFSET(OrderRange_Ref,,3)>0),ROWS($L$20:$L249)-OFFSET(Cumulative,,2)),IF(OFFSET(Cumulative,,4)>(ROW()-ROW($O$20)),_xlfn.AGGREGATE(15,6,(ROW(OrderRange_Ref)-ROW($L$19))/(OFFSET(OrderRange_Ref,,4)>0),ROWS($L$20:$L249)-OFFSET(Cumulative,,3)),IF(OFFSET(Cumulative,,5)>(ROW()-ROW($O$20)),_xlfn.AGGREGATE(15,6,(ROW(OrderRange_Ref)-ROW($L$19))/(OFFSET(OrderRange_Ref,,5)>0),ROWS($L$20:$L249)-OFFSET(Cumulative,,4)),\"\"))))))","v":""},"","","","",""]
[null,null,null,null,null,null,null,null,null,null,null,null,null,{"$f":"IF(Cumulative>(ROW()-ROW($O$20)),_xlfn.AGGREGATE(15,6,(ROW(OrderRange_Ref)-ROW($L$19))/(OFFSET(OrderRange_Ref,,0)>0),ROWS($L$20:$L250)),IF(OFFSET(Cumulative,,1)>(ROW()-ROW($O$20)),_xlfn.AGGREGATE(15,6,(ROW(OrderRange_Ref)-ROW($L$19))/(OFFSET(OrderRange_Ref,,1)>0),ROWS($L$20:$L250)-OFFSET(Cumulative,,0)),IF(OFFSET(Cumulative,,2)>(ROW()-ROW($O$20)),_xlfn.AGGREGATE(15,6,(ROW(OrderRange_Ref)-ROW($L$19))/(OFFSET(OrderRange_Ref,,2)>0),ROWS($L$20:$L250)-OFFSET(Cumulative,,1)),IF(OFFSET(Cumulative,,3)>(ROW()-ROW($O$20)),_xlfn.AGGREGATE(15,6,(ROW(OrderRange_Ref)-ROW($L$19))/(OFFSET(OrderRange_Ref,,3)>0),ROWS($L$20:$L250)-OFFSET(Cumulative,,2)),IF(OFFSET(Cumulative,,4)>(ROW()-ROW($O$20)),_xlfn.AGGREGATE(15,6,(ROW(OrderRange_Ref)-ROW($L$19))/(OFFSET(OrderRange_Ref,,4)>0),ROWS($L$20:$L250)-OFFSET(Cumulative,,3)),IF(OFFSET(Cumulative,,5)>(ROW()-ROW($O$20)),_xlfn.AGGREGATE(15,6,(ROW(OrderRange_Ref)-ROW($L$19))/(OFFSET(OrderRange_Ref,,5)>0),ROWS($L$20:$L250)-OFFSET(Cumulative,,4)),\"\"))))))","v":""},"","","","",""]
[null,null,null,null,null,null,null,null,null,null,null,null,null,{"$f":"IF(Cumulative>(ROW()-ROW($O$20)),_xlfn.AGGREGATE(15,6,(ROW(OrderRange_Ref)-ROW($L$19))/(OFFSET(OrderRange_Ref,,0)>0),ROWS($L$20:$L251)),IF(OFFSET(Cumulative,,1)>(ROW()-ROW($O$20)),_xlfn.AGGREGATE(15,6,(ROW(OrderRange_Ref)-ROW($L$19))/(OFFSET(OrderRange_Ref,,1)>0),ROWS($L$20:$L251)-OFFSET(Cumulative,,0)),IF(OFFSET(Cumulative,,2)>(ROW()-ROW($O$20)),_xlfn.AGGREGATE(15,6,(ROW(OrderRange_Ref)-ROW($L$19))/(OFFSET(OrderRange_Ref,,2)>0),ROWS($L$20:$L251)-OFFSET(Cumulative,,1)),IF(OFFSET(Cumulative,,3)>(ROW()-ROW($O$20)),_xlfn.AGGREGATE(15,6,(ROW(OrderRange_Ref)-ROW($L$19))/(OFFSET(OrderRange_Ref,,3)>0),ROWS($L$20:$L251)-OFFSET(Cumulative,,2)),IF(OFFSET(Cumulative,,4)>(ROW()-ROW($O$20)),_xlfn.AGGREGATE(15,6,(ROW(OrderRange_Ref)-ROW($L$19))/(OFFSET(OrderRange_Ref,,4)>0),ROWS($L$20:$L251)-OFFSET(Cumulative,,3)),IF(OFFSET(Cumulative,,5)>(ROW()-ROW($O$20)),_xlfn.AGGREGATE(15,6,(ROW(OrderRange_Ref)-ROW($L$19))/(OFFSET(OrderRange_Ref,,5)>0),ROWS($L$20:$L251)-OFFSET(Cumulative,,4)),\"\"))))))","v":""},"","","","",""]
[null,null,null,null,null,null,null,null,null,null,null,null,null,{"$f":"IF(Cumulative>(ROW()-ROW($O$20)),_xlfn.AGGREGATE(15,6,(ROW(OrderRange_Ref)-ROW($L$19))/(OFFSET(OrderRange_Ref,,0)>0),ROWS($L$20:$L252)),IF(OFFSET(Cumulative,,1)>(ROW()-ROW($O$20)),_xlfn.AGGREGATE(15,6,(ROW(OrderRange_Ref)-ROW($L$19))/(OFFSET(OrderRange_Ref,,1)>0),ROWS($L$20:$L252)-OFFSET(Cumulative,,0)),IF(OFFSET(Cumulative,,2)>(ROW()-ROW($O$20)),_xlfn.AGGREGATE(15,6,(ROW(OrderRange_Ref)-ROW($L$19))/(OFFSET(OrderRange_Ref,,2)>0),ROWS($L$20:$L252)-OFFSET(Cumulative,,1)),IF(OFFSET(Cumulative,,3)>(ROW()-ROW($O$20)),_xlfn.AGGREGATE(15,6,(ROW(OrderRange_Ref)-ROW($L$19))/(OFFSET(OrderRange_Ref,,3)>0),ROWS($L$20:$L252)-OFFSET(Cumulative,,2)),IF(OFFSET(Cumulative,,4)>(ROW()-ROW($O$20)),_xlfn.AGGREGATE(15,6,(ROW(OrderRange_Ref)-ROW($L$19))/(OFFSET(OrderRange_Ref,,4)>0),ROWS($L$20:$L252)-OFFSET(Cumulative,,3)),IF(OFFSET(Cumulative,,5)>(ROW()-ROW($O$20)),_xlfn.AGGREGATE(15,6,(ROW(OrderRange_Ref)-ROW($L$19))/(OFFSET(OrderRange_Ref,,5)>0),ROWS($L$20:$L252)-OFFSET(Cumulative,,4)),\"\"))))))","v":""},"","","","",""]
[null,null,null,null,null,null,null,null,null,null,null,null,null,{"$f":"IF(Cumulative>(ROW()-ROW($O$20)),_xlfn.AGGREGATE(15,6,(ROW(OrderRange_Ref)-ROW($L$19))/(OFFSET(OrderRange_Ref,,0)>0),ROWS($L$20:$L253)),IF(OFFSET(Cumulative,,1)>(ROW()-ROW($O$20)),_xlfn.AGGREGATE(15,6,(ROW(OrderRange_Ref)-ROW($L$19))/(OFFSET(OrderRange_Ref,,1)>0),ROWS($L$20:$L253)-OFFSET(Cumulative,,0)),IF(OFFSET(Cumulative,,2)>(ROW()-ROW($O$20)),_xlfn.AGGREGATE(15,6,(ROW(OrderRange_Ref)-ROW($L$19))/(OFFSET(OrderRange_Ref,,2)>0),ROWS($L$20:$L253)-OFFSET(Cumulative,,1)),IF(OFFSET(Cumulative,,3)>(ROW()-ROW($O$20)),_xlfn.AGGREGATE(15,6,(ROW(OrderRange_Ref)-ROW($L$19))/(OFFSET(OrderRange_Ref,,3)>0),ROWS($L$20:$L253)-OFFSET(Cumulative,,2)),IF(OFFSET(Cumulative,,4)>(ROW()-ROW($O$20)),_xlfn.AGGREGATE(15,6,(ROW(OrderRange_Ref)-ROW($L$19))/(OFFSET(OrderRange_Ref,,4)>0),ROWS($L$20:$L253)-OFFSET(Cumulative,,3)),IF(OFFSET(Cumulative,,5)>(ROW()-ROW($O$20)),_xlfn.AGGREGATE(15,6,(ROW(OrderRange_Ref)-ROW($L$19))/(OFFSET(OrderRange_Ref,,5)>0),ROWS($L$20:$L253)-OFFSET(Cumulative,,4)),\"\"))))))","v":""},"","","","",""]
[null,null,null,null,null,null,null,null,null,null,null,null,null,{"$f":"IF(Cumulative>(ROW()-ROW($O$20)),_xlfn.AGGREGATE(15,6,(ROW(OrderRange_Ref)-ROW($L$19))/(OFFSET(OrderRange_Ref,,0)>0),ROWS($L$20:$L254)),IF(OFFSET(Cumulative,,1)>(ROW()-ROW($O$20)),_xlfn.AGGREGATE(15,6,(ROW(OrderRange_Ref)-ROW($L$19))/(OFFSET(OrderRange_Ref,,1)>0),ROWS($L$20:$L254)-OFFSET(Cumulative,,0)),IF(OFFSET(Cumulative,,2)>(ROW()-ROW($O$20)),_xlfn.AGGREGATE(15,6,(ROW(OrderRange_Ref)-ROW($L$19))/(OFFSET(OrderRange_Ref,,2)>0),ROWS($L$20:$L254)-OFFSET(Cumulative,,1)),IF(OFFSET(Cumulative,,3)>(ROW()-ROW($O$20)),_xlfn.AGGREGATE(15,6,(ROW(OrderRange_Ref)-ROW($L$19))/(OFFSET(OrderRange_Ref,,3)>0),ROWS($L$20:$L254)-OFFSET(Cumulative,,2)),IF(OFFSET(Cumulative,,4)>(ROW()-ROW($O$20)),_xlfn.AGGREGATE(15,6,(ROW(OrderRange_Ref)-ROW($L$19))/(OFFSET(OrderRange_Ref,,4)>0),ROWS($L$20:$L254)-OFFSET(Cumulative,,3)),IF(OFFSET(Cumulative,,5)>(ROW()-ROW($O$20)),_xlfn.AGGREGATE(15,6,(ROW(OrderRange_Ref)-ROW($L$19))/(OFFSET(OrderRange_Ref,,5)>0),ROWS($L$20:$L254)-OFFSET(Cumulative,,4)),\"\"))))))","v":""},"","","","",""]
[null,null,null,null,null,null,null,null,null,null,null,null,null,{"$f":"IF(Cumulative>(ROW()-ROW($O$20)),_xlfn.AGGREGATE(15,6,(ROW(OrderRange_Ref)-ROW($L$19))/(OFFSET(OrderRange_Ref,,0)>0),ROWS($L$20:$L255)),IF(OFFSET(Cumulative,,1)>(ROW()-ROW($O$20)),_xlfn.AGGREGATE(15,6,(ROW(OrderRange_Ref)-ROW($L$19))/(OFFSET(OrderRange_Ref,,1)>0),ROWS($L$20:$L255)-OFFSET(Cumulative,,0)),IF(OFFSET(Cumulative,,2)>(ROW()-ROW($O$20)),_xlfn.AGGREGATE(15,6,(ROW(OrderRange_Ref)-ROW($L$19))/(OFFSET(OrderRange_Ref,,2)>0),ROWS($L$20:$L255)-OFFSET(Cumulative,,1)),IF(OFFSET(Cumulative,,3)>(ROW()-ROW($O$20)),_xlfn.AGGREGATE(15,6,(ROW(OrderRange_Ref)-ROW($L$19))/(OFFSET(OrderRange_Ref,,3)>0),ROWS($L$20:$L255)-OFFSET(Cumulative,,2)),IF(OFFSET(Cumulative,,4)>(ROW()-ROW($O$20)),_xlfn.AGGREGATE(15,6,(ROW(OrderRange_Ref)-ROW($L$19))/(OFFSET(OrderRange_Ref,,4)>0),ROWS($L$20:$L255)-OFFSET(Cumulative,,3)),IF(OFFSET(Cumulative,,5)>(ROW()-ROW($O$20)),_xlfn.AGGREGATE(15,6,(ROW(OrderRange_Ref)-ROW($L$19))/(OFFSET(OrderRange_Ref,,5)>0),ROWS($L$20:$L255)-OFFSET(Cumulative,,4)),\"\"))))))","v":""},"","","","",""]
[null,null,null,null,null,null,null,null,null,null,null,null,null,{"$f":"IF(Cumulative>(ROW()-ROW($O$20)),_xlfn.AGGREGATE(15,6,(ROW(OrderRange_Ref)-ROW($L$19))/(OFFSET(OrderRange_Ref,,0)>0),ROWS($L$20:$L256)),IF(OFFSET(Cumulative,,1)>(ROW()-ROW($O$20)),_xlfn.AGGREGATE(15,6,(ROW(OrderRange_Ref)-ROW($L$19))/(OFFSET(OrderRange_Ref,,1)>0),ROWS($L$20:$L256)-OFFSET(Cumulative,,0)),IF(OFFSET(Cumulative,,2)>(ROW()-ROW($O$20)),_xlfn.AGGREGATE(15,6,(ROW(OrderRange_Ref)-ROW($L$19))/(OFFSET(OrderRange_Ref,,2)>0),ROWS($L$20:$L256)-OFFSET(Cumulative,,1)),IF(OFFSET(Cumulative,,3)>(ROW()-ROW($O$20)),_xlfn.AGGREGATE(15,6,(ROW(OrderRange_Ref)-ROW($L$19))/(OFFSET(OrderRange_Ref,,3)>0),ROWS($L$20:$L256)-OFFSET(Cumulative,,2)),IF(OFFSET(Cumulative,,4)>(ROW()-ROW($O$20)),_xlfn.AGGREGATE(15,6,(ROW(OrderRange_Ref)-ROW($L$19))/(OFFSET(OrderRange_Ref,,4)>0),ROWS($L$20:$L256)-OFFSET(Cumulative,,3)),IF(OFFSET(Cumulative,,5)>(ROW()-ROW($O$20)),_xlfn.AGGREGATE(15,6,(ROW(OrderRange_Ref)-ROW($L$19))/(OFFSET(OrderRange_Ref,,5)>0),ROWS($L$20:$L256)-OFFSET(Cumulative,,4)),\"\"))))))","v":""},"","","","",""]
[null,null,null,null,null,null,null,null,null,null,null,null,null,{"$f":"IF(Cumulative>(ROW()-ROW($O$20)),_xlfn.AGGREGATE(15,6,(ROW(OrderRange_Ref)-ROW($L$19))/(OFFSET(OrderRange_Ref,,0)>0),ROWS($L$20:$L257)),IF(OFFSET(Cumulative,,1)>(ROW()-ROW($O$20)),_xlfn.AGGREGATE(15,6,(ROW(OrderRange_Ref)-ROW($L$19))/(OFFSET(OrderRange_Ref,,1)>0),ROWS($L$20:$L257)-OFFSET(Cumulative,,0)),IF(OFFSET(Cumulative,,2)>(ROW()-ROW($O$20)),_xlfn.AGGREGATE(15,6,(ROW(OrderRange_Ref)-ROW($L$19))/(OFFSET(OrderRange_Ref,,2)>0),ROWS($L$20:$L257)-OFFSET(Cumulative,,1)),IF(OFFSET(Cumulative,,3)>(ROW()-ROW($O$20)),_xlfn.AGGREGATE(15,6,(ROW(OrderRange_Ref)-ROW($L$19))/(OFFSET(OrderRange_Ref,,3)>0),ROWS($L$20:$L257)-OFFSET(Cumulative,,2)),IF(OFFSET(Cumulative,,4)>(ROW()-ROW($O$20)),_xlfn.AGGREGATE(15,6,(ROW(OrderRange_Ref)-ROW($L$19))/(OFFSET(OrderRange_Ref,,4)>0),ROWS($L$20:$L257)-OFFSET(Cumulative,,3)),IF(OFFSET(Cumulative,,5)>(ROW()-ROW($O$20)),_xlfn.AGGREGATE(15,6,(ROW(OrderRange_Ref)-ROW($L$19))/(OFFSET(OrderRange_Ref,,5)>0),ROWS($L$20:$L257)-OFFSET(Cumulative,,4)),\"\"))))))","v":""},"","","","",""]
[null,null,null,null,null,null,null,null,null,null,null,null,null,{"$f":"IF(Cumulative>(ROW()-ROW($O$20)),_xlfn.AGGREGATE(15,6,(ROW(OrderRange_Ref)-ROW($L$19))/(OFFSET(OrderRange_Ref,,0)>0),ROWS($L$20:$L258)),IF(OFFSET(Cumulative,,1)>(ROW()-ROW($O$20)),_xlfn.AGGREGATE(15,6,(ROW(OrderRange_Ref)-ROW($L$19))/(OFFSET(OrderRange_Ref,,1)>0),ROWS($L$20:$L258)-OFFSET(Cumulative,,0)),IF(OFFSET(Cumulative,,2)>(ROW()-ROW($O$20)),_xlfn.AGGREGATE(15,6,(ROW(OrderRange_Ref)-ROW($L$19))/(OFFSET(OrderRange_Ref,,2)>0),ROWS($L$20:$L258)-OFFSET(Cumulative,,1)),IF(OFFSET(Cumulative,,3)>(ROW()-ROW($O$20)),_xlfn.AGGREGATE(15,6,(ROW(OrderRange_Ref)-ROW($L$19))/(OFFSET(OrderRange_Ref,,3)>0),ROWS($L$20:$L258)-OFFSET(Cumulative,,2)),IF(OFFSET(Cumulative,,4)>(ROW()-ROW($O$20)),_xlfn.AGGREGATE(15,6,(ROW(OrderRange_Ref)-ROW($L$19))/(OFFSET(OrderRange_Ref,,4)>0),ROWS($L$20:$L258)-OFFSET(Cumulative,,3)),IF(OFFSET(Cumulative,,5)>(ROW()-ROW($O$20)),_xlfn.AGGREGATE(15,6,(ROW(OrderRange_Ref)-ROW($L$19))/(OFFSET(OrderRange_Ref,,5)>0),ROWS($L$20:$L258)-OFFSET(Cumulative,,4)),\"\"))))))","v":""},"","","","",""]
[null,null,null,null,null,null,null,null,null,null,null,null,null,{"$f":"IF(Cumulative>(ROW()-ROW($O$20)),_xlfn.AGGREGATE(15,6,(ROW(OrderRange_Ref)-ROW($L$19))/(OFFSET(OrderRange_Ref,,0)>0),ROWS($L$20:$L259)),IF(OFFSET(Cumulative,,1)>(ROW()-ROW($O$20)),_xlfn.AGGREGATE(15,6,(ROW(OrderRange_Ref)-ROW($L$19))/(OFFSET(OrderRange_Ref,,1)>0),ROWS($L$20:$L259)-OFFSET(Cumulative,,0)),IF(OFFSET(Cumulative,,2)>(ROW()-ROW($O$20)),_xlfn.AGGREGATE(15,6,(ROW(OrderRange_Ref)-ROW($L$19))/(OFFSET(OrderRange_Ref,,2)>0),ROWS($L$20:$L259)-OFFSET(Cumulative,,1)),IF(OFFSET(Cumulative,,3)>(ROW()-ROW($O$20)),_xlfn.AGGREGATE(15,6,(ROW(OrderRange_Ref)-ROW($L$19))/(OFFSET(OrderRange_Ref,,3)>0),ROWS($L$20:$L259)-OFFSET(Cumulative,,2)),IF(OFFSET(Cumulative,,4)>(ROW()-ROW($O$20)),_xlfn.AGGREGATE(15,6,(ROW(OrderRange_Ref)-ROW($L$19))/(OFFSET(OrderRange_Ref,,4)>0),ROWS($L$20:$L259)-OFFSET(Cumulative,,3)),IF(OFFSET(Cumulative,,5)>(ROW()-ROW($O$20)),_xlfn.AGGREGATE(15,6,(ROW(OrderRange_Ref)-ROW($L$19))/(OFFSET(OrderRange_Ref,,5)>0),ROWS($L$20:$L259)-OFFSET(Cumulative,,4)),\"\"))))))","v":""},"","","","",""]
[null,null,null,null,null,null,null,null,null,null,null,null,null,{"$f":"IF(Cumulative>(ROW()-ROW($O$20)),_xlfn.AGGREGATE(15,6,(ROW(OrderRange_Ref)-ROW($L$19))/(OFFSET(OrderRange_Ref,,0)>0),ROWS($L$20:$L260)),IF(OFFSET(Cumulative,,1)>(ROW()-ROW($O$20)),_xlfn.AGGREGATE(15,6,(ROW(OrderRange_Ref)-ROW($L$19))/(OFFSET(OrderRange_Ref,,1)>0),ROWS($L$20:$L260)-OFFSET(Cumulative,,0)),IF(OFFSET(Cumulative,,2)>(ROW()-ROW($O$20)),_xlfn.AGGREGATE(15,6,(ROW(OrderRange_Ref)-ROW($L$19))/(OFFSET(OrderRange_Ref,,2)>0),ROWS($L$20:$L260)-OFFSET(Cumulative,,1)),IF(OFFSET(Cumulative,,3)>(ROW()-ROW($O$20)),_xlfn.AGGREGATE(15,6,(ROW(OrderRange_Ref)-ROW($L$19))/(OFFSET(OrderRange_Ref,,3)>0),ROWS($L$20:$L260)-OFFSET(Cumulative,,2)),IF(OFFSET(Cumulative,,4)>(ROW()-ROW($O$20)),_xlfn.AGGREGATE(15,6,(ROW(OrderRange_Ref)-ROW($L$19))/(OFFSET(OrderRange_Ref,,4)>0),ROWS($L$20:$L260)-OFFSET(Cumulative,,3)),IF(OFFSET(Cumulative,,5)>(ROW()-ROW($O$20)),_xlfn.AGGREGATE(15,6,(ROW(OrderRange_Ref)-ROW($L$19))/(OFFSET(OrderRange_Ref,,5)>0),ROWS($L$20:$L260)-OFFSET(Cumulative,,4)),\"\"))))))","v":""},"","","","",""]
[null,null,null,null,null,null,null,null,null,null,null,null,null,{"$f":"IF(Cumulative>(ROW()-ROW($O$20)),_xlfn.AGGREGATE(15,6,(ROW(OrderRange_Ref)-ROW($L$19))/(OFFSET(OrderRange_Ref,,0)>0),ROWS($L$20:$L261)),IF(OFFSET(Cumulative,,1)>(ROW()-ROW($O$20)),_xlfn.AGGREGATE(15,6,(ROW(OrderRange_Ref)-ROW($L$19))/(OFFSET(OrderRange_Ref,,1)>0),ROWS($L$20:$L261)-OFFSET(Cumulative,,0)),IF(OFFSET(Cumulative,,2)>(ROW()-ROW($O$20)),_xlfn.AGGREGATE(15,6,(ROW(OrderRange_Ref)-ROW($L$19))/(OFFSET(OrderRange_Ref,,2)>0),ROWS($L$20:$L261)-OFFSET(Cumulative,,1)),IF(OFFSET(Cumulative,,3)>(ROW()-ROW($O$20)),_xlfn.AGGREGATE(15,6,(ROW(OrderRange_Ref)-ROW($L$19))/(OFFSET(OrderRange_Ref,,3)>0),ROWS($L$20:$L261)-OFFSET(Cumulative,,2)),IF(OFFSET(Cumulative,,4)>(ROW()-ROW($O$20)),_xlfn.AGGREGATE(15,6,(ROW(OrderRange_Ref)-ROW($L$19))/(OFFSET(OrderRange_Ref,,4)>0),ROWS($L$20:$L261)-OFFSET(Cumulative,,3)),IF(OFFSET(Cumulative,,5)>(ROW()-ROW($O$20)),_xlfn.AGGREGATE(15,6,(ROW(OrderRange_Ref)-ROW($L$19))/(OFFSET(OrderRange_Ref,,5)>0),ROWS($L$20:$L261)-OFFSET(Cumulative,,4)),\"\"))))))","v":""},"","","","",""]
[null,null,null,null,null,null,null,null,null,null,null,null,null,{"$f":"IF(Cumulative>(ROW()-ROW($O$20)),_xlfn.AGGREGATE(15,6,(ROW(OrderRange_Ref)-ROW($L$19))/(OFFSET(OrderRange_Ref,,0)>0),ROWS($L$20:$L262)),IF(OFFSET(Cumulative,,1)>(ROW()-ROW($O$20)),_xlfn.AGGREGATE(15,6,(ROW(OrderRange_Ref)-ROW($L$19))/(OFFSET(OrderRange_Ref,,1)>0),ROWS($L$20:$L262)-OFFSET(Cumulative,,0)),IF(OFFSET(Cumulative,,2)>(ROW()-ROW($O$20)),_xlfn.AGGREGATE(15,6,(ROW(OrderRange_Ref)-ROW($L$19))/(OFFSET(OrderRange_Ref,,2)>0),ROWS($L$20:$L262)-OFFSET(Cumulative,,1)),IF(OFFSET(Cumulative,,3)>(ROW()-ROW($O$20)),_xlfn.AGGREGATE(15,6,(ROW(OrderRange_Ref)-ROW($L$19))/(OFFSET(OrderRange_Ref,,3)>0),ROWS($L$20:$L262)-OFFSET(Cumulative,,2)),IF(OFFSET(Cumulative,,4)>(ROW()-ROW($O$20)),_xlfn.AGGREGATE(15,6,(ROW(OrderRange_Ref)-ROW($L$19))/(OFFSET(OrderRange_Ref,,4)>0),ROWS($L$20:$L262)-OFFSET(Cumulative,,3)),IF(OFFSET(Cumulative,,5)>(ROW()-ROW($O$20)),_xlfn.AGGREGATE(15,6,(ROW(OrderRange_Ref)-ROW($L$19))/(OFFSET(OrderRange_Ref,,5)>0),ROWS($L$20:$L262)-OFFSET(Cumulative,,4)),\"\"))))))","v":""},"","","","",""]
[null,null,null,null,null,null,null,null,null,null,null,null,null,{"$f":"IF(Cumulative>(ROW()-ROW($O$20)),_xlfn.AGGREGATE(15,6,(ROW(OrderRange_Ref)-ROW($L$19))/(OFFSET(OrderRange_Ref,,0)>0),ROWS($L$20:$L263)),IF(OFFSET(Cumulative,,1)>(ROW()-ROW($O$20)),_xlfn.AGGREGATE(15,6,(ROW(OrderRange_Ref)-ROW($L$19))/(OFFSET(OrderRange_Ref,,1)>0),ROWS($L$20:$L263)-OFFSET(Cumulative,,0)),IF(OFFSET(Cumulative,,2)>(ROW()-ROW($O$20)),_xlfn.AGGREGATE(15,6,(ROW(OrderRange_Ref)-ROW($L$19))/(OFFSET(OrderRange_Ref,,2)>0),ROWS($L$20:$L263)-OFFSET(Cumulative,,1)),IF(OFFSET(Cumulative,,3)>(ROW()-ROW($O$20)),_xlfn.AGGREGATE(15,6,(ROW(OrderRange_Ref)-ROW($L$19))/(OFFSET(OrderRange_Ref,,3)>0),ROWS($L$20:$L263)-OFFSET(Cumulative,,2)),IF(OFFSET(Cumulative,,4)>(ROW()-ROW($O$20)),_xlfn.AGGREGATE(15,6,(ROW(OrderRange_Ref)-ROW($L$19))/(OFFSET(OrderRange_Ref,,4)>0),ROWS($L$20:$L263)-OFFSET(Cumulative,,3)),IF(OFFSET(Cumulative,,5)>(ROW()-ROW($O$20)),_xlfn.AGGREGATE(15,6,(ROW(OrderRange_Ref)-ROW($L$19))/(OFFSET(OrderRange_Ref,,5)>0),ROWS($L$20:$L263)-OFFSET(Cumulative,,4)),\"\"))))))","v":""},"","","","",""]
[null,null,null,null,null,null,null,null,null,null,null,null,null,{"$f":"IF(Cumulative>(ROW()-ROW($O$20)),_xlfn.AGGREGATE(15,6,(ROW(OrderRange_Ref)-ROW($L$19))/(OFFSET(OrderRange_Ref,,0)>0),ROWS($L$20:$L264)),IF(OFFSET(Cumulative,,1)>(ROW()-ROW($O$20)),_xlfn.AGGREGATE(15,6,(ROW(OrderRange_Ref)-ROW($L$19))/(OFFSET(OrderRange_Ref,,1)>0),ROWS($L$20:$L264)-OFFSET(Cumulative,,0)),IF(OFFSET(Cumulative,,2)>(ROW()-ROW($O$20)),_xlfn.AGGREGATE(15,6,(ROW(OrderRange_Ref)-ROW($L$19))/(OFFSET(OrderRange_Ref,,2)>0),ROWS($L$20:$L264)-OFFSET(Cumulative,,1)),IF(OFFSET(Cumulative,,3)>(ROW()-ROW($O$20)),_xlfn.AGGREGATE(15,6,(ROW(OrderRange_Ref)-ROW($L$19))/(OFFSET(OrderRange_Ref,,3)>0),ROWS($L$20:$L264)-OFFSET(Cumulative,,2)),IF(OFFSET(Cumulative,,4)>(ROW()-ROW($O$20)),_xlfn.AGGREGATE(15,6,(ROW(OrderRange_Ref)-ROW($L$19))/(OFFSET(OrderRange_Ref,,4)>0),ROWS($L$20:$L264)-OFFSET(Cumulative,,3)),IF(OFFSET(Cumulative,,5)>(ROW()-ROW($O$20)),_xlfn.AGGREGATE(15,6,(ROW(OrderRange_Ref)-ROW($L$19))/(OFFSET(OrderRange_Ref,,5)>0),ROWS($L$20:$L264)-OFFSET(Cumulative,,4)),\"\"))))))","v":""},"","","","",""]
[null,null,null,null,null,null,null,null,null,null,null,null,null,{"$f":"IF(Cumulative>(ROW()-ROW($O$20)),_xlfn.AGGREGATE(15,6,(ROW(OrderRange_Ref)-ROW($L$19))/(OFFSET(OrderRange_Ref,,0)>0),ROWS($L$20:$L265)),IF(OFFSET(Cumulative,,1)>(ROW()-ROW($O$20)),_xlfn.AGGREGATE(15,6,(ROW(OrderRange_Ref)-ROW($L$19))/(OFFSET(OrderRange_Ref,,1)>0),ROWS($L$20:$L265)-OFFSET(Cumulative,,0)),IF(OFFSET(Cumulative,,2)>(ROW()-ROW($O$20)),_xlfn.AGGREGATE(15,6,(ROW(OrderRange_Ref)-ROW($L$19))/(OFFSET(OrderRange_Ref,,2)>0),ROWS($L$20:$L265)-OFFSET(Cumulative,,1)),IF(OFFSET(Cumulative,,3)>(ROW()-ROW($O$20)),_xlfn.AGGREGATE(15,6,(ROW(OrderRange_Ref)-ROW($L$19))/(OFFSET(OrderRange_Ref,,3)>0),ROWS($L$20:$L265)-OFFSET(Cumulative,,2)),IF(OFFSET(Cumulative,,4)>(ROW()-ROW($O$20)),_xlfn.AGGREGATE(15,6,(ROW(OrderRange_Ref)-ROW($L$19))/(OFFSET(OrderRange_Ref,,4)>0),ROWS($L$20:$L265)-OFFSET(Cumulative,,3)),IF(OFFSET(Cumulative,,5)>(ROW()-ROW($O$20)),_xlfn.AGGREGATE(15,6,(ROW(OrderRange_Ref)-ROW($L$19))/(OFFSET(OrderRange_Ref,,5)>0),ROWS($L$20:$L265)-OFFSET(Cumulative,,4)),\"\"))))))","v":""},"","","","",""]
[null,null,null,null,null,null,null,null,null,null,null,null,null,{"$f":"IF(Cumulative>(ROW()-ROW($O$20)),_xlfn.AGGREGATE(15,6,(ROW(OrderRange_Ref)-ROW($L$19))/(OFFSET(OrderRange_Ref,,0)>0),ROWS($L$20:$L266)),IF(OFFSET(Cumulative,,1)>(ROW()-ROW($O$20)),_xlfn.AGGREGATE(15,6,(ROW(OrderRange_Ref)-ROW($L$19))/(OFFSET(OrderRange_Ref,,1)>0),ROWS($L$20:$L266)-OFFSET(Cumulative,,0)),IF(OFFSET(Cumulative,,2)>(ROW()-ROW($O$20)),_xlfn.AGGREGATE(15,6,(ROW(OrderRange_Ref)-ROW($L$19))/(OFFSET(OrderRange_Ref,,2)>0),ROWS($L$20:$L266)-OFFSET(Cumulative,,1)),IF(OFFSET(Cumulative,,3)>(ROW()-ROW($O$20)),_xlfn.AGGREGATE(15,6,(ROW(OrderRange_Ref)-ROW($L$19))/(OFFSET(OrderRange_Ref,,3)>0),ROWS($L$20:$L266)-OFFSET(Cumulative,,2)),IF(OFFSET(Cumulative,,4)>(ROW()-ROW($O$20)),_xlfn.AGGREGATE(15,6,(ROW(OrderRange_Ref)-ROW($L$19))/(OFFSET(OrderRange_Ref,,4)>0),ROWS($L$20:$L266)-OFFSET(Cumulative,,3)),IF(OFFSET(Cumulative,,5)>(ROW()-ROW($O$20)),_xlfn.AGGREGATE(15,6,(ROW(OrderRange_Ref)-ROW($L$19))/(OFFSET(OrderRange_Ref,,5)>0),ROWS($L$20:$L266)-OFFSET(Cumulative,,4)),\"\"))))))","v":""},"","","","",""]
[null,null,null,null,null,null,null,null,null,null,null,null,null,{"$f":"IF(Cumulative>(ROW()-ROW($O$20)),_xlfn.AGGREGATE(15,6,(ROW(OrderRange_Ref)-ROW($L$19))/(OFFSET(OrderRange_Ref,,0)>0),ROWS($L$20:$L267)),IF(OFFSET(Cumulative,,1)>(ROW()-ROW($O$20)),_xlfn.AGGREGATE(15,6,(ROW(OrderRange_Ref)-ROW($L$19))/(OFFSET(OrderRange_Ref,,1)>0),ROWS($L$20:$L267)-OFFSET(Cumulative,,0)),IF(OFFSET(Cumulative,,2)>(ROW()-ROW($O$20)),_xlfn.AGGREGATE(15,6,(ROW(OrderRange_Ref)-ROW($L$19))/(OFFSET(OrderRange_Ref,,2)>0),ROWS($L$20:$L267)-OFFSET(Cumulative,,1)),IF(OFFSET(Cumulative,,3)>(ROW()-ROW($O$20)),_xlfn.AGGREGATE(15,6,(ROW(OrderRange_Ref)-ROW($L$19))/(OFFSET(OrderRange_Ref,,3)>0),ROWS($L$20:$L267)-OFFSET(Cumulative,,2)),IF(OFFSET(Cumulative,,4)>(ROW()-ROW($O$20)),_xlfn.AGGREGATE(15,6,(ROW(OrderRange_Ref)-ROW($L$19))/(OFFSET(OrderRange_Ref,,4)>0),ROWS($L$20:$L267)-OFFSET(Cumulative,,3)),IF(OFFSET(Cumulative,,5)>(ROW()-ROW($O$20)),_xlfn.AGGREGATE(15,6,(ROW(OrderRange_Ref)-ROW($L$19))/(OFFSET(OrderRange_Ref,,5)>0),ROWS($L$20:$L267)-OFFSET(Cumulative,,4)),\"\"))))))","v":""},"","","","",""]
[null,null,null,null,null,null,null,null,null,null,null,null,null,{"$f":"IF(Cumulative>(ROW()-ROW($O$20)),_xlfn.AGGREGATE(15,6,(ROW(OrderRange_Ref)-ROW($L$19))/(OFFSET(OrderRange_Ref,,0)>0),ROWS($L$20:$L268)),IF(OFFSET(Cumulative,,1)>(ROW()-ROW($O$20)),_xlfn.AGGREGATE(15,6,(ROW(OrderRange_Ref)-ROW($L$19))/(OFFSET(OrderRange_Ref,,1)>0),ROWS($L$20:$L268)-OFFSET(Cumulative,,0)),IF(OFFSET(Cumulative,,2)>(ROW()-ROW($O$20)),_xlfn.AGGREGATE(15,6,(ROW(OrderRange_Ref)-ROW($L$19))/(OFFSET(OrderRange_Ref,,2)>0),ROWS($L$20:$L268)-OFFSET(Cumulative,,1)),IF(OFFSET(Cumulative,,3)>(ROW()-ROW($O$20)),_xlfn.AGGREGATE(15,6,(ROW(OrderRange_Ref)-ROW($L$19))/(OFFSET(OrderRange_Ref,,3)>0),ROWS($L$20:$L268)-OFFSET(Cumulative,,2)),IF(OFFSET(Cumulative,,4)>(ROW()-ROW($O$20)),_xlfn.AGGREGATE(15,6,(ROW(OrderRange_Ref)-ROW($L$19))/(OFFSET(OrderRange_Ref,,4)>0),ROWS($L$20:$L268)-OFFSET(Cumulative,,3)),IF(OFFSET(Cumulative,,5)>(ROW()-ROW($O$20)),_xlfn.AGGREGATE(15,6,(ROW(OrderRange_Ref)-ROW($L$19))/(OFFSET(OrderRange_Ref,,5)>0),ROWS($L$20:$L268)-OFFSET(Cumulative,,4)),\"\"))))))","v":""},"","","","",""]
[null,null,null,null,null,null,null,null,null,null,null,null,null,{"$f":"IF(Cumulative>(ROW()-ROW($O$20)),_xlfn.AGGREGATE(15,6,(ROW(OrderRange_Ref)-ROW($L$19))/(OFFSET(OrderRange_Ref,,0)>0),ROWS($L$20:$L269)),IF(OFFSET(Cumulative,,1)>(ROW()-ROW($O$20)),_xlfn.AGGREGATE(15,6,(ROW(OrderRange_Ref)-ROW($L$19))/(OFFSET(OrderRange_Ref,,1)>0),ROWS($L$20:$L269)-OFFSET(Cumulative,,0)),IF(OFFSET(Cumulative,,2)>(ROW()-ROW($O$20)),_xlfn.AGGREGATE(15,6,(ROW(OrderRange_Ref)-ROW($L$19))/(OFFSET(OrderRange_Ref,,2)>0),ROWS($L$20:$L269)-OFFSET(Cumulative,,1)),IF(OFFSET(Cumulative,,3)>(ROW()-ROW($O$20)),_xlfn.AGGREGATE(15,6,(ROW(OrderRange_Ref)-ROW($L$19))/(OFFSET(OrderRange_Ref,,3)>0),ROWS($L$20:$L269)-OFFSET(Cumulative,,2)),IF(OFFSET(Cumulative,,4)>(ROW()-ROW($O$20)),_xlfn.AGGREGATE(15,6,(ROW(OrderRange_Ref)-ROW($L$19))/(OFFSET(OrderRange_Ref,,4)>0),ROWS($L$20:$L269)-OFFSET(Cumulative,,3)),IF(OFFSET(Cumulative,,5)>(ROW()-ROW($O$20)),_xlfn.AGGREGATE(15,6,(ROW(OrderRange_Ref)-ROW($L$19))/(OFFSET(OrderRange_Ref,,5)>0),ROWS($L$20:$L269)-OFFSET(Cumulative,,4)),\"\"))))))","v":""},"","","","",""]
[null,null,null,null,null,null,null,null,null,null,null,null,null,{"$f":"IF(Cumulative>(ROW()-ROW($O$20)),_xlfn.AGGREGATE(15,6,(ROW(OrderRange_Ref)-ROW($L$19))/(OFFSET(OrderRange_Ref,,0)>0),ROWS($L$20:$L270)),IF(OFFSET(Cumulative,,1)>(ROW()-ROW($O$20)),_xlfn.AGGREGATE(15,6,(ROW(OrderRange_Ref)-ROW($L$19))/(OFFSET(OrderRange_Ref,,1)>0),ROWS($L$20:$L270)-OFFSET(Cumulative,,0)),IF(OFFSET(Cumulative,,2)>(ROW()-ROW($O$20)),_xlfn.AGGREGATE(15,6,(ROW(OrderRange_Ref)-ROW($L$19))/(OFFSET(OrderRange_Ref,,2)>0),ROWS($L$20:$L270)-OFFSET(Cumulative,,1)),IF(OFFSET(Cumulative,,3)>(ROW()-ROW($O$20)),_xlfn.AGGREGATE(15,6,(ROW(OrderRange_Ref)-ROW($L$19))/(OFFSET(OrderRange_Ref,,3)>0),ROWS($L$20:$L270)-OFFSET(Cumulative,,2)),IF(OFFSET(Cumulative,,4)>(ROW()-ROW($O$20)),_xlfn.AGGREGATE(15,6,(ROW(OrderRange_Ref)-ROW($L$19))/(OFFSET(OrderRange_Ref,,4)>0),ROWS($L$20:$L270)-OFFSET(Cumulative,,3)),IF(OFFSET(Cumulative,,5)>(ROW()-ROW($O$20)),_xlfn.AGGREGATE(15,6,(ROW(OrderRange_Ref)-ROW($L$19))/(OFFSET(OrderRange_Ref,,5)>0),ROWS($L$20:$L270)-OFFSET(Cumulative,,4)),\"\"))))))","v":""},"","","","",""]
[null,null,null,null,null,null,null,null,null,null,null,null,null,{"$f":"IF(Cumulative>(ROW()-ROW($O$20)),_xlfn.AGGREGATE(15,6,(ROW(OrderRange_Ref)-ROW($L$19))/(OFFSET(OrderRange_Ref,,0)>0),ROWS($L$20:$L271)),IF(OFFSET(Cumulative,,1)>(ROW()-ROW($O$20)),_xlfn.AGGREGATE(15,6,(ROW(OrderRange_Ref)-ROW($L$19))/(OFFSET(OrderRange_Ref,,1)>0),ROWS($L$20:$L271)-OFFSET(Cumulative,,0)),IF(OFFSET(Cumulative,,2)>(ROW()-ROW($O$20)),_xlfn.AGGREGATE(15,6,(ROW(OrderRange_Ref)-ROW($L$19))/(OFFSET(OrderRange_Ref,,2)>0),ROWS($L$20:$L271)-OFFSET(Cumulative,,1)),IF(OFFSET(Cumulative,,3)>(ROW()-ROW($O$20)),_xlfn.AGGREGATE(15,6,(ROW(OrderRange_Ref)-ROW($L$19))/(OFFSET(OrderRange_Ref,,3)>0),ROWS($L$20:$L271)-OFFSET(Cumulative,,2)),IF(OFFSET(Cumulative,,4)>(ROW()-ROW($O$20)),_xlfn.AGGREGATE(15,6,(ROW(OrderRange_Ref)-ROW($L$19))/(OFFSET(OrderRange_Ref,,4)>0),ROWS($L$20:$L271)-OFFSET(Cumulative,,3)),IF(OFFSET(Cumulative,,5)>(ROW()-ROW($O$20)),_xlfn.AGGREGATE(15,6,(ROW(OrderRange_Ref)-ROW($L$19))/(OFFSET(OrderRange_Ref,,5)>0),ROWS($L$20:$L271)-OFFSET(Cumulative,,4)),\"\"))))))","v":""},"","","","",""]
[null,null,null,null,null,null,null,null,null,null,null,null,null,{"$f":"IF(Cumulative>(ROW()-ROW($O$20)),_xlfn.AGGREGATE(15,6,(ROW(OrderRange_Ref)-ROW($L$19))/(OFFSET(OrderRange_Ref,,0)>0),ROWS($L$20:$L272)),IF(OFFSET(Cumulative,,1)>(ROW()-ROW($O$20)),_xlfn.AGGREGATE(15,6,(ROW(OrderRange_Ref)-ROW($L$19))/(OFFSET(OrderRange_Ref,,1)>0),ROWS($L$20:$L272)-OFFSET(Cumulative,,0)),IF(OFFSET(Cumulative,,2)>(ROW()-ROW($O$20)),_xlfn.AGGREGATE(15,6,(ROW(OrderRange_Ref)-ROW($L$19))/(OFFSET(OrderRange_Ref,,2)>0),ROWS($L$20:$L272)-OFFSET(Cumulative,,1)),IF(OFFSET(Cumulative,,3)>(ROW()-ROW($O$20)),_xlfn.AGGREGATE(15,6,(ROW(OrderRange_Ref)-ROW($L$19))/(OFFSET(OrderRange_Ref,,3)>0),ROWS($L$20:$L272)-OFFSET(Cumulative,,2)),IF(OFFSET(Cumulative,,4)>(ROW()-ROW($O$20)),_xlfn.AGGREGATE(15,6,(ROW(OrderRange_Ref)-ROW($L$19))/(OFFSET(OrderRange_Ref,,4)>0),ROWS($L$20:$L272)-OFFSET(Cumulative,,3)),IF(OFFSET(Cumulative,,5)>(ROW()-ROW($O$20)),_xlfn.AGGREGATE(15,6,(ROW(OrderRange_Ref)-ROW($L$19))/(OFFSET(OrderRange_Ref,,5)>0),ROWS($L$20:$L272)-OFFSET(Cumulative,,4)),\"\"))))))","v":""},"","","","",""]
[null,null,null,null,null,null,null,null,null,null,null,null,null,{"$f":"IF(Cumulative>(ROW()-ROW($O$20)),_xlfn.AGGREGATE(15,6,(ROW(OrderRange_Ref)-ROW($L$19))/(OFFSET(OrderRange_Ref,,0)>0),ROWS($L$20:$L273)),IF(OFFSET(Cumulative,,1)>(ROW()-ROW($O$20)),_xlfn.AGGREGATE(15,6,(ROW(OrderRange_Ref)-ROW($L$19))/(OFFSET(OrderRange_Ref,,1)>0),ROWS($L$20:$L273)-OFFSET(Cumulative,,0)),IF(OFFSET(Cumulative,,2)>(ROW()-ROW($O$20)),_xlfn.AGGREGATE(15,6,(ROW(OrderRange_Ref)-ROW($L$19))/(OFFSET(OrderRange_Ref,,2)>0),ROWS($L$20:$L273)-OFFSET(Cumulative,,1)),IF(OFFSET(Cumulative,,3)>(ROW()-ROW($O$20)),_xlfn.AGGREGATE(15,6,(ROW(OrderRange_Ref)-ROW($L$19))/(OFFSET(OrderRange_Ref,,3)>0),ROWS($L$20:$L273)-OFFSET(Cumulative,,2)),IF(OFFSET(Cumulative,,4)>(ROW()-ROW($O$20)),_xlfn.AGGREGATE(15,6,(ROW(OrderRange_Ref)-ROW($L$19))/(OFFSET(OrderRange_Ref,,4)>0),ROWS($L$20:$L273)-OFFSET(Cumulative,,3)),IF(OFFSET(Cumulative,,5)>(ROW()-ROW($O$20)),_xlfn.AGGREGATE(15,6,(ROW(OrderRange_Ref)-ROW($L$19))/(OFFSET(OrderRange_Ref,,5)>0),ROWS($L$20:$L273)-OFFSET(Cumulative,,4)),\"\"))))))","v":""},"","","","",""]
[null,null,null,null,null,null,null,null,null,null,null,null,null,{"$f":"IF(Cumulative>(ROW()-ROW($O$20)),_xlfn.AGGREGATE(15,6,(ROW(OrderRange_Ref)-ROW($L$19))/(OFFSET(OrderRange_Ref,,0)>0),ROWS($L$20:$L274)),IF(OFFSET(Cumulative,,1)>(ROW()-ROW($O$20)),_xlfn.AGGREGATE(15,6,(ROW(OrderRange_Ref)-ROW($L$19))/(OFFSET(OrderRange_Ref,,1)>0),ROWS($L$20:$L274)-OFFSET(Cumulative,,0)),IF(OFFSET(Cumulative,,2)>(ROW()-ROW($O$20)),_xlfn.AGGREGATE(15,6,(ROW(OrderRange_Ref)-ROW($L$19))/(OFFSET(OrderRange_Ref,,2)>0),ROWS($L$20:$L274)-OFFSET(Cumulative,,1)),IF(OFFSET(Cumulative,,3)>(ROW()-ROW($O$20)),_xlfn.AGGREGATE(15,6,(ROW(OrderRange_Ref)-ROW($L$19))/(OFFSET(OrderRange_Ref,,3)>0),ROWS($L$20:$L274)-OFFSET(Cumulative,,2)),IF(OFFSET(Cumulative,,4)>(ROW()-ROW($O$20)),_xlfn.AGGREGATE(15,6,(ROW(OrderRange_Ref)-ROW($L$19))/(OFFSET(OrderRange_Ref,,4)>0),ROWS($L$20:$L274)-OFFSET(Cumulative,,3)),IF(OFFSET(Cumulative,,5)>(ROW()-ROW($O$20)),_xlfn.AGGREGATE(15,6,(ROW(OrderRange_Ref)-ROW($L$19))/(OFFSET(OrderRange_Ref,,5)>0),ROWS($L$20:$L274)-OFFSET(Cumulative,,4)),\"\"))))))","v":""},"","","","",""]
[null,null,null,null,null,null,null,null,null,null,null,null,null,{"$f":"IF(Cumulative>(ROW()-ROW($O$20)),_xlfn.AGGREGATE(15,6,(ROW(OrderRange_Ref)-ROW($L$19))/(OFFSET(OrderRange_Ref,,0)>0),ROWS($L$20:$L275)),IF(OFFSET(Cumulative,,1)>(ROW()-ROW($O$20)),_xlfn.AGGREGATE(15,6,(ROW(OrderRange_Ref)-ROW($L$19))/(OFFSET(OrderRange_Ref,,1)>0),ROWS($L$20:$L275)-OFFSET(Cumulative,,0)),IF(OFFSET(Cumulative,,2)>(ROW()-ROW($O$20)),_xlfn.AGGREGATE(15,6,(ROW(OrderRange_Ref)-ROW($L$19))/(OFFSET(OrderRange_Ref,,2)>0),ROWS($L$20:$L275)-OFFSET(Cumulative,,1)),IF(OFFSET(Cumulative,,3)>(ROW()-ROW($O$20)),_xlfn.AGGREGATE(15,6,(ROW(OrderRange_Ref)-ROW($L$19))/(OFFSET(OrderRange_Ref,,3)>0),ROWS($L$20:$L275)-OFFSET(Cumulative,,2)),IF(OFFSET(Cumulative,,4)>(ROW()-ROW($O$20)),_xlfn.AGGREGATE(15,6,(ROW(OrderRange_Ref)-ROW($L$19))/(OFFSET(OrderRange_Ref,,4)>0),ROWS($L$20:$L275)-OFFSET(Cumulative,,3)),IF(OFFSET(Cumulative,,5)>(ROW()-ROW($O$20)),_xlfn.AGGREGATE(15,6,(ROW(OrderRange_Ref)-ROW($L$19))/(OFFSET(OrderRange_Ref,,5)>0),ROWS($L$20:$L275)-OFFSET(Cumulative,,4)),\"\"))))))","v":""},"","","","",""]
[null,null,null,null,null,null,null,null,null,null,null,null,null,{"$f":"IF(Cumulative>(ROW()-ROW($O$20)),_xlfn.AGGREGATE(15,6,(ROW(OrderRange_Ref)-ROW($L$19))/(OFFSET(OrderRange_Ref,,0)>0),ROWS($L$20:$L276)),IF(OFFSET(Cumulative,,1)>(ROW()-ROW($O$20)),_xlfn.AGGREGATE(15,6,(ROW(OrderRange_Ref)-ROW($L$19))/(OFFSET(OrderRange_Ref,,1)>0),ROWS($L$20:$L276)-OFFSET(Cumulative,,0)),IF(OFFSET(Cumulative,,2)>(ROW()-ROW($O$20)),_xlfn.AGGREGATE(15,6,(ROW(OrderRange_Ref)-ROW($L$19))/(OFFSET(OrderRange_Ref,,2)>0),ROWS($L$20:$L276)-OFFSET(Cumulative,,1)),IF(OFFSET(Cumulative,,3)>(ROW()-ROW($O$20)),_xlfn.AGGREGATE(15,6,(ROW(OrderRange_Ref)-ROW($L$19))/(OFFSET(OrderRange_Ref,,3)>0),ROWS($L$20:$L276)-OFFSET(Cumulative,,2)),IF(OFFSET(Cumulative,,4)>(ROW()-ROW($O$20)),_xlfn.AGGREGATE(15,6,(ROW(OrderRange_Ref)-ROW($L$19))/(OFFSET(OrderRange_Ref,,4)>0),ROWS($L$20:$L276)-OFFSET(Cumulative,,3)),IF(OFFSET(Cumulative,,5)>(ROW()-ROW($O$20)),_xlfn.AGGREGATE(15,6,(ROW(OrderRange_Ref)-ROW($L$19))/(OFFSET(OrderRange_Ref,,5)>0),ROWS($L$20:$L276)-OFFSET(Cumulative,,4)),\"\"))))))","v":""},{"$f":"IF(Cumulative>(ROW()-ROW($O$20)),OrderDate,IF(OFFSET(Cumulative,,1)>(ROW()-ROW($O$20)),OrderDate+1,IF(OFFSET(Cumulative,,2)>(ROW()-ROW($O$20)),OrderDate+2,IF(OFFSET(Cumulative,,3)>(ROW()-ROW($O$20)),OrderDate+3,IF(OFFSET(Cumulative,,4)>(ROW()-ROW($O$20)),OrderDate+4,IF(OFFSET(Cumulative,,5)>(ROW()-ROW($O$20)),OrderDate+5,\"\"))))))","v":""},"","","",{"$f":"IF($N276=\"\",\"\",ROUND(INDEX(Order_Data,$N276,MATCH($O276,$D$18:$I$18,0)),0))","v":""}]
[null,null,null,null,null,null,null,null,null,null,null,null,null,{"$f":"IF(Cumulative>(ROW()-ROW($O$20)),_xlfn.AGGREGATE(15,6,(ROW(OrderRange_Ref)-ROW($L$19))/(OFFSET(OrderRange_Ref,,0)>0),ROWS($L$20:$L277)),IF(OFFSET(Cumulative,,1)>(ROW()-ROW($O$20)),_xlfn.AGGREGATE(15,6,(ROW(OrderRange_Ref)-ROW($L$19))/(OFFSET(OrderRange_Ref,,1)>0),ROWS($L$20:$L277)-OFFSET(Cumulative,,0)),IF(OFFSET(Cumulative,,2)>(ROW()-ROW($O$20)),_xlfn.AGGREGATE(15,6,(ROW(OrderRange_Ref)-ROW($L$19))/(OFFSET(OrderRange_Ref,,2)>0),ROWS($L$20:$L277)-OFFSET(Cumulative,,1)),IF(OFFSET(Cumulative,,3)>(ROW()-ROW($O$20)),_xlfn.AGGREGATE(15,6,(ROW(OrderRange_Ref)-ROW($L$19))/(OFFSET(OrderRange_Ref,,3)>0),ROWS($L$20:$L277)-OFFSET(Cumulative,,2)),IF(OFFSET(Cumulative,,4)>(ROW()-ROW($O$20)),_xlfn.AGGREGATE(15,6,(ROW(OrderRange_Ref)-ROW($L$19))/(OFFSET(OrderRange_Ref,,4)>0),ROWS($L$20:$L277)-OFFSET(Cumulative,,3)),IF(OFFSET(Cumulative,,5)>(ROW()-ROW($O$20)),_xlfn.AGGREGATE(15,6,(ROW(OrderRange_Ref)-ROW($L$19))/(OFFSET(OrderRange_Ref,,5)>0),ROWS($L$20:$L277)-OFFSET(Cumulative,,4)),\"\"))))))","v":""},"",{"$f":"IF($O277<>\"\",BranchCode,\"\")","v":""},{"$f":"IF($O277<>\"\",\"จ่าย\",\"\")","v":""},{"$f":"IFERROR(INDEX($C$20:$C$54,$N277),\"\")","v":""},""]
[null,null,null,null,null,null,null,null,null,null,null,null,null,{"$f":"IF(Cumulative>(ROW()-ROW($O$20)),_xlfn.AGGREGATE(15,6,(ROW(OrderRange_Ref)-ROW($L$19))/(OFFSET(OrderRange_Ref,,0)>0),ROWS($L$20:$L278)),IF(OFFSET(Cumulative,,1)>(ROW()-ROW($O$20)),_xlfn.AGGREGATE(15,6,(ROW(OrderRange_Ref)-ROW($L$19))/(OFFSET(OrderRange_Ref,,1)>0),ROWS($L$20:$L278)-OFFSET(Cumulative,,0)),IF(OFFSET(Cumulative,,2)>(ROW()-ROW($O$20)),_xlfn.AGGREGATE(15,6,(ROW(OrderRange_Ref)-ROW($L$19))/(OFFSET(OrderRange_Ref,,2)>0),ROWS($L$20:$L278)-OFFSET(Cumulative,,1)),IF(OFFSET(Cumulative,,3)>(ROW()-ROW($O$20)),_xlfn.AGGREGATE(15,6,(ROW(OrderRange_Ref)-ROW($L$19))/(OFFSET(OrderRange_Ref,,3)>0),ROWS($L$20:$L278)-OFFSET(Cumulative,,2)),IF(OFFSET(Cumulative,,4)>(ROW()-ROW($O$20)),_xlfn.AGGREGATE(15,6,(ROW(OrderRange_Ref)-ROW($L$19))/(OFFSET(OrderRange_Ref,,4)>0),ROWS($L$20:$L278)-OFFSET(Cumulative,,3)),IF(OFFSET(Cumulative,,5)>(ROW()-ROW($O$20)),_xlfn.AGGREGATE(15,6,(ROW(OrderRange_Ref)-ROW($L$19))/(OFFSET(OrderRange_Ref,,5)>0),ROWS($L$20:$L278)-OFFSET(Cumulative,,4)),\"\"))))))","v":""},"","","","",""]
[null,null,null,null,null,null,null,null,null,null,null,null,null,{"$f":"IF(Cumulative>(ROW()-ROW($O$20)),_xlfn.AGGREGATE(15,6,(ROW(OrderRange_Ref)-ROW($L$19))/(OFFSET(OrderRange_Ref,,0)>0),ROWS($L$20:$L279)),IF(OFFSET(Cumulative,,1)>(ROW()-ROW($O$20)),_xlfn.AGGREGATE(15,6,(ROW(OrderRange_Ref)-ROW($L$19))/(OFFSET(OrderRange_Ref,,1)>0),ROWS($L$20:$L279)-OFFSET(Cumulative,,0)),IF(OFFSET(Cumulative,,2)>(ROW()-ROW($O$20)),_xlfn.AGGREGATE(15,6,(ROW(OrderRange_Ref)-ROW($L$19))/(OFFSET(OrderRange_Ref,,2)>0),ROWS($L$20:$L279)-OFFSET(Cumulative,,1)),IF(OFFSET(Cumulative,,3)>(ROW()-ROW($O$20)),_xlfn.AGGREGATE(15,6,(ROW(OrderRange_Ref)-ROW($L$19))/(OFFSET(OrderRange_Ref,,3)>0),ROWS($L$20:$L279)-OFFSET(Cumulative,,2)),IF(OFFSET(Cumulative,,4)>(ROW()-ROW($O$20)),_xlfn.AGGREGATE(15,6,(ROW(OrderRange_Ref)-ROW($L$19))/(OFFSET(OrderRange_Ref,,4)>0),ROWS($L$20:$L279)-OFFSET(Cumulative,,3)),IF(OFFSET(Cumulative,,5)>(ROW()-ROW($O$20)),_xlfn.AGGREGATE(15,6,(ROW(OrderRange_Ref)-ROW($L$19))/(OFFSET(OrderRange_Ref,,5)>0),ROWS($L$20:$L279)-OFFSET(Cumulative,,4)),\"\"))))))","v":""},"","","","",""]
[null,null,null,null,null,null,null,null,null,null,null,null,null,{"$f":"IF(Cumulative>(ROW()-ROW($O$20)),_xlfn.AGGREGATE(15,6,(ROW(OrderRange_Ref)-ROW($L$19))/(OFFSET(OrderRange_Ref,,0)>0),ROWS($L$20:$L280)),IF(OFFSET(Cumulative,,1)>(ROW()-ROW($O$20)),_xlfn.AGGREGATE(15,6,(ROW(OrderRange_Ref)-ROW($L$19))/(OFFSET(OrderRange_Ref,,1)>0),ROWS($L$20:$L280)-OFFSET(Cumulative,,0)),IF(OFFSET(Cumulative,,2)>(ROW()-ROW($O$20)),_xlfn.AGGREGATE(15,6,(ROW(OrderRange_Ref)-ROW($L$19))/(OFFSET(OrderRange_Ref,,2)>0),ROWS($L$20:$L280)-OFFSET(Cumulative,,1)),IF(OFFSET(Cumulative,,3)>(ROW()-ROW($O$20)),_xlfn.AGGREGATE(15,6,(ROW(OrderRange_Ref)-ROW($L$19))/(OFFSET(OrderRange_Ref,,3)>0),ROWS($L$20:$L280)-OFFSET(Cumulative,,2)),IF(OFFSET(Cumulative,,4)>(ROW()-ROW($O$20)),_xlfn.AGGREGATE(15,6,(ROW(OrderRange_Ref)-ROW($L$19))/(OFFSET(OrderRange_Ref,,4)>0),ROWS($L$20:$L280)-OFFSET(Cumulative,,3)),IF(OFFSET(Cumulative,,5)>(ROW()-ROW($O$20)),_xlfn.AGGREGATE(15,6,(ROW(OrderRange_Ref)-ROW($L$19))/(OFFSET(OrderRange_Ref,,5)>0),ROWS($L$20:$L280)-OFFSET(Cumulative,,4)),\"\"))))))","v":""},"","","","",""]
[null,null,null,null,null,null,null,null,null,null,null,null,null,{"$f":"IF(Cumulative>(ROW()-ROW($O$20)),_xlfn.AGGREGATE(15,6,(ROW(OrderRange_Ref)-ROW($L$19))/(OFFSET(OrderRange_Ref,,0)>0),ROWS($L$20:$L281)),IF(OFFSET(Cumulative,,1)>(ROW()-ROW($O$20)),_xlfn.AGGREGATE(15,6,(ROW(OrderRange_Ref)-ROW($L$19))/(OFFSET(OrderRange_Ref,,1)>0),ROWS($L$20:$L281)-OFFSET(Cumulative,,0)),IF(OFFSET(Cumulative,,2)>(ROW()-ROW($O$20)),_xlfn.AGGREGATE(15,6,(ROW(OrderRange_Ref)-ROW($L$19))/(OFFSET(OrderRange_Ref,,2)>0),ROWS($L$20:$L281)-OFFSET(Cumulative,,1)),IF(OFFSET(Cumulative,,3)>(ROW()-ROW($O$20)),_xlfn.AGGREGATE(15,6,(ROW(OrderRange_Ref)-ROW($L$19))/(OFFSET(OrderRange_Ref,,3)>0),ROWS($L$20:$L281)-OFFSET(Cumulative,,2)),IF(OFFSET(Cumulative,,4)>(ROW()-ROW($O$20)),_xlfn.AGGREGATE(15,6,(ROW(OrderRange_Ref)-ROW($L$19))/(OFFSET(OrderRange_Ref,,4)>0),ROWS($L$20:$L281)-OFFSET(Cumulative,,3)),IF(OFFSET(Cumulative,,5)>(ROW()-ROW($O$20)),_xlfn.AGGREGATE(15,6,(ROW(OrderRange_Ref)-ROW($L$19))/(OFFSET(OrderRange_Ref,,5)>0),ROWS($L$20:$L281)-OFFSET(Cumulative,,4)),\"\"))))))","v":""},"","","","",""]
[null,null,null,null,null,null,null,null,null,null,null,null,null,{"$f":"IF(Cumulative>(ROW()-ROW($O$20)),_xlfn.AGGREGATE(15,6,(ROW(OrderRange_Ref)-ROW($L$19))/(OFFSET(OrderRange_Ref,,0)>0),ROWS($L$20:$L282)),IF(OFFSET(Cumulative,,1)>(ROW()-ROW($O$20)),_xlfn.AGGREGATE(15,6,(ROW(OrderRange_Ref)-ROW($L$19))/(OFFSET(OrderRange_Ref,,1)>0),ROWS($L$20:$L282)-OFFSET(Cumulative,,0)),IF(OFFSET(Cumulative,,2)>(ROW()-ROW($O$20)),_xlfn.AGGREGATE(15,6,(ROW(OrderRange_Ref)-ROW($L$19))/(OFFSET(OrderRange_Ref,,2)>0),ROWS($L$20:$L282)-OFFSET(Cumulative,,1)),IF(OFFSET(Cumulative,,3)>(ROW()-ROW($O$20)),_xlfn.AGGREGATE(15,6,(ROW(OrderRange_Ref)-ROW($L$19))/(OFFSET(OrderRange_Ref,,3)>0),ROWS($L$20:$L282)-OFFSET(Cumulative,,2)),IF(OFFSET(Cumulative,,4)>(ROW()-ROW($O$20)),_xlfn.AGGREGATE(15,6,(ROW(OrderRange_Ref)-ROW($L$19))/(OFFSET(OrderRange_Ref,,4)>0),ROWS($L$20:$L282)-OFFSET(Cumulative,,3)),IF(OFFSET(Cumulative,,5)>(ROW()-ROW($O$20)),_xlfn.AGGREGATE(15,6,(ROW(OrderRange_Ref)-ROW($L$19))/(OFFSET(OrderRange_Ref,,5)>0),ROWS($L$20:$L282)-OFFSET(Cumulative,,4)),\"\"))))))","v":""},"","","","",""]
[null,null,null,null,null,null,null,null,null,null,null,null,null,{"$f":"IF(Cumulative>(ROW()-ROW($O$20)),_xlfn.AGGREGATE(15,6,(ROW(OrderRange_Ref)-ROW($L$19))/(OFFSET(OrderRange_Ref,,0)>0),ROWS($L$20:$L283)),IF(OFFSET(Cumulative,,1)>(ROW()-ROW($O$20)),_xlfn.AGGREGATE(15,6,(ROW(OrderRange_Ref)-ROW($L$19))/(OFFSET(OrderRange_Ref,,1)>0),ROWS($L$20:$L283)-OFFSET(Cumulative,,0)),IF(OFFSET(Cumulative,,2)>(ROW()-ROW($O$20)),_xlfn.AGGREGATE(15,6,(ROW(OrderRange_Ref)-ROW($L$19))/(OFFSET(OrderRange_Ref,,2)>0),ROWS($L$20:$L283)-OFFSET(Cumulative,,1)),IF(OFFSET(Cumulative,,3)>(ROW()-ROW($O$20)),_xlfn.AGGREGATE(15,6,(ROW(OrderRange_Ref)-ROW($L$19))/(OFFSET(OrderRange_Ref,,3)>0),ROWS($L$20:$L283)-OFFSET(Cumulative,,2)),IF(OFFSET(Cumulative,,4)>(ROW()-ROW($O$20)),_xlfn.AGGREGATE(15,6,(ROW(OrderRange_Ref)-ROW($L$19))/(OFFSET(OrderRange_Ref,,4)>0),ROWS($L$20:$L283)-OFFSET(Cumulative,,3)),IF(OFFSET(Cumulative,,5)>(ROW()-ROW($O$20)),_xlfn.AGGREGATE(15,6,(ROW(OrderRange_Ref)-ROW($L$19))/(OFFSET(OrderRange_Ref,,5)>0),ROWS($L$20:$L283)-OFFSET(Cumulative,,4)),\"\"))))))","v":""},"","","","",""]
[null,null,null,null,null,null,null,null,null,null,null,null,null,{"$f":"IF(Cumulative>(ROW()-ROW($O$20)),_xlfn.AGGREGATE(15,6,(ROW(OrderRange_Ref)-ROW($L$19))/(OFFSET(OrderRange_Ref,,0)>0),ROWS($L$20:$L284)),IF(OFFSET(Cumulative,,1)>(ROW()-ROW($O$20)),_xlfn.AGGREGATE(15,6,(ROW(OrderRange_Ref)-ROW($L$19))/(OFFSET(OrderRange_Ref,,1)>0),ROWS($L$20:$L284)-OFFSET(Cumulative,,0)),IF(OFFSET(Cumulative,,2)>(ROW()-ROW($O$20)),_xlfn.AGGREGATE(15,6,(ROW(OrderRange_Ref)-ROW($L$19))/(OFFSET(OrderRange_Ref,,2)>0),ROWS($L$20:$L284)-OFFSET(Cumulative,,1)),IF(OFFSET(Cumulative,,3)>(ROW()-ROW($O$20)),_xlfn.AGGREGATE(15,6,(ROW(OrderRange_Ref)-ROW($L$19))/(OFFSET(OrderRange_Ref,,3)>0),ROWS($L$20:$L284)-OFFSET(Cumulative,,2)),IF(OFFSET(Cumulative,,4)>(ROW()-ROW($O$20)),_xlfn.AGGREGATE(15,6,(ROW(OrderRange_Ref)-ROW($L$19))/(OFFSET(OrderRange_Ref,,4)>0),ROWS($L$20:$L284)-OFFSET(Cumulative,,3)),IF(OFFSET(Cumulative,,5)>(ROW()-ROW($O$20)),_xlfn.AGGREGATE(15,6,(ROW(OrderRange_Ref)-ROW($L$19))/(OFFSET(OrderRange_Ref,,5)>0),ROWS($L$20:$L284)-OFFSET(Cumulative,,4)),\"\"))))))","v":""},"","","","",""]
[null,null,null,null,null,null,null,null,null,null,null,null,null,{"$f":"IF(Cumulative>(ROW()-ROW($O$20)),_xlfn.AGGREGATE(15,6,(ROW(OrderRange_Ref)-ROW($L$19))/(OFFSET(OrderRange_Ref,,0)>0),ROWS($L$20:$L285)),IF(OFFSET(Cumulative,,1)>(ROW()-ROW($O$20)),_xlfn.AGGREGATE(15,6,(ROW(OrderRange_Ref)-ROW($L$19))/(OFFSET(OrderRange_Ref,,1)>0),ROWS($L$20:$L285)-OFFSET(Cumulative,,0)),IF(OFFSET(Cumulative,,2)>(ROW()-ROW($O$20)),_xlfn.AGGREGATE(15,6,(ROW(OrderRange_Ref)-ROW($L$19))/(OFFSET(OrderRange_Ref,,2)>0),ROWS($L$20:$L285)-OFFSET(Cumulative,,1)),IF(OFFSET(Cumulative,,3)>(ROW()-ROW($O$20)),_xlfn.AGGREGATE(15,6,(ROW(OrderRange_Ref)-ROW($L$19))/(OFFSET(OrderRange_Ref,,3)>0),ROWS($L$20:$L285)-OFFSET(Cumulative,,2)),IF(OFFSET(Cumulative,,4)>(ROW()-ROW($O$20)),_xlfn.AGGREGATE(15,6,(ROW(OrderRange_Ref)-ROW($L$19))/(OFFSET(OrderRange_Ref,,4)>0),ROWS($L$20:$L285)-OFFSET(Cumulative,,3)),IF(OFFSET(Cumulative,,5)>(ROW()-ROW($O$20)),_xlfn.AGGREGATE(15,6,(ROW(OrderRange_Ref)-ROW($L$19))/(OFFSET(OrderRange_Ref,,5)>0),ROWS($L$20:$L285)-OFFSET(Cumulative,,4)),\"\"))))))","v":""},"","","","",""]
[null,null,null,null,null,null,null,null,null,null,null,null,null,{"$f":"IF(Cumulative>(ROW()-ROW($O$20)),_xlfn.AGGREGATE(15,6,(ROW(OrderRange_Ref)-ROW($L$19))/(OFFSET(OrderRange_Ref,,0)>0),ROWS($L$20:$L286)),IF(OFFSET(Cumulative,,1)>(ROW()-ROW($O$20)),_xlfn.AGGREGATE(15,6,(ROW(OrderRange_Ref)-ROW($L$19))/(OFFSET(OrderRange_Ref,,1)>0),ROWS($L$20:$L286)-OFFSET(Cumulative,,0)),IF(OFFSET(Cumulative,,2)>(ROW()-ROW($O$20)),_xlfn.AGGREGATE(15,6,(ROW(OrderRange_Ref)-ROW($L$19))/(OFFSET(OrderRange_Ref,,2)>0),ROWS($L$20:$L286)-OFFSET(Cumulative,,1)),IF(OFFSET(Cumulative,,3)>(ROW()-ROW($O$20)),_xlfn.AGGREGATE(15,6,(ROW(OrderRange_Ref)-ROW($L$19))/(OFFSET(OrderRange_Ref,,3)>0),ROWS($L$20:$L286)-OFFSET(Cumulative,,2)),IF(OFFSET(Cumulative,,4)>(ROW()-ROW($O$20)),_xlfn.AGGREGATE(15,6,(ROW(OrderRange_Ref)-ROW($L$19))/(OFFSET(OrderRange_Ref,,4)>0),ROWS($L$20:$L286)-OFFSET(Cumulative,,3)),IF(OFFSET(Cumulative,,5)>(ROW()-ROW($O$20)),_xlfn.AGGREGATE(15,6,(ROW(OrderRange_Ref)-ROW($L$19))/(OFFSET(OrderRange_Ref,,5)>0),ROWS($L$20:$L286)-OFFSET(Cumulative,,4)),\"\"))))))","v":""},"","","","",""]
[null,null,null,null,null,null,null,null,null,null,null,null,null,{"$f":"IF(Cumulative>(ROW()-ROW($O$20)),_xlfn.AGGREGATE(15,6,(ROW(OrderRange_Ref)-ROW($L$19))/(OFFSET(OrderRange_Ref,,0)>0),ROWS($L$20:$L287)),IF(OFFSET(Cumulative,,1)>(ROW()-ROW($O$20)),_xlfn.AGGREGATE(15,6,(ROW(OrderRange_Ref)-ROW($L$19))/(OFFSET(OrderRange_Ref,,1)>0),ROWS($L$20:$L287)-OFFSET(Cumulative,,0)),IF(OFFSET(Cumulative,,2)>(ROW()-ROW($O$20)),_xlfn.AGGREGATE(15,6,(ROW(OrderRange_Ref)-ROW($L$19))/(OFFSET(OrderRange_Ref,,2)>0),ROWS($L$20:$L287)-OFFSET(Cumulative,,1)),IF(OFFSET(Cumulative,,3)>(ROW()-ROW($O$20)),_xlfn.AGGREGATE(15,6,(ROW(OrderRange_Ref)-ROW($L$19))/(OFFSET(OrderRange_Ref,,3)>0),ROWS($L$20:$L287)-OFFSET(Cumulative,,2)),IF(OFFSET(Cumulative,,4)>(ROW()-ROW($O$20)),_xlfn.AGGREGATE(15,6,(ROW(OrderRange_Ref)-ROW($L$19))/(OFFSET(OrderRange_Ref,,4)>0),ROWS($L$20:$L287)-OFFSET(Cumulative,,3)),IF(OFFSET(Cumulative,,5)>(ROW()-ROW($O$20)),_xlfn.AGGREGATE(15,6,(ROW(OrderRange_Ref)-ROW($L$19))/(OFFSET(OrderRange_Ref,,5)>0),ROWS($L$20:$L287)-OFFSET(Cumulative,,4)),\"\"))))))","v":""},"","","","",""]
[null,null,null,null,null,null,null,null,null,null,null,null,null,{"$f":"IF(Cumulative>(ROW()-ROW($O$20)),_xlfn.AGGREGATE(15,6,(ROW(OrderRange_Ref)-ROW($L$19))/(OFFSET(OrderRange_Ref,,0)>0),ROWS($L$20:$L288)),IF(OFFSET(Cumulative,,1)>(ROW()-ROW($O$20)),_xlfn.AGGREGATE(15,6,(ROW(OrderRange_Ref)-ROW($L$19))/(OFFSET(OrderRange_Ref,,1)>0),ROWS($L$20:$L288)-OFFSET(Cumulative,,0)),IF(OFFSET(Cumulative,,2)>(ROW()-ROW($O$20)),_xlfn.AGGREGATE(15,6,(ROW(OrderRange_Ref)-ROW($L$19))/(OFFSET(OrderRange_Ref,,2)>0),ROWS($L$20:$L288)-OFFSET(Cumulative,,1)),IF(OFFSET(Cumulative,,3)>(ROW()-ROW($O$20)),_xlfn.AGGREGATE(15,6,(ROW(OrderRange_Ref)-ROW($L$19))/(OFFSET(OrderRange_Ref,,3)>0),ROWS($L$20:$L288)-OFFSET(Cumulative,,2)),IF(OFFSET(Cumulative,,4)>(ROW()-ROW($O$20)),_xlfn.AGGREGATE(15,6,(ROW(OrderRange_Ref)-ROW($L$19))/(OFFSET(OrderRange_Ref,,4)>0),ROWS($L$20:$L288)-OFFSET(Cumulative,,3)),IF(OFFSET(Cumulative,,5)>(ROW()-ROW($O$20)),_xlfn.AGGREGATE(15,6,(ROW(OrderRange_Ref)-ROW($L$19))/(OFFSET(OrderRange_Ref,,5)>0),ROWS($L$20:$L288)-OFFSET(Cumulative,,4)),\"\"))))))","v":""},"","","","",""]
[null,null,null,null,null,null,null,null,null,null,null,null,null,{"$f":"IF(Cumulative>(ROW()-ROW($O$20)),_xlfn.AGGREGATE(15,6,(ROW(OrderRange_Ref)-ROW($L$19))/(OFFSET(OrderRange_Ref,,0)>0),ROWS($L$20:$L289)),IF(OFFSET(Cumulative,,1)>(ROW()-ROW($O$20)),_xlfn.AGGREGATE(15,6,(ROW(OrderRange_Ref)-ROW($L$19))/(OFFSET(OrderRange_Ref,,1)>0),ROWS($L$20:$L289)-OFFSET(Cumulative,,0)),IF(OFFSET(Cumulative,,2)>(ROW()-ROW($O$20)),_xlfn.AGGREGATE(15,6,(ROW(OrderRange_Ref)-ROW($L$19))/(OFFSET(OrderRange_Ref,,2)>0),ROWS($L$20:$L289)-OFFSET(Cumulative,,1)),IF(OFFSET(Cumulative,,3)>(ROW()-ROW($O$20)),_xlfn.AGGREGATE(15,6,(ROW(OrderRange_Ref)-ROW($L$19))/(OFFSET(OrderRange_Ref,,3)>0),ROWS($L$20:$L289)-OFFSET(Cumulative,,2)),IF(OFFSET(Cumulative,,4)>(ROW()-ROW($O$20)),_xlfn.AGGREGATE(15,6,(ROW(OrderRange_Ref)-ROW($L$19))/(OFFSET(OrderRange_Ref,,4)>0),ROWS($L$20:$L289)-OFFSET(Cumulative,,3)),IF(OFFSET(Cumulative,,5)>(ROW()-ROW($O$20)),_xlfn.AGGREGATE(15,6,(ROW(OrderRange_Ref)-ROW($L$19))/(OFFSET(OrderRange_Ref,,5)>0),ROWS($L$20:$L289)-OFFSET(Cumulative,,4)),\"\"))))))","v":""},"","","","",""]
[null,null,null,null,null,null,null,null,null,null,null,null,null,{"$f":"IF(Cumulative>(ROW()-ROW($O$20)),_xlfn.AGGREGATE(15,6,(ROW(OrderRange_Ref)-ROW($L$19))/(OFFSET(OrderRange_Ref,,0)>0),ROWS($L$20:$L290)),IF(OFFSET(Cumulative,,1)>(ROW()-ROW($O$20)),_xlfn.AGGREGATE(15,6,(ROW(OrderRange_Ref)-ROW($L$19))/(OFFSET(OrderRange_Ref,,1)>0),ROWS($L$20:$L290)-OFFSET(Cumulative,,0)),IF(OFFSET(Cumulative,,2)>(ROW()-ROW($O$20)),_xlfn.AGGREGATE(15,6,(ROW(OrderRange_Ref)-ROW($L$19))/(OFFSET(OrderRange_Ref,,2)>0),ROWS($L$20:$L290)-OFFSET(Cumulative,,1)),IF(OFFSET(Cumulative,,3)>(ROW()-ROW($O$20)),_xlfn.AGGREGATE(15,6,(ROW(OrderRange_Ref)-ROW($L$19))/(OFFSET(OrderRange_Ref,,3)>0),ROWS($L$20:$L290)-OFFSET(Cumulative,,2)),IF(OFFSET(Cumulative,,4)>(ROW()-ROW($O$20)),_xlfn.AGGREGATE(15,6,(ROW(OrderRange_Ref)-ROW($L$19))/(OFFSET(OrderRange_Ref,,4)>0),ROWS($L$20:$L290)-OFFSET(Cumulative,,3)),IF(OFFSET(Cumulative,,5)>(ROW()-ROW($O$20)),_xlfn.AGGREGATE(15,6,(ROW(OrderRange_Ref)-ROW($L$19))/(OFFSET(OrderRange_Ref,,5)>0),ROWS($L$20:$L290)-OFFSET(Cumulative,,4)),\"\"))))))","v":""},"","","","",""]
[null,null,null,null,null,null,null,null,null,null,null,null,null,{"$f":"IF(Cumulative>(ROW()-ROW($O$20)),_xlfn.AGGREGATE(15,6,(ROW(OrderRange_Ref)-ROW($L$19))/(OFFSET(OrderRange_Ref,,0)>0),ROWS($L$20:$L291)),IF(OFFSET(Cumulative,,1)>(ROW()-ROW($O$20)),_xlfn.AGGREGATE(15,6,(ROW(OrderRange_Ref)-ROW($L$19))/(OFFSET(OrderRange_Ref,,1)>0),ROWS($L$20:$L291)-OFFSET(Cumulative,,0)),IF(OFFSET(Cumulative,,2)>(ROW()-ROW($O$20)),_xlfn.AGGREGATE(15,6,(ROW(OrderRange_Ref)-ROW($L$19))/(OFFSET(OrderRange_Ref,,2)>0),ROWS($L$20:$L291)-OFFSET(Cumulative,,1)),IF(OFFSET(Cumulative,,3)>(ROW()-ROW($O$20)),_xlfn.AGGREGATE(15,6,(ROW(OrderRange_Ref)-ROW($L$19))/(OFFSET(OrderRange_Ref,,3)>0),ROWS($L$20:$L291)-OFFSET(Cumulative,,2)),IF(OFFSET(Cumulative,,4)>(ROW()-ROW($O$20)),_xlfn.AGGREGATE(15,6,(ROW(OrderRange_Ref)-ROW($L$19))/(OFFSET(OrderRange_Ref,,4)>0),ROWS($L$20:$L291)-OFFSET(Cumulative,,3)),IF(OFFSET(Cumulative,,5)>(ROW()-ROW($O$20)),_xlfn.AGGREGATE(15,6,(ROW(OrderRange_Ref)-ROW($L$19))/(OFFSET(OrderRange_Ref,,5)>0),ROWS($L$20:$L291)-OFFSET(Cumulative,,4)),\"\"))))))","v":""},"","","","",""]
[null,null,null,null,null,null,null,null,null,null,null,null,null,{"$f":"IF(Cumulative>(ROW()-ROW($O$20)),_xlfn.AGGREGATE(15,6,(ROW(OrderRange_Ref)-ROW($L$19))/(OFFSET(OrderRange_Ref,,0)>0),ROWS($L$20:$L292)),IF(OFFSET(Cumulative,,1)>(ROW()-ROW($O$20)),_xlfn.AGGREGATE(15,6,(ROW(OrderRange_Ref)-ROW($L$19))/(OFFSET(OrderRange_Ref,,1)>0),ROWS($L$20:$L292)-OFFSET(Cumulative,,0)),IF(OFFSET(Cumulative,,2)>(ROW()-ROW($O$20)),_xlfn.AGGREGATE(15,6,(ROW(OrderRange_Ref)-ROW($L$19))/(OFFSET(OrderRange_Ref,,2)>0),ROWS($L$20:$L292)-OFFSET(Cumulative,,1)),IF(OFFSET(Cumulative,,3)>(ROW()-ROW($O$20)),_xlfn.AGGREGATE(15,6,(ROW(OrderRange_Ref)-ROW($L$19))/(OFFSET(OrderRange_Ref,,3)>0),ROWS($L$20:$L292)-OFFSET(Cumulative,,2)),IF(OFFSET(Cumulative,,4)>(ROW()-ROW($O$20)),_xlfn.AGGREGATE(15,6,(ROW(OrderRange_Ref)-ROW($L$19))/(OFFSET(OrderRange_Ref,,4)>0),ROWS($L$20:$L292)-OFFSET(Cumulative,,3)),IF(OFFSET(Cumulative,,5)>(ROW()-ROW($O$20)),_xlfn.AGGREGATE(15,6,(ROW(OrderRange_Ref)-ROW($L$19))/(OFFSET(OrderRange_Ref,,5)>0),ROWS($L$20:$L292)-OFFSET(Cumulative,,4)),\"\"))))))","v":""},"","","","",""]
[null,null,null,null,null,null,null,null,null,null,null,null,null,{"$f":"IF(Cumulative>(ROW()-ROW($O$20)),_xlfn.AGGREGATE(15,6,(ROW(OrderRange_Ref)-ROW($L$19))/(OFFSET(OrderRange_Ref,,0)>0),ROWS($L$20:$L293)),IF(OFFSET(Cumulative,,1)>(ROW()-ROW($O$20)),_xlfn.AGGREGATE(15,6,(ROW(OrderRange_Ref)-ROW($L$19))/(OFFSET(OrderRange_Ref,,1)>0),ROWS($L$20:$L293)-OFFSET(Cumulative,,0)),IF(OFFSET(Cumulative,,2)>(ROW()-ROW($O$20)),_xlfn.AGGREGATE(15,6,(ROW(OrderRange_Ref)-ROW($L$19))/(OFFSET(OrderRange_Ref,,2)>0),ROWS($L$20:$L293)-OFFSET(Cumulative,,1)),IF(OFFSET(Cumulative,,3)>(ROW()-ROW($O$20)),_xlfn.AGGREGATE(15,6,(ROW(OrderRange_Ref)-ROW($L$19))/(OFFSET(OrderRange_Ref,,3)>0),ROWS($L$20:$L293)-OFFSET(Cumulative,,2)),IF(OFFSET(Cumulative,,4)>(ROW()-ROW($O$20)),_xlfn.AGGREGATE(15,6,(ROW(OrderRange_Ref)-ROW($L$19))/(OFFSET(OrderRange_Ref,,4)>0),ROWS($L$20:$L293)-OFFSET(Cumulative,,3)),IF(OFFSET(Cumulative,,5)>(ROW()-ROW($O$20)),_xlfn.AGGREGATE(15,6,(ROW(OrderRange_Ref)-ROW($L$19))/(OFFSET(OrderRange_Ref,,5)>0),ROWS($L$20:$L293)-OFFSET(Cumulative,,4)),\"\"))))))","v":""},"","","","",""]
[null,null,null,null,null,null,null,null,null,null,null,null,null,{"$f":"IF(Cumulative>(ROW()-ROW($O$20)),_xlfn.AGGREGATE(15,6,(ROW(OrderRange_Ref)-ROW($L$19))/(OFFSET(OrderRange_Ref,,0)>0),ROWS($L$20:$L294)),IF(OFFSET(Cumulative,,1)>(ROW()-ROW($O$20)),_xlfn.AGGREGATE(15,6,(ROW(OrderRange_Ref)-ROW($L$19))/(OFFSET(OrderRange_Ref,,1)>0),ROWS($L$20:$L294)-OFFSET(Cumulative,,0)),IF(OFFSET(Cumulative,,2)>(ROW()-ROW($O$20)),_xlfn.AGGREGATE(15,6,(ROW(OrderRange_Ref)-ROW($L$19))/(OFFSET(OrderRange_Ref,,2)>0),ROWS($L$20:$L294)-OFFSET(Cumulative,,1)),IF(OFFSET(Cumulative,,3)>(ROW()-ROW($O$20)),_xlfn.AGGREGATE(15,6,(ROW(OrderRange_Ref)-ROW($L$19))/(OFFSET(OrderRange_Ref,,3)>0),ROWS($L$20:$L294)-OFFSET(Cumulative,,2)),IF(OFFSET(Cumulative,,4)>(ROW()-ROW($O$20)),_xlfn.AGGREGATE(15,6,(ROW(OrderRange_Ref)-ROW($L$19))/(OFFSET(OrderRange_Ref,,4)>0),ROWS($L$20:$L294)-OFFSET(Cumulative,,3)),IF(OFFSET(Cumulative,,5)>(ROW()-ROW($O$20)),_xlfn.AGGREGATE(15,6,(ROW(OrderRange_Ref)-ROW($L$19))/(OFFSET(OrderRange_Ref,,5)>0),ROWS($L$20:$L294)-OFFSET(Cumulative,,4)),\"\"))))))","v":""},"","","","",""]
[null,null,null,null,null,null,null,null,null,null,null,null,null,{"$f":"IF(Cumulative>(ROW()-ROW($O$20)),_xlfn.AGGREGATE(15,6,(ROW(OrderRange_Ref)-ROW($L$19))/(OFFSET(OrderRange_Ref,,0)>0),ROWS($L$20:$L295)),IF(OFFSET(Cumulative,,1)>(ROW()-ROW($O$20)),_xlfn.AGGREGATE(15,6,(ROW(OrderRange_Ref)-ROW($L$19))/(OFFSET(OrderRange_Ref,,1)>0),ROWS($L$20:$L295)-OFFSET(Cumulative,,0)),IF(OFFSET(Cumulative,,2)>(ROW()-ROW($O$20)),_xlfn.AGGREGATE(15,6,(ROW(OrderRange_Ref)-ROW($L$19))/(OFFSET(OrderRange_Ref,,2)>0),ROWS($L$20:$L295)-OFFSET(Cumulative,,1)),IF(OFFSET(Cumulative,,3)>(ROW()-ROW($O$20)),_xlfn.AGGREGATE(15,6,(ROW(OrderRange_Ref)-ROW($L$19))/(OFFSET(OrderRange_Ref,,3)>0),ROWS($L$20:$L295)-OFFSET(Cumulative,,2)),IF(OFFSET(Cumulative,,4)>(ROW()-ROW($O$20)),_xlfn.AGGREGATE(15,6,(ROW(OrderRange_Ref)-ROW($L$19))/(OFFSET(OrderRange_Ref,,4)>0),ROWS($L$20:$L295)-OFFSET(Cumulative,,3)),IF(OFFSET(Cumulative,,5)>(ROW()-ROW($O$20)),_xlfn.AGGREGATE(15,6,(ROW(OrderRange_Ref)-ROW($L$19))/(OFFSET(OrderRange_Ref,,5)>0),ROWS($L$20:$L295)-OFFSET(Cumulative,,4)),\"\"))))))","v":""},"","","","",""]
[null,null,null,null,null,null,null,null,null,null,null,null,null,{"$f":"IF(Cumulative>(ROW()-ROW($O$20)),_xlfn.AGGREGATE(15,6,(ROW(OrderRange_Ref)-ROW($L$19))/(OFFSET(OrderRange_Ref,,0)>0),ROWS($L$20:$L296)),IF(OFFSET(Cumulative,,1)>(ROW()-ROW($O$20)),_xlfn.AGGREGATE(15,6,(ROW(OrderRange_Ref)-ROW($L$19))/(OFFSET(OrderRange_Ref,,1)>0),ROWS($L$20:$L296)-OFFSET(Cumulative,,0)),IF(OFFSET(Cumulative,,2)>(ROW()-ROW($O$20)),_xlfn.AGGREGATE(15,6,(ROW(OrderRange_Ref)-ROW($L$19))/(OFFSET(OrderRange_Ref,,2)>0),ROWS($L$20:$L296)-OFFSET(Cumulative,,1)),IF(OFFSET(Cumulative,,3)>(ROW()-ROW($O$20)),_xlfn.AGGREGATE(15,6,(ROW(OrderRange_Ref)-ROW($L$19))/(OFFSET(OrderRange_Ref,,3)>0),ROWS($L$20:$L296)-OFFSET(Cumulative,,2)),IF(OFFSET(Cumulative,,4)>(ROW()-ROW($O$20)),_xlfn.AGGREGATE(15,6,(ROW(OrderRange_Ref)-ROW($L$19))/(OFFSET(OrderRange_Ref,,4)>0),ROWS($L$20:$L296)-OFFSET(Cumulative,,3)),IF(OFFSET(Cumulative,,5)>(ROW()-ROW($O$20)),_xlfn.AGGREGATE(15,6,(ROW(OrderRange_Ref)-ROW($L$19))/(OFFSET(OrderRange_Ref,,5)>0),ROWS($L$20:$L296)-OFFSET(Cumulative,,4)),\"\"))))))","v":""},"","","","",""]
[null,null,null,null,null,null,null,null,null,null,null,null,null,{"$f":"IF(Cumulative>(ROW()-ROW($O$20)),_xlfn.AGGREGATE(15,6,(ROW(OrderRange_Ref)-ROW($L$19))/(OFFSET(OrderRange_Ref,,0)>0),ROWS($L$20:$L297)),IF(OFFSET(Cumulative,,1)>(ROW()-ROW($O$20)),_xlfn.AGGREGATE(15,6,(ROW(OrderRange_Ref)-ROW($L$19))/(OFFSET(OrderRange_Ref,,1)>0),ROWS($L$20:$L297)-OFFSET(Cumulative,,0)),IF(OFFSET(Cumulative,,2)>(ROW()-ROW($O$20)),_xlfn.AGGREGATE(15,6,(ROW(OrderRange_Ref)-ROW($L$19))/(OFFSET(OrderRange_Ref,,2)>0),ROWS($L$20:$L297)-OFFSET(Cumulative,,1)),IF(OFFSET(Cumulative,,3)>(ROW()-ROW($O$20)),_xlfn.AGGREGATE(15,6,(ROW(OrderRange_Ref)-ROW($L$19))/(OFFSET(OrderRange_Ref,,3)>0),ROWS($L$20:$L297)-OFFSET(Cumulative,,2)),IF(OFFSET(Cumulative,,4)>(ROW()-ROW($O$20)),_xlfn.AGGREGATE(15,6,(ROW(OrderRange_Ref)-ROW($L$19))/(OFFSET(OrderRange_Ref,,4)>0),ROWS($L$20:$L297)-OFFSET(Cumulative,,3)),IF(OFFSET(Cumulative,,5)>(ROW()-ROW($O$20)),_xlfn.AGGREGATE(15,6,(ROW(OrderRange_Ref)-ROW($L$19))/(OFFSET(OrderRange_Ref,,5)>0),ROWS($L$20:$L297)-OFFSET(Cumulative,,4)),\"\"))))))","v":""},"","","","",""]
[null,null,null,null,null,null,null,null,null,null,null,null,null,{"$f":"IF(Cumulative>(ROW()-ROW($O$20)),_xlfn.AGGREGATE(15,6,(ROW(OrderRange_Ref)-ROW($L$19))/(OFFSET(OrderRange_Ref,,0)>0),ROWS($L$20:$L298)),IF(OFFSET(Cumulative,,1)>(ROW()-ROW($O$20)),_xlfn.AGGREGATE(15,6,(ROW(OrderRange_Ref)-ROW($L$19))/(OFFSET(OrderRange_Ref,,1)>0),ROWS($L$20:$L298)-OFFSET(Cumulative,,0)),IF(OFFSET(Cumulative,,2)>(ROW()-ROW($O$20)),_xlfn.AGGREGATE(15,6,(ROW(OrderRange_Ref)-ROW($L$19))/(OFFSET(OrderRange_Ref,,2)>0),ROWS($L$20:$L298)-OFFSET(Cumulative,,1)),IF(OFFSET(Cumulative,,3)>(ROW()-ROW($O$20)),_xlfn.AGGREGATE(15,6,(ROW(OrderRange_Ref)-ROW($L$19))/(OFFSET(OrderRange_Ref,,3)>0),ROWS($L$20:$L298)-OFFSET(Cumulative,,2)),IF(OFFSET(Cumulative,,4)>(ROW()-ROW($O$20)),_xlfn.AGGREGATE(15,6,(ROW(OrderRange_Ref)-ROW($L$19))/(OFFSET(OrderRange_Ref,,4)>0),ROWS($L$20:$L298)-OFFSET(Cumulative,,3)),IF(OFFSET(Cumulative,,5)>(ROW()-ROW($O$20)),_xlfn.AGGREGATE(15,6,(ROW(OrderRange_Ref)-ROW($L$19))/(OFFSET(OrderRange_Ref,,5)>0),ROWS($L$20:$L298)-OFFSET(Cumulative,,4)),\"\"))))))","v":""},"","","","",""]
[null,null,null,null,null,null,null,null,null,null,null,null,null,{"$f":"IF(Cumulative>(ROW()-ROW($O$20)),_xlfn.AGGREGATE(15,6,(ROW(OrderRange_Ref)-ROW($L$19))/(OFFSET(OrderRange_Ref,,0)>0),ROWS($L$20:$L299)),IF(OFFSET(Cumulative,,1)>(ROW()-ROW($O$20)),_xlfn.AGGREGATE(15,6,(ROW(OrderRange_Ref)-ROW($L$19))/(OFFSET(OrderRange_Ref,,1)>0),ROWS($L$20:$L299)-OFFSET(Cumulative,,0)),IF(OFFSET(Cumulative,,2)>(ROW()-ROW($O$20)),_xlfn.AGGREGATE(15,6,(ROW(OrderRange_Ref)-ROW($L$19))/(OFFSET(OrderRange_Ref,,2)>0),ROWS($L$20:$L299)-OFFSET(Cumulative,,1)),IF(OFFSET(Cumulative,,3)>(ROW()-ROW($O$20)),_xlfn.AGGREGATE(15,6,(ROW(OrderRange_Ref)-ROW($L$19))/(OFFSET(OrderRange_Ref,,3)>0),ROWS($L$20:$L299)-OFFSET(Cumulative,,2)),IF(OFFSET(Cumulative,,4)>(ROW()-ROW($O$20)),_xlfn.AGGREGATE(15,6,(ROW(OrderRange_Ref)-ROW($L$19))/(OFFSET(OrderRange_Ref,,4)>0),ROWS($L$20:$L299)-OFFSET(Cumulative,,3)),IF(OFFSET(Cumulative,,5)>(ROW()-ROW($O$20)),_xlfn.AGGREGATE(15,6,(ROW(OrderRange_Ref)-ROW($L$19))/(OFFSET(OrderRange_Ref,,5)>0),ROWS($L$20:$L299)-OFFSET(Cumulative,,4)),\"\"))))))","v":""},"","","","",""]
[null,null,null,null,null,null,null,null,null,null,null,null,null,{"$f":"IF(Cumulative>(ROW()-ROW($O$20)),_xlfn.AGGREGATE(15,6,(ROW(OrderRange_Ref)-ROW($L$19))/(OFFSET(OrderRange_Ref,,0)>0),ROWS($L$20:$L300)),IF(OFFSET(Cumulative,,1)>(ROW()-ROW($O$20)),_xlfn.AGGREGATE(15,6,(ROW(OrderRange_Ref)-ROW($L$19))/(OFFSET(OrderRange_Ref,,1)>0),ROWS($L$20:$L300)-OFFSET(Cumulative,,0)),IF(OFFSET(Cumulative,,2)>(ROW()-ROW($O$20)),_xlfn.AGGREGATE(15,6,(ROW(OrderRange_Ref)-ROW($L$19))/(OFFSET(OrderRange_Ref,,2)>0),ROWS($L$20:$L300)-OFFSET(Cumulative,,1)),IF(OFFSET(Cumulative,,3)>(ROW()-ROW($O$20)),_xlfn.AGGREGATE(15,6,(ROW(OrderRange_Ref)-ROW($L$19))/(OFFSET(OrderRange_Ref,,3)>0),ROWS($L$20:$L300)-OFFSET(Cumulative,,2)),IF(OFFSET(Cumulative,,4)>(ROW()-ROW($O$20)),_xlfn.AGGREGATE(15,6,(ROW(OrderRange_Ref)-ROW($L$19))/(OFFSET(OrderRange_Ref,,4)>0),ROWS($L$20:$L300)-OFFSET(Cumulative,,3)),IF(OFFSET(Cumulative,,5)>(ROW()-ROW($O$20)),_xlfn.AGGREGATE(15,6,(ROW(OrderRange_Ref)-ROW($L$19))/(OFFSET(OrderRange_Ref,,5)>0),ROWS($L$20:$L300)-OFFSET(Cumulative,,4)),\"\"))))))","v":""},"","","","",""]

{"sheet":"Adjustment Order Frm","index":8,"n_rows":61,"n_cols":20,"rows_kept":61,"cut":false,"hidden":false,"merged":[[33,6,33,8],[26,6,26,8],[29,6,29,8],[30,6,30,8],[31,6,31,8],[32,6,32,8],[27,6,27,8],[28,6,28,8],[21,6,21,8],[22,6,22,8],[23,6,23,8],[24,6,24,8],[25,6,25,8],[34,6,34,8],[35,6,35,8],[39,6,39,8],[40,6,40,8],[36,6,36,8],[37,6,37,8],[38,6,38,8],[44,1,44,3],[41,6,41,8],[42,6,42,8],[43,6,43,8],[44,6,44,8],[17,6,17,8],[18,6,18,8],[19,6,19,8],[20,6,20,8],[16,4,16,5],[8,7,8,8],[2,2,2,6],[5,6,6,8],[4,6,4,8],[7,6,7,8]]}
[]
[null,null,null,null,"SETTING","PRODUCTS","STOCK","REPORT"]
[null,null,"แบบฟอร์มเพิ่ม-ลดสินค้าประจำสาขา ( Product Adjustment Order Form)",null,null,null,null,"โรงงาน:","00-FRY"]
[]
[null,"เลขที่",{"$f":"\"PO_ADJ_\"&MID(SL_Factory,4,3)&\"_\"&RIGHT(BranchCode,2)&\"-\"&TEXT(DATE(YEAR($G$10),MATCH($F$10,Month_List,0),E10),\"[$-107041e]yymmdd;@\")","v":"PO_ADJ_FRY_RK-620221"},null,null,null,{"$f":"\"สาขา \"&B_Name","v":"สาขา โรงงานร่มเกล้า"}]
[null,null,null,null,null,null,{"$f":"\"เลขที่ \"&IFERROR(LEFT(B_Address,FIND(\"จ.\",B_Address)-1),LEFT(B_Address,FIND(\"แขวง\",B_Address)-1))","v":"เลขที่ 205/5 ถ.ร่มเกล้า "}]
[]
[null,null,null,null,null,null,{"$f":"IFERROR(RIGHT(B_Address,LEN(B_Address)-FIND(\"จ.\",B_Address)+1),MID(B_Address,FIND(\"แขวง\",B_Address),FIND(\"กรุง\",B_Address)-FIND(\"แขวง\",B_Address)))","v":"แขวงคลองสามประเวศ เขตลาดกระบัง "}]
[null,null,null,null,null,null,null,{"$f":"IF(ISERROR(FIND(\"จ.\",B_Address)),RIGHT(B_Address,LEN(B_Address)-FIND(\"กรุงเทพ\",B_Address)+1),\"\")","v":"กรุงเทพมหานคร 10520"}]
[null,null,null,null,21,"กุมภาพันธ์","2019-02-05"]
[null,"เรื่อง",{"$f":"\"ขอเพิ่ม-ลดสินค้า สำหรับ สาขา\"&B_Name &\"(\"&BranchCode&\")\"","v":"ขอเพิ่ม-ลดสินค้า สำหรับ สาขาโรงงานร่มเกล้า(00-FRK)"}]
[null,"เรียน",{"$f":"\"ผู้จัดการ\"&INDEX(dBranches[Thai_Name],MATCH($I$3,Factory_List,0))&\" (คุณ\"&INDEX(dBranches[Manager],MATCH(SL_Factory,Factory_List,0))&\" )\"","v":"ผู้จัดการโรงงานระยอง (คุณนรรฆวุฒิ จันทฤทธิ์ )"}]
[]
[null,null,{"$f":"\"เนื่องด้วย สาขา\"&B_Name&\" มีจำนวน \"&RouteNum&\" สายวิ่ง มีความประสงค์ขอเพิ่ม-ลดสินค้า เพื่อจัดจำหน่ายในวันที่ \"& TEXT(DATE(YEAR($G$10),MATCH($F$10,Month_List,0),E10),\"[$-107041E]d mmmm yyyy;@\")","v":"เนื่องด้วย สาขาโรงงานร่มเกล้า มีจำนวน 0 สายวิ่ง มีความประสงค์ขอเพิ่ม-ลดสินค้า เพื่อจัดจำหน่ายในวันที่ 21 กุมภาพันธ์ 2562"}]
[null,"โดยมีรายละเอียดดังนี้"]
[]
[null,null,null,{"$f":"\"วัน\"&TEXT(DATE(YEAR($G$10),MATCH($F$10,Month_List,0),$E$10),\"[$-107041E]dddd\")","v":"วันพฤหัสบดี"},"เปลี่ยนแปลง (ถาด)"]
[null,"ลำดับ","รายการสินค้า","น้ำหนัก","เพิ่ม(+)","ลด(-)","หมายเหตุ",null,null,null,null,null,null,null,"วันที่","สาขา","ประเภท","รายการสินค้า","จำนวนถาด","เกิน (ชิ้น)"]
[null,"No.","Items","Net.Weight","Increase","Decrease","Remark",null,null,"Check","Unselect_PD",null,null,"Index","Date","Branch","Type","Products","Qty-Tray","Excess-Pcs"]
[null,{"$f":"IF($C20=\"\",\"\",MAX($B$19:$B19)+1)","v":""},null,null,null,null,null,null,null,{"$f":"IF(OR(E20<>\"\",F20<>\"\"),E20-F20,0)","v":0},{"$f":"IFERROR(INDEX(IF(SL_Factory=\"00-FRY\",FRY_Product_List,FRK_Product_List),_xlfn.AGGREGATE(15,6,(ROW(INDIRECT(\"A1:A\"&ROWS(IF(SL_Factory=\"00-FRY\",FRY_Product_List,FRK_Product_List)))))/(NOT(ISNUMBER(MATCH(IF(SL_Factory=\"00-FRY\",FRY_Product_List,FRK_Product_List),Selected_PD,0)))),ROWS($20:20))),\"\")","v":"01-ขนมปังหมูหยองน้ำสลัด"},null,null,{"$f":"IFERROR(_xlfn.AGGREGATE(15,6,(ROW($C$20:$C$44)-ROW($C$19))/(($C$20:$C$44<>\"\")*($J$20:$J$44<>0)),ROWS($N$20:$N20)),\"\")","v":""},{"$f":"IF($N20=\"\",\"\",DATE(YEAR($G$10),MATCH($F$10,Month_List,0),$E$10))","v":""},{"$f":"IF($N20<>\"\",BranchCode,\"\")","v":""},{"$f":"IF($P20=\"\",\"\",IF(INDEX($J$20:$J$44,$N20)<0,\"รับ\",\"จ่าย\"))","v":""},{"$f":"IFERROR(INDEX($C$20:$C$60,$N20),\"\")","v":""},{"$f":"IFERROR(ROUND(ABS(INDEX($J$20:$J$44,$N20)),0),\"\")","v":""}]
[null,{"$f":"IF($C21=\"\",\"\",MAX($B$19:$B20)+1)","v":""},null,null,null,null,null,null,null,{"$f":"IF(OR(E21<>\"\",F21<>\"\"),E21-F21,0)","v":0},{"$f":"IFERROR(INDEX(IF(SL_Factory=\"00-FRY\",FRY_Product_List,FRK_Product_List),_xlfn.AGGREGATE(15,6,(ROW(INDIRECT(\"A1:A\"&ROWS(IF(SL_Factory=\"00-FRY\",FRY_Product_List,FRK_Product_List)))))/(NOT(ISNUMBER(MATCH(IF(SL_Factory=\"00-FRY\",FRY_Product_List,FRK_Product_List),Selected_PD,0)))),ROWS($20:21))),\"\")","v":"02-ขนมปังหมูหยองน้ำพริกเผา"},null,null,{"$f":"IFERROR(_xlfn.AGGREGATE(15,6,(ROW($C$20:$C$44)-ROW($C$19))/(($C$20:$C$44<>\"\")*($J$20:$J$44<>0)),ROWS($N$20:$N21)),\"\")","v":""},"","",{"$f":"IF($P21=\"\",\"\",IF(INDEX($J$20:$J$44,$N21)<0,\"รับ\",\"จ่าย\"))","v":""},"",{"$f":"IFERROR(ROUND(ABS(INDEX($J$20:$J$44,$N21)),0),\"\")","v":""}]
[null,{"$f":"IF($C22=\"\",\"\",MAX($B$19:$B21)+1)","v":""},null,null,null,null,null,null,null,0,{"$f":"IFERROR(INDEX(IF(SL_Factory=\"00-FRY\",FRY_Product_List,FRK_Product_List),_xlfn.AGGREGATE(15,6,(ROW(INDIRECT(\"A1:A\"&ROWS(IF(SL_Factory=\"00-FRY\",FRY_Product_List,FRK_Product_List)))))/(NOT(ISNUMBER(MATCH(IF(SL_Factory=\"00-FRY\",FRY_Product_List,FRK_Product_List),Selected_PD,0)))),ROWS($20:22))),\"\")","v":"03-ขนมปังไก่หยองน้ำสลัด"},null,null,{"$f":"IFERROR(_xlfn.AGGREGATE(15,6,(ROW($C$20:$C$44)-ROW($C$19))/(($C$20:$C$44<>\"\")*($J$20:$J$44<>0)),ROWS($N$20:$N22)),\"\")","v":""},"","","","",""]
[null,{"$f":"IF($C23=\"\",\"\",MAX($B$19:$B22)+1)","v":""},null,null,null,null,null,null,null,0,{"$f":"IFERROR(INDEX(IF(SL_Factory=\"00-FRY\",FRY_Product_List,FRK_Product_List),_xlfn.AGGREGATE(15,6,(ROW(INDIRECT(\"A1:A\"&ROWS(IF(SL_Factory=\"00-FRY\",FRY_Product_List,FRK_Product_List)))))/(NOT(ISNUMBER(MATCH(IF(SL_Factory=\"00-FRY\",FRY_Product_List,FRK_Product_List),Selected_PD,0)))),ROWS($20:23))),\"\")","v":"04-ขนมปังไส้ครีมสลัด"},null,null,{"$f":"IFERROR(_xlfn.AGGREGATE(15,6,(ROW($C$20:$C$44)-ROW($C$19))/(($C$20:$C$44<>\"\")*($J$20:$J$44<>0)),ROWS($N$20:$N23)),\"\")","v":""},"","","","",""]
[null,{"$f":"IF($C24=\"\",\"\",MAX($B$19:$B23)+1)","v":""},null,null,null,null,null,null,null,0,{"$f":"IFERROR(INDEX(IF(SL_Factory=\"00-FRY\",FRY_Product_List,FRK_Product_List),_xlfn.AGGREGATE(15,6,(ROW(INDIRECT(\"A1:A\"&ROWS(IF(SL_Factory=\"00-FRY\",FRY_Product_List,FRK_Product_List)))))/(NOT(ISNUMBER(MATCH(IF(SL_Factory=\"00-FRY\",FRY_Product_List,FRK_Product_List),Selected_PD,0)))),ROWS($20:24))),\"\")","v":"05-ขนมปังเนยสด"},null,null,{"$f":"IFERROR(_xlfn.AGGREGATE(15,6,(ROW($C$20:$C$44)-ROW($C$19))/(($C$20:$C$44<>\"\")*($J$20:$J$44<>0)),ROWS($N$20:$N24)),\"\")","v":""},"","","","",""]
[null,{"$f":"IF($C25=\"\",\"\",MAX($B$19:$B24)+1)","v":""},null,null,null,null,null,null,null,0,{"$f":"IFERROR(INDEX(IF(SL_Factory=\"00-FRY\",FRY_Product_List,FRK_Product_List),_xlfn.AGGREGATE(15,6,(ROW(INDIRECT(\"A1:A\"&ROWS(IF(SL_Factory=\"00-FRY\",FRY_Product_List,FRK_Product_List)))))/(NOT(ISNUMBER(MATCH(IF(SL_Factory=\"00-FRY\",FRY_Product_List,FRK_Product_List),Selected_PD,0)))),ROWS($20:25))),\"\")","v":"06-ขนมปังไส้สังขยาเล็ก"},null,null,{"$f":"IFERROR(_xlfn.AGGREGATE(15,6,(ROW($C$20:$C$44)-ROW($C$19))/(($C$20:$C$44<>\"\")*($J$20:$J$44<>0)),ROWS($N$20:$N25)),\"\")","v":""},"","","","",""]
[null,{"$f":"IF($C26=\"\",\"\",MAX($B$19:$B25)+1)","v":""},null,null,null,null,null,null,null,0,{"$f":"IFERROR(INDEX(IF(SL_Factory=\"00-FRY\",FRY_Product_List,FRK_Product_List),_xlfn.AGGREGATE(15,6,(ROW(INDIRECT(\"A1:A\"&ROWS(IF(SL_Factory=\"00-FRY\",FRY_Product_List,FRK_Product_List)))))/(NOT(ISNUMBER(MATCH(IF(SL_Factory=\"00-FRY\",FRY_Product_List,FRK_Product_List),Selected_PD,0)))),ROWS($20:26))),\"\")","v":"07-ขนมปังไส้เผือก"},null,null,{"$f":"IFERROR(_xlfn.AGGREGATE(15,6,(ROW($C$20:$C$44)-ROW($C$19))/(($C$20:$C$44<>\"\")*($J$20:$J$44<>0)),ROWS($N$20:$N26)),\"\")","v":""},"","","","",""]
[null,{"$f":"IF($C27=\"\",\"\",MAX($B$19:$B26)+1)","v":""},null,null,null,null,null,null,null,0,{"$f":"IFERROR(INDEX(IF(SL_Factory=\"00-FRY\",FRY_Product_List,FRK_Product_List),_xlfn.AGGREGATE(15,6,(ROW(INDIRECT(\"A1:A\"&ROWS(IF(SL_Factory=\"00-FRY\",FRY_Product_List,FRK_Product_List)))))/(NOT(ISNUMBER(MATCH(IF(SL_Factory=\"00-FRY\",FRY_Product_List,FRK_Product_List),Selected_PD,0)))),ROWS($20:27))),\"\")","v":"08-ขนมปังไส้ถั่วแดง"},null,null,{"$f":"IFERROR(_xlfn.AGGREGATE(15,6,(ROW($C$20:$C$44)-ROW($C$19))/(($C$20:$C$44<>\"\")*($J$20:$J$44<>0)),ROWS($N$20:$N27)),\"\")","v":""},"","","","",""]
[null,{"$f":"IF($C28=\"\",\"\",MAX($B$19:$B27)+1)","v":""},null,null,null,null,null,null,null,0,{"$f":"IFERROR(INDEX(IF(SL_Factory=\"00-FRY\",FRY_Product_List,FRK_Product_List),_xlfn.AGGREGATE(15,6,(ROW(INDIRECT(\"A1:A\"&ROWS(IF(SL_Factory=\"00-FRY\",FRY_Product_List,FRK_Product_List)))))/(NOT(ISNUMBER(MATCH(IF(SL_Factory=\"00-FRY\",FRY_Product_List,FRK_Product_List),Selected_PD,0)))),ROWS($20:28))),\"\")","v":"09-ขนมปังไส้ถั่วดำ"},null,null,{"$f":"IFERROR(_xlfn.AGGREGATE(15,6,(ROW($C$20:$C$44)-ROW($C$19))/(($C$20:$C$44<>\"\")*($J$20:$J$44<>0)),ROWS($N$20:$N28)),\"\")","v":""},"","","","",""]
[null,{"$f":"IF($C29=\"\",\"\",MAX($B$19:$B28)+1)","v":""},null,null,null,null,null,null,null,0,{"$f":"IFERROR(INDEX(IF(SL_Factory=\"00-FRY\",FRY_Product_List,FRK_Product_List),_xlfn.AGGREGATE(15,6,(ROW(INDIRECT(\"A1:A\"&ROWS(IF(SL_Factory=\"00-FRY\",FRY_Product_List,FRK_Product_List)))))/(NOT(ISNUMBER(MATCH(IF(SL_Factory=\"00-FRY\",FRY_Product_List,FRK_Product_List),Selected_PD,0)))),ROWS($20:29))),\"\")","v":"10-ขนมปังไส้มันม่วง"},null,null,{"$f":"IFERROR(_xlfn.AGGREGATE(15,6,(ROW($C$20:$C$44)-ROW($C$19))/(($C$20:$C$44<>\"\")*($J$20:$J$44<>0)),ROWS($N$20:$N29)),\"\")","v":""},"","","","",""]
[null,{"$f":"IF($C30=\"\",\"\",MAX($B$19:$B29)+1)","v":""},null,null,null,null,null,null,null,0,{"$f":"IFERROR(INDEX(IF(SL_Factory=\"00-FRY\",FRY_Product_List,FRK_Product_List),_xlfn.AGGREGATE(15,6,(ROW(INDIRECT(\"A1:A\"&ROWS(IF(SL_Factory=\"00-FRY\",FRY_Product_List,FRK_Product_List)))))/(NOT(ISNUMBER(MATCH(IF(SL_Factory=\"00-FRY\",FRY_Product_List,FRK_Product_List),Selected_PD,0)))),ROWS($20:30))),\"\")","v":"11-เค้กกล้วยหอม"},null,null,{"$f":"IFERROR(_xlfn.AGGREGATE(15,6,(ROW($C$20:$C$44)-ROW($C$19))/(($C$20:$C$44<>\"\")*($J$20:$J$44<>0)),ROWS($N$20:$N30)),\"\")","v":""},"","","","",""]
[null,{"$f":"IF($C31=\"\",\"\",MAX($B$19:$B30)+1)","v":""},null,null,null,null,null,null,null,0,{"$f":"IFERROR(INDEX(IF(SL_Factory=\"00-FRY\",FRY_Product_List,FRK_Product_List),_xlfn.AGGREGATE(15,6,(ROW(INDIRECT(\"A1:A\"&ROWS(IF(SL_Factory=\"00-FRY\",FRY_Product_List,FRK_Product_List)))))/(NOT(ISNUMBER(MATCH(IF(SL_Factory=\"00-FRY\",FRY_Product_List,FRK_Product_List),Selected_PD,0)))),ROWS($20:31))),\"\")","v":"12-เค้กบัตเตอร์"},null,null,{"$f":"IFERROR(_xlfn.AGGREGATE(15,6,(ROW($C$20:$C$44)-ROW($C$19))/(($C$20:$C$44<>\"\")*($J$20:$J$44<>0)),ROWS($N$20:$N31)),\"\")","v":""},"","","","",""]
[null,{"$f":"IF($C32=\"\",\"\",MAX($B$19:$B31)+1)","v":""},null,null,null,null,null,null,null,0,{"$f":"IFERROR(INDEX(IF(SL_Factory=\"00-FRY\",FRY_Product_List,FRK_Product_List),_xlfn.AGGREGATE(15,6,(ROW(INDIRECT(\"A1:A\"&ROWS(IF(SL_Factory=\"00-FRY\",FRY_Product_List,FRK_Product_List)))))/(NOT(ISNUMBER(MATCH(IF(SL_Factory=\"00-FRY\",FRY_Product_List,FRK_Product_List),Selected_PD,0)))),ROWS($20:32))),\"\")","v":"13-ขนมปังโรลถั่วแดง"},null,null,{"$f":"IFERROR(_xlfn.AGGREGATE(15,6,(ROW($C$20:$C$44)-ROW($C$19))/(($C$20:$C$44<>\"\")*($J$20:$J$44<>0)),ROWS($N$20:$N32)),\"\")","v":""},"","","","",""]
[null,{"$f":"IF($C33=\"\",\"\",MAX($B$19:$B32)+1)","v":""},null,null,null,null,null,null,null,0,{"$f":"IFERROR(INDEX(IF(SL_Factory=\"00-FRY\",FRY_Product_List,FRK_Product_List),_xlfn.AGGREGATE(15,6,(ROW(INDIRECT(\"A1:A\"&ROWS(IF(SL_Factory=\"00-FRY\",FRY_Product_List,FRK_Product_List)))))/(NOT(ISNUMBER(MATCH(IF(SL_Factory=\"00-FRY\",FRY_Product_List,FRK_Product_List),Selected_PD,0)))),ROWS($20:33))),\"\")","v":"14-ขนมปังไส้สังขยาใหญ่"},null,null,{"$f":"IFERROR(_xlfn.AGGREGATE(15,6,(ROW($C$20:$C$44)-ROW($C$19))/(($C$20:$C$44<>\"\")*($J$20:$J$44<>0)),ROWS($N$20:$N33)),\"\")","v":""},"","","","",""]
[null,{"$f":"IF($C34=\"\",\"\",MAX($B$19:$B33)+1)","v":""},null,null,null,null,null,null,null,0,{"$f":"IFERROR(INDEX(IF(SL_Factory=\"00-FRY\",FRY_Product_List,FRK_Product_List),_xlfn.AGGREGATE(15,6,(ROW(INDIRECT(\"A1:A\"&ROWS(IF(SL_Factory=\"00-FRY\",FRY_Product_List,FRK_Product_List)))))/(NOT(ISNUMBER(MATCH(IF(SL_Factory=\"00-FRY\",FRY_Product_List,FRK_Product_List),Selected_PD,0)))),ROWS($20:34))),\"\")","v":"15-ขนมปังชนิดแผ่น(480กรัม)"},null,null,{"$f":"IFERROR(_xlfn.AGGREGATE(15,6,(ROW($C$20:$C$44)-ROW($C$19))/(($C$20:$C$44<>\"\")*($J$20:$J$44<>0)),ROWS($N$20:$N34)),\"\")","v":""},"","","","",""]
[null,{"$f":"IF($C35=\"\",\"\",MAX($B$19:$B34)+1)","v":""},null,null,null,null,null,null,null,0,{"$f":"IFERROR(INDEX(IF(SL_Factory=\"00-FRY\",FRY_Product_List,FRK_Product_List),_xlfn.AGGREGATE(15,6,(ROW(INDIRECT(\"A1:A\"&ROWS(IF(SL_Factory=\"00-FRY\",FRY_Product_List,FRK_Product_List)))))/(NOT(ISNUMBER(MATCH(IF(SL_Factory=\"00-FRY\",FRY_Product_List,FRK_Product_List),Selected_PD,0)))),ROWS($20:35))),\"\")","v":"16-โมจิไส้ถั่ว"},null,null,{"$f":"IFERROR(_xlfn.AGGREGATE(15,6,(ROW($C$20:$C$44)-ROW($C$19))/(($C$20:$C$44<>\"\")*($J$20:$J$44<>0)),ROWS($N$20:$N35)),\"\")","v":""},"","","","",""]
[null,{"$f":"IF($C36=\"\",\"\",MAX($B$19:$B35)+1)","v":""},null,null,null,null,null,null,null,0,{"$f":"IFERROR(INDEX(IF(SL_Factory=\"00-FRY\",FRY_Product_List,FRK_Product_List),_xlfn.AGGREGATE(15,6,(ROW(INDIRECT(\"A1:A\"&ROWS(IF(SL_Factory=\"00-FRY\",FRY_Product_List,FRK_Product_List)))))/(NOT(ISNUMBER(MATCH(IF(SL_Factory=\"00-FRY\",FRY_Product_List,FRK_Product_List),Selected_PD,0)))),ROWS($20:36))),\"\")","v":"17-โมจิไส้เผือก"},null,null,{"$f":"IFERROR(_xlfn.AGGREGATE(15,6,(ROW($C$20:$C$44)-ROW($C$19))/(($C$20:$C$44<>\"\")*($J$20:$J$44<>0)),ROWS($N$20:$N36)),\"\")","v":""},"","","","",""]
[null,{"$f":"IF($C37=\"\",\"\",MAX($B$19:$B36)+1)","v":""},null,null,null,null,null,null,null,0,{"$f":"IFERROR(INDEX(IF(SL_Factory=\"00-FRY\",FRY_Product_List,FRK_Product_List),_xlfn.AGGREGATE(15,6,(ROW(INDIRECT(\"A1:A\"&ROWS(IF(SL_Factory=\"00-FRY\",FRY_Product_List,FRK_Product_List)))))/(NOT(ISNUMBER(MATCH(IF(SL_Factory=\"00-FRY\",FRY_Product_List,FRK_Product_List),Selected_PD,0)))),ROWS($20:37))),\"\")","v":"18-โมจิไส้ถั่วไข่เค็ม"},null,null,{"$f":"IFERROR(_xlfn.AGGREGATE(15,6,(ROW($C$20:$C$44)-ROW($C$19))/(($C$20:$C$44<>\"\")*($J$20:$J$44<>0)),ROWS($N$20:$N37)),\"\")","v":""},"","","","",""]
[null,{"$f":"IF($C38=\"\",\"\",MAX($B$19:$B37)+1)","v":""},null,null,null,null,null,null,null,0,{"$f":"IFERROR(INDEX(IF(SL_Factory=\"00-FRY\",FRY_Product_List,FRK_Product_List),_xlfn.AGGREGATE(15,6,(ROW(INDIRECT(\"A1:A\"&ROWS(IF(SL_Factory=\"00-FRY\",FRY_Product_List,FRK_Product_List)))))/(NOT(ISNUMBER(MATCH(IF(SL_Factory=\"00-FRY\",FRY_Product_List,FRK_Product_List),Selected_PD,0)))),ROWS($20:38))),\"\")","v":"19-ขนมปังพิซซ่า"},null,null,{"$f":"IFERROR(_xlfn.AGGREGATE(15,6,(ROW($C$20:$C$44)-ROW($C$19))/(($C$20:$C$44<>\"\")*($J$20:$J$44<>0)),ROWS($N$20:$N38)),\"\")","v":""},"","","","",""]
[null,{"$f":"IF($C39=\"\",\"\",MAX($B$19:$B38)+1)","v":""},null,null,null,null,null,null,null,0,{"$f":"IFERROR(INDEX(IF(SL_Factory=\"00-FRY\",FRY_Product_List,FRK_Product_List),_xlfn.AGGREGATE(15,6,(ROW(INDIRECT(\"A1:A\"&ROWS(IF(SL_Factory=\"00-FRY\",FRY_Product_List,FRK_Product_List)))))/(NOT(ISNUMBER(MATCH(IF(SL_Factory=\"00-FRY\",FRY_Product_List,FRK_Product_List),Selected_PD,0)))),ROWS($20:39))),\"\")","v":"20-ขนมปังพิซซ่าปูอัดแฮม"},null,null,{"$f":"IFERROR(_xlfn.AGGREGATE(15,6,(ROW($C$20:$C$44)-ROW($C$19))/(($C$20:$C$44<>\"\")*($J$20:$J$44<>0)),ROWS($N$20:$N39)),\"\")","v":""},"","","","",""]
[null,{"$f":"IF($C40=\"\",\"\",MAX($B$19:$B39)+1)","v":""},null,null,null,null,null,null,null,0,{"$f":"IFERROR(INDEX(IF(SL_Factory=\"00-FRY\",FRY_Product_List,FRK_Product_List),_xlfn.AGGREGATE(15,6,(ROW(INDIRECT(\"A1:A\"&ROWS(IF(SL_Factory=\"00-FRY\",FRY_Product_List,FRK_Product_List)))))/(NOT(ISNUMBER(MATCH(IF(SL_Factory=\"00-FRY\",FRY_Product_List,FRK_Product_List),Selected_PD,0)))),ROWS($20:40))),\"\")","v":"21-ขนมปังไส้กรอก"},null,null,{"$f":"IFERROR(_xlfn.AGGREGATE(15,6,(ROW($C$20:$C$44)-ROW($C$19))/(($C$20:$C$44<>\"\")*($J$20:$J$44<>0)),ROWS($N$20:$N40)),\"\")","v":""},"","","","",""]
[null,{"$f":"IF($C41=\"\",\"\",MAX($B$19:$B40)+1)","v":""},null,null,null,null,null,null,null,0,{"$f":"IFERROR(INDEX(IF(SL_Factory=\"00-FRY\",FRY_Product_List,FRK_Product_List),_xlfn.AGGREGATE(15,6,(ROW(INDIRECT(\"A1:A\"&ROWS(IF(SL_Factory=\"00-FRY\",FRY_Product_List,FRK_Product_List)))))/(NOT(ISNUMBER(MATCH(IF(SL_Factory=\"00-FRY\",FRY_Product_List,FRK_Product_List),Selected_PD,0)))),ROWS($20:41))),\"\")","v":"22-ขนมปังไส้ครีมรสกาแฟ"},null,null,{"$f":"IFERROR(_xlfn.AGGREGATE(15,6,(ROW($C$20:$C$44)-ROW($C$19))/(($C$20:$C$44<>\"\")*($J$20:$J$44<>0)),ROWS($N$20:$N41)),\"\")","v":""},"","","","",""]
[null,{"$f":"IF($C42=\"\",\"\",MAX($B$19:$B41)+1)","v":""},null,null,null,null,null,null,null,0,{"$f":"IFERROR(INDEX(IF(SL_Factory=\"00-FRY\",FRY_Product_List,FRK_Product_List),_xlfn.AGGREGATE(15,6,(ROW(INDIRECT(\"A1:A\"&ROWS(IF(SL_Factory=\"00-FRY\",FRY_Product_List,FRK_Product_List)))))/(NOT(ISNUMBER(MATCH(IF(SL_Factory=\"00-FRY\",FRY_Product_List,FRK_Product_List),Selected_PD,0)))),ROWS($20:42))),\"\")","v":"24-ขนมก้านบัว"},null,null,{"$f":"IFERROR(_xlfn.AGGREGATE(15,6,(ROW($C$20:$C$44)-ROW($C$19))/(($C$20:$C$44<>\"\")*($J$20:$J$44<>0)),ROWS($N$20:$N42)),\"\")","v":""},"","","","",""]
[null,{"$f":"IF($C43=\"\",\"\",MAX($B$19:$B42)+1)","v":""},null,null,null,null,null,null,null,0,{"$f":"IFERROR(INDEX(IF(SL_Factory=\"00-FRY\",FRY_Product_List,FRK_Product_List),_xlfn.AGGREGATE(15,6,(ROW(INDIRECT(\"A1:A\"&ROWS(IF(SL_Factory=\"00-FRY\",FRY_Product_List,FRK_Product_List)))))/(NOT(ISNUMBER(MATCH(IF(SL_Factory=\"00-FRY\",FRY_Product_List,FRK_Product_List),Selected_PD,0)))),ROWS($20:43))),\"\")","v":"27-ปังกรอบเนยสด"},null,null,{"$f":"IFERROR(_xlfn.AGGREGATE(15,6,(ROW($C$20:$C$44)-ROW($C$19))/(($C$20:$C$44<>\"\")*($J$20:$J$44<>0)),ROWS($N$20:$N43)),\"\")","v":""},"","","","",""]
[null,{"$f":"IF($C44=\"\",\"\",MAX($B$19:$B43)+1)","v":""},null,null,null,null,null,null,null,0,{"$f":"IFERROR(INDEX(IF(SL_Factory=\"00-FRY\",FRY_Product_List,FRK_Product_List),_xlfn.AGGREGATE(15,6,(ROW(INDIRECT(\"A1:A\"&ROWS(IF(SL_Factory=\"00-FRY\",FRY_Product_List,FRK_Product_List)))))/(NOT(ISNUMBER(MATCH(IF(SL_Factory=\"00-FRY\",FRY_Product_List,FRK_Product_List),Selected_PD,0)))),ROWS($20:44))),\"\")","v":"28-ปังกรอบกระเทียม"},null,null,{"$f":"IFERROR(_xlfn.AGGREGATE(15,6,(ROW($C$20:$C$44)-ROW($C$19))/(($C$20:$C$44<>\"\")*($J$20:$J$44<>0)),ROWS($N$20:$N44)),\"\")","v":""},"","","","",""]
[null,"รวมทั้งสิ้น (ถาด)",null,null,{"$f":"SUMIF($Q$20:$Q$44,\"จ่าย\",$S$20:$S$44)","v":0},{"$f":"SUMIF($Q$20:$Q$44,\"รับ\",$S$20:$S$44)","v":0},null,null,null,null,{"$f":"IFERROR(INDEX(IF(SL_Factory=\"00-FRY\",FRY_Product_List,FRK_Product_List),_xlfn.AGGREGATE(15,6,(ROW(INDIRECT(\"A1:A\"&ROWS(IF(SL_Factory=\"00-FRY\",FRY_Product_List,FRK_Product_List)))))/(NOT(ISNUMBER(MATCH(IF(SL_Factory=\"00-FRY\",FRY_Product_List,FRK_Product_List),Selected_PD,0)))),ROWS($20:45))),\"\")","v":"29-ขนมปังโรลมันเทศ"}]
[null,null,null,null,null,null,null,null,null,null,{"$f":"IFERROR(INDEX(IF(SL_Factory=\"00-FRY\",FRY_Product_List,FRK_Product_List),_xlfn.AGGREGATE(15,6,(ROW(INDIRECT(\"A1:A\"&ROWS(IF(SL_Factory=\"00-FRY\",FRY_Product_List,FRK_Product_List)))))/(NOT(ISNUMBER(MATCH(IF(SL_Factory=\"00-FRY\",FRY_Product_List,FRK_Product_List),Selected_PD,0)))),ROWS($20:46))),\"\")","v":"30-บันเตยหอมไส้มันเทศ"}]
[null,null,null,null,null,null,null,null,null,null,{"$f":"IFERROR(INDEX(IF(SL_Factory=\"00-FRY\",FRY_Product_List,FRK_Product_List),_xlfn.AGGREGATE(15,6,(ROW(INDIRECT(\"A1:A\"&ROWS(IF(SL_Factory=\"00-FRY\",FRY_Product_List,FRK_Product_List)))))/(NOT(ISNUMBER(MATCH(IF(SL_Factory=\"00-FRY\",FRY_Product_List,FRK_Product_List),Selected_PD,0)))),ROWS($20:47))),\"\")","v":"31-โมจิชาเขียวมัทฉะไส้ถั่วแดง"}]
[null,null,null,null,null,"ขอแสดงความนับถือ",null,null,null,null,{"$f":"IFERROR(INDEX(IF(SL_Factory=\"00-FRY\",FRY_Product_List,FRK_Product_List),_xlfn.AGGREGATE(15,6,(ROW(INDIRECT(\"A1:A\"&ROWS(IF(SL_Factory=\"00-FRY\",FRY_Product_List,FRK_Product_List)))))/(NOT(ISNUMBER(MATCH(IF(SL_Factory=\"00-FRY\",FRY_Product_List,FRK_Product_List),Selected_PD,0)))),ROWS($20:48))),\"\")","v":""}]
[null,null,null,null,null,null,null,null,null,null,{"$f":"IFERROR(INDEX(IF(SL_Factory=\"00-FRY\",FRY_Product_List,FRK_Product_List),_xlfn.AGGREGATE(15,6,(ROW(INDIRECT(\"A1:A\"&ROWS(IF(SL_Factory=\"00-FRY\",FRY_Product_List,FRK_Product_List)))))/(NOT(ISNUMBER(MATCH(IF(SL_Factory=\"00-FRY\",FRY_Product_List,FRK_Product_List),Selected_PD,0)))),ROWS($20:49))),\"\")","v":""}]
[null,null,null,null,null,null,null,null,null,null,{"$f":"IFERROR(INDEX(IF(SL_Factory=\"00-FRY\",FRY_Product_List,FRK_Product_List),_xlfn.AGGREGATE(15,6,(ROW(INDIRECT(\"A1:A\"&ROWS(IF(SL_Factory=\"00-FRY\",FRY_Product_List,FRK_Product_List)))))/(NOT(ISNUMBER(MATCH(IF(SL_Factory=\"00-FRY\",FRY_Product_List,FRK_Product_List),Selected_PD,0)))),ROWS($20:50))),\"\")","v":""}]
[null,null,null,null,null,"-----------------------------------------------------",null,null,null,null,{"$f":"IFERROR(INDEX(IF(SL_Factory=\"00-FRY\",FRY_Product_List,FRK_Product_List),_xlfn.AGGREGATE(15,6,(ROW(INDIRECT(\"A1:A\"&ROWS(IF(SL_Factory=\"00-FRY\",FRY_Product_List,FRK_Product_List)))))/(NOT(ISNUMBER(MATCH(IF(SL_Factory=\"00-FRY\",FRY_Product_List,FRK_Product_List),Selected_PD,0)))),ROWS($20:51))),\"\")","v":""}]
[null,null,null,null,null,{"$f":"\"( \"&INDEX(dBranches[Manager],MATCH(BranchCode,dBranches[Code],0))&\" )\"","v":"( นุกูล ปัญญานาค )"},null,null,null,null,{"$f":"IFERROR(INDEX(IF(SL_Factory=\"00-FRY\",FRY_Product_List,FRK_Product_List),_xlfn.AGGREGATE(15,6,(ROW(INDIRECT(\"A1:A\"&ROWS(IF(SL_Factory=\"00-FRY\",FRY_Product_List,FRK_Product_List)))))/(NOT(ISNUMBER(MATCH(IF(SL_Factory=\"00-FRY\",FRY_Product_List,FRK_Product_List),Selected_PD,0)))),ROWS($20:52))),\"\")","v":""}]
[null,null,null,null,null,{"$f":"\"ผู้จัดการสาขา\"&B_Name","v":"ผู้จัดการสาขาโรงงานร่มเกล้า"},null,null,null,null,{"$f":"IFERROR(INDEX(IF(SL_Factory=\"00-FRY\",FRY_Product_List,FRK_Product_List),_xlfn.AGGREGATE(15,6,(ROW(INDIRECT(\"A1:A\"&ROWS(IF(SL_Factory=\"00-FRY\",FRY_Product_List,FRK_Product_List)))))/(NOT(ISNUMBER(MATCH(IF(SL_Factory=\"00-FRY\",FRY_Product_List,FRK_Product_List),Selected_PD,0)))),ROWS($20:53))),\"\")","v":""}]
[null,null,null,null,null,null,null,null,null,null,{"$f":"IFERROR(INDEX(IF(SL_Factory=\"00-FRY\",FRY_Product_List,FRK_Product_List),_xlfn.AGGREGATE(15,6,(ROW(INDIRECT(\"A1:A\"&ROWS(IF(SL_Factory=\"00-FRY\",FRY_Product_List,FRK_Product_List)))))/(NOT(ISNUMBER(MATCH(IF(SL_Factory=\"00-FRY\",FRY_Product_List,FRK_Product_List),Selected_PD,0)))),ROWS($20:54))),\"\")","v":""}]
[null,null,null,null,null,null,null,null,null,null,{"$f":"IFERROR(INDEX(IF(SL_Factory=\"00-FRY\",FRY_Product_List,FRK_Product_List),_xlfn.AGGREGATE(15,6,(ROW(INDIRECT(\"A1:A\"&ROWS(IF(SL_Factory=\"00-FRY\",FRY_Product_List,FRK_Product_List)))))/(NOT(ISNUMBER(MATCH(IF(SL_Factory=\"00-FRY\",FRY_Product_List,FRK_Product_List),Selected_PD,0)))),ROWS($20:55))),\"\")","v":""}]
[null,null,null,null,null,"-----------------------------------------------------",null,null,null,null,{"$f":"IFERROR(INDEX(IF(SL_Factory=\"00-FRY\",FRY_Product_List,FRK_Product_List),_xlfn.AGGREGATE(15,6,(ROW(INDIRECT(\"A1:A\"&ROWS(IF(SL_Factory=\"00-FRY\",FRY_Product_List,FRK_Product_List)))))/(NOT(ISNUMBER(MATCH(IF(SL_Factory=\"00-FRY\",FRY_Product_List,FRK_Product_List),Selected_PD,0)))),ROWS($20:56))),\"\")","v":""}]
[null,null,null,null,null,{"$f":"\"( \"&INDEX(dBranches[Regional Manager],MATCH(BranchCode,dBranches[Code],0))&\" )\"","v":"(  )"},null,null,null,null,{"$f":"IFERROR(INDEX(IF(SL_Factory=\"00-FRY\",FRY_Product_List,FRK_Product_List),_xlfn.AGGREGATE(15,6,(ROW(INDIRECT(\"A1:A\"&ROWS(IF(SL_Factory=\"00-FRY\",FRY_Product_List,FRK_Product_List)))))/(NOT(ISNUMBER(MATCH(IF(SL_Factory=\"00-FRY\",FRY_Product_List,FRK_Product_List),Selected_PD,0)))),ROWS($20:57))),\"\")","v":""}]
[null,null,null,null,null,"ผู้จัดการภาค",null,null,null,null,{"$f":"IFERROR(INDEX(IF(SL_Factory=\"00-FRY\",FRY_Product_List,FRK_Product_List),_xlfn.AGGREGATE(15,6,(ROW(INDIRECT(\"A1:A\"&ROWS(IF(SL_Factory=\"00-FRY\",FRY_Product_List,FRK_Product_List)))))/(NOT(ISNUMBER(MATCH(IF(SL_Factory=\"00-FRY\",FRY_Product_List,FRK_Product_List),Selected_PD,0)))),ROWS($20:58))),\"\")","v":""}]
[null,null,{"$f":"\"สาขา\"&B_Name","v":"สาขาโรงงานร่มเกล้า"},null,null,null,null,null,null,null,{"$f":"IFERROR(INDEX(IF(SL_Factory=\"00-FRY\",FRY_Product_List,FRK_Product_List),_xlfn.AGGREGATE(15,6,(ROW(INDIRECT(\"A1:A\"&ROWS(IF(SL_Factory=\"00-FRY\",FRY_Product_List,FRK_Product_List)))))/(NOT(ISNUMBER(MATCH(IF(SL_Factory=\"00-FRY\",FRY_Product_List,FRK_Product_List),Selected_PD,0)))),ROWS($20:59))),\"\")","v":""}]
[null,null,{"$f":"\"โทร. \"&B_Tel","v":"โทร. 084-132-1000"},null,null,null,null,null,null,null,{"$f":"IFERROR(INDEX(IF(SL_Factory=\"00-FRY\",FRY_Product_List,FRK_Product_List),_xlfn.AGGREGATE(15,6,(ROW(INDIRECT(\"A1:A\"&ROWS(IF(SL_Factory=\"00-FRY\",FRY_Product_List,FRK_Product_List)))))/(NOT(ISNUMBER(MATCH(IF(SL_Factory=\"00-FRY\",FRY_Product_List,FRK_Product_List),Selected_PD,0)))),ROWS($20:60))),\"\")","v":""}]
[null,null,null,null,null,null,null,null,null,null,{"$f":"IFERROR(INDEX(IF(SL_Factory=\"00-FRY\",FRY_Product_List,FRK_Product_List),_xlfn.AGGREGATE(15,6,(ROW(INDIRECT(\"A1:A\"&ROWS(IF(SL_Factory=\"00-FRY\",FRY_Product_List,FRK_Product_List)))))/(NOT(ISNUMBER(MATCH(IF(SL_Factory=\"00-FRY\",FRY_Product_List,FRK_Product_List),Selected_PD,0)))),ROWS($20:61))),\"\")","v":""}]

{"sheet":"OrderSummary_ByRoute","index":9,"n_rows":69,"n_cols":19,"rows_kept":69,"cut":false,"hidden":true,"merged":[[3,14,3,17],[5,2,5,3],[5,4,5,6],[3,2,3,8],[6,2,6,3],[6,4,6,6],[68,2,68,6],[7,2,7,3],[8,2,8,3],[11,4,11,6],[12,4,12,6]]}
[]
[]
[null,null,null,null,null,null,null,"PRODUCTS","STOCK","TRANSACTION",null,null,null,null,null,null,"PRODUCTS","STOCK","TRANSACTION"]
[null,null,"สรุปรายการเบิกจ่ายสินค้ารายวัน (DAILY REPORT)",null,null,null,null,null,null,{"$f":"Select_Route","v":"PC01"},null,null,null,null,"สรุปรายการเบิกจ่ายสินค้ารายเดือน (MONTHLY REPORT)",null,null,null,{"$f":"Q14","v":"เบิก"}]
[]
[null,null,"สาขา :",null,{"$f":"INDEX(dBranches[Thai_Name],MATCH(BranchCode,dBranches[Code],0))","v":"โรงงานร่มเกล้า"},null,null,null,"หน้าที่ :",1]
[null,null,"สายส่ง :",null,"PC01",null,null,null,"ประเภท :","เสีย"]
[null,null,"Start Date :",null,26,"กุมภาพันธ์",2018,null,"จำนวน :",{"$f":"H69","v":0},"ชิ้น"]
[null,null,"End Date :",null,27,"มีนาคม",2018,null,"มูลค่า",{"$f":"J69","v":0},"บาท",null,{"$f":"MAX(Page_List)","v":{"$error":"#REF!"}}]
[null,null,null,null,null,null,null,null,null,null,null,null,"#Record"]
[]
[null,null,"ลำดับ","วันที่","รายการ",null,null,"จำนวน","ราคาลด","Total",null,null,{"$f":"COUNTIFS(Transaction[Route],Select_Route,Transaction[Date],\">=\"&StartDate,Transaction[Date],\"<=\"&EndDate,Transaction[Type],Type)","v":0}]
[null,null,"No.","Order Date","Products Name",null,null,"(ชิ้น)","(บาท)","(บาท)",null,null,"Page_List",null,null,"สาขา :","(All)"]
[null,{"$f":"IFERROR(_xlfn.AGGREGATE(15,6,(ROW(Transaction[Date])-ROW(Transaction[[#Headers],[Date]]))/((Transaction[Route]=Select_Route)*(Transaction[Date]>=StartDate)*(Transaction[Date]<=EndDate)*(Transaction[Type]=Type)),$C14),\"\")","v":""},{"$f":"IF(ROWS($C$14:$C14)+((Page-1)*55)>Rec_Num,\"\",ROWS($C$14:$C14)+((Page-1)*55))","v":""},{"$f":"IF($B14=\"\",\"\",INDEX(Transaction[Date],$B14))","v":""},{"$f":"IF($B14=\"\",\"\",INDEX(Transaction[Products],$B14))","v":""},null,null,{"$f":"IF($B14=\"\",\"\",INDEX(Transaction[Qty In-Out],$B14))","v":""},{"$f":"IF($B14=\"\",\"\",INDEX(Transaction[Discount_Price],$B14))","v":""},{"$f":"IF($B14=\"\",\"\",$H14*$I14)","v":""},null,null,{"$f":"IF(ROWS($M$14:$M14)<=ROUNDUP(COUNTIFS(Transaction[Route],Select_Route,Transaction[Date],\">=\"&StartDate,Transaction[Date],\"<=\"&EndDate)/55,0),ROWS($M$14:$M14),\"\")","v":""},null,null,"ประเภท :","เบิก"]
[null,{"$f":"IFERROR(_xlfn.AGGREGATE(15,6,(ROW(Transaction[Date])-ROW(Transaction[[#Headers],[Date]]))/((Transaction[Route]=Select_Route)*(Transaction[Date]>=StartDate)*(Transaction[Date]<=EndDate)*(Transaction[Type]=Type)),$C15),\"\")","v":""},{"$f":"IF(ROWS($C$14:$C15)+((Page-1)*55)>Rec_Num,\"\",ROWS($C$14:$C15)+((Page-1)*55))","v":""},{"$f":"IF($B15=\"\",\"\",INDEX(Transaction[Date],$B15))","v":""},{"$f":"IF($B15=\"\",\"\",INDEX(Transaction[Products],$B15))","v":""},null,null,{"$f":"IF($B15=\"\",\"\",INDEX(Transaction[Qty In-Out],$B15))","v":""},{"$f":"IF($B15=\"\",\"\",INDEX(Transaction[Discount_Price],$B15))","v":""},"",null,null,{"$f":"IF(ROWS($M$14:$M15)<=ROUNDUP(COUNTIFS(Transaction[Route],Select_Route,Transaction[Date],\">=\"&StartDate,Transaction[Date],\"<=\"&EndDate)/55,0),ROWS($M$14:$M15),\"\")","v":""}]
[null,{"$f":"IFERROR(_xlfn.AGGREGATE(15,6,(ROW(Transaction[Date])-ROW(Transaction[[#Headers],[Date]]))/((Transaction[Route]=Select_Route)*(Transaction[Date]>=StartDate)*(Transaction[Date]<=EndDate)*(Transaction[Type]=Type)),$C16),\"\")","v":""},{"$f":"IF(ROWS($C$14:$C16)+((Page-1)*55)>Rec_Num,\"\",ROWS($C$14:$C16)+((Page-1)*55))","v":""},{"$f":"IF($B16=\"\",\"\",INDEX(Transaction[Date],$B16))","v":""},{"$f":"IF($B16=\"\",\"\",INDEX(Transaction[Products],$B16))","v":""},null,null,{"$f":"IF($B16=\"\",\"\",INDEX(Transaction[Qty In-Out],$B16))","v":""},{"$f":"IF($B16=\"\",\"\",INDEX(Transaction[Discount_Price],$B16))","v":""},"",null,null,{"$f":"IF(ROWS($M$14:$M16)<=ROUNDUP(COUNTIFS(Transaction[Route],Select_Route,Transaction[Date],\">=\"&StartDate,Transaction[Date],\"<=\"&EndDate)/55,0),ROWS($M$14:$M16),\"\")","v":""},null,"ลำดับ","รายการสินค้า","ยอดเบิก : (ชิ้น)","ราคาส่วนลด","Total : (บาท)"]
[null,{"$f":"IFERROR(_xlfn.AGGREGATE(15,6,(ROW(Transaction[Date])-ROW(Transaction[[#Headers],[Date]]))/((Transaction[Route]=Select_Route)*(Transaction[Date]>=StartDate)*(Transaction[Date]<=EndDate)*(Transaction[Type]=Type)),$C17),\"\")","v":""},{"$f":"IF(ROWS($C$14:$C17)+((Page-1)*55)>Rec_Num,\"\",ROWS($C$14:$C17)+((Page-1)*55))","v":""},{"$f":"IF($B17=\"\",\"\",INDEX(Transaction[Date],$B17))","v":""},{"$f":"IF($B17=\"\",\"\",INDEX(Transaction[Products],$B17))","v":""},null,null,{"$f":"IF($B17=\"\",\"\",INDEX(Transaction[Qty In-Out],$B17))","v":""},{"$f":"IF($B17=\"\",\"\",INDEX(Transaction[Discount_Price],$B17))","v":""},"",null,null,{"$f":"IF(ROWS($M$14:$M17)<=ROUNDUP(COUNTIFS(Transaction[Route],Select_Route,Transaction[Date],\">=\"&StartDate,Transaction[Date],\"<=\"&EndDate)/55,0),ROWS($M$14:$M17),\"\")","v":""},null,{"$f":"IF(OR(P17=\"\",P17=\"Grand Total\"),\"\",ROWS($O$17:$O17))","v":""},"Grand Total",0,0,0]
[null,{"$f":"IFERROR(_xlfn.AGGREGATE(15,6,(ROW(Transaction[Date])-ROW(Transaction[[#Headers],[Date]]))/((Transaction[Route]=Select_Route)*(Transaction[Date]>=StartDate)*(Transaction[Date]<=EndDate)*(Transaction[Type]=Type)),$C18),\"\")","v":""},{"$f":"IF(ROWS($C$14:$C18)+((Page-1)*55)>Rec_Num,\"\",ROWS($C$14:$C18)+((Page-1)*55))","v":""},{"$f":"IF($B18=\"\",\"\",INDEX(Transaction[Date],$B18))","v":""},{"$f":"IF($B18=\"\",\"\",INDEX(Transaction[Products],$B18))","v":""},null,null,{"$f":"IF($B18=\"\",\"\",INDEX(Transaction[Qty In-Out],$B18))","v":""},{"$f":"IF($B18=\"\",\"\",INDEX(Transaction[Discount_Price],$B18))","v":""},"",null,null,{"$f":"IF(ROWS($M$14:$M18)<=ROUNDUP(COUNTIFS(Transaction[Route],Select_Route,Transaction[Date],\">=\"&StartDate,Transaction[Date],\"<=\"&EndDate)/55,0),ROWS($M$14:$M18),\"\")","v":""},null,{"$f":"IF(OR(P18=\"\",P18=\"Grand Total\"),\"\",ROWS($O$17:$O18))","v":""}]
[null,{"$f":"IFERROR(_xlfn.AGGREGATE(15,6,(ROW(Transaction[Date])-ROW(Transaction[[#Headers],[Date]]))/((Transaction[Route]=Select_Route)*(Transaction[Date]>=StartDate)*(Transaction[Date]<=EndDate)*(Transaction[Type]=Type)),$C19),\"\")","v":""},{"$f":"IF(ROWS($C$14:$C19)+((Page-1)*55)>Rec_Num,\"\",ROWS($C$14:$C19)+((Page-1)*55))","v":""},{"$f":"IF($B19=\"\",\"\",INDEX(Transaction[Date],$B19))","v":""},{"$f":"IF($B19=\"\",\"\",INDEX(Transaction[Products],$B19))","v":""},null,null,{"$f":"IF($B19=\"\",\"\",INDEX(Transaction[Qty In-Out],$B19))","v":""},{"$f":"IF($B19=\"\",\"\",INDEX(Transaction[Discount_Price],$B19))","v":""},"",null,null,{"$f":"IF(ROWS($M$14:$M19)<=ROUNDUP(COUNTIFS(Transaction[Route],Select_Route,Transaction[Date],\">=\"&StartDate,Transaction[Date],\"<=\"&EndDate)/55,0),ROWS($M$14:$M19),\"\")","v":""},null,{"$f":"IF(OR(P19=\"\",P19=\"Grand Total\"),\"\",ROWS($O$17:$O19))","v":""}]
[null,{"$f":"IFERROR(_xlfn.AGGREGATE(15,6,(ROW(Transaction[Date])-ROW(Transaction[[#Headers],[Date]]))/((Transaction[Route]=Select_Route)*(Transaction[Date]>=StartDate)*(Transaction[Date]<=EndDate)*(Transaction[Type]=Type)),$C20),\"\")","v":""},{"$f":"IF(ROWS($C$14:$C20)+((Page-1)*55)>Rec_Num,\"\",ROWS($C$14:$C20)+((Page-1)*55))","v":""},{"$f":"IF($B20=\"\",\"\",INDEX(Transaction[Date],$B20))","v":""},{"$f":"IF($B20=\"\",\"\",INDEX(Transaction[Products],$B20))","v":""},null,null,{"$f":"IF($B20=\"\",\"\",INDEX(Transaction[Qty In-Out],$B20))","v":""},{"$f":"IF($B20=\"\",\"\",INDEX(Transaction[Discount_Price],$B20))","v":""},"",null,null,{"$f":"IF(ROWS($M$14:$M20)<=ROUNDUP(COUNTIFS(Transaction[Route],Select_Route,Transaction[Date],\">=\"&StartDate,Transaction[Date],\"<=\"&EndDate)/55,0),ROWS($M$14:$M20),\"\")","v":""},null,{"$f":"IF(OR(P20=\"\",P20=\"Grand Total\"),\"\",ROWS($O$17:$O20))","v":""}]
[null,{"$f":"IFERROR(_xlfn.AGGREGATE(15,6,(ROW(Transaction[Date])-ROW(Transaction[[#Headers],[Date]]))/((Transaction[Route]=Select_Route)*(Transaction[Date]>=StartDate)*(Transaction[Date]<=EndDate)*(Transaction[Type]=Type)),$C21),\"\")","v":""},{"$f":"IF(ROWS($C$14:$C21)+((Page-1)*55)>Rec_Num,\"\",ROWS($C$14:$C21)+((Page-1)*55))","v":""},{"$f":"IF($B21=\"\",\"\",INDEX(Transaction[Date],$B21))","v":""},{"$f":"IF($B21=\"\",\"\",INDEX(Transaction[Products],$B21))","v":""},null,null,{"$f":"IF($B21=\"\",\"\",INDEX(Transaction[Qty In-Out],$B21))","v":""},{"$f":"IF($B21=\"\",\"\",INDEX(Transaction[Discount_Price],$B21))","v":""},"",null,null,{"$f":"IF(ROWS($M$14:$M21)<=ROUNDUP(COUNTIFS(Transaction[Route],Select_Route,Transaction[Date],\">=\"&StartDate,Transaction[Date],\"<=\"&EndDate)/55,0),ROWS($M$14:$M21),\"\")","v":""},null,{"$f":"IF(OR(P21=\"\",P21=\"Grand Total\"),\"\",ROWS($O$17:$O21))","v":""}]
[null,{"$f":"IFERROR(_xlfn.AGGREGATE(15,6,(ROW(Transaction[Date])-ROW(Transaction[[#Headers],[Date]]))/((Transaction[Route]=Select_Route)*(Transaction[Date]>=StartDate)*(Transaction[Date]<=EndDate)*(Transaction[Type]=Type)),$C22),\"\")","v":""},{"$f":"IF(ROWS($C$14:$C22)+((Page-1)*55)>Rec_Num,\"\",ROWS($C$14:$C22)+((Page-1)*55))","v":""},{"$f":"IF($B22=\"\",\"\",INDEX(Transaction[Date],$B22))","v":""},{"$f":"IF($B22=\"\",\"\",INDEX(Transaction[Products],$B22))","v":""},null,null,{"$f":"IF($B22=\"\",\"\",INDEX(Transaction[Qty In-Out],$B22))","v":""},{"$f":"IF($B22=\"\",\"\",INDEX(Transaction[Discount_Price],$B22))","v":""},"",null,null,{"$f":"IF(ROWS($M$14:$M22)<=ROUNDUP(COUNTIFS(Transaction[Route],Select_Route,Transaction[Date],\">=\"&StartDate,Transaction[Date],\"<=\"&EndDate)/55,0),ROWS($M$14:$M22),\"\")","v":""},null,{"$f":"IF(OR(P22=\"\",P22=\"Grand Total\"),\"\",ROWS($O$17:$O22))","v":""}]
[null,{"$f":"IFERROR(_xlfn.AGGREGATE(15,6,(ROW(Transaction[Date])-ROW(Transaction[[#Headers],[Date]]))/((Transaction[Route]=Select_Route)*(Transaction[Date]>=StartDate)*(Transaction[Date]<=EndDate)*(Transaction[Type]=Type)),$C23),\"\")","v":""},{"$f":"IF(ROWS($C$14:$C23)+((Page-1)*55)>Rec_Num,\"\",ROWS($C$14:$C23)+((Page-1)*55))","v":""},{"$f":"IF($B23=\"\",\"\",INDEX(Transaction[Date],$B23))","v":""},{"$f":"IF($B23=\"\",\"\",INDEX(Transaction[Products],$B23))","v":""},null,null,{"$f":"IF($B23=\"\",\"\",INDEX(Transaction[Qty In-Out],$B23))","v":""},{"$f":"IF($B23=\"\",\"\",INDEX(Transaction[Discount_Price],$B23))","v":""},"",null,null,{"$f":"IF(ROWS($M$14:$M23)<=ROUNDUP(COUNTIFS(Transaction[Route],Select_Route,Transaction[Date],\">=\"&StartDate,Transaction[Date],\"<=\"&EndDate)/55,0),ROWS($M$14:$M23),\"\")","v":""},null,{"$f":"IF(OR(P23=\"\",P23=\"Grand Total\"),\"\",ROWS($O$17:$O23))","v":""}]
[null,{"$f":"IFERROR(_xlfn.AGGREGATE(15,6,(ROW(Transaction[Date])-ROW(Transaction[[#Headers],[Date]]))/((Transaction[Route]=Select_Route)*(Transaction[Date]>=StartDate)*(Transaction[Date]<=EndDate)*(Transaction[Type]=Type)),$C24),\"\")","v":""},{"$f":"IF(ROWS($C$14:$C24)+((Page-1)*55)>Rec_Num,\"\",ROWS($C$14:$C24)+((Page-1)*55))","v":""},{"$f":"IF($B24=\"\",\"\",INDEX(Transaction[Date],$B24))","v":""},{"$f":"IF($B24=\"\",\"\",INDEX(Transaction[Products],$B24))","v":""},null,null,{"$f":"IF($B24=\"\",\"\",INDEX(Transaction[Qty In-Out],$B24))","v":""},{"$f":"IF($B24=\"\",\"\",INDEX(Transaction[Discount_Price],$B24))","v":""},"",null,null,{"$f":"IF(ROWS($M$14:$M24)<=ROUNDUP(COUNTIFS(Transaction[Route],Select_Route,Transaction[Date],\">=\"&StartDate,Transaction[Date],\"<=\"&EndDate)/55,0),ROWS($M$14:$M24),\"\")","v":""},null,{"$f":"IF(OR(P24=\"\",P24=\"Grand Total\"),\"\",ROWS($O$17:$O24))","v":""}]
[null,{"$f":"IFERROR(_xlfn.AGGREGATE(15,6,(ROW(Transaction[Date])-ROW(Transaction[[#Headers],[Date]]))/((Transaction[Route]=Select_Route)*(Transaction[Date]>=StartDate)*(Transaction[Date]<=EndDate)*(Transaction[Type]=Type)),$C25),\"\")","v":""},{"$f":"IF(ROWS($C$14:$C25)+((Page-1)*55)>Rec_Num,\"\",ROWS($C$14:$C25)+((Page-1)*55))","v":""},{"$f":"IF($B25=\"\",\"\",INDEX(Transaction[Date],$B25))","v":""},{"$f":"IF($B25=\"\",\"\",INDEX(Transaction[Products],$B25))","v":""},null,null,{"$f":"IF($B25=\"\",\"\",INDEX(Transaction[Qty In-Out],$B25))","v":""},{"$f":"IF($B25=\"\",\"\",INDEX(Transaction[Discount_Price],$B25))","v":""},"",null,null,{"$f":"IF(ROWS($M$14:$M25)<=ROUNDUP(COUNTIFS(Transaction[Route],Select_Route,Transaction[Date],\">=\"&StartDate,Transaction[Date],\"<=\"&EndDate)/55,0),ROWS($M$14:$M25),\"\")","v":""},null,{"$f":"IF(OR(P25=\"\",P25=\"Grand Total\"),\"\",ROWS($O$17:$O25))","v":""}]
[null,{"$f":"IFERROR(_xlfn.AGGREGATE(15,6,(ROW(Transaction[Date])-ROW(Transaction[[#Headers],[Date]]))/((Transaction[Route]=Select_Route)*(Transaction[Date]>=StartDate)*(Transaction[Date]<=EndDate)*(Transaction[Type]=Type)),$C26),\"\")","v":""},{"$f":"IF(ROWS($C$14:$C26)+((Page-1)*55)>Rec_Num,\"\",ROWS($C$14:$C26)+((Page-1)*55))","v":""},{"$f":"IF($B26=\"\",\"\",INDEX(Transaction[Date],$B26))","v":""},{"$f":"IF($B26=\"\",\"\",INDEX(Transaction[Products],$B26))","v":""},null,null,{"$f":"IF($B26=\"\",\"\",INDEX(Transaction[Qty In-Out],$B26))","v":""},{"$f":"IF($B26=\"\",\"\",INDEX(Transaction[Discount_Price],$B26))","v":""},"",null,null,{"$f":"IF(ROWS($M$14:$M26)<=ROUNDUP(COUNTIFS(Transaction[Route],Select_Route,Transaction[Date],\">=\"&StartDate,Transaction[Date],\"<=\"&EndDate)/55,0),ROWS($M$14:$M26),\"\")","v":""},null,{"$f":"IF(OR(P26=\"\",P26=\"Grand Total\"),\"\",ROWS($O$17:$O26))","v":""}]
[null,{"$f":"IFERROR(_xlfn.AGGREGATE(15,6,(ROW(Transaction[Date])-ROW(Transaction[[#Headers],[Date]]))/((Transaction[Route]=Select_Route)*(Transaction[Date]>=StartDate)*(Transaction[Date]<=EndDate)*(Transaction[Type]=Type)),$C27),\"\")","v":""},{"$f":"IF(ROWS($C$14:$C27)+((Page-1)*55)>Rec_Num,\"\",ROWS($C$14:$C27)+((Page-1)*55))","v":""},{"$f":"IF($B27=\"\",\"\",INDEX(Transaction[Date],$B27))","v":""},{"$f":"IF($B27=\"\",\"\",INDEX(Transaction[Products],$B27))","v":""},null,null,{"$f":"IF($B27=\"\",\"\",INDEX(Transaction[Qty In-Out],$B27))","v":""},{"$f":"IF($B27=\"\",\"\",INDEX(Transaction[Discount_Price],$B27))","v":""},"",null,null,{"$f":"IF(ROWS($M$14:$M27)<=ROUNDUP(COUNTIFS(Transaction[Route],Select_Route,Transaction[Date],\">=\"&StartDate,Transaction[Date],\"<=\"&EndDate)/55,0),ROWS($M$14:$M27),\"\")","v":""},null,{"$f":"IF(OR(P27=\"\",P27=\"Grand Total\"),\"\",ROWS($O$17:$O27))","v":""}]
[null,{"$f":"IFERROR(_xlfn.AGGREGATE(15,6,(ROW(Transaction[Date])-ROW(Transaction[[#Headers],[Date]]))/((Transaction[Route]=Select_Route)*(Transaction[Date]>=StartDate)*(Transaction[Date]<=EndDate)*(Transaction[Type]=Type)),$C28),\"\")","v":""},{"$f":"IF(ROWS($C$14:$C28)+((Page-1)*55)>Rec_Num,\"\",ROWS($C$14:$C28)+((Page-1)*55))","v":""},{"$f":"IF($B28=\"\",\"\",INDEX(Transaction[Date],$B28))","v":""},{"$f":"IF($B28=\"\",\"\",INDEX(Transaction[Products],$B28))","v":""},null,null,{"$f":"IF($B28=\"\",\"\",INDEX(Transaction[Qty In-Out],$B28))","v":""},{"$f":"IF($B28=\"\",\"\",INDEX(Transaction[Discount_Price],$B28))","v":""},"",null,null,{"$f":"IF(ROWS($M$14:$M28)<=ROUNDUP(COUNTIFS(Transaction[Route],Select_Route,Transaction[Date],\">=\"&StartDate,Transaction[Date],\"<=\"&EndDate)/55,0),ROWS($M$14:$M28),\"\")","v":""},null,{"$f":"IF(OR(P28=\"\",P28=\"Grand Total\"),\"\",ROWS($O$17:$O28))","v":""}]
[null,{"$f":"IFERROR(_xlfn.AGGREGATE(15,6,(ROW(Transaction[Date])-ROW(Transaction[[#Headers],[Date]]))/((Transaction[Route]=Select_Route)*(Transaction[Date]>=StartDate)*(Transaction[Date]<=EndDate)*(Transaction[Type]=Type)),$C29),\"\")","v":""},{"$f":"IF(ROWS($C$14:$C29)+((Page-1)*55)>Rec_Num,\"\",ROWS($C$14:$C29)+((Page-1)*55))","v":""},{"$f":"IF($B29=\"\",\"\",INDEX(Transaction[Date],$B29))","v":""},{"$f":"IF($B29=\"\",\"\",INDEX(Transaction[Products],$B29))","v":""},null,null,{"$f":"IF($B29=\"\",\"\",INDEX(Transaction[Qty In-Out],$B29))","v":""},{"$f":"IF($B29=\"\",\"\",INDEX(Transaction[Discount_Price],$B29))","v":""},"",null,null,{"$f":"IF(ROWS($M$14:$M29)<=ROUNDUP(COUNTIFS(Transaction[Route],Select_Route,Transaction[Date],\">=\"&StartDate,Transaction[Date],\"<=\"&EndDate)/55,0),ROWS($M$14:$M29),\"\")","v":""},null,{"$f":"IF(OR(P29=\"\",P29=\"Grand Total\"),\"\",ROWS($O$17:$O29))","v":""}]
[null,{"$f":"IFERROR(_xlfn.AGGREGATE(15,6,(ROW(Transaction[Date])-ROW(Transaction[[#Headers],[Date]]))/((Transaction[Route]=Select_Route)*(Transaction[Date]>=StartDate)*(Transaction[Date]<=EndDate)*(Transaction[Type]=Type)),$C30),\"\")","v":""},{"$f":"IF(ROWS($C$14:$C30)+((Page-1)*55)>Rec_Num,\"\",ROWS($C$14:$C30)+((Page-1)*55))","v":""},{"$f":"IF($B30=\"\",\"\",INDEX(Transaction[Date],$B30))","v":""},{"$f":"IF($B30=\"\",\"\",INDEX(Transaction[Products],$B30))","v":""},null,null,{"$f":"IF($B30=\"\",\"\",INDEX(Transaction[Qty In-Out],$B30))","v":""},{"$f":"IF($B30=\"\",\"\",INDEX(Transaction[Discount_Price],$B30))","v":""},"",null,null,{"$f":"IF(ROWS($M$14:$M30)<=ROUNDUP(COUNTIFS(Transaction[Route],Select_Route,Transaction[Date],\">=\"&StartDate,Transaction[Date],\"<=\"&EndDate)/55,0),ROWS($M$14:$M30),\"\")","v":""},null,{"$f":"IF(OR(P30=\"\",P30=\"Grand Total\"),\"\",ROWS($O$17:$O30))","v":""}]
[null,{"$f":"IFERROR(_xlfn.AGGREGATE(15,6,(ROW(Transaction[Date])-ROW(Transaction[[#Headers],[Date]]))/((Transaction[Route]=Select_Route)*(Transaction[Date]>=StartDate)*(Transaction[Date]<=EndDate)*(Transaction[Type]=Type)),$C31),\"\")","v":""},{"$f":"IF(ROWS($C$14:$C31)+((Page-1)*55)>Rec_Num,\"\",ROWS($C$14:$C31)+((Page-1)*55))","v":""},{"$f":"IF($B31=\"\",\"\",INDEX(Transaction[Date],$B31))","v":""},{"$f":"IF($B31=\"\",\"\",INDEX(Transaction[Products],$B31))","v":""},null,null,{"$f":"IF($B31=\"\",\"\",INDEX(Transaction[Qty In-Out],$B31))","v":""},{"$f":"IF($B31=\"\",\"\",INDEX(Transaction[Discount_Price],$B31))","v":""},"",null,null,{"$f":"IF(ROWS($M$14:$M31)<=ROUNDUP(COUNTIFS(Transaction[Route],Select_Route,Transaction[Date],\">=\"&StartDate,Transaction[Date],\"<=\"&EndDate)/55,0),ROWS($M$14:$M31),\"\")","v":""},null,{"$f":"IF(OR(P31=\"\",P31=\"Grand Total\"),\"\",ROWS($O$17:$O31))","v":""}]
[null,{"$f":"IFERROR(_xlfn.AGGREGATE(15,6,(ROW(Transaction[Date])-ROW(Transaction[[#Headers],[Date]]))/((Transaction[Route]=Select_Route)*(Transaction[Date]>=StartDate)*(Transaction[Date]<=EndDate)*(Transaction[Type]=Type)),$C32),\"\")","v":""},{"$f":"IF(ROWS($C$14:$C32)+((Page-1)*55)>Rec_Num,\"\",ROWS($C$14:$C32)+((Page-1)*55))","v":""},{"$f":"IF($B32=\"\",\"\",INDEX(Transaction[Date],$B32))","v":""},{"$f":"IF($B32=\"\",\"\",INDEX(Transaction[Products],$B32))","v":""},null,null,{"$f":"IF($B32=\"\",\"\",INDEX(Transaction[Qty In-Out],$B32))","v":""},{"$f":"IF($B32=\"\",\"\",INDEX(Transaction[Discount_Price],$B32))","v":""},"",null,null,{"$f":"IF(ROWS($M$14:$M32)<=ROUNDUP(COUNTIFS(Transaction[Route],Select_Route,Transaction[Date],\">=\"&StartDate,Transaction[Date],\"<=\"&EndDate)/55,0),ROWS($M$14:$M32),\"\")","v":""},null,{"$f":"IF(OR(P32=\"\",P32=\"Grand Total\"),\"\",ROWS($O$17:$O32))","v":""}]
[null,{"$f":"IFERROR(_xlfn.AGGREGATE(15,6,(ROW(Transaction[Date])-ROW(Transaction[[#Headers],[Date]]))/((Transaction[Route]=Select_Route)*(Transaction[Date]>=StartDate)*(Transaction[Date]<=EndDate)*(Transaction[Type]=Type)),$C33),\"\")","v":""},{"$f":"IF(ROWS($C$14:$C33)+((Page-1)*55)>Rec_Num,\"\",ROWS($C$14:$C33)+((Page-1)*55))","v":""},{"$f":"IF($B33=\"\",\"\",INDEX(Transaction[Date],$B33))","v":""},{"$f":"IF($B33=\"\",\"\",INDEX(Transaction[Products],$B33))","v":""},null,null,{"$f":"IF($B33=\"\",\"\",INDEX(Transaction[Qty In-Out],$B33))","v":""},{"$f":"IF($B33=\"\",\"\",INDEX(Transaction[Discount_Price],$B33))","v":""},"",null,null,{"$f":"IF(ROWS($M$14:$M33)<=ROUNDUP(COUNTIFS(Transaction[Route],Select_Route,Transaction[Date],\">=\"&StartDate,Transaction[Date],\"<=\"&EndDate)/55,0),ROWS($M$14:$M33),\"\")","v":""},null,{"$f":"IF(OR(P33=\"\",P33=\"Grand Total\"),\"\",ROWS($O$17:$O33))","v":""}]
[null,{"$f":"IFERROR(_xlfn.AGGREGATE(15,6,(ROW(Transaction[Date])-ROW(Transaction[[#Headers],[Date]]))/((Transaction[Route]=Select_Route)*(Transaction[Date]>=StartDate)*(Transaction[Date]<=EndDate)*(Transaction[Type]=Type)),$C34),\"\")","v":""},{"$f":"IF(ROWS($C$14:$C34)+((Page-1)*55)>Rec_Num,\"\",ROWS($C$14:$C34)+((Page-1)*55))","v":""},{"$f":"IF($B34=\"\",\"\",INDEX(Transaction[Date],$B34))","v":""},{"$f":"IF($B34=\"\",\"\",INDEX(Transaction[Products],$B34))","v":""},null,null,{"$f":"IF($B34=\"\",\"\",INDEX(Transaction[Qty In-Out],$B34))","v":""},{"$f":"IF($B34=\"\",\"\",INDEX(Transaction[Discount_Price],$B34))","v":""},"",null,null,{"$f":"IF(ROWS($M$14:$M34)<=ROUNDUP(COUNTIFS(Transaction[Route],Select_Route,Transaction[Date],\">=\"&StartDate,Transaction[Date],\"<=\"&EndDate)/55,0),ROWS($M$14:$M34),\"\")","v":""},null,{"$f":"IF(OR(P34=\"\",P34=\"Grand Total\"),\"\",ROWS($O$17:$O34))","v":""}]
[null,{"$f":"IFERROR(_xlfn.AGGREGATE(15,6,(ROW(Transaction[Date])-ROW(Transaction[[#Headers],[Date]]))/((Transaction[Route]=Select_Route)*(Transaction[Date]>=StartDate)*(Transaction[Date]<=EndDate)*(Transaction[Type]=Type)),$C35),\"\")","v":""},{"$f":"IF(ROWS($C$14:$C35)+((Page-1)*55)>Rec_Num,\"\",ROWS($C$14:$C35)+((Page-1)*55))","v":""},{"$f":"IF($B35=\"\",\"\",INDEX(Transaction[Date],$B35))","v":""},{"$f":"IF($B35=\"\",\"\",INDEX(Transaction[Products],$B35))","v":""},null,null,{"$f":"IF($B35=\"\",\"\",INDEX(Transaction[Qty In-Out],$B35))","v":""},{"$f":"IF($B35=\"\",\"\",INDEX(Transaction[Discount_Price],$B35))","v":""},"",null,null,{"$f":"IF(ROWS($M$14:$M35)<=ROUNDUP(COUNTIFS(Transaction[Route],Select_Route,Transaction[Date],\">=\"&StartDate,Transaction[Date],\"<=\"&EndDate)/55,0),ROWS($M$14:$M35),\"\")","v":""},null,{"$f":"IF(OR(P35=\"\",P35=\"Grand Total\"),\"\",ROWS($O$17:$O35))","v":""}]
[null,{"$f":"IFERROR(_xlfn.AGGREGATE(15,6,(ROW(Transaction[Date])-ROW(Transaction[[#Headers],[Date]]))/((Transaction[Route]=Select_Route)*(Transaction[Date]>=StartDate)*(Transaction[Date]<=EndDate)*(Transaction[Type]=Type)),$C36),\"\")","v":""},{"$f":"IF(ROWS($C$14:$C36)+((Page-1)*55)>Rec_Num,\"\",ROWS($C$14:$C36)+((Page-1)*55))","v":""},{"$f":"IF($B36=\"\",\"\",INDEX(Transaction[Date],$B36))","v":""},{"$f":"IF($B36=\"\",\"\",INDEX(Transaction[Products],$B36))","v":""},null,null,{"$f":"IF($B36=\"\",\"\",INDEX(Transaction[Qty In-Out],$B36))","v":""},{"$f":"IF($B36=\"\",\"\",INDEX(Transaction[Discount_Price],$B36))","v":""},"",null,null,{"$f":"IF(ROWS($M$14:$M36)<=ROUNDUP(COUNTIFS(Transaction[Route],Select_Route,Transaction[Date],\">=\"&StartDate,Transaction[Date],\"<=\"&EndDate)/55,0),ROWS($M$14:$M36),\"\")","v":""},null,{"$f":"IF(OR(P36=\"\",P36=\"Grand Total\"),\"\",ROWS($O$17:$O36))","v":""}]
[null,{"$f":"IFERROR(_xlfn.AGGREGATE(15,6,(ROW(Transaction[Date])-ROW(Transaction[[#Headers],[Date]]))/((Transaction[Route]=Select_Route)*(Transaction[Date]>=StartDate)*(Transaction[Date]<=EndDate)*(Transaction[Type]=Type)),$C37),\"\")","v":""},{"$f":"IF(ROWS($C$14:$C37)+((Page-1)*55)>Rec_Num,\"\",ROWS($C$14:$C37)+((Page-1)*55))","v":""},{"$f":"IF($B37=\"\",\"\",INDEX(Transaction[Date],$B37))","v":""},{"$f":"IF($B37=\"\",\"\",INDEX(Transaction[Products],$B37))","v":""},null,null,{"$f":"IF($B37=\"\",\"\",INDEX(Transaction[Qty In-Out],$B37))","v":""},{"$f":"IF($B37=\"\",\"\",INDEX(Transaction[Discount_Price],$B37))","v":""},"",null,null,{"$f":"IF(ROWS($M$14:$M37)<=ROUNDUP(COUNTIFS(Transaction[Route],Select_Route,Transaction[Date],\">=\"&StartDate,Transaction[Date],\"<=\"&EndDate)/55,0),ROWS($M$14:$M37),\"\")","v":""},null,{"$f":"IF(OR(P37=\"\",P37=\"Grand Total\"),\"\",ROWS($O$17:$O37))","v":""}]
[null,{"$f":"IFERROR(_xlfn.AGGREGATE(15,6,(ROW(Transaction[Date])-ROW(Transaction[[#Headers],[Date]]))/((Transaction[Route]=Select_Route)*(Transaction[Date]>=StartDate)*(Transaction[Date]<=EndDate)*(Transaction[Type]=Type)),$C38),\"\")","v":""},{"$f":"IF(ROWS($C$14:$C38)+((Page-1)*55)>Rec_Num,\"\",ROWS($C$14:$C38)+((Page-1)*55))","v":""},{"$f":"IF($B38=\"\",\"\",INDEX(Transaction[Date],$B38))","v":""},{"$f":"IF($B38=\"\",\"\",INDEX(Transaction[Products],$B38))","v":""},null,null,{"$f":"IF($B38=\"\",\"\",INDEX(Transaction[Qty In-Out],$B38))","v":""},{"$f":"IF($B38=\"\",\"\",INDEX(Transaction[Discount_Price],$B38))","v":""},"",null,null,{"$f":"IF(ROWS($M$14:$M38)<=ROUNDUP(COUNTIFS(Transaction[Route],Select_Route,Transaction[Date],\">=\"&StartDate,Transaction[Date],\"<=\"&EndDate)/55,0),ROWS($M$14:$M38),\"\")","v":""},null,{"$f":"IF(OR(P38=\"\",P38=\"Grand Total\"),\"\",ROWS($O$17:$O38))","v":""}]
[null,{"$f":"IFERROR(_xlfn.AGGREGATE(15,6,(ROW(Transaction[Date])-ROW(Transaction[[#Headers],[Date]]))/((Transaction[Route]=Select_Route)*(Transaction[Date]>=StartDate)*(Transaction[Date]<=EndDate)*(Transaction[Type]=Type)),$C39),\"\")","v":""},{"$f":"IF(ROWS($C$14:$C39)+((Page-1)*55)>Rec_Num,\"\",ROWS($C$14:$C39)+((Page-1)*55))","v":""},{"$f":"IF($B39=\"\",\"\",INDEX(Transaction[Date],$B39))","v":""},{"$f":"IF($B39=\"\",\"\",INDEX(Transaction[Products],$B39))","v":""},null,null,{"$f":"IF($B39=\"\",\"\",INDEX(Transaction[Qty In-Out],$B39))","v":""},{"$f":"IF($B39=\"\",\"\",INDEX(Transaction[Discount_Price],$B39))","v":""},"",null,null,{"$f":"IF(ROWS($M$14:$M39)<=ROUNDUP(COUNTIFS(Transaction[Route],Select_Route,Transaction[Date],\">=\"&StartDate,Transaction[Date],\"<=\"&EndDate)/55,0),ROWS($M$14:$M39),\"\")","v":""},null,{"$f":"IF(OR(P39=\"\",P39=\"Grand Total\"),\"\",ROWS($O$17:$O39))","v":""}]
[null,{"$f":"IFERROR(_xlfn.AGGREGATE(15,6,(ROW(Transaction[Date])-ROW(Transaction[[#Headers],[Date]]))/((Transaction[Route]=Select_Route)*(Transaction[Date]>=StartDate)*(Transaction[Date]<=EndDate)*(Transaction[Type]=Type)),$C40),\"\")","v":""},{"$f":"IF(ROWS($C$14:$C40)+((Page-1)*55)>Rec_Num,\"\",ROWS($C$14:$C40)+((Page-1)*55))","v":""},{"$f":"IF($B40=\"\",\"\",INDEX(Transaction[Date],$B40))","v":""},{"$f":"IF($B40=\"\",\"\",INDEX(Transaction[Products],$B40))","v":""},null,null,{"$f":"IF($B40=\"\",\"\",INDEX(Transaction[Qty In-Out],$B40))","v":""},{"$f":"IF($B40=\"\",\"\",INDEX(Transaction[Discount_Price],$B40))","v":""},"",null,null,{"$f":"IF(ROWS($M$14:$M40)<=ROUNDUP(COUNTIFS(Transaction[Route],Select_Route,Transaction[Date],\">=\"&StartDate,Transaction[Date],\"<=\"&EndDate)/55,0),ROWS($M$14:$M40),\"\")","v":""},null,{"$f":"IF(OR(P40=\"\",P40=\"Grand Total\"),\"\",ROWS($O$17:$O40))","v":""}]
[null,{"$f":"IFERROR(_xlfn.AGGREGATE(15,6,(ROW(Transaction[Date])-ROW(Transaction[[#Headers],[Date]]))/((Transaction[Route]=Select_Route)*(Transaction[Date]>=StartDate)*(Transaction[Date]<=EndDate)*(Transaction[Type]=Type)),$C41),\"\")","v":""},{"$f":"IF(ROWS($C$14:$C41)+((Page-1)*55)>Rec_Num,\"\",ROWS($C$14:$C41)+((Page-1)*55))","v":""},{"$f":"IF($B41=\"\",\"\",INDEX(Transaction[Date],$B41))","v":""},{"$f":"IF($B41=\"\",\"\",INDEX(Transaction[Products],$B41))","v":""},null,null,{"$f":"IF($B41=\"\",\"\",INDEX(Transaction[Qty In-Out],$B41))","v":""},{"$f":"IF($B41=\"\",\"\",INDEX(Transaction[Discount_Price],$B41))","v":""},"",null,null,{"$f":"IF(ROWS($M$14:$M41)<=ROUNDUP(COUNTIFS(Transaction[Route],Select_Route,Transaction[Date],\">=\"&StartDate,Transaction[Date],\"<=\"&EndDate)/55,0),ROWS($M$14:$M41),\"\")","v":""},null,{"$f":"IF(OR(P41=\"\",P41=\"Grand Total\"),\"\",ROWS($O$17:$O41))","v":""}]
[null,{"$f":"IFERROR(_xlfn.AGGREGATE(15,6,(ROW(Transaction[Date])-ROW(Transaction[[#Headers],[Date]]))/((Transaction[Route]=Select_Route)*(Transaction[Date]>=StartDate)*(Transaction[Date]<=EndDate)*(Transaction[Type]=Type)),$C42),\"\")","v":""},{"$f":"IF(ROWS($C$14:$C42)+((Page-1)*55)>Rec_Num,\"\",ROWS($C$14:$C42)+((Page-1)*55))","v":""},{"$f":"IF($B42=\"\",\"\",INDEX(Transaction[Date],$B42))","v":""},{"$f":"IF($B42=\"\",\"\",INDEX(Transaction[Products],$B42))","v":""},null,null,{"$f":"IF($B42=\"\",\"\",INDEX(Transaction[Qty In-Out],$B42))","v":""},{"$f":"IF($B42=\"\",\"\",INDEX(Transaction[Discount_Price],$B42))","v":""},"",null,null,{"$f":"IF(ROWS($M$14:$M42)<=ROUNDUP(COUNTIFS(Transaction[Route],Select_Route,Transaction[Date],\">=\"&StartDate,Transaction[Date],\"<=\"&EndDate)/55,0),ROWS($M$14:$M42),\"\")","v":""},null,{"$f":"IF(OR(P42=\"\",P42=\"Grand Total\"),\"\",ROWS($O$17:$O42))","v":""}]
[null,{"$f":"IFERROR(_xlfn.AGGREGATE(15,6,(ROW(Transaction[Date])-ROW(Transaction[[#Headers],[Date]]))/((Transaction[Route]=Select_Route)*(Transaction[Date]>=StartDate)*(Transaction[Date]<=EndDate)*(Transaction[Type]=Type)),$C43),\"\")","v":""},{"$f":"IF(ROWS($C$14:$C43)+((Page-1)*55)>Rec_Num,\"\",ROWS($C$14:$C43)+((Page-1)*55))","v":""},{"$f":"IF($B43=\"\",\"\",INDEX(Transaction[Date],$B43))","v":""},{"$f":"IF($B43=\"\",\"\",INDEX(Transaction[Products],$B43))","v":""},null,null,{"$f":"IF($B43=\"\",\"\",INDEX(Transaction[Qty In-Out],$B43))","v":""},{"$f":"IF($B43=\"\",\"\",INDEX(Transaction[Discount_Price],$B43))","v":""},"",null,null,{"$f":"IF(ROWS($M$14:$M43)<=ROUNDUP(COUNTIFS(Transaction[Route],Select_Route,Transaction[Date],\">=\"&StartDate,Transaction[Date],\"<=\"&EndDate)/55,0),ROWS($M$14:$M43),\"\")","v":""},null,{"$f":"IF(OR(P43=\"\",P43=\"Grand Total\"),\"\",ROWS($O$17:$O43))","v":""}]
[null,{"$f":"IFERROR(_xlfn.AGGREGATE(15,6,(ROW(Transaction[Date])-ROW(Transaction[[#Headers],[Date]]))/((Transaction[Route]=Select_Route)*(Transaction[Date]>=StartDate)*(Transaction[Date]<=EndDate)*(Transaction[Type]=Type)),$C44),\"\")","v":""},{"$f":"IF(ROWS($C$14:$C44)+((Page-1)*55)>Rec_Num,\"\",ROWS($C$14:$C44)+((Page-1)*55))","v":""},{"$f":"IF($B44=\"\",\"\",INDEX(Transaction[Date],$B44))","v":""},{"$f":"IF($B44=\"\",\"\",INDEX(Transaction[Products],$B44))","v":""},null,null,{"$f":"IF($B44=\"\",\"\",INDEX(Transaction[Qty In-Out],$B44))","v":""},{"$f":"IF($B44=\"\",\"\",INDEX(Transaction[Discount_Price],$B44))","v":""},"",null,null,{"$f":"IF(ROWS($M$14:$M44)<=ROUNDUP(COUNTIFS(Transaction[Route],Select_Route,Transaction[Date],\">=\"&StartDate,Transaction[Date],\"<=\"&EndDate)/55,0),ROWS($M$14:$M44),\"\")","v":""},null,{"$f":"IF(OR(P44=\"\",P44=\"Grand Total\"),\"\",ROWS($O$17:$O44))","v":""}]
[null,{"$f":"IFERROR(_xlfn.AGGREGATE(15,6,(ROW(Transaction[Date])-ROW(Transaction[[#Headers],[Date]]))/((Transaction[Route]=Select_Route)*(Transaction[Date]>=StartDate)*(Transaction[Date]<=EndDate)*(Transaction[Type]=Type)),$C45),\"\")","v":""},{"$f":"IF(ROWS($C$14:$C45)+((Page-1)*55)>Rec_Num,\"\",ROWS($C$14:$C45)+((Page-1)*55))","v":""},{"$f":"IF($B45=\"\",\"\",INDEX(Transaction[Date],$B45))","v":""},{"$f":"IF($B45=\"\",\"\",INDEX(Transaction[Products],$B45))","v":""},null,null,{"$f":"IF($B45=\"\",\"\",INDEX(Transaction[Qty In-Out],$B45))","v":""},{"$f":"IF($B45=\"\",\"\",INDEX(Transaction[Discount_Price],$B45))","v":""},"",null,null,{"$f":"IF(ROWS($M$14:$M45)<=ROUNDUP(COUNTIFS(Transaction[Route],Select_Route,Transaction[Date],\">=\"&StartDate,Transaction[Date],\"<=\"&EndDate)/55,0),ROWS($M$14:$M45),\"\")","v":""},null,{"$f":"IF(OR(P45=\"\",P45=\"Grand Total\"),\"\",ROWS($O$17:$O45))","v":""}]
[null,{"$f":"IFERROR(_xlfn.AGGREGATE(15,6,(ROW(Transaction[Date])-ROW(Transaction[[#Headers],[Date]]))/((Transaction[Route]=Select_Route)*(Transaction[Date]>=StartDate)*(Transaction[Date]<=EndDate)*(Transaction[Type]=Type)),$C46),\"\")","v":""},{"$f":"IF(ROWS($C$14:$C46)+((Page-1)*55)>Rec_Num,\"\",ROWS($C$14:$C46)+((Page-1)*55))","v":""},{"$f":"IF($B46=\"\",\"\",INDEX(Transaction[Date],$B46))","v":""},{"$f":"IF($B46=\"\",\"\",INDEX(Transaction[Products],$B46))","v":""},null,null,{"$f":"IF($B46=\"\",\"\",INDEX(Transaction[Qty In-Out],$B46))","v":""},{"$f":"IF($B46=\"\",\"\",INDEX(Transaction[Discount_Price],$B46))","v":""},{"$f":"IF($B46=\"\",\"\",$H46*$I46)","v":""},null,null,{"$f":"IF(ROWS($M$14:$M46)<=ROUNDUP(COUNTIFS(Transaction[Route],Select_Route,Transaction[Date],\">=\"&StartDate,Transaction[Date],\"<=\"&EndDate)/55,0),ROWS($M$14:$M46),\"\")","v":""},null,{"$f":"IF(OR(P46=\"\",P46=\"Grand Total\"),\"\",ROWS($O$17:$O46))","v":""}]
[null,{"$f":"IFERROR(_xlfn.AGGREGATE(15,6,(ROW(Transaction[Date])-ROW(Transaction[[#Headers],[Date]]))/((Transaction[Route]=Select_Route)*(Transaction[Date]>=StartDate)*(Transaction[Date]<=EndDate)*(Transaction[Type]=Type)),$C47),\"\")","v":""},{"$f":"IF(ROWS($C$14:$C47)+((Page-1)*55)>Rec_Num,\"\",ROWS($C$14:$C47)+((Page-1)*55))","v":""},{"$f":"IF($B47=\"\",\"\",INDEX(Transaction[Date],$B47))","v":""},{"$f":"IF($B47=\"\",\"\",INDEX(Transaction[Products],$B47))","v":""},null,null,{"$f":"IF($B47=\"\",\"\",INDEX(Transaction[Qty In-Out],$B47))","v":""},{"$f":"IF($B47=\"\",\"\",INDEX(Transaction[Discount_Price],$B47))","v":""},"",null,null,null,null,{"$f":"IF(OR(P47=\"\",P47=\"Grand Total\"),\"\",ROWS($O$17:$O47))","v":""}]
[null,{"$f":"IFERROR(_xlfn.AGGREGATE(15,6,(ROW(Transaction[Date])-ROW(Transaction[[#Headers],[Date]]))/((Transaction[Route]=Select_Route)*(Transaction[Date]>=StartDate)*(Transaction[Date]<=EndDate)*(Transaction[Type]=Type)),$C48),\"\")","v":""},{"$f":"IF(ROWS($C$14:$C48)+((Page-1)*55)>Rec_Num,\"\",ROWS($C$14:$C48)+((Page-1)*55))","v":""},{"$f":"IF($B48=\"\",\"\",INDEX(Transaction[Date],$B48))","v":""},{"$f":"IF($B48=\"\",\"\",INDEX(Transaction[Products],$B48))","v":""},null,null,{"$f":"IF($B48=\"\",\"\",INDEX(Transaction[Qty In-Out],$B48))","v":""},{"$f":"IF($B48=\"\",\"\",INDEX(Transaction[Discount_Price],$B48))","v":""},"",null,null,null,null,{"$f":"IF(OR(P48=\"\",P48=\"Grand Total\"),\"\",ROWS($O$17:$O48))","v":""}]
[null,{"$f":"IFERROR(_xlfn.AGGREGATE(15,6,(ROW(Transaction[Date])-ROW(Transaction[[#Headers],[Date]]))/((Transaction[Route]=Select_Route)*(Transaction[Date]>=StartDate)*(Transaction[Date]<=EndDate)*(Transaction[Type]=Type)),$C49),\"\")","v":""},{"$f":"IF(ROWS($C$14:$C49)+((Page-1)*55)>Rec_Num,\"\",ROWS($C$14:$C49)+((Page-1)*55))","v":""},{"$f":"IF($B49=\"\",\"\",INDEX(Transaction[Date],$B49))","v":""},{"$f":"IF($B49=\"\",\"\",INDEX(Transaction[Products],$B49))","v":""},null,null,{"$f":"IF($B49=\"\",\"\",INDEX(Transaction[Qty In-Out],$B49))","v":""},{"$f":"IF($B49=\"\",\"\",INDEX(Transaction[Discount_Price],$B49))","v":""},"",null,null,null,null,{"$f":"IF(OR(P49=\"\",P49=\"Grand Total\"),\"\",ROWS($O$17:$O49))","v":""}]
[null,{"$f":"IFERROR(_xlfn.AGGREGATE(15,6,(ROW(Transaction[Date])-ROW(Transaction[[#Headers],[Date]]))/((Transaction[Route]=Select_Route)*(Transaction[Date]>=StartDate)*(Transaction[Date]<=EndDate)*(Transaction[Type]=Type)),$C50),\"\")","v":""},{"$f":"IF(ROWS($C$14:$C50)+((Page-1)*55)>Rec_Num,\"\",ROWS($C$14:$C50)+((Page-1)*55))","v":""},{"$f":"IF($B50=\"\",\"\",INDEX(Transaction[Date],$B50))","v":""},{"$f":"IF($B50=\"\",\"\",INDEX(Transaction[Products],$B50))","v":""},null,null,{"$f":"IF($B50=\"\",\"\",INDEX(Transaction[Qty In-Out],$B50))","v":""},{"$f":"IF($B50=\"\",\"\",INDEX(Transaction[Discount_Price],$B50))","v":""},"",null,null,null,null,{"$f":"IF(OR(P50=\"\",P50=\"Grand Total\"),\"\",ROWS($O$17:$O50))","v":""}]
[null,{"$f":"IFERROR(_xlfn.AGGREGATE(15,6,(ROW(Transaction[Date])-ROW(Transaction[[#Headers],[Date]]))/((Transaction[Route]=Select_Route)*(Transaction[Date]>=StartDate)*(Transaction[Date]<=EndDate)*(Transaction[Type]=Type)),$C51),\"\")","v":""},{"$f":"IF(ROWS($C$14:$C51)+((Page-1)*55)>Rec_Num,\"\",ROWS($C$14:$C51)+((Page-1)*55))","v":""},{"$f":"IF($B51=\"\",\"\",INDEX(Transaction[Date],$B51))","v":""},{"$f":"IF($B51=\"\",\"\",INDEX(Transaction[Products],$B51))","v":""},null,null,{"$f":"IF($B51=\"\",\"\",INDEX(Transaction[Qty In-Out],$B51))","v":""},{"$f":"IF($B51=\"\",\"\",INDEX(Transaction[Discount_Price],$B51))","v":""},"",null,null,null,null,{"$f":"IF(OR(P51=\"\",P51=\"Grand Total\"),\"\",ROWS($O$17:$O51))","v":""}]
[null,{"$f":"IFERROR(_xlfn.AGGREGATE(15,6,(ROW(Transaction[Date])-ROW(Transaction[[#Headers],[Date]]))/((Transaction[Route]=Select_Route)*(Transaction[Date]>=StartDate)*(Transaction[Date]<=EndDate)*(Transaction[Type]=Type)),$C52),\"\")","v":""},{"$f":"IF(ROWS($C$14:$C52)+((Page-1)*55)>Rec_Num,\"\",ROWS($C$14:$C52)+((Page-1)*55))","v":""},{"$f":"IF($B52=\"\",\"\",INDEX(Transaction[Date],$B52))","v":""},{"$f":"IF($B52=\"\",\"\",INDEX(Transaction[Products],$B52))","v":""},null,null,{"$f":"IF($B52=\"\",\"\",INDEX(Transaction[Qty In-Out],$B52))","v":""},{"$f":"IF($B52=\"\",\"\",INDEX(Transaction[Discount_Price],$B52))","v":""},"",null,null,null,null,{"$f":"IF(OR(P52=\"\",P52=\"Grand Total\"),\"\",ROWS($O$17:$O52))","v":""}]
[null,{"$f":"IFERROR(_xlfn.AGGREGATE(15,6,(ROW(Transaction[Date])-ROW(Transaction[[#Headers],[Date]]))/((Transaction[Route]=Select_Route)*(Transaction[Date]>=StartDate)*(Transaction[Date]<=EndDate)*(Transaction[Type]=Type)),$C53),\"\")","v":""},{"$f":"IF(ROWS($C$14:$C53)+((Page-1)*55)>Rec_Num,\"\",ROWS($C$14:$C53)+((Page-1)*55))","v":""},{"$f":"IF($B53=\"\",\"\",INDEX(Transaction[Date],$B53))","v":""},{"$f":"IF($B53=\"\",\"\",INDEX(Transaction[Products],$B53))","v":""},null,null,{"$f":"IF($B53=\"\",\"\",INDEX(Transaction[Qty In-Out],$B53))","v":""},{"$f":"IF($B53=\"\",\"\",INDEX(Transaction[Discount_Price],$B53))","v":""},"",null,null,null,null,{"$f":"IF(OR(P53=\"\",P53=\"Grand Total\"),\"\",ROWS($O$17:$O53))","v":""}]
[null,{"$f":"IFERROR(_xlfn.AGGREGATE(15,6,(ROW(Transaction[Date])-ROW(Transaction[[#Headers],[Date]]))/((Transaction[Route]=Select_Route)*(Transaction[Date]>=StartDate)*(Transaction[Date]<=EndDate)*(Transaction[Type]=Type)),$C54),\"\")","v":""},{"$f":"IF(ROWS($C$14:$C54)+((Page-1)*55)>Rec_Num,\"\",ROWS($C$14:$C54)+((Page-1)*55))","v":""},{"$f":"IF($B54=\"\",\"\",INDEX(Transaction[Date],$B54))","v":""},{"$f":"IF($B54=\"\",\"\",INDEX(Transaction[Products],$B54))","v":""},null,null,{"$f":"IF($B54=\"\",\"\",INDEX(Transaction[Qty In-Out],$B54))","v":""},{"$f":"IF($B54=\"\",\"\",INDEX(Transaction[Discount_Price],$B54))","v":""},"",null,null,null,null,{"$f":"IF(OR(P54=\"\",P54=\"Grand Total\"),\"\",ROWS($O$17:$O54))","v":""}]
[null,{"$f":"IFERROR(_xlfn.AGGREGATE(15,6,(ROW(Transaction[Date])-ROW(Transaction[[#Headers],[Date]]))/((Transaction[Route]=Select_Route)*(Transaction[Date]>=StartDate)*(Transaction[Date]<=EndDate)*(Transaction[Type]=Type)),$C55),\"\")","v":""},{"$f":"IF(ROWS($C$14:$C55)+((Page-1)*55)>Rec_Num,\"\",ROWS($C$14:$C55)+((Page-1)*55))","v":""},{"$f":"IF($B55=\"\",\"\",INDEX(Transaction[Date],$B55))","v":""},{"$f":"IF($B55=\"\",\"\",INDEX(Transaction[Products],$B55))","v":""},null,null,{"$f":"IF($B55=\"\",\"\",INDEX(Transaction[Qty In-Out],$B55))","v":""},{"$f":"IF($B55=\"\",\"\",INDEX(Transaction[Discount_Price],$B55))","v":""},"",null,null,null,null,{"$f":"IF(OR(P55=\"\",P55=\"Grand Total\"),\"\",ROWS($O$17:$O55))","v":""}]
[null,{"$f":"IFERROR(_xlfn.AGGREGATE(15,6,(ROW(Transaction[Date])-ROW(Transaction[[#Headers],[Date]]))/((Transaction[Route]=Select_Route)*(Transaction[Date]>=StartDate)*(Transaction[Date]<=EndDate)*(Transaction[Type]=Type)),$C56),\"\")","v":""},{"$f":"IF(ROWS($C$14:$C56)+((Page-1)*55)>Rec_Num,\"\",ROWS($C$14:$C56)+((Page-1)*55))","v":""},{"$f":"IF($B56=\"\",\"\",INDEX(Transaction[Date],$B56))","v":""},{"$f":"IF($B56=\"\",\"\",INDEX(Transaction[Products],$B56))","v":""},null,null,{"$f":"IF($B56=\"\",\"\",INDEX(Transaction[Qty In-Out],$B56))","v":""},{"$f":"IF($B56=\"\",\"\",INDEX(Transaction[Discount_Price],$B56))","v":""},"",null,null,null,null,{"$f":"IF(OR(P56=\"\",P56=\"Grand Total\"),\"\",ROWS($O$17:$O56))","v":""}]
[null,{"$f":"IFERROR(_xlfn.AGGREGATE(15,6,(ROW(Transaction[Date])-ROW(Transaction[[#Headers],[Date]]))/((Transaction[Route]=Select_Route)*(Transaction[Date]>=StartDate)*(Transaction[Date]<=EndDate)*(Transaction[Type]=Type)),$C57),\"\")","v":""},{"$f":"IF(ROWS($C$14:$C57)+((Page-1)*55)>Rec_Num,\"\",ROWS($C$14:$C57)+((Page-1)*55))","v":""},{"$f":"IF($B57=\"\",\"\",INDEX(Transaction[Date],$B57))","v":""},{"$f":"IF($B57=\"\",\"\",INDEX(Transaction[Products],$B57))","v":""},null,null,{"$f":"IF($B57=\"\",\"\",INDEX(Transaction[Qty In-Out],$B57))","v":""},{"$f":"IF($B57=\"\",\"\",INDEX(Transaction[Discount_Price],$B57))","v":""},"",null,null,null,null,{"$f":"IF(OR(P57=\"\",P57=\"Grand Total\"),\"\",ROWS($O$17:$O57))","v":""}]
[null,{"$f":"IFERROR(_xlfn.AGGREGATE(15,6,(ROW(Transaction[Date])-ROW(Transaction[[#Headers],[Date]]))/((Transaction[Route]=Select_Route)*(Transaction[Date]>=StartDate)*(Transaction[Date]<=EndDate)*(Transaction[Type]=Type)),$C58),\"\")","v":""},{"$f":"IF(ROWS($C$14:$C58)+((Page-1)*55)>Rec_Num,\"\",ROWS($C$14:$C58)+((Page-1)*55))","v":""},{"$f":"IF($B58=\"\",\"\",INDEX(Transaction[Date],$B58))","v":""},{"$f":"IF($B58=\"\",\"\",INDEX(Transaction[Products],$B58))","v":""},null,null,{"$f":"IF($B58=\"\",\"\",INDEX(Transaction[Qty In-Out],$B58))","v":""},{"$f":"IF($B58=\"\",\"\",INDEX(Transaction[Discount_Price],$B58))","v":""},"",null,null,null,null,{"$f":"IF(OR(P58=\"\",P58=\"Grand Total\"),\"\",ROWS($O$17:$O58))","v":""}]
[null,{"$f":"IFERROR(_xlfn.AGGREGATE(15,6,(ROW(Transaction[Date])-ROW(Transaction[[#Headers],[Date]]))/((Transaction[Route]=Select_Route)*(Transaction[Date]>=StartDate)*(Transaction[Date]<=EndDate)*(Transaction[Type]=Type)),$C59),\"\")","v":""},{"$f":"IF(ROWS($C$14:$C59)+((Page-1)*55)>Rec_Num,\"\",ROWS($C$14:$C59)+((Page-1)*55))","v":""},{"$f":"IF($B59=\"\",\"\",INDEX(Transaction[Date],$B59))","v":""},{"$f":"IF($B59=\"\",\"\",INDEX(Transaction[Products],$B59))","v":""},null,null,{"$f":"IF($B59=\"\",\"\",INDEX(Transaction[Qty In-Out],$B59))","v":""},{"$f":"IF($B59=\"\",\"\",INDEX(Transaction[Discount_Price],$B59))","v":""},"",null,null,null,null,{"$f":"IF(OR(P59=\"\",P59=\"Grand Total\"),\"\",ROWS($O$17:$O59))","v":""}]
[null,{"$f":"IFERROR(_xlfn.AGGREGATE(15,6,(ROW(Transaction[Date])-ROW(Transaction[[#Headers],[Date]]))/((Transaction[Route]=Select_Route)*(Transaction[Date]>=StartDate)*(Transaction[Date]<=EndDate)*(Transaction[Type]=Type)),$C60),\"\")","v":""},{"$f":"IF(ROWS($C$14:$C60)+((Page-1)*55)>Rec_Num,\"\",ROWS($C$14:$C60)+((Page-1)*55))","v":""},{"$f":"IF($B60=\"\",\"\",INDEX(Transaction[Date],$B60))","v":""},{"$f":"IF($B60=\"\",\"\",INDEX(Transaction[Products],$B60))","v":""},null,null,{"$f":"IF($B60=\"\",\"\",INDEX(Transaction[Qty In-Out],$B60))","v":""},{"$f":"IF($B60=\"\",\"\",INDEX(Transaction[Discount_Price],$B60))","v":""},"",null,null,null,null,{"$f":"IF(OR(P60=\"\",P60=\"Grand Total\"),\"\",ROWS($O$17:$O60))","v":""}]
[null,{"$f":"IFERROR(_xlfn.AGGREGATE(15,6,(ROW(Transaction[Date])-ROW(Transaction[[#Headers],[Date]]))/((Transaction[Route]=Select_Route)*(Transaction[Date]>=StartDate)*(Transaction[Date]<=EndDate)*(Transaction[Type]=Type)),$C61),\"\")","v":""},{"$f":"IF(ROWS($C$14:$C61)+((Page-1)*55)>Rec_Num,\"\",ROWS($C$14:$C61)+((Page-1)*55))","v":""},{"$f":"IF($B61=\"\",\"\",INDEX(Transaction[Date],$B61))","v":""},{"$f":"IF($B61=\"\",\"\",INDEX(Transaction[Products],$B61))","v":""},null,null,{"$f":"IF($B61=\"\",\"\",INDEX(Transaction[Qty In-Out],$B61))","v":""},{"$f":"IF($B61=\"\",\"\",INDEX(Transaction[Discount_Price],$B61))","v":""},"",null,null,null,null,{"$f":"IF(OR(P61=\"\",P61=\"Grand Total\"),\"\",ROWS($O$17:$O61))","v":""}]
[null,{"$f":"IFERROR(_xlfn.AGGREGATE(15,6,(ROW(Transaction[Date])-ROW(Transaction[[#Headers],[Date]]))/((Transaction[Route]=Select_Route)*(Transaction[Date]>=StartDate)*(Transaction[Date]<=EndDate)*(Transaction[Type]=Type)),$C62),\"\")","v":""},{"$f":"IF(ROWS($C$14:$C62)+((Page-1)*55)>Rec_Num,\"\",ROWS($C$14:$C62)+((Page-1)*55))","v":""},{"$f":"IF($B62=\"\",\"\",INDEX(Transaction[Date],$B62))","v":""},{"$f":"IF($B62=\"\",\"\",INDEX(Transaction[Products],$B62))","v":""},null,null,{"$f":"IF($B62=\"\",\"\",INDEX(Transaction[Qty In-Out],$B62))","v":""},{"$f":"IF($B62=\"\",\"\",INDEX(Transaction[Discount_Price],$B62))","v":""},"",null,null,null,null,{"$f":"IF(OR(P62=\"\",P62=\"Grand Total\"),\"\",ROWS($O$17:$O62))","v":""}]
[null,{"$f":"IFERROR(_xlfn.AGGREGATE(15,6,(ROW(Transaction[Date])-ROW(Transaction[[#Headers],[Date]]))/((Transaction[Route]=Select_Route)*(Transaction[Date]>=StartDate)*(Transaction[Date]<=EndDate)*(Transaction[Type]=Type)),$C63),\"\")","v":""},{"$f":"IF(ROWS($C$14:$C63)+((Page-1)*55)>Rec_Num,\"\",ROWS($C$14:$C63)+((Page-1)*55))","v":""},{"$f":"IF($B63=\"\",\"\",INDEX(Transaction[Date],$B63))","v":""},{"$f":"IF($B63=\"\",\"\",INDEX(Transaction[Products],$B63))","v":""},null,null,{"$f":"IF($B63=\"\",\"\",INDEX(Transaction[Qty In-Out],$B63))","v":""},{"$f":"IF($B63=\"\",\"\",INDEX(Transaction[Discount_Price],$B63))","v":""},"",null,null,null,null,{"$f":"IF(OR(P63=\"\",P63=\"Grand Total\"),\"\",ROWS($O$17:$O63))","v":""}]
[null,{"$f":"IFERROR(_xlfn.AGGREGATE(15,6,(ROW(Transaction[Date])-ROW(Transaction[[#Headers],[Date]]))/((Transaction[Route]=Select_Route)*(Transaction[Date]>=StartDate)*(Transaction[Date]<=EndDate)*(Transaction[Type]=Type)),$C64),\"\")","v":""},{"$f":"IF(ROWS($C$14:$C64)+((Page-1)*55)>Rec_Num,\"\",ROWS($C$14:$C64)+((Page-1)*55))","v":""},{"$f":"IF($B64=\"\",\"\",INDEX(Transaction[Date],$B64))","v":""},{"$f":"IF($B64=\"\",\"\",INDEX(Transaction[Products],$B64))","v":""},null,null,{"$f":"IF($B64=\"\",\"\",INDEX(Transaction[Qty In-Out],$B64))","v":""},{"$f":"IF($B64=\"\",\"\",INDEX(Transaction[Discount_Price],$B64))","v":""},"",null,null,null,null,{"$f":"IF(OR(P64=\"\",P64=\"Grand Total\"),\"\",ROWS($O$17:$O64))","v":""}]
[null,{"$f":"IFERROR(_xlfn.AGGREGATE(15,6,(ROW(Transaction[Date])-ROW(Transaction[[#Headers],[Date]]))/((Transaction[Route]=Select_Route)*(Transaction[Date]>=StartDate)*(Transaction[Date]<=EndDate)*(Transaction[Type]=Type)),$C65),\"\")","v":""},{"$f":"IF(ROWS($C$14:$C65)+((Page-1)*55)>Rec_Num,\"\",ROWS($C$14:$C65)+((Page-1)*55))","v":""},{"$f":"IF($B65=\"\",\"\",INDEX(Transaction[Date],$B65))","v":""},{"$f":"IF($B65=\"\",\"\",INDEX(Transaction[Products],$B65))","v":""},null,null,{"$f":"IF($B65=\"\",\"\",INDEX(Transaction[Qty In-Out],$B65))","v":""},{"$f":"IF($B65=\"\",\"\",INDEX(Transaction[Discount_Price],$B65))","v":""},"",null,null,null,null,{"$f":"IF(OR(P65=\"\",P65=\"Grand Total\"),\"\",ROWS($O$17:$O65))","v":""}]
[null,{"$f":"IFERROR(_xlfn.AGGREGATE(15,6,(ROW(Transaction[Date])-ROW(Transaction[[#Headers],[Date]]))/((Transaction[Route]=Select_Route)*(Transaction[Date]>=StartDate)*(Transaction[Date]<=EndDate)*(Transaction[Type]=Type)),$C66),\"\")","v":""},{"$f":"IF(ROWS($C$14:$C66)+((Page-1)*55)>Rec_Num,\"\",ROWS($C$14:$C66)+((Page-1)*55))","v":""},{"$f":"IF($B66=\"\",\"\",INDEX(Transaction[Date],$B66))","v":""},{"$f":"IF($B66=\"\",\"\",INDEX(Transaction[Products],$B66))","v":""},null,null,{"$f":"IF($B66=\"\",\"\",INDEX(Transaction[Qty In-Out],$B66))","v":""},{"$f":"IF($B66=\"\",\"\",INDEX(Transaction[Discount_Price],$B66))","v":""},"",null,null,null,null,{"$f":"IF(OR(P66=\"\",P66=\"Grand Total\"),\"\",ROWS($O$17:$O66))","v":""}]
[null,{"$f":"IFERROR(_xlfn.AGGREGATE(15,6,(ROW(Transaction[Date])-ROW(Transaction[[#Headers],[Date]]))/((Transaction[Route]=Select_Route)*(Transaction[Date]>=StartDate)*(Transaction[Date]<=EndDate)*(Transaction[Type]=Type)),$C67),\"\")","v":""},{"$f":"IF(ROWS($C$14:$C67)+((Page-1)*55)>Rec_Num,\"\",ROWS($C$14:$C67)+((Page-1)*55))","v":""},{"$f":"IF($B67=\"\",\"\",INDEX(Transaction[Date],$B67))","v":""},{"$f":"IF($B67=\"\",\"\",INDEX(Transaction[Products],$B67))","v":""},null,null,{"$f":"IF($B67=\"\",\"\",INDEX(Transaction[Qty In-Out],$B67))","v":""},{"$f":"IF($B67=\"\",\"\",INDEX(Transaction[Discount_Price],$B67))","v":""},"",null,null,null,null,{"$f":"IF(OR(P67=\"\",P67=\"Grand Total\"),\"\",ROWS($O$17:$O67))","v":""}]
[null,{"$f":"IFERROR(_xlfn.AGGREGATE(15,6,(ROW(Transaction[Date])-ROW(Transaction[[#Headers],[Date]]))/((Transaction[Route]=Select_Route)*(Transaction[Date]>=StartDate)*(Transaction[Date]<=EndDate)*(Transaction[Type]=Type)),$C68),\"\")","v":""},{"$f":"IF(ROWS($C$14:$C68)+((Page-1)*55)>Rec_Num,\"\",ROWS($C$14:$C68)+((Page-1)*55))","v":""},{"$f":"IF($B68=\"\",\"\",INDEX(Transaction[Date],$B68))","v":""},{"$f":"IF($B68=\"\",\"\",INDEX(Transaction[Products],$B68))","v":""},null,null,{"$f":"IF($B68=\"\",\"\",INDEX(Transaction[Qty In-Out],$B68))","v":""},{"$f":"IF($B68=\"\",\"\",INDEX(Transaction[Discount_Price],$B68))","v":""},"",null,null,null,null,{"$f":"IF(OR(P68=\"\",P68=\"Grand Total\"),\"\",ROWS($O$17:$O68))","v":""}]
[null,null,"Sub Total",null,null,null,null,{"$f":"SUM(H14:H68)","v":0},null,{"$f":"SUM(J14:J68)","v":0}]